{"text_format":"1","workbook":"xlsx","n_sheets":3,"sheets":["Gold Earned ","Items Bought","Tables"],"not_rendered":{"charts":0,"images":0,"macros":1,"external_links":0,"defined_names":1,"comments":0,"pivot_tables":0},"unopened":[],"bounds":{"document_bytes":16777216,"sheet_cells":100000,"rows_first":2000,"rows_last":500,"rows_between":2000,"halvings":0,"cell_chars":16384,"cell_head_chars":4096},"cells_cut":0,"cells_raw":0,"read":"whole","date_system":"1900"}

{"sheet":"Gold Earned ","index":0,"n_rows":175,"n_cols":5,"rows_kept":175,"cut":false,"hidden":false,"merged":[[65,1,65,2],[81,1,81,2],[1,1,1,2],[17,1,17,2],[33,1,33,2],[49,1,49,2],[97,1,97,2],[113,1,113,2],[129,1,129,2],[145,1,145,2],[161,1,161,2],[1,3,1,4],[17,3,17,4],[33,3,33,4],[49,3,49,4],[65,3,65,4],[161,3,161,4],[81,3,81,4],[97,3,97,4],[113,3,113,4],[129,3,129,4],[145,3,145,4]]}
[]
[null,"Level 1"]
[null,"Adventure # ","Gold Earn","PP Earn","Fame"]
[null,"Starting",150,0,0]
[null,1,null,null,{"$f":"D5","v":0}]
[null,2,null,null,{"$f":"D6","v":0}]
[null,3,null,null,{"$f":"D7","v":0}]
[null,4,null,null,{"$f":"D8","v":0}]
[null,5,null,null,0]
[null,6,null,null,0]
[null,"Total",{"$f":"SUM(C4:C10)","v":150},{"$f":"SUM(D4:D10)","v":0},{"$f":"SUM(E4:E10)","v":0}]
[null,"Spent",{"$f":"SUM('Items Bought'!D5:D21)","v":0},{"$f":"SUM('Items Bought'!E5:E21)","v":0},"n/a"]
[null,"Sell Back",{"$f":"SUM('Items Bought'!J5:J21)","v":0},"n/a","n/a"]
[null,"Ending Total",{"$f":"C11-C12+C13","v":150},{"$f":"D11-D12","v":0},{"$f":"E11","v":0}]
[null,"Max Item:",{"$f":"LOOKUP(E11,Tables!B$4:B$103,Tables!C$4:C$103)","v":0}]
[]
[]
[null,"Level 2"]
[null,"Adventure # ","Gold Earn","PP Earn","Fame"]
[null,"Starting",{"$f":"C14","v":150},{"$f":"D14","v":0},{"$f":"E14","v":0}]
[null,1,null,null,{"$f":"D21","v":0}]
[null,2,null,null,{"$f":"D22","v":0}]
[null,3,null,null,{"$f":"D23","v":0}]
[null,4,null,null,{"$f":"D24","v":0}]
[null,5,null,null,0]
[null,6,null,null,0]
[null,"Total",{"$f":"SUM(C20:C26)","v":150},{"$f":"SUM(D20:D26)","v":0},0]
[null,"Spent",{"$f":"SUM('Items Bought'!D21:D55)","v":0},{"$f":"SUM('Items Bought'!E21:E55)","v":0},"n/a"]
[null,"Sell Back",{"$f":"SUM('Items Bought'!J21:J55)","v":0},"n/a","n/a"]
[null,"Ending Total",{"$f":"C27-C28+C29","v":150},{"$f":"D27-D28","v":0},{"$f":"E27","v":0}]
[null,"Max Item:",{"$f":"LOOKUP(E27,Tables!B$4:B$103,Tables!C$4:C$103)","v":0}]
[]
[]
[null,"Level 3"]
[null,"Adventure # ","Gold Earn","PP Earn","Fame"]
[null,"Starting",{"$f":"C30","v":150},{"$f":"D30","v":0},{"$f":"E30","v":0}]
[null,1,null,null,{"$f":"D37","v":0}]
[null,2,null,null,{"$f":"D38","v":0}]
[null,3,null,null,{"$f":"D39","v":0}]
[null,4,null,null,{"$f":"D40","v":0}]
[null,5,null,null,0]
[null,6,null,null,0]
[null,"Total",{"$f":"SUM(C36:C42)","v":150},{"$f":"SUM(D36:D42)","v":0},{"$f":"SUM(E36:E42)","v":0}]
[null,"Spent",{"$f":"SUM('Items Bought'!D55:D89)","v":0},{"$f":"SUM('Items Bought'!E55:E89)","v":0},"n/a"]
[null,"Sell Back",{"$f":"SUM('Items Bought'!J55:J89)","v":0},"n/a","n/a"]
[null,"Ending Total",{"$f":"C43-C44+C45","v":150},{"$f":"D43-D44","v":0},{"$f":"E43","v":0}]
[null,"Max Item:",{"$f":"LOOKUP(E43,Tables!B$4:B$103,Tables!C$4:C$103)","v":0}]
[]
[]
[null,"Level 4"]
[null,"Adventure # ","Gold Earn","PP Earn","Fame"]
[null,"Starting",{"$f":"C46","v":150},{"$f":"D46","v":0},{"$f":"E46","v":0}]
[null,1,null,null,{"$f":"D53","v":0}]
[null,2,null,null,{"$f":"D54","v":0}]
[null,3,null,null,{"$f":"D55","v":0}]
[null,4,null,null,{"$f":"D56","v":0}]
[null,5,null,null,0]
[null,6,null,null,0]
[null,"Total",{"$f":"SUM(C52:C58)","v":150},{"$f":"SUM(D52:D58)","v":0},{"$f":"SUM(E52:E58)","v":0}]
[null,"Spent",{"$f":"SUM('Items Bought'!D89:D123)","v":0},{"$f":"SUM('Items Bought'!E89:E123)","v":0},"n/a"]
[null,"Sell Back",{"$f":"SUM('Items Bought'!J89:J123)","v":0},"n/a","n/a"]
[null,"Ending Total",{"$f":"C59-C60+C61","v":150},{"$f":"D59-D60","v":0},{"$f":"E59","v":0}]
[null,"Max Item:",{"$f":"LOOKUP(E59,Tables!B$4:B$103,Tables!C$4:C$103)","v":0}]
[]
[]
[null,"Level 5"]
[null,"Adventure # ","Gold Earn","PP Earn","Fame"]
[null,"Starting",{"$f":"C62","v":150},{"$f":"D62","v":0},{"$f":"E62","v":0}]
[null,1,null,null,{"$f":"D69","v":0}]
[null,2,null,null,{"$f":"D70","v":0}]
[null,3,null,null,{"$f":"D71","v":0}]
[null,4,null,null,{"$f":"D72","v":0}]
[null,5,null,null,0]
[null,6,null,null,0]
[null,"Total",{"$f":"SUM(C68:C74)","v":150},{"$f":"SUM(D68:D74)","v":0},{"$f":"SUM(E68:E74)","v":0}]
[null,"Spent",{"$f":"SUM('Items Bought'!D123:D157)","v":0},{"$f":"SUM('Items Bought'!E123:E157)","v":0},"n/a"]
[null,"Sell Back",{"$f":"SUM('Items Bought'!J123:J157)","v":0},"n/a","n/a"]
[null,"Ending Total",{"$f":"C75-C76+C77","v":150},{"$f":"D75-D76","v":0},{"$f":"E75","v":0}]
[null,"Max Item:",{"$f":"LOOKUP(E75,Tables!B$4:B$103,Tables!C$4:C$103)","v":0}]
[]
[]
[null,"Level 6"]
[null,"Adventure # ","Gold Earn","PP Earn","Fame"]
[null,"Starting",{"$f":"C78","v":150},{"$f":"D78","v":0},{"$f":"E78","v":0}]
[null,1,null,null,{"$f":"D85","v":0}]
[null,2,null,null,{"$f":"D86","v":0}]
[null,3,null,null,{"$f":"D87","v":0}]
[null,4,null,null,{"$f":"D88","v":0}]
[null,5,null,null,0]
[null,6,null,null,0]
[null,"Total",{"$f":"SUM(C84:C90)","v":150},{"$f":"SUM(D84:D90)","v":0},{"$f":"SUM(E84:E90)","v":0}]
[null,"Spent",{"$f":"SUM('Items Bought'!D157:D173)","v":0},{"$f":"SUM('Items Bought'!E157:E173)","v":0},"n/a"]
[null,"Sell Back",{"$f":"SUM('Items Bought'!J157:J173)","v":0},"n/a","n/a"]
[null,"Ending Total",{"$f":"C91-C92+C93","v":150},{"$f":"D91-D92","v":0},{"$f":"E91","v":0}]
[null,"Max Item:",{"$f":"LOOKUP(E91,Tables!B$4:B$103,Tables!C$4:C$103)","v":0}]
[]
[]
[null,"Level 7"]
[null,"Adventure # ","Gold Earn","PP Earn","Fame"]
[null,"Starting",{"$f":"C94","v":150},{"$f":"D94","v":0},{"$f":"E94","v":0}]
[null,1,null,null,{"$f":"D101","v":0}]
[null,2,null,null,{"$f":"D102","v":0}]
[null,3,null,null,{"$f":"D103","v":0}]
[null,4,null,null,{"$f":"D104","v":0}]
[null,5,null,null,0]
[null,6,null,null,0]
[null,"Total",{"$f":"SUM(C100:C106)","v":150},{"$f":"SUM(D100:D106)","v":0},{"$f":"SUM(E100:E106)","v":0}]
[null,"Spent",{"$f":"SUM('Items Bought'!D173:D207)","v":0},{"$f":"SUM('Items Bought'!E173:E207)","v":0},"n/a"]
[null,"Sell Back",{"$f":"SUM('Items Bought'!J173:J207)","v":0},"n/a","n/a"]
[null,"Ending Total",{"$f":"C107-C108+C109","v":150},{"$f":"D107-D108","v":0},{"$f":"E107","v":0}]
[null,"Max Item:",{"$f":"LOOKUP(E107,Tables!B$4:B$103,Tables!C$4:C$103)","v":0}]
[]
[]
[null,"Level 8"]
[null,"Adventure # ","Gold Earn","PP Earn","Fame"]
[null,"Starting",{"$f":"C110","v":150},{"$f":"D110","v":0},{"$f":"E110","v":0}]
[null,1,null,null,{"$f":"D117","v":0}]
[null,2,null,null,{"$f":"D118","v":0}]
[null,3,null,null,{"$f":"D119","v":0}]
[null,4,null,null,{"$f":"D120","v":0}]
[null,5,null,null,0]
[null,6,null,null,0]
[null,"Total",{"$f":"SUM(C116:C122)","v":150},{"$f":"SUM(D116:D122)","v":0},{"$f":"SUM(E116:E122)","v":0}]
[null,"Spent",{"$f":"SUM('Items Bought'!D207:D241)","v":0},{"$f":"SUM('Items Bought'!E207:E241)","v":0},"n/a"]
[null,"Sell Back",{"$f":"SUM('Items Bought'!J207:J241)","v":0},"n/a","n/a"]
[null,"Ending Total",{"$f":"C123-C124+C125","v":150},{"$f":"D123-D124","v":0},{"$f":"E123","v":0}]
[null,"Max Item:",{"$f":"LOOKUP(E123,Tables!B$4:B$103,Tables!C$4:C$103)","v":0}]
[]
[]
[null,"Level 9"]
[null,"Adventure # ","Gold Earn","PP Earn","Fame"]
[null,"Starting",{"$f":"C126","v":150},{"$f":"D126","v":0},{"$f":"E126","v":0}]
[null,1,null,null,{"$f":"D133","v":0}]
[null,2,null,null,{"$f":"D134","v":0}]
[null,3,null,null,{"$f":"D135","v":0}]
[null,4,null,null,{"$f":"D136","v":0}]
[null,5,null,null,0]
[null,6,null,null,0]
[null,"Total",{"$f":"SUM(C132:C138)","v":150},{"$f":"SUM(D132:D138)","v":0},{"$f":"SUM(E132:E138)","v":0}]
[null,"Spent",{"$f":"SUM('Items Bought'!D241:D275)","v":0},{"$f":"SUM('Items Bought'!E241:E275)","v":0},"n/a"]
[null,"Sell Back",{"$f":"SUM('Items Bought'!J241:J275)","v":0},"n/a","n/a"]
[null,"Ending Total",{"$f":"C139-C140+C141","v":150},{"$f":"D139-D140","v":0},{"$f":"E139","v":0}]
[null,"Max Item:",{"$f":"LOOKUP(E139,Tables!B$4:B$103,Tables!C$4:C$103)","v":0}]
[]
[]
[null,"Level 10"]
[null,"Adventure # ","Gold Earn","PP Earn","Fame"]
[null,"Starting",{"$f":"C142","v":150},{"$f":"D142","v":0},{"$f":"E142","v":0}]
[null,1,null,null,{"$f":"D149","v":0}]
[null,2,null,null,{"$f":"D150","v":0}]
[null,3,null,null,{"$f":"D151","v":0}]
[null,4,null,null,{"$f":"D152","v":0}]
[null,5,null,null,0]
[null,6,null,null,0]
[null,"Total",{"$f":"SUM(C148:C154)","v":150},{"$f":"SUM(D148:D154)","v":0},{"$f":"SUM(E148:E154)","v":0}]
[null,"Spent",{"$f":"SUM('Items Bought'!D275:D291)","v":0},{"$f":"SUM('Items Bought'!E275:E291)","v":0},"n/a"]
[null,"Sell Back",{"$f":"SUM('Items Bought'!J275:J291)","v":0},"n/a","n/a"]
[null,"Ending Total",{"$f":"C155-C156+C157","v":150},{"$f":"D155-D156","v":0},{"$f":"E155","v":0}]
[null,"Max Item:",{"$f":"LOOKUP(E155,Tables!B$4:B$103,Tables!C$4:C$103)","v":0}]
[]
[]
[null,"Level 11"]
[null,"Adventure # ","Gold Earn","PP Earn","Fame"]
[null,"Starting",{"$f":"C158","v":150},{"$f":"D158","v":0},{"$f":"E158","v":0}]
[null,1,null,null,{"$f":"D165","v":0}]
[null,2,null,null,{"$f":"D166","v":0}]
[null,3,null,null,{"$f":"D167","v":0}]
[null,4,null,null,{"$f":"D168","v":0}]
[null,5,null,null,0]
[null,6,null,null,0]
[null,"Total",{"$f":"SUM(C164:C170)","v":150},{"$f":"SUM(D164:D170)","v":0},{"$f":"SUM(E164:E170)","v":0}]
[null,"Spent",{"$f":"SUM('Items Bought'!D291:D325)","v":0},{"$f":"SUM('Items Bought'!E291:E325)","v":0},"n/a"]
[null,"Sell Back",{"$f":"SUM('Items Bought'!J291:J325)","v":0},"n/a","n/a"]
[null,"Ending Total",{"$f":"C171-C172+C173","v":150},{"$f":"D171-D172","v":0},{"$f":"E171","v":0}]
[null,"Max Item:",{"$f":"LOOKUP(E171,Tables!B$4:B$103,Tables!C$4:C$103)","v":0}]

{"sheet":"Items Bought","index":1,"n_rows":430,"n_cols":11,"rows_kept":430,"cut":false,"hidden":false,"merged":[[307,6,307,7],[308,6,308,7],[296,6,296,7],[297,6,297,7],[298,6,298,7],[299,6,299,7],[301,6,301,7],[302,6,302,7],[303,6,303,7],[304,6,304,7],[305,6,305,7],[4,6,4,7],[5,6,5,7],[14,6,14,7],[43,6,43,7],[133,6,133,7],[127,6,127,7],[88,6,88,7],[94,6,94,7],[49,6,49,7],[55,6,55,7],[82,6,82,7],[121,6,121,7],[125,6,125,7],[131,6,131,7],[123,6,123,7],[20,6,20,7],[47,6,47,7],[53,6,53,7],[59,6,59,7],[86,6,86,7],[92,6,92,7],[98,6,98,7],[16,6,16,7],[10,6,10,7],[359,6,359,7],[365,6,365,7],[371,6,371,7],[399,6,399,7],[208,6,208,7],[239,6,239,7],[240,6,240,7],[241,6,241,7],[242,6,242,7],[248,6,248,7],[254,6,254,7],[281,6,281,7],[287,6,287,7],[362,6,362,7],[277,6,277,7],[283,6,283,7],[289,6,289,7],[316,6,316,7],[322,6,322,7],[328,6,328,7],[320,6,320,7],[326,6,326,7],[286,6,286,7],[317,6,317,7],[6,6,6,7],[7,6,7,7],[8,6,8,7],[11,6,11,7],[12,6,12,7],[13,6,13,7],[17,6,17,7],[18,6,18,7],[19,6,19,7],[64,6,64,7],[65,6,65,7],[67,6,67,7],[68,6,68,7],[69,6,69,7],[70,6,70,7],[71,6,71,7],[73,6,73,7],[74,6,74,7],[357,6,357,7],[358,6,358,7],[95,6,95,7],[134,6,134,7],[173,6,173,7],[212,6,212,7],[290,6,290,7],[363,6,363,7],[318,6,318,7],[319,6,319,7],[323,6,323,7],[324,6,324,7],[325,6,325,7],[356,6,356,7],[329,6,329,7],[252,6,252,7],[278,6,278,7],[279,6,279,7],[280,6,280,7],[284,6,284,7],[285,6,285,7],[169,6,169,7],[200,6,200,7],[96,6,96,7],[187,6,187,7],[188,6,188,7],[408,6,408,7],[409,6,409,7],[410,6,410,7],[369,6,369,7],[370,6,370,7],[330,6,330,7],[331,6,331,7],[403,6,403,7],[404,6,404,7],[364,6,364,7],[396,6,396,7],[397,6,397,7],[398,6,398,7],[402,6,402,7],[368,6,368,7],[355,6,355,7],[361,6,361,7],[367,6,367,7],[395,6,395,7],[401,6,401,7],[407,6,407,7],[405,6,405,7],[122,6,122,7],[124,6,124,7],[128,6,128,7],[129,6,129,7],[130,6,130,7],[161,6,161,7],[135,6,135,7],[136,6,136,7],[215,6,215,7],[137,6,137,7],[164,6,164,7],[170,6,170,7],[162,6,162,7],[163,6,163,7],[167,6,167,7],[168,6,168,7],[160,6,160,7],[166,6,166,7],[172,6,172,7],[139,6,139,7],[140,6,140,7],[141,6,141,7],[142,6,142,7],[143,6,143,7],[22,6,22,7],[23,6,23,7],[24,6,24,7],[25,6,25,7],[26,6,26,7],[28,6,28,7],[29,6,29,7],[30,6,30,7],[31,6,31,7],[32,6,32,7],[34,6,34,7],[35,6,35,7],[36,6,36,7],[37,6,37,7],[38,6,38,7],[61,6,61,7],[62,6,62,7],[63,6,63,7],[44,6,44,7],[45,6,45,7],[46,6,46,7],[50,6,50,7],[51,6,51,7],[52,6,52,7],[56,6,56,7],[57,6,57,7],[58,6,58,7],[75,6,75,7],[76,6,76,7],[77,6,77,7],[100,6,100,7],[101,6,101,7],[102,6,102,7],[103,6,103,7],[104,6,104,7],[106,6,106,7],[97,6,97,7],[83,6,83,7],[84,6,84,7],[85,6,85,7],[89,6,89,7],[90,6,90,7],[91,6,91,7],[107,6,107,7],[108,6,108,7],[109,6,109,7],[110,6,110,7],[112,6,112,7],[113,6,113,7],[114,6,114,7],[115,6,115,7],[116,6,116,7],[145,6,145,7],[146,6,146,7],[147,6,147,7],[148,6,148,7],[149,6,149,7],[151,6,151,7],[152,6,152,7],[153,6,153,7],[154,6,154,7],[155,6,155,7],[178,6,178,7],[179,6,179,7],[180,6,180,7],[181,6,181,7],[182,6,182,7],[184,6,184,7],[185,6,185,7],[186,6,186,7],[174,6,174,7],[175,6,175,7],[176,6,176,7],[190,6,190,7],[191,6,191,7],[192,6,192,7],[193,6,193,7],[194,6,194,7],[217,6,217,7],[218,6,218,7],[219,6,219,7],[220,6,220,7],[213,6,213,7],[214,6,214,7],[201,6,201,7],[202,6,202,7],[206,6,206,7],[207,6,207,7],[203,6,203,7],[199,6,199,7],[205,6,205,7],[211,6,211,7],[209,6,209,7],[221,6,221,7],[223,6,223,7],[224,6,224,7],[225,6,225,7],[226,6,226,7],[227,6,227,7],[229,6,229,7],[230,6,230,7],[231,6,231,7],[232,6,232,7],[233,6,233,7],[256,6,256,7],[257,6,257,7],[258,6,258,7],[259,6,259,7],[260,6,260,7],[262,6,262,7],[263,6,263,7],[253,6,253,7],[245,6,245,7],[246,6,246,7],[247,6,247,7],[251,6,251,7],[238,6,238,7],[250,6,250,7],[244,6,244,7],[264,6,264,7],[265,6,265,7],[266,6,266,7],[268,6,268,7],[269,6,269,7],[270,6,270,7],[271,6,271,7],[272,6,272,7],[295,6,295,7],[291,6,291,7],[293,6,293,7],[292,6,292,7],[309,6,309,7],[310,6,310,7],[311,6,311,7],[334,6,334,7],[335,6,335,7],[336,6,336,7],[337,6,337,7],[338,6,338,7],[340,6,340,7],[332,6,332,7],[341,6,341,7],[342,6,342,7],[343,6,343,7],[344,6,344,7],[346,6,346,7],[347,6,347,7],[348,6,348,7],[349,6,349,7],[350,6,350,7],[373,6,373,7],[374,6,374,7],[375,6,375,7],[376,6,376,7],[377,6,377,7],[379,6,379,7],[380,6,380,7],[381,6,381,7],[382,6,382,7],[383,6,383,7],[385,6,385,7],[386,6,386,7],[387,6,387,7],[388,6,388,7],[389,6,389,7],[413,6,413,7],[414,6,414,7],[415,6,415,7],[411,6,411,7],[427,6,427,7],[428,6,428,7],[429,6,429,7],[416,6,416,7],[417,6,417,7],[419,6,419,7],[420,6,420,7],[421,6,421,7],[422,6,422,7],[423,6,423,7],[425,6,425,7],[426,6,426,7]]}
[]
[null,"Level 1"]
[null,"Adventure","Description","Gold","PP","Status",null,null,null,"Sell Back"]
[null,1,null,null,null,null,"Max Item:",{"$f":"LOOKUP(I4,Tables!B$4:B$103,Tables!C$4:C$103)","v":0},{"$f":"SUM('Gold Earned '!D4:D5)","v":0}]
[null,"Insert Date",null,null,null,"Choose One",{"$f":"IF(AND(D5>H$4,F5<>\"Bought Common\",F5<>\"Sold Common\", F5<>\"Expended Common\"), \"NOT VAILD\", \"-\")","v":"-"},null,null,{"$f":"IF(OR(F5=\"Sold\",F5=\"Sold Common\"),K5,\"-\")","v":"-"},{"$f":"D5/2","v":0}]
[null,"Insert Date",null,null,null,"Choose One",{"$f":"IF(AND(D6>H$4,F6<>\"Bought Common\",F6<>\"Sold Common\", F6<>\"Expended Common\"), \"NOT VAILD\", \"-\")","v":"-"},null,null,{"$f":"IF(OR(F6=\"Sold\",F6=\"Sold Common\"),K6,\"-\")","v":"-"},0]
[null,"Insert Date",null,null,null,"Choose One",{"$f":"IF(AND(D7>H$4,F7<>\"Bought Common\",F7<>\"Sold Common\", F7<>\"Expended Common\"), \"NOT VAILD\", \"-\")","v":"-"},null,null,{"$f":"IF(OR(F7=\"Sold\",F7=\"Sold Common\"),K7,\"-\")","v":"-"},0]
[null,"Insert Date",null,null,null,"Choose One",{"$f":"IF(AND(D8>H$4,F8<>\"Bought Common\",F8<>\"Sold Common\", F8<>\"Expended Common\"), \"NOT VAILD\", \"-\")","v":"-"},null,null,{"$f":"IF(OR(F8=\"Sold\",F8=\"Sold Common\"),K8,\"-\")","v":"-"},0]
[null,"Insert Date",null,null,null,"Choose One",{"$f":"IF(AND(D9>H$4,F9<>\"Bought Common\",F9<>\"Sold Common\", F9<>\"Expended Common\"), \"NOT VAILD\", \"-\")","v":"-"},null,null,{"$f":"IF(OR(F9=\"Sold\",F9=\"Sold Common\"),K9,\"-\")","v":"-"},0]
[null,2,null,null,null,null,"Max Item:",{"$f":"LOOKUP(I10,Tables!B$4:B$103,Tables!C$4:C$103)","v":0},{"$f":"SUM('Gold Earned '!D4:D6)","v":0},null,0]
[null,"Insert Date",null,null,null,"Choose One",{"$f":"IF(AND(D11>H$10,F11<>\"Bought Common\",F11<>\"Sold Common\", F11<>\"Expended Common\"), \"NOT VAILD\", \"-\")","v":"-"},null,null,{"$f":"IF(OR(F11=\"Sold\",F11=\"Sold Common\"),K11,\"-\")","v":"-"},0]
[null,"Insert Date",null,null,null,"Choose One",{"$f":"IF(AND(D12>H$10,F12<>\"Bought Common\",F12<>\"Sold Common\", F12<>\"Expended Common\"), \"NOT VAILD\", \"-\")","v":"-"},null,null,{"$f":"IF(OR(F12=\"Sold\",F12=\"Sold Common\"),K12,\"-\")","v":"-"},0]
[null,"Insert Date",null,null,null,"Choose One",{"$f":"IF(AND(D13>H$10,F13<>\"Bought Common\",F13<>\"Sold Common\", F13<>\"Expended Common\"), \"NOT VAILD\", \"-\")","v":"-"},null,null,{"$f":"IF(OR(F13=\"Sold\",F13=\"Sold Common\"),K13,\"-\")","v":"-"},0]
[null,"Insert Date",null,null,null,"Choose One",{"$f":"IF(AND(D14>H$10,F14<>\"Bought Common\",F14<>\"Sold Common\", F14<>\"Expended Common\"), \"NOT VAILD\", \"-\")","v":"-"},null,null,{"$f":"IF(OR(F14=\"Sold\",F14=\"Sold Common\"),K14,\"-\")","v":"-"},0]
[null,"Insert Date",null,null,null,"Choose One",{"$f":"IF(AND(D15>H$10,F15<>\"Bought Common\",F15<>\"Sold Common\", F15<>\"Expended Common\"), \"NOT VAILD\", \"-\")","v":"-"},null,null,{"$f":"IF(OR(F15=\"Sold\",F15=\"Sold Common\"),K15,\"-\")","v":"-"},0]
[null,3,null,null,null,null,"Max Item:",{"$f":"LOOKUP(I16,Tables!B$4:B$103,Tables!C$4:C$103)","v":0},{"$f":"SUM('Gold Earned '!D4:D7)","v":0},null,0]
[null,"Insert Date",null,null,null,"Choose One",{"$f":"IF(AND(D17>H$16,F17<>\"Bought Common\",F17<>\"Sold Common\", F17<>\"Expended Common\"), \"NOT VAILD\", \"-\")","v":"-"},null,null,{"$f":"IF(OR(F17=\"Sold\",F17=\"Sold Common\"),K17,\"-\")","v":"-"},0]
[null,"Insert Date",null,null,null,"Choose One",{"$f":"IF(AND(D18>H$16,F18<>\"Bought Common\",F18<>\"Sold Common\", F18<>\"Expended Common\"), \"NOT VAILD\", \"-\")","v":"-"},null,null,{"$f":"IF(OR(F18=\"Sold\",F18=\"Sold Common\"),K18,\"-\")","v":"-"},0]
[null,"Insert Date",null,null,null,"Choose One",{"$f":"IF(AND(D19>H$16,F19<>\"Bought Common\",F19<>\"Sold Common\", F19<>\"Expended Common\"), \"NOT VAILD\", \"-\")","v":"-"},null,null,{"$f":"IF(OR(F19=\"Sold\",F19=\"Sold Common\"),K19,\"-\")","v":"-"},0]
[null,"Insert Date",null,null,null,"Choose One",{"$f":"IF(AND(D20>H$16,F20<>\"Bought Common\",F20<>\"Sold Common\", F20<>\"Expended Common\"), \"NOT VAILD\", \"-\")","v":"-"},null,null,{"$f":"IF(OR(F20=\"Sold\",F20=\"Sold Common\"),K20,\"-\")","v":"-"},0]
[null,"Insert Date",null,null,null,"Choose One",{"$f":"IF(AND(D21>H$16,F21<>\"Bought Common\",F21<>\"Sold Common\", F21<>\"Expended Common\"), \"NOT VAILD\", \"-\")","v":"-"},null,null,{"$f":"IF(OR(F21=\"Sold\",F21=\"Sold Common\"),K21,\"-\")","v":"-"},0]
[null,4,null,null,null,null,"Max Item:",{"$f":"LOOKUP(I22,Tables!B$4:B$103,Tables!C$4:C$103)","v":0},{"$f":"SUM('Gold Earned '!D4:D8)","v":0},null,0]
[null,"Insert Date",null,null,null,"Choose One",{"$f":"IF(AND(D23>H$16,F23<>\"Bought Common\",F23<>\"Sold Common\", F23<>\"Expended Common\"), \"NOT VAILD\", \"-\")","v":"-"},null,null,{"$f":"IF(OR(F23=\"Sold\",F23=\"Sold Common\"),K23,\"-\")","v":"-"},0]
[null,"Insert Date",null,null,null,"Choose One",{"$f":"IF(AND(D24>H$16,F24<>\"Bought Common\",F24<>\"Sold Common\", F24<>\"Expended Common\"), \"NOT VAILD\", \"-\")","v":"-"},null,null,{"$f":"IF(OR(F24=\"Sold\",F24=\"Sold Common\"),K24,\"-\")","v":"-"},0]
[null,"Insert Date",null,null,null,"Choose One",{"$f":"IF(AND(D25>H$16,F25<>\"Bought Common\",F25<>\"Sold Common\", F25<>\"Expended Common\"), \"NOT VAILD\", \"-\")","v":"-"},null,null,{"$f":"IF(OR(F25=\"Sold\",F25=\"Sold Common\"),K25,\"-\")","v":"-"},0]
[null,"Insert Date",null,null,null,"Choose One",{"$f":"IF(AND(D26>H$16,F26<>\"Bought Common\",F26<>\"Sold Common\", F26<>\"Expended Common\"), \"NOT VAILD\", \"-\")","v":"-"},null,null,{"$f":"IF(OR(F26=\"Sold\",F26=\"Sold Common\"),K26,\"-\")","v":"-"},0]
[null,"Insert Date",null,null,null,"Choose One",{"$f":"IF(AND(D27>H$16,F27<>\"Bought Common\",F27<>\"Sold Common\", F27<>\"Expended Common\"), \"NOT VAILD\", \"-\")","v":"-"},null,null,{"$f":"IF(OR(F27=\"Sold\",F27=\"Sold Common\"),K27,\"-\")","v":"-"},0]
[null,5,null,null,null,null,"Max Item:",{"$f":"LOOKUP(I28,Tables!B$4:B$103,Tables!C$4:C$103)","v":0},{"$f":"SUM('Gold Earned '!D4:D9)","v":0},null,0]
[null,"Insert Date",null,null,null,"Choose One",{"$f":"IF(AND(D29>H$16,F29<>\"Bought Common\",F29<>\"Sold Common\", F29<>\"Expended Common\"), \"NOT VAILD\", \"-\")","v":"-"},null,null,{"$f":"IF(OR(F29=\"Sold\",F29=\"Sold Common\"),K29,\"-\")","v":"-"},0]
[null,"Insert Date",null,null,null,"Choose One",{"$f":"IF(AND(D30>H$16,F30<>\"Bought Common\",F30<>\"Sold Common\", F30<>\"Expended Common\"), \"NOT VAILD\", \"-\")","v":"-"},null,null,{"$f":"IF(OR(F30=\"Sold\",F30=\"Sold Common\"),K30,\"-\")","v":"-"},0]
[null,"Insert Date",null,null,null,"Choose One",{"$f":"IF(AND(D31>H$16,F31<>\"Bought Common\",F31<>\"Sold Common\", F31<>\"Expended Common\"), \"NOT VAILD\", \"-\")","v":"-"},null,null,{"$f":"IF(OR(F31=\"Sold\",F31=\"Sold Common\"),K31,\"-\")","v":"-"},0]
[null,"Insert Date",null,null,null,"Choose One",{"$f":"IF(AND(D32>H$16,F32<>\"Bought Common\",F32<>\"Sold Common\", F32<>\"Expended Common\"), \"NOT VAILD\", \"-\")","v":"-"},null,null,{"$f":"IF(OR(F32=\"Sold\",F32=\"Sold Common\"),K32,\"-\")","v":"-"},0]
[null,"Insert Date",null,null,null,"Choose One",{"$f":"IF(AND(D33>H$16,F33<>\"Bought Common\",F33<>\"Sold Common\", F33<>\"Expended Common\"), \"NOT VAILD\", \"-\")","v":"-"},null,null,{"$f":"IF(OR(F33=\"Sold\",F33=\"Sold Common\"),K33,\"-\")","v":"-"},0]
[null,6,null,null,null,null,"Max Item:",{"$f":"LOOKUP(I34,Tables!B$4:B$103,Tables!C$4:C$103)","v":0},{"$f":"SUM('Gold Earned '!D4:D10)","v":0},null,0]
[null,"Insert Date",null,null,null,"Choose One",{"$f":"IF(AND(D35>H$16,F35<>\"Bought Common\",F35<>\"Sold Common\", F35<>\"Expended Common\"), \"NOT VAILD\", \"-\")","v":"-"},null,null,{"$f":"IF(OR(F35=\"Sold\",F35=\"Sold Common\"),K35,\"-\")","v":"-"},0]
[null,"Insert Date",null,null,null,"Choose One",{"$f":"IF(AND(D36>H$16,F36<>\"Bought Common\",F36<>\"Sold Common\", F36<>\"Expended Common\"), \"NOT VAILD\", \"-\")","v":"-"},null,null,{"$f":"IF(OR(F36=\"Sold\",F36=\"Sold Common\"),K36,\"-\")","v":"-"},0]
[null,"Insert Date",null,null,null,"Choose One",{"$f":"IF(AND(D37>H$16,F37<>\"Bought Common\",F37<>\"Sold Common\", F37<>\"Expended Common\"), \"NOT VAILD\", \"-\")","v":"-"},null,null,{"$f":"IF(OR(F37=\"Sold\",F37=\"Sold Common\"),K37,\"-\")","v":"-"},0]
[null,"Insert Date",null,null,null,"Choose One",{"$f":"IF(AND(D38>H$16,F38<>\"Bought Common\",F38<>\"Sold Common\", F38<>\"Expended Common\"), \"NOT VAILD\", \"-\")","v":"-"},null,null,{"$f":"IF(OR(F38=\"Sold\",F38=\"Sold Common\"),K38,\"-\")","v":"-"},0]
[null,"Insert Date",null,null,null,"Choose One",{"$f":"IF(AND(D39>H$16,F39<>\"Bought Common\",F39<>\"Sold Common\", F39<>\"Expended Common\"), \"NOT VAILD\", \"-\")","v":"-"},null,null,{"$f":"IF(OR(F39=\"Sold\",F39=\"Sold Common\"),K39,\"-\")","v":"-"},0]
[]
[null,"Level 2"]
[null,"Adventure","Description","Gold","PP","Status",null,null,null,"Sell Back"]
[null,1,null,null,null,null,"Max Item:",{"$f":"LOOKUP(I43,Tables!B$4:B$103,Tables!C$4:C$103)","v":0},{"$f":"SUM('Gold Earned '!D$20:D21)","v":0},null,{"$f":"D43/2","v":0}]
[null,"Insert Date",null,null,null,"Choose One",{"$f":"IF(AND(D44>H$43,F44<>\"Bought Common\",F44<>\"Sold Common\", F44<>\"Expended Common\"), \"NOT VAILD\", \"-\")","v":"-"},null,null,{"$f":"IF(OR(F44=\"Sold\",F44=\"Sold Common\"),K44,\"-\")","v":"-"},0]
[null,"Insert Date",null,null,null,"Choose One",{"$f":"IF(AND(D45>H$43,F45<>\"Bought Common\",F45<>\"Sold Common\", F45<>\"Expended Common\"), \"NOT VAILD\", \"-\")","v":"-"},null,null,{"$f":"IF(OR(F45=\"Sold\",F45=\"Sold Common\"),K45,\"-\")","v":"-"},0]
[null,"Insert Date",null,null,null,"Choose One",{"$f":"IF(AND(D46>H$43,F46<>\"Bought Common\",F46<>\"Sold Common\", F46<>\"Expended Common\"), \"NOT VAILD\", \"-\")","v":"-"},null,null,{"$f":"IF(OR(F46=\"Sold\",F46=\"Sold Common\"),K46,\"-\")","v":"-"},0]
[null,"Insert Date",null,null,null,"Choose One",{"$f":"IF(AND(D47>H$43,F47<>\"Bought Common\",F47<>\"Sold Common\", F47<>\"Expended Common\"), \"NOT VAILD\", \"-\")","v":"-"},null,null,{"$f":"IF(OR(F47=\"Sold\",F47=\"Sold Common\"),K47,\"-\")","v":"-"},0]
[null,"Insert Date",null,null,null,"Choose One",{"$f":"IF(AND(D48>H$43,F48<>\"Bought Common\",F48<>\"Sold Common\", F48<>\"Expended Common\"), \"NOT VAILD\", \"-\")","v":"-"},null,null,{"$f":"IF(OR(F48=\"Sold\",F48=\"Sold Common\"),K48,\"-\")","v":"-"},0]
[null,2,null,null,null,null,"Max Item:",{"$f":"LOOKUP(I49,Tables!B$4:B$103,Tables!C$4:C$103)","v":0},{"$f":"SUM('Gold Earned '!D$20:D22)","v":0},null,0]
[null,"Insert Date",null,null,null,"Choose One",{"$f":"IF(AND(D50>H$49,F50<>\"Bought Common\",F50<>\"Sold Common\", F50<>\"Expended Common\"), \"NOT VAILD\", \"-\")","v":"-"},null,null,{"$f":"IF(OR(F50=\"Sold\",F50=\"Sold Common\"),K50,\"-\")","v":"-"},0]
[null,"Insert Date",null,null,null,"Choose One",{"$f":"IF(AND(D51>H$49,F51<>\"Bought Common\",F51<>\"Sold Common\", F51<>\"Expended Common\"), \"NOT VAILD\", \"-\")","v":"-"},null,null,{"$f":"IF(OR(F51=\"Sold\",F51=\"Sold Common\"),K51,\"-\")","v":"-"},0]
[null,"Insert Date",null,null,null,"Choose One",{"$f":"IF(AND(D52>H$49,F52<>\"Bought Common\",F52<>\"Sold Common\", F52<>\"Expended Common\"), \"NOT VAILD\", \"-\")","v":"-"},null,null,{"$f":"IF(OR(F52=\"Sold\",F52=\"Sold Common\"),K52,\"-\")","v":"-"},0]
[null,"Insert Date",null,null,null,"Choose One",{"$f":"IF(AND(D53>H$49,F53<>\"Bought Common\",F53<>\"Sold Common\", F53<>\"Expended Common\"), \"NOT VAILD\", \"-\")","v":"-"},null,null,{"$f":"IF(OR(F53=\"Sold\",F53=\"Sold Common\"),K53,\"-\")","v":"-"},0]
[null,"Insert Date",null,null,null,"Choose One",{"$f":"IF(AND(D54>H$49,F54<>\"Bought Common\",F54<>\"Sold Common\", F54<>\"Expended Common\"), \"NOT VAILD\", \"-\")","v":"-"},null,null,{"$f":"IF(OR(F54=\"Sold\",F54=\"Sold Common\"),K54,\"-\")","v":"-"},0]
[null,3,null,null,null,null,"Max Item:",{"$f":"LOOKUP(I55,Tables!B$4:B$103,Tables!C$4:C$103)","v":0},{"$f":"SUM('Gold Earned '!D$20:D23)","v":0},null,0]
[null,"Insert Date",null,null,null,"Choose One",{"$f":"IF(AND(D56>H$55,F56<>\"Bought Common\",F56<>\"Sold Common\", F56<>\"Expended Common\"), \"NOT VAILD\", \"-\")","v":"-"},null,null,{"$f":"IF(OR(F56=\"Sold\",F56=\"Sold Common\"),K56,\"-\")","v":"-"},0]
[null,"Insert Date",null,null,null,"Choose One",{"$f":"IF(AND(D57>H$55,F57<>\"Bought Common\",F57<>\"Sold Common\", F57<>\"Expended Common\"), \"NOT VAILD\", \"-\")","v":"-"},null,null,{"$f":"IF(OR(F57=\"Sold\",F57=\"Sold Common\"),K57,\"-\")","v":"-"},0]
[null,"Insert Date",null,null,null,"Choose One",{"$f":"IF(AND(D58>H$55,F58<>\"Bought Common\",F58<>\"Sold Common\", F58<>\"Expended Common\"), \"NOT VAILD\", \"-\")","v":"-"},null,null,{"$f":"IF(OR(F58=\"Sold\",F58=\"Sold Common\"),K58,\"-\")","v":"-"},0]
[null,"Insert Date",null,null,null,"Choose One",{"$f":"IF(AND(D59>H$55,F59<>\"Bought Common\",F59<>\"Sold Common\", F59<>\"Expended Common\"), \"NOT VAILD\", \"-\")","v":"-"},null,null,{"$f":"IF(OR(F59=\"Sold\",F59=\"Sold Common\"),K59,\"-\")","v":"-"},0]
[null,"Insert Date",null,null,null,"Choose One",{"$f":"IF(AND(D60>H$55,F60<>\"Bought Common\",F60<>\"Sold Common\", F60<>\"Expended Common\"), \"NOT VAILD\", \"-\")","v":"-"},null,null,{"$f":"IF(OR(F60=\"Sold\",F60=\"Sold Common\"),K60,\"-\")","v":"-"},0]
[null,4,null,null,null,null,"Max Item:",{"$f":"LOOKUP(I61,Tables!B$4:B$103,Tables!C$4:C$103)","v":0},{"$f":"SUM('Gold Earned '!D$20:D24)","v":0},null,0]
[null,"Insert Date",null,null,null,"Choose One",{"$f":"IF(AND(D62>H$16,F62<>\"Bought Common\",F62<>\"Sold Common\", F62<>\"Expended Common\"), \"NOT VAILD\", \"-\")","v":"-"},null,null,{"$f":"IF(OR(F62=\"Sold\",F62=\"Sold Common\"),K62,\"-\")","v":"-"},0]
[null,"Insert Date",null,null,null,"Choose One",{"$f":"IF(AND(D63>H$16,F63<>\"Bought Common\",F63<>\"Sold Common\", F63<>\"Expended Common\"), \"NOT VAILD\", \"-\")","v":"-"},null,null,{"$f":"IF(OR(F63=\"Sold\",F63=\"Sold Common\"),K63,\"-\")","v":"-"},0]
[null,"Insert Date",null,null,null,"Choose One",{"$f":"IF(AND(D64>H$16,F64<>\"Bought Common\",F64<>\"Sold Common\", F64<>\"Expended Common\"), \"NOT VAILD\", \"-\")","v":"-"},null,null,{"$f":"IF(OR(F64=\"Sold\",F64=\"Sold Common\"),K64,\"-\")","v":"-"},0]
[null,"Insert Date",null,null,null,"Choose One",{"$f":"IF(AND(D65>H$16,F65<>\"Bought Common\",F65<>\"Sold Common\", F65<>\"Expended Common\"), \"NOT VAILD\", \"-\")","v":"-"},null,null,{"$f":"IF(OR(F65=\"Sold\",F65=\"Sold Common\"),K65,\"-\")","v":"-"},0]
[null,"Insert Date",null,null,null,"Choose One",{"$f":"IF(AND(D66>H$16,F66<>\"Bought Common\",F66<>\"Sold Common\", F66<>\"Expended Common\"), \"NOT VAILD\", \"-\")","v":"-"},null,null,{"$f":"IF(OR(F66=\"Sold\",F66=\"Sold Common\"),K66,\"-\")","v":"-"},0]
[null,5,null,null,null,null,"Max Item:",{"$f":"LOOKUP(I67,Tables!B$4:B$103,Tables!C$4:C$103)","v":0},{"$f":"SUM('Gold Earned '!D$20:D25)","v":0},null,0]
[null,"Insert Date",null,null,null,"Choose One",{"$f":"IF(AND(D68>H$16,F68<>\"Bought Common\",F68<>\"Sold Common\", F68<>\"Expended Common\"), \"NOT VAILD\", \"-\")","v":"-"},null,null,{"$f":"IF(OR(F68=\"Sold\",F68=\"Sold Common\"),K68,\"-\")","v":"-"},0]
[null,"Insert Date",null,null,null,"Choose One",{"$f":"IF(AND(D69>H$16,F69<>\"Bought Common\",F69<>\"Sold Common\", F69<>\"Expended Common\"), \"NOT VAILD\", \"-\")","v":"-"},null,null,{"$f":"IF(OR(F69=\"Sold\",F69=\"Sold Common\"),K69,\"-\")","v":"-"},0]
[null,"Insert Date",null,null,null,"Choose One",{"$f":"IF(AND(D70>H$16,F70<>\"Bought Common\",F70<>\"Sold Common\", F70<>\"Expended Common\"), \"NOT VAILD\", \"-\")","v":"-"},null,null,{"$f":"IF(OR(F70=\"Sold\",F70=\"Sold Common\"),K70,\"-\")","v":"-"},0]
[null,"Insert Date",null,null,null,"Choose One",{"$f":"IF(AND(D71>H$16,F71<>\"Bought Common\",F71<>\"Sold Common\", F71<>\"Expended Common\"), \"NOT VAILD\", \"-\")","v":"-"},null,null,{"$f":"IF(OR(F71=\"Sold\",F71=\"Sold Common\"),K71,\"-\")","v":"-"},0]
[null,"Insert Date",null,null,null,"Choose One",{"$f":"IF(AND(D72>H$16,F72<>\"Bought Common\",F72<>\"Sold Common\", F72<>\"Expended Common\"), \"NOT VAILD\", \"-\")","v":"-"},null,null,{"$f":"IF(OR(F72=\"Sold\",F72=\"Sold Common\"),K72,\"-\")","v":"-"},0]
[null,6,null,null,null,null,"Max Item:",{"$f":"LOOKUP(I73,Tables!B$4:B$103,Tables!C$4:C$103)","v":0},{"$f":"SUM('Gold Earned '!D$20:D26)","v":0},null,0]
[null,"Insert Date",null,null,null,"Choose One",{"$f":"IF(AND(D74>H$16,F74<>\"Bought Common\",F74<>\"Sold Common\", F74<>\"Expended Common\"), \"NOT VAILD\", \"-\")","v":"-"},null,null,{"$f":"IF(OR(F74=\"Sold\",F74=\"Sold Common\"),K74,\"-\")","v":"-"},0]
[null,"Insert Date",null,null,null,"Choose One",{"$f":"IF(AND(D75>H$16,F75<>\"Bought Common\",F75<>\"Sold Common\", F75<>\"Expended Common\"), \"NOT VAILD\", \"-\")","v":"-"},null,null,{"$f":"IF(OR(F75=\"Sold\",F75=\"Sold Common\"),K75,\"-\")","v":"-"},0]
[null,"Insert Date",null,null,null,"Choose One",{"$f":"IF(AND(D76>H$16,F76<>\"Bought Common\",F76<>\"Sold Common\", F76<>\"Expended Common\"), \"NOT VAILD\", \"-\")","v":"-"},null,null,{"$f":"IF(OR(F76=\"Sold\",F76=\"Sold Common\"),K76,\"-\")","v":"-"},0]
[null,"Insert Date",null,null,null,"Choose One",{"$f":"IF(AND(D77>H$16,F77<>\"Bought Common\",F77<>\"Sold Common\", F77<>\"Expended Common\"), \"NOT VAILD\", \"-\")","v":"-"},null,null,{"$f":"IF(OR(F77=\"Sold\",F77=\"Sold Common\"),K77,\"-\")","v":"-"},0]
[null,"Insert Date",null,null,null,"Choose One",{"$f":"IF(AND(D78>H$16,F78<>\"Bought Common\",F78<>\"Sold Common\", F78<>\"Expended Common\"), \"NOT VAILD\", \"-\")","v":"-"},null,null,{"$f":"IF(OR(F78=\"Sold\",F78=\"Sold Common\"),K78,\"-\")","v":"-"},0]
[]
[null,"Level 3"]
[null,"Adventure","Description","Gold","PP","Status",null,null,null,"Sell Back"]
[null,1,null,null,null,null,"Max Item:",{"$f":"LOOKUP(I82,Tables!B$4:B$103,Tables!C$4:C$103)","v":0},{"$f":"SUM('Gold Earned '!D$36:D37)","v":0},null,{"$f":"D82/2","v":0}]
[null,"Insert Date",null,null,null,"Choose One",{"$f":"IF(AND(D83>H$82,F83<>\"Bought Common\",F83<>\"Sold Common\", F83<>\"Expended Common\"), \"NOT VAILD\", \"-\")","v":"-"},null,null,{"$f":"IF(OR(F83=\"Sold\",F83=\"Sold Common\"),K83,\"-\")","v":"-"},0]
[null,"Insert Date",null,null,null,"Choose One",{"$f":"IF(AND(D84>H$82,F84<>\"Bought Common\",F84<>\"Sold Common\", F84<>\"Expended Common\"), \"NOT VAILD\", \"-\")","v":"-"},null,null,{"$f":"IF(OR(F84=\"Sold\",F84=\"Sold Common\"),K84,\"-\")","v":"-"},0]
[null,"Insert Date",null,null,null,"Choose One",{"$f":"IF(AND(D85>H$82,F85<>\"Bought Common\",F85<>\"Sold Common\", F85<>\"Expended Common\"), \"NOT VAILD\", \"-\")","v":"-"},null,null,{"$f":"IF(OR(F85=\"Sold\",F85=\"Sold Common\"),K85,\"-\")","v":"-"},0]
[null,"Insert Date",null,null,null,"Choose One",{"$f":"IF(AND(D86>H$82,F86<>\"Bought Common\",F86<>\"Sold Common\", F86<>\"Expended Common\"), \"NOT VAILD\", \"-\")","v":"-"},null,null,{"$f":"IF(OR(F86=\"Sold\",F86=\"Sold Common\"),K86,\"-\")","v":"-"},0]
[null,"Insert Date",null,null,null,"Choose One",{"$f":"IF(AND(D87>H$82,F87<>\"Bought Common\",F87<>\"Sold Common\", F87<>\"Expended Common\"), \"NOT VAILD\", \"-\")","v":"-"},null,null,{"$f":"IF(OR(F87=\"Sold\",F87=\"Sold Common\"),K87,\"-\")","v":"-"},0]
[null,2,null,null,null,null,"Max Item:",{"$f":"LOOKUP(I88,Tables!B$4:B$103,Tables!C$4:C$103)","v":0},{"$f":"SUM('Gold Earned '!D$36:D38)","v":0},null,0]
[null,"Insert Date",null,null,null,"Choose One",{"$f":"IF(AND(D89>H$88,F89<>\"Bought Common\",F89<>\"Sold Common\", F89<>\"Expended Common\"), \"NOT VAILD\", \"-\")","v":"-"},null,null,{"$f":"IF(OR(F89=\"Sold\",F89=\"Sold Common\"),K89,\"-\")","v":"-"},0]
[null,"Insert Date",null,null,null,"Choose One",{"$f":"IF(AND(D90>H$88,F90<>\"Bought Common\",F90<>\"Sold Common\", F90<>\"Expended Common\"), \"NOT VAILD\", \"-\")","v":"-"},null,null,{"$f":"IF(OR(F90=\"Sold\",F90=\"Sold Common\"),K90,\"-\")","v":"-"},0]
[null,"Insert Date",null,null,null,"Choose One",{"$f":"IF(AND(D91>H$88,F91<>\"Bought Common\",F91<>\"Sold Common\", F91<>\"Expended Common\"), \"NOT VAILD\", \"-\")","v":"-"},null,null,{"$f":"IF(OR(F91=\"Sold\",F91=\"Sold Common\"),K91,\"-\")","v":"-"},0]
[null,"Insert Date",null,null,null,"Choose One",{"$f":"IF(AND(D92>H$88,F92<>\"Bought Common\",F92<>\"Sold Common\", F92<>\"Expended Common\"), \"NOT VAILD\", \"-\")","v":"-"},null,null,{"$f":"IF(OR(F92=\"Sold\",F92=\"Sold Common\"),K92,\"-\")","v":"-"},0]
[null,"Insert Date",null,null,null,"Choose One",{"$f":"IF(AND(D93>H$88,F93<>\"Bought Common\",F93<>\"Sold Common\", F93<>\"Expended Common\"), \"NOT VAILD\", \"-\")","v":"-"},null,null,{"$f":"IF(OR(F93=\"Sold\",F93=\"Sold Common\"),K93,\"-\")","v":"-"},0]
[null,3,null,null,null,null,"Max Item:",{"$f":"LOOKUP(I94,Tables!B$4:B$103,Tables!C$4:C$103)","v":0},{"$f":"SUM('Gold Earned '!D$36:D39)","v":0},null,0]
[null,"Insert Date",null,null,null,"Choose One",{"$f":"IF(AND(D95>H$94,F95<>\"Bought Common\",F95<>\"Sold Common\", F95<>\"Expended Common\"), \"NOT VAILD\", \"-\")","v":"-"},null,null,{"$f":"IF(OR(F95=\"Sold\",F95=\"Sold Common\"),K95,\"-\")","v":"-"},0]
[null,"Insert Date",null,null,null,"Choose One",{"$f":"IF(AND(D96>H$94,F96<>\"Bought Common\",F96<>\"Sold Common\", F96<>\"Expended Common\"), \"NOT VAILD\", \"-\")","v":"-"},null,null,{"$f":"IF(OR(F96=\"Sold\",F96=\"Sold Common\"),K96,\"-\")","v":"-"},0]
[null,"Insert Date",null,null,null,"Choose One",{"$f":"IF(AND(D97>H$94,F97<>\"Bought Common\",F97<>\"Sold Common\", F97<>\"Expended Common\"), \"NOT VAILD\", \"-\")","v":"-"},null,null,{"$f":"IF(OR(F97=\"Sold\",F97=\"Sold Common\"),K97,\"-\")","v":"-"},0]
[null,"Insert Date",null,null,null,"Choose One",{"$f":"IF(AND(D98>H$94,F98<>\"Bought Common\",F98<>\"Sold Common\", F98<>\"Expended Common\"), \"NOT VAILD\", \"-\")","v":"-"},null,null,{"$f":"IF(OR(F98=\"Sold\",F98=\"Sold Common\"),K98,\"-\")","v":"-"},0]
[null,"Insert Date",null,null,null,"Choose One",{"$f":"IF(AND(D99>H$94,F99<>\"Bought Common\",F99<>\"Sold Common\", F99<>\"Expended Common\"), \"NOT VAILD\", \"-\")","v":"-"},null,null,{"$f":"IF(OR(F99=\"Sold\",F99=\"Sold Common\"),K99,\"-\")","v":"-"},0]
[null,4,null,null,null,null,"Max Item:",{"$f":"LOOKUP(I100,Tables!B$4:B$103,Tables!C$4:C$103)","v":0},{"$f":"SUM('Gold Earned '!D$36:D40)","v":0},null,0]
[null,"Insert Date",null,null,null,"Choose One",{"$f":"IF(AND(D101>H$16,F101<>\"Bought Common\",F101<>\"Sold Common\", F101<>\"Expended Common\"), \"NOT VAILD\", \"-\")","v":"-"},null,null,{"$f":"IF(OR(F101=\"Sold\",F101=\"Sold Common\"),K101,\"-\")","v":"-"},0]
[null,"Insert Date",null,null,null,"Choose One",{"$f":"IF(AND(D102>H$16,F102<>\"Bought Common\",F102<>\"Sold Common\", F102<>\"Expended Common\"), \"NOT VAILD\", \"-\")","v":"-"},null,null,{"$f":"IF(OR(F102=\"Sold\",F102=\"Sold Common\"),K102,\"-\")","v":"-"},0]
[null,"Insert Date",null,null,null,"Choose One",{"$f":"IF(AND(D103>H$16,F103<>\"Bought Common\",F103<>\"Sold Common\", F103<>\"Expended Common\"), \"NOT VAILD\", \"-\")","v":"-"},null,null,{"$f":"IF(OR(F103=\"Sold\",F103=\"Sold Common\"),K103,\"-\")","v":"-"},0]
[null,"Insert Date",null,null,null,"Choose One",{"$f":"IF(AND(D104>H$16,F104<>\"Bought Common\",F104<>\"Sold Common\", F104<>\"Expended Common\"), \"NOT VAILD\", \"-\")","v":"-"},null,null,{"$f":"IF(OR(F104=\"Sold\",F104=\"Sold Common\"),K104,\"-\")","v":"-"},0]
[null,"Insert Date",null,null,null,"Choose One",{"$f":"IF(AND(D105>H$16,F105<>\"Bought Common\",F105<>\"Sold Common\", F105<>\"Expended Common\"), \"NOT VAILD\", \"-\")","v":"-"},null,null,{"$f":"IF(OR(F105=\"Sold\",F105=\"Sold Common\"),K105,\"-\")","v":"-"},0]
[null,5,null,null,null,null,"Max Item:",{"$f":"LOOKUP(I106,Tables!B$4:B$103,Tables!C$4:C$103)","v":0},{"$f":"SUM('Gold Earned '!D$36:D41)","v":0},null,0]
[null,"Insert Date",null,null,null,"Choose One",{"$f":"IF(AND(D107>H$16,F107<>\"Bought Common\",F107<>\"Sold Common\", F107<>\"Expended Common\"), \"NOT VAILD\", \"-\")","v":"-"},null,null,{"$f":"IF(OR(F107=\"Sold\",F107=\"Sold Common\"),K107,\"-\")","v":"-"},0]
[null,"Insert Date",null,null,null,"Choose One",{"$f":"IF(AND(D108>H$16,F108<>\"Bought Common\",F108<>\"Sold Common\", F108<>\"Expended Common\"), \"NOT VAILD\", \"-\")","v":"-"},null,null,{"$f":"IF(OR(F108=\"Sold\",F108=\"Sold Common\"),K108,\"-\")","v":"-"},0]
[null,"Insert Date",null,null,null,"Choose One",{"$f":"IF(AND(D109>H$16,F109<>\"Bought Common\",F109<>\"Sold Common\", F109<>\"Expended Common\"), \"NOT VAILD\", \"-\")","v":"-"},null,null,{"$f":"IF(OR(F109=\"Sold\",F109=\"Sold Common\"),K109,\"-\")","v":"-"},0]
[null,"Insert Date",null,null,null,"Choose One",{"$f":"IF(AND(D110>H$16,F110<>\"Bought Common\",F110<>\"Sold Common\", F110<>\"Expended Common\"), \"NOT VAILD\", \"-\")","v":"-"},null,null,{"$f":"IF(OR(F110=\"Sold\",F110=\"Sold Common\"),K110,\"-\")","v":"-"},0]
[null,"Insert Date",null,null,null,"Choose One",{"$f":"IF(AND(D111>H$16,F111<>\"Bought Common\",F111<>\"Sold Common\", F111<>\"Expended Common\"), \"NOT VAILD\", \"-\")","v":"-"},null,null,{"$f":"IF(OR(F111=\"Sold\",F111=\"Sold Common\"),K111,\"-\")","v":"-"},0]
[null,6,null,null,null,null,"Max Item:",{"$f":"LOOKUP(I112,Tables!B$4:B$103,Tables!C$4:C$103)","v":0},{"$f":"SUM('Gold Earned '!D$36:D42)","v":0},null,0]
[null,"Insert Date",null,null,null,"Choose One",{"$f":"IF(AND(D113>H$16,F113<>\"Bought Common\",F113<>\"Sold Common\", F113<>\"Expended Common\"), \"NOT VAILD\", \"-\")","v":"-"},null,null,{"$f":"IF(OR(F113=\"Sold\",F113=\"Sold Common\"),K113,\"-\")","v":"-"},0]
[null,"Insert Date",null,null,null,"Choose One",{"$f":"IF(AND(D114>H$16,F114<>\"Bought Common\",F114<>\"Sold Common\", F114<>\"Expended Common\"), \"NOT VAILD\", \"-\")","v":"-"},null,null,{"$f":"IF(OR(F114=\"Sold\",F114=\"Sold Common\"),K114,\"-\")","v":"-"},0]
[null,"Insert Date",null,null,null,"Choose One",{"$f":"IF(AND(D115>H$16,F115<>\"Bought Common\",F115<>\"Sold Common\", F115<>\"Expended Common\"), \"NOT VAILD\", \"-\")","v":"-"},null,null,{"$f":"IF(OR(F115=\"Sold\",F115=\"Sold Common\"),K115,\"-\")","v":"-"},0]
[null,"Insert Date",null,null,null,"Choose One",{"$f":"IF(AND(D116>H$16,F116<>\"Bought Common\",F116<>\"Sold Common\", F116<>\"Expended Common\"), \"NOT VAILD\", \"-\")","v":"-"},null,null,{"$f":"IF(OR(F116=\"Sold\",F116=\"Sold Common\"),K116,\"-\")","v":"-"},0]
[null,"Insert Date",null,null,null,"Choose One",{"$f":"IF(AND(D117>H$16,F117<>\"Bought Common\",F117<>\"Sold Common\", F117<>\"Expended Common\"), \"NOT VAILD\", \"-\")","v":"-"},null,null,{"$f":"IF(OR(F117=\"Sold\",F117=\"Sold Common\"),K117,\"-\")","v":"-"},0]
[]
[null,"Level 4"]
[null,"Adventure","Description","Gold","PP","Status",null,null,null,"Sell Back"]
[null,1,null,null,null,null,"Max Item:",{"$f":"LOOKUP(I121,Tables!B$4:B$103,Tables!C$4:C$103)","v":0},{"$f":"SUM('Gold Earned '!D$52:D53)","v":0},null,{"$f":"D121/2","v":0}]
[null,"Insert Date",null,null,null,"Choose One",{"$f":"IF(AND(D122>H$121,F122<>\"Bought Common\",F122<>\"Sold Common\", F122<>\"Expended Common\"), \"NOT VAILD\", \"-\")","v":"-"},null,null,{"$f":"IF(OR(F122=\"Sold\",F122=\"Sold Common\"),K122,\"-\")","v":"-"},0]
[null,"Insert Date",null,null,null,"Choose One",{"$f":"IF(AND(D123>H$121,F123<>\"Bought Common\",F123<>\"Sold Common\", F123<>\"Expended Common\"), \"NOT VAILD\", \"-\")","v":"-"},null,null,{"$f":"IF(OR(F123=\"Sold\",F123=\"Sold Common\"),K123,\"-\")","v":"-"},0]
[null,"Insert Date",null,null,null,"Choose One",{"$f":"IF(AND(D124>H$121,F124<>\"Bought Common\",F124<>\"Sold Common\", F124<>\"Expended Common\"), \"NOT VAILD\", \"-\")","v":"-"},null,null,{"$f":"IF(OR(F124=\"Sold\",F124=\"Sold Common\"),K124,\"-\")","v":"-"},0]
[null,"Insert Date",null,null,null,"Choose One",{"$f":"IF(AND(D125>H$121,F125<>\"Bought Common\",F125<>\"Sold Common\", F125<>\"Expended Common\"), \"NOT VAILD\", \"-\")","v":"-"},null,null,{"$f":"IF(OR(F125=\"Sold\",F125=\"Sold Common\"),K125,\"-\")","v":"-"},0]
[null,"Insert Date",null,null,null,"Choose One",{"$f":"IF(AND(D126>H$121,F126<>\"Bought Common\",F126<>\"Sold Common\", F126<>\"Expended Common\"), \"NOT VAILD\", \"-\")","v":"-"},null,null,{"$f":"IF(OR(F126=\"Sold\",F126=\"Sold Common\"),K126,\"-\")","v":"-"},0]
[null,2,null,null,null,null,"Max Item:",{"$f":"LOOKUP(I127,Tables!B$4:B$103,Tables!C$4:C$103)","v":0},{"$f":"SUM('Gold Earned '!D$52:D54)","v":0},null,0]
[null,"Insert Date",null,null,null,"Choose One",{"$f":"IF(AND(D128>H$127,F128<>\"Bought Common\",F128<>\"Sold Common\", F128<>\"Expended Common\"), \"NOT VAILD\", \"-\")","v":"-"},null,null,{"$f":"IF(OR(F128=\"Sold\",F128=\"Sold Common\"),K128,\"-\")","v":"-"},0]
[null,"Insert Date",null,null,null,"Choose One",{"$f":"IF(AND(D129>H$127,F129<>\"Bought Common\",F129<>\"Sold Common\", F129<>\"Expended Common\"), \"NOT VAILD\", \"-\")","v":"-"},null,null,{"$f":"IF(OR(F129=\"Sold\",F129=\"Sold Common\"),K129,\"-\")","v":"-"},0]
[null,"Insert Date",null,null,null,"Choose One",{"$f":"IF(AND(D130>H$127,F130<>\"Bought Common\",F130<>\"Sold Common\", F130<>\"Expended Common\"), \"NOT VAILD\", \"-\")","v":"-"},null,null,{"$f":"IF(OR(F130=\"Sold\",F130=\"Sold Common\"),K130,\"-\")","v":"-"},0]
[null,"Insert Date",null,null,null,"Choose One",{"$f":"IF(AND(D131>H$127,F131<>\"Bought Common\",F131<>\"Sold Common\", F131<>\"Expended Common\"), \"NOT VAILD\", \"-\")","v":"-"},null,null,{"$f":"IF(OR(F131=\"Sold\",F131=\"Sold Common\"),K131,\"-\")","v":"-"},0]
[null,"Insert Date",null,null,null,"Choose One",{"$f":"IF(AND(D132>H$127,F132<>\"Bought Common\",F132<>\"Sold Common\", F132<>\"Expended Common\"), \"NOT VAILD\", \"-\")","v":"-"},null,null,{"$f":"IF(OR(F132=\"Sold\",F132=\"Sold Common\"),K132,\"-\")","v":"-"},0]
[null,3,null,null,null,null,"Max Item:",{"$f":"LOOKUP(I133,Tables!B$4:B$103,Tables!C$4:C$103)","v":0},{"$f":"SUM('Gold Earned '!D$52:D55)","v":0},null,0]
[null,"Insert Date",null,null,null,"Choose One",{"$f":"IF(AND(D134>H$133,F134<>\"Bought Common\",F134<>\"Sold Common\", F134<>\"Expended Common\"), \"NOT VAILD\", \"-\")","v":"-"},null,null,{"$f":"IF(OR(F134=\"Sold\",F134=\"Sold Common\"),K134,\"-\")","v":"-"},0]
[null,"Insert Date",null,null,null,"Choose One",{"$f":"IF(AND(D135>H$133,F135<>\"Bought Common\",F135<>\"Sold Common\", F135<>\"Expended Common\"), \"NOT VAILD\", \"-\")","v":"-"},null,null,{"$f":"IF(OR(F135=\"Sold\",F135=\"Sold Common\"),K135,\"-\")","v":"-"},0]
[null,"Insert Date",null,null,null,"Choose One",{"$f":"IF(AND(D136>H$133,F136<>\"Bought Common\",F136<>\"Sold Common\", F136<>\"Expended Common\"), \"NOT VAILD\", \"-\")","v":"-"},null,null,{"$f":"IF(OR(F136=\"Sold\",F136=\"Sold Common\"),K136,\"-\")","v":"-"},0]
[null,"Insert Date",null,null,null,"Choose One",{"$f":"IF(AND(D137>H$133,F137<>\"Bought Common\",F137<>\"Sold Common\", F137<>\"Expended Common\"), \"NOT VAILD\", \"-\")","v":"-"},null,null,{"$f":"IF(OR(F137=\"Sold\",F137=\"Sold Common\"),K137,\"-\")","v":"-"},0]
[null,"Insert Date",null,null,null,"Choose One",{"$f":"IF(AND(D138>H$133,F138<>\"Bought Common\",F138<>\"Sold Common\", F138<>\"Expended Common\"), \"NOT VAILD\", \"-\")","v":"-"},null,null,{"$f":"IF(OR(F138=\"Sold\",F138=\"Sold Common\"),K138,\"-\")","v":"-"},0]
[null,4,null,null,null,null,"Max Item:",{"$f":"LOOKUP(I139,Tables!B$4:B$103,Tables!C$4:C$103)","v":0},{"$f":"SUM('Gold Earned '!D$52:D56)","v":0},null,0]
[null,"Insert Date",null,null,null,"Choose One",{"$f":"IF(AND(D140>H$16,F140<>\"Bought Common\",F140<>\"Sold Common\", F140<>\"Expended Common\"), \"NOT VAILD\", \"-\")","v":"-"},null,null,{"$f":"IF(OR(F140=\"Sold\",F140=\"Sold Common\"),K140,\"-\")","v":"-"},0]
[null,"Insert Date",null,null,null,"Choose One",{"$f":"IF(AND(D141>H$16,F141<>\"Bought Common\",F141<>\"Sold Common\", F141<>\"Expended Common\"), \"NOT VAILD\", \"-\")","v":"-"},null,null,{"$f":"IF(OR(F141=\"Sold\",F141=\"Sold Common\"),K141,\"-\")","v":"-"},0]
[null,"Insert Date",null,null,null,"Choose One",{"$f":"IF(AND(D142>H$16,F142<>\"Bought Common\",F142<>\"Sold Common\", F142<>\"Expended Common\"), \"NOT VAILD\", \"-\")","v":"-"},null,null,{"$f":"IF(OR(F142=\"Sold\",F142=\"Sold Common\"),K142,\"-\")","v":"-"},0]
[null,"Insert Date",null,null,null,"Choose One",{"$f":"IF(AND(D143>H$16,F143<>\"Bought Common\",F143<>\"Sold Common\", F143<>\"Expended Common\"), \"NOT VAILD\", \"-\")","v":"-"},null,null,{"$f":"IF(OR(F143=\"Sold\",F143=\"Sold Common\"),K143,\"-\")","v":"-"},0]
[null,"Insert Date",null,null,null,"Choose One",{"$f":"IF(AND(D144>H$16,F144<>\"Bought Common\",F144<>\"Sold Common\", F144<>\"Expended Common\"), \"NOT VAILD\", \"-\")","v":"-"},null,null,{"$f":"IF(OR(F144=\"Sold\",F144=\"Sold Common\"),K144,\"-\")","v":"-"},0]
[null,5,null,null,null,null,"Max Item:",{"$f":"LOOKUP(I145,Tables!B$4:B$103,Tables!C$4:C$103)","v":0},{"$f":"SUM('Gold Earned '!D$52:D57)","v":0},null,0]
[null,"Insert Date",null,null,null,"Choose One",{"$f":"IF(AND(D146>H$16,F146<>\"Bought Common\",F146<>\"Sold Common\", F146<>\"Expended Common\"), \"NOT VAILD\", \"-\")","v":"-"},null,null,{"$f":"IF(OR(F146=\"Sold\",F146=\"Sold Common\"),K146,\"-\")","v":"-"},0]
[null,"Insert Date",null,null,null,"Choose One",{"$f":"IF(AND(D147>H$16,F147<>\"Bought Common\",F147<>\"Sold Common\", F147<>\"Expended Common\"), \"NOT VAILD\", \"-\")","v":"-"},null,null,{"$f":"IF(OR(F147=\"Sold\",F147=\"Sold Common\"),K147,\"-\")","v":"-"},0]
[null,"Insert Date",null,null,null,"Choose One",{"$f":"IF(AND(D148>H$16,F148<>\"Bought Common\",F148<>\"Sold Common\", F148<>\"Expended Common\"), \"NOT VAILD\", \"-\")","v":"-"},null,null,{"$f":"IF(OR(F148=\"Sold\",F148=\"Sold Common\"),K148,\"-\")","v":"-"},0]
[null,"Insert Date",null,null,null,"Choose One",{"$f":"IF(AND(D149>H$16,F149<>\"Bought Common\",F149<>\"Sold Common\", F149<>\"Expended Common\"), \"NOT VAILD\", \"-\")","v":"-"},null,null,{"$f":"IF(OR(F149=\"Sold\",F149=\"Sold Common\"),K149,\"-\")","v":"-"},0]
[null,"Insert Date",null,null,null,"Choose One",{"$f":"IF(AND(D150>H$16,F150<>\"Bought Common\",F150<>\"Sold Common\", F150<>\"Expended Common\"), \"NOT VAILD\", \"-\")","v":"-"},null,null,{"$f":"IF(OR(F150=\"Sold\",F150=\"Sold Common\"),K150,\"-\")","v":"-"},0]
[null,6,null,null,null,null,"Max Item:",{"$f":"LOOKUP(I151,Tables!B$4:B$103,Tables!C$4:C$103)","v":0},{"$f":"SUM('Gold Earned '!D$52:D58)","v":0},null,0]
[null,"Insert Date",null,null,null,"Choose One",{"$f":"IF(AND(D152>H$16,F152<>\"Bought Common\",F152<>\"Sold Common\", F152<>\"Expended Common\"), \"NOT VAILD\", \"-\")","v":"-"},null,null,{"$f":"IF(OR(F152=\"Sold\",F152=\"Sold Common\"),K152,\"-\")","v":"-"},0]
[null,"Insert Date",null,null,null,"Choose One",{"$f":"IF(AND(D153>H$16,F153<>\"Bought Common\",F153<>\"Sold Common\", F153<>\"Expended Common\"), \"NOT VAILD\", \"-\")","v":"-"},null,null,{"$f":"IF(OR(F153=\"Sold\",F153=\"Sold Common\"),K153,\"-\")","v":"-"},0]
[null,"Insert Date",null,null,null,"Choose One",{"$f":"IF(AND(D154>H$16,F154<>\"Bought Common\",F154<>\"Sold Common\", F154<>\"Expended Common\"), \"NOT VAILD\", \"-\")","v":"-"},null,null,{"$f":"IF(OR(F154=\"Sold\",F154=\"Sold Common\"),K154,\"-\")","v":"-"},0]
[null,"Insert Date",null,null,null,"Choose One",{"$f":"IF(AND(D155>H$16,F155<>\"Bought Common\",F155<>\"Sold Common\", F155<>\"Expended Common\"), \"NOT VAILD\", \"-\")","v":"-"},null,null,{"$f":"IF(OR(F155=\"Sold\",F155=\"Sold Common\"),K155,\"-\")","v":"-"},0]
[null,"Insert Date",null,null,null,"Choose One",{"$f":"IF(AND(D156>H$16,F156<>\"Bought Common\",F156<>\"Sold Common\", F156<>\"Expended Common\"), \"NOT VAILD\", \"-\")","v":"-"},null,null,{"$f":"IF(OR(F156=\"Sold\",F156=\"Sold Common\"),K156,\"-\")","v":"-"},0]
[]
[null,"Level 5"]
[null,"Adventure","Description","Gold","PP","Status",null,null,null,"Sell Back"]
[null,1,null,null,null,null,"Max Item:",{"$f":"LOOKUP(I160,Tables!B$4:B$103,Tables!C$4:C$103)","v":0},{"$f":"SUM('Gold Earned '!D$68:D69)","v":0},null,{"$f":"D160/2","v":0}]
[null,"Insert Date",null,null,null,"Choose One",{"$f":"IF(AND(D161>H$160,F161<>\"Bought Common\",F161<>\"Sold Common\", F161<>\"Expended Common\"), \"NOT VAILD\", \"-\")","v":"-"},null,null,{"$f":"IF(OR(F161=\"Sold\",F161=\"Sold Common\"),K161,\"-\")","v":"-"},0]
[null,"Insert Date",null,null,null,"Choose One",{"$f":"IF(AND(D162>H$160,F162<>\"Bought Common\",F162<>\"Sold Common\", F162<>\"Expended Common\"), \"NOT VAILD\", \"-\")","v":"-"},null,null,{"$f":"IF(OR(F162=\"Sold\",F162=\"Sold Common\"),K162,\"-\")","v":"-"},0]
[null,"Insert Date",null,null,null,"Choose One",{"$f":"IF(AND(D163>H$160,F163<>\"Bought Common\",F163<>\"Sold Common\", F163<>\"Expended Common\"), \"NOT VAILD\", \"-\")","v":"-"},null,null,{"$f":"IF(OR(F163=\"Sold\",F163=\"Sold Common\"),K163,\"-\")","v":"-"},0]
[null,"Insert Date",null,null,null,"Choose One",{"$f":"IF(AND(D164>H$160,F164<>\"Bought Common\",F164<>\"Sold Common\", F164<>\"Expended Common\"), \"NOT VAILD\", \"-\")","v":"-"},null,null,{"$f":"IF(OR(F164=\"Sold\",F164=\"Sold Common\"),K164,\"-\")","v":"-"},0]
[null,"Insert Date",null,null,null,"Choose One",{"$f":"IF(AND(D165>H$160,F165<>\"Bought Common\",F165<>\"Sold Common\", F165<>\"Expended Common\"), \"NOT VAILD\", \"-\")","v":"-"},null,null,{"$f":"IF(OR(F165=\"Sold\",F165=\"Sold Common\"),K165,\"-\")","v":"-"},0]
[null,2,null,null,null,null,"Max Item:",{"$f":"LOOKUP(I166,Tables!B$4:B$103,Tables!C$4:C$103)","v":0},{"$f":"SUM('Gold Earned '!D$68:D70)","v":0},null,0]
[null,"Insert Date",null,null,null,"Choose One",{"$f":"IF(AND(D167>H$166,F167<>\"Bought Common\",F167<>\"Sold Common\", F167<>\"Expended Common\"), \"NOT VAILD\", \"-\")","v":"-"},null,null,{"$f":"IF(OR(F167=\"Sold\",F167=\"Sold Common\"),K167,\"-\")","v":"-"},0]
[null,"Insert Date",null,null,null,"Choose One",{"$f":"IF(AND(D168>H$166,F168<>\"Bought Common\",F168<>\"Sold Common\", F168<>\"Expended Common\"), \"NOT VAILD\", \"-\")","v":"-"},null,null,{"$f":"IF(OR(F168=\"Sold\",F168=\"Sold Common\"),K168,\"-\")","v":"-"},0]
[null,"Insert Date",null,null,null,"Choose One",{"$f":"IF(AND(D169>H$166,F169<>\"Bought Common\",F169<>\"Sold Common\", F169<>\"Expended Common\"), \"NOT VAILD\", \"-\")","v":"-"},null,null,{"$f":"IF(OR(F169=\"Sold\",F169=\"Sold Common\"),K169,\"-\")","v":"-"},0]
[null,"Insert Date",null,null,null,"Choose One",{"$f":"IF(AND(D170>H$166,F170<>\"Bought Common\",F170<>\"Sold Common\", F170<>\"Expended Common\"), \"NOT VAILD\", \"-\")","v":"-"},null,null,{"$f":"IF(OR(F170=\"Sold\",F170=\"Sold Common\"),K170,\"-\")","v":"-"},0]
[null,"Insert Date",null,null,null,"Choose One",{"$f":"IF(AND(D171>H$166,F171<>\"Bought Common\",F171<>\"Sold Common\", F171<>\"Expended Common\"), \"NOT VAILD\", \"-\")","v":"-"},null,null,{"$f":"IF(OR(F171=\"Sold\",F171=\"Sold Common\"),K171,\"-\")","v":"-"},0]
[null,3,null,null,null,null,"Max Item:",{"$f":"LOOKUP(I172,Tables!B$4:B$103,Tables!C$4:C$103)","v":0},{"$f":"SUM('Gold Earned '!D$68:D71)","v":0},null,0]
[null,"Insert Date",null,null,null,"Choose One",{"$f":"IF(AND(D173>H$172,F173<>\"Bought Common\",F173<>\"Sold Common\", F173<>\"Expended Common\"), \"NOT VAILD\", \"-\")","v":"-"},null,null,{"$f":"IF(OR(F173=\"Sold\",F173=\"Sold Common\"),K173,\"-\")","v":"-"},0]
[null,"Insert Date",null,null,null,"Choose One",{"$f":"IF(AND(D174>H$172,F174<>\"Bought Common\",F174<>\"Sold Common\", F174<>\"Expended Common\"), \"NOT VAILD\", \"-\")","v":"-"},null,null,{"$f":"IF(OR(F174=\"Sold\",F174=\"Sold Common\"),K174,\"-\")","v":"-"},0]
[null,"Insert Date",null,null,null,"Choose One",{"$f":"IF(AND(D175>H$172,F175<>\"Bought Common\",F175<>\"Sold Common\", F175<>\"Expended Common\"), \"NOT VAILD\", \"-\")","v":"-"},null,null,{"$f":"IF(OR(F175=\"Sold\",F175=\"Sold Common\"),K175,\"-\")","v":"-"},0]
[null,"Insert Date",null,null,null,"Choose One",{"$f":"IF(AND(D176>H$172,F176<>\"Bought Common\",F176<>\"Sold Common\", F176<>\"Expended Common\"), \"NOT VAILD\", \"-\")","v":"-"},null,null,{"$f":"IF(OR(F176=\"Sold\",F176=\"Sold Common\"),K176,\"-\")","v":"-"},0]
[null,"Insert Date",null,null,null,"Choose One",{"$f":"IF(AND(D177>H$172,F177<>\"Bought Common\",F177<>\"Sold Common\", F177<>\"Expended Common\"), \"NOT VAILD\", \"-\")","v":"-"},null,null,{"$f":"IF(OR(F177=\"Sold\",F177=\"Sold Common\"),K177,\"-\")","v":"-"},0]
[null,4,null,null,null,null,"Max Item:",{"$f":"LOOKUP(I178,Tables!B$4:B$103,Tables!C$4:C$103)","v":0},{"$f":"SUM('Gold Earned '!D$68:D72)","v":0},null,0]
[null,"Insert Date",null,null,null,"Choose One",{"$f":"IF(AND(D179>H$16,F179<>\"Bought Common\",F179<>\"Sold Common\", F179<>\"Expended Common\"), \"NOT VAILD\", \"-\")","v":"-"},null,null,{"$f":"IF(OR(F179=\"Sold\",F179=\"Sold Common\"),K179,\"-\")","v":"-"},0]
[null,"Insert Date",null,null,null,"Choose One",{"$f":"IF(AND(D180>H$16,F180<>\"Bought Common\",F180<>\"Sold Common\", F180<>\"Expended Common\"), \"NOT VAILD\", \"-\")","v":"-"},null,null,{"$f":"IF(OR(F180=\"Sold\",F180=\"Sold Common\"),K180,\"-\")","v":"-"},0]
[null,"Insert Date",null,null,null,"Choose One",{"$f":"IF(AND(D181>H$16,F181<>\"Bought Common\",F181<>\"Sold Common\", F181<>\"Expended Common\"), \"NOT VAILD\", \"-\")","v":"-"},null,null,{"$f":"IF(OR(F181=\"Sold\",F181=\"Sold Common\"),K181,\"-\")","v":"-"},0]
[null,"Insert Date",null,null,null,"Choose One",{"$f":"IF(AND(D182>H$16,F182<>\"Bought Common\",F182<>\"Sold Common\", F182<>\"Expended Common\"), \"NOT VAILD\", \"-\")","v":"-"},null,null,{"$f":"IF(OR(F182=\"Sold\",F182=\"Sold Common\"),K182,\"-\")","v":"-"},0]
[null,"Insert Date",null,null,null,"Choose One",{"$f":"IF(AND(D183>H$16,F183<>\"Bought Common\",F183<>\"Sold Common\", F183<>\"Expended Common\"), \"NOT VAILD\", \"-\")","v":"-"},null,null,{"$f":"IF(OR(F183=\"Sold\",F183=\"Sold Common\"),K183,\"-\")","v":"-"},0]
[null,5,null,null,null,null,"Max Item:",{"$f":"LOOKUP(I184,Tables!B$4:B$103,Tables!C$4:C$103)","v":0},{"$f":"SUM('Gold Earned '!D$68:D73)","v":0},null,0]
[null,"Insert Date",null,null,null,"Choose One",{"$f":"IF(AND(D185>H$16,F185<>\"Bought Common\",F185<>\"Sold Common\", F185<>\"Expended Common\"), \"NOT VAILD\", \"-\")","v":"-"},null,null,{"$f":"IF(OR(F185=\"Sold\",F185=\"Sold Common\"),K185,\"-\")","v":"-"},0]
[null,"Insert Date",null,null,null,"Choose One",{"$f":"IF(AND(D186>H$16,F186<>\"Bought Common\",F186<>\"Sold Common\", F186<>\"Expended Common\"), \"NOT VAILD\", \"-\")","v":"-"},null,null,{"$f":"IF(OR(F186=\"Sold\",F186=\"Sold Common\"),K186,\"-\")","v":"-"},0]
[null,"Insert Date",null,null,null,"Choose One",{"$f":"IF(AND(D187>H$16,F187<>\"Bought Common\",F187<>\"Sold Common\", F187<>\"Expended Common\"), \"NOT VAILD\", \"-\")","v":"-"},null,null,{"$f":"IF(OR(F187=\"Sold\",F187=\"Sold Common\"),K187,\"-\")","v":"-"},0]
[null,"Insert Date",null,null,null,"Choose One",{"$f":"IF(AND(D188>H$16,F188<>\"Bought Common\",F188<>\"Sold Common\", F188<>\"Expended Common\"), \"NOT VAILD\", \"-\")","v":"-"},null,null,{"$f":"IF(OR(F188=\"Sold\",F188=\"Sold Common\"),K188,\"-\")","v":"-"},0]
[null,"Insert Date",null,null,null,"Choose One",{"$f":"IF(AND(D189>H$16,F189<>\"Bought Common\",F189<>\"Sold Common\", F189<>\"Expended Common\"), \"NOT VAILD\", \"-\")","v":"-"},null,null,{"$f":"IF(OR(F189=\"Sold\",F189=\"Sold Common\"),K189,\"-\")","v":"-"},0]
[null,6,null,null,null,null,"Max Item:",{"$f":"LOOKUP(I190,Tables!B$4:B$103,Tables!C$4:C$103)","v":0},{"$f":"SUM('Gold Earned '!D$68:D74)","v":0},null,0]
[null,"Insert Date",null,null,null,"Choose One",{"$f":"IF(AND(D191>H$16,F191<>\"Bought Common\",F191<>\"Sold Common\", F191<>\"Expended Common\"), \"NOT VAILD\", \"-\")","v":"-"},null,null,{"$f":"IF(OR(F191=\"Sold\",F191=\"Sold Common\"),K191,\"-\")","v":"-"},0]
[null,"Insert Date",null,null,null,"Choose One",{"$f":"IF(AND(D192>H$16,F192<>\"Bought Common\",F192<>\"Sold Common\", F192<>\"Expended Common\"), \"NOT VAILD\", \"-\")","v":"-"},null,null,{"$f":"IF(OR(F192=\"Sold\",F192=\"Sold Common\"),K192,\"-\")","v":"-"},0]
[null,"Insert Date",null,null,null,"Choose One",{"$f":"IF(AND(D193>H$16,F193<>\"Bought Common\",F193<>\"Sold Common\", F193<>\"Expended Common\"), \"NOT VAILD\", \"-\")","v":"-"},null,null,{"$f":"IF(OR(F193=\"Sold\",F193=\"Sold Common\"),K193,\"-\")","v":"-"},0]
[null,"Insert Date",null,null,null,"Choose One",{"$f":"IF(AND(D194>H$16,F194<>\"Bought Common\",F194<>\"Sold Common\", F194<>\"Expended Common\"), \"NOT VAILD\", \"-\")","v":"-"},null,null,{"$f":"IF(OR(F194=\"Sold\",F194=\"Sold Common\"),K194,\"-\")","v":"-"},0]
[null,"Insert Date",null,null,null,"Choose One",{"$f":"IF(AND(D195>H$16,F195<>\"Bought Common\",F195<>\"Sold Common\", F195<>\"Expended Common\"), \"NOT VAILD\", \"-\")","v":"-"},null,null,{"$f":"IF(OR(F195=\"Sold\",F195=\"Sold Common\"),K195,\"-\")","v":"-"},0]
[]
[null,"Level 6"]
[null,"Adventure","Description","Gold","PP","Status",null,null,null,"Sell Back"]
[null,1,null,null,null,null,"Max Item:",{"$f":"LOOKUP(I199,Tables!B$4:B$103,Tables!C$4:C$103)","v":0},{"$f":"SUM('Gold Earned '!D$84:D85)","v":0},null,{"$f":"D199/2","v":0}]
[null,"Insert Date",null,null,null,"Choose One",{"$f":"IF(AND(D200>H$199,F200<>\"Bought Common\",F200<>\"Sold Common\", F200<>\"Expended Common\"), \"NOT VAILD\", \"-\")","v":"-"},null,null,{"$f":"IF(OR(F200=\"Sold\",F200=\"Sold Common\"),K200,\"-\")","v":"-"},0]
[null,"Insert Date",null,null,null,"Choose One",{"$f":"IF(AND(D201>H$199,F201<>\"Bought Common\",F201<>\"Sold Common\", F201<>\"Expended Common\"), \"NOT VAILD\", \"-\")","v":"-"},null,null,{"$f":"IF(OR(F201=\"Sold\",F201=\"Sold Common\"),K201,\"-\")","v":"-"},0]
[null,"Insert Date",null,null,null,"Choose One",{"$f":"IF(AND(D202>H$199,F202<>\"Bought Common\",F202<>\"Sold Common\", F202<>\"Expended Common\"), \"NOT VAILD\", \"-\")","v":"-"},null,null,{"$f":"IF(OR(F202=\"Sold\",F202=\"Sold Common\"),K202,\"-\")","v":"-"},0]
[null,"Insert Date",null,null,null,"Choose One",{"$f":"IF(AND(D203>H$199,F203<>\"Bought Common\",F203<>\"Sold Common\", F203<>\"Expended Common\"), \"NOT VAILD\", \"-\")","v":"-"},null,null,{"$f":"IF(OR(F203=\"Sold\",F203=\"Sold Common\"),K203,\"-\")","v":"-"},0]
[null,"Insert Date",null,null,null,"Choose One",{"$f":"IF(AND(D204>H$199,F204<>\"Bought Common\",F204<>\"Sold Common\", F204<>\"Expended Common\"), \"NOT VAILD\", \"-\")","v":"-"},null,null,{"$f":"IF(OR(F204=\"Sold\",F204=\"Sold Common\"),K204,\"-\")","v":"-"},0]
[null,2,null,null,null,null,"Max Item:",{"$f":"LOOKUP(I205,Tables!B$4:B$103,Tables!C$4:C$103)","v":0},{"$f":"SUM('Gold Earned '!D$84:D86)","v":0},null,0]
[null,"Insert Date",null,null,null,"Choose One",{"$f":"IF(AND(D206>H$205,F206<>\"Bought Common\",F206<>\"Sold Common\", F206<>\"Expended Common\"), \"NOT VAILD\", \"-\")","v":"-"},null,null,{"$f":"IF(OR(F206=\"Sold\",F206=\"Sold Common\"),K206,\"-\")","v":"-"},0]
[null,"Insert Date",null,null,null,"Choose One",{"$f":"IF(AND(D207>H$205,F207<>\"Bought Common\",F207<>\"Sold Common\", F207<>\"Expended Common\"), \"NOT VAILD\", \"-\")","v":"-"},null,null,{"$f":"IF(OR(F207=\"Sold\",F207=\"Sold Common\"),K207,\"-\")","v":"-"},0]
[null,"Insert Date",null,null,null,"Choose One",{"$f":"IF(AND(D208>H$205,F208<>\"Bought Common\",F208<>\"Sold Common\", F208<>\"Expended Common\"), \"NOT VAILD\", \"-\")","v":"-"},null,null,{"$f":"IF(OR(F208=\"Sold\",F208=\"Sold Common\"),K208,\"-\")","v":"-"},0]
[null,"Insert Date",null,null,null,"Choose One",{"$f":"IF(AND(D209>H$205,F209<>\"Bought Common\",F209<>\"Sold Common\", F209<>\"Expended Common\"), \"NOT VAILD\", \"-\")","v":"-"},null,null,{"$f":"IF(OR(F209=\"Sold\",F209=\"Sold Common\"),K209,\"-\")","v":"-"},0]
[null,"Insert Date",null,null,null,"Choose One",{"$f":"IF(AND(D210>H$205,F210<>\"Bought Common\",F210<>\"Sold Common\", F210<>\"Expended Common\"), \"NOT VAILD\", \"-\")","v":"-"},null,null,{"$f":"IF(OR(F210=\"Sold\",F210=\"Sold Common\"),K210,\"-\")","v":"-"},0]
[null,3,null,null,null,null,"Max Item:",{"$f":"LOOKUP(I211,Tables!B$4:B$103,Tables!C$4:C$103)","v":0},{"$f":"SUM('Gold Earned '!D$84:D87)","v":0},null,0]
[null,"Insert Date",null,null,null,"Choose One",{"$f":"IF(AND(D212>H$211,F212<>\"Bought Common\",F212<>\"Sold Common\", F212<>\"Expended Common\"), \"NOT VAILD\", \"-\")","v":"-"},null,null,{"$f":"IF(OR(F212=\"Sold\",F212=\"Sold Common\"),K212,\"-\")","v":"-"},0]
[null,"Insert Date",null,null,null,"Choose One",{"$f":"IF(AND(D213>H$211,F213<>\"Bought Common\",F213<>\"Sold Common\", F213<>\"Expended Common\"), \"NOT VAILD\", \"-\")","v":"-"},null,null,{"$f":"IF(OR(F213=\"Sold\",F213=\"Sold Common\"),K213,\"-\")","v":"-"},0]
[null,"Insert Date",null,null,null,"Choose One",{"$f":"IF(AND(D214>H$211,F214<>\"Bought Common\",F214<>\"Sold Common\", F214<>\"Expended Common\"), \"NOT VAILD\", \"-\")","v":"-"},null,null,{"$f":"IF(OR(F214=\"Sold\",F214=\"Sold Common\"),K214,\"-\")","v":"-"},0]
[null,"Insert Date",null,null,null,"Choose One",{"$f":"IF(AND(D215>H$211,F215<>\"Bought Common\",F215<>\"Sold Common\", F215<>\"Expended Common\"), \"NOT VAILD\", \"-\")","v":"-"},null,null,{"$f":"IF(OR(F215=\"Sold\",F215=\"Sold Common\"),K215,\"-\")","v":"-"},0]
[null,"Insert Date",null,null,null,"Choose One",{"$f":"IF(AND(D216>H$211,F216<>\"Bought Common\",F216<>\"Sold Common\", F216<>\"Expended Common\"), \"NOT VAILD\", \"-\")","v":"-"},null,null,{"$f":"IF(OR(F216=\"Sold\",F216=\"Sold Common\"),K216,\"-\")","v":"-"},0]
[null,4,null,null,null,null,"Max Item:",{"$f":"LOOKUP(I217,Tables!B$4:B$103,Tables!C$4:C$103)","v":0},{"$f":"SUM('Gold Earned '!D$84:D88)","v":0},null,0]
[null,"Insert Date",null,null,null,"Choose One",{"$f":"IF(AND(D218>H$16,F218<>\"Bought Common\",F218<>\"Sold Common\", F218<>\"Expended Common\"), \"NOT VAILD\", \"-\")","v":"-"},null,null,{"$f":"IF(OR(F218=\"Sold\",F218=\"Sold Common\"),K218,\"-\")","v":"-"},0]
[null,"Insert Date",null,null,null,"Choose One",{"$f":"IF(AND(D219>H$16,F219<>\"Bought Common\",F219<>\"Sold Common\", F219<>\"Expended Common\"), \"NOT VAILD\", \"-\")","v":"-"},null,null,{"$f":"IF(OR(F219=\"Sold\",F219=\"Sold Common\"),K219,\"-\")","v":"-"},0]
[null,"Insert Date",null,null,null,"Choose One",{"$f":"IF(AND(D220>H$16,F220<>\"Bought Common\",F220<>\"Sold Common\", F220<>\"Expended Common\"), \"NOT VAILD\", \"-\")","v":"-"},null,null,{"$f":"IF(OR(F220=\"Sold\",F220=\"Sold Common\"),K220,\"-\")","v":"-"},0]
[null,"Insert Date",null,null,null,"Choose One",{"$f":"IF(AND(D221>H$16,F221<>\"Bought Common\",F221<>\"Sold Common\", F221<>\"Expended Common\"), \"NOT VAILD\", \"-\")","v":"-"},null,null,{"$f":"IF(OR(F221=\"Sold\",F221=\"Sold Common\"),K221,\"-\")","v":"-"},0]
[null,"Insert Date",null,null,null,"Choose One",{"$f":"IF(AND(D222>H$16,F222<>\"Bought Common\",F222<>\"Sold Common\", F222<>\"Expended Common\"), \"NOT VAILD\", \"-\")","v":"-"},null,null,{"$f":"IF(OR(F222=\"Sold\",F222=\"Sold Common\"),K222,\"-\")","v":"-"},0]
[null,5,null,null,null,null,"Max Item:",{"$f":"LOOKUP(I223,Tables!B$4:B$103,Tables!C$4:C$103)","v":0},{"$f":"SUM('Gold Earned '!D$84:D89)","v":0},null,0]
[null,"Insert Date",null,null,null,"Choose One",{"$f":"IF(AND(D224>H$16,F224<>\"Bought Common\",F224<>\"Sold Common\", F224<>\"Expended Common\"), \"NOT VAILD\", \"-\")","v":"-"},null,null,{"$f":"IF(OR(F224=\"Sold\",F224=\"Sold Common\"),K224,\"-\")","v":"-"},0]
[null,"Insert Date",null,null,null,"Choose One",{"$f":"IF(AND(D225>H$16,F225<>\"Bought Common\",F225<>\"Sold Common\", F225<>\"Expended Common\"), \"NOT VAILD\", \"-\")","v":"-"},null,null,{"$f":"IF(OR(F225=\"Sold\",F225=\"Sold Common\"),K225,\"-\")","v":"-"},0]
[null,"Insert Date",null,null,null,"Choose One",{"$f":"IF(AND(D226>H$16,F226<>\"Bought Common\",F226<>\"Sold Common\", F226<>\"Expended Common\"), \"NOT VAILD\", \"-\")","v":"-"},null,null,{"$f":"IF(OR(F226=\"Sold\",F226=\"Sold Common\"),K226,\"-\")","v":"-"},0]
[null,"Insert Date",null,null,null,"Choose One",{"$f":"IF(AND(D227>H$16,F227<>\"Bought Common\",F227<>\"Sold Common\", F227<>\"Expended Common\"), \"NOT VAILD\", \"-\")","v":"-"},null,null,{"$f":"IF(OR(F227=\"Sold\",F227=\"Sold Common\"),K227,\"-\")","v":"-"},0]
[null,"Insert Date",null,null,null,"Choose One",{"$f":"IF(AND(D228>H$16,F228<>\"Bought Common\",F228<>\"Sold Common\", F228<>\"Expended Common\"), \"NOT VAILD\", \"-\")","v":"-"},null,null,{"$f":"IF(OR(F228=\"Sold\",F228=\"Sold Common\"),K228,\"-\")","v":"-"},0]
[null,6,null,null,null,null,"Max Item:",{"$f":"LOOKUP(I229,Tables!B$4:B$103,Tables!C$4:C$103)","v":0},{"$f":"SUM('Gold Earned '!D$84:D90)","v":0},null,0]
[null,"Insert Date",null,null,null,"Choose One",{"$f":"IF(AND(D230>H$16,F230<>\"Bought Common\",F230<>\"Sold Common\", F230<>\"Expended Common\"), \"NOT VAILD\", \"-\")","v":"-"},null,null,{"$f":"IF(OR(F230=\"Sold\",F230=\"Sold Common\"),K230,\"-\")","v":"-"},0]
[null,"Insert Date",null,null,null,"Choose One",{"$f":"IF(AND(D231>H$16,F231<>\"Bought Common\",F231<>\"Sold Common\", F231<>\"Expended Common\"), \"NOT VAILD\", \"-\")","v":"-"},null,null,{"$f":"IF(OR(F231=\"Sold\",F231=\"Sold Common\"),K231,\"-\")","v":"-"},0]
[null,"Insert Date",null,null,null,"Choose One",{"$f":"IF(AND(D232>H$16,F232<>\"Bought Common\",F232<>\"Sold Common\", F232<>\"Expended Common\"), \"NOT VAILD\", \"-\")","v":"-"},null,null,{"$f":"IF(OR(F232=\"Sold\",F232=\"Sold Common\"),K232,\"-\")","v":"-"},0]
[null,"Insert Date",null,null,null,"Choose One",{"$f":"IF(AND(D233>H$16,F233<>\"Bought Common\",F233<>\"Sold Common\", F233<>\"Expended Common\"), \"NOT VAILD\", \"-\")","v":"-"},null,null,{"$f":"IF(OR(F233=\"Sold\",F233=\"Sold Common\"),K233,\"-\")","v":"-"},0]
[null,"Insert Date",null,null,null,"Choose One",{"$f":"IF(AND(D234>H$16,F234<>\"Bought Common\",F234<>\"Sold Common\", F234<>\"Expended Common\"), \"NOT VAILD\", \"-\")","v":"-"},null,null,{"$f":"IF(OR(F234=\"Sold\",F234=\"Sold Common\"),K234,\"-\")","v":"-"},0]
[]
[null,"Level 7"]
[null,"Adventure","Description","Gold","PP","Status",null,null,null,"Sell Back"]
[null,1,null,null,null,null,"Max Item:",{"$f":"LOOKUP(I238,Tables!B$4:B$103,Tables!C$4:C$103)","v":0},{"$f":"SUM('Gold Earned '!D$100:D101)","v":0},null,{"$f":"D238/2","v":0}]
[null,"Insert Date",null,null,null,"Choose One",{"$f":"IF(AND(D239>H$55,F239<>\"Bought Common\",F239<>\"Sold Common\", F239<>\"Expended Common\"), \"NOT VAILD\", \"-\")","v":"-"},null,null,{"$f":"IF(OR(F239=\"Sold\",F239=\"Sold Common\"),K239,\"-\")","v":"-"},0]
[null,"Insert Date",null,null,null,"Choose One",{"$f":"IF(AND(D240>H$238,F240<>\"Bought Common\"), \"NOT VAILD\", \"-\")","v":"-"},null,null,{"$f":"IF(OR(F240=\"Sold\",F240=\"Sold Common\"),K240,\"-\")","v":"-"},0]
[null,"Insert Date",null,null,null,"Choose One",{"$f":"IF(AND(D241>H$238,F241<>\"Bought Common\"), \"NOT VAILD\", \"-\")","v":"-"},null,null,{"$f":"IF(OR(F241=\"Sold\",F241=\"Sold Common\"),K241,\"-\")","v":"-"},0]
[null,"Insert Date",null,null,null,"Choose One",{"$f":"IF(AND(D242>H$238,F242<>\"Bought Common\"), \"NOT VAILD\", \"-\")","v":"-"},null,null,{"$f":"IF(OR(F242=\"Sold\",F242=\"Sold Common\"),K242,\"-\")","v":"-"},0]
[null,"Insert Date",null,null,null,"Choose One",{"$f":"IF(AND(D243>H$238,F243<>\"Bought Common\"), \"NOT VAILD\", \"-\")","v":"-"},null,null,{"$f":"IF(OR(F243=\"Sold\",F243=\"Sold Common\"),K243,\"-\")","v":"-"},0]
[null,2,null,null,null,null,"Max Item:",{"$f":"LOOKUP(I244,Tables!B$4:B$103,Tables!C$4:C$103)","v":0},{"$f":"SUM('Gold Earned '!D$100:D102)","v":0},null,0]
[null,"Insert Date",null,null,null,"Choose One",{"$f":"IF(AND(D245>H$55,F245<>\"Bought Common\",F245<>\"Sold Common\", F245<>\"Expended Common\"), \"NOT VAILD\", \"-\")","v":"-"},null,null,{"$f":"IF(OR(F245=\"Sold\",F245=\"Sold Common\"),K245,\"-\")","v":"-"},0]
[null,"Insert Date",null,null,null,"Choose One",{"$f":"IF(AND(D246>H$244,F246<>\"Bought Common\"), \"NOT VAILD\", \"-\")","v":"-"},null,null,{"$f":"IF(OR(F246=\"Sold\",F246=\"Sold Common\"),K246,\"-\")","v":"-"},0]
[null,"Insert Date",null,null,null,"Choose One",{"$f":"IF(AND(D247>H$244,F247<>\"Bought Common\"), \"NOT VAILD\", \"-\")","v":"-"},null,null,{"$f":"IF(OR(F247=\"Sold\",F247=\"Sold Common\"),K247,\"-\")","v":"-"},0]
[null,"Insert Date",null,null,null,"Choose One",{"$f":"IF(AND(D248>H$244,F248<>\"Bought Common\"), \"NOT VAILD\", \"-\")","v":"-"},null,null,{"$f":"IF(OR(F248=\"Sold\",F248=\"Sold Common\"),K248,\"-\")","v":"-"},0]
[null,"Insert Date",null,null,null,"Choose One",{"$f":"IF(AND(D249>H$244,F249<>\"Bought Common\"), \"NOT VAILD\", \"-\")","v":"-"},null,null,{"$f":"IF(OR(F249=\"Sold\",F249=\"Sold Common\"),K249,\"-\")","v":"-"},0]
[null,3,null,null,null,null,"Max Item:",{"$f":"LOOKUP(I250,Tables!B$4:B$103,Tables!C$4:C$103)","v":0},{"$f":"SUM('Gold Earned '!D$100:D103)","v":0},null,0]
[null,"Insert Date",null,null,null,"Choose One",{"$f":"IF(AND(D251>H$55,F251<>\"Bought Common\",F251<>\"Sold Common\", F251<>\"Expended Common\"), \"NOT VAILD\", \"-\")","v":"-"},null,null,{"$f":"IF(OR(F251=\"Sold\",F251=\"Sold Common\"),K251,\"-\")","v":"-"},0]
[null,"Insert Date",null,null,null,"Choose One",{"$f":"IF(AND(D252>H$250,F252<>\"Bought Common\"), \"NOT VAILD\", \"-\")","v":"-"},null,null,{"$f":"IF(OR(F252=\"Sold\",F252=\"Sold Common\"),K252,\"-\")","v":"-"},0]
[null,"Insert Date",null,null,null,"Choose One",{"$f":"IF(AND(D253>H$250,F253<>\"Bought Common\"), \"NOT VAILD\", \"-\")","v":"-"},null,null,{"$f":"IF(OR(F253=\"Sold\",F253=\"Sold Common\"),K253,\"-\")","v":"-"},0]
[null,"Insert Date",null,null,null,"Choose One",{"$f":"IF(AND(D254>H$250,F254<>\"Bought Common\"), \"NOT VAILD\", \"-\")","v":"-"},null,null,{"$f":"IF(OR(F254=\"Sold\",F254=\"Sold Common\"),K254,\"-\")","v":"-"},0]
[null,"Insert Date",null,null,null,"Choose One",{"$f":"IF(AND(D255>H$250,F255<>\"Bought Common\"), \"NOT VAILD\", \"-\")","v":"-"},null,null,{"$f":"IF(OR(F255=\"Sold\",F255=\"Sold Common\"),K255,\"-\")","v":"-"},0]
[null,4,null,null,null,null,"Max Item:",{"$f":"LOOKUP(I256,Tables!B$4:B$103,Tables!C$4:C$103)","v":0},{"$f":"SUM('Gold Earned '!D$100:D104)","v":0},null,0]
[null,"Insert Date",null,null,null,"Choose One",{"$f":"IF(AND(D257>H$16,F257<>\"Bought Common\",F257<>\"Sold Common\", F257<>\"Expended Common\"), \"NOT VAILD\", \"-\")","v":"-"},null,null,{"$f":"IF(OR(F257=\"Sold\",F257=\"Sold Common\"),K257,\"-\")","v":"-"},0]
[null,"Insert Date",null,null,null,"Choose One",{"$f":"IF(AND(D258>H$16,F258<>\"Bought Common\",F258<>\"Sold Common\", F258<>\"Expended Common\"), \"NOT VAILD\", \"-\")","v":"-"},null,null,{"$f":"IF(OR(F258=\"Sold\",F258=\"Sold Common\"),K258,\"-\")","v":"-"},0]
[null,"Insert Date",null,null,null,"Choose One",{"$f":"IF(AND(D259>H$16,F259<>\"Bought Common\",F259<>\"Sold Common\", F259<>\"Expended Common\"), \"NOT VAILD\", \"-\")","v":"-"},null,null,{"$f":"IF(OR(F259=\"Sold\",F259=\"Sold Common\"),K259,\"-\")","v":"-"},0]
[null,"Insert Date",null,null,null,"Choose One",{"$f":"IF(AND(D260>H$16,F260<>\"Bought Common\",F260<>\"Sold Common\", F260<>\"Expended Common\"), \"NOT VAILD\", \"-\")","v":"-"},null,null,{"$f":"IF(OR(F260=\"Sold\",F260=\"Sold Common\"),K260,\"-\")","v":"-"},0]
[null,"Insert Date",null,null,null,"Choose One",{"$f":"IF(AND(D261>H$16,F261<>\"Bought Common\",F261<>\"Sold Common\", F261<>\"Expended Common\"), \"NOT VAILD\", \"-\")","v":"-"},null,null,{"$f":"IF(OR(F261=\"Sold\",F261=\"Sold Common\"),K261,\"-\")","v":"-"},0]
[null,5,null,null,null,null,"Max Item:",{"$f":"LOOKUP(I262,Tables!B$4:B$103,Tables!C$4:C$103)","v":0},{"$f":"SUM('Gold Earned '!D$100:D105)","v":0},null,0]
[null,"Insert Date",null,null,null,"Choose One",{"$f":"IF(AND(D263>H$16,F263<>\"Bought Common\",F263<>\"Sold Common\", F263<>\"Expended Common\"), \"NOT VAILD\", \"-\")","v":"-"},null,null,{"$f":"IF(OR(F263=\"Sold\",F263=\"Sold Common\"),K263,\"-\")","v":"-"},0]
[null,"Insert Date",null,null,null,"Choose One",{"$f":"IF(AND(D264>H$16,F264<>\"Bought Common\",F264<>\"Sold Common\", F264<>\"Expended Common\"), \"NOT VAILD\", \"-\")","v":"-"},null,null,{"$f":"IF(OR(F264=\"Sold\",F264=\"Sold Common\"),K264,\"-\")","v":"-"},0]
[null,"Insert Date",null,null,null,"Choose One",{"$f":"IF(AND(D265>H$16,F265<>\"Bought Common\",F265<>\"Sold Common\", F265<>\"Expended Common\"), \"NOT VAILD\", \"-\")","v":"-"},null,null,{"$f":"IF(OR(F265=\"Sold\",F265=\"Sold Common\"),K265,\"-\")","v":"-"},0]
[null,"Insert Date",null,null,null,"Choose One",{"$f":"IF(AND(D266>H$16,F266<>\"Bought Common\",F266<>\"Sold Common\", F266<>\"Expended Common\"), \"NOT VAILD\", \"-\")","v":"-"},null,null,{"$f":"IF(OR(F266=\"Sold\",F266=\"Sold Common\"),K266,\"-\")","v":"-"},0]
[null,"Insert Date",null,null,null,"Choose One",{"$f":"IF(AND(D267>H$16,F267<>\"Bought Common\",F267<>\"Sold Common\", F267<>\"Expended Common\"), \"NOT VAILD\", \"-\")","v":"-"},null,null,{"$f":"IF(OR(F267=\"Sold\",F267=\"Sold Common\"),K267,\"-\")","v":"-"},0]
[null,6,null,null,null,null,"Max Item:",{"$f":"LOOKUP(I268,Tables!B$4:B$103,Tables!C$4:C$103)","v":0},{"$f":"SUM('Gold Earned '!D$100:D106)","v":0},null,0]
[null,"Insert Date",null,null,null,"Choose One",{"$f":"IF(AND(D269>H$16,F269<>\"Bought Common\",F269<>\"Sold Common\", F269<>\"Expended Common\"), \"NOT VAILD\", \"-\")","v":"-"},null,null,{"$f":"IF(OR(F269=\"Sold\",F269=\"Sold Common\"),K269,\"-\")","v":"-"},0]
[null,"Insert Date",null,null,null,"Choose One",{"$f":"IF(AND(D270>H$16,F270<>\"Bought Common\",F270<>\"Sold Common\", F270<>\"Expended Common\"), \"NOT VAILD\", \"-\")","v":"-"},null,null,{"$f":"IF(OR(F270=\"Sold\",F270=\"Sold Common\"),K270,\"-\")","v":"-"},0]
[null,"Insert Date",null,null,null,"Choose One",{"$f":"IF(AND(D271>H$16,F271<>\"Bought Common\",F271<>\"Sold Common\", F271<>\"Expended Common\"), \"NOT VAILD\", \"-\")","v":"-"},null,null,{"$f":"IF(OR(F271=\"Sold\",F271=\"Sold Common\"),K271,\"-\")","v":"-"},0]
[null,"Insert Date",null,null,null,"Choose One",{"$f":"IF(AND(D272>H$16,F272<>\"Bought Common\",F272<>\"Sold Common\", F272<>\"Expended Common\"), \"NOT VAILD\", \"-\")","v":"-"},null,null,{"$f":"IF(OR(F272=\"Sold\",F272=\"Sold Common\"),K272,\"-\")","v":"-"},0]
[null,"Insert Date",null,null,null,"Choose One",{"$f":"IF(AND(D273>H$16,F273<>\"Bought Common\",F273<>\"Sold Common\", F273<>\"Expended Common\"), \"NOT VAILD\", \"-\")","v":"-"},null,null,{"$f":"IF(OR(F273=\"Sold\",F273=\"Sold Common\"),K273,\"-\")","v":"-"},0]
[]
[null,"Level 8"]
[null,"Adventure","Description","Gold","PP","Status",null,null,null,"Sell Back"]
[null,1,null,null,null,null,"Max Item:",{"$f":"LOOKUP(I277,Tables!B$4:B$103,Tables!C$4:C$103)","v":0},{"$f":"SUM('Gold Earned '!D$116:D117)","v":0},null,{"$f":"D277/2","v":0}]
[null,"Insert Date",null,null,null,"Choose One",{"$f":"IF(AND(D278>H$277,F278<>\"Bought Common\",F278<>\"Sold Common\", F278<>\"Expended Common\"), \"NOT VAILD\", \"-\")","v":"-"},null,null,{"$f":"IF(OR(F278=\"Sold\",F278=\"Sold Common\"),K278,\"-\")","v":"-"},0]
[null,"Insert Date",null,null,null,"Choose One",{"$f":"IF(AND(D279>H$277,F279<>\"Bought Common\",F279<>\"Sold Common\", F279<>\"Expended Common\"), \"NOT VAILD\", \"-\")","v":"-"},null,null,{"$f":"IF(OR(F279=\"Sold\",F279=\"Sold Common\"),K279,\"-\")","v":"-"},0]
[null,"Insert Date",null,null,null,"Choose One",{"$f":"IF(AND(D280>H$277,F280<>\"Bought Common\",F280<>\"Sold Common\", F280<>\"Expended Common\"), \"NOT VAILD\", \"-\")","v":"-"},null,null,{"$f":"IF(OR(F280=\"Sold\",F280=\"Sold Common\"),K280,\"-\")","v":"-"},0]
[null,"Insert Date",null,null,null,"Choose One",{"$f":"IF(AND(D281>H$277,F281<>\"Bought Common\",F281<>\"Sold Common\", F281<>\"Expended Common\"), \"NOT VAILD\", \"-\")","v":"-"},null,null,{"$f":"IF(OR(F281=\"Sold\",F281=\"Sold Common\"),K281,\"-\")","v":"-"},0]
[null,"Insert Date",null,null,null,"Choose One",{"$f":"IF(AND(D282>H$277,F282<>\"Bought Common\",F282<>\"Sold Common\", F282<>\"Expended Common\"), \"NOT VAILD\", \"-\")","v":"-"},null,null,{"$f":"IF(OR(F282=\"Sold\",F282=\"Sold Common\"),K282,\"-\")","v":"-"},0]
[null,2,null,null,null,null,"Max Item:",{"$f":"LOOKUP(I283,Tables!B$4:B$103,Tables!C$4:C$103)","v":0},{"$f":"SUM('Gold Earned '!D$116:D118)","v":0},null,0]
[null,"Insert Date",null,null,null,"Choose One",{"$f":"IF(AND(D284>H$283,F284<>\"Bought Common\",F284<>\"Sold Common\", F284<>\"Expended Common\"), \"NOT VAILD\", \"-\")","v":"-"},null,null,{"$f":"IF(OR(F284=\"Sold\",F284=\"Sold Common\"),K284,\"-\")","v":"-"},0]
[null,"Insert Date",null,null,null,"Choose One",{"$f":"IF(AND(D285>H$283,F285<>\"Bought Common\",F285<>\"Sold Common\", F285<>\"Expended Common\"), \"NOT VAILD\", \"-\")","v":"-"},null,null,{"$f":"IF(OR(F285=\"Sold\",F285=\"Sold Common\"),K285,\"-\")","v":"-"},0]
[null,"Insert Date",null,null,null,"Choose One",{"$f":"IF(AND(D286>H$283,F286<>\"Bought Common\",F286<>\"Sold Common\", F286<>\"Expended Common\"), \"NOT VAILD\", \"-\")","v":"-"},null,null,{"$f":"IF(OR(F286=\"Sold\",F286=\"Sold Common\"),K286,\"-\")","v":"-"},0]
[null,"Insert Date",null,null,null,"Choose One",{"$f":"IF(AND(D287>H$283,F287<>\"Bought Common\",F287<>\"Sold Common\", F287<>\"Expended Common\"), \"NOT VAILD\", \"-\")","v":"-"},null,null,{"$f":"IF(OR(F287=\"Sold\",F287=\"Sold Common\"),K287,\"-\")","v":"-"},0]
[null,"Insert Date",null,null,null,"Choose One",{"$f":"IF(AND(D288>H$283,F288<>\"Bought Common\",F288<>\"Sold Common\", F288<>\"Expended Common\"), \"NOT VAILD\", \"-\")","v":"-"},null,null,{"$f":"IF(OR(F288=\"Sold\",F288=\"Sold Common\"),K288,\"-\")","v":"-"},0]
[null,3,null,null,null,null,"Max Item:",{"$f":"LOOKUP(I289,Tables!B$4:B$103,Tables!C$4:C$103)","v":0},{"$f":"SUM('Gold Earned '!D$116:D119)","v":0},null,0]
[null,"Insert Date",null,null,null,"Choose One",{"$f":"IF(AND(D290>H$289,F290<>\"Bought Common\",F290<>\"Sold Common\", F290<>\"Expended Common\"), \"NOT VAILD\", \"-\")","v":"-"},null,null,{"$f":"IF(OR(F290=\"Sold\",F290=\"Sold Common\"),K290,\"-\")","v":"-"},0]
[null,"Insert Date",null,null,null,"Choose One",{"$f":"IF(AND(D291>H$289,F291<>\"Bought Common\",F291<>\"Sold Common\", F291<>\"Expended Common\"), \"NOT VAILD\", \"-\")","v":"-"},null,null,{"$f":"IF(OR(F291=\"Sold\",F291=\"Sold Common\"),K291,\"-\")","v":"-"},0]
[null,"Insert Date",null,null,null,"Choose One",{"$f":"IF(AND(D292>H$289,F292<>\"Bought Common\",F292<>\"Sold Common\", F292<>\"Expended Common\"), \"NOT VAILD\", \"-\")","v":"-"},null,null,{"$f":"IF(OR(F292=\"Sold\",F292=\"Sold Common\"),K292,\"-\")","v":"-"},0]
[null,"Insert Date",null,null,null,"Choose One",{"$f":"IF(AND(D293>H$289,F293<>\"Bought Common\",F293<>\"Sold Common\", F293<>\"Expended Common\"), \"NOT VAILD\", \"-\")","v":"-"},null,null,{"$f":"IF(OR(F293=\"Sold\",F293=\"Sold Common\"),K293,\"-\")","v":"-"},0]
[null,"Insert Date",null,null,null,"Choose One",{"$f":"IF(AND(D294>H$289,F294<>\"Bought Common\",F294<>\"Sold Common\", F294<>\"Expended Common\"), \"NOT VAILD\", \"-\")","v":"-"},null,null,{"$f":"IF(OR(F294=\"Sold\",F294=\"Sold Common\"),K294,\"-\")","v":"-"},0]
[null,4,null,null,null,null,"Max Item:",{"$f":"LOOKUP(I295,Tables!B$4:B$103,Tables!C$4:C$103)","v":0},{"$f":"SUM('Gold Earned '!D$116:D120)","v":0},null,0]
[null,"Insert Date",null,null,null,"Choose One",{"$f":"IF(AND(D296>H$16,F296<>\"Bought Common\",F296<>\"Sold Common\", F296<>\"Expended Common\"), \"NOT VAILD\", \"-\")","v":"-"},null,null,{"$f":"IF(OR(F296=\"Sold\",F296=\"Sold Common\"),K296,\"-\")","v":"-"},0]
[null,"Insert Date",null,null,null,"Choose One",{"$f":"IF(AND(D297>H$16,F297<>\"Bought Common\",F297<>\"Sold Common\", F297<>\"Expended Common\"), \"NOT VAILD\", \"-\")","v":"-"},null,null,{"$f":"IF(OR(F297=\"Sold\",F297=\"Sold Common\"),K297,\"-\")","v":"-"},0]
[null,"Insert Date",null,null,null,"Choose One",{"$f":"IF(AND(D298>H$16,F298<>\"Bought Common\",F298<>\"Sold Common\", F298<>\"Expended Common\"), \"NOT VAILD\", \"-\")","v":"-"},null,null,{"$f":"IF(OR(F298=\"Sold\",F298=\"Sold Common\"),K298,\"-\")","v":"-"},0]
[null,"Insert Date",null,null,null,"Choose One",{"$f":"IF(AND(D299>H$16,F299<>\"Bought Common\",F299<>\"Sold Common\", F299<>\"Expended Common\"), \"NOT VAILD\", \"-\")","v":"-"},null,null,{"$f":"IF(OR(F299=\"Sold\",F299=\"Sold Common\"),K299,\"-\")","v":"-"},0]
[null,"Insert Date",null,null,null,"Choose One",{"$f":"IF(AND(D300>H$16,F300<>\"Bought Common\",F300<>\"Sold Common\", F300<>\"Expended Common\"), \"NOT VAILD\", \"-\")","v":"-"},null,null,{"$f":"IF(OR(F300=\"Sold\",F300=\"Sold Common\"),K300,\"-\")","v":"-"},0]
[null,5,null,null,null,null,"Max Item:",{"$f":"LOOKUP(I301,Tables!B$4:B$103,Tables!C$4:C$103)","v":0},{"$f":"SUM('Gold Earned '!D$116:D121)","v":0},null,0]
[null,"Insert Date",null,null,null,"Choose One",{"$f":"IF(AND(D302>H$16,F302<>\"Bought Common\",F302<>\"Sold Common\", F302<>\"Expended Common\"), \"NOT VAILD\", \"-\")","v":"-"},null,null,{"$f":"IF(OR(F302=\"Sold\",F302=\"Sold Common\"),K302,\"-\")","v":"-"},0]
[null,"Insert Date",null,null,null,"Choose One",{"$f":"IF(AND(D303>H$16,F303<>\"Bought Common\",F303<>\"Sold Common\", F303<>\"Expended Common\"), \"NOT VAILD\", \"-\")","v":"-"},null,null,{"$f":"IF(OR(F303=\"Sold\",F303=\"Sold Common\"),K303,\"-\")","v":"-"},0]
[null,"Insert Date",null,null,null,"Choose One",{"$f":"IF(AND(D304>H$16,F304<>\"Bought Common\",F304<>\"Sold Common\", F304<>\"Expended Common\"), \"NOT VAILD\", \"-\")","v":"-"},null,null,{"$f":"IF(OR(F304=\"Sold\",F304=\"Sold Common\"),K304,\"-\")","v":"-"},0]
[null,"Insert Date",null,null,null,"Choose One",{"$f":"IF(AND(D305>H$16,F305<>\"Bought Common\",F305<>\"Sold Common\", F305<>\"Expended Common\"), \"NOT VAILD\", \"-\")","v":"-"},null,null,{"$f":"IF(OR(F305=\"Sold\",F305=\"Sold Common\"),K305,\"-\")","v":"-"},0]
[null,"Insert Date",null,null,null,"Choose One",{"$f":"IF(AND(D306>H$16,F306<>\"Bought Common\",F306<>\"Sold Common\", F306<>\"Expended Common\"), \"NOT VAILD\", \"-\")","v":"-"},null,null,{"$f":"IF(OR(F306=\"Sold\",F306=\"Sold Common\"),K306,\"-\")","v":"-"},0]
[null,6,null,null,null,null,"Max Item:",{"$f":"LOOKUP(I307,Tables!B$4:B$103,Tables!C$4:C$103)","v":0},{"$f":"SUM('Gold Earned '!D$116:D122)","v":0},null,0]
[null,"Insert Date",null,null,null,"Choose One",{"$f":"IF(AND(D308>H$16,F308<>\"Bought Common\",F308<>\"Sold Common\", F308<>\"Expended Common\"), \"NOT VAILD\", \"-\")","v":"-"},null,null,{"$f":"IF(OR(F308=\"Sold\",F308=\"Sold Common\"),K308,\"-\")","v":"-"},0]
[null,"Insert Date",null,null,null,"Choose One",{"$f":"IF(AND(D309>H$16,F309<>\"Bought Common\",F309<>\"Sold Common\", F309<>\"Expended Common\"), \"NOT VAILD\", \"-\")","v":"-"},null,null,{"$f":"IF(OR(F309=\"Sold\",F309=\"Sold Common\"),K309,\"-\")","v":"-"},0]
[null,"Insert Date",null,null,null,"Choose One",{"$f":"IF(AND(D310>H$16,F310<>\"Bought Common\",F310<>\"Sold Common\", F310<>\"Expended Common\"), \"NOT VAILD\", \"-\")","v":"-"},null,null,{"$f":"IF(OR(F310=\"Sold\",F310=\"Sold Common\"),K310,\"-\")","v":"-"},0]
[null,"Insert Date",null,null,null,"Choose One",{"$f":"IF(AND(D311>H$16,F311<>\"Bought Common\",F311<>\"Sold Common\", F311<>\"Expended Common\"), \"NOT VAILD\", \"-\")","v":"-"},null,null,{"$f":"IF(OR(F311=\"Sold\",F311=\"Sold Common\"),K311,\"-\")","v":"-"},0]
[null,"Insert Date",null,null,null,"Choose One",{"$f":"IF(AND(D312>H$16,F312<>\"Bought Common\",F312<>\"Sold Common\", F312<>\"Expended Common\"), \"NOT VAILD\", \"-\")","v":"-"},null,null,{"$f":"IF(OR(F312=\"Sold\",F312=\"Sold Common\"),K312,\"-\")","v":"-"},0]
[]
[null,"Level 9"]
[null,"Adventure","Description","Gold","PP","Status",null,null,null,"Sell Back"]
[null,1,null,null,null,null,"Max Item:",{"$f":"LOOKUP(I316,Tables!B$4:B$103,Tables!C$4:C$103)","v":0},{"$f":"SUM('Gold Earned '!D$132:D133)","v":0}]
[null,"Insert Date",null,null,null,"Choose One",{"$f":"IF(AND(D317>H$316,F317<>\"Bought Common\",F317<>\"Sold Common\", F317<>\"Expended Common\"), \"NOT VAILD\", \"-\")","v":"-"},null,null,{"$f":"IF(OR(F317=\"Sold\",F317=\"Sold Common\"),K317,\"-\")","v":"-"},{"$f":"D317/2","v":0}]
[null,"Insert Date",null,null,null,"Choose One",{"$f":"IF(AND(D318>H$316,F318<>\"Bought Common\",F318<>\"Sold Common\", F318<>\"Expended Common\"), \"NOT VAILD\", \"-\")","v":"-"},null,null,{"$f":"IF(OR(F318=\"Sold\",F318=\"Sold Common\"),K318,\"-\")","v":"-"},0]
[null,"Insert Date",null,null,null,"Choose One",{"$f":"IF(AND(D319>H$316,F319<>\"Bought Common\",F319<>\"Sold Common\", F319<>\"Expended Common\"), \"NOT VAILD\", \"-\")","v":"-"},null,null,{"$f":"IF(OR(F319=\"Sold\",F319=\"Sold Common\"),K319,\"-\")","v":"-"},0]
[null,"Insert Date",null,null,null,"Choose One",{"$f":"IF(AND(D320>H$316,F320<>\"Bought Common\",F320<>\"Sold Common\", F320<>\"Expended Common\"), \"NOT VAILD\", \"-\")","v":"-"},null,null,{"$f":"IF(OR(F320=\"Sold\",F320=\"Sold Common\"),K320,\"-\")","v":"-"},0]
[null,"Insert Date",null,null,null,"Choose One",{"$f":"IF(AND(D321>H$316,F321<>\"Bought Common\",F321<>\"Sold Common\", F321<>\"Expended Common\"), \"NOT VAILD\", \"-\")","v":"-"},null,null,{"$f":"IF(OR(F321=\"Sold\",F321=\"Sold Common\"),K321,\"-\")","v":"-"},0]
[null,2,null,null,null,null,"Max Item:",{"$f":"LOOKUP(I322,Tables!B$4:B$103,Tables!C$4:C$103)","v":0},{"$f":"SUM('Gold Earned '!D$132:D134)","v":0},null,0]
[null,"Insert Date",null,null,null,"Choose One",{"$f":"IF(AND(D323>H$322,F323<>\"Bought Common\",F323<>\"Sold Common\", F323<>\"Expended Common\"), \"NOT VAILD\", \"-\")","v":"-"},null,null,{"$f":"IF(OR(F323=\"Sold\",F323=\"Sold Common\"),K323,\"-\")","v":"-"},0]
[null,"Insert Date",null,null,null,"Choose One",{"$f":"IF(AND(D324>H$322,F324<>\"Bought Common\",F324<>\"Sold Common\", F324<>\"Expended Common\"), \"NOT VAILD\", \"-\")","v":"-"},null,null,{"$f":"IF(OR(F324=\"Sold\",F324=\"Sold Common\"),K324,\"-\")","v":"-"},0]
[null,"Insert Date",null,null,null,"Choose One",{"$f":"IF(AND(D325>H$322,F325<>\"Bought Common\",F325<>\"Sold Common\", F325<>\"Expended Common\"), \"NOT VAILD\", \"-\")","v":"-"},null,null,{"$f":"IF(OR(F325=\"Sold\",F325=\"Sold Common\"),K325,\"-\")","v":"-"},0]
[null,"Insert Date",null,null,null,"Choose One",{"$f":"IF(AND(D326>H$322,F326<>\"Bought Common\",F326<>\"Sold Common\", F326<>\"Expended Common\"), \"NOT VAILD\", \"-\")","v":"-"},null,null,{"$f":"IF(OR(F326=\"Sold\",F326=\"Sold Common\"),K326,\"-\")","v":"-"},0]
[null,"Insert Date",null,null,null,"Choose One",{"$f":"IF(AND(D327>H$322,F327<>\"Bought Common\",F327<>\"Sold Common\", F327<>\"Expended Common\"), \"NOT VAILD\", \"-\")","v":"-"},null,null,{"$f":"IF(OR(F327=\"Sold\",F327=\"Sold Common\"),K327,\"-\")","v":"-"},0]
[null,3,null,null,null,null,"Max Item:",{"$f":"LOOKUP(I328,Tables!B$4:B$103,Tables!C$4:C$103)","v":0},{"$f":"SUM('Gold Earned '!D$132:D135)","v":0},null,0]
[null,"Insert Date",null,null,null,"Choose One",{"$f":"IF(AND(D329>H$328,F329<>\"Bought Common\",F329<>\"Sold Common\", F329<>\"Expended Common\"), \"NOT VAILD\", \"-\")","v":"-"},null,null,{"$f":"IF(OR(F329=\"Sold\",F329=\"Sold Common\"),K329,\"-\")","v":"-"},0]
[null,"Insert Date",null,null,null,"Choose One",{"$f":"IF(AND(D330>H$328,F330<>\"Bought Common\",F330<>\"Sold Common\", F330<>\"Expended Common\"), \"NOT VAILD\", \"-\")","v":"-"},null,null,{"$f":"IF(OR(F330=\"Sold\",F330=\"Sold Common\"),K330,\"-\")","v":"-"},0]
[null,"Insert Date",null,null,null,"Choose One",{"$f":"IF(AND(D331>H$328,F331<>\"Bought Common\",F331<>\"Sold Common\", F331<>\"Expended Common\"), \"NOT VAILD\", \"-\")","v":"-"},null,null,{"$f":"IF(OR(F331=\"Sold\",F331=\"Sold Common\"),K331,\"-\")","v":"-"},0]
[null,"Insert Date",null,null,null,"Choose One",{"$f":"IF(AND(D332>H$328,F332<>\"Bought Common\",F332<>\"Sold Common\", F332<>\"Expended Common\"), \"NOT VAILD\", \"-\")","v":"-"},null,null,{"$f":"IF(OR(F332=\"Sold\",F332=\"Sold Common\"),K332,\"-\")","v":"-"},0]
[null,"Insert Date",null,null,null,"Choose One",{"$f":"IF(AND(D333>H$328,F333<>\"Bought Common\",F333<>\"Sold Common\", F333<>\"Expended Common\"), \"NOT VAILD\", \"-\")","v":"-"},null,null,{"$f":"IF(OR(F333=\"Sold\",F333=\"Sold Common\"),K333,\"-\")","v":"-"},0]
[null,4,null,null,null,null,"Max Item:",{"$f":"LOOKUP(I334,Tables!B$4:B$103,Tables!C$4:C$103)","v":0},{"$f":"SUM('Gold Earned '!D$132:D136)","v":0},null,0]
[null,"Insert Date",null,null,null,"Choose One",{"$f":"IF(AND(D335>H$16,F335<>\"Bought Common\",F335<>\"Sold Common\", F335<>\"Expended Common\"), \"NOT VAILD\", \"-\")","v":"-"},null,null,{"$f":"IF(OR(F335=\"Sold\",F335=\"Sold Common\"),K335,\"-\")","v":"-"},0]
[null,"Insert Date",null,null,null,"Choose One",{"$f":"IF(AND(D336>H$16,F336<>\"Bought Common\",F336<>\"Sold Common\", F336<>\"Expended Common\"), \"NOT VAILD\", \"-\")","v":"-"},null,null,{"$f":"IF(OR(F336=\"Sold\",F336=\"Sold Common\"),K336,\"-\")","v":"-"},0]
[null,"Insert Date",null,null,null,"Choose One",{"$f":"IF(AND(D337>H$16,F337<>\"Bought Common\",F337<>\"Sold Common\", F337<>\"Expended Common\"), \"NOT VAILD\", \"-\")","v":"-"},null,null,{"$f":"IF(OR(F337=\"Sold\",F337=\"Sold Common\"),K337,\"-\")","v":"-"},0]
[null,"Insert Date",null,null,null,"Choose One",{"$f":"IF(AND(D338>H$16,F338<>\"Bought Common\",F338<>\"Sold Common\", F338<>\"Expended Common\"), \"NOT VAILD\", \"-\")","v":"-"},null,null,{"$f":"IF(OR(F338=\"Sold\",F338=\"Sold Common\"),K338,\"-\")","v":"-"},0]
[null,"Insert Date",null,null,null,"Choose One",{"$f":"IF(AND(D339>H$16,F339<>\"Bought Common\",F339<>\"Sold Common\", F339<>\"Expended Common\"), \"NOT VAILD\", \"-\")","v":"-"},null,null,{"$f":"IF(OR(F339=\"Sold\",F339=\"Sold Common\"),K339,\"-\")","v":"-"},0]
[null,5,null,null,null,null,"Max Item:",{"$f":"LOOKUP(I340,Tables!B$4:B$103,Tables!C$4:C$103)","v":0},{"$f":"SUM('Gold Earned '!D$132:D137)","v":0},null,0]
[null,"Insert Date",null,null,null,"Choose One",{"$f":"IF(AND(D341>H$16,F341<>\"Bought Common\",F341<>\"Sold Common\", F341<>\"Expended Common\"), \"NOT VAILD\", \"-\")","v":"-"},null,null,{"$f":"IF(OR(F341=\"Sold\",F341=\"Sold Common\"),K341,\"-\")","v":"-"},0]
[null,"Insert Date",null,null,null,"Choose One",{"$f":"IF(AND(D342>H$16,F342<>\"Bought Common\",F342<>\"Sold Common\", F342<>\"Expended Common\"), \"NOT VAILD\", \"-\")","v":"-"},null,null,{"$f":"IF(OR(F342=\"Sold\",F342=\"Sold Common\"),K342,\"-\")","v":"-"},0]
[null,"Insert Date",null,null,null,"Choose One",{"$f":"IF(AND(D343>H$16,F343<>\"Bought Common\",F343<>\"Sold Common\", F343<>\"Expended Common\"), \"NOT VAILD\", \"-\")","v":"-"},null,null,{"$f":"IF(OR(F343=\"Sold\",F343=\"Sold Common\"),K343,\"-\")","v":"-"},0]
[null,"Insert Date",null,null,null,"Choose One",{"$f":"IF(AND(D344>H$16,F344<>\"Bought Common\",F344<>\"Sold Common\", F344<>\"Expended Common\"), \"NOT VAILD\", \"-\")","v":"-"},null,null,{"$f":"IF(OR(F344=\"Sold\",F344=\"Sold Common\"),K344,\"-\")","v":"-"},0]
[null,"Insert Date",null,null,null,"Choose One",{"$f":"IF(AND(D345>H$16,F345<>\"Bought Common\",F345<>\"Sold Common\", F345<>\"Expended Common\"), \"NOT VAILD\", \"-\")","v":"-"},null,null,{"$f":"IF(OR(F345=\"Sold\",F345=\"Sold Common\"),K345,\"-\")","v":"-"},0]
[null,6,null,null,null,null,"Max Item:",{"$f":"LOOKUP(I346,Tables!B$4:B$103,Tables!C$4:C$103)","v":0},{"$f":"SUM('Gold Earned '!D$132:D138)","v":0},null,0]
[null,"Insert Date",null,null,null,"Choose One",{"$f":"IF(AND(D347>H$16,F347<>\"Bought Common\",F347<>\"Sold Common\", F347<>\"Expended Common\"), \"NOT VAILD\", \"-\")","v":"-"},null,null,{"$f":"IF(OR(F347=\"Sold\",F347=\"Sold Common\"),K347,\"-\")","v":"-"},0]
[null,"Insert Date",null,null,null,"Choose One",{"$f":"IF(AND(D348>H$16,F348<>\"Bought Common\",F348<>\"Sold Common\", F348<>\"Expended Common\"), \"NOT VAILD\", \"-\")","v":"-"},null,null,{"$f":"IF(OR(F348=\"Sold\",F348=\"Sold Common\"),K348,\"-\")","v":"-"},0]
[null,"Insert Date",null,null,null,"Choose One",{"$f":"IF(AND(D349>H$16,F349<>\"Bought Common\",F349<>\"Sold Common\", F349<>\"Expended Common\"), \"NOT VAILD\", \"-\")","v":"-"},null,null,{"$f":"IF(OR(F349=\"Sold\",F349=\"Sold Common\"),K349,\"-\")","v":"-"},0]
[null,"Insert Date",null,null,null,"Choose One",{"$f":"IF(AND(D350>H$16,F350<>\"Bought Common\",F350<>\"Sold Common\", F350<>\"Expended Common\"), \"NOT VAILD\", \"-\")","v":"-"},null,null,{"$f":"IF(OR(F350=\"Sold\",F350=\"Sold Common\"),K350,\"-\")","v":"-"},0]
[null,"Insert Date",null,null,null,"Choose One",{"$f":"IF(AND(D351>H$16,F351<>\"Bought Common\",F351<>\"Sold Common\", F351<>\"Expended Common\"), \"NOT VAILD\", \"-\")","v":"-"},null,null,{"$f":"IF(OR(F351=\"Sold\",F351=\"Sold Common\"),K351,\"-\")","v":"-"},0]
[]
[null,"Level 10"]
[null,"Adventure","Description","Gold","PP","Status",null,null,null,"Sell Back"]
[null,1,null,null,null,null,"Max Item:",{"$f":"LOOKUP(I355,Tables!B$4:B$103,Tables!C$4:C$103)","v":0},{"$f":"SUM('Gold Earned '!D$148:D149)","v":0}]
[null,"Insert Date",null,null,null,"Choose One",{"$f":"IF(AND(D356>H$355,F356<>\"Bought Common\",F356<>\"Sold Common\", F356<>\"Expended Common\"), \"NOT VAILD\", \"-\")","v":"-"},null,null,{"$f":"IF(OR(F356=\"Sold\",F356=\"Sold Common\"),K356,\"-\")","v":"-"},{"$f":"D356/2","v":0}]
[null,"Insert Date",null,null,null,"Choose One",{"$f":"IF(AND(D357>H$355,F357<>\"Bought Common\",F357<>\"Sold Common\", F357<>\"Expended Common\"), \"NOT VAILD\", \"-\")","v":"-"},null,null,{"$f":"IF(OR(F357=\"Sold\",F357=\"Sold Common\"),K357,\"-\")","v":"-"},0]
[null,"Insert Date",null,null,null,"Choose One",{"$f":"IF(AND(D358>H$355,F358<>\"Bought Common\",F358<>\"Sold Common\", F358<>\"Expended Common\"), \"NOT VAILD\", \"-\")","v":"-"},null,null,{"$f":"IF(OR(F358=\"Sold\",F358=\"Sold Common\"),K358,\"-\")","v":"-"},0]
[null,"Insert Date",null,null,null,"Choose One",{"$f":"IF(AND(D359>H$355,F359<>\"Bought Common\",F359<>\"Sold Common\", F359<>\"Expended Common\"), \"NOT VAILD\", \"-\")","v":"-"},null,null,{"$f":"IF(OR(F359=\"Sold\",F359=\"Sold Common\"),K359,\"-\")","v":"-"},0]
[null,"Insert Date",null,null,null,"Choose One",{"$f":"IF(AND(D360>H$355,F360<>\"Bought Common\",F360<>\"Sold Common\", F360<>\"Expended Common\"), \"NOT VAILD\", \"-\")","v":"-"},null,null,{"$f":"IF(OR(F360=\"Sold\",F360=\"Sold Common\"),K360,\"-\")","v":"-"},0]
[null,2,null,null,null,null,"Max Item:",{"$f":"LOOKUP(I361,Tables!B$4:B$103,Tables!C$4:C$103)","v":0},{"$f":"SUM('Gold Earned '!D$148:D150)","v":0},null,0]
[null,"Insert Date",null,null,null,"Choose One",{"$f":"IF(AND(D362>H$361,F362<>\"Bought Common\",F362<>\"Sold Common\", F362<>\"Expended Common\"), \"NOT VAILD\", \"-\")","v":"-"},null,null,{"$f":"IF(OR(F362=\"Sold\",F362=\"Sold Common\"),K362,\"-\")","v":"-"},0]
[null,"Insert Date",null,null,null,"Choose One",{"$f":"IF(AND(D363>H$361,F363<>\"Bought Common\",F363<>\"Sold Common\", F363<>\"Expended Common\"), \"NOT VAILD\", \"-\")","v":"-"},null,null,{"$f":"IF(OR(F363=\"Sold\",F363=\"Sold Common\"),K363,\"-\")","v":"-"},0]
[null,"Insert Date",null,null,null,"Choose One",{"$f":"IF(AND(D364>H$361,F364<>\"Bought Common\",F364<>\"Sold Common\", F364<>\"Expended Common\"), \"NOT VAILD\", \"-\")","v":"-"},null,null,{"$f":"IF(OR(F364=\"Sold\",F364=\"Sold Common\"),K364,\"-\")","v":"-"},0]
[null,"Insert Date",null,null,null,"Choose One",{"$f":"IF(AND(D365>H$361,F365<>\"Bought Common\",F365<>\"Sold Common\", F365<>\"Expended Common\"), \"NOT VAILD\", \"-\")","v":"-"},null,null,{"$f":"IF(OR(F365=\"Sold\",F365=\"Sold Common\"),K365,\"-\")","v":"-"},0]
[null,"Insert Date",null,null,null,"Choose One",{"$f":"IF(AND(D366>H$361,F366<>\"Bought Common\",F366<>\"Sold Common\", F366<>\"Expended Common\"), \"NOT VAILD\", \"-\")","v":"-"},null,null,{"$f":"IF(OR(F366=\"Sold\",F366=\"Sold Common\"),K366,\"-\")","v":"-"},0]
[null,3,null,null,null,null,"Max Item:",{"$f":"LOOKUP(I367,Tables!B$4:B$103,Tables!C$4:C$103)","v":0},{"$f":"SUM('Gold Earned '!D$148:D151)","v":0},null,0]
[null,"Insert Date",null,null,null,"Choose One",{"$f":"IF(AND(D368>H$367,F368<>\"Bought Common\",F368<>\"Sold Common\", F368<>\"Expended Common\"), \"NOT VAILD\", \"-\")","v":"-"},null,null,{"$f":"IF(OR(F368=\"Sold\",F368=\"Sold Common\"),K368,\"-\")","v":"-"},0]
[null,"Insert Date",null,null,null,"Choose One",{"$f":"IF(AND(D369>H$367,F369<>\"Bought Common\",F369<>\"Sold Common\", F369<>\"Expended Common\"), \"NOT VAILD\", \"-\")","v":"-"},null,null,{"$f":"IF(OR(F369=\"Sold\",F369=\"Sold Common\"),K369,\"-\")","v":"-"},0]
[null,"Insert Date",null,null,null,"Choose One",{"$f":"IF(AND(D370>H$367,F370<>\"Bought Common\",F370<>\"Sold Common\", F370<>\"Expended Common\"), \"NOT VAILD\", \"-\")","v":"-"},null,null,{"$f":"IF(OR(F370=\"Sold\",F370=\"Sold Common\"),K370,\"-\")","v":"-"},0]
[null,"Insert Date",null,null,null,"Choose One",{"$f":"IF(AND(D371>H$367,F371<>\"Bought Common\",F371<>\"Sold Common\", F371<>\"Expended Common\"), \"NOT VAILD\", \"-\")","v":"-"},null,null,{"$f":"IF(OR(F371=\"Sold\",F371=\"Sold Common\"),K371,\"-\")","v":"-"},0]
[null,"Insert Date",null,null,null,"Choose One",{"$f":"IF(AND(D372>H$367,F372<>\"Bought Common\",F372<>\"Sold Common\", F372<>\"Expended Common\"), \"NOT VAILD\", \"-\")","v":"-"},null,null,{"$f":"IF(OR(F372=\"Sold\",F372=\"Sold Common\"),K372,\"-\")","v":"-"},0]
[null,4,null,null,null,null,"Max Item:",{"$f":"LOOKUP(I373,Tables!B$4:B$103,Tables!C$4:C$103)","v":0},{"$f":"SUM('Gold Earned '!D$148:D152)","v":0},null,0]
[null,"Insert Date",null,null,null,"Choose One",{"$f":"IF(AND(D374>H$16,F374<>\"Bought Common\",F374<>\"Sold Common\", F374<>\"Expended Common\"), \"NOT VAILD\", \"-\")","v":"-"},null,null,{"$f":"IF(OR(F374=\"Sold\",F374=\"Sold Common\"),K374,\"-\")","v":"-"},0]
[null,"Insert Date",null,null,null,"Choose One",{"$f":"IF(AND(D375>H$16,F375<>\"Bought Common\",F375<>\"Sold Common\", F375<>\"Expended Common\"), \"NOT VAILD\", \"-\")","v":"-"},null,null,{"$f":"IF(OR(F375=\"Sold\",F375=\"Sold Common\"),K375,\"-\")","v":"-"},0]
[null,"Insert Date",null,null,null,"Choose One",{"$f":"IF(AND(D376>H$16,F376<>\"Bought Common\",F376<>\"Sold Common\", F376<>\"Expended Common\"), \"NOT VAILD\", \"-\")","v":"-"},null,null,{"$f":"IF(OR(F376=\"Sold\",F376=\"Sold Common\"),K376,\"-\")","v":"-"},0]
[null,"Insert Date",null,null,null,"Choose One",{"$f":"IF(AND(D377>H$16,F377<>\"Bought Common\",F377<>\"Sold Common\", F377<>\"Expended Common\"), \"NOT VAILD\", \"-\")","v":"-"},null,null,{"$f":"IF(OR(F377=\"Sold\",F377=\"Sold Common\"),K377,\"-\")","v":"-"},0]
[null,"Insert Date",null,null,null,"Choose One",{"$f":"IF(AND(D378>H$16,F378<>\"Bought Common\",F378<>\"Sold Common\", F378<>\"Expended Common\"), \"NOT VAILD\", \"-\")","v":"-"},null,null,{"$f":"IF(OR(F378=\"Sold\",F378=\"Sold Common\"),K378,\"-\")","v":"-"},0]
[null,5,null,null,null,null,"Max Item:",{"$f":"LOOKUP(I379,Tables!B$4:B$103,Tables!C$4:C$103)","v":0},{"$f":"SUM('Gold Earned '!D$148:D153)","v":0},null,0]
[null,"Insert Date",null,null,null,"Choose One",{"$f":"IF(AND(D380>H$16,F380<>\"Bought Common\",F380<>\"Sold Common\", F380<>\"Expended Common\"), \"NOT VAILD\", \"-\")","v":"-"},null,null,{"$f":"IF(OR(F380=\"Sold\",F380=\"Sold Common\"),K380,\"-\")","v":"-"},0]
[null,"Insert Date",null,null,null,"Choose One",{"$f":"IF(AND(D381>H$16,F381<>\"Bought Common\",F381<>\"Sold Common\", F381<>\"Expended Common\"), \"NOT VAILD\", \"-\")","v":"-"},null,null,{"$f":"IF(OR(F381=\"Sold\",F381=\"Sold Common\"),K381,\"-\")","v":"-"},0]
[null,"Insert Date",null,null,null,"Choose One",{"$f":"IF(AND(D382>H$16,F382<>\"Bought Common\",F382<>\"Sold Common\", F382<>\"Expended Common\"), \"NOT VAILD\", \"-\")","v":"-"},null,null,{"$f":"IF(OR(F382=\"Sold\",F382=\"Sold Common\"),K382,\"-\")","v":"-"},0]
[null,"Insert Date",null,null,null,"Choose One",{"$f":"IF(AND(D383>H$16,F383<>\"Bought Common\",F383<>\"Sold Common\", F383<>\"Expended Common\"), \"NOT VAILD\", \"-\")","v":"-"},null,null,{"$f":"IF(OR(F383=\"Sold\",F383=\"Sold Common\"),K383,\"-\")","v":"-"},0]
[null,"Insert Date",null,null,null,"Choose One",{"$f":"IF(AND(D384>H$16,F384<>\"Bought Common\",F384<>\"Sold Common\", F384<>\"Expended Common\"), \"NOT VAILD\", \"-\")","v":"-"},null,null,{"$f":"IF(OR(F384=\"Sold\",F384=\"Sold Common\"),K384,\"-\")","v":"-"},0]
[null,6,null,null,null,null,"Max Item:",{"$f":"LOOKUP(I385,Tables!B$4:B$103,Tables!C$4:C$103)","v":0},{"$f":"SUM('Gold Earned '!D$148:D154)","v":0},null,0]
[null,"Insert Date",null,null,null,"Choose One",{"$f":"IF(AND(D386>H$16,F386<>\"Bought Common\",F386<>\"Sold Common\", F386<>\"Expended Common\"), \"NOT VAILD\", \"-\")","v":"-"},null,null,{"$f":"IF(OR(F386=\"Sold\",F386=\"Sold Common\"),K386,\"-\")","v":"-"},0]
[null,"Insert Date",null,null,null,"Choose One",{"$f":"IF(AND(D387>H$16,F387<>\"Bought Common\",F387<>\"Sold Common\", F387<>\"Expended Common\"), \"NOT VAILD\", \"-\")","v":"-"},null,null,{"$f":"IF(OR(F387=\"Sold\",F387=\"Sold Common\"),K387,\"-\")","v":"-"},0]
[null,"Insert Date",null,null,null,"Choose One",{"$f":"IF(AND(D388>H$16,F388<>\"Bought Common\",F388<>\"Sold Common\", F388<>\"Expended Common\"), \"NOT VAILD\", \"-\")","v":"-"},null,null,{"$f":"IF(OR(F388=\"Sold\",F388=\"Sold Common\"),K388,\"-\")","v":"-"},0]
[null,"Insert Date",null,null,null,"Choose One",{"$f":"IF(AND(D389>H$16,F389<>\"Bought Common\",F389<>\"Sold Common\", F389<>\"Expended Common\"), \"NOT VAILD\", \"-\")","v":"-"},null,null,{"$f":"IF(OR(F389=\"Sold\",F389=\"Sold Common\"),K389,\"-\")","v":"-"},0]
[null,"Insert Date",null,null,null,"Choose One",{"$f":"IF(AND(D390>H$16,F390<>\"Bought Common\",F390<>\"Sold Common\", F390<>\"Expended Common\"), \"NOT VAILD\", \"-\")","v":"-"},null,null,{"$f":"IF(OR(F390=\"Sold\",F390=\"Sold Common\"),K390,\"-\")","v":"-"},0]
[]
[]
[null,"Level 11"]
[null,"Adventure","Description","Gold","PP","Status",null,null,null,"Sell Back"]
[null,1,null,null,null,null,"Max Item:",{"$f":"LOOKUP(I395,Tables!B$4:B$103,Tables!C$4:C$103)","v":0},{"$f":"SUM('Gold Earned '!D$164:D165)","v":0}]
[null,"Insert Date",null,null,null,"Choose One",{"$f":"IF(AND(D396>H$395,F396<>\"Bought Common\",F396<>\"Sold Common\", F396<>\"Expended Common\"), \"NOT VAILD\", \"-\")","v":"-"},null,null,{"$f":"IF(OR(F396=\"Sold\",F396=\"Sold Common\"),K396,\"-\")","v":"-"},{"$f":"D396/2","v":0}]
[null,"Insert Date",null,null,null,"Choose One",{"$f":"IF(AND(D397>H$395,F397<>\"Bought Common\",F397<>\"Sold Common\", F397<>\"Expended Common\"), \"NOT VAILD\", \"-\")","v":"-"},null,null,{"$f":"IF(OR(F397=\"Sold\",F397=\"Sold Common\"),K397,\"-\")","v":"-"},0]
[null,"Insert Date",null,null,null,"Choose One",{"$f":"IF(AND(D398>H$395,F398<>\"Bought Common\",F398<>\"Sold Common\", F398<>\"Expended Common\"), \"NOT VAILD\", \"-\")","v":"-"},null,null,{"$f":"IF(OR(F398=\"Sold\",F398=\"Sold Common\"),K398,\"-\")","v":"-"},0]
[null,"Insert Date",null,null,null,"Choose One",{"$f":"IF(AND(D399>H$395,F399<>\"Bought Common\",F399<>\"Sold Common\", F399<>\"Expended Common\"), \"NOT VAILD\", \"-\")","v":"-"},null,null,{"$f":"IF(OR(F399=\"Sold\",F399=\"Sold Common\"),K399,\"-\")","v":"-"},0]
[null,"Insert Date",null,null,null,"Choose One",{"$f":"IF(AND(D400>H$395,F400<>\"Bought Common\",F400<>\"Sold Common\", F400<>\"Expended Common\"), \"NOT VAILD\", \"-\")","v":"-"},null,null,{"$f":"IF(OR(F400=\"Sold\",F400=\"Sold Common\"),K400,\"-\")","v":"-"},0]
[null,2,null,null,null,null,"Max Item:",{"$f":"LOOKUP(I401,Tables!B$4:B$103,Tables!C$4:C$103)","v":0},{"$f":"SUM('Gold Earned '!D$164:D166)","v":0},null,0]
[null,"Insert Date",null,null,null,"Choose One",{"$f":"IF(AND(D402>H$401,F402<>\"Bought Common\",F402<>\"Sold Common\", F402<>\"Expended Common\"), \"NOT VAILD\", \"-\")","v":"-"},null,null,{"$f":"IF(OR(F402=\"Sold\",F402=\"Sold Common\"),K402,\"-\")","v":"-"},0]
[null,"Insert Date",null,null,null,"Choose One",{"$f":"IF(AND(D403>H$401,F403<>\"Bought Common\",F403<>\"Sold Common\", F403<>\"Expended Common\"), \"NOT VAILD\", \"-\")","v":"-"},null,null,{"$f":"IF(OR(F403=\"Sold\",F403=\"Sold Common\"),K403,\"-\")","v":"-"},0]
[null,"Insert Date",null,null,null,"Choose One",{"$f":"IF(AND(D404>H$401,F404<>\"Bought Common\",F404<>\"Sold Common\", F404<>\"Expended Common\"), \"NOT VAILD\", \"-\")","v":"-"},null,null,{"$f":"IF(OR(F404=\"Sold\",F404=\"Sold Common\"),K404,\"-\")","v":"-"},0]
[null,"Insert Date",null,null,null,"Choose One",{"$f":"IF(AND(D405>H$401,F405<>\"Bought Common\",F405<>\"Sold Common\", F405<>\"Expended Common\"), \"NOT VAILD\", \"-\")","v":"-"},null,null,{"$f":"IF(OR(F405=\"Sold\",F405=\"Sold Common\"),K405,\"-\")","v":"-"},0]
[null,"Insert Date",null,null,null,"Choose One",{"$f":"IF(AND(D406>H$401,F406<>\"Bought Common\",F406<>\"Sold Common\", F406<>\"Expended Common\"), \"NOT VAILD\", \"-\")","v":"-"},null,null,{"$f":"IF(OR(F406=\"Sold\",F406=\"Sold Common\"),K406,\"-\")","v":"-"},0]
[null,3,null,null,null,null,"Max Item:",{"$f":"LOOKUP(I407,Tables!B$4:B$103,Tables!C$4:C$103)","v":0},{"$f":"SUM('Gold Earned '!D$164:D167)","v":0},null,0]
[null,"Insert Date",null,null,null,"Choose One",{"$f":"IF(AND(D408>H$407,F408<>\"Bought Common\",F408<>\"Sold Common\", F408<>\"Expended Common\"), \"NOT VAILD\", \"-\")","v":"-"},null,null,{"$f":"IF(OR(F408=\"Sold\",F408=\"Sold Common\"),K408,\"-\")","v":"-"},0]
[null,"Insert Date",null,null,null,"Choose One",{"$f":"IF(AND(D409>H$407,F409<>\"Bought Common\",F409<>\"Sold Common\", F409<>\"Expended Common\"), \"NOT VAILD\", \"-\")","v":"-"},null,null,{"$f":"IF(OR(F409=\"Sold\",F409=\"Sold Common\"),K409,\"-\")","v":"-"},0]
[null,"Insert Date",null,null,null,"Choose One",{"$f":"IF(AND(D410>H$407,F410<>\"Bought Common\",F410<>\"Sold Common\", F410<>\"Expended Common\"), \"NOT VAILD\", \"-\")","v":"-"},null,null,{"$f":"IF(OR(F410=\"Sold\",F410=\"Sold Common\"),K410,\"-\")","v":"-"},0]
[null,"Insert Date",null,null,null,"Choose One",{"$f":"IF(AND(D411>H$407,F411<>\"Bought Common\",F411<>\"Sold Common\", F411<>\"Expended Common\"), \"NOT VAILD\", \"-\")","v":"-"},null,null,{"$f":"IF(OR(F411=\"Sold\",F411=\"Sold Common\"),K411,\"-\")","v":"-"},0]
[null,"Insert Date",null,null,null,"Choose One",{"$f":"IF(AND(D412>H$407,F412<>\"Bought Common\",F412<>\"Sold Common\", F412<>\"Expended Common\"), \"NOT VAILD\", \"-\")","v":"-"},null,null,{"$f":"IF(OR(F412=\"Sold\",F412=\"Sold Common\"),K412,\"-\")","v":"-"},0]
[null,4,null,null,null,null,"Max Item:",{"$f":"LOOKUP(I413,Tables!B$4:B$103,Tables!C$4:C$103)","v":0},{"$f":"SUM('Gold Earned '!D$164:D168)","v":0},null,0]
[null,"Insert Date",null,null,null,"Choose One",{"$f":"IF(AND(D414>H$16,F414<>\"Bought Common\",F414<>\"Sold Common\", F414<>\"Expended Common\"), \"NOT VAILD\", \"-\")","v":"-"},null,null,{"$f":"IF(OR(F414=\"Sold\",F414=\"Sold Common\"),K414,\"-\")","v":"-"},0]
[null,"Insert Date",null,null,null,"Choose One",{"$f":"IF(AND(D415>H$16,F415<>\"Bought Common\",F415<>\"Sold Common\", F415<>\"Expended Common\"), \"NOT VAILD\", \"-\")","v":"-"},null,null,{"$f":"IF(OR(F415=\"Sold\",F415=\"Sold Common\"),K415,\"-\")","v":"-"},0]
[null,"Insert Date",null,null,null,"Choose One",{"$f":"IF(AND(D416>H$16,F416<>\"Bought Common\",F416<>\"Sold Common\", F416<>\"Expended Common\"), \"NOT VAILD\", \"-\")","v":"-"},null,null,{"$f":"IF(OR(F416=\"Sold\",F416=\"Sold Common\"),K416,\"-\")","v":"-"},0]
[null,"Insert Date",null,null,null,"Choose One",{"$f":"IF(AND(D417>H$16,F417<>\"Bought Common\",F417<>\"Sold Common\", F417<>\"Expended Common\"), \"NOT VAILD\", \"-\")","v":"-"},null,null,{"$f":"IF(OR(F417=\"Sold\",F417=\"Sold Common\"),K417,\"-\")","v":"-"},0]
[null,"Insert Date",null,null,null,"Choose One",{"$f":"IF(AND(D418>H$16,F418<>\"Bought Common\",F418<>\"Sold Common\", F418<>\"Expended Common\"), \"NOT VAILD\", \"-\")","v":"-"},null,null,{"$f":"IF(OR(F418=\"Sold\",F418=\"Sold Common\"),K418,\"-\")","v":"-"},0]
[null,5,null,null,null,null,"Max Item:",{"$f":"LOOKUP(I419,Tables!B$4:B$103,Tables!C$4:C$103)","v":0},{"$f":"SUM('Gold Earned '!D$164:D169)","v":0},null,0]
[null,"Insert Date",null,null,null,"Choose One",{"$f":"IF(AND(D420>H$16,F420<>\"Bought Common\",F420<>\"Sold Common\", F420<>\"Expended Common\"), \"NOT VAILD\", \"-\")","v":"-"},null,null,{"$f":"IF(OR(F420=\"Sold\",F420=\"Sold Common\"),K420,\"-\")","v":"-"},0]
[null,"Insert Date",null,null,null,"Choose One",{"$f":"IF(AND(D421>H$16,F421<>\"Bought Common\",F421<>\"Sold Common\", F421<>\"Expended Common\"), \"NOT VAILD\", \"-\")","v":"-"},null,null,{"$f":"IF(OR(F421=\"Sold\",F421=\"Sold Common\"),K421,\"-\")","v":"-"},0]
[null,"Insert Date",null,null,null,"Choose One",{"$f":"IF(AND(D422>H$16,F422<>\"Bought Common\",F422<>\"Sold Common\", F422<>\"Expended Common\"), \"NOT VAILD\", \"-\")","v":"-"},null,null,{"$f":"IF(OR(F422=\"Sold\",F422=\"Sold Common\"),K422,\"-\")","v":"-"},0]
[null,"Insert Date",null,null,null,"Choose One",{"$f":"IF(AND(D423>H$16,F423<>\"Bought Common\",F423<>\"Sold Common\", F423<>\"Expended Common\"), \"NOT VAILD\", \"-\")","v":"-"},null,null,{"$f":"IF(OR(F423=\"Sold\",F423=\"Sold Common\"),K423,\"-\")","v":"-"},0]
[null,"Insert Date",null,null,null,"Choose One",{"$f":"IF(AND(D424>H$16,F424<>\"Bought Common\",F424<>\"Sold Common\", F424<>\"Expended Common\"), \"NOT VAILD\", \"-\")","v":"-"},null,null,{"$f":"IF(OR(F424=\"Sold\",F424=\"Sold Common\"),K424,\"-\")","v":"-"},0]
[null,6,null,null,null,null,"Max Item:",{"$f":"LOOKUP(I425,Tables!B$4:B$103,Tables!C$4:C$103)","v":0},{"$f":"SUM('Gold Earned '!D$164:D170)","v":0},null,0]
[null,"Insert Date",null,null,null,"Choose One",{"$f":"IF(AND(D426>H$16,F426<>\"Bought Common\",F426<>\"Sold Common\", F426<>\"Expended Common\"), \"NOT VAILD\", \"-\")","v":"-"},null,null,{"$f":"IF(OR(F426=\"Sold\",F426=\"Sold Common\"),K426,\"-\")","v":"-"},0]
[null,"Insert Date",null,null,null,"Choose One",{"$f":"IF(AND(D427>H$16,F427<>\"Bought Common\",F427<>\"Sold Common\", F427<>\"Expended Common\"), \"NOT VAILD\", \"-\")","v":"-"},null,null,{"$f":"IF(OR(F427=\"Sold\",F427=\"Sold Common\"),K427,\"-\")","v":"-"},0]
[null,"Insert Date",null,null,null,"Choose One",{"$f":"IF(AND(D428>H$16,F428<>\"Bought Common\",F428<>\"Sold Common\", F428<>\"Expended Common\"), \"NOT VAILD\", \"-\")","v":"-"},null,null,{"$f":"IF(OR(F428=\"Sold\",F428=\"Sold Common\"),K428,\"-\")","v":"-"},0]
[null,"Insert Date",null,null,null,"Choose One",{"$f":"IF(AND(D429>H$16,F429<>\"Bought Common\",F429<>\"Sold Common\", F429<>\"Expended Common\"), \"NOT VAILD\", \"-\")","v":"-"},null,null,{"$f":"IF(OR(F429=\"Sold\",F429=\"Sold Common\"),K429,\"-\")","v":"-"},0]
[null,"Insert Date",null,null,null,"Choose One",{"$f":"IF(AND(D430>H$16,F430<>\"Bought Common\",F430<>\"Sold Common\", F430<>\"Expended Common\"), \"NOT VAILD\", \"-\")","v":"-"},null,null,{"$f":"IF(OR(F430=\"Sold\",F430=\"Sold Common\"),K430,\"-\")","v":"-"},0]

{"sheet":"Tables","index":2,"n_rows":103,"n_cols":5,"rows_kept":103,"cut":false,"hidden":false,"merged":[[1,1,1,2]]}
[]
[null,"Fame Table"]
[null,"Fame","Max Item",null,"Drop Table"]
[null,0,0,null,"Bought"]
[null,1,0,null,"Bought Common"]
[null,2,0,null,"Sold"]
[null,3,0,null,"Sold Common"]
[null,4,0,null,"Expended"]
[null,5,500,null,"Expended Common"]
[null,6,500,null,"Choose One"]
[null,7,500]
[null,8,500]
[null,9,1500]
[null,10,1500]
[null,11,1500]
[null,12,1500]
[null,13,3000]
[null,14,3000]
[null,15,3000]
[null,16,3000]
[null,17,3000]
[null,18,5250]
[null,19,5250]
[null,20,5250]
[null,21,5250]
[null,22,8000]
[null,23,8000]
[null,24,8000]
[null,25,8000]
[null,26,8000]
[null,27,11750]
[null,28,11750]
[null,29,11750]
[null,30,11750]
[null,31,16500]
[null,32,16500]
[null,33,16500]
[null,34,16500]
[null,35,16500]
[null,36,23000]
[null,37,23000]
[null,38,23000]
[null,39,23000]
[null,40,31000]
[null,41,31000]
[null,42,31000]
[null,43,31000]
[null,44,31000]
[null,45,41000]
[null,46,41000]
[null,47,41000]
[null,48,41000]
[null,49,54000]
[null,50,54000]
[null,51,54000]
[null,52,54000]
[null,53,54000]
[null,54,60000]
[null,55,60000]
[null,56,60000]
[null,57,60000]
[null,58,92500]
[null,59,92500]
[null,60,92500]
[null,61,92500]
[null,62,92500]
[null,63,120000]
[null,64,120000]
[null,65,120000]
[null,66,120000]
[null,67,157500]
[null,68,157500]
[null,69,157500]
[null,70,157500]
[null,71,157500]
[null,72,205000]
[null,73,205000]
[null,74,205000]
[null,75,205000]
[null,76,265000]
[null,77,265000]
[null,78,265000]
[null,79,265000]
[null,80,265000]
[null,81,342500]
[null,82,342500]
[null,83,342500]
[null,84,342500]
[null,85,440000]
[null,86,440000]
[null,87,440000]
[null,88,440000]
[null,89,440000]
[null,90,565000]
[null,91,565000]
[null,92,565000]
[null,93,565000]
[null,94,680000]
[null,95,680000]
[null,96,680000]
[null,97,680000]
[null,98,680000]
[null,99,800000]