{"text_format":"1","workbook":"xlsx","n_sheets":7,"sheets":["MASTER","Sector","Implied Rating","ICV Rating","BM Weight","Fisch Holding","Vola_Gamma"],"not_rendered":{"charts":0,"images":0,"macros":1,"external_links":2,"defined_names":1,"comments":0,"pivot_tables":0},"unopened":[],"bounds":{"document_bytes":16777216,"sheet_cells":100000,"rows_first":2000,"rows_last":500,"rows_between":2000,"halvings":0,"cell_chars":16384,"cell_head_chars":4096},"cells_cut":0,"cells_raw":0,"read":"whole","date_system":"1900"}

{"sheet":"MASTER","index":0,"n_rows":179,"n_cols":72,"rows_kept":179,"cut":false,"hidden":false,"merged":[]}
[null,null,null,null,null,null,null,null,null,null,null,null,null,null,null,null,null,null,null,null,null,null,null,null,null,{"$f":"_xll.BDP($A$2,Z2)","v":7.9882330000000001},null,null,null,null,null,null,null,{"$error":"#N/A"}]
["SPX Index","#N/A N Ap",null,"NAME","CPN","MATURITY","NXT_PUT_DT","NXT_CALL_DT",null," ",null,{"$f":"M2+SUM(R2:U2)","v":50},25,0.5,0.5,10,null,5,5,5,10,{"$f":"_xll.BDP($A$2,V3)","v":-5.4740719999999996},{"$f":"_xll.BDP($A$2,W3)","v":13.04115},null,"CHG_PCT_1M","CHG_PCT_3M","CHG_PCT_YTD","TICKER_AND_EXCH_CODE","UNDL_ID_BB_UNIQUE","LAST_PRICE",null,null,"CRNCY","AMT_OUTSTANDING",null,null,null,null,null,"BB_COMPOSITE","RTG_MOODY_LONG_TERM","RTG_SP_LT_LC_ISSUER_CREDIT","DEFAULTED","CV_MANDATORY_CNVS","IS_SUBORDINATED","CHNG_OF_CONTROL_COVENANT","POISON_PILL_RIGHTS","CALLABLE","ULT_PARENT_CNTRY_OF_RISK","GICS_SECTOR_NAME","GICS_INDUSTRY_GROUP_NAME","GICS_INDUSTRY_NAME",null,null,"DUR_ADJ_MID","CV_MODEL_EFF_DUR","YAS_ZSPREAD","YAS_BOND_YLD","CHG_PCT_5D","CHG_PCT_1M","CHG_PCT_3M",null,"PX_LAST","CV_BOND_%_PAR_PRICE_NET","CV_MODEL_DELTA_S","CV_MODEL_GAMMA_V","CV_PCT_PREMIUM","EQY_DVD_YLD_IND","EXPECTED_REPORT_DT","VOLATILITY_90D"]
["ISIN","Bezeichnung","Description","Issuer","Coupon","Maturity","Next Put","Next Call","Update","Kommentar","FAM CB Rating","Calc. CB Rating","CB Skill","Vola","Gamma","ICV","Last Update","Credit Quality","Makro","MACD","Rel. Strength","MACD2","VOLATILITY_60D","Berechnung","1 mth","3 mth","YTD","Aktie","Aktie","Kurs","Alert up","Alert down","Curr","Outstanding","Fisch Holding","UBS Global Foc (%)","UBS Global Foc IG (%)","Implied Rating","ICV Rating","BB Comp","Moodys","S&P","Default","Mandatory","Sub","COC","PP","Callable","Country","Industry ","Sektor","Subsektor",null,"Yield Score","Duration","Eff. Duration","YAS Spread","Yield","5d","1m","3m",null,"CB Preis","CB Preis %","Delta","Gamma","Premium","Div Yield","Earnings Date","Hist. Vola",null,"old update"]
["US007903AK33",{"$f":"A4 & \" Corp\"","v":"US007903AK33 Corp"},"ADVANCED MICRO DEVICES",{"$f":"_xll.BDP(B4,$D$2)","v":"ADVANCED MICRO DEVICES"},{"$f":"_xll.BDP(B4,$E$2)","v":6},{"$f":"_xll.BDP(B4,$F$2)","v":"01.05.2015"},{"$f":"_xll.BDP(B4,$G$2)","v":"#N/A Field Not Applicable"},{"$f":"_xll.BDP(B4,$H$2)","v":"#N/A Field Not Applicable"},"2012-11-26",null,-2,{"$f":"IF(R4=\"NG\",\"NG\",ROUND((M4*M$2+R4*R$2+S4*S$2+T4*$T$2+U4*U$2)/(L$2),0))","v":-1},{"$f":"ROUND((N4*$N$2+O4*$O$2)/($N$2+$O$2),0)","v":-1},0,-2,"NR","2012-11-26",-1,{"$f":"VLOOKUP(AX4,[1]Sheet1!$C$8:$D$23,2,FALSE)","v":1},{"$f":"MIN(ROUND(ABS(V4/AD4)*200,0),2)*SIGN(V4)","v":0},{"$f":"MIN(ROUND(ABS(X4),0),2)*IFERROR(SIGN(X4),0)","v":-1},{"$f":"_xll.BDP(AC4 & \" Equity\",$V$3)","v":6.4054261893033981E-3},{"$f":"_xll.BDP(AC4 & \" Equity\",$W$3)","v":28.9996879412863},{"$f":"IFERROR(10*LN((100+Z4)/(100+$Z$1))+2*LN((100+$W$2)/(100+W4)),0)","v":-0.95630030917298892},{"$f":"_xll.BDP(AC4 & \" Equity\",$Y$2)","v":6.4777319999999996},{"$f":"_xll.BDP(AC4 & \" Equity\",$Z$2)","v":0.76628759999999996},{"$f":"_xll.BDP(AC4 & \" Equity\",$AA$2)","v":-1.49813},{"$f":"_xll.BDP(AC4 & \" Equity\",$AB$2)","v":"AMD US"},{"$f":"_xll.BDP(B4,$AC$2)","v":"EQ0010001000001000"},{"$f":"_xll.BDP(AC4 & \" Equity\",$AD$2)","v":2.585},3.5,2.2000000000000002,{"$f":"_xll.BDP(B4,$AG$2)","v":"USD"},{"$f":"_xll.BDP(B4,$AH$2)","v":42310000},{"$f":"IFERROR(VLOOKUP(A4,'Fisch Holding'!$A$5:$C$1245,3,FALSE)/AH4,\"-\")","v":"-"},{"$f":"IFERROR(VLOOKUP(A4,'BM Weight'!$A$7:$D$1020,3,FALSE),\"-\")","v":"-"},{"$f":"IFERROR(VLOOKUP(A4,'BM Weight'!$A$7:$D$1020,4,FALSE),\"-    \")","v":"-    "},{"$f":"IFERROR(VLOOKUP(A4,'Implied Rating'!$B$7:$C$1179,2,FALSE),\"-\")","v":"-"},{"$f":"IFERROR(VLOOKUP(A4,'ICV Rating'!$B$5:$E$1306,2,FALSE),\"-\")","v":"-"},{"$f":"_xll.BDP(B4,$AN$2)","v":"B-"},{"$f":"_xll.BDP(B4,$AO$2)","v":"B2"},{"$f":"_xll.BDP(B4,$AP$2)","v":"B"},{"$f":"_xll.BDP(B4,$AQ$2)","v":"N"},{"$f":"_xll.BDP(B4,$AR$2)","v":"Optionally"},{"$f":"_xll.BDP(B4,$AS$2)","v":"N"},{"$f":"_xll.BDP(B4,$AT$2)","v":"Y"},{"$f":"_xll.BDP(B4,$AU$2)","v":"N"},{"$f":"_xll.BDP(B4,$AV$2)","v":"N"},{"$f":"_xll.BDP(B4,$AW$2)","v":"US"},{"$f":"_xll.BDP(AC4 & \" Equity\",$AX$2)","v":"Information Technology"},{"$f":"_xll.BDP(AC4 & \" Equity\",$AY$2)","v":"Semiconductors & Semiconductor"},{"$f":"_xll.BDP(AC4 & \" Equity\",$AZ$2)","v":"Semiconductors & Semiconductor"},null,0,{"$f":"_xll.BDP(B4,$BC$2)","v":0.27583827780744163},{"$f":"_xll.BDP(B4,$BD$2)","v":0.27605497057152795},{"$f":"_xll.BDP(B4,$BE$2)","v":24.229791893910107},{"$f":"_xll.BDP(B4,$BF$2)","v":0.496},{"$f":"_xll.BDP(B4,$BG$2)","v":7.5588946817598063E-2},{"$f":"_xll.BDP(B4,$BH$2)","v":0.12404013159263549},{"$f":"_xll.BDP(B4,$BI$2)","v":-1.7622912846720469},null,{"$f":"_xll.BDP(B4,$BK$2)","v":100.9477},{"$f":"_xll.BDP(B4,$BL$2)","v":"#N/A Field Not Applicable"},{"$f":"_xll.BDP(B4,$BM$2)","v":2.1687054510162509E-11},{"$f":"_xll.BDP(B4,$BN$2)","v":-7.0851015231450031E-14},{"$f":"_xll.BDP(B4,$BO$2)","v":983.96377443917936},{"$f":"_xll.BDP(AC4 & \" Equity\",$BP$2)","v":"#N/A N/A"},{"$f":"_xll.BDP(AC4 & \" Equity\",$BQ$2)","v":"20.01.2015"},{"$f":"_xll.BDP(AC4 & \" Equity\",$BR$2)","v":36.749603619676066}]
["US00971TAF84",{"$f":"A5 & \" Corp\"","v":"US00971TAF84 Corp"},"WEBMD HEALTH CORP",{"$f":"_xll.BDP(B5,$D$2)","v":"AKAMAI TECHNOLOGIES INC"},{"$f":"_xll.BDP(B5,$E$2)","v":0},{"$f":"_xll.BDP(B5,$F$2)","v":"15.02.2019"},{"$f":"_xll.BDP(B5,$G$2)","v":"#N/A Field Not Applicable"},{"$f":"_xll.BDP(B5,$H$2)","v":"#N/A Field Not Applicable"},"2014-11-27","NE Febr. 14",1,{"$f":"IF(R5=\"NG\",\"NG\",ROUND((M5*M$2+R5*R$2+S5*S$2+T5*$T$2+U5*U$2)/(L$2),0))","v":1},1,-1,0,null,"2014-03-10",0,{"$f":"VLOOKUP(AX5,[1]Sheet1!$C$8:$D$23,2,FALSE)","v":1},{"$f":"MIN(ROUND(ABS(V5/AD5)*200,0),2)*SIGN(V5)","v":-1},{"$f":"MIN(ROUND(ABS(X5),0),2)*IFERROR(SIGN(X5),0)","v":0},{"$f":"_xll.BDP(AC5 & \" Equity\",$V$3)","v":-0.38311755657196045},{"$f":"_xll.BDP(AC5 & \" Equity\",$W$3)","v":26.769212396632895},{"$f":"IFERROR(10*LN((100+Z5)/(100+$Z$1))+2*LN((100+$W$2)/(100+W5)),0)","v":-0.10859030983481519},{"$f":"_xll.BDP(AC5 & \" Equity\",$Y$2)","v":-1.322093},{"$f":"_xll.BDP(AC5 & \" Equity\",$Z$2)","v":9.2989180000000005},{"$f":"_xll.BDP(AC5 & \" Equity\",$AA$2)","v":-5.1620059999999999},{"$f":"_xll.BDP(AC5 & \" Equity\",$AB$2)","v":"AKAM US"},{"$f":"_xll.BDP(B5,$AC$2)","v":"EQ0039337400001000"},{"$f":"_xll.BDP(AC5 & \" Equity\",$AD$2)","v":58.93},64,59,{"$f":"_xll.BDP(B5,$AG$2)","v":"USD"},{"$f":"_xll.BDP(B5,$AH$2)","v":690000000},{"$f":"IFERROR(VLOOKUP(A5,'Fisch Holding'!$A$5:$C$1245,3,FALSE)/AH5,\"-\")","v":2.8985507246376812E-3},{"$f":"IFERROR(VLOOKUP(A5,'BM Weight'!$A$7:$D$1020,3,FALSE),\"-\")","v":0.62960111073900005},{"$f":"IFERROR(VLOOKUP(A5,'BM Weight'!$A$7:$D$1020,4,FALSE),\"-    \")","v":0},{"$f":"IFERROR(VLOOKUP(A5,'Implied Rating'!$B$7:$C$1179,2,FALSE),\"-\")","v":"A-"},{"$f":"IFERROR(VLOOKUP(A5,'ICV Rating'!$B$5:$E$1306,2,FALSE),\"-\")","v":0},{"$f":"_xll.BDP(B5,$AN$2)","v":"#N/A N/A"},{"$f":"_xll.BDP(B5,$AO$2)","v":"#N/A N/A"},{"$f":"_xll.BDP(B5,$AP$2)","v":"NR"},{"$f":"_xll.BDP(B5,$AQ$2)","v":"N"},{"$f":"_xll.BDP(B5,$AR$2)","v":"Optionally"},{"$f":"_xll.BDP(B5,$AS$2)","v":"N"},{"$f":"_xll.BDP(B5,$AT$2)","v":"#N/A N/A"},{"$f":"_xll.BDP(B5,$AU$2)","v":"N"},{"$f":"_xll.BDP(B5,$AV$2)","v":"N"},{"$f":"_xll.BDP(B5,$AW$2)","v":"US"},{"$f":"_xll.BDP(AC5 & \" Equity\",$AX$2)","v":"Information Technology"},{"$f":"_xll.BDP(AC5 & \" Equity\",$AY$2)","v":"Software & Services"},{"$f":"_xll.BDP(AC5 & \" Equity\",$AZ$2)","v":"Internet Software & Services"},null,0,{"$f":"_xll.BDP(B5,$BC$2)","v":4.0788704038604573},{"$f":"_xll.BDP(B5,$BD$2)","v":3.1261693724910731},{"$f":"_xll.BDP(B5,$BE$2)","v":-197.441841452511},{"$f":"_xll.BDP(B5,$BF$2)","v":-0.63400000000000001},{"$f":"_xll.BDP(B5,$BG$2)","v":-0.66450836557347304},{"$f":"_xll.BDP(B5,$BH$2)","v":0.7292831663207936},{"$f":"_xll.BDP(B5,$BI$2)","v":6.4412099737934296},null,{"$f":"_xll.BDP(B5,$BK$2)","v":102.4671},{"$f":"_xll.BDP(B5,$BL$2)","v":"#N/A Field Not Applicable"},{"$f":"_xll.BDP(B5,$BM$2)","v":42.515118529458057},{"$f":"_xll.BDP(B5,$BN$2)","v":6.0453720343097931E-3},{"$f":"_xll.BDP(B5,$BO$2)","v":53.923666575622399},{"$f":"_xll.BDP(AC5 & \" Equity\",$BP$2)","v":"#N/A N/A"},{"$f":"_xll.BDP(AC5 & \" Equity\",$BQ$2)","v":"10.02.2015"},{"$f":"_xll.BDP(AC5 & \" Equity\",$BR$2)","v":27.771827769140057}]
["US00184XAA37",{"$f":"A6 & \" Corp\"","v":"US00184XAA37 Corp"},"AOL Inc.",{"$f":"_xll.BDP(B6,$D$2)","v":"AOL INC"},{"$f":"_xll.BDP(B6,$E$2)","v":0.75},{"$f":"_xll.BDP(B6,$F$2)","v":"01.09.2019"},{"$f":"_xll.BDP(B6,$G$2)","v":"#N/A Field Not Applicable"},{"$f":"_xll.BDP(B6,$H$2)","v":"#N/A Field Not Applicable"},"2015-01-08",null,1,{"$f":"IF(R6=\"NG\",\"NG\",ROUND((M6*M$2+R6*R$2+S6*S$2+T6*$T$2+U6*U$2)/(L$2),0))","v":1},1,-1,0,0,"2014-08-18",-1,{"$f":"VLOOKUP(AX6,[1]Sheet1!$C$8:$D$23,2,FALSE)","v":1},{"$f":"MIN(ROUND(ABS(V6/AD6)*200,0),2)*SIGN(V6)","v":0},{"$f":"MIN(ROUND(ABS(X6),0),2)*IFERROR(SIGN(X6),0)","v":1},{"$f":"_xll.BDP(AC6 & \" Equity\",$V$3)","v":6.0183405876159668E-2},{"$f":"_xll.BDP(AC6 & \" Equity\",$W$3)","v":34.192286757780224},{"$f":"IFERROR(10*LN((100+Z6)/(100+$Z$1))+2*LN((100+$W$2)/(100+W6)),0)","v":0.77430605588167256},{"$f":"_xll.BDP(AC6 & \" Equity\",$Y$2)","v":8.8628330000000002},{"$f":"_xll.BDP(AC6 & \" Equity\",$Z$2)","v":20.75422},{"$f":"_xll.BDP(AC6 & \" Equity\",$AA$2)","v":0.56314019999999998},{"$f":"_xll.BDP(AC6 & \" Equity\",$AB$2)","v":"AOL US"},{"$f":"_xll.BDP(B6,$AC$2)","v":"EQ0000000008417856"},{"$f":"_xll.BDP(AC6 & \" Equity\",$AD$2)","v":46.46},50,45,{"$f":"_xll.BDP(B6,$AG$2)","v":"USD"},{"$f":"_xll.BDP(B6,$AH$2)","v":379500000},{"$f":"IFERROR(VLOOKUP(A6,'Fisch Holding'!$A$5:$C$1245,3,FALSE)/AH6,\"-\")","v":2.292490118577075E-2},{"$f":"IFERROR(VLOOKUP(A6,'BM Weight'!$A$7:$D$1020,3,FALSE),\"-\")","v":"-"},{"$f":"IFERROR(VLOOKUP(A6,'BM Weight'!$A$7:$D$1020,4,FALSE),\"-    \")","v":"-    "},{"$f":"IFERROR(VLOOKUP(A6,'Implied Rating'!$B$7:$C$1179,2,FALSE),\"-\")","v":"BB+"},{"$f":"IFERROR(VLOOKUP(A6,'ICV Rating'!$B$5:$E$1306,2,FALSE),\"-\")","v":"BB"},{"$f":"_xll.BDP(B6,$AN$2)","v":"#N/A N/A"},{"$f":"_xll.BDP(B6,$AO$2)","v":"#N/A N/A"},{"$f":"_xll.BDP(B6,$AP$2)","v":"#N/A N/A"},{"$f":"_xll.BDP(B6,$AQ$2)","v":"N"},{"$f":"_xll.BDP(B6,$AR$2)","v":"Optionally"},{"$f":"_xll.BDP(B6,$AS$2)","v":"N"},{"$f":"_xll.BDP(B6,$AT$2)","v":"N"},{"$f":"_xll.BDP(B6,$AU$2)","v":"N"},{"$f":"_xll.BDP(B6,$AV$2)","v":"N"},{"$f":"_xll.BDP(B6,$AW$2)","v":"US"},{"$f":"_xll.BDP(AC6 & \" Equity\",$AX$2)","v":"Information Technology"},{"$f":"_xll.BDP(AC6 & \" Equity\",$AY$2)","v":"Software & Services"},{"$f":"_xll.BDP(AC6 & \" Equity\",$AZ$2)","v":"Internet Software & Services"},null,0,{"$f":"_xll.BDP(B6,$BC$2)","v":4.5497104435365188},{"$f":"_xll.BDP(B6,$BD$2)","v":2.4582415736263741},{"$f":"_xll.BDP(B6,$BE$2)","v":-230.70286708936121},{"$f":"_xll.BDP(B6,$BF$2)","v":-0.87},{"$f":"_xll.BDP(B6,$BG$2)","v":0.28164603403778571},{"$f":"_xll.BDP(B6,$BH$2)","v":4.4980974763677306},{"$f":"_xll.BDP(B6,$BI$2)","v":10.733771788491728},null,{"$f":"_xll.BDP(B6,$BK$2)","v":107.4448},{"$f":"_xll.BDP(B6,$BL$2)","v":"#N/A Field Not Applicable"},{"$f":"_xll.BDP(B6,$BM$2)","v":63.789054031173166},{"$f":"_xll.BDP(B6,$BN$2)","v":5.1318911019902136E-3},{"$f":"_xll.BDP(B6,$BO$2)","v":32.886548813163046},{"$f":"_xll.BDP(AC6 & \" Equity\",$BP$2)","v":"#N/A N/A"},{"$f":"_xll.BDP(AC6 & \" Equity\",$BQ$2)","v":"06.02.2015"},{"$f":"_xll.BDP(AC6 & \" Equity\",$BR$2)","v":33.559864164453757}]
["US095229AB69",{"$f":"A7 & \" Corp\"","v":"US095229AB69 Corp"},"BLUCORA INC",{"$f":"_xll.BDP(B7,$D$2)","v":"BLUCORA INC"},{"$f":"_xll.BDP(B7,$E$2)","v":4.25},{"$f":"_xll.BDP(B7,$F$2)","v":"01.04.2019"},{"$f":"_xll.BDP(B7,$G$2)","v":"#N/A Field Not Applicable"},{"$f":"_xll.BDP(B7,$H$2)","v":"06.04.2016"},"2013-11-12","NE 3.2013; USD 200 Mio; PP; I-CV 6.13",-1,{"$f":"ROUND((T7*T$2+U7*U$2+S7*S$2+IF(P7=\"NR\",0,P7^2*SIGN(P7))+M7*M$2)/(L$2-IF(P7=\"NR\",0,P$2)-IF(S7,0,S$2)),0)","v":-1},0,0,1,-1,"2013-11-12",-2,{"$f":"VLOOKUP(AX7,[1]Sheet1!$C$8:$D$23,2,FALSE)","v":1},{"$f":"MIN(ROUND(ABS(V7/AD7)*200,0),2)*SIGN(V7)","v":-1},{"$f":"MIN(ROUND(ABS(X7),0),2)*IFERROR(SIGN(X7),0)","v":-2},{"$f":"_xll.BDP(AC7 & \" Equity\",$V$3)","v":-3.6189720034599304E-2},{"$f":"_xll.BDP(AC7 & \" Equity\",$W$3)","v":38.705429778547106},{"$f":"IFERROR(10*LN((100+Z7)/(100+$Z$1))+2*LN((100+$W$2)/(100+W7)),0)","v":-2.7511197025438427},{"$f":"_xll.BDP(AC7 & \" Equity\",$Y$2)","v":-1.143292},{"$f":"_xll.BDP(AC7 & \" Equity\",$Z$2)","v":-14.558630000000001},{"$f":"_xll.BDP(AC7 & \" Equity\",$AA$2)","v":-6.3537929999999996},{"$f":"_xll.BDP(AC7 & \" Equity\",$AB$2)","v":"BCOR US"},{"$f":"_xll.BDP(B7,$AC$2)","v":"EQ0034880100001000"},{"$f":"_xll.BDP(AC7 & \" Equity\",$AD$2)","v":12.65},15.5,12,{"$f":"_xll.BDP(B7,$AG$2)","v":"USD"},{"$f":"_xll.BDP(B7,$AH$2)","v":201250000},{"$f":"IFERROR(VLOOKUP(A7,'Fisch Holding'!$A$5:$C$1245,3,FALSE)/AH7,\"-\")","v":"-"},{"$f":"IFERROR(VLOOKUP(A7,'BM Weight'!$A$7:$D$1020,3,FALSE),\"-\")","v":"-"},{"$f":"IFERROR(VLOOKUP(A7,'BM Weight'!$A$7:$D$1020,4,FALSE),\"-    \")","v":"-    "},{"$f":"IFERROR(VLOOKUP(A7,'Implied Rating'!$B$7:$C$1179,2,FALSE),\"-\")","v":"CCC"},{"$f":"IFERROR(VLOOKUP(A7,'ICV Rating'!$B$5:$E$1306,2,FALSE),\"-\")","v":"B-"},{"$f":"_xll.BDP(B7,$AN$2)","v":"#N/A N/A"},{"$f":"_xll.BDP(B7,$AO$2)","v":"#N/A N/A"},{"$f":"_xll.BDP(B7,$AP$2)","v":"#N/A N/A"},{"$f":"_xll.BDP(B7,$AQ$2)","v":"N"},{"$f":"_xll.BDP(B7,$AR$2)","v":"Optionally"},{"$f":"_xll.BDP(B7,$AS$2)","v":"N"},{"$f":"_xll.BDP(B7,$AT$2)","v":"N"},{"$f":"_xll.BDP(B7,$AU$2)","v":"N"},{"$f":"_xll.BDP(B7,$AV$2)","v":"Y"},{"$f":"_xll.BDP(B7,$AW$2)","v":"US"},{"$f":"_xll.BDP(AC7 & \" Equity\",$AX$2)","v":"Information Technology"},{"$f":"_xll.BDP(AC7 & \" Equity\",$AY$2)","v":"Software & Services"},{"$f":"_xll.BDP(AC7 & \" Equity\",$AZ$2)","v":"Internet Software & Services"},null,0,{"$f":"_xll.BDP(B7,$BC$2)","v":3.7043020421065633},{"$f":"_xll.BDP(B7,$BD$2)","v":2.2481674669868026},{"$f":"_xll.BDP(B7,$BE$2)","v":478.3845260965611},{"$f":"_xll.BDP(B7,$BF$2)","v":6.1120000000000001},{"$f":"_xll.BDP(B7,$BG$2)","v":-1.2511507698544584},{"$f":"_xll.BDP(B7,$BH$2)","v":-1.1190881488122464},{"$f":"_xll.BDP(B7,$BI$2)","v":-6.8158337953551973},null,{"$f":"_xll.BDP(B7,$BK$2)","v":92.77158},{"$f":"_xll.BDP(B7,$BL$2)","v":"#N/A Field Not Applicable"},{"$f":"_xll.BDP(B7,$BM$2)","v":42.564195127629887},{"$f":"_xll.BDP(B7,$BN$2)","v":5.7032341182358288E-3},{"$f":"_xll.BDP(B7,$BO$2)","v":55.620375455135814},{"$f":"_xll.BDP(AC7 & \" Equity\",$BP$2)","v":"#N/A N/A"},{"$f":"_xll.BDP(AC7 & \" Equity\",$BQ$2)","v":"20.02.2015"},{"$f":"_xll.BDP(AC7 & \" Equity\",$BR$2)","v":33.616660312328264}]
["US101388AA48",{"$f":"A8 & \" Corp\"","v":"US101388AA48 Corp"},"BOTTOMLINE TECHNOLOGIES",{"$f":"_xll.BDP(B8,$D$2)","v":"BOTTOMLINE TECHNOLOGIES"},{"$f":"_xll.BDP(B8,$E$2)","v":1.5},{"$f":"_xll.BDP(B8,$F$2)","v":"01.12.2017"},{"$f":"_xll.BDP(B8,$G$2)","v":"#N/A Field Not Applicable"},{"$f":"_xll.BDP(B8,$H$2)","v":"#N/A Field Not Applicable"},"2014-10-29","190 Mio; implied B",-1,{"$f":"ROUND((T8*T$2+U8*U$2+S8*S$2+IF(P8=\"NR\",0,P8^2*SIGN(P8))+M8*M$2)/(L$2-IF(P8=\"NR\",0,P$2)-IF(S8,0,S$2)),0)","v":-1},0,0,1,"NR","2014-03-03",1,{"$f":"VLOOKUP(AX8,[1]Sheet1!$C$8:$D$23,2,FALSE)","v":1},{"$f":"MIN(ROUND(ABS(V8/AD8)*200,0),2)*SIGN(V8)","v":-2},{"$f":"MIN(ROUND(ABS(X8),0),2)*IFERROR(SIGN(X8),0)","v":-2},{"$f":"_xll.BDP(AC8 & \" Equity\",$V$3)","v":-0.33541557192802429},{"$f":"_xll.BDP(AC8 & \" Equity\",$W$3)","v":53.221191946062021},{"$f":"IFERROR(10*LN((100+Z8)/(100+$Z$1))+2*LN((100+$W$2)/(100+W8)),0)","v":-3.9046326640274129},{"$f":"_xll.BDP(AC8 & \" Equity\",$Y$2)","v":-6.1278879999999996},{"$f":"_xll.BDP(AC8 & \" Equity\",$Z$2)","v":-22.33652},{"$f":"_xll.BDP(AC8 & \" Equity\",$AA$2)","v":-16.376580000000001},{"$f":"_xll.BDP(AC8 & \" Equity\",$AB$2)","v":"EPAY US"},{"$f":"_xll.BDP(B8,$AC$2)","v":"EQ0038610300001000"},{"$f":"_xll.BDP(AC8 & \" Equity\",$AD$2)","v":22},26,20,{"$f":"_xll.BDP(B8,$AG$2)","v":"USD"},{"$f":"_xll.BDP(B8,$AH$2)","v":189750000},{"$f":"IFERROR(VLOOKUP(A8,'Fisch Holding'!$A$5:$C$1245,3,FALSE)/AH8,\"-\")","v":"-"},{"$f":"IFERROR(VLOOKUP(A8,'BM Weight'!$A$7:$D$1020,3,FALSE),\"-\")","v":"-"},{"$f":"IFERROR(VLOOKUP(A8,'BM Weight'!$A$7:$D$1020,4,FALSE),\"-    \")","v":"-    "},{"$f":"IFERROR(VLOOKUP(A8,'Implied Rating'!$B$7:$C$1179,2,FALSE),\"-\")","v":"BB-"},{"$f":"IFERROR(VLOOKUP(A8,'ICV Rating'!$B$5:$E$1306,2,FALSE),\"-\")","v":0},{"$f":"_xll.BDP(B8,$AN$2)","v":"#N/A N/A"},{"$f":"_xll.BDP(B8,$AO$2)","v":"#N/A N/A"},{"$f":"_xll.BDP(B8,$AP$2)","v":"#N/A N/A"},{"$f":"_xll.BDP(B8,$AQ$2)","v":"N"},{"$f":"_xll.BDP(B8,$AR$2)","v":"Optionally"},{"$f":"_xll.BDP(B8,$AS$2)","v":"N"},{"$f":"_xll.BDP(B8,$AT$2)","v":"N"},{"$f":"_xll.BDP(B8,$AU$2)","v":"N"},{"$f":"_xll.BDP(B8,$AV$2)","v":"N"},{"$f":"_xll.BDP(B8,$AW$2)","v":"US"},{"$f":"_xll.BDP(AC8 & \" Equity\",$AX$2)","v":"Information Technology"},{"$f":"_xll.BDP(AC8 & \" Equity\",$AY$2)","v":"Software & Services"},{"$f":"_xll.BDP(AC8 & \" Equity\",$AZ$2)","v":"Software"},null,0,{"$f":"_xll.BDP(B8,$BC$2)","v":2.7792755419667752},{"$f":"_xll.BDP(B8,$BD$2)","v":1.6444121573882964},{"$f":"_xll.BDP(B8,$BE$2)","v":78.097545184199817},{"$f":"_xll.BDP(B8,$BF$2)","v":1.8140000000000001},{"$f":"_xll.BDP(B8,$BG$2)","v":-6.3971462004074349},{"$f":"_xll.BDP(B8,$BH$2)","v":-2.8197434538894877},{"$f":"_xll.BDP(B8,$BI$2)","v":-11.960347348741678},null,{"$f":"_xll.BDP(B8,$BK$2)","v":98.935050000000004},{"$f":"_xll.BDP(B8,$BL$2)","v":"#N/A Field Not Applicable"},{"$f":"_xll.BDP(B8,$BM$2)","v":58.058478357863088},{"$f":"_xll.BDP(B8,$BN$2)","v":5.4933688906375171E-3},{"$f":"_xll.BDP(B8,$BO$2)","v":40.798085239897148},{"$f":"_xll.BDP(AC8 & \" Equity\",$BP$2)","v":"#N/A N/A"},{"$f":"_xll.BDP(AC8 & \" Equity\",$BQ$2)","v":"30.01.2015"},{"$f":"_xll.BDP(AC8 & \" Equity\",$BR$2)","v":46.224466956837105},null,"2013-11-05"]
["US11133BAB80",{"$f":"A9 & \" Corp\"","v":"US11133BAB80 Corp"},"BROADSOFT INC",{"$f":"_xll.BDP(B9,$D$2)","v":"BROADSOFT INC"},{"$f":"_xll.BDP(B9,$E$2)","v":1.5},{"$f":"_xll.BDP(B9,$F$2)","v":"01.07.2018"},{"$f":"_xll.BDP(B9,$G$2)","v":"#N/A Field Not Applicable"},{"$f":"_xll.BDP(B9,$H$2)","v":"#N/A Field Not Applicable"},"2014-02-03","USD 120 Mio; Voice-Internet(Cloud)-Provider",0,{"$f":"ROUND((T9*T$2+U9*U$2+S9*S$2+IF(P9=\"NR\",0,P9^2*SIGN(P9))+M9*M$2)/(L$2-IF(P9=\"NR\",0,P$2)-IF(S9,0,S$2)),0)","v":0},0,0,-1,"NR","2014-02-03",1,{"$f":"VLOOKUP(AX9,[1]Sheet1!$C$8:$D$23,2,FALSE)","v":1},{"$f":"MIN(ROUND(ABS(V9/AD9)*200,0),2)*SIGN(V9)","v":-1},{"$f":"MIN(ROUND(ABS(X9),0),2)*IFERROR(SIGN(X9),0)","v":2},{"$f":"_xll.BDP(AC9 & \" Equity\",$V$3)","v":-0.12681916356086731},{"$f":"_xll.BDP(AC9 & \" Equity\",$W$3)","v":48.632032702218808},{"$f":"IFERROR(10*LN((100+Z9)/(100+$Z$1))+2*LN((100+$W$2)/(100+W9)),0)","v":2.5312425584701526},{"$f":"_xll.BDP(AC9 & \" Equity\",$Y$2)","v":5.8059880000000001},{"$f":"_xll.BDP(AC9 & \" Equity\",$Z$2)","v":46.920389999999998},{"$f":"_xll.BDP(AC9 & \" Equity\",$AA$2)","v":1.1026860000000001},{"$f":"_xll.BDP(AC9 & \" Equity\",$AB$2)","v":"BSFT US"},{"$f":"_xll.BDP(B9,$AC$2)","v":"EQ0088175000001000"},{"$f":"_xll.BDP(AC9 & \" Equity\",$AD$2)","v":28.504999999999999},29.5,27,{"$f":"_xll.BDP(B9,$AG$2)","v":"USD"},{"$f":"_xll.BDP(B9,$AH$2)","v":120000000},{"$f":"IFERROR(VLOOKUP(A9,'Fisch Holding'!$A$5:$C$1245,3,FALSE)/AH9,\"-\")","v":"-"},{"$f":"IFERROR(VLOOKUP(A9,'BM Weight'!$A$7:$D$1020,3,FALSE),\"-\")","v":"-"},{"$f":"IFERROR(VLOOKUP(A9,'BM Weight'!$A$7:$D$1020,4,FALSE),\"-    \")","v":"-    "},{"$f":"IFERROR(VLOOKUP(A9,'Implied Rating'!$B$7:$C$1179,2,FALSE),\"-\")","v":"B+"},{"$f":"IFERROR(VLOOKUP(A9,'ICV Rating'!$B$5:$E$1306,2,FALSE),\"-\")","v":0},{"$f":"_xll.BDP(B9,$AN$2)","v":"#N/A N/A"},{"$f":"_xll.BDP(B9,$AO$2)","v":"#N/A N/A"},{"$f":"_xll.BDP(B9,$AP$2)","v":"#N/A N/A"},{"$f":"_xll.BDP(B9,$AQ$2)","v":"N"},{"$f":"_xll.BDP(B9,$AR$2)","v":"Optionally"},{"$f":"_xll.BDP(B9,$AS$2)","v":"N"},{"$f":"_xll.BDP(B9,$AT$2)","v":"N"},{"$f":"_xll.BDP(B9,$AU$2)","v":"N"},{"$f":"_xll.BDP(B9,$AV$2)","v":"N"},{"$f":"_xll.BDP(B9,$AW$2)","v":"US"},{"$f":"_xll.BDP(AC9 & \" Equity\",$AX$2)","v":"Information Technology"},{"$f":"_xll.BDP(AC9 & \" Equity\",$AY$2)","v":"Software & Services"},{"$f":"_xll.BDP(AC9 & \" Equity\",$AZ$2)","v":"Software"},null,0,{"$f":"_xll.BDP(B9,$BC$2)","v":3.3663837272331465},{"$f":"_xll.BDP(B9,$BD$2)","v":2.0691977586162333},{"$f":"_xll.BDP(B9,$BE$2)","v":-113.74181006317666},{"$f":"_xll.BDP(B9,$BF$2)","v":4.8000000000000001E-2},{"$f":"_xll.BDP(B9,$BG$2)","v":1.2256301008243795},{"$f":"_xll.BDP(B9,$BH$2)","v":2.0035890615678769},{"$f":"_xll.BDP(B9,$BI$2)","v":7.171853153755456},null,{"$f":"_xll.BDP(B9,$BK$2)","v":104.5442},{"$f":"_xll.BDP(B9,$BL$2)","v":"#N/A Field Not Applicable"},{"$f":"_xll.BDP(B9,$BM$2)","v":53.16371257436446},{"$f":"_xll.BDP(B9,$BN$2)","v":3.9179584823779631E-3},{"$f":"_xll.BDP(B9,$BO$2)","v":50.284467945631938},{"$f":"_xll.BDP(AC9 & \" Equity\",$BP$2)","v":"#N/A N/A"},{"$f":"_xll.BDP(AC9 & \" Equity\",$BQ$2)","v":"27.02.2015"},{"$f":"_xll.BDP(AC9 & \" Equity\",$BR$2)","v":42.86138993886965}]
["US111621AP39",{"$f":"A10 & \" Corp\"","v":"US111621AP39 Corp"},"ENVESTNET INC",{"$f":"_xll.BDP(B10,$D$2)","v":"BROCADE COMMUNICATIONS"},{"$f":"_xll.BDP(B10,$E$2)","v":1.375},{"$f":"_xll.BDP(B10,$F$2)","v":"01.01.2020"},{"$f":"_xll.BDP(B10,$G$2)","v":"#N/A Field Not Applicable"},{"$f":"_xll.BDP(B10,$H$2)","v":"#N/A Field Not Applicable"},"2015-01-15","NE Dez. 14",1,{"$f":"ROUND((T10*T$2+U10*U$2+S10*S$2+IF(P10=\"NR\",0,P10^2*SIGN(P10))+M10*M$2)/(L$2-IF(P10=\"NR\",0,P$2)-IF(S10,0,S$2)),0)","v":1},1,-1,0,"NR","2014-04-22",0,{"$f":"VLOOKUP(AX10,[1]Sheet1!$C$8:$D$23,2,FALSE)","v":1},{"$f":"MIN(ROUND(ABS(V10/AD10)*200,0),2)*SIGN(V10)","v":0},{"$f":"MIN(ROUND(ABS(X10),0),2)*IFERROR(SIGN(X10),0)","v":2},{"$f":"_xll.BDP(AC10 & \" Equity\",$V$3)","v":9.0416669845581055E-3},{"$f":"_xll.BDP(AC10 & \" Equity\",$W$3)","v":24.315997200708122},{"$f":"IFERROR(10*LN((100+Z10)/(100+$Z$1))+2*LN((100+$W$2)/(100+W10)),0)","v":1.6265199802102464},{"$f":"_xll.BDP(AC10 & \" Equity\",$Y$2)","v":8.054297},{"$f":"_xll.BDP(AC10 & \" Equity\",$Z$2)","v":29.501080000000002},{"$f":"_xll.BDP(AC10 & \" Equity\",$AA$2)","v":0.84459329999999999},{"$f":"_xll.BDP(AC10 & \" Equity\",$AB$2)","v":"BRCD US"},{"$f":"_xll.BDP(B10,$AC$2)","v":"EQ0035600800001000"},{"$f":"_xll.BDP(AC10 & \" Equity\",$AD$2)","v":11.88},12.2,11.5,{"$f":"_xll.BDP(B10,$AG$2)","v":"USD"},{"$f":"_xll.BDP(B10,$AH$2)","v":500000000},{"$f":"IFERROR(VLOOKUP(A10,'Fisch Holding'!$A$5:$C$1245,3,FALSE)/AH10,\"-\")","v":2.9000000000000001E-2},{"$f":"IFERROR(VLOOKUP(A10,'BM Weight'!$A$7:$D$1020,3,FALSE),\"-\")","v":"-"},{"$f":"IFERROR(VLOOKUP(A10,'BM Weight'!$A$7:$D$1020,4,FALSE),\"-    \")","v":"-    "},{"$f":"IFERROR(VLOOKUP(A10,'Implied Rating'!$B$7:$C$1179,2,FALSE),\"-\")","v":"BB+"},{"$f":"IFERROR(VLOOKUP(A10,'ICV Rating'!$B$5:$E$1306,2,FALSE),\"-\")","v":0},{"$f":"_xll.BDP(B10,$AN$2)","v":"BB"},{"$f":"_xll.BDP(B10,$AO$2)","v":"Ba2"},{"$f":"_xll.BDP(B10,$AP$2)","v":"BB+"},{"$f":"_xll.BDP(B10,$AQ$2)","v":"N"},{"$f":"_xll.BDP(B10,$AR$2)","v":"Optionally"},{"$f":"_xll.BDP(B10,$AS$2)","v":"N"},{"$f":"_xll.BDP(B10,$AT$2)","v":"#N/A N/A"},{"$f":"_xll.BDP(B10,$AU$2)","v":"N"},{"$f":"_xll.BDP(B10,$AV$2)","v":"N"},{"$f":"_xll.BDP(B10,$AW$2)","v":"US"},{"$f":"_xll.BDP(AC10 & \" Equity\",$AX$2)","v":"Information Technology"},{"$f":"_xll.BDP(AC10 & \" Equity\",$AY$2)","v":"Technology Hardware & Equipmen"},{"$f":"_xll.BDP(AC10 & \" Equity\",$AZ$2)","v":"Communications Equipment"},null,0,{"$f":"_xll.BDP(B10,$BC$2)","v":4.7870555054451058},{"$f":"_xll.BDP(B10,$BD$2)","v":2.9561939213614088},{"$f":"_xll.BDP(B10,$BE$2)","v":-100.94978259910476},{"$f":"_xll.BDP(B10,$BF$2)","v":0.48399999999999999},{"$f":"_xll.BDP(B10,$BG$2)","v":"#N/A N/A"},{"$f":"_xll.BDP(B10,$BH$2)","v":"#N/A N/A"},{"$f":"_xll.BDP(B10,$BI$2)","v":"#N/A N/A"},null,{"$f":"_xll.BDP(B10,$BK$2)","v":104.17100000000001},{"$f":"_xll.BDP(B10,$BL$2)","v":"#N/A Field Not Applicable"},{"$f":"_xll.BDP(B10,$BM$2)","v":57.210382305344467},{"$f":"_xll.BDP(B10,$BN$2)","v":5.5344212981604766E-3},{"$f":"_xll.BDP(B10,$BO$2)","v":39.215483444384574},{"$f":"_xll.BDP(AC10 & \" Equity\",$BP$2)","v":1.1725293182248446},{"$f":"_xll.BDP(AC10 & \" Equity\",$BQ$2)","v":"13.02.2015"},{"$f":"_xll.BDP(AC10 & \" Equity\",$BR$2)","v":28.369265373861772}]
["US127387AJ78",{"$f":"A11 & \" Corp\"","v":"US127387AJ78 Corp"},"CADENCE DESIGN SYS INC",{"$f":"_xll.BDP(B11,$D$2)","v":"CADENCE DESIGN SYS INC"},{"$f":"_xll.BDP(B11,$E$2)","v":2.625},{"$f":"_xll.BDP(B11,$F$2)","v":"01.06.2015"},{"$f":"_xll.BDP(B11,$G$2)","v":"#N/A Field Not Applicable"},{"$f":"_xll.BDP(B11,$H$2)","v":"#N/A Field Not Applicable"},"2013-02-11",null,0,{"$f":"ROUND((T11*T$2+U11*U$2+S11*S$2+IF(P11=\"NR\",0,P11^2*SIGN(P11))+M11*M$2)/(L$2-IF(P11=\"NR\",0,P$2)-IF(S11,0,S$2)),0)","v":-1},-1,-1,-2,"NR","2013-02-11",1,{"$f":"VLOOKUP(AX11,[1]Sheet1!$C$8:$D$23,2,FALSE)","v":1},{"$f":"MIN(ROUND(ABS(V11/AD11)*200,0),2)*SIGN(V11)","v":-1},{"$f":"MIN(ROUND(ABS(X11),0),2)*IFERROR(SIGN(X11),0)","v":0},{"$f":"_xll.BDP(AC11 & \" Equity\",$V$3)","v":-7.702220231294632E-2},{"$f":"_xll.BDP(AC11 & \" Equity\",$W$3)","v":21.909967641686851},{"$f":"IFERROR(10*LN((100+Z11)/(100+$Z$1))+2*LN((100+$W$2)/(100+W11)),0)","v":0.39892033284347628},{"$f":"_xll.BDP(AC11 & \" Equity\",$Y$2)","v":2.3836240000000002},{"$f":"_xll.BDP(AC11 & \" Equity\",$Z$2)","v":14.09375},{"$f":"_xll.BDP(AC11 & \" Equity\",$AA$2)","v":-3.7691059999999998},{"$f":"_xll.BDP(AC11 & \" Equity\",$AB$2)","v":"CDNS US"},{"$f":"_xll.BDP(B11,$AC$2)","v":"EQ0010025400001000"},{"$f":"_xll.BDP(AC11 & \" Equity\",$AD$2)","v":18.190000000000001},19,16,{"$f":"_xll.BDP(B11,$AG$2)","v":"USD"},{"$f":"_xll.BDP(B11,$AH$2)","v":350000000},{"$f":"IFERROR(VLOOKUP(A11,'Fisch Holding'!$A$5:$C$1245,3,FALSE)/AH11,\"-\")","v":"-"},{"$f":"IFERROR(VLOOKUP(A11,'BM Weight'!$A$7:$D$1020,3,FALSE),\"-\")","v":"-"},{"$f":"IFERROR(VLOOKUP(A11,'BM Weight'!$A$7:$D$1020,4,FALSE),\"-    \")","v":"-    "},{"$f":"IFERROR(VLOOKUP(A11,'Implied Rating'!$B$7:$C$1179,2,FALSE),\"-\")","v":"B+"},{"$f":"IFERROR(VLOOKUP(A11,'ICV Rating'!$B$5:$E$1306,2,FALSE),\"-\")","v":0},{"$f":"_xll.BDP(B11,$AN$2)","v":"#N/A N/A"},{"$f":"_xll.BDP(B11,$AO$2)","v":"Baa2"},{"$f":"_xll.BDP(B11,$AP$2)","v":"BBB-"},{"$f":"_xll.BDP(B11,$AQ$2)","v":"N"},{"$f":"_xll.BDP(B11,$AR$2)","v":"Optionally"},{"$f":"_xll.BDP(B11,$AS$2)","v":"N"},{"$f":"_xll.BDP(B11,$AT$2)","v":"Y"},{"$f":"_xll.BDP(B11,$AU$2)","v":"N"},{"$f":"_xll.BDP(B11,$AV$2)","v":"N"},{"$f":"_xll.BDP(B11,$AW$2)","v":"US"},{"$f":"_xll.BDP(AC11 & \" Equity\",$AX$2)","v":"Information Technology"},{"$f":"_xll.BDP(AC11 & \" Equity\",$AY$2)","v":"Software & Services"},{"$f":"_xll.BDP(AC11 & \" Equity\",$AZ$2)","v":"Software"},null,0,{"$f":"_xll.BDP(B11,$BC$2)","v":0.86474401450659599},{"$f":"_xll.BDP(B11,$BD$2)","v":-1.4701642566989359E-2},{"$f":"_xll.BDP(B11,$BE$2)","v":-14076.971122333853},{"$f":"_xll.BDP(B11,$BF$2)","v":-161.566},{"$f":"_xll.BDP(B11,$BG$2)","v":-0.91106087591092244},{"$f":"_xll.BDP(B11,$BH$2)","v":2.4699615481581354},{"$f":"_xll.BDP(B11,$BI$2)","v":14.013095486901955},null,{"$f":"_xll.BDP(B11,$BK$2)","v":242.2458},{"$f":"_xll.BDP(B11,$BL$2)","v":"#N/A Field Not Applicable"},{"$f":"_xll.BDP(B11,$BM$2)","v":100.00000000000912},{"$f":"_xll.BDP(B11,$BN$2)","v":-5.0807407492292068E-14},{"$f":"_xll.BDP(B11,$BO$2)","v":0.38353715821104917},{"$f":"_xll.BDP(AC11 & \" Equity\",$BP$2)","v":"#N/A N/A"},{"$f":"_xll.BDP(AC11 & \" Equity\",$BQ$2)","v":"04.02.2015"},{"$f":"_xll.BDP(AC11 & \" Equity\",$BR$2)","v":23.874820231714569}]
["US136635AD18",{"$f":"A12 & \" Corp\"","v":"US136635AD18 Corp"},"Canadian Solar",{"$f":"_xll.BDP(B12,$D$2)","v":"CANADIAN SOLAR INC"},{"$f":"_xll.BDP(B12,$E$2)","v":4.25},{"$f":"_xll.BDP(B12,$F$2)","v":"15.02.2019"},{"$f":"_xll.BDP(B12,$G$2)","v":"#N/A Field Not Applicable"},{"$f":"_xll.BDP(B12,$H$2)","v":"#N/A Field Not Applicable"},"2014-09-11","NE Febr. 14; USD 150 Mio",1,{"$f":"ROUND((T12*T$2+U12*U$2+S12*S$2+IF(P12=\"NR\",0,P12^2*SIGN(P12))+M12*M$2)/(L$2-IF(P12=\"NR\",0,P$2)-IF(S12,0,S$2)),0)","v":0},1,-1,0,0,"2014-08-18",-2,{"$f":"VLOOKUP(AX12,[1]Sheet1!$C$8:$D$23,2,FALSE)","v":1},{"$f":"MIN(ROUND(ABS(V12/AD12)*200,0),2)*SIGN(V12)","v":1},{"$f":"MIN(ROUND(ABS(X12),0),2)*IFERROR(SIGN(X12),0)","v":-2},{"$f":"_xll.BDP(AC12 & \" Equity\",$V$3)","v":7.2577416896820068E-2},{"$f":"_xll.BDP(AC12 & \" Equity\",$W$3)","v":63.703295204322586},{"$f":"IFERROR(10*LN((100+Z12)/(100+$Z$1))+2*LN((100+$W$2)/(100+W12)),0)","v":-3.4697819371331606},{"$f":"_xll.BDP(AC12 & \" Equity\",$Y$2)","v":-0.53860269999999999},{"$f":"_xll.BDP(AC12 & \" Equity\",$Z$2)","v":-17.80415},{"$f":"_xll.BDP(AC12 & \" Equity\",$AA$2)","v":-8.3918999999999997},{"$f":"_xll.BDP(AC12 & \" Equity\",$AB$2)","v":"CSIQ US"},{"$f":"_xll.BDP(B12,$AC$2)","v":"EQ0000000002925337"},{"$f":"_xll.BDP(AC12 & \" Equity\",$AD$2)","v":22.02},25,20,{"$f":"_xll.BDP(B12,$AG$2)","v":"USD"},{"$f":"_xll.BDP(B12,$AH$2)","v":150000000},{"$f":"IFERROR(VLOOKUP(A12,'Fisch Holding'!$A$5:$C$1245,3,FALSE)/AH12,\"-\")","v":"-"},{"$f":"IFERROR(VLOOKUP(A12,'BM Weight'!$A$7:$D$1020,3,FALSE),\"-\")","v":"-"},{"$f":"IFERROR(VLOOKUP(A12,'BM Weight'!$A$7:$D$1020,4,FALSE),\"-    \")","v":"-    "},{"$f":"IFERROR(VLOOKUP(A12,'Implied Rating'!$B$7:$C$1179,2,FALSE),\"-\")","v":"CCC+"},{"$f":"IFERROR(VLOOKUP(A12,'ICV Rating'!$B$5:$E$1306,2,FALSE),\"-\")","v":"B"},{"$f":"_xll.BDP(B12,$AN$2)","v":"#N/A N/A"},{"$f":"_xll.BDP(B12,$AO$2)","v":"#N/A N/A"},{"$f":"_xll.BDP(B12,$AP$2)","v":"#N/A N/A"},{"$f":"_xll.BDP(B12,$AQ$2)","v":"N"},{"$f":"_xll.BDP(B12,$AR$2)","v":"Optionally"},{"$f":"_xll.BDP(B12,$AS$2)","v":"N"},{"$f":"_xll.BDP(B12,$AT$2)","v":"#N/A N/A"},{"$f":"_xll.BDP(B12,$AU$2)","v":"N"},{"$f":"_xll.BDP(B12,$AV$2)","v":"N"},{"$f":"_xll.BDP(B12,$AW$2)","v":"CA"},{"$f":"_xll.BDP(AC12 & \" Equity\",$AX$2)","v":"Information Technology"},{"$f":"_xll.BDP(AC12 & \" Equity\",$AY$2)","v":"Semiconductors & Semiconductor"},{"$f":"_xll.BDP(AC12 & \" Equity\",$AZ$2)","v":"Semiconductors & Semiconductor"},null,0,{"$f":"_xll.BDP(B12,$BC$2)","v":3.5328886471317729},{"$f":"_xll.BDP(B12,$BD$2)","v":2.2848145581021462},{"$f":"_xll.BDP(B12,$BE$2)","v":666.66946240183506},{"$f":"_xll.BDP(B12,$BF$2)","v":7.9729999999999999},{"$f":"_xll.BDP(B12,$BG$2)","v":-0.24689124570004189},{"$f":"_xll.BDP(B12,$BH$2)","v":-0.56149878383163054},{"$f":"_xll.BDP(B12,$BI$2)","v":-11.496527003397555},null,{"$f":"_xll.BDP(B12,$BK$2)","v":87.039929999999998},{"$f":"_xll.BDP(B12,$BL$2)","v":"#N/A Field Not Applicable"},{"$f":"_xll.BDP(B12,$BM$2)","v":61.866554678819341},{"$f":"_xll.BDP(B12,$BN$2)","v":3.6726425318514039E-3},{"$f":"_xll.BDP(B12,$BO$2)","v":77.236414918910555},{"$f":"_xll.BDP(AC12 & \" Equity\",$BP$2)","v":"#N/A N/A"},{"$f":"_xll.BDP(AC12 & \" Equity\",$BQ$2)","v":"05.03.2015"},{"$f":"_xll.BDP(AC12 & \" Equity\",$BR$2)","v":63.278238201289717}]
["US14161HAG39",{"$f":"A13 & \" Corp\"","v":"US14161HAG39 Corp"},"CARDTRONICS INC",{"$f":"_xll.BDP(B13,$D$2)","v":"CARDTRONICS INC"},{"$f":"_xll.BDP(B13,$E$2)","v":1},{"$f":"_xll.BDP(B13,$F$2)","v":"01.12.2020"},{"$f":"_xll.BDP(B13,$G$2)","v":"#N/A Field Not Applicable"},{"$f":"_xll.BDP(B13,$H$2)","v":"#N/A Field Not Applicable"},"2014-07-28","NE Nov. 13; 288 Mio; BB+; ATM-Operator",1,{"$f":"ROUND((T13*T$2+U13*U$2+S13*S$2+IF(P13=\"NR\",0,P13^2*SIGN(P13))+M13*M$2)/(L$2-IF(P13=\"NR\",0,P$2)-IF(S13,0,S$2)),0)","v":0},1,0,0,0,"2014-07-28",-1,{"$f":"VLOOKUP(AX13,[1]Sheet1!$C$8:$D$23,2,FALSE)","v":1},{"$f":"MIN(ROUND(ABS(V13/AD13)*200,0),2)*SIGN(V13)","v":-1},{"$f":"MIN(ROUND(ABS(X13),0),2)*IFERROR(SIGN(X13),0)","v":-1},{"$f":"_xll.BDP(AC13 & \" Equity\",$V$3)","v":-0.19417552649974823},{"$f":"_xll.BDP(AC13 & \" Equity\",$W$3)","v":26.441390565159434},{"$f":"IFERROR(10*LN((100+Z13)/(100+$Z$1))+2*LN((100+$W$2)/(100+W13)),0)","v":-0.58720811958859787},{"$f":"_xll.BDP(AC13 & \" Equity\",$Y$2)","v":-0.74779470000000003},{"$f":"_xll.BDP(AC13 & \" Equity\",$Z$2)","v":4.1369490000000004},{"$f":"_xll.BDP(AC13 & \" Equity\",$AA$2)","v":-5.3913989999999998},{"$f":"_xll.BDP(AC13 & \" Equity\",$AB$2)","v":"CATM US"},{"$f":"_xll.BDP(B13,$AC$2)","v":"EQ0725889700001000"},{"$f":"_xll.BDP(AC13 & \" Equity\",$AD$2)","v":35.403500000000001},40,36,{"$f":"_xll.BDP(B13,$AG$2)","v":"USD"},{"$f":"_xll.BDP(B13,$AH$2)","v":287500000},{"$f":"IFERROR(VLOOKUP(A13,'Fisch Holding'!$A$5:$C$1245,3,FALSE)/AH13,\"-\")","v":"-"},{"$f":"IFERROR(VLOOKUP(A13,'BM Weight'!$A$7:$D$1020,3,FALSE),\"-\")","v":"-"},{"$f":"IFERROR(VLOOKUP(A13,'BM Weight'!$A$7:$D$1020,4,FALSE),\"-    \")","v":"-    "},{"$f":"IFERROR(VLOOKUP(A13,'Implied Rating'!$B$7:$C$1179,2,FALSE),\"-\")","v":"BB+"},{"$f":"IFERROR(VLOOKUP(A13,'ICV Rating'!$B$5:$E$1306,2,FALSE),\"-\")","v":"BB-"},{"$f":"_xll.BDP(B13,$AN$2)","v":"NR"},{"$f":"_xll.BDP(B13,$AO$2)","v":"Ba2"},{"$f":"_xll.BDP(B13,$AP$2)","v":"BB+"},{"$f":"_xll.BDP(B13,$AQ$2)","v":"N"},{"$f":"_xll.BDP(B13,$AR$2)","v":"Optionally"},{"$f":"_xll.BDP(B13,$AS$2)","v":"N"},{"$f":"_xll.BDP(B13,$AT$2)","v":"N"},{"$f":"_xll.BDP(B13,$AU$2)","v":"N"},{"$f":"_xll.BDP(B13,$AV$2)","v":"N"},{"$f":"_xll.BDP(B13,$AW$2)","v":"US"},{"$f":"_xll.BDP(AC13 & \" Equity\",$AX$2)","v":"Information Technology"},{"$f":"_xll.BDP(AC13 & \" Equity\",$AY$2)","v":"Software & Services"},{"$f":"_xll.BDP(AC13 & \" Equity\",$AZ$2)","v":"IT Services"},null,0,{"$f":"_xll.BDP(B13,$BC$2)","v":5.6496927010091822},{"$f":"_xll.BDP(B13,$BD$2)","v":3.0170655436129468},{"$f":"_xll.BDP(B13,$BE$2)","v":-3.4891223547535399},{"$f":"_xll.BDP(B13,$BF$2)","v":1.6},{"$f":"_xll.BDP(B13,$BG$2)","v":-0.52762407662266519},{"$f":"_xll.BDP(B13,$BH$2)","v":-1.036928515532703},{"$f":"_xll.BDP(B13,$BI$2)","v":2.466383507676174},null,{"$f":"_xll.BDP(B13,$BK$2)","v":96.474400000000003},{"$f":"_xll.BDP(B13,$BL$2)","v":"#N/A Field Not Applicable"},{"$f":"_xll.BDP(B13,$BM$2)","v":66.688768875765462},{"$f":"_xll.BDP(B13,$BN$2)","v":4.3794419589256997E-3},{"$f":"_xll.BDP(B13,$BO$2)","v":38.625644926791054},{"$f":"_xll.BDP(AC13 & \" Equity\",$BP$2)","v":"#N/A N/A"},{"$f":"_xll.BDP(AC13 & \" Equity\",$BQ$2)","v":"06.02.2015"},{"$f":"_xll.BDP(AC13 & \" Equity\",$BR$2)","v":25.108890023144216}]
["US171779AE10",{"$f":"A14 & \" Corp\"","v":"US171779AE10 Corp"},"CIENA CORP",{"$f":"_xll.BDP(B14,$D$2)","v":"CIENA CORP"},{"$f":"_xll.BDP(B14,$E$2)","v":0.875},{"$f":"_xll.BDP(B14,$F$2)","v":"15.06.2017"},{"$f":"_xll.BDP(B14,$G$2)","v":"#N/A Field Not Applicable"},{"$f":"_xll.BDP(B14,$H$2)","v":"#N/A Field Not Applicable"},"2014-06-12","USD 500; I-CV Dez. 2010 (0.4% BM)",-1,{"$f":"ROUND((T14*T$2+U14*U$2+S14*S$2+IF(P14=\"NR\",0,P14^2*SIGN(P14))+M14*M$2)/(L$2-IF(P14=\"NR\",0,P$2)-IF(S14,0,S$2)),0)","v":0},-1,0,0,0,"2014-06-12",-1,{"$f":"VLOOKUP(AX14,[1]Sheet1!$C$8:$D$23,2,FALSE)","v":1},{"$f":"MIN(ROUND(ABS(V14/AD14)*200,0),2)*SIGN(V14)","v":-1},{"$f":"MIN(ROUND(ABS(X14),0),2)*IFERROR(SIGN(X14),0)","v":2},{"$f":"_xll.BDP(AC14 & \" Equity\",$V$3)","v":-0.13571703433990479},{"$f":"_xll.BDP(AC14 & \" Equity\",$W$3)","v":39.119890016423611},{"$f":"IFERROR(10*LN((100+Z14)/(100+$Z$1))+2*LN((100+$W$2)/(100+W14)),0)","v":1.7000064602777341},{"$f":"_xll.BDP(AC14 & \" Equity\",$Y$2)","v":7.004969},{"$f":"_xll.BDP(AC14 & \" Equity\",$Z$2)","v":33.42503},{"$f":"_xll.BDP(AC14 & \" Equity\",$AA$2)","v":-5.1519049999999997E-2},{"$f":"_xll.BDP(AC14 & \" Equity\",$AB$2)","v":"CIEN US"},{"$f":"_xll.BDP(B14,$AC$2)","v":"EQ0021104000001000"},{"$f":"_xll.BDP(AC14 & \" Equity\",$AD$2)","v":19},19.5,18.5,{"$f":"_xll.BDP(B14,$AG$2)","v":"USD"},{"$f":"_xll.BDP(B14,$AH$2)","v":500000000},{"$f":"IFERROR(VLOOKUP(A14,'Fisch Holding'!$A$5:$C$1245,3,FALSE)/AH14,\"-\")","v":"-"},{"$f":"IFERROR(VLOOKUP(A14,'BM Weight'!$A$7:$D$1020,3,FALSE),\"-\")","v":"-"},{"$f":"IFERROR(VLOOKUP(A14,'BM Weight'!$A$7:$D$1020,4,FALSE),\"-    \")","v":"-    "},{"$f":"IFERROR(VLOOKUP(A14,'Implied Rating'!$B$7:$C$1179,2,FALSE),\"-\")","v":"BB"},{"$f":"IFERROR(VLOOKUP(A14,'ICV Rating'!$B$5:$E$1306,2,FALSE),\"-\")","v":"B-"},{"$f":"_xll.BDP(B14,$AN$2)","v":"NR"},{"$f":"_xll.BDP(B14,$AO$2)","v":"B2"},{"$f":"_xll.BDP(B14,$AP$2)","v":"B"},{"$f":"_xll.BDP(B14,$AQ$2)","v":"N"},{"$f":"_xll.BDP(B14,$AR$2)","v":"Optionally"},{"$f":"_xll.BDP(B14,$AS$2)","v":"N"},{"$f":"_xll.BDP(B14,$AT$2)","v":"N"},{"$f":"_xll.BDP(B14,$AU$2)","v":"N"},{"$f":"_xll.BDP(B14,$AV$2)","v":"N"},{"$f":"_xll.BDP(B14,$AW$2)","v":"US"},{"$f":"_xll.BDP(AC14 & \" Equity\",$AX$2)","v":"Information Technology"},{"$f":"_xll.BDP(AC14 & \" Equity\",$AY$2)","v":"Technology Hardware & Equipmen"},{"$f":"_xll.BDP(AC14 & \" Equity\",$AZ$2)","v":"Communications Equipment"},null,0,{"$f":"_xll.BDP(B14,$BC$2)","v":2.3666853146562725},{"$f":"_xll.BDP(B14,$BD$2)","v":2.1512930803836121},{"$f":"_xll.BDP(B14,$BE$2)","v":0.2082926190387748},{"$f":"_xll.BDP(B14,$BF$2)","v":0.89100000000000001},{"$f":"_xll.BDP(B14,$BG$2)","v":0.2986089739252572},{"$f":"_xll.BDP(B14,$BH$2)","v":0.59207407617132335},{"$f":"_xll.BDP(B14,$BI$2)","v":3.5415097175563375},null,{"$f":"_xll.BDP(B14,$BK$2)","v":99.751310000000004},{"$f":"_xll.BDP(B14,$BL$2)","v":"#N/A Field Not Applicable"},{"$f":"_xll.BDP(B14,$BM$2)","v":19.488429458073167},{"$f":"_xll.BDP(B14,$BN$2)","v":5.1402513957619148E-3},{"$f":"_xll.BDP(B14,$BO$2)","v":96.55363107498097},{"$f":"_xll.BDP(AC14 & \" Equity\",$BP$2)","v":"#N/A N/A"},{"$f":"_xll.BDP(AC14 & \" Equity\",$BQ$2)","v":"06.03.2015"},{"$f":"_xll.BDP(AC14 & \" Equity\",$BR$2)","v":39.954334955314877}]
["US171779AK79",{"$f":"A15 & \" Corp\"","v":"US171779AK79 Corp"},"CIENA CORP",{"$f":"_xll.BDP(B15,$D$2)","v":"CIENA CORP"},{"$f":"_xll.BDP(B15,$E$2)","v":4},{"$f":"_xll.BDP(B15,$F$2)","v":"15.12.2020"},{"$f":"_xll.BDP(B15,$G$2)","v":"#N/A Field Not Applicable"},{"$f":"_xll.BDP(B15,$H$2)","v":"#N/A Field Not Applicable"},"2013-07-24","USD 187;  I-CV Dez. 2010",0,{"$f":"ROUND((T15*T$2+U15*U$2+S15*S$2+IF(P15=\"NR\",0,P15^2*SIGN(P15))+M15*M$2)/(L$2-IF(P15=\"NR\",0,P$2)-IF(S15,0,S$2)),0)","v":1},0,-1,-1,0,"2013-07-24",-2,{"$f":"VLOOKUP(AX15,[1]Sheet1!$C$8:$D$23,2,FALSE)","v":1},{"$f":"MIN(ROUND(ABS(V15/AD15)*200,0),2)*SIGN(V15)","v":-1},{"$f":"MIN(ROUND(ABS(X15),0),2)*IFERROR(SIGN(X15),0)","v":2},{"$f":"_xll.BDP(AC15 & \" Equity\",$V$3)","v":-0.13571703433990479},{"$f":"_xll.BDP(AC15 & \" Equity\",$W$3)","v":39.119890016423611},{"$f":"IFERROR(10*LN((100+Z15)/(100+$Z$1))+2*LN((100+$W$2)/(100+W15)),0)","v":1.7000064602777341},{"$f":"_xll.BDP(AC15 & \" Equity\",$Y$2)","v":7.004969},{"$f":"_xll.BDP(AC15 & \" Equity\",$Z$2)","v":33.42503},{"$f":"_xll.BDP(AC15 & \" Equity\",$AA$2)","v":-5.1519049999999997E-2},{"$f":"_xll.BDP(AC15 & \" Equity\",$AB$2)","v":"CIEN US"},{"$f":"_xll.BDP(B15,$AC$2)","v":"EQ0021104000001000"},{"$f":"_xll.BDP(AC15 & \" Equity\",$AD$2)","v":19},19.5,18.5,{"$f":"_xll.BDP(B15,$AG$2)","v":"USD"},{"$f":"_xll.BDP(B15,$AH$2)","v":187500000},{"$f":"IFERROR(VLOOKUP(A15,'Fisch Holding'!$A$5:$C$1245,3,FALSE)/AH15,\"-\")","v":"-"},{"$f":"IFERROR(VLOOKUP(A15,'BM Weight'!$A$7:$D$1020,3,FALSE),\"-\")","v":"-"},{"$f":"IFERROR(VLOOKUP(A15,'BM Weight'!$A$7:$D$1020,4,FALSE),\"-    \")","v":"-    "},{"$f":"IFERROR(VLOOKUP(A15,'Implied Rating'!$B$7:$C$1179,2,FALSE),\"-\")","v":"-"},{"$f":"IFERROR(VLOOKUP(A15,'ICV Rating'!$B$5:$E$1306,2,FALSE),\"-\")","v":"-"},{"$f":"_xll.BDP(B15,$AN$2)","v":"#N/A N/A"},{"$f":"_xll.BDP(B15,$AO$2)","v":"B2"},{"$f":"_xll.BDP(B15,$AP$2)","v":"B"},{"$f":"_xll.BDP(B15,$AQ$2)","v":"N"},{"$f":"_xll.BDP(B15,$AR$2)","v":"Optionally"},{"$f":"_xll.BDP(B15,$AS$2)","v":"N"},{"$f":"_xll.BDP(B15,$AT$2)","v":"Y"},{"$f":"_xll.BDP(B15,$AU$2)","v":"N"},{"$f":"_xll.BDP(B15,$AV$2)","v":"N"},{"$f":"_xll.BDP(B15,$AW$2)","v":"US"},{"$f":"_xll.BDP(AC15 & \" Equity\",$AX$2)","v":"Information Technology"},{"$f":"_xll.BDP(AC15 & \" Equity\",$AY$2)","v":"Technology Hardware & Equipmen"},{"$f":"_xll.BDP(AC15 & \" Equity\",$AZ$2)","v":"Communications Equipment"},null,0,{"$f":"_xll.BDP(B15,$BC$2)","v":5.3401597837389074},{"$f":"_xll.BDP(B15,$BD$2)","v":1.667694817561816},{"$f":"_xll.BDP(B15,$BE$2)","v":40.595294167442425},{"$f":"_xll.BDP(B15,$BF$2)","v":2.0190000000000001},{"$f":"_xll.BDP(B15,$BG$2)","v":1.333359947611803},{"$f":"_xll.BDP(B15,$BH$2)","v":3.2550859610965084},{"$f":"_xll.BDP(B15,$BI$2)","v":11.053614582539604},null,{"$f":"_xll.BDP(B15,$BK$2)","v":124.871},{"$f":"_xll.BDP(B15,$BL$2)","v":"#N/A Field Not Applicable"},{"$f":"_xll.BDP(B15,$BM$2)","v":77.866722275388369},{"$f":"_xll.BDP(B15,$BN$2)","v":4.0407641832750424E-3},{"$f":"_xll.BDP(B15,$BO$2)","v":31.342390592697484},{"$f":"_xll.BDP(AC15 & \" Equity\",$BP$2)","v":"#N/A N/A"},{"$f":"_xll.BDP(AC15 & \" Equity\",$BQ$2)","v":"06.03.2015"},{"$f":"_xll.BDP(AC15 & \" Equity\",$BR$2)","v":39.954334955314877}]
["US171779AG67",{"$f":"A16 & \" Corp\"","v":"US171779AG67 Corp"},"CIENA CORP",{"$f":"_xll.BDP(B16,$D$2)","v":"CIENA CORP"},{"$f":"_xll.BDP(B16,$E$2)","v":3.75},{"$f":"_xll.BDP(B16,$F$2)","v":"15.10.2018"},{"$f":"_xll.BDP(B16,$G$2)","v":"#N/A Field Not Applicable"},{"$f":"_xll.BDP(B16,$H$2)","v":"#N/A Field Not Applicable"},"2014-12-16","USD 350;  I-CV Dez. 2010",1,{"$f":"ROUND((T16*T$2+U16*U$2+S16*S$2+IF(P16=\"NR\",0,P16^2*SIGN(P16))+M16*M$2)/(L$2-IF(P16=\"NR\",0,P$2)-IF(S16,0,S$2)),0)","v":1},1,0,-1,0,"2013-10-22",-2,{"$f":"VLOOKUP(AX16,[1]Sheet1!$C$8:$D$23,2,FALSE)","v":1},{"$f":"MIN(ROUND(ABS(V16/AD16)*200,0),2)*SIGN(V16)","v":-1},{"$f":"MIN(ROUND(ABS(X16),0),2)*IFERROR(SIGN(X16),0)","v":2},{"$f":"_xll.BDP(AC16 & \" Equity\",$V$3)","v":-0.13571703433990479},{"$f":"_xll.BDP(AC16 & \" Equity\",$W$3)","v":39.119890016423611},{"$f":"IFERROR(10*LN((100+Z16)/(100+$Z$1))+2*LN((100+$W$2)/(100+W16)),0)","v":1.7000064602777341},{"$f":"_xll.BDP(AC16 & \" Equity\",$Y$2)","v":7.004969},{"$f":"_xll.BDP(AC16 & \" Equity\",$Z$2)","v":33.42503},{"$f":"_xll.BDP(AC16 & \" Equity\",$AA$2)","v":-5.1519049999999997E-2},{"$f":"_xll.BDP(AC16 & \" Equity\",$AB$2)","v":"CIEN US"},{"$f":"_xll.BDP(B16,$AC$2)","v":"EQ0021104000001000"},{"$f":"_xll.BDP(AC16 & \" Equity\",$AD$2)","v":19},19.5,18.5,{"$f":"_xll.BDP(B16,$AG$2)","v":"USD"},{"$f":"_xll.BDP(B16,$AH$2)","v":350000000},{"$f":"IFERROR(VLOOKUP(A16,'Fisch Holding'!$A$5:$C$1245,3,FALSE)/AH16,\"-\")","v":"-"},{"$f":"IFERROR(VLOOKUP(A16,'BM Weight'!$A$7:$D$1020,3,FALSE),\"-\")","v":"-"},{"$f":"IFERROR(VLOOKUP(A16,'BM Weight'!$A$7:$D$1020,4,FALSE),\"-    \")","v":"-    "},{"$f":"IFERROR(VLOOKUP(A16,'Implied Rating'!$B$7:$C$1179,2,FALSE),\"-\")","v":"B"},{"$f":"IFERROR(VLOOKUP(A16,'ICV Rating'!$B$5:$E$1306,2,FALSE),\"-\")","v":"B-"},{"$f":"_xll.BDP(B16,$AN$2)","v":"NR"},{"$f":"_xll.BDP(B16,$AO$2)","v":"B2"},{"$f":"_xll.BDP(B16,$AP$2)","v":"B"},{"$f":"_xll.BDP(B16,$AQ$2)","v":"N"},{"$f":"_xll.BDP(B16,$AR$2)","v":"Optionally"},{"$f":"_xll.BDP(B16,$AS$2)","v":"N"},{"$f":"_xll.BDP(B16,$AT$2)","v":"N"},{"$f":"_xll.BDP(B16,$AU$2)","v":"N"},{"$f":"_xll.BDP(B16,$AV$2)","v":"N"},{"$f":"_xll.BDP(B16,$AW$2)","v":"US"},{"$f":"_xll.BDP(AC16 & \" Equity\",$AX$2)","v":"Information Technology"},{"$f":"_xll.BDP(AC16 & \" Equity\",$AY$2)","v":"Technology Hardware & Equipmen"},{"$f":"_xll.BDP(AC16 & \" Equity\",$AZ$2)","v":"Communications Equipment"},null,0,{"$f":"_xll.BDP(B16,$BC$2)","v":3.5487141387126901},{"$f":"_xll.BDP(B16,$BD$2)","v":1.4485599357891625},{"$f":"_xll.BDP(B16,$BE$2)","v":-321.18080853589845},{"$f":"_xll.BDP(B16,$BF$2)","v":-1.972},{"$f":"_xll.BDP(B16,$BG$2)","v":0.55853548911280404},{"$f":"_xll.BDP(B16,$BH$2)","v":3.5533105711532182},{"$f":"_xll.BDP(B16,$BI$2)","v":12.027975068371722},null,{"$f":"_xll.BDP(B16,$BK$2)","v":122.01779999999999},{"$f":"_xll.BDP(B16,$BL$2)","v":"#N/A Field Not Applicable"},{"$f":"_xll.BDP(B16,$BM$2)","v":73.913643313581574},{"$f":"_xll.BDP(B16,$BN$2)","v":5.061168926827014E-3},{"$f":"_xll.BDP(B16,$BO$2)","v":27.11440748063238},{"$f":"_xll.BDP(AC16 & \" Equity\",$BP$2)","v":"#N/A N/A"},{"$f":"_xll.BDP(AC16 & \" Equity\",$BQ$2)","v":"06.03.2015"},{"$f":"_xll.BDP(AC16 & \" Equity\",$BR$2)","v":39.954334955314877}]
["US171779AF84",{"$f":"A17 & \" Corp\"","v":"US171779AF84 Corp"},"CIENA CORP",{"$f":"_xll.BDP(B17,$D$2)","v":"CIENA CORP"},{"$f":"_xll.BDP(B17,$E$2)","v":4},{"$f":"_xll.BDP(B17,$F$2)","v":"15.03.2015"},{"$f":"_xll.BDP(B17,$G$2)","v":"#N/A Field Not Applicable"},{"$f":"_xll.BDP(B17,$H$2)","v":"#N/A Field Not Applicable"},"2013-07-24","USD 187;  I-CV Dez. 2010",0,{"$f":"ROUND((T17*T$2+U17*U$2+S17*S$2+IF(P17=\"NR\",0,P17^2*SIGN(P17))+M17*M$2)/(L$2-IF(P17=\"NR\",0,P$2)-IF(S17,0,S$2)),0)","v":1},0,-1,2,0,"2013-07-24",-2,{"$f":"VLOOKUP(AX17,[1]Sheet1!$C$8:$D$23,2,FALSE)","v":1},{"$f":"MIN(ROUND(ABS(V17/AD17)*200,0),2)*SIGN(V17)","v":-1},{"$f":"MIN(ROUND(ABS(X17),0),2)*IFERROR(SIGN(X17),0)","v":2},{"$f":"_xll.BDP(AC17 & \" Equity\",$V$3)","v":-0.13571703433990479},{"$f":"_xll.BDP(AC17 & \" Equity\",$W$3)","v":39.119890016423611},{"$f":"IFERROR(10*LN((100+Z17)/(100+$Z$1))+2*LN((100+$W$2)/(100+W17)),0)","v":1.7000064602777341},{"$f":"_xll.BDP(AC17 & \" Equity\",$Y$2)","v":7.004969},{"$f":"_xll.BDP(AC17 & \" Equity\",$Z$2)","v":33.42503},{"$f":"_xll.BDP(AC17 & \" Equity\",$AA$2)","v":-5.1519049999999997E-2},{"$f":"_xll.BDP(AC17 & \" Equity\",$AB$2)","v":"CIEN US"},{"$f":"_xll.BDP(B17,$AC$2)","v":"EQ0021104000001000"},{"$f":"_xll.BDP(AC17 & \" Equity\",$AD$2)","v":19},19.5,18.5,{"$f":"_xll.BDP(B17,$AG$2)","v":"USD"},{"$f":"_xll.BDP(B17,$AH$2)","v":187500000},{"$f":"IFERROR(VLOOKUP(A17,'Fisch Holding'!$A$5:$C$1245,3,FALSE)/AH17,\"-\")","v":"-"},{"$f":"IFERROR(VLOOKUP(A17,'BM Weight'!$A$7:$D$1020,3,FALSE),\"-\")","v":"-"},{"$f":"IFERROR(VLOOKUP(A17,'BM Weight'!$A$7:$D$1020,4,FALSE),\"-    \")","v":"-    "},{"$f":"IFERROR(VLOOKUP(A17,'Implied Rating'!$B$7:$C$1179,2,FALSE),\"-\")","v":"B"},{"$f":"IFERROR(VLOOKUP(A17,'ICV Rating'!$B$5:$E$1306,2,FALSE),\"-\")","v":"B-"},{"$f":"_xll.BDP(B17,$AN$2)","v":"#N/A N/A"},{"$f":"_xll.BDP(B17,$AO$2)","v":"B2"},{"$f":"_xll.BDP(B17,$AP$2)","v":"B"},{"$f":"_xll.BDP(B17,$AQ$2)","v":"N"},{"$f":"_xll.BDP(B17,$AR$2)","v":"Optionally"},{"$f":"_xll.BDP(B17,$AS$2)","v":"N"},{"$f":"_xll.BDP(B17,$AT$2)","v":"Y"},{"$f":"_xll.BDP(B17,$AU$2)","v":"N"},{"$f":"_xll.BDP(B17,$AV$2)","v":"N"},{"$f":"_xll.BDP(B17,$AW$2)","v":"US"},{"$f":"_xll.BDP(AC17 & \" Equity\",$AX$2)","v":"Information Technology"},{"$f":"_xll.BDP(AC17 & \" Equity\",$AY$2)","v":"Technology Hardware & Equipmen"},{"$f":"_xll.BDP(AC17 & \" Equity\",$AZ$2)","v":"Communications Equipment"},null,0,{"$f":"_xll.BDP(B17,$BC$2)","v":0.15585808827307668},{"$f":"_xll.BDP(B17,$BD$2)","v":0.10005224457994917},{"$f":"_xll.BDP(B17,$BE$2)","v":-2686.5239165502057},{"$f":"_xll.BDP(B17,$BF$2)","v":-27.959},{"$f":"_xll.BDP(B17,$BG$2)","v":0.73810264139739534},{"$f":"_xll.BDP(B17,$BH$2)","v":1.657757900422913},{"$f":"_xll.BDP(B17,$BI$2)","v":2.4695754085717794},null,{"$f":"_xll.BDP(B17,$BK$2)","v":104.5838},{"$f":"_xll.BDP(B17,$BL$2)","v":"#N/A Field Not Applicable"},{"$f":"_xll.BDP(B17,$BM$2)","v":32.498905676744812},{"$f":"_xll.BDP(B17,$BN$2)","v":2.7177287219868767E-2},{"$f":"_xll.BDP(B17,$BO$2)","v":10.399438923019625},{"$f":"_xll.BDP(AC17 & \" Equity\",$BP$2)","v":"#N/A N/A"},{"$f":"_xll.BDP(AC17 & \" Equity\",$BQ$2)","v":"06.03.2015"},{"$f":"_xll.BDP(AC17 & \" Equity\",$BR$2)","v":39.954334955314877}]
["US177376AC40",{"$f":"A18 & \" Corp\"","v":"US177376AC40 Corp"},"Citrix",{"$f":"_xll.BDP(B18,$D$2)","v":"CITRIX SYSTEMS INC"},{"$f":"_xll.BDP(B18,$E$2)","v":0.5},{"$f":"_xll.BDP(B18,$F$2)","v":"15.04.2019"},{"$f":"_xll.BDP(B18,$G$2)","v":"#N/A Field Not Applicable"},{"$f":"_xll.BDP(B18,$H$2)","v":"#N/A Field Not Applicable"},"2015-01-15","NE April 14; BBBu ab Juni 14",-1,{"$f":"ROUND((T18*T$2+U18*U$2+S18*S$2+IF(P18=\"NR\",0,P18^2*SIGN(P18))+M18*M$2)/(L$2-IF(P18=\"NR\",0,P$2)-IF(S18,0,S$2)),0)","v":-1},-1,-1,0,"NR","2014-07-28",0,{"$f":"VLOOKUP(AX18,[1]Sheet1!$C$8:$D$23,2,FALSE)","v":1},{"$f":"MIN(ROUND(ABS(V18/AD18)*200,0),2)*SIGN(V18)","v":-2},{"$f":"MIN(ROUND(ABS(X18),0),2)*IFERROR(SIGN(X18),0)","v":-2},{"$f":"_xll.BDP(AC18 & \" Equity\",$V$3)","v":-0.45509135723114014},{"$f":"_xll.BDP(AC18 & \" Equity\",$W$3)","v":25.421544835455972},{"$f":"IFERROR(10*LN((100+Z18)/(100+$Z$1))+2*LN((100+$W$2)/(100+W18)),0)","v":-2.1879508069978657},{"$f":"_xll.BDP(AC18 & \" Equity\",$Y$2)","v":-4.5620419999999999},{"$f":"_xll.BDP(AC18 & \" Equity\",$Z$2)","v":-11.410539999999999},{"$f":"_xll.BDP(AC18 & \" Equity\",$AA$2)","v":-9.8275849999999991},{"$f":"_xll.BDP(AC18 & \" Equity\",$AB$2)","v":"CTXS US"},{"$f":"_xll.BDP(B18,$AC$2)","v":"EQ0017137800001000"},{"$f":"_xll.BDP(AC18 & \" Equity\",$AD$2)","v":57.32},63,57,{"$f":"_xll.BDP(B18,$AG$2)","v":"USD"},{"$f":"_xll.BDP(B18,$AH$2)","v":1437500000},{"$f":"IFERROR(VLOOKUP(A18,'Fisch Holding'!$A$5:$C$1245,3,FALSE)/AH18,\"-\")","v":9.1686956521739124E-2},{"$f":"IFERROR(VLOOKUP(A18,'BM Weight'!$A$7:$D$1020,3,FALSE),\"-\")","v":1.30416965564},{"$f":"IFERROR(VLOOKUP(A18,'BM Weight'!$A$7:$D$1020,4,FALSE),\"-    \")","v":4.6216047484900002},{"$f":"IFERROR(VLOOKUP(A18,'Implied Rating'!$B$7:$C$1179,2,FALSE),\"-\")","v":"A+"},{"$f":"IFERROR(VLOOKUP(A18,'ICV Rating'!$B$5:$E$1306,2,FALSE),\"-\")","v":0},{"$f":"_xll.BDP(B18,$AN$2)","v":"NR"},{"$f":"_xll.BDP(B18,$AO$2)","v":"#N/A N/A"},{"$f":"_xll.BDP(B18,$AP$2)","v":"BBBu"},{"$f":"_xll.BDP(B18,$AQ$2)","v":"N"},{"$f":"_xll.BDP(B18,$AR$2)","v":"Optionally"},{"$f":"_xll.BDP(B18,$AS$2)","v":"N"},{"$f":"_xll.BDP(B18,$AT$2)","v":"N"},{"$f":"_xll.BDP(B18,$AU$2)","v":"N"},{"$f":"_xll.BDP(B18,$AV$2)","v":"N"},{"$f":"_xll.BDP(B18,$AW$2)","v":"US"},{"$f":"_xll.BDP(AC18 & \" Equity\",$AX$2)","v":"Information Technology"},{"$f":"_xll.BDP(AC18 & \" Equity\",$AY$2)","v":"Software & Services"},{"$f":"_xll.BDP(AC18 & \" Equity\",$AZ$2)","v":"Software"},null,0,{"$f":"_xll.BDP(B18,$BC$2)","v":4.1909511684231164},{"$f":"_xll.BDP(B18,$BD$2)","v":3.3998536575180833},{"$f":"_xll.BDP(B18,$BE$2)","v":-148.01504907853311},{"$f":"_xll.BDP(B18,$BF$2)","v":-0.114},{"$f":"_xll.BDP(B18,$BG$2)","v":-2.1955863109131171},{"$f":"_xll.BDP(B18,$BH$2)","v":0.23565435381533639},{"$f":"_xll.BDP(B18,$BI$2)","v":-1.0931999042894098},null,{"$f":"_xll.BDP(B18,$BK$2)","v":102.4312},{"$f":"_xll.BDP(B18,$BL$2)","v":"#N/A Field Not Applicable"},{"$f":"_xll.BDP(B18,$BM$2)","v":37.324060776346109},{"$f":"_xll.BDP(B18,$BN$2)","v":6.2733731043830296E-3},{"$f":"_xll.BDP(B18,$BO$2)","v":60.518676005299554},{"$f":"_xll.BDP(AC18 & \" Equity\",$BP$2)","v":"#N/A N/A"},{"$f":"_xll.BDP(AC18 & \" Equity\",$BQ$2)","v":"28.01.2015"},{"$f":"_xll.BDP(AC18 & \" Equity\",$BR$2)","v":23.847848514965932}]
["US21925YAB92",{"$f":"A19 & \" Corp\"","v":"US21925YAB92 Corp"},"CORNERSTONE ONDEMAND INC",{"$f":"_xll.BDP(B19,$D$2)","v":"CORNERSTONE ONDEMAND INC"},{"$f":"_xll.BDP(B19,$E$2)","v":1.5},{"$f":"_xll.BDP(B19,$F$2)","v":"01.07.2018"},{"$f":"_xll.BDP(B19,$G$2)","v":"#N/A Field Not Applicable"},{"$f":"_xll.BDP(B19,$H$2)","v":"#N/A Field Not Applicable"},"2014-07-21","NE + I-CV 6.13; USD 253; div. Software",0,{"$f":"ROUND((T19*T$2+U19*U$2+S19*S$2+IF(P19=\"NR\",0,P19^2*SIGN(P19))+M19*M$2)/(L$2-IF(P19=\"NR\",0,P$2)-IF(S19,0,S$2)),0)","v":0},0,-1,0,-1,"2014-07-21",-1,{"$f":"VLOOKUP(AX19,[1]Sheet1!$C$8:$D$23,2,FALSE)","v":1},{"$f":"MIN(ROUND(ABS(V19/AD19)*200,0),2)*SIGN(V19)","v":-2},{"$f":"MIN(ROUND(ABS(X19),0),2)*IFERROR(SIGN(X19),0)","v":-1},{"$f":"_xll.BDP(AC19 & \" Equity\",$V$3)","v":-0.35337242484092712},{"$f":"_xll.BDP(AC19 & \" Equity\",$W$3)","v":56.302671144177161},{"$f":"IFERROR(10*LN((100+Z19)/(100+$Z$1))+2*LN((100+$W$2)/(100+W19)),0)","v":-1.3588104323617998},{"$f":"_xll.BDP(AC19 & \" Equity\",$Y$2)","v":-1.728761},{"$f":"_xll.BDP(AC19 & \" Equity\",$Z$2)","v":0.57962550000000002},{"$f":"_xll.BDP(AC19 & \" Equity\",$AA$2)","v":-6.335229},{"$f":"_xll.BDP(AC19 & \" Equity\",$AB$2)","v":"CSOD US"},{"$f":"_xll.BDP(B19,$AC$2)","v":"EQ0000000011371914"},{"$f":"_xll.BDP(AC19 & \" Equity\",$AD$2)","v":31.7},36,32,{"$f":"_xll.BDP(B19,$AG$2)","v":"USD"},{"$f":"_xll.BDP(B19,$AH$2)","v":253000000},{"$f":"IFERROR(VLOOKUP(A19,'Fisch Holding'!$A$5:$C$1245,3,FALSE)/AH19,\"-\")","v":"-"},{"$f":"IFERROR(VLOOKUP(A19,'BM Weight'!$A$7:$D$1020,3,FALSE),\"-\")","v":"-"},{"$f":"IFERROR(VLOOKUP(A19,'BM Weight'!$A$7:$D$1020,4,FALSE),\"-    \")","v":"-    "},{"$f":"IFERROR(VLOOKUP(A19,'Implied Rating'!$B$7:$C$1179,2,FALSE),\"-\")","v":"BBB-"},{"$f":"IFERROR(VLOOKUP(A19,'ICV Rating'!$B$5:$E$1306,2,FALSE),\"-\")","v":"CC"},{"$f":"_xll.BDP(B19,$AN$2)","v":"#N/A N/A"},{"$f":"_xll.BDP(B19,$AO$2)","v":"#N/A N/A"},{"$f":"_xll.BDP(B19,$AP$2)","v":"#N/A N/A"},{"$f":"_xll.BDP(B19,$AQ$2)","v":"N"},{"$f":"_xll.BDP(B19,$AR$2)","v":"Optionally"},{"$f":"_xll.BDP(B19,$AS$2)","v":"N"},{"$f":"_xll.BDP(B19,$AT$2)","v":"#N/A N/A"},{"$f":"_xll.BDP(B19,$AU$2)","v":"N"},{"$f":"_xll.BDP(B19,$AV$2)","v":"N"},{"$f":"_xll.BDP(B19,$AW$2)","v":"US"},{"$f":"_xll.BDP(AC19 & \" Equity\",$AX$2)","v":"Information Technology"},{"$f":"_xll.BDP(AC19 & \" Equity\",$AY$2)","v":"Software & Services"},{"$f":"_xll.BDP(AC19 & \" Equity\",$AZ$2)","v":"Internet Software & Services"},null,0,{"$f":"_xll.BDP(B19,$BC$2)","v":3.3281010081598512},{"$f":"_xll.BDP(B19,$BD$2)","v":2.1013951254842311},{"$f":"_xll.BDP(B19,$BE$2)","v":105.7327618566149},{"$f":"_xll.BDP(B19,$BF$2)","v":2.242},{"$f":"_xll.BDP(B19,$BG$2)","v":-0.95623647768151643},{"$f":"_xll.BDP(B19,$BH$2)","v":0.85537529507222609},{"$f":"_xll.BDP(B19,$BI$2)","v":2.4988058872021925},null,{"$f":"_xll.BDP(B19,$BK$2)","v":97.44068},{"$f":"_xll.BDP(B19,$BL$2)","v":"#N/A Field Not Applicable"},{"$f":"_xll.BDP(B19,$BM$2)","v":60.706461744184445},{"$f":"_xll.BDP(B19,$BN$2)","v":4.0941097792218765E-3},{"$f":"_xll.BDP(B19,$BO$2)","v":59.89924624123941},{"$f":"_xll.BDP(AC19 & \" Equity\",$BP$2)","v":"#N/A N/A"},{"$f":"_xll.BDP(AC19 & \" Equity\",$BQ$2)","v":"11.02.2015"},{"$f":"_xll.BDP(AC19 & \" Equity\",$BR$2)","v":55.662009218058174},null,"2014-02-03"]
["US126349AC33",{"$f":"A20 & \" Corp\"","v":"US126349AC33 Corp"},"CSG SYSTEMS INTL INC",{"$f":"_xll.BDP(B20,$D$2)","v":"CSG SYSTEMS INTL INC"},{"$f":"_xll.BDP(B20,$E$2)","v":3},{"$f":"_xll.BDP(B20,$F$2)","v":"01.03.2017"},{"$f":"_xll.BDP(B20,$G$2)","v":"#N/A Field Not Applicable"},{"$f":"_xll.BDP(B20,$H$2)","v":"#N/A Field Not Applicable"},"2014-08-28","USD 150 Mio ; B ; PP; TV billing solutions",0,{"$f":"ROUND((T20*T$2+U20*U$2+S20*S$2+IF(P20=\"NR\",0,P20^2*SIGN(P20))+M20*M$2)/(L$2-IF(P20=\"NR\",0,P$2)-IF(S20,0,S$2)),0)","v":0},0,0,1,"NR","2014-01-21",-2,{"$f":"VLOOKUP(AX20,[1]Sheet1!$C$8:$D$23,2,FALSE)","v":1},{"$f":"MIN(ROUND(ABS(V20/AD20)*200,0),2)*SIGN(V20)","v":1},{"$f":"MIN(ROUND(ABS(X20),0),2)*IFERROR(SIGN(X20),0)","v":-1},{"$f":"_xll.BDP(AC20 & \" Equity\",$V$3)","v":7.5684890151023865E-2},{"$f":"_xll.BDP(AC20 & \" Equity\",$W$3)","v":18.759446943158792},{"$f":"IFERROR(10*LN((100+Z20)/(100+$Z$1))+2*LN((100+$W$2)/(100+W20)),0)","v":-0.82764404169961203},{"$f":"_xll.BDP(AC20 & \" Equity\",$Y$2)","v":3.1364589999999999},{"$f":"_xll.BDP(AC20 & \" Equity\",$Z$2)","v":0.39651340000000002},{"$f":"_xll.BDP(AC20 & \" Equity\",$AA$2)","v":0.99720900000000001},{"$f":"_xll.BDP(AC20 & \" Equity\",$AB$2)","v":"CSGS US"},{"$f":"_xll.BDP(B20,$AC$2)","v":"EQ0017149000001000"},{"$f":"_xll.BDP(AC20 & \" Equity\",$AD$2)","v":25.1},27,23,{"$f":"_xll.BDP(B20,$AG$2)","v":"USD"},{"$f":"_xll.BDP(B20,$AH$2)","v":150000000},{"$f":"IFERROR(VLOOKUP(A20,'Fisch Holding'!$A$5:$C$1245,3,FALSE)/AH20,\"-\")","v":"-"},{"$f":"IFERROR(VLOOKUP(A20,'BM Weight'!$A$7:$D$1020,3,FALSE),\"-\")","v":"-"},{"$f":"IFERROR(VLOOKUP(A20,'BM Weight'!$A$7:$D$1020,4,FALSE),\"-    \")","v":"-    "},{"$f":"IFERROR(VLOOKUP(A20,'Implied Rating'!$B$7:$C$1179,2,FALSE),\"-\")","v":"B"},{"$f":"IFERROR(VLOOKUP(A20,'ICV Rating'!$B$5:$E$1306,2,FALSE),\"-\")","v":0},{"$f":"_xll.BDP(B20,$AN$2)","v":"#N/A N/A"},{"$f":"_xll.BDP(B20,$AO$2)","v":"Ba3"},{"$f":"_xll.BDP(B20,$AP$2)","v":"BB+"},{"$f":"_xll.BDP(B20,$AQ$2)","v":"N"},{"$f":"_xll.BDP(B20,$AR$2)","v":"Optionally"},{"$f":"_xll.BDP(B20,$AS$2)","v":"Y"},{"$f":"_xll.BDP(B20,$AT$2)","v":"N"},{"$f":"_xll.BDP(B20,$AU$2)","v":"N"},{"$f":"_xll.BDP(B20,$AV$2)","v":"N"},{"$f":"_xll.BDP(B20,$AW$2)","v":"US"},{"$f":"_xll.BDP(AC20 & \" Equity\",$AX$2)","v":"Information Technology"},{"$f":"_xll.BDP(AC20 & \" Equity\",$AY$2)","v":"Software & Services"},{"$f":"_xll.BDP(AC20 & \" Equity\",$AZ$2)","v":"IT Services"},null,0,{"$f":"_xll.BDP(B20,$BC$2)","v":2.1076654368445227},{"$f":"_xll.BDP(B20,$BD$2)","v":0.68488534377800303},{"$f":"_xll.BDP(B20,$BE$2)","v":-685.99648190419907},{"$f":"_xll.BDP(B20,$BF$2)","v":-6.077},{"$f":"_xll.BDP(B20,$BG$2)","v":2.4266809065067667},{"$f":"_xll.BDP(B20,$BH$2)","v":2.0317607525957437},{"$f":"_xll.BDP(B20,$BI$2)","v":0.96772241956327076},null,{"$f":"_xll.BDP(B20,$BK$2)","v":119.98520000000001},{"$f":"_xll.BDP(B20,$BL$2)","v":"#N/A Field Not Applicable"},{"$f":"_xll.BDP(B20,$BM$2)","v":73.513071971589213},{"$f":"_xll.BDP(B20,$BN$2)","v":8.903199487723135E-3},{"$f":"_xll.BDP(B20,$BO$2)","v":11.876487869676371},{"$f":"_xll.BDP(AC20 & \" Equity\",$BP$2)","v":2.4881516399353414},{"$f":"_xll.BDP(AC20 & \" Equity\",$BQ$2)","v":"04.02.2015"},{"$f":"_xll.BDP(AC20 & \" Equity\",$BR$2)","v":17.838436785387294}]
["US242309AB86",{"$f":"A21 & \" Corp\"","v":"US242309AB86 Corp"},"DEALERTRACK TECHNOLOGIES",{"$f":"_xll.BDP(B21,$D$2)","v":"DEALERTRACK TECHNOLOGIES"},{"$f":"_xll.BDP(B21,$E$2)","v":1.5},{"$f":"_xll.BDP(B21,$F$2)","v":"15.03.2017"},{"$f":"_xll.BDP(B21,$G$2)","v":"#N/A Field Not Applicable"},{"$f":"_xll.BDP(B21,$H$2)","v":"#N/A Field Not Applicable"},"2014-11-27","USD 200; BB; Software-Produzent für Autoverkäufer",1,{"$f":"ROUND((T21*T$2+U21*U$2+S21*S$2+IF(P21=\"NR\",0,P21^2*SIGN(P21))+M21*M$2)/(L$2-IF(P21=\"NR\",0,P$2)-IF(S21,0,S$2)),0)","v":0},0,0,0,"NR","2014-03-10",-1,{"$f":"VLOOKUP(AX21,[1]Sheet1!$C$8:$D$23,2,FALSE)","v":1},{"$f":"MIN(ROUND(ABS(V21/AD21)*200,0),2)*SIGN(V21)","v":-2},{"$f":"MIN(ROUND(ABS(X21),0),2)*IFERROR(SIGN(X21),0)","v":-1},{"$f":"_xll.BDP(AC21 & \" Equity\",$V$3)","v":-0.35610097646713257},{"$f":"_xll.BDP(AC21 & \" Equity\",$W$3)","v":38.023426890641176},{"$f":"IFERROR(10*LN((100+Z21)/(100+$Z$1))+2*LN((100+$W$2)/(100+W21)),0)","v":-1.3401544687818518},{"$f":"_xll.BDP(AC21 & \" Equity\",$Y$2)","v":-6.5212349999999999},{"$f":"_xll.BDP(AC21 & \" Equity\",$Z$2)","v":-1.7081489999999999},{"$f":"_xll.BDP(AC21 & \" Equity\",$AA$2)","v":-9.0950150000000001},{"$f":"_xll.BDP(AC21 & \" Equity\",$AB$2)","v":"TRAK US"},{"$f":"_xll.BDP(B21,$AC$2)","v":"EQ0000000001903277"},{"$f":"_xll.BDP(AC21 & \" Equity\",$AD$2)","v":40.21},45,40,{"$f":"_xll.BDP(B21,$AG$2)","v":"USD"},{"$f":"_xll.BDP(B21,$AH$2)","v":200000000},{"$f":"IFERROR(VLOOKUP(A21,'Fisch Holding'!$A$5:$C$1245,3,FALSE)/AH21,\"-\")","v":"-"},{"$f":"IFERROR(VLOOKUP(A21,'BM Weight'!$A$7:$D$1020,3,FALSE),\"-\")","v":"-"},{"$f":"IFERROR(VLOOKUP(A21,'BM Weight'!$A$7:$D$1020,4,FALSE),\"-    \")","v":"-    "},{"$f":"IFERROR(VLOOKUP(A21,'Implied Rating'!$B$7:$C$1179,2,FALSE),\"-\")","v":"BB"},{"$f":"IFERROR(VLOOKUP(A21,'ICV Rating'!$B$5:$E$1306,2,FALSE),\"-\")","v":0},{"$f":"_xll.BDP(B21,$AN$2)","v":"#N/A N/A"},{"$f":"_xll.BDP(B21,$AO$2)","v":"Ba3"},{"$f":"_xll.BDP(B21,$AP$2)","v":"B+"},{"$f":"_xll.BDP(B21,$AQ$2)","v":"N"},{"$f":"_xll.BDP(B21,$AR$2)","v":"Optionally"},{"$f":"_xll.BDP(B21,$AS$2)","v":"N"},{"$f":"_xll.BDP(B21,$AT$2)","v":"#N/A N/A"},{"$f":"_xll.BDP(B21,$AU$2)","v":"N"},{"$f":"_xll.BDP(B21,$AV$2)","v":"N"},{"$f":"_xll.BDP(B21,$AW$2)","v":"US"},{"$f":"_xll.BDP(AC21 & \" Equity\",$AX$2)","v":"Information Technology"},{"$f":"_xll.BDP(AC21 & \" Equity\",$AY$2)","v":"Software & Services"},{"$f":"_xll.BDP(AC21 & \" Equity\",$AZ$2)","v":"Internet Software & Services"},null,0,{"$f":"_xll.BDP(B21,$BC$2)","v":2.2013541220738793},{"$f":"_xll.BDP(B21,$BD$2)","v":0.60187356639340184},{"$f":"_xll.BDP(B21,$BE$2)","v":-845.64078069349046},{"$f":"_xll.BDP(B21,$BF$2)","v":-7.6559999999999997},{"$f":"_xll.BDP(B21,$BG$2)","v":-2.7681007807976252},{"$f":"_xll.BDP(B21,$BH$2)","v":-4.8366960117769437},{"$f":"_xll.BDP(B21,$BI$2)","v":-2.4684013962924465},null,{"$f":"_xll.BDP(B21,$BK$2)","v":121.70529999999999},{"$f":"_xll.BDP(B21,$BL$2)","v":"#N/A Field Not Applicable"},{"$f":"_xll.BDP(B21,$BM$2)","v":80.114299977127672},{"$f":"_xll.BDP(B21,$BN$2)","v":4.191798876545267E-3},{"$f":"_xll.BDP(B21,$BO$2)","v":13.045385821611491},{"$f":"_xll.BDP(AC21 & \" Equity\",$BP$2)","v":"#N/A N/A"},{"$f":"_xll.BDP(AC21 & \" Equity\",$BQ$2)","v":"19.02.2015"},{"$f":"_xll.BDP(AC21 & \" Equity\",$BR$2)","v":36.421589955409544},null,"2014-01-07"]
["US25388BAD64",{"$f":"A22 & \" Corp\"","v":"US25388BAD64 Corp"},"DIGITAL RIVER INC",{"$f":"_xll.BDP(B22,$D$2)","v":"DIGITAL RIVER INC"},{"$f":"_xll.BDP(B22,$E$2)","v":2},{"$f":"_xll.BDP(B22,$F$2)","v":"01.11.2030"},{"$f":"_xll.BDP(B22,$G$2)","v":"01.11.2015"},{"$f":"_xll.BDP(B22,$H$2)","v":"01.11.2015"},"2012-02-13","übernommen durch Siris Capital",-1,{"$f":"ROUND((T22*T$2+U22*U$2+S22*S$2+IF(P22=\"NR\",0,P22^2*SIGN(P22))+M22*M$2)/(L$2-IF(P22=\"NR\",0,P$2)-IF(S22,0,S$2)),0)","v":0},-1,0,-2,1,"2012-02-13",-2,{"$f":"VLOOKUP(AX22,[1]Sheet1!$C$8:$D$23,2,FALSE)","v":1},{"$f":"MIN(ROUND(ABS(V22/AD22)*200,0),2)*SIGN(V22)","v":1},{"$f":"MIN(ROUND(ABS(X22),0),2)*IFERROR(SIGN(X22),0)","v":2},{"$f":"_xll.BDP(AC22 & \" Equity\",$V$3)","v":0.13066613674163818},{"$f":"_xll.BDP(AC22 & \" Equity\",$W$3)","v":127.39002814469498},{"$f":"IFERROR(10*LN((100+Z22)/(100+$Z$1))+2*LN((100+$W$2)/(100+W22)),0)","v":2.1264066091814895},{"$f":"_xll.BDP(AC22 & \" Equity\",$Y$2)","v":52.238810000000001},{"$f":"_xll.BDP(AC22 & \" Equity\",$Z$2)","v":53.614449999999998},{"$f":"_xll.BDP(AC22 & \" Equity\",$AA$2)","v":3.113629},{"$f":"_xll.BDP(AC22 & \" Equity\",$AB$2)","v":"DRIV US"},{"$f":"_xll.BDP(B22,$AC$2)","v":"EQ0034835600001000"},{"$f":"_xll.BDP(AC22 & \" Equity\",$AD$2)","v":25.44},25.5,23,{"$f":"_xll.BDP(B22,$AG$2)","v":"USD"},{"$f":"_xll.BDP(B22,$AH$2)","v":145750000},{"$f":"IFERROR(VLOOKUP(A22,'Fisch Holding'!$A$5:$C$1245,3,FALSE)/AH22,\"-\")","v":"-"},{"$f":"IFERROR(VLOOKUP(A22,'BM Weight'!$A$7:$D$1020,3,FALSE),\"-\")","v":"-"},{"$f":"IFERROR(VLOOKUP(A22,'BM Weight'!$A$7:$D$1020,4,FALSE),\"-    \")","v":"-    "},{"$f":"IFERROR(VLOOKUP(A22,'Implied Rating'!$B$7:$C$1179,2,FALSE),\"-\")","v":"-"},{"$f":"IFERROR(VLOOKUP(A22,'ICV Rating'!$B$5:$E$1306,2,FALSE),\"-\")","v":"-"},{"$f":"_xll.BDP(B22,$AN$2)","v":"#N/A N/A"},{"$f":"_xll.BDP(B22,$AO$2)","v":"#N/A N/A"},{"$f":"_xll.BDP(B22,$AP$2)","v":"#N/A N/A"},{"$f":"_xll.BDP(B22,$AQ$2)","v":"N"},{"$f":"_xll.BDP(B22,$AR$2)","v":"Optionally"},{"$f":"_xll.BDP(B22,$AS$2)","v":"N"},{"$f":"_xll.BDP(B22,$AT$2)","v":"N"},{"$f":"_xll.BDP(B22,$AU$2)","v":"N"},{"$f":"_xll.BDP(B22,$AV$2)","v":"Y"},{"$f":"_xll.BDP(B22,$AW$2)","v":"US"},{"$f":"_xll.BDP(AC22 & \" Equity\",$AX$2)","v":"Information Technology"},{"$f":"_xll.BDP(AC22 & \" Equity\",$AY$2)","v":"Software & Services"},{"$f":"_xll.BDP(AC22 & \" Equity\",$AZ$2)","v":"Internet Software & Services"},null,0,{"$f":"_xll.BDP(B22,$BC$2)","v":0.76588326979131827},{"$f":"_xll.BDP(B22,$BD$2)","v":0.77954683923576051},{"$f":"_xll.BDP(B22,$BE$2)","v":85.738604519571652},{"$f":"_xll.BDP(B22,$BF$2)","v":1.1919999999999999},{"$f":"_xll.BDP(B22,$BG$2)","v":4.5323740272400596E-2},{"$f":"_xll.BDP(B22,$BH$2)","v":0.36251944748765214},{"$f":"_xll.BDP(B22,$BI$2)","v":0.49727865279498462},null,{"$f":"_xll.BDP(B22,$BK$2)","v":100.1412},{"$f":"_xll.BDP(B22,$BL$2)","v":"#N/A Field Not Applicable"},{"$f":"_xll.BDP(B22,$BM$2)","v":0.98414951813396867},{"$f":"_xll.BDP(B22,$BN$2)","v":5.2165005427532091E-4},{"$f":"_xll.BDP(B22,$BO$2)","v":93.871384563985913},{"$f":"_xll.BDP(AC22 & \" Equity\",$BP$2)","v":"#N/A N/A"},{"$f":"_xll.BDP(AC22 & \" Equity\",$BQ$2)","v":"05.02.2015"},{"$f":"_xll.BDP(AC22 & \" Equity\",$BR$2)","v":107.35168383290051}]
["US285512AA71",{"$f":"A23 & \" Corp\"","v":"US285512AA71 Corp"},"ELECTRONIC ARTS INC",{"$f":"_xll.BDP(B23,$D$2)","v":"ELECTRONIC ARTS INC"},{"$f":"_xll.BDP(B23,$E$2)","v":0.75},{"$f":"_xll.BDP(B23,$F$2)","v":"15.07.2016"},{"$f":"_xll.BDP(B23,$G$2)","v":"#N/A Field Not Applicable"},{"$f":"_xll.BDP(B23,$H$2)","v":"#N/A Field Not Applicable"},"2014-11-20","0.6% in BM",0,{"$f":"ROUND((T23*T$2+U23*U$2+S23*S$2+IF(P23=\"NR\",0,P23^2*SIGN(P23))+M23*M$2)/(L$2-IF(P23=\"NR\",0,P$2)-IF(S23,0,S$2)),0)","v":1},0,0,0,0,"2014-06-19",1,{"$f":"VLOOKUP(AX23,[1]Sheet1!$C$8:$D$23,2,FALSE)","v":1},{"$f":"MIN(ROUND(ABS(V23/AD23)*200,0),2)*SIGN(V23)","v":-1},{"$f":"MIN(ROUND(ABS(X23),0),2)*IFERROR(SIGN(X23),0)","v":2},{"$f":"_xll.BDP(AC23 & \" Equity\",$V$3)","v":-0.25384318828582764},{"$f":"_xll.BDP(AC23 & \" Equity\",$W$3)","v":23.982234449265459},{"$f":"IFERROR(10*LN((100+Z23)/(100+$Z$1))+2*LN((100+$W$2)/(100+W23)),0)","v":2.4473136277393532},{"$f":"_xll.BDP(AC23 & \" Equity\",$Y$2)","v":3.1903169999999998},{"$f":"_xll.BDP(AC23 & \" Equity\",$Z$2)","v":40.50329},{"$f":"_xll.BDP(AC23 & \" Equity\",$AA$2)","v":-0.2446015},{"$f":"_xll.BDP(AC23 & \" Equity\",$AB$2)","v":"EA US"},{"$f":"_xll.BDP(B23,$AC$2)","v":"EQ0010367800001000"},{"$f":"_xll.BDP(AC23 & \" Equity\",$AD$2)","v":46.5},47.6,45,{"$f":"_xll.BDP(B23,$AG$2)","v":"USD"},{"$f":"_xll.BDP(B23,$AH$2)","v":632500000},{"$f":"IFERROR(VLOOKUP(A23,'Fisch Holding'!$A$5:$C$1245,3,FALSE)/AH23,\"-\")","v":1.1067193675889328E-2},{"$f":"IFERROR(VLOOKUP(A23,'BM Weight'!$A$7:$D$1020,3,FALSE),\"-\")","v":"-"},{"$f":"IFERROR(VLOOKUP(A23,'BM Weight'!$A$7:$D$1020,4,FALSE),\"-    \")","v":"-    "},{"$f":"IFERROR(VLOOKUP(A23,'Implied Rating'!$B$7:$C$1179,2,FALSE),\"-\")","v":"A+"},{"$f":"IFERROR(VLOOKUP(A23,'ICV Rating'!$B$5:$E$1306,2,FALSE),\"-\")","v":"BB"},{"$f":"_xll.BDP(B23,$AN$2)","v":"#N/A N/A"},{"$f":"_xll.BDP(B23,$AO$2)","v":"#N/A N/A"},{"$f":"_xll.BDP(B23,$AP$2)","v":"#N/A N/A"},{"$f":"_xll.BDP(B23,$AQ$2)","v":"N"},{"$f":"_xll.BDP(B23,$AR$2)","v":"Optionally"},{"$f":"_xll.BDP(B23,$AS$2)","v":"N"},{"$f":"_xll.BDP(B23,$AT$2)","v":"N"},{"$f":"_xll.BDP(B23,$AU$2)","v":"N"},{"$f":"_xll.BDP(B23,$AV$2)","v":"N"},{"$f":"_xll.BDP(B23,$AW$2)","v":"US"},{"$f":"_xll.BDP(AC23 & \" Equity\",$AX$2)","v":"Information Technology"},{"$f":"_xll.BDP(AC23 & \" Equity\",$AY$2)","v":"Software & Services"},{"$f":"_xll.BDP(AC23 & \" Equity\",$AZ$2)","v":"Software"},null,0,{"$f":"_xll.BDP(B23,$BC$2)","v":1.6934156909136409},{"$f":"_xll.BDP(B23,$BD$2)","v":0.11357670353978394},{"$f":"_xll.BDP(B23,$BE$2)","v":-2596.0826485432103},{"$f":"_xll.BDP(B23,$BF$2)","v":-25.4},{"$f":"_xll.BDP(B23,$BG$2)","v":0.3237256440281574},{"$f":"_xll.BDP(B23,$BH$2)","v":2.5791543193654514},{"$f":"_xll.BDP(B23,$BI$2)","v":27.789489873119422},null,{"$f":"_xll.BDP(B23,$BK$2)","v":150.92699999999999},{"$f":"_xll.BDP(B23,$BL$2)","v":"#N/A Field Not Applicable"},{"$f":"_xll.BDP(B23,$BM$2)","v":93.282576289207967},{"$f":"_xll.BDP(B23,$BN$2)","v":2.9297112933507493E-3},{"$f":"_xll.BDP(B23,$BO$2)","v":2.2439034700051796},{"$f":"_xll.BDP(AC23 & \" Equity\",$BP$2)","v":"#N/A N/A"},{"$f":"_xll.BDP(AC23 & \" Equity\",$BQ$2)","v":"27.01.2015"},{"$f":"_xll.BDP(AC23 & \" Equity\",$BR$2)","v":26.79107436409852},null,"2014-02-03"]
["US286082AB86",{"$f":"A24 & \" Corp\"","v":"US286082AB86 Corp"},"Electronics for Imaging",{"$f":"_xll.BDP(B24,$D$2)","v":"ELECTRONICS FOR IMAGING"},{"$f":"_xll.BDP(B24,$E$2)","v":0.75},{"$f":"_xll.BDP(B24,$F$2)","v":"01.09.2019"},{"$f":"_xll.BDP(B24,$G$2)","v":"#N/A Field Not Applicable"},{"$f":"_xll.BDP(B24,$H$2)","v":"#N/A Field Not Applicable"},"2015-01-08",null,0,{"$f":"ROUND((T24*T$2+U24*U$2+S24*S$2+IF(P24=\"NR\",0,P24^2*SIGN(P24))+M24*M$2)/(L$2-IF(P24=\"NR\",0,P$2)-IF(S24,0,S$2)),0)","v":0},1,1,-2,0,"2013-05-27",-1,{"$f":"VLOOKUP(AX24,[1]Sheet1!$C$8:$D$23,2,FALSE)","v":1},{"$f":"MIN(ROUND(ABS(V24/AD24)*200,0),2)*SIGN(V24)","v":-2},{"$f":"MIN(ROUND(ABS(X24),0),2)*IFERROR(SIGN(X24),0)","v":-2},{"$f":"_xll.BDP(AC24 & \" Equity\",$V$3)","v":-0.49722689390182495},{"$f":"_xll.BDP(AC24 & \" Equity\",$W$3)","v":25.962033905561981},{"$f":"IFERROR(10*LN((100+Z24)/(100+$Z$1))+2*LN((100+$W$2)/(100+W24)),0)","v":-1.7241349077105184},{"$f":"_xll.BDP(AC24 & \" Equity\",$Y$2)","v":-14.98856},{"$f":"_xll.BDP(AC24 & \" Equity\",$Z$2)","v":-7.125},{"$f":"_xll.BDP(AC24 & \" Equity\",$AA$2)","v":-13.26174},{"$f":"_xll.BDP(AC24 & \" Equity\",$AB$2)","v":"EFII US"},{"$f":"_xll.BDP(B24,$AC$2)","v":"EQ0010357300001000"},{"$f":"_xll.BDP(AC24 & \" Equity\",$AD$2)","v":36.76},43,37,{"$f":"_xll.BDP(B24,$AG$2)","v":"USD"},{"$f":"_xll.BDP(B24,$AH$2)","v":345000000},{"$f":"IFERROR(VLOOKUP(A24,'Fisch Holding'!$A$5:$C$1245,3,FALSE)/AH24,\"-\")","v":"-"},{"$f":"IFERROR(VLOOKUP(A24,'BM Weight'!$A$7:$D$1020,3,FALSE),\"-\")","v":"-"},{"$f":"IFERROR(VLOOKUP(A24,'BM Weight'!$A$7:$D$1020,4,FALSE),\"-    \")","v":"-    "},{"$f":"IFERROR(VLOOKUP(A24,'Implied Rating'!$B$7:$C$1179,2,FALSE),\"-\")","v":"BB+"},{"$f":"IFERROR(VLOOKUP(A24,'ICV Rating'!$B$5:$E$1306,2,FALSE),\"-\")","v":0},{"$f":"_xll.BDP(B24,$AN$2)","v":"#N/A N/A"},{"$f":"_xll.BDP(B24,$AO$2)","v":"#N/A N/A"},{"$f":"_xll.BDP(B24,$AP$2)","v":"#N/A N/A"},{"$f":"_xll.BDP(B24,$AQ$2)","v":"N"},{"$f":"_xll.BDP(B24,$AR$2)","v":"Optionally"},{"$f":"_xll.BDP(B24,$AS$2)","v":"N"},{"$f":"_xll.BDP(B24,$AT$2)","v":"N"},{"$f":"_xll.BDP(B24,$AU$2)","v":"N"},{"$f":"_xll.BDP(B24,$AV$2)","v":"N"},{"$f":"_xll.BDP(B24,$AW$2)","v":"US"},{"$f":"_xll.BDP(AC24 & \" Equity\",$AX$2)","v":"Information Technology"},{"$f":"_xll.BDP(AC24 & \" Equity\",$AY$2)","v":"Technology Hardware & Equipmen"},{"$f":"_xll.BDP(AC24 & \" Equity\",$AZ$2)","v":"Technology Hardware, Storage &"},null,0,{"$f":"_xll.BDP(B24,$BC$2)","v":4.4881788792777808},{"$f":"_xll.BDP(B24,$BD$2)","v":2.6938031480872944},{"$f":"_xll.BDP(B24,$BE$2)","v":22.044956958730253},{"$f":"_xll.BDP(B24,$BF$2)","v":1.657},{"$f":"_xll.BDP(B24,$BG$2)","v":-2.7745796687768882},{"$f":"_xll.BDP(B24,$BH$2)","v":-7.1450772172215196},{"$f":"_xll.BDP(B24,$BI$2)","v":-1.1968683741622186},null,{"$f":"_xll.BDP(B24,$BK$2)","v":95.829599999999999},{"$f":"_xll.BDP(B24,$BL$2)","v":"#N/A Field Not Applicable"},{"$f":"_xll.BDP(B24,$BM$2)","v":58.701574470833449},{"$f":"_xll.BDP(B24,$BN$2)","v":5.7579851565772253E-3},{"$f":"_xll.BDP(B24,$BO$2)","v":36.227984722251477},{"$f":"_xll.BDP(AC24 & \" Equity\",$BP$2)","v":"#N/A N/A"},{"$f":"_xll.BDP(AC24 & \" Equity\",$BQ$2)","v":"29.01.2015"},{"$f":"_xll.BDP(AC24 & \" Equity\",$BR$2)","v":27.548310911562691}]
["US292475AF77",{"$f":"A25 & \" Corp\"","v":"US292475AF77 Corp"},"EMULEX CORPORATION",{"$f":"_xll.BDP(B25,$D$2)","v":"EMULEX CORPORATION"},{"$f":"_xll.BDP(B25,$E$2)","v":1.75},{"$f":"_xll.BDP(B25,$F$2)","v":"15.11.2018"},{"$f":"_xll.BDP(B25,$G$2)","v":"#N/A Field Not Applicable"},{"$f":"_xll.BDP(B25,$H$2)","v":"#N/A Field Not Applicable"},"2015-01-15",null,0,{"$f":"ROUND((T25*T$2+U25*U$2+S25*S$2+IF(P25=\"NR\",0,P25^2*SIGN(P25))+M25*M$2)/(L$2-IF(P25=\"NR\",0,P$2)-IF(S25,0,S$2)),0)","v":1},0,1,0,"NR","2013-11-12",-1,{"$f":"VLOOKUP(AX25,[1]Sheet1!$C$8:$D$23,2,FALSE)","v":1},{"$f":"MIN(ROUND(ABS(V25/AD25)*200,0),2)*SIGN(V25)","v":2},{"$f":"MIN(ROUND(ABS(X25),0),2)*IFERROR(SIGN(X25),0)","v":2},{"$f":"_xll.BDP(AC25 & \" Equity\",$V$3)","v":0.12519890069961548},{"$f":"_xll.BDP(AC25 & \" Equity\",$W$3)","v":50.884965473570773},{"$f":"IFERROR(10*LN((100+Z25)/(100+$Z$1))+2*LN((100+$W$2)/(100+W25)),0)","v":1.7317058899561086},{"$f":"_xll.BDP(AC25 & \" Equity\",$Y$2)","v":29.86768},{"$f":"_xll.BDP(AC25 & \" Equity\",$Z$2)","v":36.0396},{"$f":"_xll.BDP(AC25 & \" Equity\",$AA$2)","v":21.164020000000001},{"$f":"_xll.BDP(AC25 & \" Equity\",$AB$2)","v":"ELX US"},{"$f":"_xll.BDP(B25,$AC$2)","v":"EQ0010361900001000"},{"$f":"_xll.BDP(AC25 & \" Equity\",$AD$2)","v":6.73},7,6.2,{"$f":"_xll.BDP(B25,$AG$2)","v":"USD"},{"$f":"_xll.BDP(B25,$AH$2)","v":175000000},{"$f":"IFERROR(VLOOKUP(A25,'Fisch Holding'!$A$5:$C$1245,3,FALSE)/AH25,\"-\")","v":"-"},{"$f":"IFERROR(VLOOKUP(A25,'BM Weight'!$A$7:$D$1020,3,FALSE),\"-\")","v":"-"},{"$f":"IFERROR(VLOOKUP(A25,'BM Weight'!$A$7:$D$1020,4,FALSE),\"-    \")","v":"-    "},{"$f":"IFERROR(VLOOKUP(A25,'Implied Rating'!$B$7:$C$1179,2,FALSE),\"-\")","v":"-"},{"$f":"IFERROR(VLOOKUP(A25,'ICV Rating'!$B$5:$E$1306,2,FALSE),\"-\")","v":"-"},{"$f":"_xll.BDP(B25,$AN$2)","v":"#N/A N/A"},{"$f":"_xll.BDP(B25,$AO$2)","v":"#N/A N/A"},{"$f":"_xll.BDP(B25,$AP$2)","v":"#N/A N/A"},{"$f":"_xll.BDP(B25,$AQ$2)","v":"N"},{"$f":"_xll.BDP(B25,$AR$2)","v":"Optionally"},{"$f":"_xll.BDP(B25,$AS$2)","v":"N"},{"$f":"_xll.BDP(B25,$AT$2)","v":"#N/A N/A"},{"$f":"_xll.BDP(B25,$AU$2)","v":"N"},{"$f":"_xll.BDP(B25,$AV$2)","v":"N"},{"$f":"_xll.BDP(B25,$AW$2)","v":"US"},{"$f":"_xll.BDP(AC25 & \" Equity\",$AX$2)","v":"Information Technology"},{"$f":"_xll.BDP(AC25 & \" Equity\",$AY$2)","v":"Technology Hardware & Equipmen"},{"$f":"_xll.BDP(AC25 & \" Equity\",$AZ$2)","v":"Communications Equipment"},null,0,{"$f":"_xll.BDP(B25,$BC$2)","v":3.6465488245136886},{"$f":"_xll.BDP(B25,$BD$2)","v":2.2033261460969022},{"$f":"_xll.BDP(B25,$BE$2)","v":135.28307386753369},{"$f":"_xll.BDP(B25,$BF$2)","v":2.6240000000000001},{"$f":"_xll.BDP(B25,$BG$2)","v":4.9672955998451123},{"$f":"_xll.BDP(B25,$BH$2)","v":7.9520122078081412},{"$f":"_xll.BDP(B25,$BI$2)","v":9.241364208414371},null,{"$f":"_xll.BDP(B25,$BK$2)","v":96.772819999999996},{"$f":"_xll.BDP(B25,$BL$2)","v":"#N/A Field Not Applicable"},{"$f":"_xll.BDP(B25,$BM$2)","v":60.911624052244974},{"$f":"_xll.BDP(B25,$BN$2)","v":4.9559719443321507E-3},{"$f":"_xll.BDP(B25,$BO$2)","v":45.130017706372101},{"$f":"_xll.BDP(AC25 & \" Equity\",$BP$2)","v":"#N/A N/A"},{"$f":"_xll.BDP(AC25 & \" Equity\",$BQ$2)","v":"29.01.2015"},{"$f":"_xll.BDP(AC25 & \" Equity\",$BR$2)","v":50.103393583089982}]
["US29404KAA43",{"$f":"A26 & \" Corp\"","v":"US29404KAA43 Corp"},"ENVESTNET INC",{"$f":"_xll.BDP(B26,$D$2)","v":"ENVESTNET INC"},{"$f":"_xll.BDP(B26,$E$2)","v":1.75},{"$f":"_xll.BDP(B26,$F$2)","v":"15.12.2019"},{"$f":"_xll.BDP(B26,$G$2)","v":"#N/A Field Not Applicable"},{"$f":"_xll.BDP(B26,$H$2)","v":"#N/A Field Not Applicable"},"2014-11-27","NE Dez. 14",1,{"$f":"ROUND((T26*T$2+U26*U$2+S26*S$2+IF(P26=\"NR\",0,P26^2*SIGN(P26))+M26*M$2)/(L$2-IF(P26=\"NR\",0,P$2)-IF(S26,0,S$2)),0)","v":1},1,-1,0,"NR","2014-04-22",0,{"$f":"VLOOKUP(AX26,[1]Sheet1!$C$8:$D$23,2,FALSE)","v":1},{"$f":"MIN(ROUND(ABS(V26/AD26)*200,0),2)*SIGN(V26)","v":1},{"$f":"MIN(ROUND(ABS(X26),0),2)*IFERROR(SIGN(X26),0)","v":1},{"$f":"_xll.BDP(AC26 & \" Equity\",$V$3)","v":0.14850974082946777},{"$f":"_xll.BDP(AC26 & \" Equity\",$W$3)","v":45.018453854062493},{"$f":"IFERROR(10*LN((100+Z26)/(100+$Z$1))+2*LN((100+$W$2)/(100+W26)),0)","v":1.1351538421663272},{"$f":"_xll.BDP(AC26 & \" Equity\",$Y$2)","v":7.5479710000000004},{"$f":"_xll.BDP(AC26 & \" Equity\",$Z$2)","v":27.148980000000002},{"$f":"_xll.BDP(AC26 & \" Equity\",$AA$2)","v":2.6455039999999999},{"$f":"_xll.BDP(AC26 & \" Equity\",$AB$2)","v":"ENV US"},{"$f":"_xll.BDP(B26,$AC$2)","v":"EQ0000000010023063"},{"$f":"_xll.BDP(AC26 & \" Equity\",$AD$2)","v":49.28},52,48,{"$f":"_xll.BDP(B26,$AG$2)","v":"USD"},{"$f":"_xll.BDP(B26,$AH$2)","v":172500000},{"$f":"IFERROR(VLOOKUP(A26,'Fisch Holding'!$A$5:$C$1245,3,FALSE)/AH26,\"-\")","v":"-"},{"$f":"IFERROR(VLOOKUP(A26,'BM Weight'!$A$7:$D$1020,3,FALSE),\"-\")","v":"-"},{"$f":"IFERROR(VLOOKUP(A26,'BM Weight'!$A$7:$D$1020,4,FALSE),\"-    \")","v":"-    "},{"$f":"IFERROR(VLOOKUP(A26,'Implied Rating'!$B$7:$C$1179,2,FALSE),\"-\")","v":"-"},{"$f":"IFERROR(VLOOKUP(A26,'ICV Rating'!$B$5:$E$1306,2,FALSE),\"-\")","v":"-"},{"$f":"_xll.BDP(B26,$AN$2)","v":"#N/A N/A"},{"$f":"_xll.BDP(B26,$AO$2)","v":"#N/A N/A"},{"$f":"_xll.BDP(B26,$AP$2)","v":"#N/A N/A"},{"$f":"_xll.BDP(B26,$AQ$2)","v":"N"},{"$f":"_xll.BDP(B26,$AR$2)","v":"Optionally"},{"$f":"_xll.BDP(B26,$AS$2)","v":"N"},{"$f":"_xll.BDP(B26,$AT$2)","v":"N"},{"$f":"_xll.BDP(B26,$AU$2)","v":"N"},{"$f":"_xll.BDP(B26,$AV$2)","v":"N"},{"$f":"_xll.BDP(B26,$AW$2)","v":"US"},{"$f":"_xll.BDP(AC26 & \" Equity\",$AX$2)","v":"Information Technology"},{"$f":"_xll.BDP(AC26 & \" Equity\",$AY$2)","v":"Software & Services"},{"$f":"_xll.BDP(AC26 & \" Equity\",$AZ$2)","v":"Internet Software & Services"},null,0,{"$f":"_xll.BDP(B26,$BC$2)","v":4.7001174600152114},{"$f":"_xll.BDP(B26,$BD$2)","v":2.0519613037303475},{"$f":"_xll.BDP(B26,$BE$2)","v":-84.543627977513751},{"$f":"_xll.BDP(B26,$BF$2)","v":0.63600000000000001},{"$f":"_xll.BDP(B26,$BG$2)","v":2.0368112667217377},{"$f":"_xll.BDP(B26,$BH$2)","v":4.7317009402334724},{"$f":"_xll.BDP(B26,$BI$2)","v":"#N/A N/A"},null,{"$f":"_xll.BDP(B26,$BK$2)","v":105.2915},{"$f":"_xll.BDP(B26,$BL$2)","v":"#N/A Field Not Applicable"},{"$f":"_xll.BDP(B26,$BM$2)","v":74.568280394989685},{"$f":"_xll.BDP(B26,$BN$2)","v":3.6289041553131938E-3},{"$f":"_xll.BDP(B26,$BO$2)","v":31.362782113053793},{"$f":"_xll.BDP(AC26 & \" Equity\",$BP$2)","v":"#N/A N/A"},{"$f":"_xll.BDP(AC26 & \" Equity\",$BQ$2)","v":"20.02.2015"},{"$f":"_xll.BDP(AC26 & \" Equity\",$BR$2)","v":44.08850504435599}]
["US29444UAH95",{"$f":"A27 & \" Corp\"","v":"US29444UAH95 Corp"},"EQUINIX INC",{"$f":"_xll.BDP(B27,$D$2)","v":"EQUINIX INC"},{"$f":"_xll.BDP(B27,$E$2)","v":4.75},{"$f":"_xll.BDP(B27,$F$2)","v":"15.06.2016"},{"$f":"_xll.BDP(B27,$G$2)","v":"#N/A Field Not Applicable"},{"$f":"_xll.BDP(B27,$H$2)","v":"#N/A Field Not Applicable"},"2013-07-23",null,0,{"$f":"ROUND((T27*T$2+U27*U$2+S27*S$2+IF(P27=\"NR\",0,P27^2*SIGN(P27))+M27*M$2)/(L$2-IF(P27=\"NR\",0,P$2)-IF(S27,0,S$2)),0)","v":-1},-2,0,-2,"NR","2013-07-23",-2,{"$f":"VLOOKUP(AX27,[1]Sheet1!$C$8:$D$23,2,FALSE)","v":1},{"$f":"MIN(ROUND(ABS(V27/AD27)*200,0),2)*SIGN(V27)","v":-1},{"$f":"MIN(ROUND(ABS(X27),0),2)*IFERROR(SIGN(X27),0)","v":1},{"$f":"_xll.BDP(AC27 & \" Equity\",$V$3)","v":-1.5280535221099854},{"$f":"_xll.BDP(AC27 & \" Equity\",$W$3)","v":25.409085825160254},{"$f":"IFERROR(10*LN((100+Z27)/(100+$Z$1))+2*LN((100+$W$2)/(100+W27)),0)","v":0.64659170038130576},{"$f":"_xll.BDP(AC27 & \" Equity\",$Y$2)","v":-1.3431900000000001},{"$f":"_xll.BDP(AC27 & \" Equity\",$Z$2)","v":17.61861},{"$f":"_xll.BDP(AC27 & \" Equity\",$AA$2)","v":-3.4622660000000001},{"$f":"_xll.BDP(AC27 & \" Equity\",$AB$2)","v":"EQIX US"},{"$f":"_xll.BDP(B27,$AC$2)","v":"EQ0000000000446719"},{"$f":"_xll.BDP(AC27 & \" Equity\",$AD$2)","v":218.33},230,200,{"$f":"_xll.BDP(B27,$AG$2)","v":"USD"},{"$f":"_xll.BDP(B27,$AH$2)","v":157887000},{"$f":"IFERROR(VLOOKUP(A27,'Fisch Holding'!$A$5:$C$1245,3,FALSE)/AH27,\"-\")","v":"-"},{"$f":"IFERROR(VLOOKUP(A27,'BM Weight'!$A$7:$D$1020,3,FALSE),\"-\")","v":"-"},{"$f":"IFERROR(VLOOKUP(A27,'BM Weight'!$A$7:$D$1020,4,FALSE),\"-    \")","v":"-    "},{"$f":"IFERROR(VLOOKUP(A27,'Implied Rating'!$B$7:$C$1179,2,FALSE),\"-\")","v":"B"},{"$f":"IFERROR(VLOOKUP(A27,'ICV Rating'!$B$5:$E$1306,2,FALSE),\"-\")","v":0},{"$f":"_xll.BDP(B27,$AN$2)","v":"NR"},{"$f":"_xll.BDP(B27,$AO$2)","v":"Ba3"},{"$f":"_xll.BDP(B27,$AP$2)","v":"BB"},{"$f":"_xll.BDP(B27,$AQ$2)","v":"N"},{"$f":"_xll.BDP(B27,$AR$2)","v":"Optionally"},{"$f":"_xll.BDP(B27,$AS$2)","v":"Y"},{"$f":"_xll.BDP(B27,$AT$2)","v":"Y"},{"$f":"_xll.BDP(B27,$AU$2)","v":"N"},{"$f":"_xll.BDP(B27,$AV$2)","v":"N"},{"$f":"_xll.BDP(B27,$AW$2)","v":"US"},{"$f":"_xll.BDP(AC27 & \" Equity\",$AX$2)","v":"Information Technology"},{"$f":"_xll.BDP(AC27 & \" Equity\",$AY$2)","v":"Software & Services"},{"$f":"_xll.BDP(AC27 & \" Equity\",$AZ$2)","v":"Internet Software & Services"},null,0,{"$f":"_xll.BDP(B27,$BC$2)","v":1.9392475657788228},{"$f":"_xll.BDP(B27,$BD$2)","v":5.7953630516593296E-4},{"$f":"_xll.BDP(B27,$BE$2)","v":-5833.5924251285996},{"$f":"_xll.BDP(B27,$BF$2)","v":-57.805999999999997},{"$f":"_xll.BDP(B27,$BG$2)","v":-0.81292144797149724},{"$f":"_xll.BDP(B27,$BH$2)","v":-1.4122840999861308},{"$f":"_xll.BDP(B27,$BI$2)","v":15.337433914339638},null,{"$f":"_xll.BDP(B27,$BK$2)","v":272.13479999999998},{"$f":"_xll.BDP(B27,$BL$2)","v":"#N/A Field Not Applicable"},{"$f":"_xll.BDP(B27,$BM$2)","v":99.836581350870034},{"$f":"_xll.BDP(B27,$BN$2)","v":8.6895217037946657E-5},{"$f":"_xll.BDP(B27,$BO$2)","v":1.6640713515859935},{"$f":"_xll.BDP(AC27 & \" Equity\",$BP$2)","v":"#N/A N/A"},{"$f":"_xll.BDP(AC27 & \" Equity\",$BQ$2)","v":"19.02.2015"},{"$f":"_xll.BDP(AC27 & \" Equity\",$BR$2)","v":28.096570109971463}]
["US298736AG45",{"$f":"A28 & \" Corp\"","v":"US298736AG45 Corp"},"ENVESTNET INC",{"$f":"_xll.BDP(B28,$D$2)","v":"EURONET WORLDWIDE INC"},{"$f":"_xll.BDP(B28,$E$2)","v":1.5},{"$f":"_xll.BDP(B28,$F$2)","v":"01.10.2044"},{"$f":"_xll.BDP(B28,$G$2)","v":"01.10.2020"},{"$f":"_xll.BDP(B28,$H$2)","v":"05.10.2020"},"2015-01-15","NE Okt. 14",0,{"$f":"ROUND((T28*T$2+U28*U$2+S28*S$2+IF(P28=\"NR\",0,P28^2*SIGN(P28))+M28*M$2)/(L$2-IF(P28=\"NR\",0,P$2)-IF(S28,0,S$2)),0)","v":1},1,-1,0,"NR","2014-04-22",0,{"$f":"VLOOKUP(AX28,[1]Sheet1!$C$8:$D$23,2,FALSE)","v":1},{"$f":"MIN(ROUND(ABS(V28/AD28)*200,0),2)*SIGN(V28)","v":-1},{"$f":"MIN(ROUND(ABS(X28),0),2)*IFERROR(SIGN(X28),0)","v":0},{"$f":"_xll.BDP(AC28 & \" Equity\",$V$3)","v":-0.2844235897064209},{"$f":"_xll.BDP(AC28 & \" Equity\",$W$3)","v":31.955791772488812},{"$f":"IFERROR(10*LN((100+Z28)/(100+$Z$1))+2*LN((100+$W$2)/(100+W28)),0)","v":0.24110155875769124},{"$f":"_xll.BDP(AC28 & \" Equity\",$Y$2)","v":-5.6476579999999998},{"$f":"_xll.BDP(AC28 & \" Equity\",$Z$2)","v":14.100020000000001},{"$f":"_xll.BDP(AC28 & \" Equity\",$AA$2)","v":-5.6648480000000001},{"$f":"_xll.BDP(AC28 & \" Equity\",$AB$2)","v":"EEFT US"},{"$f":"_xll.BDP(B28,$AC$2)","v":"EQ0020257900001000"},{"$f":"_xll.BDP(AC28 & \" Equity\",$AD$2)","v":50.7},53,50,{"$f":"_xll.BDP(B28,$AG$2)","v":"USD"},{"$f":"_xll.BDP(B28,$AH$2)","v":402500000},{"$f":"IFERROR(VLOOKUP(A28,'Fisch Holding'!$A$5:$C$1245,3,FALSE)/AH28,\"-\")","v":2.2608695652173914E-2},{"$f":"IFERROR(VLOOKUP(A28,'BM Weight'!$A$7:$D$1020,3,FALSE),\"-\")","v":"-"},{"$f":"IFERROR(VLOOKUP(A28,'BM Weight'!$A$7:$D$1020,4,FALSE),\"-    \")","v":"-    "},{"$f":"IFERROR(VLOOKUP(A28,'Implied Rating'!$B$7:$C$1179,2,FALSE),\"-\")","v":"BB"},{"$f":"IFERROR(VLOOKUP(A28,'ICV Rating'!$B$5:$E$1306,2,FALSE),\"-\")","v":0},{"$f":"_xll.BDP(B28,$AN$2)","v":"NR"},{"$f":"_xll.BDP(B28,$AO$2)","v":"#N/A N/A"},{"$f":"_xll.BDP(B28,$AP$2)","v":"BBB-"},{"$f":"_xll.BDP(B28,$AQ$2)","v":"N"},{"$f":"_xll.BDP(B28,$AR$2)","v":"Optionally"},{"$f":"_xll.BDP(B28,$AS$2)","v":"N"},{"$f":"_xll.BDP(B28,$AT$2)","v":"N"},{"$f":"_xll.BDP(B28,$AU$2)","v":"N"},{"$f":"_xll.BDP(B28,$AV$2)","v":"Y"},{"$f":"_xll.BDP(B28,$AW$2)","v":"US"},{"$f":"_xll.BDP(AC28 & \" Equity\",$AX$2)","v":"Information Technology"},{"$f":"_xll.BDP(AC28 & \" Equity\",$AY$2)","v":"Software & Services"},{"$f":"_xll.BDP(AC28 & \" Equity\",$AZ$2)","v":"IT Services"},null,0,{"$f":"_xll.BDP(B28,$BC$2)","v":5.4330896546124983},{"$f":"_xll.BDP(B28,$BD$2)","v":3.0498716707826197},{"$f":"_xll.BDP(B28,$BE$2)","v":-11.916801661011291},{"$f":"_xll.BDP(B28,$BF$2)","v":1.429},{"$f":"_xll.BDP(B28,$BG$2)","v":0.35365943817793494},{"$f":"_xll.BDP(B28,$BH$2)","v":-1.6689294495079685},{"$f":"_xll.BDP(B28,$BI$2)","v":"#N/A N/A"},null,{"$f":"_xll.BDP(B28,$BK$2)","v":100.227},{"$f":"_xll.BDP(B28,$BL$2)","v":"#N/A Field Not Applicable"},{"$f":"_xll.BDP(B28,$BM$2)","v":60.769677897159205},{"$f":"_xll.BDP(B28,$BN$2)","v":4.8556529030014881E-3},{"$f":"_xll.BDP(B28,$BO$2)","v":39.918513650301946},{"$f":"_xll.BDP(AC28 & \" Equity\",$BP$2)","v":"#N/A N/A"},{"$f":"_xll.BDP(AC28 & \" Equity\",$BQ$2)","v":"11.02.2015"},{"$f":"_xll.BDP(AC28 & \" Equity\",$BR$2)","v":31.491657721062349}]
["US31787AAM36",{"$f":"A29 & \" Corp\"","v":"US31787AAM36 Corp"},"FINISAR CORP",{"$f":"_xll.BDP(B29,$D$2)","v":"FINISAR CORP"},{"$f":"_xll.BDP(B29,$E$2)","v":0.5},{"$f":"_xll.BDP(B29,$F$2)","v":"15.12.2033"},{"$f":"_xll.BDP(B29,$G$2)","v":"15.12.2018"},{"$f":"_xll.BDP(B29,$H$2)","v":"22.12.2018"},"2014-12-16",null,0,{"$f":"ROUND((T29*T$2+U29*U$2+S29*S$2+IF(P29=\"NR\",0,P29^2*SIGN(P29))+M29*M$2)/(L$2-IF(P29=\"NR\",0,P$2)-IF(S29,0,S$2)),0)","v":0},0,-1,0,"NR","2014-05-05",-2,{"$f":"VLOOKUP(AX29,[1]Sheet1!$C$8:$D$23,2,FALSE)","v":1},{"$f":"MIN(ROUND(ABS(V29/AD29)*200,0),2)*SIGN(V29)","v":-2},{"$f":"MIN(ROUND(ABS(X29),0),2)*IFERROR(SIGN(X29),0)","v":1},{"$f":"_xll.BDP(AC29 & \" Equity\",$V$3)","v":-0.16769498586654663},{"$f":"_xll.BDP(AC29 & \" Equity\",$W$3)","v":31.474197342389271},{"$f":"IFERROR(10*LN((100+Z29)/(100+$Z$1))+2*LN((100+$W$2)/(100+W29)),0)","v":0.87092180635414818},{"$f":"_xll.BDP(AC29 & \" Equity\",$Y$2)","v":-0.59012549999999997},{"$f":"_xll.BDP(AC29 & \" Equity\",$Z$2)","v":21.428570000000001},{"$f":"_xll.BDP(AC29 & \" Equity\",$AA$2)","v":-4.5337449999999997},{"$f":"_xll.BDP(AC29 & \" Equity\",$AB$2)","v":"FNSR US"},{"$f":"_xll.BDP(B29,$AC$2)","v":"EQ0088345000001000"},{"$f":"_xll.BDP(AC29 & \" Equity\",$AD$2)","v":18.350000000000001},20,18,{"$f":"_xll.BDP(B29,$AG$2)","v":"USD"},{"$f":"_xll.BDP(B29,$AH$2)","v":258750000},{"$f":"IFERROR(VLOOKUP(A29,'Fisch Holding'!$A$5:$C$1245,3,FALSE)/AH29,\"-\")","v":1.9323671497584541E-3},{"$f":"IFERROR(VLOOKUP(A29,'BM Weight'!$A$7:$D$1020,3,FALSE),\"-\")","v":"-"},{"$f":"IFERROR(VLOOKUP(A29,'BM Weight'!$A$7:$D$1020,4,FALSE),\"-    \")","v":"-    "},{"$f":"IFERROR(VLOOKUP(A29,'Implied Rating'!$B$7:$C$1179,2,FALSE),\"-\")","v":"BB+"},{"$f":"IFERROR(VLOOKUP(A29,'ICV Rating'!$B$5:$E$1306,2,FALSE),\"-\")","v":0},{"$f":"_xll.BDP(B29,$AN$2)","v":"#N/A N/A"},{"$f":"_xll.BDP(B29,$AO$2)","v":"#N/A N/A"},{"$f":"_xll.BDP(B29,$AP$2)","v":"#N/A N/A"},{"$f":"_xll.BDP(B29,$AQ$2)","v":"N"},{"$f":"_xll.BDP(B29,$AR$2)","v":"Optionally"},{"$f":"_xll.BDP(B29,$AS$2)","v":"N"},{"$f":"_xll.BDP(B29,$AT$2)","v":"Y"},{"$f":"_xll.BDP(B29,$AU$2)","v":"N"},{"$f":"_xll.BDP(B29,$AV$2)","v":"Y"},{"$f":"_xll.BDP(B29,$AW$2)","v":"US"},{"$f":"_xll.BDP(AC29 & \" Equity\",$AX$2)","v":"Information Technology"},{"$f":"_xll.BDP(AC29 & \" Equity\",$AY$2)","v":"Technology Hardware & Equipmen"},{"$f":"_xll.BDP(AC29 & \" Equity\",$AZ$2)","v":"Communications Equipment"},null,0,{"$f":"_xll.BDP(B29,$BC$2)","v":3.8330872667244846},{"$f":"_xll.BDP(B29,$BD$2)","v":2.6673799376161273},{"$f":"_xll.BDP(B29,$BE$2)","v":29.080133915223836},{"$f":"_xll.BDP(B29,$BF$2)","v":1.589},{"$f":"_xll.BDP(B29,$BG$2)","v":0.77152057344590141},{"$f":"_xll.BDP(B29,$BH$2)","v":0.95267279209789113},{"$f":"_xll.BDP(B29,$BI$2)","v":6.9890864889931574},null,{"$f":"_xll.BDP(B29,$BK$2)","v":95.754710000000003},{"$f":"_xll.BDP(B29,$BL$2)","v":"#N/A Field Not Applicable"},{"$f":"_xll.BDP(B29,$BM$2)","v":53.236712716952049},{"$f":"_xll.BDP(B29,$BN$2)","v":4.9765837802444417E-3},{"$f":"_xll.BDP(B29,$BO$2)","v":56.207654051353174},{"$f":"_xll.BDP(AC29 & \" Equity\",$BP$2)","v":"#N/A N/A"},{"$f":"_xll.BDP(AC29 & \" Equity\",$BQ$2)","v":"06.03.2015"},{"$f":"_xll.BDP(AC29 & \" Equity\",$BR$2)","v":34.601754367801988}]
["US36191UAB26",{"$f":"A30 & \" Corp\"","v":"US36191UAB26 Corp"},"GT ADV TECHNOLOGIES INC",{"$f":"_xll.BDP(B30,$D$2)","v":"GT ADV TECHNOLOGIES INC"},{"$f":"_xll.BDP(B30,$E$2)","v":3},{"$f":"_xll.BDP(B30,$F$2)","v":"15.12.2020"},{"$f":"_xll.BDP(B30,$G$2)","v":"#N/A Field Not Applicable"},{"$f":"_xll.BDP(B30,$H$2)","v":"#N/A Field Not Applicable"},"2014-10-07","Default",-2,{"$f":"ROUND((T30*T$2+U30*U$2+S30*S$2+IF(P30=\"NR\",0,P30^2*SIGN(P30))+M30*M$2)/(L$2-IF(P30=\"NR\",0,P$2)-IF(S30,0,S$2)),0)","v":-1},-1,0,-1,0,"2014-06-03",-2,{"$f":"VLOOKUP(AX30,[1]Sheet1!$C$8:$D$23,2,FALSE)","v":1},{"$f":"MIN(ROUND(ABS(V30/AD30)*200,0),2)*SIGN(V30)","v":2},{"$f":"MIN(ROUND(ABS(X30),0),2)*IFERROR(SIGN(X30),0)","v":-2},{"$f":"_xll.BDP(AC30 & \" Equity\",$V$3)","v":3.101135790348053E-2},{"$f":"_xll.BDP(AC30 & \" Equity\",$W$3)","v":197.24105833066338},{"$f":"IFERROR(10*LN((100+Z30)/(100+$Z$1))+2*LN((100+$W$2)/(100+W30)),0)","v":-3.8471177857023555},{"$f":"_xll.BDP(AC30 & \" Equity\",$Y$2)","v":-4.4117629999999997},{"$f":"_xll.BDP(AC30 & \" Equity\",$Z$2)","v":-10.81893},{"$f":"_xll.BDP(AC30 & \" Equity\",$AA$2)","v":17.824770000000001},{"$f":"_xll.BDP(AC30 & \" Equity\",$AB$2)","v":"GTATQ US"},{"$f":"_xll.BDP(B30,$AC$2)","v":"EQ0000000003481843"},{"$f":"_xll.BDP(AC30 & \" Equity\",$AD$2)","v":0.40899999999999997},5,0.2,{"$f":"_xll.BDP(B30,$AG$2)","v":"USD"},{"$f":"_xll.BDP(B30,$AH$2)","v":214000000},{"$f":"IFERROR(VLOOKUP(A30,'Fisch Holding'!$A$5:$C$1245,3,FALSE)/AH30,\"-\")","v":"-"},{"$f":"IFERROR(VLOOKUP(A30,'BM Weight'!$A$7:$D$1020,3,FALSE),\"-\")","v":"-"},{"$f":"IFERROR(VLOOKUP(A30,'BM Weight'!$A$7:$D$1020,4,FALSE),\"-    \")","v":"-    "},{"$f":"IFERROR(VLOOKUP(A30,'Implied Rating'!$B$7:$C$1179,2,FALSE),\"-\")","v":"B"},{"$f":"IFERROR(VLOOKUP(A30,'ICV Rating'!$B$5:$E$1306,2,FALSE),\"-\")","v":0},{"$f":"_xll.BDP(B30,$AN$2)","v":"#N/A N/A"},{"$f":"_xll.BDP(B30,$AO$2)","v":"#N/A N/A"},{"$f":"_xll.BDP(B30,$AP$2)","v":"#N/A N/A"},{"$f":"_xll.BDP(B30,$AQ$2)","v":"Y"},{"$f":"_xll.BDP(B30,$AR$2)","v":"Optionally"},{"$f":"_xll.BDP(B30,$AS$2)","v":"N"},{"$f":"_xll.BDP(B30,$AT$2)","v":"N"},{"$f":"_xll.BDP(B30,$AU$2)","v":"N"},{"$f":"_xll.BDP(B30,$AV$2)","v":"N"},{"$f":"_xll.BDP(B30,$AW$2)","v":"US"},{"$f":"_xll.BDP(AC30 & \" Equity\",$AX$2)","v":"Information Technology"},{"$f":"_xll.BDP(AC30 & \" Equity\",$AY$2)","v":"Semiconductors & Semiconductor"},{"$f":"_xll.BDP(AC30 & \" Equity\",$AZ$2)","v":"Semiconductors & Semiconductor"},null,0,{"$f":"_xll.BDP(B30,$BC$2)","v":4.8734847461280504},{"$f":"_xll.BDP(B30,$BD$2)","v":5.1710767560795805},{"$f":"_xll.BDP(B30,$BE$2)","v":"#N/A N/A"},{"$f":"_xll.BDP(B30,$BF$2)","v":17.369},{"$f":"_xll.BDP(B30,$BG$2)","v":-5.0632911392405067},{"$f":"_xll.BDP(B30,$BH$2)","v":6.5340909090909092},{"$f":"_xll.BDP(B30,$BI$2)","v":147.52475247524751},null,{"$f":"_xll.BDP(B30,$BK$2)","v":46.875},{"$f":"_xll.BDP(B30,$BL$2)","v":"#N/A Field Not Applicable"},{"$f":"_xll.BDP(B30,$BM$2)","v":91.176678383448035},{"$f":"_xll.BDP(B30,$BN$2)","v":4.1117620930724907E-4},{"$f":"_xll.BDP(B30,$BO$2)","v":1363.2914218284373},{"$f":"_xll.BDP(AC30 & \" Equity\",$BP$2)","v":"#N/A N/A"},{"$f":"_xll.BDP(AC30 & \" Equity\",$BQ$2)","v":"#N/A N/A"},{"$f":"_xll.BDP(AC30 & \" Equity\",$BR$2)","v":516.42804121477525},null,"2014-02-24"]
["US36191UAA43",{"$f":"A31 & \" Corp\"","v":"US36191UAA43 Corp"},"GT ADV TECHNOLOGIES INC",{"$f":"_xll.BDP(B31,$D$2)","v":"GT ADV TECHNOLOGIES INC"},{"$f":"_xll.BDP(B31,$E$2)","v":3},{"$f":"_xll.BDP(B31,$F$2)","v":"01.10.2017"},{"$f":"_xll.BDP(B31,$G$2)","v":"#N/A Field Not Applicable"},{"$f":"_xll.BDP(B31,$H$2)","v":"#N/A Field Not Applicable"},"2014-10-07","Default",-2,{"$f":"ROUND((T31*T$2+U31*U$2+S31*S$2+IF(P31=\"NR\",0,P31^2*SIGN(P31))+M31*M$2)/(L$2-IF(P31=\"NR\",0,P$2)-IF(S31,0,S$2)),0)","v":-1},-1,0,-1,0,"2014-02-03",-2,{"$f":"VLOOKUP(AX31,[1]Sheet1!$C$8:$D$23,2,FALSE)","v":1},{"$f":"MIN(ROUND(ABS(V31/AD31)*200,0),2)*SIGN(V31)","v":2},{"$f":"MIN(ROUND(ABS(X31),0),2)*IFERROR(SIGN(X31),0)","v":-2},{"$f":"_xll.BDP(AC31 & \" Equity\",$V$3)","v":3.101135790348053E-2},{"$f":"_xll.BDP(AC31 & \" Equity\",$W$3)","v":197.24105833066338},{"$f":"IFERROR(10*LN((100+Z31)/(100+$Z$1))+2*LN((100+$W$2)/(100+W31)),0)","v":-3.8471177857023555},{"$f":"_xll.BDP(AC31 & \" Equity\",$Y$2)","v":-4.4117629999999997},{"$f":"_xll.BDP(AC31 & \" Equity\",$Z$2)","v":-10.81893},{"$f":"_xll.BDP(AC31 & \" Equity\",$AA$2)","v":17.824770000000001},{"$f":"_xll.BDP(AC31 & \" Equity\",$AB$2)","v":"GTATQ US"},{"$f":"_xll.BDP(B31,$AC$2)","v":"EQ0000000003481843"},{"$f":"_xll.BDP(AC31 & \" Equity\",$AD$2)","v":0.40899999999999997},5,0.2,{"$f":"_xll.BDP(B31,$AG$2)","v":"USD"},{"$f":"_xll.BDP(B31,$AH$2)","v":220000000},{"$f":"IFERROR(VLOOKUP(A31,'Fisch Holding'!$A$5:$C$1245,3,FALSE)/AH31,\"-\")","v":"-"},{"$f":"IFERROR(VLOOKUP(A31,'BM Weight'!$A$7:$D$1020,3,FALSE),\"-\")","v":"-"},{"$f":"IFERROR(VLOOKUP(A31,'BM Weight'!$A$7:$D$1020,4,FALSE),\"-    \")","v":"-    "},{"$f":"IFERROR(VLOOKUP(A31,'Implied Rating'!$B$7:$C$1179,2,FALSE),\"-\")","v":"-"},{"$f":"IFERROR(VLOOKUP(A31,'ICV Rating'!$B$5:$E$1306,2,FALSE),\"-\")","v":"-"},{"$f":"_xll.BDP(B31,$AN$2)","v":"#N/A N/A"},{"$f":"_xll.BDP(B31,$AO$2)","v":"#N/A N/A"},{"$f":"_xll.BDP(B31,$AP$2)","v":"#N/A N/A"},{"$f":"_xll.BDP(B31,$AQ$2)","v":"Y"},{"$f":"_xll.BDP(B31,$AR$2)","v":"Optionally"},{"$f":"_xll.BDP(B31,$AS$2)","v":"N"},{"$f":"_xll.BDP(B31,$AT$2)","v":"N"},{"$f":"_xll.BDP(B31,$AU$2)","v":"N"},{"$f":"_xll.BDP(B31,$AV$2)","v":"N"},{"$f":"_xll.BDP(B31,$AW$2)","v":"US"},{"$f":"_xll.BDP(AC31 & \" Equity\",$AX$2)","v":"Information Technology"},{"$f":"_xll.BDP(AC31 & \" Equity\",$AY$2)","v":"Semiconductors & Semiconductor"},{"$f":"_xll.BDP(AC31 & \" Equity\",$AZ$2)","v":"Semiconductors & Semiconductor"},null,0,{"$f":"_xll.BDP(B31,$BC$2)","v":2.2184878184808232},{"$f":"_xll.BDP(B31,$BD$2)","v":2.4347070934959034},{"$f":"_xll.BDP(B31,$BE$2)","v":"#N/A N/A"},{"$f":"_xll.BDP(B31,$BF$2)","v":33.103000000000002},{"$f":"_xll.BDP(B31,$BG$2)","v":0.78125},{"$f":"_xll.BDP(B31,$BH$2)","v":1.3089005235602094},{"$f":"_xll.BDP(B31,$BI$2)","v":141.875},null,{"$f":"_xll.BDP(B31,$BK$2)","v":48.375},{"$f":"_xll.BDP(B31,$BL$2)","v":"#N/A Field Not Applicable"},{"$f":"_xll.BDP(B31,$BM$2)","v":64.24082667518158},{"$f":"_xll.BDP(B31,$BN$2)","v":1.5250656615566861E-3},{"$f":"_xll.BDP(B31,$BO$2)","v":856.21261491742007},{"$f":"_xll.BDP(AC31 & \" Equity\",$BP$2)","v":"#N/A N/A"},{"$f":"_xll.BDP(AC31 & \" Equity\",$BQ$2)","v":"#N/A N/A"},{"$f":"_xll.BDP(AC31 & \" Equity\",$BR$2)","v":516.42804121477525}]
["US83415UAA60",{"$f":"A32 & \" Corp\"","v":"US83415UAA60 Corp"},"HANWHA SOLARONE CO LTD",{"$f":"_xll.BDP(B32,$D$2)","v":"HANWHA SOLARONE CO LTD"},{"$f":"_xll.BDP(B32,$E$2)","v":3.5},{"$f":"_xll.BDP(B32,$F$2)","v":"15.01.2018"},{"$f":"_xll.BDP(B32,$G$2)","v":"#N/A Field Not Applicable"},{"$f":"_xll.BDP(B32,$H$2)","v":"#N/A Field Not Applicable"},"2013-10-01","NO GO KUF; nur 100 Mio Outst.; Put Jan. 15 ; I-CV Sept. 13 CCC",-1,{"$f":"ROUND((T32*T$2+U32*U$2+S32*S$2+IF(P32=\"NR\",0,P32^2*SIGN(P32))+M32*M$2)/(L$2-IF(P32=\"NR\",0,P$2)-IF(S32,0,S$2)),0)","v":0},0,-1,-2,-1,"2013-10-01",-2,{"$f":"VLOOKUP(AX32,[1]Sheet1!$C$8:$D$23,2,FALSE)","v":1},{"$f":"MIN(ROUND(ABS(V32/AD32)*200,0),2)*SIGN(V32)","v":2},{"$f":"MIN(ROUND(ABS(X32),0),2)*IFERROR(SIGN(X32),0)","v":-2},{"$f":"_xll.BDP(AC32 & \" Equity\",$V$3)","v":7.5107365846633911E-3},{"$f":"_xll.BDP(AC32 & \" Equity\",$W$3)","v":68.361838160143165},{"$f":"IFERROR(10*LN((100+Z32)/(100+$Z$1))+2*LN((100+$W$2)/(100+W32)),0)","v":-8.1921279860416227},{"$f":"_xll.BDP(AC32 & \" Equity\",$Y$2)","v":-22.480619999999998},{"$f":"_xll.BDP(AC32 & \" Equity\",$Z$2)","v":-48.453609999999998},{"$f":"_xll.BDP(AC32 & \" Equity\",$AA$2)","v":-9.0909110000000002},{"$f":"_xll.BDP(AC32 & \" Equity\",$AB$2)","v":"HSOL US"},{"$f":"_xll.BDP(B32,$AC$2)","v":"EQ0000000003065564"},{"$f":"_xll.BDP(AC32 & \" Equity\",$AD$2)","v":0.98},3,1,{"$f":"_xll.BDP(B32,$AG$2)","v":"USD"},{"$f":"_xll.BDP(B32,$AH$2)","v":86100000},{"$f":"IFERROR(VLOOKUP(A32,'Fisch Holding'!$A$5:$C$1245,3,FALSE)/AH32,\"-\")","v":"-"},{"$f":"IFERROR(VLOOKUP(A32,'BM Weight'!$A$7:$D$1020,3,FALSE),\"-\")","v":"-"},{"$f":"IFERROR(VLOOKUP(A32,'BM Weight'!$A$7:$D$1020,4,FALSE),\"-    \")","v":"-    "},{"$f":"IFERROR(VLOOKUP(A32,'Implied Rating'!$B$7:$C$1179,2,FALSE),\"-\")","v":"-"},{"$f":"IFERROR(VLOOKUP(A32,'ICV Rating'!$B$5:$E$1306,2,FALSE),\"-\")","v":"-"},{"$f":"_xll.BDP(B32,$AN$2)","v":"#N/A N/A"},{"$f":"_xll.BDP(B32,$AO$2)","v":"#N/A N/A"},{"$f":"_xll.BDP(B32,$AP$2)","v":"#N/A N/A"},{"$f":"_xll.BDP(B32,$AQ$2)","v":"N"},{"$f":"_xll.BDP(B32,$AR$2)","v":"Optionally"},{"$f":"_xll.BDP(B32,$AS$2)","v":"N"},{"$f":"_xll.BDP(B32,$AT$2)","v":"N"},{"$f":"_xll.BDP(B32,$AU$2)","v":"N"},{"$f":"_xll.BDP(B32,$AV$2)","v":"N"},{"$f":"_xll.BDP(B32,$AW$2)","v":"KR"},{"$f":"_xll.BDP(AC32 & \" Equity\",$AX$2)","v":"Information Technology"},{"$f":"_xll.BDP(AC32 & \" Equity\",$AY$2)","v":"Semiconductors & Semiconductor"},{"$f":"_xll.BDP(AC32 & \" Equity\",$AZ$2)","v":"Semiconductors & Semiconductor"},null,0,{"$f":"_xll.BDP(B32,$BC$2)","v":2.775978921001987},{"$f":"_xll.BDP(B32,$BD$2)","v":2.808145427626596},{"$f":"_xll.BDP(B32,$BE$2)","v":410.0905524824301},{"$f":"_xll.BDP(B32,$BF$2)","v":5.16},{"$f":"_xll.BDP(B32,$BG$2)","v":-3.9812931475463649},{"$f":"_xll.BDP(B32,$BH$2)","v":-3.9418488527058995},{"$f":"_xll.BDP(B32,$BI$2)","v":-1.2262174796540353},null,{"$f":"_xll.BDP(B32,$BK$2)","v":94.463040000000007},{"$f":"_xll.BDP(B32,$BL$2)","v":"#N/A Field Not Applicable"},{"$f":"_xll.BDP(B32,$BM$2)","v":9.7761591103819523},{"$f":"_xll.BDP(B32,$BN$2)","v":1.0487647444075679E-3},{"$f":"_xll.BDP(B32,$BO$2)","v":1725.7292359947674},{"$f":"_xll.BDP(AC32 & \" Equity\",$BP$2)","v":"#N/A N/A"},{"$f":"_xll.BDP(AC32 & \" Equity\",$BQ$2)","v":"13.03.2015"},{"$f":"_xll.BDP(AC32 & \" Equity\",$BR$2)","v":64.604453253415357}]
["US45667GAB95",{"$f":"A33 & \" Corp\"","v":"US45667GAB95 Corp"},"INFINERA CORP",{"$f":"_xll.BDP(B33,$D$2)","v":"INFINERA CORP"},{"$f":"_xll.BDP(B33,$E$2)","v":1.75},{"$f":"_xll.BDP(B33,$F$2)","v":"01.06.2018"},{"$f":"_xll.BDP(B33,$G$2)","v":"#N/A Field Not Applicable"},{"$f":"_xll.BDP(B33,$H$2)","v":"#N/A Field Not Applicable"},"2014-10-29","digital optical telco equipment",1,{"$f":"ROUND((T33*T$2+U33*U$2+S33*S$2+IF(P33=\"NR\",0,P33^2*SIGN(P33))+M33*M$2)/(L$2-IF(P33=\"NR\",0,P$2)-IF(S33,0,S$2)),0)","v":0},0,-1,0,"NR","2014-03-17",-1,{"$f":"VLOOKUP(AX33,[1]Sheet1!$C$8:$D$23,2,FALSE)","v":1},{"$f":"MIN(ROUND(ABS(V33/AD33)*200,0),2)*SIGN(V33)","v":-2},{"$f":"MIN(ROUND(ABS(X33),0),2)*IFERROR(SIGN(X33),0)","v":1},{"$f":"_xll.BDP(AC33 & \" Equity\",$V$3)","v":-0.13214591145515442},{"$f":"_xll.BDP(AC33 & \" Equity\",$W$3)","v":69.015121779400374},{"$f":"IFERROR(10*LN((100+Z33)/(100+$Z$1))+2*LN((100+$W$2)/(100+W33)),0)","v":1.430596675946862},{"$f":"_xll.BDP(AC33 & \" Equity\",$Y$2)","v":-0.86455409999999999},{"$f":"_xll.BDP(AC33 & \" Equity\",$Z$2)","v":35.034350000000003},{"$f":"_xll.BDP(AC33 & \" Equity\",$AA$2)","v":-6.5217409999999996},{"$f":"_xll.BDP(AC33 & \" Equity\",$AB$2)","v":"INFN US"},{"$f":"_xll.BDP(B33,$AC$2)","v":"EQ0000000003278325"},{"$f":"_xll.BDP(AC33 & \" Equity\",$AD$2)","v":13.29},15,12,{"$f":"_xll.BDP(B33,$AG$2)","v":"USD"},{"$f":"_xll.BDP(B33,$AH$2)","v":150000000},{"$f":"IFERROR(VLOOKUP(A33,'Fisch Holding'!$A$5:$C$1245,3,FALSE)/AH33,\"-\")","v":"-"},{"$f":"IFERROR(VLOOKUP(A33,'BM Weight'!$A$7:$D$1020,3,FALSE),\"-\")","v":"-"},{"$f":"IFERROR(VLOOKUP(A33,'BM Weight'!$A$7:$D$1020,4,FALSE),\"-    \")","v":"-    "},{"$f":"IFERROR(VLOOKUP(A33,'Implied Rating'!$B$7:$C$1179,2,FALSE),\"-\")","v":"BB"},{"$f":"IFERROR(VLOOKUP(A33,'ICV Rating'!$B$5:$E$1306,2,FALSE),\"-\")","v":0},{"$f":"_xll.BDP(B33,$AN$2)","v":"#N/A N/A"},{"$f":"_xll.BDP(B33,$AO$2)","v":"#N/A N/A"},{"$f":"_xll.BDP(B33,$AP$2)","v":"#N/A N/A"},{"$f":"_xll.BDP(B33,$AQ$2)","v":"N"},{"$f":"_xll.BDP(B33,$AR$2)","v":"Optionally"},{"$f":"_xll.BDP(B33,$AS$2)","v":"N"},{"$f":"_xll.BDP(B33,$AT$2)","v":"#N/A N/A"},{"$f":"_xll.BDP(B33,$AU$2)","v":"N"},{"$f":"_xll.BDP(B33,$AV$2)","v":"N"},{"$f":"_xll.BDP(B33,$AW$2)","v":"US"},{"$f":"_xll.BDP(AC33 & \" Equity\",$AX$2)","v":"Information Technology"},{"$f":"_xll.BDP(AC33 & \" Equity\",$AY$2)","v":"Technology Hardware & Equipmen"},{"$f":"_xll.BDP(AC33 & \" Equity\",$AZ$2)","v":"Communications Equipment"},null,0,{"$f":"_xll.BDP(B33,$BC$2)","v":3.3785899119118317},{"$f":"_xll.BDP(B33,$BD$2)","v":0.89260658383597125},{"$f":"_xll.BDP(B33,$BE$2)","v":-687.4672022929268},{"$f":"_xll.BDP(B33,$BF$2)","v":-5.7089999999999996},{"$f":"_xll.BDP(B33,$BG$2)","v":0.96848086824573631},{"$f":"_xll.BDP(B33,$BH$2)","v":-0.16181460726752533},{"$f":"_xll.BDP(B33,$BI$2)","v":18.148007820479148},null,{"$f":"_xll.BDP(B33,$BK$2)","v":127.5757},{"$f":"_xll.BDP(B33,$BL$2)","v":"#N/A Field Not Applicable"},{"$f":"_xll.BDP(B33,$BM$2)","v":84.295259243164793},{"$f":"_xll.BDP(B33,$BN$2)","v":2.5590537964157349E-3},{"$f":"_xll.BDP(B33,$BO$2)","v":17.111624285361074},{"$f":"_xll.BDP(AC33 & \" Equity\",$BP$2)","v":"#N/A N/A"},{"$f":"_xll.BDP(AC33 & \" Equity\",$BQ$2)","v":"22.01.2015"},{"$f":"_xll.BDP(AC33 & \" Equity\",$BR$2)","v":60.448528526198764}]
["US458140AC49",{"$f":"A34 & \" Corp\"","v":"US458140AC49 Corp"},"INTEL CORP",{"$f":"_xll.BDP(B34,$D$2)","v":"INTEL CORP"},{"$f":"_xll.BDP(B34,$E$2)","v":3.4820000000000002},{"$f":"_xll.BDP(B34,$F$2)","v":"15.12.2035"},{"$f":"_xll.BDP(B34,$G$2)","v":"#N/A Field Not Applicable"},{"$f":"_xll.BDP(B34,$H$2)","v":"#N/A Field Not Applicable"},"2014-11-20",null,0,{"$f":"ROUND((T34*T$2+U34*U$2+S34*S$2+IF(P34=\"NR\",0,P34^2*SIGN(P34))+M34*M$2)/(L$2-IF(P34=\"NR\",0,P$2)-IF(S34,0,S$2)),0)","v":0},0,0,1,"NR","2014-07-21",2,{"$f":"VLOOKUP(AX34,[1]Sheet1!$C$8:$D$23,2,FALSE)","v":1},{"$f":"MIN(ROUND(ABS(V34/AD34)*200,0),2)*SIGN(V34)","v":0},{"$f":"MIN(ROUND(ABS(X34),0),2)*IFERROR(SIGN(X34),0)","v":1},{"$f":"_xll.BDP(AC34 & \" Equity\",$V$3)","v":-7.5952321290969849E-2},{"$f":"_xll.BDP(AC34 & \" Equity\",$W$3)","v":23.960421650858958},{"$f":"IFERROR(10*LN((100+Z34)/(100+$Z$1))+2*LN((100+$W$2)/(100+W34)),0)","v":0.55080995481384099},{"$f":"_xll.BDP(AC34 & \" Equity\",$Y$2)","v":1.1971099999999999},{"$f":"_xll.BDP(AC34 & \" Equity\",$Z$2)","v":16.22702},{"$f":"_xll.BDP(AC34 & \" Equity\",$AA$2)","v":0.16533229999999999},{"$f":"_xll.BDP(AC34 & \" Equity\",$AB$2)","v":"INTC US"},{"$f":"_xll.BDP(B34,$AC$2)","v":"EQ0010172900001000"},{"$f":"_xll.BDP(AC34 & \" Equity\",$AD$2)","v":36.39},37,35.5,{"$f":"_xll.BDP(B34,$AG$2)","v":"USD"},{"$f":"_xll.BDP(B34,$AH$2)","v":1600000000.0000002},{"$f":"IFERROR(VLOOKUP(A34,'Fisch Holding'!$A$5:$C$1245,3,FALSE)/AH34,\"-\")","v":"-"},{"$f":"IFERROR(VLOOKUP(A34,'BM Weight'!$A$7:$D$1020,3,FALSE),\"-\")","v":"-"},{"$f":"IFERROR(VLOOKUP(A34,'BM Weight'!$A$7:$D$1020,4,FALSE),\"-    \")","v":"-    "},{"$f":"IFERROR(VLOOKUP(A34,'Implied Rating'!$B$7:$C$1179,2,FALSE),\"-\")","v":"-"},{"$f":"IFERROR(VLOOKUP(A34,'ICV Rating'!$B$5:$E$1306,2,FALSE),\"-\")","v":"-"},{"$f":"_xll.BDP(B34,$AN$2)","v":"A-"},{"$f":"_xll.BDP(B34,$AO$2)","v":"A1"},{"$f":"_xll.BDP(B34,$AP$2)","v":"A+"},{"$f":"_xll.BDP(B34,$AQ$2)","v":"N"},{"$f":"_xll.BDP(B34,$AR$2)","v":"Optionally"},{"$f":"_xll.BDP(B34,$AS$2)","v":"Y"},{"$f":"_xll.BDP(B34,$AT$2)","v":"N"},{"$f":"_xll.BDP(B34,$AU$2)","v":"N"},{"$f":"_xll.BDP(B34,$AV$2)","v":"N"},{"$f":"_xll.BDP(B34,$AW$2)","v":"US"},{"$f":"_xll.BDP(AC34 & \" Equity\",$AX$2)","v":"Information Technology"},{"$f":"_xll.BDP(AC34 & \" Equity\",$AY$2)","v":"Semiconductors & Semiconductor"},{"$f":"_xll.BDP(AC34 & \" Equity\",$AZ$2)","v":"Semiconductors & Semiconductor"},null,0,{"$f":"_xll.BDP(B34,$BC$2)","v":16.360960484888196},{"$f":"_xll.BDP(B34,$BD$2)","v":1.1192264666624638},{"$f":"_xll.BDP(B34,$BE$2)","v":-115.42139519105069},{"$f":"_xll.BDP(B34,$BF$2)","v":1.19},{"$f":"_xll.BDP(B34,$BG$2)","v":0.72234722631265003},{"$f":"_xll.BDP(B34,$BH$2)","v":1.1855246302382061},{"$f":"_xll.BDP(B34,$BI$2)","v":9.0940837775038457},null,{"$f":"_xll.BDP(B34,$BK$2)","v":132.4973},{"$f":"_xll.BDP(B34,$BL$2)","v":"#N/A Field Not Applicable"},{"$f":"_xll.BDP(B34,$BM$2)","v":66.61903945316881},{"$f":"_xll.BDP(B34,$BN$2)","v":4.049759981867726E-3},{"$f":"_xll.BDP(B34,$BO$2)","v":4.4428776252077364},{"$f":"_xll.BDP(AC34 & \" Equity\",$BP$2)","v":2.6409903123585359},{"$f":"_xll.BDP(AC34 & \" Equity\",$BQ$2)","v":"15.01.2015"},{"$f":"_xll.BDP(AC34 & \" Equity\",$BR$2)","v":25.622136956281004}]
["US458140AF79",{"$f":"A35 & \" Corp\"","v":"US458140AF79 Corp"},"INTEL CORP",{"$f":"_xll.BDP(B35,$D$2)","v":"INTEL CORP"},{"$f":"_xll.BDP(B35,$E$2)","v":3.25},{"$f":"_xll.BDP(B35,$F$2)","v":"01.08.2039"},{"$f":"_xll.BDP(B35,$G$2)","v":"#N/A Field Not Applicable"},{"$f":"_xll.BDP(B35,$H$2)","v":"#N/A Field Not Applicable"},"2014-10-14",null,0,{"$f":"ROUND((T35*T$2+U35*U$2+S35*S$2+IF(P35=\"NR\",0,P35^2*SIGN(P35))+M35*M$2)/(L$2-IF(P35=\"NR\",0,P$2)-IF(S35,0,S$2)),0)","v":0},-1,1,-1,"NR","2014-07-21",2,{"$f":"VLOOKUP(AX35,[1]Sheet1!$C$8:$D$23,2,FALSE)","v":1},{"$f":"MIN(ROUND(ABS(V35/AD35)*200,0),2)*SIGN(V35)","v":0},{"$f":"MIN(ROUND(ABS(X35),0),2)*IFERROR(SIGN(X35),0)","v":1},{"$f":"_xll.BDP(AC35 & \" Equity\",$V$3)","v":-7.5952321290969849E-2},{"$f":"_xll.BDP(AC35 & \" Equity\",$W$3)","v":23.960421650858958},{"$f":"IFERROR(10*LN((100+Z35)/(100+$Z$1))+2*LN((100+$W$2)/(100+W35)),0)","v":0.55080995481384099},{"$f":"_xll.BDP(AC35 & \" Equity\",$Y$2)","v":1.1971099999999999},{"$f":"_xll.BDP(AC35 & \" Equity\",$Z$2)","v":16.22702},{"$f":"_xll.BDP(AC35 & \" Equity\",$AA$2)","v":0.16533229999999999},{"$f":"_xll.BDP(AC35 & \" Equity\",$AB$2)","v":"INTC US"},{"$f":"_xll.BDP(B35,$AC$2)","v":"EQ0010172900001000"},{"$f":"_xll.BDP(AC35 & \" Equity\",$AD$2)","v":36.39},37,35.5,{"$f":"_xll.BDP(B35,$AG$2)","v":"USD"},{"$f":"_xll.BDP(B35,$AH$2)","v":2000000000},{"$f":"IFERROR(VLOOKUP(A35,'Fisch Holding'!$A$5:$C$1245,3,FALSE)/AH35,\"-\")","v":1.1650000000000001E-2},{"$f":"IFERROR(VLOOKUP(A35,'BM Weight'!$A$7:$D$1020,3,FALSE),\"-\")","v":"-"},{"$f":"IFERROR(VLOOKUP(A35,'BM Weight'!$A$7:$D$1020,4,FALSE),\"-    \")","v":"-    "},{"$f":"IFERROR(VLOOKUP(A35,'Implied Rating'!$B$7:$C$1179,2,FALSE),\"-\")","v":"AA+"},{"$f":"IFERROR(VLOOKUP(A35,'ICV Rating'!$B$5:$E$1306,2,FALSE),\"-\")","v":"BBB"},{"$f":"_xll.BDP(B35,$AN$2)","v":"A-"},{"$f":"_xll.BDP(B35,$AO$2)","v":"A1"},{"$f":"_xll.BDP(B35,$AP$2)","v":"A+"},{"$f":"_xll.BDP(B35,$AQ$2)","v":"N"},{"$f":"_xll.BDP(B35,$AR$2)","v":"Optionally"},{"$f":"_xll.BDP(B35,$AS$2)","v":"Y"},{"$f":"_xll.BDP(B35,$AT$2)","v":"Y"},{"$f":"_xll.BDP(B35,$AU$2)","v":"N"},{"$f":"_xll.BDP(B35,$AV$2)","v":"N"},{"$f":"_xll.BDP(B35,$AW$2)","v":"US"},{"$f":"_xll.BDP(AC35 & \" Equity\",$AX$2)","v":"Information Technology"},{"$f":"_xll.BDP(AC35 & \" Equity\",$AY$2)","v":"Semiconductors & Semiconductor"},{"$f":"_xll.BDP(AC35 & \" Equity\",$AZ$2)","v":"Semiconductors & Semiconductor"},null,0,{"$f":"_xll.BDP(B35,$BC$2)","v":18.934418539753132},{"$f":"_xll.BDP(B35,$BD$2)","v":1.1026158335857605},{"$f":"_xll.BDP(B35,$BE$2)","v":-225.10947607363354},{"$f":"_xll.BDP(B35,$BF$2)","v":0.14000000000000001},{"$f":"_xll.BDP(B35,$BG$2)","v":0.83555425352937751},{"$f":"_xll.BDP(B35,$BH$2)","v":-0.55899200165564567},{"$f":"_xll.BDP(B35,$BI$2)","v":13.930872253610008},null,{"$f":"_xll.BDP(B35,$BK$2)","v":174.7893},{"$f":"_xll.BDP(B35,$BL$2)","v":"#N/A Field Not Applicable"},{"$f":"_xll.BDP(B35,$BM$2)","v":93.752646065054051},{"$f":"_xll.BDP(B35,$BN$2)","v":1.3317512507589708E-3},{"$f":"_xll.BDP(B35,$BO$2)","v":4.4948789394350301},{"$f":"_xll.BDP(AC35 & \" Equity\",$BP$2)","v":2.6409903123585359},{"$f":"_xll.BDP(AC35 & \" Equity\",$BQ$2)","v":"15.01.2015"},{"$f":"_xll.BDP(AC35 & \" Equity\",$BR$2)","v":25.622136956281004}]
["US458660AB32",{"$f":"A36 & \" Corp\"","v":"US458660AB32 Corp"},"INTERDIGITAL INC",{"$f":"_xll.BDP(B36,$D$2)","v":"INTERDIGITAL INC"},{"$f":"_xll.BDP(B36,$E$2)","v":2.5},{"$f":"_xll.BDP(B36,$F$2)","v":"15.03.2016"},{"$f":"_xll.BDP(B36,$G$2)","v":"#N/A Field Not Applicable"},{"$f":"_xll.BDP(B36,$H$2)","v":"#N/A Field Not Applicable"},"2014-12-04","Patent-Troll",0,{"$f":"ROUND((T36*T$2+U36*U$2+S36*S$2+IF(P36=\"NR\",0,P36^2*SIGN(P36))+M36*M$2)/(L$2-IF(P36=\"NR\",0,P$2)-IF(S36,0,S$2)),0)","v":1},1,0,1,0,"2014-06-12",-1,{"$f":"VLOOKUP(AX36,[1]Sheet1!$C$8:$D$23,2,FALSE)","v":1},{"$f":"MIN(ROUND(ABS(V36/AD36)*200,0),2)*SIGN(V36)","v":-1},{"$f":"MIN(ROUND(ABS(X36),0),2)*IFERROR(SIGN(X36),0)","v":1},{"$f":"_xll.BDP(AC36 & \" Equity\",$V$3)","v":-0.25630789995193481},{"$f":"_xll.BDP(AC36 & \" Equity\",$W$3)","v":29.163885267788565},{"$f":"IFERROR(10*LN((100+Z36)/(100+$Z$1))+2*LN((100+$W$2)/(100+W36)),0)","v":1.3926680625526004},{"$f":"_xll.BDP(AC36 & \" Equity\",$Y$2)","v":1.4241740000000001},{"$f":"_xll.BDP(AC36 & \" Equity\",$Z$2)","v":27.47944},{"$f":"_xll.BDP(AC36 & \" Equity\",$AA$2)","v":-0.37807469999999999},{"$f":"_xll.BDP(AC36 & \" Equity\",$AB$2)","v":"IDCC US"},{"$f":"_xll.BDP(B36,$AC$2)","v":"EQ0010459000001000"},{"$f":"_xll.BDP(AC36 & \" Equity\",$AD$2)","v":51.93},53.5,49,{"$f":"_xll.BDP(B36,$AG$2)","v":"USD"},{"$f":"_xll.BDP(B36,$AH$2)","v":230000000},{"$f":"IFERROR(VLOOKUP(A36,'Fisch Holding'!$A$5:$C$1245,3,FALSE)/AH36,\"-\")","v":"-"},{"$f":"IFERROR(VLOOKUP(A36,'BM Weight'!$A$7:$D$1020,3,FALSE),\"-\")","v":"-"},{"$f":"IFERROR(VLOOKUP(A36,'BM Weight'!$A$7:$D$1020,4,FALSE),\"-    \")","v":"-    "},{"$f":"IFERROR(VLOOKUP(A36,'Implied Rating'!$B$7:$C$1179,2,FALSE),\"-\")","v":"BB+"},{"$f":"IFERROR(VLOOKUP(A36,'ICV Rating'!$B$5:$E$1306,2,FALSE),\"-\")","v":"B"},{"$f":"_xll.BDP(B36,$AN$2)","v":"#N/A N/A"},{"$f":"_xll.BDP(B36,$AO$2)","v":"#N/A N/A"},{"$f":"_xll.BDP(B36,$AP$2)","v":"#N/A N/A"},{"$f":"_xll.BDP(B36,$AQ$2)","v":"N"},{"$f":"_xll.BDP(B36,$AR$2)","v":"Optionally"},{"$f":"_xll.BDP(B36,$AS$2)","v":"N"},{"$f":"_xll.BDP(B36,$AT$2)","v":"Y"},{"$f":"_xll.BDP(B36,$AU$2)","v":"N"},{"$f":"_xll.BDP(B36,$AV$2)","v":"N"},{"$f":"_xll.BDP(B36,$AW$2)","v":"US"},{"$f":"_xll.BDP(AC36 & \" Equity\",$AX$2)","v":"Information Technology"},{"$f":"_xll.BDP(AC36 & \" Equity\",$AY$2)","v":"Technology Hardware & Equipmen"},{"$f":"_xll.BDP(AC36 & \" Equity\",$AZ$2)","v":"Communications Equipment"},null,0,{"$f":"_xll.BDP(B36,$BC$2)","v":1.1713323006571235},{"$f":"_xll.BDP(B36,$BD$2)","v":0.61208138169983461},{"$f":"_xll.BDP(B36,$BE$2)","v":-746.15677476314602},{"$f":"_xll.BDP(B36,$BF$2)","v":-7.0209999999999999},{"$f":"_xll.BDP(B36,$BG$2)","v":1.0183463461517761},{"$f":"_xll.BDP(B36,$BH$2)","v":0.32900539087832126},{"$f":"_xll.BDP(B36,$BI$2)","v":3.3455438597786999},null,{"$f":"_xll.BDP(B36,$BK$2)","v":111.0218},{"$f":"_xll.BDP(B36,$BL$2)","v":"#N/A Field Not Applicable"},{"$f":"_xll.BDP(B36,$BM$2)","v":54.267872368834972},{"$f":"_xll.BDP(B36,$BN$2)","v":1.0297432092022709E-2},{"$f":"_xll.BDP(B36,$BO$2)","v":17.944398604185135},{"$f":"_xll.BDP(AC36 & \" Equity\",$BP$2)","v":1.5180265880852539},{"$f":"_xll.BDP(AC36 & \" Equity\",$BQ$2)","v":"20.02.2015"},{"$f":"_xll.BDP(AC36 & \" Equity\",$BR$2)","v":30.589775439027676}]
["US46123DAB29",{"$f":"A37 & \" Corp\"","v":"US46123DAB29 Corp"},"INVENSENSE INC",{"$f":"_xll.BDP(B37,$D$2)","v":"INVENSENSE INC"},{"$f":"_xll.BDP(B37,$E$2)","v":1.75},{"$f":"_xll.BDP(B37,$F$2)","v":"01.11.2018"},{"$f":"_xll.BDP(B37,$G$2)","v":"#N/A Field Not Applicable"},{"$f":"_xll.BDP(B37,$H$2)","v":"#N/A Field Not Applicable"},"2014-06-30","NE Nov. 13; Mikro-Bewegungsmech.",0,{"$f":"ROUND((T37*T$2+U37*U$2+S37*S$2+IF(P37=\"NR\",0,P37^2*SIGN(P37))+M37*M$2)/(L$2-IF(P37=\"NR\",0,P$2)-IF(S37,0,S$2)),0)","v":0},1,-1,1,"NR","2014-06-30",-1,{"$f":"VLOOKUP(AX37,[1]Sheet1!$C$8:$D$23,2,FALSE)","v":1},{"$f":"MIN(ROUND(ABS(V37/AD37)*200,0),2)*SIGN(V37)","v":-2},{"$f":"MIN(ROUND(ABS(X37),0),2)*IFERROR(SIGN(X37),0)","v":-2},{"$f":"_xll.BDP(AC37 & \" Equity\",$V$3)","v":-0.25272271037101746},{"$f":"_xll.BDP(AC37 & \" Equity\",$W$3)","v":79.981966668379215},{"$f":"IFERROR(10*LN((100+Z37)/(100+$Z$1))+2*LN((100+$W$2)/(100+W37)),0)","v":-5.7557661783466356},{"$f":"_xll.BDP(AC37 & \" Equity\",$Y$2)","v":-5.6718460000000004},{"$f":"_xll.BDP(AC37 & \" Equity\",$Z$2)","v":-33.349229999999999},{"$f":"_xll.BDP(AC37 & \" Equity\",$AA$2)","v":-14.083640000000001},{"$f":"_xll.BDP(AC37 & \" Equity\",$AB$2)","v":"INVN US"},{"$f":"_xll.BDP(B37,$AC$2)","v":"EQ0000000010533669"},{"$f":"_xll.BDP(AC37 & \" Equity\",$AD$2)","v":13.73},16,13,{"$f":"_xll.BDP(B37,$AG$2)","v":"USD"},{"$f":"_xll.BDP(B37,$AH$2)","v":175000000},{"$f":"IFERROR(VLOOKUP(A37,'Fisch Holding'!$A$5:$C$1245,3,FALSE)/AH37,\"-\")","v":"-"},{"$f":"IFERROR(VLOOKUP(A37,'BM Weight'!$A$7:$D$1020,3,FALSE),\"-\")","v":"-"},{"$f":"IFERROR(VLOOKUP(A37,'BM Weight'!$A$7:$D$1020,4,FALSE),\"-    \")","v":"-    "},{"$f":"IFERROR(VLOOKUP(A37,'Implied Rating'!$B$7:$C$1179,2,FALSE),\"-\")","v":"-"},{"$f":"IFERROR(VLOOKUP(A37,'ICV Rating'!$B$5:$E$1306,2,FALSE),\"-\")","v":"-"},{"$f":"_xll.BDP(B37,$AN$2)","v":"#N/A N/A"},{"$f":"_xll.BDP(B37,$AO$2)","v":"#N/A N/A"},{"$f":"_xll.BDP(B37,$AP$2)","v":"#N/A N/A"},{"$f":"_xll.BDP(B37,$AQ$2)","v":"N"},{"$f":"_xll.BDP(B37,$AR$2)","v":"Optionally"},{"$f":"_xll.BDP(B37,$AS$2)","v":"N"},{"$f":"_xll.BDP(B37,$AT$2)","v":"#N/A N/A"},{"$f":"_xll.BDP(B37,$AU$2)","v":"N"},{"$f":"_xll.BDP(B37,$AV$2)","v":"N"},{"$f":"_xll.BDP(B37,$AW$2)","v":"US"},{"$f":"_xll.BDP(AC37 & \" Equity\",$AX$2)","v":"Information Technology"},{"$f":"_xll.BDP(AC37 & \" Equity\",$AY$2)","v":"Technology Hardware & Equipmen"},{"$f":"_xll.BDP(AC37 & \" Equity\",$AZ$2)","v":"Electronic Equip., Instruments"},null,0,{"$f":"_xll.BDP(B37,$BC$2)","v":3.5836167138592931},{"$f":"_xll.BDP(B37,$BD$2)","v":1.7886635092598018},{"$f":"_xll.BDP(B37,$BE$2)","v":253.10424118235281},{"$f":"_xll.BDP(B37,$BF$2)","v":3.7930000000000001},{"$f":"_xll.BDP(B37,$BG$2)","v":-5.6403916800878511},{"$f":"_xll.BDP(B37,$BH$2)","v":0.47881313284183874},{"$f":"_xll.BDP(B37,$BI$2)","v":-17.187237386903824},null,{"$f":"_xll.BDP(B37,$BK$2)","v":92.720460000000003},{"$f":"_xll.BDP(B37,$BL$2)","v":"#N/A Field Not Applicable"},{"$f":"_xll.BDP(B37,$BM$2)","v":74.906241390877199},{"$f":"_xll.BDP(B37,$BN$2)","v":2.7931042536003241E-3},{"$f":"_xll.BDP(B37,$BO$2)","v":45.520579276965712},{"$f":"_xll.BDP(AC37 & \" Equity\",$BP$2)","v":"#N/A N/A"},{"$f":"_xll.BDP(AC37 & \" Equity\",$BQ$2)","v":"29.01.2015"},{"$f":"_xll.BDP(AC37 & \" Equity\",$BR$2)","v":72.826952011656829},null,"2014-01-21"]
["US45071RAB50",{"$f":"A38 & \" Corp\"","v":"US45071RAB50 Corp"},"IXIA",{"$f":"_xll.BDP(B38,$D$2)","v":"IXIA"},{"$f":"_xll.BDP(B38,$E$2)","v":3},{"$f":"_xll.BDP(B38,$F$2)","v":"15.12.2015"},{"$f":"_xll.BDP(B38,$G$2)","v":"#N/A Field Not Applicable"},{"$f":"_xll.BDP(B38,$H$2)","v":"#N/A Field Not Applicable"},"2014-03-10","Network-Security",-1,{"$f":"ROUND((T38*T$2+U38*U$2+S38*S$2+IF(P38=\"NR\",0,P38^2*SIGN(P38))+M38*M$2)/(L$2-IF(P38=\"NR\",0,P$2)-IF(S38,0,S$2)),0)","v":0},-1,-1,-1,"NR","2014-03-10",-1,{"$f":"VLOOKUP(AX38,[1]Sheet1!$C$8:$D$23,2,FALSE)","v":1},{"$f":"MIN(ROUND(ABS(V38/AD38)*200,0),2)*SIGN(V38)","v":-1},{"$f":"MIN(ROUND(ABS(X38),0),2)*IFERROR(SIGN(X38),0)","v":1},{"$f":"_xll.BDP(AC38 & \" Equity\",$V$3)","v":-5.5262282490730286E-2},{"$f":"_xll.BDP(AC38 & \" Equity\",$W$3)","v":39.863962768530406},{"$f":"IFERROR(10*LN((100+Z38)/(100+$Z$1))+2*LN((100+$W$2)/(100+W38)),0)","v":0.62131355307370617},{"$f":"_xll.BDP(AC38 & \" Equity\",$Y$2)","v":10.994759999999999},{"$f":"_xll.BDP(AC38 & \" Equity\",$Z$2)","v":19.909500000000001},{"$f":"_xll.BDP(AC38 & \" Equity\",$AA$2)","v":-5.7777779999999996},{"$f":"_xll.BDP(AC38 & \" Equity\",$AB$2)","v":"XXIA US"},{"$f":"_xll.BDP(B38,$AC$2)","v":"EQ0118316400001000"},{"$f":"_xll.BDP(AC38 & \" Equity\",$AD$2)","v":10.3},11.2,10.5,{"$f":"_xll.BDP(B38,$AG$2)","v":"USD"},{"$f":"_xll.BDP(B38,$AH$2)","v":200000000},{"$f":"IFERROR(VLOOKUP(A38,'Fisch Holding'!$A$5:$C$1245,3,FALSE)/AH38,\"-\")","v":"-"},{"$f":"IFERROR(VLOOKUP(A38,'BM Weight'!$A$7:$D$1020,3,FALSE),\"-\")","v":"-"},{"$f":"IFERROR(VLOOKUP(A38,'BM Weight'!$A$7:$D$1020,4,FALSE),\"-    \")","v":"-    "},{"$f":"IFERROR(VLOOKUP(A38,'Implied Rating'!$B$7:$C$1179,2,FALSE),\"-\")","v":"-"},{"$f":"IFERROR(VLOOKUP(A38,'ICV Rating'!$B$5:$E$1306,2,FALSE),\"-\")","v":"-"},{"$f":"_xll.BDP(B38,$AN$2)","v":"#N/A N/A"},{"$f":"_xll.BDP(B38,$AO$2)","v":"#N/A N/A"},{"$f":"_xll.BDP(B38,$AP$2)","v":"#N/A N/A"},{"$f":"_xll.BDP(B38,$AQ$2)","v":"N"},{"$f":"_xll.BDP(B38,$AR$2)","v":"Optionally"},{"$f":"_xll.BDP(B38,$AS$2)","v":"N"},{"$f":"_xll.BDP(B38,$AT$2)","v":"Y"},{"$f":"_xll.BDP(B38,$AU$2)","v":"N"},{"$f":"_xll.BDP(B38,$AV$2)","v":"N"},{"$f":"_xll.BDP(B38,$AW$2)","v":"US"},{"$f":"_xll.BDP(AC38 & \" Equity\",$AX$2)","v":"Information Technology"},{"$f":"_xll.BDP(AC38 & \" Equity\",$AY$2)","v":"Technology Hardware & Equipmen"},{"$f":"_xll.BDP(AC38 & \" Equity\",$AZ$2)","v":"Communications Equipment"},null,0,{"$f":"_xll.BDP(B38,$BC$2)","v":0.88099690003735098},{"$f":"_xll.BDP(B38,$BD$2)","v":0.83143563492721018},{"$f":"_xll.BDP(B38,$BE$2)","v":156.2634478304106},{"$f":"_xll.BDP(B38,$BF$2)","v":1.9260000000000002},{"$f":"_xll.BDP(B38,$BG$2)","v":-7.0967325560487154E-2},{"$f":"_xll.BDP(B38,$BH$2)","v":0.41105958114533914},{"$f":"_xll.BDP(B38,$BI$2)","v":2.6776051666870346},null,{"$f":"_xll.BDP(B38,$BK$2)","v":100.3172},{"$f":"_xll.BDP(B38,$BL$2)","v":"#N/A Field Not Applicable"},{"$f":"_xll.BDP(B38,$BM$2)","v":14.433476664594016},{"$f":"_xll.BDP(B38,$BN$2)","v":5.0690110978361723E-3},{"$f":"_xll.BDP(B38,$BO$2)","v":85.096233923109693},{"$f":"_xll.BDP(AC38 & \" Equity\",$BP$2)","v":"#N/A N/A"},{"$f":"_xll.BDP(AC38 & \" Equity\",$BQ$2)","v":"15.04.2015"},{"$f":"_xll.BDP(AC38 & \" Equity\",$BR$2)","v":36.501403526860372},null,"2013-07-10"]
["US48123VAC63",{"$f":"A39 & \" Corp\"","v":"US48123VAC63 Corp"},"j2 Global",{"$f":"_xll.BDP(B39,$D$2)","v":"J2 GLOBAL COMMUNICATIONS"},{"$f":"_xll.BDP(B39,$E$2)","v":3.25},{"$f":"_xll.BDP(B39,$F$2)","v":"15.06.2029"},{"$f":"_xll.BDP(B39,$G$2)","v":"15.06.2021"},{"$f":"_xll.BDP(B39,$H$2)","v":"20.06.2021"},"2015-01-15",null,1,{"$f":"ROUND((T39*T$2+U39*U$2+S39*S$2+IF(P39=\"NR\",0,P39^2*SIGN(P39))+M39*M$2)/(L$2-IF(P39=\"NR\",0,P$2)-IF(S39,0,S$2)),0)","v":1},1,0,0,null,"2014-08-12",-1,{"$f":"VLOOKUP(AX39,[1]Sheet1!$C$8:$D$23,2,FALSE)","v":1},{"$f":"MIN(ROUND(ABS(V39/AD39)*200,0),2)*SIGN(V39)","v":-1},{"$f":"MIN(ROUND(ABS(X39),0),2)*IFERROR(SIGN(X39),0)","v":1},{"$f":"_xll.BDP(AC39 & \" Equity\",$V$3)","v":-0.29211503267288208},{"$f":"_xll.BDP(AC39 & \" Equity\",$W$3)","v":23.08643227577905},{"$f":"IFERROR(10*LN((100+Z39)/(100+$Z$1))+2*LN((100+$W$2)/(100+W39)),0)","v":1.1590144099859798},{"$f":"_xll.BDP(AC39 & \" Equity\",$Y$2)","v":1.2419279999999999},{"$f":"_xll.BDP(AC39 & \" Equity\",$Z$2)","v":23.340730000000001},{"$f":"_xll.BDP(AC39 & \" Equity\",$AA$2)","v":-1.387097},{"$f":"_xll.BDP(AC39 & \" Equity\",$AB$2)","v":"JCOM US"},{"$f":"_xll.BDP(B39,$AC$2)","v":"EQ0038694600001000"},{"$f":"_xll.BDP(AC39 & \" Equity\",$AD$2)","v":60.51},61.5,58,{"$f":"_xll.BDP(B39,$AG$2)","v":"USD"},{"$f":"_xll.BDP(B39,$AH$2)","v":402500000},{"$f":"IFERROR(VLOOKUP(A39,'Fisch Holding'!$A$5:$C$1245,3,FALSE)/AH39,\"-\")","v":1.0186335403726708E-2},{"$f":"IFERROR(VLOOKUP(A39,'BM Weight'!$A$7:$D$1020,3,FALSE),\"-\")","v":"-"},{"$f":"IFERROR(VLOOKUP(A39,'BM Weight'!$A$7:$D$1020,4,FALSE),\"-    \")","v":"-    "},{"$f":"IFERROR(VLOOKUP(A39,'Implied Rating'!$B$7:$C$1179,2,FALSE),\"-\")","v":"BB-"},{"$f":"IFERROR(VLOOKUP(A39,'ICV Rating'!$B$5:$E$1306,2,FALSE),\"-\")","v":0},{"$f":"_xll.BDP(B39,$AN$2)","v":"NR"},{"$f":"_xll.BDP(B39,$AO$2)","v":"B1"},{"$f":"_xll.BDP(B39,$AP$2)","v":"NR"},{"$f":"_xll.BDP(B39,$AQ$2)","v":"N"},{"$f":"_xll.BDP(B39,$AR$2)","v":"Optionally"},{"$f":"_xll.BDP(B39,$AS$2)","v":"N"},{"$f":"_xll.BDP(B39,$AT$2)","v":"N"},{"$f":"_xll.BDP(B39,$AU$2)","v":"N"},{"$f":"_xll.BDP(B39,$AV$2)","v":"Y"},{"$f":"_xll.BDP(B39,$AW$2)","v":"US"},{"$f":"_xll.BDP(AC39 & \" Equity\",$AX$2)","v":"Information Technology"},{"$f":"_xll.BDP(AC39 & \" Equity\",$AY$2)","v":"Software & Services"},{"$f":"_xll.BDP(AC39 & \" Equity\",$AZ$2)","v":"Internet Software & Services"},null,0,{"$f":"_xll.BDP(B39,$BC$2)","v":5.8119914675756137},{"$f":"_xll.BDP(B39,$BD$2)","v":2.35707697923299},{"$f":"_xll.BDP(B39,$BE$2)","v":-19.621212286661958},{"$f":"_xll.BDP(B39,$BF$2)","v":1.482},{"$f":"_xll.BDP(B39,$BG$2)","v":1.0481172781865171},{"$f":"_xll.BDP(B39,$BH$2)","v":1.250928283967861},{"$f":"_xll.BDP(B39,$BI$2)","v":13.292123574469203},null,{"$f":"_xll.BDP(B39,$BK$2)","v":110.2182},{"$f":"_xll.BDP(B39,$BL$2)","v":"#N/A Field Not Applicable"},{"$f":"_xll.BDP(B39,$BM$2)","v":74.697761595180509},{"$f":"_xll.BDP(B39,$BN$2)","v":4.4686408566058924E-3},{"$f":"_xll.BDP(B39,$BO$2)","v":25.688102480632157},{"$f":"_xll.BDP(AC39 & \" Equity\",$BP$2)","v":1.8645730874957234},{"$f":"_xll.BDP(AC39 & \" Equity\",$BQ$2)","v":"13.02.2015"},{"$f":"_xll.BDP(AC39 & \" Equity\",$BR$2)","v":23.017287254518713}]
["US46612JAF84",{"$f":"A40 & \" Corp\"","v":"US46612JAF84 Corp"},"JDS UNIPHASE CORP",{"$f":"_xll.BDP(B40,$D$2)","v":"JDS UNIPHASE CORP"},{"$f":"_xll.BDP(B40,$E$2)","v":0.625},{"$f":"_xll.BDP(B40,$F$2)","v":"15.08.2033"},{"$f":"_xll.BDP(B40,$G$2)","v":"15.08.2018"},{"$f":"_xll.BDP(B40,$H$2)","v":"20.08.2018"},"2014-09-18","NE 8.13: 650 Mio; I-CV 9.13; 0.7% in BM",0,{"$f":"ROUND((T40*T$2+U40*U$2+S40*S$2+IF(P40=\"NR\",0,P40^2*SIGN(P40))+M40*M$2)/(L$2-IF(P40=\"NR\",0,P$2)-IF(S40,0,S$2)),0)","v":0},0,-1,0,0,"2014-08-18",-1,{"$f":"VLOOKUP(AX40,[1]Sheet1!$C$8:$D$23,2,FALSE)","v":1},{"$f":"MIN(ROUND(ABS(V40/AD40)*200,0),2)*SIGN(V40)","v":-1},{"$f":"MIN(ROUND(ABS(X40),0),2)*IFERROR(SIGN(X40),0)","v":0},{"$f":"_xll.BDP(AC40 & \" Equity\",$V$3)","v":-6.1402846127748489E-2},{"$f":"_xll.BDP(AC40 & \" Equity\",$W$3)","v":27.801557220525375},{"$f":"IFERROR(10*LN((100+Z40)/(100+$Z$1))+2*LN((100+$W$2)/(100+W40)),0)","v":0.29578535845653958},{"$f":"_xll.BDP(AC40 & \" Equity\",$Y$2)","v":-1.9033659999999999},{"$f":"_xll.BDP(AC40 & \" Equity\",$Z$2)","v":13.99404},{"$f":"_xll.BDP(AC40 & \" Equity\",$AA$2)","v":-2.332363},{"$f":"_xll.BDP(AC40 & \" Equity\",$AB$2)","v":"JDSU US"},{"$f":"_xll.BDP(B40,$AC$2)","v":"EQ0012630200001000"},{"$f":"_xll.BDP(AC40 & \" Equity\",$AD$2)","v":13.2601},14,12,{"$f":"_xll.BDP(B40,$AG$2)","v":"USD"},{"$f":"_xll.BDP(B40,$AH$2)","v":650000000},{"$f":"IFERROR(VLOOKUP(A40,'Fisch Holding'!$A$5:$C$1245,3,FALSE)/AH40,\"-\")","v":2E-3},{"$f":"IFERROR(VLOOKUP(A40,'BM Weight'!$A$7:$D$1020,3,FALSE),\"-\")","v":0.60933402238900003},{"$f":"IFERROR(VLOOKUP(A40,'BM Weight'!$A$7:$D$1020,4,FALSE),\"-    \")","v":0},{"$f":"IFERROR(VLOOKUP(A40,'Implied Rating'!$B$7:$C$1179,2,FALSE),\"-\")","v":"BB+"},{"$f":"IFERROR(VLOOKUP(A40,'ICV Rating'!$B$5:$E$1306,2,FALSE),\"-\")","v":"BB"},{"$f":"_xll.BDP(B40,$AN$2)","v":"#N/A N/A"},{"$f":"_xll.BDP(B40,$AO$2)","v":"#N/A N/A"},{"$f":"_xll.BDP(B40,$AP$2)","v":"#N/A N/A"},{"$f":"_xll.BDP(B40,$AQ$2)","v":"N"},{"$f":"_xll.BDP(B40,$AR$2)","v":"Optionally"},{"$f":"_xll.BDP(B40,$AS$2)","v":"N"},{"$f":"_xll.BDP(B40,$AT$2)","v":"#N/A N/A"},{"$f":"_xll.BDP(B40,$AU$2)","v":"N"},{"$f":"_xll.BDP(B40,$AV$2)","v":"Y"},{"$f":"_xll.BDP(B40,$AW$2)","v":"US"},{"$f":"_xll.BDP(AC40 & \" Equity\",$AX$2)","v":"Information Technology"},{"$f":"_xll.BDP(AC40 & \" Equity\",$AY$2)","v":"Technology Hardware & Equipmen"},{"$f":"_xll.BDP(AC40 & \" Equity\",$AZ$2)","v":"Communications Equipment"},null,0,{"$f":"_xll.BDP(B40,$BC$2)","v":3.5544973475210226},{"$f":"_xll.BDP(B40,$BD$2)","v":2.4994087744491149},{"$f":"_xll.BDP(B40,$BE$2)","v":-216.76098569160345},{"$f":"_xll.BDP(B40,$BF$2)","v":-0.94499999999999995},{"$f":"_xll.BDP(B40,$BG$2)","v":-0.15531606077635035},{"$f":"_xll.BDP(B40,$BH$2)","v":0.99743621912525349},{"$f":"_xll.BDP(B40,$BI$2)","v":6.9459484945494712},null,{"$f":"_xll.BDP(B40,$BK$2)","v":105.56610000000001},{"$f":"_xll.BDP(B40,$BL$2)","v":"#N/A Field Not Applicable"},{"$f":"_xll.BDP(B40,$BM$2)","v":46.404120856426914},{"$f":"_xll.BDP(B40,$BN$2)","v":6.2552156194731626E-3},{"$f":"_xll.BDP(B40,$BO$2)","v":48.577260229282473},{"$f":"_xll.BDP(AC40 & \" Equity\",$BP$2)","v":"#N/A N/A"},{"$f":"_xll.BDP(AC40 & \" Equity\",$BQ$2)","v":"29.01.2015"},{"$f":"_xll.BDP(AC40 & \" Equity\",$BR$2)","v":34.519599096894808}]
["USG51385AA32",{"$f":"A41 & \" Corp\"","v":"USG51385AA32 Corp"},"JINKOSOLAR HOLDING CO LT",{"$f":"_xll.BDP(B41,$D$2)","v":"JINKOSOLAR HOLDING CO LT"},{"$f":"_xll.BDP(B41,$E$2)","v":4},{"$f":"_xll.BDP(B41,$F$2)","v":"01.02.2019"},{"$f":"_xll.BDP(B41,$G$2)","v":"01.02.2017"},{"$f":"_xll.BDP(B41,$H$2)","v":"#N/A Field Not Applicable"},"2014-09-11","NE Jan. 14; USD 150; Put Febr. 17",0,{"$f":"ROUND((T41*T$2+U41*U$2+S41*S$2+IF(P41=\"NR\",0,P41^2*SIGN(P41))+M41*M$2)/(L$2-IF(P41=\"NR\",0,P$2)-IF(S41,0,S$2)),0)","v":0},0,-1,0,"NR","2014-06-03",-2,{"$f":"VLOOKUP(AX41,[1]Sheet1!$C$8:$D$23,2,FALSE)","v":1},{"$f":"MIN(ROUND(ABS(V41/AD41)*200,0),2)*SIGN(V41)","v":1},{"$f":"MIN(ROUND(ABS(X41),0),2)*IFERROR(SIGN(X41),0)","v":-2},{"$f":"_xll.BDP(AC41 & \" Equity\",$V$3)","v":6.6909670829772949E-2},{"$f":"_xll.BDP(AC41 & \" Equity\",$W$3)","v":62.69102943502547},{"$f":"IFERROR(10*LN((100+Z41)/(100+$Z$1))+2*LN((100+$W$2)/(100+W41)),0)","v":-3.4193314307896201},{"$f":"_xll.BDP(AC41 & \" Equity\",$Y$2)","v":-3.2223459999999999},{"$f":"_xll.BDP(AC41 & \" Equity\",$Z$2)","v":-17.490839999999999},{"$f":"_xll.BDP(AC41 & \" Equity\",$AA$2)","v":-8.5743240000000007},{"$f":"_xll.BDP(AC41 & \" Equity\",$AB$2)","v":"JKS US"},{"$f":"_xll.BDP(B41,$AC$2)","v":"EQ0000000009644822"},{"$f":"_xll.BDP(AC41 & \" Equity\",$AD$2)","v":17.774000000000001},20,17,{"$f":"_xll.BDP(B41,$AG$2)","v":"USD"},{"$f":"_xll.BDP(B41,$AH$2)","v":150000000},{"$f":"IFERROR(VLOOKUP(A41,'Fisch Holding'!$A$5:$C$1245,3,FALSE)/AH41,\"-\")","v":"-"},{"$f":"IFERROR(VLOOKUP(A41,'BM Weight'!$A$7:$D$1020,3,FALSE),\"-\")","v":"-"},{"$f":"IFERROR(VLOOKUP(A41,'BM Weight'!$A$7:$D$1020,4,FALSE),\"-    \")","v":"-    "},{"$f":"IFERROR(VLOOKUP(A41,'Implied Rating'!$B$7:$C$1179,2,FALSE),\"-\")","v":"-"},{"$f":"IFERROR(VLOOKUP(A41,'ICV Rating'!$B$5:$E$1306,2,FALSE),\"-\")","v":"-"},{"$f":"_xll.BDP(B41,$AN$2)","v":"#N/A N/A"},{"$f":"_xll.BDP(B41,$AO$2)","v":"#N/A N/A"},{"$f":"_xll.BDP(B41,$AP$2)","v":"#N/A N/A"},{"$f":"_xll.BDP(B41,$AQ$2)","v":"N"},{"$f":"_xll.BDP(B41,$AR$2)","v":"Optionally"},{"$f":"_xll.BDP(B41,$AS$2)","v":"N"},{"$f":"_xll.BDP(B41,$AT$2)","v":"#N/A N/A"},{"$f":"_xll.BDP(B41,$AU$2)","v":"N"},{"$f":"_xll.BDP(B41,$AV$2)","v":"N"},{"$f":"_xll.BDP(B41,$AW$2)","v":"CN"},{"$f":"_xll.BDP(AC41 & \" Equity\",$AX$2)","v":"Information Technology"},{"$f":"_xll.BDP(AC41 & \" Equity\",$AY$2)","v":"Semiconductors & Semiconductor"},{"$f":"_xll.BDP(AC41 & \" Equity\",$AZ$2)","v":"Semiconductors & Semiconductor"},null,0,{"$f":"_xll.BDP(B41,$BC$2)","v":1.7996030655397115},{"$f":"_xll.BDP(B41,$BD$2)","v":1.5642253648424826},{"$f":"_xll.BDP(B41,$BE$2)","v":1224.7717037967034},{"$f":"_xll.BDP(B41,$BF$2)","v":13.002000000000001},{"$f":"_xll.BDP(B41,$BG$2)","v":-1.4382562900560094},{"$f":"_xll.BDP(B41,$BH$2)","v":-3.9426959780078619},{"$f":"_xll.BDP(B41,$BI$2)","v":-6.1598556558835318},null,{"$f":"_xll.BDP(B41,$BK$2)","v":84.015659999999997},{"$f":"_xll.BDP(B41,$BL$2)","v":"#N/A Field Not Applicable"},{"$f":"_xll.BDP(B41,$BM$2)","v":55.411816138602262},{"$f":"_xll.BDP(B41,$BN$2)","v":3.807496163202194E-3},{"$f":"_xll.BDP(B41,$BO$2)","v":114.60236378971986},{"$f":"_xll.BDP(AC41 & \" Equity\",$BP$2)","v":"#N/A N/A"},{"$f":"_xll.BDP(AC41 & \" Equity\",$BQ$2)","v":"03.03.2015"},{"$f":"_xll.BDP(AC41 & \" Equity\",$BR$2)","v":64.039398307892483},null,"2014-01-21"]
["US47759TAA88",{"$f":"A42 & \" Corp\"","v":"US47759TAA88 Corp"},"JINKOSOLAR HOLDING CO LT",{"$f":"_xll.BDP(B42,$D$2)","v":"JINKOSOLAR HOLDING CO LT"},{"$f":"_xll.BDP(B42,$E$2)","v":4},{"$f":"_xll.BDP(B42,$F$2)","v":"15.05.2016"},{"$f":"_xll.BDP(B42,$G$2)","v":"#N/A Field Not Applicable"},{"$f":"_xll.BDP(B42,$H$2)","v":"#N/A Field Not Applicable"},"2014-09-04","USD 123 Mio; Put Mai 14",-1,{"$f":"ROUND((T42*T$2+U42*U$2+S42*S$2+IF(P42=\"NR\",0,P42^2*SIGN(P42))+M42*M$2)/(L$2-IF(P42=\"NR\",0,P$2)-IF(S42,0,S$2)),0)","v":-1},-1,1,0,"NR","2014-01-07",-2,{"$f":"VLOOKUP(AX42,[1]Sheet1!$C$8:$D$23,2,FALSE)","v":1},{"$f":"MIN(ROUND(ABS(V42/AD42)*200,0),2)*SIGN(V42)","v":1},{"$f":"MIN(ROUND(ABS(X42),0),2)*IFERROR(SIGN(X42),0)","v":-2},{"$f":"_xll.BDP(AC42 & \" Equity\",$V$3)","v":6.6909670829772949E-2},{"$f":"_xll.BDP(AC42 & \" Equity\",$W$3)","v":62.69102943502547},{"$f":"IFERROR(10*LN((100+Z42)/(100+$Z$1))+2*LN((100+$W$2)/(100+W42)),0)","v":-3.4193314307896201},{"$f":"_xll.BDP(AC42 & \" Equity\",$Y$2)","v":-3.2223459999999999},{"$f":"_xll.BDP(AC42 & \" Equity\",$Z$2)","v":-17.490839999999999},{"$f":"_xll.BDP(AC42 & \" Equity\",$AA$2)","v":-8.5743240000000007},{"$f":"_xll.BDP(AC42 & \" Equity\",$AB$2)","v":"JKS US"},{"$f":"_xll.BDP(B42,$AC$2)","v":"EQ0000000009644822"},{"$f":"_xll.BDP(AC42 & \" Equity\",$AD$2)","v":17.774000000000001},20,17,{"$f":"_xll.BDP(B42,$AG$2)","v":"USD"},{"$f":"_xll.BDP(B42,$AH$2)","v":123000000},{"$f":"IFERROR(VLOOKUP(A42,'Fisch Holding'!$A$5:$C$1245,3,FALSE)/AH42,\"-\")","v":"-"},{"$f":"IFERROR(VLOOKUP(A42,'BM Weight'!$A$7:$D$1020,3,FALSE),\"-\")","v":"-"},{"$f":"IFERROR(VLOOKUP(A42,'BM Weight'!$A$7:$D$1020,4,FALSE),\"-    \")","v":"-    "},{"$f":"IFERROR(VLOOKUP(A42,'Implied Rating'!$B$7:$C$1179,2,FALSE),\"-\")","v":"-"},{"$f":"IFERROR(VLOOKUP(A42,'ICV Rating'!$B$5:$E$1306,2,FALSE),\"-\")","v":"-"},{"$f":"_xll.BDP(B42,$AN$2)","v":"#N/A N/A"},{"$f":"_xll.BDP(B42,$AO$2)","v":"#N/A N/A"},{"$f":"_xll.BDP(B42,$AP$2)","v":"#N/A N/A"},{"$f":"_xll.BDP(B42,$AQ$2)","v":"N"},{"$f":"_xll.BDP(B42,$AR$2)","v":"Optionally"},{"$f":"_xll.BDP(B42,$AS$2)","v":"N"},{"$f":"_xll.BDP(B42,$AT$2)","v":"N"},{"$f":"_xll.BDP(B42,$AU$2)","v":"N"},{"$f":"_xll.BDP(B42,$AV$2)","v":"N"},{"$f":"_xll.BDP(B42,$AW$2)","v":"CN"},{"$f":"_xll.BDP(AC42 & \" Equity\",$AX$2)","v":"Information Technology"},{"$f":"_xll.BDP(AC42 & \" Equity\",$AY$2)","v":"Semiconductors & Semiconductor"},{"$f":"_xll.BDP(AC42 & \" Equity\",$AZ$2)","v":"Semiconductors & Semiconductor"},null,0,{"$f":"_xll.BDP(B42,$BC$2)","v":1.2206140283501461},{"$f":"_xll.BDP(B42,$BD$2)","v":0.97167530564929305},{"$f":"_xll.BDP(B42,$BE$2)","v":1000.6566928749201},{"$f":"_xll.BDP(B42,$BF$2)","v":10.505000000000001},{"$f":"_xll.BDP(B42,$BG$2)","v":1.9861073022084594},{"$f":"_xll.BDP(B42,$BH$2)","v":-1.0048648524525468},{"$f":"_xll.BDP(B42,$BI$2)","v":-6.0287630943783181},null,{"$f":"_xll.BDP(B42,$BK$2)","v":91.963679999999997},{"$f":"_xll.BDP(B42,$BL$2)","v":"#N/A Field Not Applicable"},{"$f":"_xll.BDP(B42,$BM$2)","v":42.846773969477745},{"$f":"_xll.BDP(B42,$BN$2)","v":5.4774530443457026E-3},{"$f":"_xll.BDP(B42,$BO$2)","v":72.63755763970326},{"$f":"_xll.BDP(AC42 & \" Equity\",$BP$2)","v":"#N/A N/A"},{"$f":"_xll.BDP(AC42 & \" Equity\",$BQ$2)","v":"03.03.2015"},{"$f":"_xll.BDP(AC42 & \" Equity\",$BR$2)","v":64.039398307892483}]
["US512807AL20",{"$f":"A43 & \" Corp\"","v":"US512807AL20 Corp"},"LAM RESEARCH CORP",{"$f":"_xll.BDP(B43,$D$2)","v":"LAM RESEARCH CORP"},{"$f":"_xll.BDP(B43,$E$2)","v":1.25},{"$f":"_xll.BDP(B43,$F$2)","v":"15.05.2018"},{"$f":"_xll.BDP(B43,$G$2)","v":"#N/A Field Not Applicable"},{"$f":"_xll.BDP(B43,$H$2)","v":"#N/A Field Not Applicable"},"2015-01-15","fällt per 10.12. aus BM",0,{"$f":"ROUND((T43*T$2+U43*U$2+S43*S$2+IF(P43=\"NR\",0,P43^2*SIGN(P43))+M43*M$2)/(L$2-IF(P43=\"NR\",0,P$2)-IF(S43,0,S$2)),0)","v":-1},-1,-1,0,1,"2014-07-07",1,{"$f":"VLOOKUP(AX43,[1]Sheet1!$C$8:$D$23,2,FALSE)","v":1},{"$f":"MIN(ROUND(ABS(V43/AD43)*200,0),2)*SIGN(V43)","v":-1},{"$f":"MIN(ROUND(ABS(X43),0),2)*IFERROR(SIGN(X43),0)","v":0},{"$f":"_xll.BDP(AC43 & \" Equity\",$V$3)","v":-0.40965995192527771},{"$f":"_xll.BDP(AC43 & \" Equity\",$W$3)","v":24.466295443177746},{"$f":"IFERROR(10*LN((100+Z43)/(100+$Z$1))+2*LN((100+$W$2)/(100+W43)),0)","v":-0.12355436067924938},{"$f":"_xll.BDP(AC43 & \" Equity\",$Y$2)","v":-2.9107639999999999},{"$f":"_xll.BDP(AC43 & \" Equity\",$Z$2)","v":8.7360559999999996},{"$f":"_xll.BDP(AC43 & \" Equity\",$AA$2)","v":-4.146706},{"$f":"_xll.BDP(AC43 & \" Equity\",$AB$2)","v":"LRCX US"},{"$f":"_xll.BDP(B43,$AC$2)","v":"EQ0010512000001000"},{"$f":"_xll.BDP(AC43 & \" Equity\",$AD$2)","v":76.989999999999995},80,76,{"$f":"_xll.BDP(B43,$AG$2)","v":"USD"},{"$f":"_xll.BDP(B43,$AH$2)","v":450000000},{"$f":"IFERROR(VLOOKUP(A43,'Fisch Holding'!$A$5:$C$1245,3,FALSE)/AH43,\"-\")","v":5.4666666666666669E-2},{"$f":"IFERROR(VLOOKUP(A43,'BM Weight'!$A$7:$D$1020,3,FALSE),\"-\")","v":"-"},{"$f":"IFERROR(VLOOKUP(A43,'BM Weight'!$A$7:$D$1020,4,FALSE),\"-    \")","v":"-    "},{"$f":"IFERROR(VLOOKUP(A43,'Implied Rating'!$B$7:$C$1179,2,FALSE),\"-\")","v":"A+"},{"$f":"IFERROR(VLOOKUP(A43,'ICV Rating'!$B$5:$E$1306,2,FALSE),\"-\")","v":0},{"$f":"_xll.BDP(B43,$AN$2)","v":"BBB"},{"$f":"_xll.BDP(B43,$AO$2)","v":"Baa1"},{"$f":"_xll.BDP(B43,$AP$2)","v":"BBB"},{"$f":"_xll.BDP(B43,$AQ$2)","v":"N"},{"$f":"_xll.BDP(B43,$AR$2)","v":"Optionally"},{"$f":"_xll.BDP(B43,$AS$2)","v":"N"},{"$f":"_xll.BDP(B43,$AT$2)","v":"N"},{"$f":"_xll.BDP(B43,$AU$2)","v":"N"},{"$f":"_xll.BDP(B43,$AV$2)","v":"N"},{"$f":"_xll.BDP(B43,$AW$2)","v":"US"},{"$f":"_xll.BDP(AC43 & \" Equity\",$AX$2)","v":"Information Technology"},{"$f":"_xll.BDP(AC43 & \" Equity\",$AY$2)","v":"Semiconductors & Semiconductor"},{"$f":"_xll.BDP(AC43 & \" Equity\",$AZ$2)","v":"Semiconductors & Semiconductor"},null,0,{"$f":"_xll.BDP(B43,$BC$2)","v":3.4026005101032255},{"$f":"_xll.BDP(B43,$BD$2)","v":0.93936977733305049},{"$f":"_xll.BDP(B43,$BE$2)","v":-936.97399290068665},{"$f":"_xll.BDP(B43,$BF$2)","v":-8.2129999999999992},{"$f":"_xll.BDP(B43,$BG$2)","v":-1.6329361171604759},{"$f":"_xll.BDP(B43,$BH$2)","v":-1.595311876719737},{"$f":"_xll.BDP(B43,$BI$2)","v":5.7059847728859427},null,{"$f":"_xll.BDP(B43,$BK$2)","v":136.69309999999999},{"$f":"_xll.BDP(B43,$BL$2)","v":"#N/A Field Not Applicable"},{"$f":"_xll.BDP(B43,$BM$2)","v":79.661802347295065},{"$f":"_xll.BDP(B43,$BN$2)","v":4.5739203377138313E-3},{"$f":"_xll.BDP(B43,$BO$2)","v":12.645523651816863},{"$f":"_xll.BDP(AC43 & \" Equity\",$BP$2)","v":0.94674559975046613},{"$f":"_xll.BDP(AC43 & \" Equity\",$BQ$2)","v":"28.01.2015"},{"$f":"_xll.BDP(AC43 & \" Equity\",$BR$2)","v":30.553490832076701}]
["US512807AJ73",{"$f":"A44 & \" Corp\"","v":"US512807AJ73 Corp"},"LAM RESEARCH CORP",{"$f":"_xll.BDP(B44,$D$2)","v":"LAM RESEARCH CORP"},{"$f":"_xll.BDP(B44,$E$2)","v":0.5},{"$f":"_xll.BDP(B44,$F$2)","v":"15.05.2016"},{"$f":"_xll.BDP(B44,$G$2)","v":"#N/A Field Not Applicable"},{"$f":"_xll.BDP(B44,$H$2)","v":"#N/A Field Not Applicable"},"2014-11-06",null,0,{"$f":"ROUND((T44*T$2+U44*U$2+S44*S$2+IF(P44=\"NR\",0,P44^2*SIGN(P44))+M44*M$2)/(L$2-IF(P44=\"NR\",0,P$2)-IF(S44,0,S$2)),0)","v":-1},-1,-1,1,1,"2014-07-07",1,{"$f":"VLOOKUP(AX44,[1]Sheet1!$C$8:$D$23,2,FALSE)","v":1},{"$f":"MIN(ROUND(ABS(V44/AD44)*200,0),2)*SIGN(V44)","v":-1},{"$f":"MIN(ROUND(ABS(X44),0),2)*IFERROR(SIGN(X44),0)","v":0},{"$f":"_xll.BDP(AC44 & \" Equity\",$V$3)","v":-0.40965995192527771},{"$f":"_xll.BDP(AC44 & \" Equity\",$W$3)","v":24.466295443177746},{"$f":"IFERROR(10*LN((100+Z44)/(100+$Z$1))+2*LN((100+$W$2)/(100+W44)),0)","v":-0.12355436067924938},{"$f":"_xll.BDP(AC44 & \" Equity\",$Y$2)","v":-2.9107639999999999},{"$f":"_xll.BDP(AC44 & \" Equity\",$Z$2)","v":8.7360559999999996},{"$f":"_xll.BDP(AC44 & \" Equity\",$AA$2)","v":-4.146706},{"$f":"_xll.BDP(AC44 & \" Equity\",$AB$2)","v":"LRCX US"},{"$f":"_xll.BDP(B44,$AC$2)","v":"EQ0010512000001000"},{"$f":"_xll.BDP(AC44 & \" Equity\",$AD$2)","v":76.989999999999995},80,76,{"$f":"_xll.BDP(B44,$AG$2)","v":"USD"},{"$f":"_xll.BDP(B44,$AH$2)","v":450000000},{"$f":"IFERROR(VLOOKUP(A44,'Fisch Holding'!$A$5:$C$1245,3,FALSE)/AH44,\"-\")","v":"-"},{"$f":"IFERROR(VLOOKUP(A44,'BM Weight'!$A$7:$D$1020,3,FALSE),\"-\")","v":0.50966535420600001},{"$f":"IFERROR(VLOOKUP(A44,'BM Weight'!$A$7:$D$1020,4,FALSE),\"-    \")","v":1.8060990257},{"$f":"IFERROR(VLOOKUP(A44,'Implied Rating'!$B$7:$C$1179,2,FALSE),\"-\")","v":"A+"},{"$f":"IFERROR(VLOOKUP(A44,'ICV Rating'!$B$5:$E$1306,2,FALSE),\"-\")","v":0},{"$f":"_xll.BDP(B44,$AN$2)","v":"BBB"},{"$f":"_xll.BDP(B44,$AO$2)","v":"Baa1"},{"$f":"_xll.BDP(B44,$AP$2)","v":"BBB"},{"$f":"_xll.BDP(B44,$AQ$2)","v":"N"},{"$f":"_xll.BDP(B44,$AR$2)","v":"Optionally"},{"$f":"_xll.BDP(B44,$AS$2)","v":"N"},{"$f":"_xll.BDP(B44,$AT$2)","v":"N"},{"$f":"_xll.BDP(B44,$AU$2)","v":"N"},{"$f":"_xll.BDP(B44,$AV$2)","v":"N"},{"$f":"_xll.BDP(B44,$AW$2)","v":"US"},{"$f":"_xll.BDP(AC44 & \" Equity\",$AX$2)","v":"Information Technology"},{"$f":"_xll.BDP(AC44 & \" Equity\",$AY$2)","v":"Semiconductors & Semiconductor"},{"$f":"_xll.BDP(AC44 & \" Equity\",$AZ$2)","v":"Semiconductors & Semiconductor"},null,0,{"$f":"_xll.BDP(B44,$BC$2)","v":1.4394516121867797},{"$f":"_xll.BDP(B44,$BD$2)","v":0.32054441129564759},{"$f":"_xll.BDP(B44,$BE$2)","v":-1833.8303336575925},{"$f":"_xll.BDP(B44,$BF$2)","v":-17.837},{"$f":"_xll.BDP(B44,$BG$2)","v":-1.3458229236095263},{"$f":"_xll.BDP(B44,$BH$2)","v":-2.5653834634267096},{"$f":"_xll.BDP(B44,$BI$2)","v":6.1512011969432789},null,{"$f":"_xll.BDP(B44,$BK$2)","v":128.05879999999999},{"$f":"_xll.BDP(B44,$BL$2)","v":"#N/A Field Not Applicable"},{"$f":"_xll.BDP(B44,$BM$2)","v":79.3167857491691},{"$f":"_xll.BDP(B44,$BN$2)","v":7.366489729485802E-3},{"$f":"_xll.BDP(B44,$BO$2)","v":5.8351717392254523},{"$f":"_xll.BDP(AC44 & \" Equity\",$BP$2)","v":0.94674559975046613},{"$f":"_xll.BDP(AC44 & \" Equity\",$BQ$2)","v":"28.01.2015"},{"$f":"_xll.BDP(AC44 & \" Equity\",$BR$2)","v":30.553490832076701}]
["US530715AM30",{"$f":"A45 & \" Corp\"","v":"US530715AM30 Corp"},"LIBERTY INTERACTIVE LLC",{"$f":"_xll.BDP(B45,$D$2)","v":"LIBERTY INTERACTIVE LLC"},{"$f":"_xll.BDP(B45,$E$2)","v":3.5},{"$f":"_xll.BDP(B45,$F$2)","v":"15.01.2031"},{"$f":"_xll.BDP(B45,$G$2)","v":"#N/A Field Not Applicable"},{"$f":"_xll.BDP(B45,$H$2)","v":"03.03.2015"},"2014-09-29","USD 367 Mio; callable anytime after Juli 2013 at 60.23",0,{"$f":"ROUND((T45*T$2+U45*U$2+S45*S$2+IF(P45=\"NR\",0,P45^2*SIGN(P45))+M45*M$2)/(L$2-IF(P45=\"NR\",0,P$2)-IF(S45,0,S$2)),0)","v":0},0,0,-2,"NR","2013-11-12",-1,{"$f":"VLOOKUP(AX45,[1]Sheet1!$C$8:$D$23,2,FALSE)","v":1},{"$f":"MIN(ROUND(ABS(V45/AD45)*200,0),2)*SIGN(V45)","v":-1},{"$f":"MIN(ROUND(ABS(X45),0),2)*IFERROR(SIGN(X45),0)","v":0},{"$f":"_xll.BDP(AC45 & \" Equity\",$V$3)","v":-0.31962677836418152},{"$f":"_xll.BDP(AC45 & \" Equity\",$W$3)","v":19.31214843973207},{"$f":"IFERROR(10*LN((100+Z45)/(100+$Z$1))+2*LN((100+$W$2)/(100+W45)),0)","v":-0.15470804100854688},{"$f":"_xll.BDP(AC45 & \" Equity\",$Y$2)","v":2.9882089999999999},{"$f":"_xll.BDP(AC45 & \" Equity\",$Z$2)","v":7.4848290000000004},{"$f":"_xll.BDP(AC45 & \" Equity\",$AA$2)","v":-4.9493169999999997},{"$f":"_xll.BDP(AC45 & \" Equity\",$AB$2)","v":"MSI US"},{"$f":"_xll.BDP(B45,$AC$2)","v":"EQ0010102100001000"},{"$f":"_xll.BDP(AC45 & \" Equity\",$AD$2)","v":63.7},67.5,63,{"$f":"_xll.BDP(B45,$AG$2)","v":"USD"},{"$f":"_xll.BDP(B45,$AH$2)","v":350740770.16000003},{"$f":"IFERROR(VLOOKUP(A45,'Fisch Holding'!$A$5:$C$1245,3,FALSE)/AH45,\"-\")","v":"-"},{"$f":"IFERROR(VLOOKUP(A45,'BM Weight'!$A$7:$D$1020,3,FALSE),\"-\")","v":"-"},{"$f":"IFERROR(VLOOKUP(A45,'BM Weight'!$A$7:$D$1020,4,FALSE),\"-    \")","v":"-    "},{"$f":"IFERROR(VLOOKUP(A45,'Implied Rating'!$B$7:$C$1179,2,FALSE),\"-\")","v":"-"},{"$f":"IFERROR(VLOOKUP(A45,'ICV Rating'!$B$5:$E$1306,2,FALSE),\"-\")","v":"-"},{"$f":"_xll.BDP(B45,$AN$2)","v":"BB-"},{"$f":"_xll.BDP(B45,$AO$2)","v":"Ba3"},{"$f":"_xll.BDP(B45,$AP$2)","v":"BB"},{"$f":"_xll.BDP(B45,$AQ$2)","v":"N"},{"$f":"_xll.BDP(B45,$AR$2)","v":"Optionally"},{"$f":"_xll.BDP(B45,$AS$2)","v":"N"},{"$f":"_xll.BDP(B45,$AT$2)","v":"N"},{"$f":"_xll.BDP(B45,$AU$2)","v":"N"},{"$f":"_xll.BDP(B45,$AV$2)","v":"Y"},{"$f":"_xll.BDP(B45,$AW$2)","v":"US"},{"$f":"_xll.BDP(AC45 & \" Equity\",$AX$2)","v":"Information Technology"},{"$f":"_xll.BDP(AC45 & \" Equity\",$AY$2)","v":"Technology Hardware & Equipmen"},{"$f":"_xll.BDP(AC45 & \" Equity\",$AZ$2)","v":"Communications Equipment"},null,0,{"$f":"_xll.BDP(B45,$BC$2)","v":10.324413289829145},{"$f":"_xll.BDP(B45,$BD$2)","v":7.4672486597938974},{"$f":"_xll.BDP(B45,$BE$2)","v":660.28994945770762},{"$f":"_xll.BDP(B45,$BF$2)","v":8.7720000000000002},{"$f":"_xll.BDP(B45,$BG$2)","v":1.8216585853021345},{"$f":"_xll.BDP(B45,$BH$2)","v":1.7696236878541907},{"$f":"_xll.BDP(B45,$BI$2)","v":1.7395983531399581},null,{"$f":"_xll.BDP(B45,$BK$2)","v":54.263069999999999},{"$f":"_xll.BDP(B45,$BL$2)","v":"#N/A Field Not Applicable"},{"$f":"_xll.BDP(B45,$BM$2)","v":25.432310261340263},{"$f":"_xll.BDP(B45,$BN$2)","v":3.5151163476285002E-3},{"$f":"_xll.BDP(B45,$BO$2)","v":-2.7185627171751747},{"$f":"_xll.BDP(AC45 & \" Equity\",$BP$2)","v":2.132998767730732},{"$f":"_xll.BDP(AC45 & \" Equity\",$BQ$2)","v":"22.01.2015"},{"$f":"_xll.BDP(AC45 & \" Equity\",$BR$2)","v":19.118820148774542}]
["US587200AK26",{"$f":"A46 & \" Corp\"","v":"US587200AK26 Corp"},"MENTOR GRAPHICS CORP",{"$f":"_xll.BDP(B46,$D$2)","v":"MENTOR GRAPHICS CORP"},{"$f":"_xll.BDP(B46,$E$2)","v":4},{"$f":"_xll.BDP(B46,$F$2)","v":"01.04.2031"},{"$f":"_xll.BDP(B46,$G$2)","v":"01.04.2018"},{"$f":"_xll.BDP(B46,$H$2)","v":"05.04.2016"},"2014-03-24",null,0,{"$f":"ROUND((T46*T$2+U46*U$2+S46*S$2+IF(P46=\"NR\",0,P46^2*SIGN(P46))+M46*M$2)/(L$2-IF(P46=\"NR\",0,P$2)-IF(S46,0,S$2)),0)","v":0},0,0,2,0,"2014-03-24",-1,{"$f":"VLOOKUP(AX46,[1]Sheet1!$C$8:$D$23,2,FALSE)","v":1},{"$f":"MIN(ROUND(ABS(V46/AD46)*200,0),2)*SIGN(V46)","v":0},{"$f":"MIN(ROUND(ABS(X46),0),2)*IFERROR(SIGN(X46),0)","v":0},{"$f":"_xll.BDP(AC46 & \" Equity\",$V$3)","v":-1.7891060560941696E-2},{"$f":"_xll.BDP(AC46 & \" Equity\",$W$3)","v":26.055384201960806},{"$f":"IFERROR(10*LN((100+Z46)/(100+$Z$1))+2*LN((100+$W$2)/(100+W46)),0)","v":0.46208632241763548},{"$f":"_xll.BDP(AC46 & \" Equity\",$Y$2)","v":4.127135},{"$f":"_xll.BDP(AC46 & \" Equity\",$Z$2)","v":15.587149999999999},{"$f":"_xll.BDP(AC46 & \" Equity\",$AA$2)","v":0.13686100000000001},{"$f":"_xll.BDP(AC46 & \" Equity\",$AB$2)","v":"MENT US"},{"$f":"_xll.BDP(B46,$AC$2)","v":"EQ0010174200001000"},{"$f":"_xll.BDP(AC46 & \" Equity\",$AD$2)","v":21.7},22.5,20,{"$f":"_xll.BDP(B46,$AG$2)","v":"USD"},{"$f":"_xll.BDP(B46,$AH$2)","v":253000000},{"$f":"IFERROR(VLOOKUP(A46,'Fisch Holding'!$A$5:$C$1245,3,FALSE)/AH46,\"-\")","v":"-"},{"$f":"IFERROR(VLOOKUP(A46,'BM Weight'!$A$7:$D$1020,3,FALSE),\"-\")","v":"-"},{"$f":"IFERROR(VLOOKUP(A46,'BM Weight'!$A$7:$D$1020,4,FALSE),\"-    \")","v":"-    "},{"$f":"IFERROR(VLOOKUP(A46,'Implied Rating'!$B$7:$C$1179,2,FALSE),\"-\")","v":"B+"},{"$f":"IFERROR(VLOOKUP(A46,'ICV Rating'!$B$5:$E$1306,2,FALSE),\"-\")","v":"B-"},{"$f":"_xll.BDP(B46,$AN$2)","v":"#N/A N/A"},{"$f":"_xll.BDP(B46,$AO$2)","v":"#N/A N/A"},{"$f":"_xll.BDP(B46,$AP$2)","v":"#N/A N/A"},{"$f":"_xll.BDP(B46,$AQ$2)","v":"N"},{"$f":"_xll.BDP(B46,$AR$2)","v":"Optionally"},{"$f":"_xll.BDP(B46,$AS$2)","v":"Y"},{"$f":"_xll.BDP(B46,$AT$2)","v":"#N/A N/A"},{"$f":"_xll.BDP(B46,$AU$2)","v":"N"},{"$f":"_xll.BDP(B46,$AV$2)","v":"Y"},{"$f":"_xll.BDP(B46,$AW$2)","v":"US"},{"$f":"_xll.BDP(AC46 & \" Equity\",$AX$2)","v":"Information Technology"},{"$f":"_xll.BDP(AC46 & \" Equity\",$AY$2)","v":"Software & Services"},{"$f":"_xll.BDP(AC46 & \" Equity\",$AZ$2)","v":"Software"},null,0,{"$f":"_xll.BDP(B46,$BC$2)","v":1.2432136359952037},{"$f":"_xll.BDP(B46,$BD$2)","v":0.62316884339864953},{"$f":"_xll.BDP(B46,$BE$2)","v":-1085.4651565015413},{"$f":"_xll.BDP(B46,$BF$2)","v":-10.394},{"$f":"_xll.BDP(B46,$BG$2)","v":1.2284318167400976},{"$f":"_xll.BDP(B46,$BH$2)","v":1.9137402183146424},{"$f":"_xll.BDP(B46,$BI$2)","v":8.5233196852481452},null,{"$f":"_xll.BDP(B46,$BK$2)","v":120.1641},{"$f":"_xll.BDP(B46,$BL$2)","v":"#N/A Field Not Applicable"},{"$f":"_xll.BDP(B46,$BM$2)","v":75.567568895696013},{"$f":"_xll.BDP(B46,$BN$2)","v":7.5703539059711923E-3},{"$f":"_xll.BDP(B46,$BO$2)","v":11.311271559076824},{"$f":"_xll.BDP(AC46 & \" Equity\",$BP$2)","v":0.91116174478465717},{"$f":"_xll.BDP(AC46 & \" Equity\",$BQ$2)","v":"27.02.2015"},{"$f":"_xll.BDP(AC46 & \" Equity\",$BR$2)","v":26.007464678413179}]
["US595017AA24",{"$f":"A47 & \" Corp\"","v":"US595017AA24 Corp"},"MICROCHIP TECHNOLOGY INC",{"$f":"_xll.BDP(B47,$D$2)","v":"MICROCHIP TECHNOLOGY INC"},{"$f":"_xll.BDP(B47,$E$2)","v":2.125},{"$f":"_xll.BDP(B47,$F$2)","v":"15.12.2037"},{"$f":"_xll.BDP(B47,$G$2)","v":"#N/A Field Not Applicable"},{"$f":"_xll.BDP(B47,$H$2)","v":"#N/A Field Not Applicable"},"2013-08-20",null,0,{"$f":"ROUND((T47*T$2+U47*U$2+S47*S$2+IF(P47=\"NR\",0,P47^2*SIGN(P47))+M47*M$2)/(L$2-IF(P47=\"NR\",0,P$2)-IF(S47,0,S$2)),0)","v":0},-1,-1,-2,"NR","2013-08-20",-1,{"$f":"VLOOKUP(AX47,[1]Sheet1!$C$8:$D$23,2,FALSE)","v":1},{"$f":"MIN(ROUND(ABS(V47/AD47)*200,0),2)*SIGN(V47)","v":0},{"$f":"MIN(ROUND(ABS(X47),0),2)*IFERROR(SIGN(X47),0)","v":1},{"$f":"_xll.BDP(AC47 & \" Equity\",$V$3)","v":-6.2855303287506104E-2},{"$f":"_xll.BDP(AC47 & \" Equity\",$W$3)","v":24.778736235947637},{"$f":"IFERROR(10*LN((100+Z47)/(100+$Z$1))+2*LN((100+$W$2)/(100+W47)),0)","v":0.79819036370906782},{"$f":"_xll.BDP(AC47 & \" Equity\",$Y$2)","v":4.3589120000000001},{"$f":"_xll.BDP(AC47 & \" Equity\",$Z$2)","v":19.294989999999999},{"$f":"_xll.BDP(AC47 & \" Equity\",$AA$2)","v":-0.22168170000000001},{"$f":"_xll.BDP(AC47 & \" Equity\",$AB$2)","v":"MCHP US"},{"$f":"_xll.BDP(B47,$AC$2)","v":"EQ0011674900001000"},{"$f":"_xll.BDP(AC47 & \" Equity\",$AD$2)","v":45.082799999999999},47,42,{"$f":"_xll.BDP(B47,$AG$2)","v":"USD"},{"$f":"_xll.BDP(B47,$AH$2)","v":1150000000},{"$f":"IFERROR(VLOOKUP(A47,'Fisch Holding'!$A$5:$C$1245,3,FALSE)/AH47,\"-\")","v":"-"},{"$f":"IFERROR(VLOOKUP(A47,'BM Weight'!$A$7:$D$1020,3,FALSE),\"-\")","v":"-"},{"$f":"IFERROR(VLOOKUP(A47,'BM Weight'!$A$7:$D$1020,4,FALSE),\"-    \")","v":"-    "},{"$f":"IFERROR(VLOOKUP(A47,'Implied Rating'!$B$7:$C$1179,2,FALSE),\"-\")","v":"-"},{"$f":"IFERROR(VLOOKUP(A47,'ICV Rating'!$B$5:$E$1306,2,FALSE),\"-\")","v":"-"},{"$f":"_xll.BDP(B47,$AN$2)","v":"#N/A N/A"},{"$f":"_xll.BDP(B47,$AO$2)","v":"#N/A N/A"},{"$f":"_xll.BDP(B47,$AP$2)","v":"#N/A N/A"},{"$f":"_xll.BDP(B47,$AQ$2)","v":"N"},{"$f":"_xll.BDP(B47,$AR$2)","v":"Optionally"},{"$f":"_xll.BDP(B47,$AS$2)","v":"Y"},{"$f":"_xll.BDP(B47,$AT$2)","v":"N"},{"$f":"_xll.BDP(B47,$AU$2)","v":"N"},{"$f":"_xll.BDP(B47,$AV$2)","v":"N"},{"$f":"_xll.BDP(B47,$AW$2)","v":"US"},{"$f":"_xll.BDP(AC47 & \" Equity\",$AX$2)","v":"Information Technology"},{"$f":"_xll.BDP(AC47 & \" Equity\",$AY$2)","v":"Semiconductors & Semiconductor"},{"$f":"_xll.BDP(AC47 & \" Equity\",$AZ$2)","v":"Semiconductors & Semiconductor"},null,0,{"$f":"_xll.BDP(B47,$BC$2)","v":19.664585981792388},{"$f":"_xll.BDP(B47,$BD$2)","v":2.6256129445113969},{"$f":"_xll.BDP(B47,$BE$2)","v":-331.0591031897261},{"$f":"_xll.BDP(B47,$BF$2)","v":-0.91300000000000003},{"$f":"_xll.BDP(B47,$BG$2)","v":3.3768923031547931},{"$f":"_xll.BDP(B47,$BH$2)","v":3.232849978624988},{"$f":"_xll.BDP(B47,$BI$2)","v":19.351391491297637},null,{"$f":"_xll.BDP(B47,$BK$2)","v":177.45490000000001},{"$f":"_xll.BDP(B47,$BL$2)","v":"#N/A Field Not Applicable"},{"$f":"_xll.BDP(B47,$BM$2)","v":83.416618023043767},{"$f":"_xll.BDP(B47,$BN$2)","v":2.6502272182207507E-3},{"$f":"_xll.BDP(B47,$BO$2)","v":-0.31978676490422503},{"$f":"_xll.BDP(AC47 & \" Equity\",$BP$2)","v":3.1681848456927924},{"$f":"_xll.BDP(AC47 & \" Equity\",$BQ$2)","v":"30.01.2015"},{"$f":"_xll.BDP(AC47 & \" Equity\",$BR$2)","v":34.273464711554332}]
["US595112AY95",{"$f":"A48 & \" Corp\"","v":"US595112AY95 Corp"},"MICRON TECHNOLOGY INC",{"$f":"_xll.BDP(B48,$D$2)","v":"MICRON TECHNOLOGY INC"},{"$f":"_xll.BDP(B48,$E$2)","v":3},{"$f":"_xll.BDP(B48,$F$2)","v":"15.11.2043"},{"$f":"_xll.BDP(B48,$G$2)","v":"15.11.2028"},{"$f":"_xll.BDP(B48,$H$2)","v":"20.11.2018"},"2014-11-27","NE Nov. 13; USD 1'025 Mrd",1,{"$f":"ROUND((T48*T$2+U48*U$2+S48*S$2+IF(P48=\"NR\",0,P48^2*SIGN(P48))+M48*M$2)/(L$2-IF(P48=\"NR\",0,P$2)-IF(S48,0,S$2)),0)","v":0},0,-1,-1,"NR","2014-08-05",-1,{"$f":"VLOOKUP(AX48,[1]Sheet1!$C$8:$D$23,2,FALSE)","v":1},{"$f":"MIN(ROUND(ABS(V48/AD48)*200,0),2)*SIGN(V48)","v":-2},{"$f":"MIN(ROUND(ABS(X48),0),2)*IFERROR(SIGN(X48),0)","v":0},{"$f":"_xll.BDP(AC48 & \" Equity\",$V$3)","v":-0.49148842692375183},{"$f":"_xll.BDP(AC48 & \" Equity\",$W$3)","v":31.396871181733459},{"$f":"IFERROR(10*LN((100+Z48)/(100+$Z$1))+2*LN((100+$W$2)/(100+W48)),0)","v":-0.19723026791796433},{"$f":"_xll.BDP(AC48 & \" Equity\",$Y$2)","v":-9.9085579999999993},{"$f":"_xll.BDP(AC48 & \" Equity\",$Z$2)","v":9.1140120000000007},{"$f":"_xll.BDP(AC48 & \" Equity\",$AA$2)","v":-14.16738},{"$f":"_xll.BDP(AC48 & \" Equity\",$AB$2)","v":"MU US"},{"$f":"_xll.BDP(B48,$AC$2)","v":"EQ0010099500001000"},{"$f":"_xll.BDP(AC48 & \" Equity\",$AD$2)","v":29.86},33,30,{"$f":"_xll.BDP(B48,$AG$2)","v":"USD"},{"$f":"_xll.BDP(B48,$AH$2)","v":1025000000},{"$f":"IFERROR(VLOOKUP(A48,'Fisch Holding'!$A$5:$C$1245,3,FALSE)/AH48,\"-\")","v":"-"},{"$f":"IFERROR(VLOOKUP(A48,'BM Weight'!$A$7:$D$1020,3,FALSE),\"-\")","v":"-"},{"$f":"IFERROR(VLOOKUP(A48,'BM Weight'!$A$7:$D$1020,4,FALSE),\"-    \")","v":"-    "},{"$f":"IFERROR(VLOOKUP(A48,'Implied Rating'!$B$7:$C$1179,2,FALSE),\"-\")","v":"BB-"},{"$f":"IFERROR(VLOOKUP(A48,'ICV Rating'!$B$5:$E$1306,2,FALSE),\"-\")","v":0},{"$f":"_xll.BDP(B48,$AN$2)","v":"NR"},{"$f":"_xll.BDP(B48,$AO$2)","v":"Ba2"},{"$f":"_xll.BDP(B48,$AP$2)","v":"BB"},{"$f":"_xll.BDP(B48,$AQ$2)","v":"N"},{"$f":"_xll.BDP(B48,$AR$2)","v":"Optionally"},{"$f":"_xll.BDP(B48,$AS$2)","v":"N"},{"$f":"_xll.BDP(B48,$AT$2)","v":"Y"},{"$f":"_xll.BDP(B48,$AU$2)","v":"N"},{"$f":"_xll.BDP(B48,$AV$2)","v":"Y"},{"$f":"_xll.BDP(B48,$AW$2)","v":"US"},{"$f":"_xll.BDP(AC48 & \" Equity\",$AX$2)","v":"Information Technology"},{"$f":"_xll.BDP(AC48 & \" Equity\",$AY$2)","v":"Semiconductors & Semiconductor"},{"$f":"_xll.BDP(AC48 & \" Equity\",$AZ$2)","v":"Semiconductors & Semiconductor"},null,0,{"$f":"_xll.BDP(B48,$BC$2)","v":3.757218558670969},{"$f":"_xll.BDP(B48,$BD$2)","v":1.6973060348933573},{"$f":"_xll.BDP(B48,$BE$2)","v":-759.70678468391236},{"$f":"_xll.BDP(B48,$BF$2)","v":-6.3310000000000004},{"$f":"_xll.BDP(B48,$BG$2)","v":-3.5284349943766871},{"$f":"_xll.BDP(B48,$BH$2)","v":-6.4579256360078272},{"$f":"_xll.BDP(B48,$BI$2)","v":6.4587973273942101},null,{"$f":"_xll.BDP(B48,$BK$2)","v":119.5},{"$f":"_xll.BDP(B48,$BL$2)","v":"#N/A Field Not Applicable"},{"$f":"_xll.BDP(B48,$BM$2)","v":83.480565840410932},{"$f":"_xll.BDP(B48,$BN$2)","v":2.323564086683385E-3},{"$f":"_xll.BDP(B48,$BO$2)","v":15.960575495519993},{"$f":"_xll.BDP(AC48 & \" Equity\",$BP$2)","v":"#N/A N/A"},{"$f":"_xll.BDP(AC48 & \" Equity\",$BQ$2)","v":"06.04.2015"},{"$f":"_xll.BDP(AC48 & \" Equity\",$BR$2)","v":40.857002889655902}]
["US595112AX13",{"$f":"A49 & \" Corp\"","v":"US595112AX13 Corp"},"MICRON TECHNOLOGY INC",{"$f":"_xll.BDP(B49,$D$2)","v":"MICRON TECHNOLOGY INC"},{"$f":"_xll.BDP(B49,$E$2)","v":3.125},{"$f":"_xll.BDP(B49,$F$2)","v":"01.05.2032"},{"$f":"_xll.BDP(B49,$G$2)","v":"01.05.2021"},{"$f":"_xll.BDP(B49,$H$2)","v":"04.05.2021"},"2014-02-10",null,-1,{"$f":"ROUND((T49*T$2+U49*U$2+S49*S$2+IF(P49=\"NR\",0,P49^2*SIGN(P49))+M49*M$2)/(L$2-IF(P49=\"NR\",0,P$2)-IF(S49,0,S$2)),0)","v":-1},-2,-1,-2,-1,"2014-02-10",-1,{"$f":"VLOOKUP(AX49,[1]Sheet1!$C$8:$D$23,2,FALSE)","v":1},{"$f":"MIN(ROUND(ABS(V49/AD49)*200,0),2)*SIGN(V49)","v":-2},{"$f":"MIN(ROUND(ABS(X49),0),2)*IFERROR(SIGN(X49),0)","v":0},{"$f":"_xll.BDP(AC49 & \" Equity\",$V$3)","v":-0.49148842692375183},{"$f":"_xll.BDP(AC49 & \" Equity\",$W$3)","v":31.396871181733459},{"$f":"IFERROR(10*LN((100+Z49)/(100+$Z$1))+2*LN((100+$W$2)/(100+W49)),0)","v":-0.19723026791796433},{"$f":"_xll.BDP(AC49 & \" Equity\",$Y$2)","v":-9.9085579999999993},{"$f":"_xll.BDP(AC49 & \" Equity\",$Z$2)","v":9.1140120000000007},{"$f":"_xll.BDP(AC49 & \" Equity\",$AA$2)","v":-14.16738},{"$f":"_xll.BDP(AC49 & \" Equity\",$AB$2)","v":"MU US"},{"$f":"_xll.BDP(B49,$AC$2)","v":"EQ0010099500001000"},{"$f":"_xll.BDP(AC49 & \" Equity\",$AD$2)","v":29.86},33,30,{"$f":"_xll.BDP(B49,$AG$2)","v":"USD"},{"$f":"_xll.BDP(B49,$AH$2)","v":312500000},{"$f":"IFERROR(VLOOKUP(A49,'Fisch Holding'!$A$5:$C$1245,3,FALSE)/AH49,\"-\")","v":"-"},{"$f":"IFERROR(VLOOKUP(A49,'BM Weight'!$A$7:$D$1020,3,FALSE),\"-\")","v":"-"},{"$f":"IFERROR(VLOOKUP(A49,'BM Weight'!$A$7:$D$1020,4,FALSE),\"-    \")","v":"-    "},{"$f":"IFERROR(VLOOKUP(A49,'Implied Rating'!$B$7:$C$1179,2,FALSE),\"-\")","v":"BB-"},{"$f":"IFERROR(VLOOKUP(A49,'ICV Rating'!$B$5:$E$1306,2,FALSE),\"-\")","v":0},{"$f":"_xll.BDP(B49,$AN$2)","v":"NR"},{"$f":"_xll.BDP(B49,$AO$2)","v":"Ba2"},{"$f":"_xll.BDP(B49,$AP$2)","v":"BB"},{"$f":"_xll.BDP(B49,$AQ$2)","v":"N"},{"$f":"_xll.BDP(B49,$AR$2)","v":"Optionally"},{"$f":"_xll.BDP(B49,$AS$2)","v":"N"},{"$f":"_xll.BDP(B49,$AT$2)","v":"Y"},{"$f":"_xll.BDP(B49,$AU$2)","v":"N"},{"$f":"_xll.BDP(B49,$AV$2)","v":"Y"},{"$f":"_xll.BDP(B49,$AW$2)","v":"US"},{"$f":"_xll.BDP(AC49 & \" Equity\",$AX$2)","v":"Information Technology"},{"$f":"_xll.BDP(AC49 & \" Equity\",$AY$2)","v":"Semiconductors & Semiconductor"},{"$f":"_xll.BDP(AC49 & \" Equity\",$AZ$2)","v":"Semiconductors & Semiconductor"},null,0,{"$f":"_xll.BDP(B49,$BC$2)","v":6.5030564971359617},{"$f":"_xll.BDP(B49,$BD$2)","v":8.4628366405604241E-2},{"$f":"_xll.BDP(B49,$BE$2)","v":-1713.2565413635562},{"$f":"_xll.BDP(B49,$BF$2)","v":-15.452999999999999},{"$f":"_xll.BDP(B49,$BG$2)","v":-6.0754004324555755},{"$f":"_xll.BDP(B49,$BH$2)","v":-9.1989232035178663},{"$f":"_xll.BDP(B49,$BI$2)","v":7.3064939608894655},null,{"$f":"_xll.BDP(B49,$BK$2)","v":309.61099999999999},{"$f":"_xll.BDP(B49,$BL$2)","v":"#N/A Field Not Applicable"},{"$f":"_xll.BDP(B49,$BM$2)","v":99.683209199681073},{"$f":"_xll.BDP(B49,$BN$2)","v":6.9336601180581148E-5},{"$f":"_xll.BDP(B49,$BO$2)","v":3.0385170198327827},{"$f":"_xll.BDP(AC49 & \" Equity\",$BP$2)","v":"#N/A N/A"},{"$f":"_xll.BDP(AC49 & \" Equity\",$BQ$2)","v":"06.04.2015"},{"$f":"_xll.BDP(AC49 & \" Equity\",$BR$2)","v":40.857002889655902}]
["US595112AW30",{"$f":"A50 & \" Corp\"","v":"US595112AW30 Corp"},"MICRON TECHNOLOGY INC",{"$f":"_xll.BDP(B50,$D$2)","v":"MICRON TECHNOLOGY INC"},{"$f":"_xll.BDP(B50,$E$2)","v":2.375},{"$f":"_xll.BDP(B50,$F$2)","v":"01.05.2032"},{"$f":"_xll.BDP(B50,$G$2)","v":"01.05.2019"},{"$f":"_xll.BDP(B50,$H$2)","v":"04.05.2019"},"2014-02-10",null,-1,{"$f":"ROUND((T50*T$2+U50*U$2+S50*S$2+IF(P50=\"NR\",0,P50^2*SIGN(P50))+M50*M$2)/(L$2-IF(P50=\"NR\",0,P$2)-IF(S50,0,S$2)),0)","v":-1},-2,-1,-2,-1,"2014-02-10",-1,{"$f":"VLOOKUP(AX50,[1]Sheet1!$C$8:$D$23,2,FALSE)","v":1},{"$f":"MIN(ROUND(ABS(V50/AD50)*200,0),2)*SIGN(V50)","v":-2},{"$f":"MIN(ROUND(ABS(X50),0),2)*IFERROR(SIGN(X50),0)","v":0},{"$f":"_xll.BDP(AC50 & \" Equity\",$V$3)","v":-0.49148842692375183},{"$f":"_xll.BDP(AC50 & \" Equity\",$W$3)","v":31.396871181733459},{"$f":"IFERROR(10*LN((100+Z50)/(100+$Z$1))+2*LN((100+$W$2)/(100+W50)),0)","v":-0.19723026791796433},{"$f":"_xll.BDP(AC50 & \" Equity\",$Y$2)","v":-9.9085579999999993},{"$f":"_xll.BDP(AC50 & \" Equity\",$Z$2)","v":9.1140120000000007},{"$f":"_xll.BDP(AC50 & \" Equity\",$AA$2)","v":-14.16738},{"$f":"_xll.BDP(AC50 & \" Equity\",$AB$2)","v":"MU US"},{"$f":"_xll.BDP(B50,$AC$2)","v":"EQ0010099500001000"},{"$f":"_xll.BDP(AC50 & \" Equity\",$AD$2)","v":29.86},33,30,{"$f":"_xll.BDP(B50,$AG$2)","v":"USD"},{"$f":"_xll.BDP(B50,$AH$2)","v":357199000},{"$f":"IFERROR(VLOOKUP(A50,'Fisch Holding'!$A$5:$C$1245,3,FALSE)/AH50,\"-\")","v":"-"},{"$f":"IFERROR(VLOOKUP(A50,'BM Weight'!$A$7:$D$1020,3,FALSE),\"-\")","v":"-"},{"$f":"IFERROR(VLOOKUP(A50,'BM Weight'!$A$7:$D$1020,4,FALSE),\"-    \")","v":"-    "},{"$f":"IFERROR(VLOOKUP(A50,'Implied Rating'!$B$7:$C$1179,2,FALSE),\"-\")","v":"B+"},{"$f":"IFERROR(VLOOKUP(A50,'ICV Rating'!$B$5:$E$1306,2,FALSE),\"-\")","v":0},{"$f":"_xll.BDP(B50,$AN$2)","v":"NR"},{"$f":"_xll.BDP(B50,$AO$2)","v":"Ba2"},{"$f":"_xll.BDP(B50,$AP$2)","v":"BB"},{"$f":"_xll.BDP(B50,$AQ$2)","v":"N"},{"$f":"_xll.BDP(B50,$AR$2)","v":"Optionally"},{"$f":"_xll.BDP(B50,$AS$2)","v":"N"},{"$f":"_xll.BDP(B50,$AT$2)","v":"Y"},{"$f":"_xll.BDP(B50,$AU$2)","v":"N"},{"$f":"_xll.BDP(B50,$AV$2)","v":"Y"},{"$f":"_xll.BDP(B50,$AW$2)","v":"US"},{"$f":"_xll.BDP(AC50 & \" Equity\",$AX$2)","v":"Information Technology"},{"$f":"_xll.BDP(AC50 & \" Equity\",$AY$2)","v":"Semiconductors & Semiconductor"},{"$f":"_xll.BDP(AC50 & \" Equity\",$AZ$2)","v":"Semiconductors & Semiconductor"},null,0,{"$f":"_xll.BDP(B50,$BC$2)","v":4.7455940470965654},{"$f":"_xll.BDP(B50,$BD$2)","v":-9.2636738448561469E-3},{"$f":"_xll.BDP(B50,$BE$2)","v":-2504.0254514149424},{"$f":"_xll.BDP(B50,$BF$2)","v":-23.670999999999999},{"$f":"_xll.BDP(B50,$BG$2)","v":-6.3086308359709413},{"$f":"_xll.BDP(B50,$BH$2)","v":-10.213870600398876},{"$f":"_xll.BDP(B50,$BI$2)","v":8.1456300887068274},null,{"$f":"_xll.BDP(B50,$BK$2)","v":313.57170000000002},{"$f":"_xll.BDP(B50,$BL$2)","v":"#N/A Field Not Applicable"},{"$f":"_xll.BDP(B50,$BM$2)","v":99.999971037037568},{"$f":"_xll.BDP(B50,$BN$2)","v":1.1643526981385852E-8},{"$f":"_xll.BDP(B50,$BO$2)","v":0.55877695951864104},{"$f":"_xll.BDP(AC50 & \" Equity\",$BP$2)","v":"#N/A N/A"},{"$f":"_xll.BDP(AC50 & \" Equity\",$BQ$2)","v":"06.04.2015"},{"$f":"_xll.BDP(AC50 & \" Equity\",$BR$2)","v":40.857002889655902}]
["US60786LAA52",{"$f":"A51 & \" Corp\"","v":"US60786LAA52 Corp"},"Moduslink Global Solutions",{"$f":"_xll.BDP(B51,$D$2)","v":"MODUSLINK GLOBAL SOLUTIO"},{"$f":"_xll.BDP(B51,$E$2)","v":5.25},{"$f":"_xll.BDP(B51,$F$2)","v":"01.03.2019"},{"$f":"_xll.BDP(B51,$G$2)","v":"#N/A Field Not Applicable"},{"$f":"_xll.BDP(B51,$H$2)","v":"#N/A Field Not Applicable"},"2014-06-28","NE März 14 - Yield-Play? (6.5%)",0,{"$f":"ROUND((T51*T$2+U51*U$2+S51*S$2+IF(P51=\"NR\",0,P51^2*SIGN(P51))+M51*M$2)/(L$2-IF(P51=\"NR\",0,P$2)-IF(S51,0,S$2)),0)","v":0},0,1,0,"NR","2014-03-03",-1,{"$f":"VLOOKUP(AX51,[1]Sheet1!$C$8:$D$23,2,FALSE)","v":1},{"$f":"MIN(ROUND(ABS(V51/AD51)*200,0),2)*SIGN(V51)","v":0},{"$f":"MIN(ROUND(ABS(X51),0),2)*IFERROR(SIGN(X51),0)","v":1},{"$f":"_xll.BDP(AC51 & \" Equity\",$V$3)","v":-1.2140721082687378E-3},{"$f":"_xll.BDP(AC51 & \" Equity\",$W$3)","v":49.209684717850131},{"$f":"IFERROR(10*LN((100+Z51)/(100+$Z$1))+2*LN((100+$W$2)/(100+W51)),0)","v":0.61587023659621631},{"$f":"_xll.BDP(AC51 & \" Equity\",$Y$2)","v":15.23809},{"$f":"_xll.BDP(AC51 & \" Equity\",$Z$2)","v":21.404679999999999},{"$f":"_xll.BDP(AC51 & \" Equity\",$AA$2)","v":-3.2},{"$f":"_xll.BDP(AC51 & \" Equity\",$AB$2)","v":"MLNK US"},{"$f":"_xll.BDP(B51,$AC$2)","v":"EQ0012979300001000"},{"$f":"_xll.BDP(AC51 & \" Equity\",$AD$2)","v":3.62},4,3,{"$f":"_xll.BDP(B51,$AG$2)","v":"USD"},{"$f":"_xll.BDP(B51,$AH$2)","v":100000000},{"$f":"IFERROR(VLOOKUP(A51,'Fisch Holding'!$A$5:$C$1245,3,FALSE)/AH51,\"-\")","v":"-"},{"$f":"IFERROR(VLOOKUP(A51,'BM Weight'!$A$7:$D$1020,3,FALSE),\"-\")","v":"-"},{"$f":"IFERROR(VLOOKUP(A51,'BM Weight'!$A$7:$D$1020,4,FALSE),\"-    \")","v":"-    "},{"$f":"IFERROR(VLOOKUP(A51,'Implied Rating'!$B$7:$C$1179,2,FALSE),\"-\")","v":"-"},{"$f":"IFERROR(VLOOKUP(A51,'ICV Rating'!$B$5:$E$1306,2,FALSE),\"-\")","v":"-"},{"$f":"_xll.BDP(B51,$AN$2)","v":"#N/A N/A"},{"$f":"_xll.BDP(B51,$AO$2)","v":"#N/A N/A"},{"$f":"_xll.BDP(B51,$AP$2)","v":"#N/A N/A"},{"$f":"_xll.BDP(B51,$AQ$2)","v":"N"},{"$f":"_xll.BDP(B51,$AR$2)","v":"Optionally"},{"$f":"_xll.BDP(B51,$AS$2)","v":"N"},{"$f":"_xll.BDP(B51,$AT$2)","v":"N"},{"$f":"_xll.BDP(B51,$AU$2)","v":"N"},{"$f":"_xll.BDP(B51,$AV$2)","v":"N"},{"$f":"_xll.BDP(B51,$AW$2)","v":"US"},{"$f":"_xll.BDP(AC51 & \" Equity\",$AX$2)","v":"Information Technology"},{"$f":"_xll.BDP(AC51 & \" Equity\",$AY$2)","v":"Software & Services"},{"$f":"_xll.BDP(AC51 & \" Equity\",$AZ$2)","v":"IT Services"},null,0,{"$f":"_xll.BDP(B51,$BC$2)","v":3.4997808513776394},{"$f":"_xll.BDP(B51,$BD$2)","v":1.5656393343519042},{"$f":"_xll.BDP(B51,$BE$2)","v":688.66136359369398},{"$f":"_xll.BDP(B51,$BF$2)","v":8.19},{"$f":"_xll.BDP(B51,$BG$2)","v":2.0101392583132165E-3},{"$f":"_xll.BDP(B51,$BH$2)","v":4.512365429409761},{"$f":"_xll.BDP(B51,$BI$2)","v":4.7347450363108203},null,{"$f":"_xll.BDP(B51,$BK$2)","v":89.588279999999997},{"$f":"_xll.BDP(B51,$BL$2)","v":"#N/A Field Not Applicable"},{"$f":"_xll.BDP(B51,$BM$2)","v":82.261726503151138},{"$f":"_xll.BDP(B51,$BN$2)","v":2.139844801984848E-3},{"$f":"_xll.BDP(B51,$BO$2)","v":48.960779467327889},{"$f":"_xll.BDP(AC51 & \" Equity\",$BP$2)","v":"#N/A N/A"},{"$f":"_xll.BDP(AC51 & \" Equity\",$BQ$2)","v":"03.03.2015"},{"$f":"_xll.BDP(AC51 & \" Equity\",$BR$2)","v":47.633640992234611}]
["US611742AA54",{"$f":"A52 & \" Corp\"","v":"US611742AA54 Corp"},"Trina Solar",{"$f":"_xll.BDP(B52,$D$2)","v":"MONSTER WORLDWIDE INC"},{"$f":"_xll.BDP(B52,$E$2)","v":3.5},{"$f":"_xll.BDP(B52,$F$2)","v":"15.10.2019"},{"$f":"_xll.BDP(B52,$G$2)","v":"#N/A Field Not Applicable"},{"$f":"_xll.BDP(B52,$H$2)","v":"#N/A Field Not Applicable"},"2014-10-14","NE Okt. 14",0,{"$f":"ROUND((T52*T$2+U52*U$2+S52*S$2+IF(P52=\"NR\",0,P52^2*SIGN(P52))+M52*M$2)/(L$2-IF(P52=\"NR\",0,P$2)-IF(S52,0,S$2)),0)","v":0},1,1,1,null,"2014-10-13",-2,{"$f":"VLOOKUP(AX52,[1]Sheet1!$C$8:$D$23,2,FALSE)","v":1},{"$f":"MIN(ROUND(ABS(V52/AD52)*200,0),2)*SIGN(V52)","v":0},{"$f":"MIN(ROUND(ABS(X52),0),2)*IFERROR(SIGN(X52),0)","v":-2},{"$f":"_xll.BDP(AC52 & \" Equity\",$V$3)","v":-2.1119788289070129E-3},{"$f":"_xll.BDP(AC52 & \" Equity\",$W$3)","v":46.708976463270943},{"$f":"IFERROR(10*LN((100+Z52)/(100+$Z$1))+2*LN((100+$W$2)/(100+W52)),0)","v":-1.9886152940939725},{"$f":"_xll.BDP(AC52 & \" Equity\",$Y$2)","v":8.0568770000000001},{"$f":"_xll.BDP(AC52 & \" Equity\",$Z$2)","v":-6.7484640000000002},{"$f":"_xll.BDP(AC52 & \" Equity\",$AA$2)","v":-1.298699},{"$f":"_xll.BDP(AC52 & \" Equity\",$AB$2)","v":"MWW US"},{"$f":"_xll.BDP(B52,$AC$2)","v":"EQ0019464600001000"},{"$f":"_xll.BDP(AC52 & \" Equity\",$AD$2)","v":4.37},4.5999999999999996,4,{"$f":"_xll.BDP(B52,$AG$2)","v":"USD"},{"$f":"_xll.BDP(B52,$AH$2)","v":143750000},{"$f":"IFERROR(VLOOKUP(A52,'Fisch Holding'!$A$5:$C$1245,3,FALSE)/AH52,\"-\")","v":"-"},{"$f":"IFERROR(VLOOKUP(A52,'BM Weight'!$A$7:$D$1020,3,FALSE),\"-\")","v":"-"},{"$f":"IFERROR(VLOOKUP(A52,'BM Weight'!$A$7:$D$1020,4,FALSE),\"-    \")","v":"-    "},{"$f":"IFERROR(VLOOKUP(A52,'Implied Rating'!$B$7:$C$1179,2,FALSE),\"-\")","v":"B-"},{"$f":"IFERROR(VLOOKUP(A52,'ICV Rating'!$B$5:$E$1306,2,FALSE),\"-\")","v":0},{"$f":"_xll.BDP(B52,$AN$2)","v":"#N/A N/A"},{"$f":"_xll.BDP(B52,$AO$2)","v":"#N/A N/A"},{"$f":"_xll.BDP(B52,$AP$2)","v":"#N/A N/A"},{"$f":"_xll.BDP(B52,$AQ$2)","v":"N"},{"$f":"_xll.BDP(B52,$AR$2)","v":"Optionally"},{"$f":"_xll.BDP(B52,$AS$2)","v":"N"},{"$f":"_xll.BDP(B52,$AT$2)","v":"N"},{"$f":"_xll.BDP(B52,$AU$2)","v":"N"},{"$f":"_xll.BDP(B52,$AV$2)","v":"N"},{"$f":"_xll.BDP(B52,$AW$2)","v":"US"},{"$f":"_xll.BDP(AC52 & \" Equity\",$AX$2)","v":"Information Technology"},{"$f":"_xll.BDP(AC52 & \" Equity\",$AY$2)","v":"Software & Services"},{"$f":"_xll.BDP(AC52 & \" Equity\",$AZ$2)","v":"Internet Software & Services"},null,0,{"$f":"_xll.BDP(B52,$BC$2)","v":4.3430037567949116},{"$f":"_xll.BDP(B52,$BD$2)","v":1.1919356441059592},{"$f":"_xll.BDP(B52,$BE$2)","v":37.707762106346074},{"$f":"_xll.BDP(B52,$BF$2)","v":1.8120000000000001},{"$f":"_xll.BDP(B52,$BG$2)","v":0.47638797764051954},{"$f":"_xll.BDP(B52,$BH$2)","v":5.4041426136864787},{"$f":"_xll.BDP(B52,$BI$2)","v":"#N/A N/A"},null,{"$f":"_xll.BDP(B52,$BK$2)","v":107.4888},{"$f":"_xll.BDP(B52,$BL$2)","v":"#N/A Field Not Applicable"},{"$f":"_xll.BDP(B52,$BM$2)","v":88.476169726846166},{"$f":"_xll.BDP(B52,$BN$2)","v":1.6113049664162964E-3},{"$f":"_xll.BDP(B52,$BO$2)","v":25.711270543025101},{"$f":"_xll.BDP(AC52 & \" Equity\",$BP$2)","v":"#N/A N/A"},{"$f":"_xll.BDP(AC52 & \" Equity\",$BQ$2)","v":"06.02.2015"},{"$f":"_xll.BDP(AC52 & \" Equity\",$BR$2)","v":54.699915430293011}]
["US64118QAB32",{"$f":"A53 & \" Corp\"","v":"US64118QAB32 Corp"},"NETSUITE INC",{"$f":"_xll.BDP(B53,$D$2)","v":"NETSUITE INC"},{"$f":"_xll.BDP(B53,$E$2)","v":0.25},{"$f":"_xll.BDP(B53,$F$2)","v":"01.06.2018"},{"$f":"_xll.BDP(B53,$G$2)","v":"#N/A Field Not Applicable"},{"$f":"_xll.BDP(B53,$H$2)","v":"#N/A Field Not Applicable"},"2014-10-29","NE + I-CV 6.13; USD 310 Mio; CRM + ERP",1,{"$f":"ROUND((T53*T$2+U53*U$2+S53*S$2+IF(P53=\"NR\",0,P53^2*SIGN(P53))+M53*M$2)/(L$2-IF(P53=\"NR\",0,P$2)-IF(S53,0,S$2)),0)","v":1},1,-1,0,0,"2014-07-07",-1,{"$f":"VLOOKUP(AX53,[1]Sheet1!$C$8:$D$23,2,FALSE)","v":1},{"$f":"MIN(ROUND(ABS(V53/AD53)*200,0),2)*SIGN(V53)","v":-1},{"$f":"MIN(ROUND(ABS(X53),0),2)*IFERROR(SIGN(X53),0)","v":1},{"$f":"_xll.BDP(AC53 & \" Equity\",$V$3)","v":-0.49564424157142639},{"$f":"_xll.BDP(AC53 & \" Equity\",$W$3)","v":35.00854724163225},{"$f":"IFERROR(10*LN((100+Z53)/(100+$Z$1))+2*LN((100+$W$2)/(100+W53)),0)","v":0.74377683038172226},{"$f":"_xll.BDP(AC53 & \" Equity\",$Y$2)","v":4.2874129999999999},{"$f":"_xll.BDP(AC53 & \" Equity\",$Z$2)","v":20.532229999999998},{"$f":"_xll.BDP(AC53 & \" Equity\",$AA$2)","v":-3.7464490000000001},{"$f":"_xll.BDP(AC53 & \" Equity\",$AB$2)","v":"N US"},{"$f":"_xll.BDP(B53,$AC$2)","v":"EQ0000000002991380"},{"$f":"_xll.BDP(AC53 & \" Equity\",$AD$2)","v":104.14},110,100,{"$f":"_xll.BDP(B53,$AG$2)","v":"USD"},{"$f":"_xll.BDP(B53,$AH$2)","v":310000000},{"$f":"IFERROR(VLOOKUP(A53,'Fisch Holding'!$A$5:$C$1245,3,FALSE)/AH53,\"-\")","v":"-"},{"$f":"IFERROR(VLOOKUP(A53,'BM Weight'!$A$7:$D$1020,3,FALSE),\"-\")","v":"-"},{"$f":"IFERROR(VLOOKUP(A53,'BM Weight'!$A$7:$D$1020,4,FALSE),\"-    \")","v":"-    "},{"$f":"IFERROR(VLOOKUP(A53,'Implied Rating'!$B$7:$C$1179,2,FALSE),\"-\")","v":"BB+"},{"$f":"IFERROR(VLOOKUP(A53,'ICV Rating'!$B$5:$E$1306,2,FALSE),\"-\")","v":"B+"},{"$f":"_xll.BDP(B53,$AN$2)","v":"#N/A N/A"},{"$f":"_xll.BDP(B53,$AO$2)","v":"#N/A N/A"},{"$f":"_xll.BDP(B53,$AP$2)","v":"#N/A N/A"},{"$f":"_xll.BDP(B53,$AQ$2)","v":"N"},{"$f":"_xll.BDP(B53,$AR$2)","v":"Optionally"},{"$f":"_xll.BDP(B53,$AS$2)","v":"N"},{"$f":"_xll.BDP(B53,$AT$2)","v":"N"},{"$f":"_xll.BDP(B53,$AU$2)","v":"N"},{"$f":"_xll.BDP(B53,$AV$2)","v":"N"},{"$f":"_xll.BDP(B53,$AW$2)","v":"US"},{"$f":"_xll.BDP(AC53 & \" Equity\",$AX$2)","v":"Information Technology"},{"$f":"_xll.BDP(AC53 & \" Equity\",$AY$2)","v":"Software & Services"},{"$f":"_xll.BDP(AC53 & \" Equity\",$AZ$2)","v":"Software"},null,0,{"$f":"_xll.BDP(B53,$BC$2)","v":3.393608066208162},{"$f":"_xll.BDP(B53,$BD$2)","v":1.5433099377474933},{"$f":"_xll.BDP(B53,$BE$2)","v":-396.17082856204155},{"$f":"_xll.BDP(B53,$BF$2)","v":-2.7890000000000001},{"$f":"_xll.BDP(B53,$BG$2)","v":0.34362787884655371},{"$f":"_xll.BDP(B53,$BH$2)","v":2.507799698783745},{"$f":"_xll.BDP(B53,$BI$2)","v":9.0822815907677636},null,{"$f":"_xll.BDP(B53,$BK$2)","v":110.2268},{"$f":"_xll.BDP(B53,$BL$2)","v":"#N/A Field Not Applicable"},{"$f":"_xll.BDP(B53,$BM$2)","v":66.817447535279854},{"$f":"_xll.BDP(B53,$BN$2)","v":5.5257737059709452E-3},{"$f":"_xll.BDP(B53,$BO$2)","v":22.404999566978979},{"$f":"_xll.BDP(AC53 & \" Equity\",$BP$2)","v":"#N/A N/A"},{"$f":"_xll.BDP(AC53 & \" Equity\",$BQ$2)","v":"30.01.2015"},{"$f":"_xll.BDP(AC53 & \" Equity\",$BR$2)","v":36.236041275408105},null,"2014-01-21"]
["US67020YAF79",{"$f":"A54 & \" Corp\"","v":"US67020YAF79 Corp"},"NUANCE COMMUNICATIONS",{"$f":"_xll.BDP(B54,$D$2)","v":"NUANCE COMMUNICATIONS"},{"$f":"_xll.BDP(B54,$E$2)","v":2.75},{"$f":"_xll.BDP(B54,$F$2)","v":"01.11.2031"},{"$f":"_xll.BDP(B54,$G$2)","v":"01.11.2017"},{"$f":"_xll.BDP(B54,$H$2)","v":"06.11.2017"},"2014-06-19","690 Mio; (0.6%); Aktivist Carl Icahn hält 9.3%",-1,{"$f":"ROUND((T54*T$2+U54*U$2+S54*S$2+IF(P54=\"NR\",0,P54^2*SIGN(P54))+M54*M$2)/(L$2-IF(P54=\"NR\",0,P$2)-IF(S54,0,S$2)),0)","v":-1},-1,-1,0,"NR","2014-06-19",-1,{"$f":"VLOOKUP(AX54,[1]Sheet1!$C$8:$D$23,2,FALSE)","v":1},{"$f":"MIN(ROUND(ABS(V54/AD54)*200,0),2)*SIGN(V54)","v":-1},{"$f":"MIN(ROUND(ABS(X54),0),2)*IFERROR(SIGN(X54),0)","v":-1},{"$f":"_xll.BDP(AC54 & \" Equity\",$V$3)","v":-5.3405612707138062E-2},{"$f":"_xll.BDP(AC54 & \" Equity\",$W$3)","v":22.412253983972299},{"$f":"IFERROR(10*LN((100+Z54)/(100+$Z$1))+2*LN((100+$W$2)/(100+W54)),0)","v":-1.424620837979174},{"$f":"_xll.BDP(AC54 & \" Equity\",$Y$2)","v":-4.8467549999999999},{"$f":"_xll.BDP(AC54 & \" Equity\",$Z$2)","v":-4.8467549999999999},{"$f":"_xll.BDP(AC54 & \" Equity\",$AA$2)","v":-6.447095},{"$f":"_xll.BDP(AC54 & \" Equity\",$AB$2)","v":"NUAN US"},{"$f":"_xll.BDP(B54,$AC$2)","v":"EQ0017137300001000"},{"$f":"_xll.BDP(AC54 & \" Equity\",$AD$2)","v":13.298999999999999},16,12,{"$f":"_xll.BDP(B54,$AG$2)","v":"USD"},{"$f":"_xll.BDP(B54,$AH$2)","v":690000000},{"$f":"IFERROR(VLOOKUP(A54,'Fisch Holding'!$A$5:$C$1245,3,FALSE)/AH54,\"-\")","v":"-"},{"$f":"IFERROR(VLOOKUP(A54,'BM Weight'!$A$7:$D$1020,3,FALSE),\"-\")","v":"-"},{"$f":"IFERROR(VLOOKUP(A54,'BM Weight'!$A$7:$D$1020,4,FALSE),\"-    \")","v":"-    "},{"$f":"IFERROR(VLOOKUP(A54,'Implied Rating'!$B$7:$C$1179,2,FALSE),\"-\")","v":"BB"},{"$f":"IFERROR(VLOOKUP(A54,'ICV Rating'!$B$5:$E$1306,2,FALSE),\"-\")","v":0},{"$f":"_xll.BDP(B54,$AN$2)","v":"NR"},{"$f":"_xll.BDP(B54,$AO$2)","v":"Ba3"},{"$f":"_xll.BDP(B54,$AP$2)","v":"BB-"},{"$f":"_xll.BDP(B54,$AQ$2)","v":"N"},{"$f":"_xll.BDP(B54,$AR$2)","v":"Optionally"},{"$f":"_xll.BDP(B54,$AS$2)","v":"N"},{"$f":"_xll.BDP(B54,$AT$2)","v":"N"},{"$f":"_xll.BDP(B54,$AU$2)","v":"N"},{"$f":"_xll.BDP(B54,$AV$2)","v":"Y"},{"$f":"_xll.BDP(B54,$AW$2)","v":"US"},{"$f":"_xll.BDP(AC54 & \" Equity\",$AX$2)","v":"Information Technology"},{"$f":"_xll.BDP(AC54 & \" Equity\",$AY$2)","v":"Software & Services"},{"$f":"_xll.BDP(AC54 & \" Equity\",$AZ$2)","v":"Software"},null,0,{"$f":"_xll.BDP(B54,$BC$2)","v":2.6383898587063794},{"$f":"_xll.BDP(B54,$BD$2)","v":2.6329409918305657},{"$f":"_xll.BDP(B54,$BE$2)","v":188.70315382003372},{"$f":"_xll.BDP(B54,$BF$2)","v":2.89},{"$f":"_xll.BDP(B54,$BG$2)","v":-0.3273556351030027},{"$f":"_xll.BDP(B54,$BH$2)","v":0.59174366872729056},{"$f":"_xll.BDP(B54,$BI$2)","v":1.9561844992618638},null,{"$f":"_xll.BDP(B54,$BK$2)","v":99.428359999999998},{"$f":"_xll.BDP(B54,$BL$2)","v":"#N/A Field Not Applicable"},{"$f":"_xll.BDP(B54,$BM$2)","v":6.5821295389577514},{"$f":"_xll.BDP(B54,$BN$2)","v":2.8142028210773116E-3},{"$f":"_xll.BDP(B54,$BO$2)","v":141.03538051001516},{"$f":"_xll.BDP(AC54 & \" Equity\",$BP$2)","v":"#N/A N/A"},{"$f":"_xll.BDP(AC54 & \" Equity\",$BQ$2)","v":"10.02.2015"},{"$f":"_xll.BDP(AC54 & \" Equity\",$BR$2)","v":23.706089259396457}]
["US67066GAC87",{"$f":"A55 & \" Corp\"","v":"US67066GAC87 Corp"},"NVIDIA CORP",{"$f":"_xll.BDP(B55,$D$2)","v":"NVIDIA CORP"},{"$f":"_xll.BDP(B55,$E$2)","v":1},{"$f":"_xll.BDP(B55,$F$2)","v":"01.12.2018"},{"$f":"_xll.BDP(B55,$G$2)","v":"#N/A Field Not Applicable"},{"$f":"_xll.BDP(B55,$H$2)","v":"#N/A Field Not Applicable"},"2015-01-08","BB+u",0,{"$f":"ROUND((T55*T$2+U55*U$2+S55*S$2+IF(P55=\"NR\",0,P55^2*SIGN(P55))+M55*M$2)/(L$2-IF(P55=\"NR\",0,P$2)-IF(S55,0,S$2)),0)","v":1},1,0,0,"NR","2014-07-28",0,{"$f":"VLOOKUP(AX55,[1]Sheet1!$C$8:$D$23,2,FALSE)","v":1},{"$f":"MIN(ROUND(ABS(V55/AD55)*200,0),2)*SIGN(V55)","v":-1},{"$f":"MIN(ROUND(ABS(X55),0),2)*IFERROR(SIGN(X55),0)","v":0},{"$f":"_xll.BDP(AC55 & \" Equity\",$V$3)","v":-5.7192407548427582E-2},{"$f":"_xll.BDP(AC55 & \" Equity\",$W$3)","v":25.787721168560751},{"$f":"IFERROR(10*LN((100+Z55)/(100+$Z$1))+2*LN((100+$W$2)/(100+W55)),0)","v":0.25659739675132953},{"$f":"_xll.BDP(AC55 & \" Equity\",$Y$2)","v":0.86867810000000001},{"$f":"_xll.BDP(AC55 & \" Equity\",$Z$2)","v":13.18807},{"$f":"_xll.BDP(AC55 & \" Equity\",$AA$2)","v":-1.5461309999999999},{"$f":"_xll.BDP(AC55 & \" Equity\",$AB$2)","v":"NVDA US"},{"$f":"_xll.BDP(B55,$AC$2)","v":"EQ0031365700001000"},{"$f":"_xll.BDP(AC55 & \" Equity\",$AD$2)","v":19.79},20,19,{"$f":"_xll.BDP(B55,$AG$2)","v":"USD"},{"$f":"_xll.BDP(B55,$AH$2)","v":1500000000},{"$f":"IFERROR(VLOOKUP(A55,'Fisch Holding'!$A$5:$C$1245,3,FALSE)/AH55,\"-\")","v":1.4200000000000001E-2},{"$f":"IFERROR(VLOOKUP(A55,'BM Weight'!$A$7:$D$1020,3,FALSE),\"-\")","v":1.5191978605100001},{"$f":"IFERROR(VLOOKUP(A55,'BM Weight'!$A$7:$D$1020,4,FALSE),\"-    \")","v":0},{"$f":"IFERROR(VLOOKUP(A55,'Implied Rating'!$B$7:$C$1179,2,FALSE),\"-\")","v":"BBB-"},{"$f":"IFERROR(VLOOKUP(A55,'ICV Rating'!$B$5:$E$1306,2,FALSE),\"-\")","v":0},{"$f":"_xll.BDP(B55,$AN$2)","v":"NR"},{"$f":"_xll.BDP(B55,$AO$2)","v":"#N/A N/A"},{"$f":"_xll.BDP(B55,$AP$2)","v":"BB+u"},{"$f":"_xll.BDP(B55,$AQ$2)","v":"N"},{"$f":"_xll.BDP(B55,$AR$2)","v":"Optionally"},{"$f":"_xll.BDP(B55,$AS$2)","v":"N"},{"$f":"_xll.BDP(B55,$AT$2)","v":"#N/A N/A"},{"$f":"_xll.BDP(B55,$AU$2)","v":"N"},{"$f":"_xll.BDP(B55,$AV$2)","v":"N"},{"$f":"_xll.BDP(B55,$AW$2)","v":"US"},{"$f":"_xll.BDP(AC55 & \" Equity\",$AX$2)","v":"Information Technology"},{"$f":"_xll.BDP(AC55 & \" Equity\",$AY$2)","v":"Semiconductors & Semiconductor"},{"$f":"_xll.BDP(AC55 & \" Equity\",$AZ$2)","v":"Semiconductors & Semiconductor"},null,0,{"$f":"_xll.BDP(B55,$BC$2)","v":3.8454249505494347},{"$f":"_xll.BDP(B55,$BD$2)","v":1.8658669795026437},{"$f":"_xll.BDP(B55,$BE$2)","v":-381.77031271569126},{"$f":"_xll.BDP(B55,$BF$2)","v":-2.5310000000000001},{"$f":"_xll.BDP(B55,$BG$2)","v":1.513221728189349},{"$f":"_xll.BDP(B55,$BH$2)","v":1.2214790136446474},{"$f":"_xll.BDP(B55,$BI$2)","v":7.5180955470556778},null,{"$f":"_xll.BDP(B55,$BK$2)","v":114.1914},{"$f":"_xll.BDP(B55,$BL$2)","v":"#N/A Field Not Applicable"},{"$f":"_xll.BDP(B55,$BM$2)","v":63.194515021119244},{"$f":"_xll.BDP(B55,$BN$2)","v":7.0628588289692405E-3},{"$f":"_xll.BDP(B55,$BO$2)","v":16.869802154024129},{"$f":"_xll.BDP(AC55 & \" Equity\",$BP$2)","v":1.7223911022101253},{"$f":"_xll.BDP(AC55 & \" Equity\",$BQ$2)","v":"12.02.2015"},{"$f":"_xll.BDP(AC55 & \" Equity\",$BR$2)","v":26.776082004283495},null,"2014-02-17"]
["US682189AH82",{"$f":"A56 & \" Corp\"","v":"US682189AH82 Corp"},"ON SEMICONDUCTOR CORP",{"$f":"_xll.BDP(B56,$D$2)","v":"ON SEMICONDUCTOR CORP"},{"$f":"_xll.BDP(B56,$E$2)","v":2.625},{"$f":"_xll.BDP(B56,$F$2)","v":"15.12.2026"},{"$f":"_xll.BDP(B56,$G$2)","v":"15.12.2016"},{"$f":"_xll.BDP(B56,$H$2)","v":"20.12.2016"},"2014-12-04","USD 357 Mio; Call/Put Dez. 2016",0,{"$f":"ROUND((T56*T$2+U56*U$2+S56*S$2+IF(P56=\"NR\",0,P56^2*SIGN(P56))+M56*M$2)/(L$2-IF(P56=\"NR\",0,P$2)-IF(S56,0,S$2)),0)","v":0},0,0,1,"NR","2014-07-07",-1,{"$f":"VLOOKUP(AX56,[1]Sheet1!$C$8:$D$23,2,FALSE)","v":1},{"$f":"MIN(ROUND(ABS(V56/AD56)*200,0),2)*SIGN(V56)","v":-1},{"$f":"MIN(ROUND(ABS(X56),0),2)*IFERROR(SIGN(X56),0)","v":2},{"$f":"_xll.BDP(AC56 & \" Equity\",$V$3)","v":-5.5552810430526733E-2},{"$f":"_xll.BDP(AC56 & \" Equity\",$W$3)","v":27.540860218864609},{"$f":"IFERROR(10*LN((100+Z56)/(100+$Z$1))+2*LN((100+$W$2)/(100+W56)),0)","v":2.541110282320894},{"$f":"_xll.BDP(AC56 & \" Equity\",$Y$2)","v":3.4232330000000002},{"$f":"_xll.BDP(AC56 & \" Equity\",$Z$2)","v":42.632339999999999},{"$f":"_xll.BDP(AC56 & \" Equity\",$AA$2)","v":-1.5794680000000001},{"$f":"_xll.BDP(AC56 & \" Equity\",$AB$2)","v":"ONNN US"},{"$f":"_xll.BDP(B56,$AC$2)","v":"EQ0035838500001000"},{"$f":"_xll.BDP(AC56 & \" Equity\",$AD$2)","v":9.9499999999999993},10.199999999999999,9.1999999999999993,{"$f":"_xll.BDP(B56,$AG$2)","v":"USD"},{"$f":"_xll.BDP(B56,$AH$2)","v":356930000},{"$f":"IFERROR(VLOOKUP(A56,'Fisch Holding'!$A$5:$C$1245,3,FALSE)/AH56,\"-\")","v":"-"},{"$f":"IFERROR(VLOOKUP(A56,'BM Weight'!$A$7:$D$1020,3,FALSE),\"-\")","v":"-"},{"$f":"IFERROR(VLOOKUP(A56,'BM Weight'!$A$7:$D$1020,4,FALSE),\"-    \")","v":"-    "},{"$f":"IFERROR(VLOOKUP(A56,'Implied Rating'!$B$7:$C$1179,2,FALSE),\"-\")","v":"BB+"},{"$f":"IFERROR(VLOOKUP(A56,'ICV Rating'!$B$5:$E$1306,2,FALSE),\"-\")","v":0},{"$f":"_xll.BDP(B56,$AN$2)","v":"NR"},{"$f":"_xll.BDP(B56,$AO$2)","v":"#N/A N/A"},{"$f":"_xll.BDP(B56,$AP$2)","v":"BB+"},{"$f":"_xll.BDP(B56,$AQ$2)","v":"N"},{"$f":"_xll.BDP(B56,$AR$2)","v":"Optionally"},{"$f":"_xll.BDP(B56,$AS$2)","v":"Y"},{"$f":"_xll.BDP(B56,$AT$2)","v":"#N/A N/A"},{"$f":"_xll.BDP(B56,$AU$2)","v":"N"},{"$f":"_xll.BDP(B56,$AV$2)","v":"Y"},{"$f":"_xll.BDP(B56,$AW$2)","v":"US"},{"$f":"_xll.BDP(AC56 & \" Equity\",$AX$2)","v":"Information Technology"},{"$f":"_xll.BDP(AC56 & \" Equity\",$AY$2)","v":"Semiconductors & Semiconductor"},{"$f":"_xll.BDP(AC56 & \" Equity\",$AZ$2)","v":"Semiconductors & Semiconductor"},null,0,{"$f":"_xll.BDP(B56,$BC$2)","v":1.9416653574664724},{"$f":"_xll.BDP(B56,$BD$2)","v":0.98142323420425892},{"$f":"_xll.BDP(B56,$BE$2)","v":-733.74090857078795},{"$f":"_xll.BDP(B56,$BF$2)","v":-6.6219999999999999},{"$f":"_xll.BDP(B56,$BG$2)","v":-0.94893431230001402},{"$f":"_xll.BDP(B56,$BH$2)","v":2.2986756040503797},{"$f":"_xll.BDP(B56,$BI$2)","v":15.255441853835034},null,{"$f":"_xll.BDP(B56,$BK$2)","v":118.9327},{"$f":"_xll.BDP(B56,$BL$2)","v":"#N/A Field Not Applicable"},{"$f":"_xll.BDP(B56,$BM$2)","v":58.116995194270039},{"$f":"_xll.BDP(B56,$BN$2)","v":7.2873469540265844E-3},{"$f":"_xll.BDP(B56,$BO$2)","v":25.54923810315341},{"$f":"_xll.BDP(AC56 & \" Equity\",$BP$2)","v":"#N/A N/A"},{"$f":"_xll.BDP(AC56 & \" Equity\",$BQ$2)","v":"06.02.2015"},{"$f":"_xll.BDP(AC56 & \" Equity\",$BR$2)","v":37.530582593562819},null,"2014-02-17"]
["US697435AA30",{"$f":"A57 & \" Corp\"","v":"US697435AA30 Corp"},"Palo Alto Networks",{"$f":"_xll.BDP(B57,$D$2)","v":"PALO ALTO NETWORKS"},{"$f":"_xll.BDP(B57,$E$2)","v":0},{"$f":"_xll.BDP(B57,$F$2)","v":"01.07.2019"},{"$f":"_xll.BDP(B57,$G$2)","v":"#N/A Field Not Applicable"},{"$f":"_xll.BDP(B57,$H$2)","v":"#N/A Field Not Applicable"},"2014-11-27","NE Juni 14; Network Security",1,{"$f":"ROUND((T57*T$2+U57*U$2+S57*S$2+IF(P57=\"NR\",0,P57^2*SIGN(P57))+M57*M$2)/(L$2-IF(P57=\"NR\",0,P$2)-IF(S57,0,S$2)),0)","v":1},0,-1,0,null,"2014-06-30",-1,{"$f":"VLOOKUP(AX57,[1]Sheet1!$C$8:$D$23,2,FALSE)","v":1},{"$f":"MIN(ROUND(ABS(V57/AD57)*200,0),2)*SIGN(V57)","v":0},{"$f":"MIN(ROUND(ABS(X57),0),2)*IFERROR(SIGN(X57),0)","v":2},{"$f":"_xll.BDP(AC57 & \" Equity\",$V$3)","v":-0.19731378555297852},{"$f":"_xll.BDP(AC57 & \" Equity\",$W$3)","v":31.959780766999803},{"$f":"IFERROR(10*LN((100+Z57)/(100+$Z$1))+2*LN((100+$W$2)/(100+W57)),0)","v":1.5172471922408481},{"$f":"_xll.BDP(AC57 & \" Equity\",$Y$2)","v":6.9613800000000001},{"$f":"_xll.BDP(AC57 & \" Equity\",$Z$2)","v":29.631530000000001},{"$f":"_xll.BDP(AC57 & \" Equity\",$AA$2)","v":3.0431590000000002},{"$f":"_xll.BDP(AC57 & \" Equity\",$AB$2)","v":"PANW US"},{"$f":"_xll.BDP(B57,$AC$2)","v":"EQ0000000010760548"},{"$f":"_xll.BDP(AC57 & \" Equity\",$AD$2)","v":123.68129999999999},128,118,{"$f":"_xll.BDP(B57,$AG$2)","v":"USD"},{"$f":"_xll.BDP(B57,$AH$2)","v":575000000},{"$f":"IFERROR(VLOOKUP(A57,'Fisch Holding'!$A$5:$C$1245,3,FALSE)/AH57,\"-\")","v":9.3043478260869568E-3},{"$f":"IFERROR(VLOOKUP(A57,'BM Weight'!$A$7:$D$1020,3,FALSE),\"-\")","v":0.66052601231499997},{"$f":"IFERROR(VLOOKUP(A57,'BM Weight'!$A$7:$D$1020,4,FALSE),\"-    \")","v":0},{"$f":"IFERROR(VLOOKUP(A57,'Implied Rating'!$B$7:$C$1179,2,FALSE),\"-\")","v":"BB+"},{"$f":"IFERROR(VLOOKUP(A57,'ICV Rating'!$B$5:$E$1306,2,FALSE),\"-\")","v":0},{"$f":"_xll.BDP(B57,$AN$2)","v":"#N/A N/A"},{"$f":"_xll.BDP(B57,$AO$2)","v":"#N/A N/A"},{"$f":"_xll.BDP(B57,$AP$2)","v":"#N/A N/A"},{"$f":"_xll.BDP(B57,$AQ$2)","v":"N"},{"$f":"_xll.BDP(B57,$AR$2)","v":"Optionally"},{"$f":"_xll.BDP(B57,$AS$2)","v":"N"},{"$f":"_xll.BDP(B57,$AT$2)","v":"N"},{"$f":"_xll.BDP(B57,$AU$2)","v":"N"},{"$f":"_xll.BDP(B57,$AV$2)","v":"N"},{"$f":"_xll.BDP(B57,$AW$2)","v":"US"},{"$f":"_xll.BDP(AC57 & \" Equity\",$AX$2)","v":"Information Technology"},{"$f":"_xll.BDP(AC57 & \" Equity\",$AY$2)","v":"Technology Hardware & Equipmen"},{"$f":"_xll.BDP(AC57 & \" Equity\",$AZ$2)","v":"Communications Equipment"},null,0,{"$f":"_xll.BDP(B57,$BC$2)","v":4.5739020929428804},{"$f":"_xll.BDP(B57,$BD$2)","v":1.1954498076633995},{"$f":"_xll.BDP(B57,$BE$2)","v":-707.10063434751089},{"$f":"_xll.BDP(B57,$BF$2)","v":-5.6609999999999996},{"$f":"_xll.BDP(B57,$BG$2)","v":0.2370185232562419},{"$f":"_xll.BDP(B57,$BH$2)","v":3.3743326785691661},{"$f":"_xll.BDP(B57,$BI$2)","v":"#N/A N/A"},null,{"$f":"_xll.BDP(B57,$BK$2)","v":129.0735},{"$f":"_xll.BDP(B57,$BL$2)","v":"#N/A Field Not Applicable"},{"$f":"_xll.BDP(B57,$BM$2)","v":83.76888785613194},{"$f":"_xll.BDP(B57,$BN$2)","v":2.7113434655480139E-3},{"$f":"_xll.BDP(B57,$BO$2)","v":12.699994936834051},{"$f":"_xll.BDP(AC57 & \" Equity\",$BP$2)","v":"#N/A N/A"},{"$f":"_xll.BDP(AC57 & \" Equity\",$BQ$2)","v":"24.02.2015"},{"$f":"_xll.BDP(AC57 & \" Equity\",$BR$2)","v":41.713242327995417},null,"2014-02-17"]
["US719405AH56",{"$f":"A58 & \" Corp\"","v":"US719405AH56 Corp"},"PHOTRONICS INC",{"$f":"_xll.BDP(B58,$D$2)","v":"PHOTRONICS INC"},{"$f":"_xll.BDP(B58,$E$2)","v":3.25},{"$f":"_xll.BDP(B58,$F$2)","v":"01.04.2016"},{"$f":"_xll.BDP(B58,$G$2)","v":"#N/A Field Not Applicable"},{"$f":"_xll.BDP(B58,$H$2)","v":"#N/A Field Not Applicable"},"2014-11-27","nur USD 115 Mio",0,{"$f":"ROUND((T58*T$2+U58*U$2+S58*S$2+IF(P58=\"NR\",0,P58^2*SIGN(P58))+M58*M$2)/(L$2-IF(P58=\"NR\",0,P$2)-IF(S58,0,S$2)),0)","v":1},1,0,2,"NR","2013-10-16",-2,{"$f":"VLOOKUP(AX58,[1]Sheet1!$C$8:$D$23,2,FALSE)","v":1},{"$f":"MIN(ROUND(ABS(V58/AD58)*200,0),2)*SIGN(V58)","v":1},{"$f":"MIN(ROUND(ABS(X58),0),2)*IFERROR(SIGN(X58),0)","v":-1},{"$f":"_xll.BDP(AC58 & \" Equity\",$V$3)","v":2.1207712590694427E-2},{"$f":"_xll.BDP(AC58 & \" Equity\",$W$3)","v":24.423475358284627},{"$f":"IFERROR(10*LN((100+Z58)/(100+$Z$1))+2*LN((100+$W$2)/(100+W58)),0)","v":-1.0449918871706096},{"$f":"_xll.BDP(AC58 & \" Equity\",$Y$2)","v":1.228497},{"$f":"_xll.BDP(AC58 & \" Equity\",$Z$2)","v":-0.84236359999999999},{"$f":"_xll.BDP(AC58 & \" Equity\",$AA$2)","v":-0.84236359999999999},{"$f":"_xll.BDP(AC58 & \" Equity\",$AB$2)","v":"PLAB US"},{"$f":"_xll.BDP(B58,$AC$2)","v":"EQ0010613300001000"},{"$f":"_xll.BDP(AC58 & \" Equity\",$AD$2)","v":8.2200000000000006},8.8000000000000007,8,{"$f":"_xll.BDP(B58,$AG$2)","v":"USD"},{"$f":"_xll.BDP(B58,$AH$2)","v":115000000},{"$f":"IFERROR(VLOOKUP(A58,'Fisch Holding'!$A$5:$C$1245,3,FALSE)/AH58,\"-\")","v":"-"},{"$f":"IFERROR(VLOOKUP(A58,'BM Weight'!$A$7:$D$1020,3,FALSE),\"-\")","v":"-"},{"$f":"IFERROR(VLOOKUP(A58,'BM Weight'!$A$7:$D$1020,4,FALSE),\"-    \")","v":"-    "},{"$f":"IFERROR(VLOOKUP(A58,'Implied Rating'!$B$7:$C$1179,2,FALSE),\"-\")","v":"-"},{"$f":"IFERROR(VLOOKUP(A58,'ICV Rating'!$B$5:$E$1306,2,FALSE),\"-\")","v":"-"},{"$f":"_xll.BDP(B58,$AN$2)","v":"#N/A N/A"},{"$f":"_xll.BDP(B58,$AO$2)","v":"#N/A N/A"},{"$f":"_xll.BDP(B58,$AP$2)","v":"NR"},{"$f":"_xll.BDP(B58,$AQ$2)","v":"N"},{"$f":"_xll.BDP(B58,$AR$2)","v":"Optionally"},{"$f":"_xll.BDP(B58,$AS$2)","v":"N"},{"$f":"_xll.BDP(B58,$AT$2)","v":"N"},{"$f":"_xll.BDP(B58,$AU$2)","v":"N"},{"$f":"_xll.BDP(B58,$AV$2)","v":"N"},{"$f":"_xll.BDP(B58,$AW$2)","v":"US"},{"$f":"_xll.BDP(AC58 & \" Equity\",$AX$2)","v":"Information Technology"},{"$f":"_xll.BDP(AC58 & \" Equity\",$AY$2)","v":"Semiconductors & Semiconductor"},{"$f":"_xll.BDP(AC58 & \" Equity\",$AZ$2)","v":"Semiconductors & Semiconductor"},null,0,{"$f":"_xll.BDP(B58,$BC$2)","v":1.1742042128933725},{"$f":"_xll.BDP(B58,$BD$2)","v":0.81227074806211386},{"$f":"_xll.BDP(B58,$BE$2)","v":-200.43911730715922},{"$f":"_xll.BDP(B58,$BF$2)","v":-1.5470000000000002},{"$f":"_xll.BDP(B58,$BG$2)","v":-5.588780113222868E-2},{"$f":"_xll.BDP(B58,$BH$2)","v":-8.0933665830751567E-2},{"$f":"_xll.BDP(B58,$BI$2)","v":-1.1161815128341337},null,{"$f":"_xll.BDP(B58,$BK$2)","v":104.4928},{"$f":"_xll.BDP(B58,$BL$2)","v":"#N/A Field Not Applicable"},{"$f":"_xll.BDP(B58,$BM$2)","v":41.894841099721205},{"$f":"_xll.BDP(B58,$BN$2)","v":9.4211645878487273E-3},{"$f":"_xll.BDP(B58,$BO$2)","v":33.218543992344628},{"$f":"_xll.BDP(AC58 & \" Equity\",$BP$2)","v":"#N/A N/A"},{"$f":"_xll.BDP(AC58 & \" Equity\",$BQ$2)","v":"18.02.2015"},{"$f":"_xll.BDP(AC58 & \" Equity\",$BR$2)","v":26.641464667637806}]
["US743424AB91",{"$f":"A59 & \" Corp\"","v":"US743424AB91 Corp"},"PROOFPOINT INC",{"$f":"_xll.BDP(B59,$D$2)","v":"PROOFPOINT INC"},{"$f":"_xll.BDP(B59,$E$2)","v":1.25},{"$f":"_xll.BDP(B59,$F$2)","v":"15.12.2018"},{"$f":"_xll.BDP(B59,$G$2)","v":"#N/A Field Not Applicable"},{"$f":"_xll.BDP(B59,$H$2)","v":"#N/A Field Not Applicable"},"2015-01-08","NE Dez. 13; ERP, illiquid, I-CV April 2014",1,{"$f":"ROUND((T59*T$2+U59*U$2+S59*S$2+IF(P59=\"NR\",0,P59^2*SIGN(P59))+M59*M$2)/(L$2-IF(P59=\"NR\",0,P$2)-IF(S59,0,S$2)),0)","v":1},0,-1,0,-1,"2014-08-18",-1,{"$f":"VLOOKUP(AX59,[1]Sheet1!$C$8:$D$23,2,FALSE)","v":1},{"$f":"MIN(ROUND(ABS(V59/AD59)*200,0),2)*SIGN(V59)","v":0},{"$f":"MIN(ROUND(ABS(X59),0),2)*IFERROR(SIGN(X59),0)","v":2},{"$f":"_xll.BDP(AC59 & \" Equity\",$V$3)","v":-0.10047411918640137},{"$f":"_xll.BDP(AC59 & \" Equity\",$W$3)","v":38.30251881394485},{"$f":"IFERROR(10*LN((100+Z59)/(100+$Z$1))+2*LN((100+$W$2)/(100+W59)),0)","v":1.9048341012347998},{"$f":"_xll.BDP(AC59 & \" Equity\",$Y$2)","v":5.82735},{"$f":"_xll.BDP(AC59 & \" Equity\",$Z$2)","v":36.02572},{"$f":"_xll.BDP(AC59 & \" Equity\",$AA$2)","v":0.9122962},{"$f":"_xll.BDP(AC59 & \" Equity\",$AB$2)","v":"PFPT US"},{"$f":"_xll.BDP(B59,$AC$2)","v":"EQ0000000004410407"},{"$f":"_xll.BDP(AC59 & \" Equity\",$AD$2)","v":47.29},50,47,{"$f":"_xll.BDP(B59,$AG$2)","v":"USD"},{"$f":"_xll.BDP(B59,$AH$2)","v":201250000},{"$f":"IFERROR(VLOOKUP(A59,'Fisch Holding'!$A$5:$C$1245,3,FALSE)/AH59,\"-\")","v":"-"},{"$f":"IFERROR(VLOOKUP(A59,'BM Weight'!$A$7:$D$1020,3,FALSE),\"-\")","v":"-"},{"$f":"IFERROR(VLOOKUP(A59,'BM Weight'!$A$7:$D$1020,4,FALSE),\"-    \")","v":"-    "},{"$f":"IFERROR(VLOOKUP(A59,'Implied Rating'!$B$7:$C$1179,2,FALSE),\"-\")","v":"BB"},{"$f":"IFERROR(VLOOKUP(A59,'ICV Rating'!$B$5:$E$1306,2,FALSE),\"-\")","v":"CCC"},{"$f":"_xll.BDP(B59,$AN$2)","v":"#N/A N/A"},{"$f":"_xll.BDP(B59,$AO$2)","v":"#N/A N/A"},{"$f":"_xll.BDP(B59,$AP$2)","v":"#N/A N/A"},{"$f":"_xll.BDP(B59,$AQ$2)","v":"N"},{"$f":"_xll.BDP(B59,$AR$2)","v":"Optionally"},{"$f":"_xll.BDP(B59,$AS$2)","v":"N"},{"$f":"_xll.BDP(B59,$AT$2)","v":"#N/A N/A"},{"$f":"_xll.BDP(B59,$AU$2)","v":"N"},{"$f":"_xll.BDP(B59,$AV$2)","v":"N"},{"$f":"_xll.BDP(B59,$AW$2)","v":"US"},{"$f":"_xll.BDP(AC59 & \" Equity\",$AX$2)","v":"Information Technology"},{"$f":"_xll.BDP(AC59 & \" Equity\",$AY$2)","v":"Software & Services"},{"$f":"_xll.BDP(AC59 & \" Equity\",$AZ$2)","v":"Software"},null,0,{"$f":"_xll.BDP(B59,$BC$2)","v":3.9670076587993162},{"$f":"_xll.BDP(B59,$BD$2)","v":0.73228890766161325},{"$f":"_xll.BDP(B59,$BE$2)","v":-826.51141176203282},{"$f":"_xll.BDP(B59,$BF$2)","v":-6.97},{"$f":"_xll.BDP(B59,$BG$2)","v":1.2470367613465028},{"$f":"_xll.BDP(B59,$BH$2)","v":2.803918191554708},{"$f":"_xll.BDP(B59,$BI$2)","v":20.573461318301437},null,{"$f":"_xll.BDP(B59,$BK$2)","v":137.35470000000001},{"$f":"_xll.BDP(B59,$BL$2)","v":"#N/A Field Not Applicable"},{"$f":"_xll.BDP(B59,$BM$2)","v":86.776436482540802},{"$f":"_xll.BDP(B59,$BN$2)","v":2.3913284817609196E-3},{"$f":"_xll.BDP(B59,$BO$2)","v":10.316851686763446},{"$f":"_xll.BDP(AC59 & \" Equity\",$BP$2)","v":"#N/A N/A"},{"$f":"_xll.BDP(AC59 & \" Equity\",$BQ$2)","v":"29.01.2015"},{"$f":"_xll.BDP(AC59 & \" Equity\",$BR$2)","v":47.995501088863719},null,"2014-02-03"]
["US747906AG03",{"$f":"A60 & \" Corp\"","v":"US747906AG03 Corp"},"QUANTUM CORP",{"$f":"_xll.BDP(B60,$D$2)","v":"QUANTUM CORP"},{"$f":"_xll.BDP(B60,$E$2)","v":3.5},{"$f":"_xll.BDP(B60,$F$2)","v":"15.11.2015"},{"$f":"_xll.BDP(B60,$G$2)","v":"#N/A Field Not Applicable"},{"$f":"_xll.BDP(B60,$H$2)","v":"#N/A Field Not Applicable"},"2012-10-30"," I-CV: Overweight (Nov. 2010)",-1,{"$f":"ROUND((T60*T$2+U60*U$2+S60*S$2+IF(P60=\"NR\",0,P60^2*SIGN(P60))+M60*M$2)/(L$2-IF(P60=\"NR\",0,P$2)-IF(S60,0,S$2)),0)","v":0},-1,0,-2,1,"2012-10-30",-2,{"$f":"VLOOKUP(AX60,[1]Sheet1!$C$8:$D$23,2,FALSE)","v":1},{"$f":"MIN(ROUND(ABS(V60/AD60)*200,0),2)*SIGN(V60)","v":-2},{"$f":"MIN(ROUND(ABS(X60),0),2)*IFERROR(SIGN(X60),0)","v":2},{"$f":"_xll.BDP(AC60 & \" Equity\",$V$3)","v":-2.0470801740884781E-2},{"$f":"_xll.BDP(AC60 & \" Equity\",$W$3)","v":53.276085589306831},{"$f":"IFERROR(10*LN((100+Z60)/(100+$Z$1))+2*LN((100+$W$2)/(100+W60)),0)","v":2.7082561152295592},{"$f":"_xll.BDP(AC60 & \" Equity\",$Y$2)","v":-4.7337309999999997},{"$f":"_xll.BDP(AC60 & \" Equity\",$Z$2)","v":50.467280000000002},{"$f":"_xll.BDP(AC60 & \" Equity\",$AA$2)","v":-8.5227269999999997},{"$f":"_xll.BDP(AC60 & \" Equity\",$AB$2)","v":"QTM US"},{"$f":"_xll.BDP(B60,$AC$2)","v":"EQ0010175900001000"},{"$f":"_xll.BDP(AC60 & \" Equity\",$AD$2)","v":1.58},1.75,1.2,{"$f":"_xll.BDP(B60,$AG$2)","v":"USD"},{"$f":"_xll.BDP(B60,$AH$2)","v":135000000},{"$f":"IFERROR(VLOOKUP(A60,'Fisch Holding'!$A$5:$C$1245,3,FALSE)/AH60,\"-\")","v":"-"},{"$f":"IFERROR(VLOOKUP(A60,'BM Weight'!$A$7:$D$1020,3,FALSE),\"-\")","v":"-"},{"$f":"IFERROR(VLOOKUP(A60,'BM Weight'!$A$7:$D$1020,4,FALSE),\"-    \")","v":"-    "},{"$f":"IFERROR(VLOOKUP(A60,'Implied Rating'!$B$7:$C$1179,2,FALSE),\"-\")","v":"CCC+"},{"$f":"IFERROR(VLOOKUP(A60,'ICV Rating'!$B$5:$E$1306,2,FALSE),\"-\")","v":"CCC"},{"$f":"_xll.BDP(B60,$AN$2)","v":"#N/A N/A"},{"$f":"_xll.BDP(B60,$AO$2)","v":"#N/A N/A"},{"$f":"_xll.BDP(B60,$AP$2)","v":"NR"},{"$f":"_xll.BDP(B60,$AQ$2)","v":"N"},{"$f":"_xll.BDP(B60,$AR$2)","v":"Optionally"},{"$f":"_xll.BDP(B60,$AS$2)","v":"Y"},{"$f":"_xll.BDP(B60,$AT$2)","v":"N"},{"$f":"_xll.BDP(B60,$AU$2)","v":"N"},{"$f":"_xll.BDP(B60,$AV$2)","v":"N"},{"$f":"_xll.BDP(B60,$AW$2)","v":"US"},{"$f":"_xll.BDP(AC60 & \" Equity\",$AX$2)","v":"Information Technology"},{"$f":"_xll.BDP(AC60 & \" Equity\",$AY$2)","v":"Technology Hardware & Equipmen"},{"$f":"_xll.BDP(AC60 & \" Equity\",$AZ$2)","v":"Technology Hardware, Storage &"},null,0,{"$f":"_xll.BDP(B60,$BC$2)","v":0.79418657931071945},{"$f":"_xll.BDP(B60,$BD$2)","v":0.7054532281050806},{"$f":"_xll.BDP(B60,$BE$2)","v":191.11062594004366},{"$f":"_xll.BDP(B60,$BF$2)","v":2.254},{"$f":"_xll.BDP(B60,$BG$2)","v":0},{"$f":"_xll.BDP(B60,$BH$2)","v":0},{"$f":"_xll.BDP(B60,$BI$2)","v":0},null,{"$f":"_xll.BDP(B60,$BK$2)","v":100},{"$f":"_xll.BDP(B60,$BL$2)","v":"#N/A Field Not Applicable"},{"$f":"_xll.BDP(B60,$BM$2)","v":37.080597345302273},{"$f":"_xll.BDP(B60,$BN$2)","v":3.5844196217541817E-3},{"$f":"_xll.BDP(B60,$BO$2)","v":171.80605353314573},{"$f":"_xll.BDP(AC60 & \" Equity\",$BP$2)","v":"#N/A N/A"},{"$f":"_xll.BDP(AC60 & \" Equity\",$BQ$2)","v":"29.01.2015"},{"$f":"_xll.BDP(AC60 & \" Equity\",$BR$2)","v":47.045671970236093}]
["US747906AJ42",{"$f":"A61 & \" Corp\"","v":"US747906AJ42 Corp"},"QUANTUM CORP",{"$f":"_xll.BDP(B61,$D$2)","v":"QUANTUM CORP"},{"$f":"_xll.BDP(B61,$E$2)","v":4.5},{"$f":"_xll.BDP(B61,$F$2)","v":"15.11.2017"},{"$f":"_xll.BDP(B61,$G$2)","v":"#N/A Field Not Applicable"},{"$f":"_xll.BDP(B61,$H$2)","v":"#N/A Field Not Applicable"},"2012-10-30","nur USD 70 Mio",-1,{"$f":"ROUND((T61*T$2+U61*U$2+S61*S$2+IF(P61=\"NR\",0,P61^2*SIGN(P61))+M61*M$2)/(L$2-IF(P61=\"NR\",0,P$2)-IF(S61,0,S$2)),0)","v":0},0,-1,0,1,"2012-10-30",-2,{"$f":"VLOOKUP(AX61,[1]Sheet1!$C$8:$D$23,2,FALSE)","v":1},{"$f":"MIN(ROUND(ABS(V61/AD61)*200,0),2)*SIGN(V61)","v":-2},{"$f":"MIN(ROUND(ABS(X61),0),2)*IFERROR(SIGN(X61),0)","v":2},{"$f":"_xll.BDP(AC61 & \" Equity\",$V$3)","v":-2.0470801740884781E-2},{"$f":"_xll.BDP(AC61 & \" Equity\",$W$3)","v":53.276085589306831},{"$f":"IFERROR(10*LN((100+Z61)/(100+$Z$1))+2*LN((100+$W$2)/(100+W61)),0)","v":2.7082561152295592},{"$f":"_xll.BDP(AC61 & \" Equity\",$Y$2)","v":-4.7337309999999997},{"$f":"_xll.BDP(AC61 & \" Equity\",$Z$2)","v":50.467280000000002},{"$f":"_xll.BDP(AC61 & \" Equity\",$AA$2)","v":-8.5227269999999997},{"$f":"_xll.BDP(AC61 & \" Equity\",$AB$2)","v":"QTM US"},{"$f":"_xll.BDP(B61,$AC$2)","v":"EQ0010175900001000"},{"$f":"_xll.BDP(AC61 & \" Equity\",$AD$2)","v":1.58},1.75,1.2,{"$f":"_xll.BDP(B61,$AG$2)","v":"USD"},{"$f":"_xll.BDP(B61,$AH$2)","v":70000000},{"$f":"IFERROR(VLOOKUP(A61,'Fisch Holding'!$A$5:$C$1245,3,FALSE)/AH61,\"-\")","v":"-"},{"$f":"IFERROR(VLOOKUP(A61,'BM Weight'!$A$7:$D$1020,3,FALSE),\"-\")","v":"-"},{"$f":"IFERROR(VLOOKUP(A61,'BM Weight'!$A$7:$D$1020,4,FALSE),\"-    \")","v":"-    "},{"$f":"IFERROR(VLOOKUP(A61,'Implied Rating'!$B$7:$C$1179,2,FALSE),\"-\")","v":"-"},{"$f":"IFERROR(VLOOKUP(A61,'ICV Rating'!$B$5:$E$1306,2,FALSE),\"-\")","v":"-"},{"$f":"_xll.BDP(B61,$AN$2)","v":"#N/A N/A"},{"$f":"_xll.BDP(B61,$AO$2)","v":"#N/A N/A"},{"$f":"_xll.BDP(B61,$AP$2)","v":"NR"},{"$f":"_xll.BDP(B61,$AQ$2)","v":"N"},{"$f":"_xll.BDP(B61,$AR$2)","v":"Optionally"},{"$f":"_xll.BDP(B61,$AS$2)","v":"Y"},{"$f":"_xll.BDP(B61,$AT$2)","v":"#N/A N/A"},{"$f":"_xll.BDP(B61,$AU$2)","v":"N"},{"$f":"_xll.BDP(B61,$AV$2)","v":"N"},{"$f":"_xll.BDP(B61,$AW$2)","v":"US"},{"$f":"_xll.BDP(AC61 & \" Equity\",$AX$2)","v":"Information Technology"},{"$f":"_xll.BDP(AC61 & \" Equity\",$AY$2)","v":"Technology Hardware & Equipmen"},{"$f":"_xll.BDP(AC61 & \" Equity\",$AZ$2)","v":"Technology Hardware, Storage &"},null,0,{"$f":"_xll.BDP(B61,$BC$2)","v":2.6932136509896982},{"$f":"_xll.BDP(B61,$BD$2)","v":0.55914694235346418},{"$f":"_xll.BDP(B61,$BE$2)","v":-296.35255660342136},{"$f":"_xll.BDP(B61,$BF$2)","v":-1.9550000000000001},{"$f":"_xll.BDP(B61,$BG$2)","v":-0.89980102855515809},{"$f":"_xll.BDP(B61,$BH$2)","v":-3.5867942681303471},{"$f":"_xll.BDP(B61,$BI$2)","v":20.194913978380576},null,{"$f":"_xll.BDP(B61,$BK$2)","v":117.59139999999999},{"$f":"_xll.BDP(B61,$BL$2)","v":"#N/A Field Not Applicable"},{"$f":"_xll.BDP(B61,$BM$2)","v":93.522928637229924},{"$f":"_xll.BDP(B61,$BN$2)","v":6.9638900616511849E-4},{"$f":"_xll.BDP(B61,$BO$2)","v":21.519963766131884},{"$f":"_xll.BDP(AC61 & \" Equity\",$BP$2)","v":"#N/A N/A"},{"$f":"_xll.BDP(AC61 & \" Equity\",$BQ$2)","v":"29.01.2015"},{"$f":"_xll.BDP(AC61 & \" Equity\",$BR$2)","v":47.045671970236093}]
["US750917AE63",{"$f":"A62 & \" Corp\"","v":"US750917AE63 Corp"},"RAMBUS INC",{"$f":"_xll.BDP(B62,$D$2)","v":"RAMBUS INC"},{"$f":"_xll.BDP(B62,$E$2)","v":1.125},{"$f":"_xll.BDP(B62,$F$2)","v":"15.08.2018"},{"$f":"_xll.BDP(B62,$G$2)","v":"#N/A Field Not Applicable"},{"$f":"_xll.BDP(B62,$H$2)","v":"#N/A Field Not Applicable"},"2014-06-12","NE 8.13; PP; Lizenztroll",0,{"$f":"ROUND((T62*T$2+U62*U$2+S62*S$2+IF(P62=\"NR\",0,P62^2*SIGN(P62))+M62*M$2)/(L$2-IF(P62=\"NR\",0,P$2)-IF(S62,0,S$2)),0)","v":0},0,-1,0,"NR","2014-06-12",-2,{"$f":"VLOOKUP(AX62,[1]Sheet1!$C$8:$D$23,2,FALSE)","v":1},{"$f":"MIN(ROUND(ABS(V62/AD62)*200,0),2)*SIGN(V62)","v":-1},{"$f":"MIN(ROUND(ABS(X62),0),2)*IFERROR(SIGN(X62),0)","v":-1},{"$f":"_xll.BDP(AC62 & \" Equity\",$V$3)","v":-4.7448650002479553E-2},{"$f":"_xll.BDP(AC62 & \" Equity\",$W$3)","v":33.400449636425179},{"$f":"IFERROR(10*LN((100+Z62)/(100+$Z$1))+2*LN((100+$W$2)/(100+W62)),0)","v":-0.94934967079463806},{"$f":"_xll.BDP(AC62 & \" Equity\",$Y$2)","v":-4.3710979999999999},{"$f":"_xll.BDP(AC62 & \" Equity\",$Z$2)","v":1.515147},{"$f":"_xll.BDP(AC62 & \" Equity\",$AA$2)","v":-3.3363399999999999},{"$f":"_xll.BDP(AC62 & \" Equity\",$AB$2)","v":"RMBS US"},{"$f":"_xll.BDP(B62,$AC$2)","v":"EQ0021711500001000"},{"$f":"_xll.BDP(AC62 & \" Equity\",$AD$2)","v":10.45},12,10,{"$f":"_xll.BDP(B62,$AG$2)","v":"USD"},{"$f":"_xll.BDP(B62,$AH$2)","v":138000000},{"$f":"IFERROR(VLOOKUP(A62,'Fisch Holding'!$A$5:$C$1245,3,FALSE)/AH62,\"-\")","v":"-"},{"$f":"IFERROR(VLOOKUP(A62,'BM Weight'!$A$7:$D$1020,3,FALSE),\"-\")","v":"-"},{"$f":"IFERROR(VLOOKUP(A62,'BM Weight'!$A$7:$D$1020,4,FALSE),\"-    \")","v":"-    "},{"$f":"IFERROR(VLOOKUP(A62,'Implied Rating'!$B$7:$C$1179,2,FALSE),\"-\")","v":"-"},{"$f":"IFERROR(VLOOKUP(A62,'ICV Rating'!$B$5:$E$1306,2,FALSE),\"-\")","v":"-"},{"$f":"_xll.BDP(B62,$AN$2)","v":"#N/A N/A"},{"$f":"_xll.BDP(B62,$AO$2)","v":"#N/A N/A"},{"$f":"_xll.BDP(B62,$AP$2)","v":"#N/A N/A"},{"$f":"_xll.BDP(B62,$AQ$2)","v":"N"},{"$f":"_xll.BDP(B62,$AR$2)","v":"Optionally"},{"$f":"_xll.BDP(B62,$AS$2)","v":"N"},{"$f":"_xll.BDP(B62,$AT$2)","v":"#N/A N/A"},{"$f":"_xll.BDP(B62,$AU$2)","v":"N"},{"$f":"_xll.BDP(B62,$AV$2)","v":"N"},{"$f":"_xll.BDP(B62,$AW$2)","v":"US"},{"$f":"_xll.BDP(AC62 & \" Equity\",$AX$2)","v":"Information Technology"},{"$f":"_xll.BDP(AC62 & \" Equity\",$AY$2)","v":"Semiconductors & Semiconductor"},{"$f":"_xll.BDP(AC62 & \" Equity\",$AZ$2)","v":"Semiconductors & Semiconductor"},null,0,{"$f":"_xll.BDP(B62,$BC$2)","v":3.5302575729388153},{"$f":"_xll.BDP(B62,$BD$2)","v":1.5333844710348528},{"$f":"_xll.BDP(B62,$BE$2)","v":-341.8933852666201},{"$f":"_xll.BDP(B62,$BF$2)","v":-2.202},{"$f":"_xll.BDP(B62,$BG$2)","v":-1.1043224219960821},{"$f":"_xll.BDP(B62,$BH$2)","v":-2.4420856293480062},{"$f":"_xll.BDP(B62,$BI$2)","v":0.44935347909903978},null,{"$f":"_xll.BDP(B62,$BK$2)","v":111.6279},{"$f":"_xll.BDP(B62,$BL$2)","v":"#N/A Field Not Applicable"},{"$f":"_xll.BDP(B62,$BM$2)","v":71.890723230887872},{"$f":"_xll.BDP(B62,$BN$2)","v":4.221078311918096E-3},{"$f":"_xll.BDP(B62,$BO$2)","v":26.601307815185848},{"$f":"_xll.BDP(AC62 & \" Equity\",$BP$2)","v":"#N/A N/A"},{"$f":"_xll.BDP(AC62 & \" Equity\",$BQ$2)","v":"27.01.2015"},{"$f":"_xll.BDP(AC62 & \" Equity\",$BR$2)","v":40.925122275312539}]
["US756577AC63",{"$f":"A63 & \" Corp\"","v":"US756577AC63 Corp"},"Red Hat",{"$f":"_xll.BDP(B63,$D$2)","v":"RED HAT INC"},{"$f":"_xll.BDP(B63,$E$2)","v":0.25},{"$f":"_xll.BDP(B63,$F$2)","v":"01.10.2019"},{"$f":"_xll.BDP(B63,$G$2)","v":"#N/A Field Not Applicable"},{"$f":"_xll.BDP(B63,$H$2)","v":"#N/A Field Not Applicable"},"2015-01-08",null,1,{"$f":"ROUND((T63*T$2+U63*U$2+S63*S$2+IF(P63=\"NR\",0,P63^2*SIGN(P63))+M63*M$2)/(L$2-IF(P63=\"NR\",0,P$2)-IF(S63,0,S$2)),0)","v":1},1,1,1,"NR","2014-04-23",1,{"$f":"VLOOKUP(AX63,[1]Sheet1!$C$8:$D$23,2,FALSE)","v":1},{"$f":"MIN(ROUND(ABS(V63/AD63)*200,0),2)*SIGN(V63)","v":-1},{"$f":"MIN(ROUND(ABS(X63),0),2)*IFERROR(SIGN(X63),0)","v":1},{"$f":"_xll.BDP(AC63 & \" Equity\",$V$3)","v":-0.44961428642272949},{"$f":"_xll.BDP(AC63 & \" Equity\",$W$3)","v":30.138659559984916},{"$f":"IFERROR(10*LN((100+Z63)/(100+$Z$1))+2*LN((100+$W$2)/(100+W63)),0)","v":0.85407303691138181},{"$f":"_xll.BDP(AC63 & \" Equity\",$Y$2)","v":12.603899999999999},{"$f":"_xll.BDP(AC63 & \" Equity\",$Z$2)","v":20.976859999999999},{"$f":"_xll.BDP(AC63 & \" Equity\",$AA$2)","v":-3.9918999999999998},{"$f":"_xll.BDP(AC63 & \" Equity\",$AB$2)","v":"RHT US"},{"$f":"_xll.BDP(B63,$AC$2)","v":"EQ0086120900001000"},{"$f":"_xll.BDP(AC63 & \" Equity\",$AD$2)","v":65.77},70,65,{"$f":"_xll.BDP(B63,$AG$2)","v":"USD"},{"$f":"_xll.BDP(B63,$AH$2)","v":805000000},{"$f":"IFERROR(VLOOKUP(A63,'Fisch Holding'!$A$5:$C$1245,3,FALSE)/AH63,\"-\")","v":0.12906832298136647},{"$f":"IFERROR(VLOOKUP(A63,'BM Weight'!$A$7:$D$1020,3,FALSE),\"-\")","v":0.82545710187499999},{"$f":"IFERROR(VLOOKUP(A63,'BM Weight'!$A$7:$D$1020,4,FALSE),\"-    \")","v":2.925167203},{"$f":"IFERROR(VLOOKUP(A63,'Implied Rating'!$B$7:$C$1179,2,FALSE),\"-\")","v":"A+"},{"$f":"IFERROR(VLOOKUP(A63,'ICV Rating'!$B$5:$E$1306,2,FALSE),\"-\")","v":0},{"$f":"_xll.BDP(B63,$AN$2)","v":"NR"},{"$f":"_xll.BDP(B63,$AO$2)","v":"#N/A N/A"},{"$f":"_xll.BDP(B63,$AP$2)","v":"BBB"},{"$f":"_xll.BDP(B63,$AQ$2)","v":"N"},{"$f":"_xll.BDP(B63,$AR$2)","v":"Optionally"},{"$f":"_xll.BDP(B63,$AS$2)","v":"N"},{"$f":"_xll.BDP(B63,$AT$2)","v":"N"},{"$f":"_xll.BDP(B63,$AU$2)","v":"N"},{"$f":"_xll.BDP(B63,$AV$2)","v":"N"},{"$f":"_xll.BDP(B63,$AW$2)","v":"US"},{"$f":"_xll.BDP(AC63 & \" Equity\",$AX$2)","v":"Information Technology"},{"$f":"_xll.BDP(AC63 & \" Equity\",$AY$2)","v":"Software & Services"},{"$f":"_xll.BDP(AC63 & \" Equity\",$AZ$2)","v":"Software"},null,0,{"$f":"_xll.BDP(B63,$BC$2)","v":4.7356812209389636},{"$f":"_xll.BDP(B63,$BD$2)","v":2.5538813765450512},{"$f":"_xll.BDP(B63,$BE$2)","v":-430.0332703690699},{"$f":"_xll.BDP(B63,$BF$2)","v":-2.8439999999999999},{"$f":"_xll.BDP(B63,$BG$2)","v":-2.6040836196221955},{"$f":"_xll.BDP(B63,$BH$2)","v":6.527941711055214},{"$f":"_xll.BDP(B63,$BI$2)","v":13.884867833833281},null,{"$f":"_xll.BDP(B63,$BK$2)","v":115.4644},{"$f":"_xll.BDP(B63,$BL$2)","v":"#N/A Field Not Applicable"},{"$f":"_xll.BDP(B63,$BM$2)","v":61.342565003588213},{"$f":"_xll.BDP(B63,$BN$2)","v":5.9239512568499565E-3},{"$f":"_xll.BDP(B63,$BO$2)","v":27.90668701216849},{"$f":"_xll.BDP(AC63 & \" Equity\",$BP$2)","v":"#N/A N/A"},{"$f":"_xll.BDP(AC63 & \" Equity\",$BQ$2)","v":"27.03.2015"},{"$f":"_xll.BDP(AC63 & \" Equity\",$BR$2)","v":29.923840948714243}]
["US75971TAA16",{"$f":"A64 & \" Corp\"","v":"US75971TAA16 Corp"},"RENESOLA LTD",{"$f":"_xll.BDP(B64,$D$2)","v":"RENESOLA LTD"},{"$f":"_xll.BDP(B64,$E$2)","v":4.125},{"$f":"_xll.BDP(B64,$F$2)","v":"15.03.2018"},{"$f":"_xll.BDP(B64,$G$2)","v":"15.03.2016"},{"$f":"_xll.BDP(B64,$H$2)","v":"#N/A Field Not Applicable"},"2013-10-01","NO GO I-CV Sept. 13",-2,{"$f":"ROUND((T64*T$2+U64*U$2+S64*S$2+IF(P64=\"NR\",0,P64^2*SIGN(P64))+M64*M$2)/(L$2-IF(P64=\"NR\",0,P$2)-IF(S64,0,S$2)),0)","v":-1},-1,0,-1,-2,"2013-10-01",-2,{"$f":"VLOOKUP(AX64,[1]Sheet1!$C$8:$D$23,2,FALSE)","v":1},{"$f":"MIN(ROUND(ABS(V64/AD64)*200,0),2)*SIGN(V64)","v":1},{"$f":"MIN(ROUND(ABS(X64),0),2)*IFERROR(SIGN(X64),0)","v":-2},{"$f":"_xll.BDP(AC64 & \" Equity\",$V$3)","v":8.6134746670722961E-3},{"$f":"_xll.BDP(AC64 & \" Equity\",$W$3)","v":71.959127037060782},{"$f":"IFERROR(10*LN((100+Z64)/(100+$Z$1))+2*LN((100+$W$2)/(100+W64)),0)","v":-7.7855087000166883},{"$f":"_xll.BDP(AC64 & \" Equity\",$Y$2)","v":-0.8},{"$f":"_xll.BDP(AC64 & \" Equity\",$Z$2)","v":-46.086959999999998},{"$f":"_xll.BDP(AC64 & \" Equity\",$AA$2)","v":-12.05674},{"$f":"_xll.BDP(AC64 & \" Equity\",$AB$2)","v":"SOL US"},{"$f":"_xll.BDP(B64,$AC$2)","v":"EQ0000000005422778"},{"$f":"_xll.BDP(AC64 & \" Equity\",$AD$2)","v":1.22},3,1,{"$f":"_xll.BDP(B64,$AG$2)","v":"USD"},{"$f":"_xll.BDP(B64,$AH$2)","v":111616000},{"$f":"IFERROR(VLOOKUP(A64,'Fisch Holding'!$A$5:$C$1245,3,FALSE)/AH64,\"-\")","v":"-"},{"$f":"IFERROR(VLOOKUP(A64,'BM Weight'!$A$7:$D$1020,3,FALSE),\"-\")","v":"-"},{"$f":"IFERROR(VLOOKUP(A64,'BM Weight'!$A$7:$D$1020,4,FALSE),\"-    \")","v":"-    "},{"$f":"IFERROR(VLOOKUP(A64,'Implied Rating'!$B$7:$C$1179,2,FALSE),\"-\")","v":"-"},{"$f":"IFERROR(VLOOKUP(A64,'ICV Rating'!$B$5:$E$1306,2,FALSE),\"-\")","v":"-"},{"$f":"_xll.BDP(B64,$AN$2)","v":"#N/A N/A"},{"$f":"_xll.BDP(B64,$AO$2)","v":"#N/A N/A"},{"$f":"_xll.BDP(B64,$AP$2)","v":"#N/A N/A"},{"$f":"_xll.BDP(B64,$AQ$2)","v":"N"},{"$f":"_xll.BDP(B64,$AR$2)","v":"Optionally"},{"$f":"_xll.BDP(B64,$AS$2)","v":"N"},{"$f":"_xll.BDP(B64,$AT$2)","v":"#N/A N/A"},{"$f":"_xll.BDP(B64,$AU$2)","v":"N"},{"$f":"_xll.BDP(B64,$AV$2)","v":"N"},{"$f":"_xll.BDP(B64,$AW$2)","v":"CN"},{"$f":"_xll.BDP(AC64 & \" Equity\",$AX$2)","v":"Information Technology"},{"$f":"_xll.BDP(AC64 & \" Equity\",$AY$2)","v":"Semiconductors & Semiconductor"},{"$f":"_xll.BDP(AC64 & \" Equity\",$AZ$2)","v":"Semiconductors & Semiconductor"},null,0,{"$f":"_xll.BDP(B64,$BC$2)","v":0.85204285968752203},{"$f":"_xll.BDP(B64,$BD$2)","v":1.0922365998315455},{"$f":"_xll.BDP(B64,$BE$2)","v":5906.5447683221246},{"$f":"_xll.BDP(B64,$BF$2)","v":59.505000000000003},{"$f":"_xll.BDP(B64,$BG$2)","v":"#N/A N/A"},{"$f":"_xll.BDP(B64,$BH$2)","v":"#N/A N/A"},{"$f":"_xll.BDP(B64,$BI$2)","v":"#N/A N/A"},null,{"$f":"_xll.BDP(B64,$BK$2)","v":58},{"$f":"_xll.BDP(B64,$BL$2)","v":"#N/A Field Not Applicable"},{"$f":"_xll.BDP(B64,$BM$2)","v":19.996791903485938},{"$f":"_xll.BDP(B64,$BN$2)","v":2.6461159530658581E-3},{"$f":"_xll.BDP(B64,$BO$2)","v":393.33933671109622},{"$f":"_xll.BDP(AC64 & \" Equity\",$BP$2)","v":"#N/A N/A"},{"$f":"_xll.BDP(AC64 & \" Equity\",$BQ$2)","v":"24.03.2015"},{"$f":"_xll.BDP(AC64 & \" Equity\",$BR$2)","v":71.069600122157979}]
["US779376AB85",{"$f":"A65 & \" Corp\"","v":"US779376AB85 Corp"},"ROVI CORP",{"$f":"_xll.BDP(B65,$D$2)","v":"ROVI CORP"},{"$f":"_xll.BDP(B65,$E$2)","v":2.625},{"$f":"_xll.BDP(B65,$F$2)","v":"15.02.2040"},{"$f":"_xll.BDP(B65,$G$2)","v":"20.02.2015"},{"$f":"_xll.BDP(B65,$H$2)","v":"20.02.2015"},"2012-07-18",null,-1,{"$f":"ROUND((T65*T$2+U65*U$2+S65*S$2+IF(P65=\"NR\",0,P65^2*SIGN(P65))+M65*M$2)/(L$2-IF(P65=\"NR\",0,P$2)-IF(S65,0,S$2)),0)","v":0},-1,-1,-2,1,"2012-07-18",-1,{"$f":"VLOOKUP(AX65,[1]Sheet1!$C$8:$D$23,2,FALSE)","v":1},{"$f":"MIN(ROUND(ABS(V65/AD65)*200,0),2)*SIGN(V65)","v":0},{"$f":"MIN(ROUND(ABS(X65),0),2)*IFERROR(SIGN(X65),0)","v":1},{"$f":"_xll.BDP(AC65 & \" Equity\",$V$3)","v":5.6353181600570679E-2},{"$f":"_xll.BDP(AC65 & \" Equity\",$W$3)","v":27.180669025046111},{"$f":"IFERROR(10*LN((100+Z65)/(100+$Z$1))+2*LN((100+$W$2)/(100+W65)),0)","v":1.1423962091695472},{"$f":"_xll.BDP(AC65 & \" Equity\",$Y$2)","v":11.65142},{"$f":"_xll.BDP(AC65 & \" Equity\",$Z$2)","v":23.944420000000001},{"$f":"_xll.BDP(AC65 & \" Equity\",$AA$2)","v":2.6560419999999998},{"$f":"_xll.BDP(AC65 & \" Equity\",$AB$2)","v":"ROVI US"},{"$f":"_xll.BDP(B65,$AC$2)","v":"EQ0020269500001000"},{"$f":"_xll.BDP(AC65 & \" Equity\",$AD$2)","v":22.7},25,20,{"$f":"_xll.BDP(B65,$AG$2)","v":"USD"},{"$f":"_xll.BDP(B65,$AH$2)","v":290990000},{"$f":"IFERROR(VLOOKUP(A65,'Fisch Holding'!$A$5:$C$1245,3,FALSE)/AH65,\"-\")","v":"-"},{"$f":"IFERROR(VLOOKUP(A65,'BM Weight'!$A$7:$D$1020,3,FALSE),\"-\")","v":"-"},{"$f":"IFERROR(VLOOKUP(A65,'BM Weight'!$A$7:$D$1020,4,FALSE),\"-    \")","v":"-    "},{"$f":"IFERROR(VLOOKUP(A65,'Implied Rating'!$B$7:$C$1179,2,FALSE),\"-\")","v":"BB"},{"$f":"IFERROR(VLOOKUP(A65,'ICV Rating'!$B$5:$E$1306,2,FALSE),\"-\")","v":0},{"$f":"_xll.BDP(B65,$AN$2)","v":"#N/A N/A"},{"$f":"_xll.BDP(B65,$AO$2)","v":"Ba3"},{"$f":"_xll.BDP(B65,$AP$2)","v":"B+"},{"$f":"_xll.BDP(B65,$AQ$2)","v":"N"},{"$f":"_xll.BDP(B65,$AR$2)","v":"Optionally"},{"$f":"_xll.BDP(B65,$AS$2)","v":"N"},{"$f":"_xll.BDP(B65,$AT$2)","v":"N"},{"$f":"_xll.BDP(B65,$AU$2)","v":"N"},{"$f":"_xll.BDP(B65,$AV$2)","v":"Y"},{"$f":"_xll.BDP(B65,$AW$2)","v":"US"},{"$f":"_xll.BDP(AC65 & \" Equity\",$AX$2)","v":"Information Technology"},{"$f":"_xll.BDP(AC65 & \" Equity\",$AY$2)","v":"Software & Services"},{"$f":"_xll.BDP(AC65 & \" Equity\",$AZ$2)","v":"Software"},null,0,{"$f":"_xll.BDP(B65,$BC$2)","v":8.0031154505582666E-2},{"$f":"_xll.BDP(B65,$BD$2)","v":8.3637101152808993E-2},{"$f":"_xll.BDP(B65,$BE$2)","v":-287.58909304063974},{"$f":"_xll.BDP(B65,$BF$2)","v":-2.6139999999999999},{"$f":"_xll.BDP(B65,$BG$2)","v":0.14527372236460087},{"$f":"_xll.BDP(B65,$BH$2)","v":-1.8916652581225778E-2},{"$f":"_xll.BDP(B65,$BI$2)","v":-0.2556384460233399},null,{"$f":"_xll.BDP(B65,$BK$2)","v":100.1414},{"$f":"_xll.BDP(B65,$BL$2)","v":"#N/A Field Not Applicable"},{"$f":"_xll.BDP(B65,$BM$2)","v":4.4924816442889565E-2},{"$f":"_xll.BDP(B65,$BN$2)","v":8.1627031912463404E-5},{"$f":"_xll.BDP(B65,$BO$2)","v":105.0956160502154},{"$f":"_xll.BDP(AC65 & \" Equity\",$BP$2)","v":"#N/A N/A"},{"$f":"_xll.BDP(AC65 & \" Equity\",$BQ$2)","v":"12.02.2015"},{"$f":"_xll.BDP(AC65 & \" Equity\",$BR$2)","v":29.851530568740486}]
["US781268AA59",{"$f":"A66 & \" Corp\"","v":"US781268AA59 Corp"},"WEBMD HEALTH CORP",{"$f":"_xll.BDP(B66,$D$2)","v":"RUDOLPH TECHNOLOGIES INC"},{"$f":"_xll.BDP(B66,$E$2)","v":3.75},{"$f":"_xll.BDP(B66,$F$2)","v":"15.07.2016"},{"$f":"_xll.BDP(B66,$G$2)","v":"#N/A Field Not Applicable"},{"$f":"_xll.BDP(B66,$H$2)","v":"#N/A Field Not Applicable"},"2014-05-05","nur USD 60 Mio outstanding",0,{"$f":"ROUND((T66*T$2+U66*U$2+S66*S$2+IF(P66=\"NR\",0,P66^2*SIGN(P66))+M66*M$2)/(L$2-IF(P66=\"NR\",0,P$2)-IF(S66,0,S$2)),0)","v":0},0,-1,0,null,"2014-05-05",-2,{"$f":"VLOOKUP(AX66,[1]Sheet1!$C$8:$D$23,2,FALSE)","v":1},{"$f":"MIN(ROUND(ABS(V66/AD66)*200,0),2)*SIGN(V66)","v":-1},{"$f":"MIN(ROUND(ABS(X66),0),2)*IFERROR(SIGN(X66),0)","v":1},{"$f":"_xll.BDP(AC66 & \" Equity\",$V$3)","v":-5.3743228316307068E-2},{"$f":"_xll.BDP(AC66 & \" Equity\",$W$3)","v":28.226797994544039},{"$f":"IFERROR(10*LN((100+Z66)/(100+$Z$1))+2*LN((100+$W$2)/(100+W66)),0)","v":0.57626281228124432},{"$f":"_xll.BDP(AC66 & \" Equity\",$Y$2)","v":5.7324830000000002},{"$f":"_xll.BDP(AC66 & \" Equity\",$Z$2)","v":17.314489999999999},{"$f":"_xll.BDP(AC66 & \" Equity\",$AA$2)","v":-2.6392920000000002},{"$f":"_xll.BDP(AC66 & \" Equity\",$AB$2)","v":"RTEC US"},{"$f":"_xll.BDP(B66,$AC$2)","v":"EQ0039605800001000"},{"$f":"_xll.BDP(AC66 & \" Equity\",$AD$2)","v":9.85},10,9.1999999999999993,{"$f":"_xll.BDP(B66,$AG$2)","v":"USD"},{"$f":"_xll.BDP(B66,$AH$2)","v":60000000},{"$f":"IFERROR(VLOOKUP(A66,'Fisch Holding'!$A$5:$C$1245,3,FALSE)/AH66,\"-\")","v":"-"},{"$f":"IFERROR(VLOOKUP(A66,'BM Weight'!$A$7:$D$1020,3,FALSE),\"-\")","v":"-"},{"$f":"IFERROR(VLOOKUP(A66,'BM Weight'!$A$7:$D$1020,4,FALSE),\"-    \")","v":"-    "},{"$f":"IFERROR(VLOOKUP(A66,'Implied Rating'!$B$7:$C$1179,2,FALSE),\"-\")","v":"-"},{"$f":"IFERROR(VLOOKUP(A66,'ICV Rating'!$B$5:$E$1306,2,FALSE),\"-\")","v":"-"},{"$f":"_xll.BDP(B66,$AN$2)","v":"#N/A N/A"},{"$f":"_xll.BDP(B66,$AO$2)","v":"#N/A N/A"},{"$f":"_xll.BDP(B66,$AP$2)","v":"#N/A N/A"},{"$f":"_xll.BDP(B66,$AQ$2)","v":"N"},{"$f":"_xll.BDP(B66,$AR$2)","v":"Optionally"},{"$f":"_xll.BDP(B66,$AS$2)","v":"N"},{"$f":"_xll.BDP(B66,$AT$2)","v":"N"},{"$f":"_xll.BDP(B66,$AU$2)","v":"N"},{"$f":"_xll.BDP(B66,$AV$2)","v":"N"},{"$f":"_xll.BDP(B66,$AW$2)","v":"US"},{"$f":"_xll.BDP(AC66 & \" Equity\",$AX$2)","v":"Information Technology"},{"$f":"_xll.BDP(AC66 & \" Equity\",$AY$2)","v":"Semiconductors & Semiconductor"},{"$f":"_xll.BDP(AC66 & \" Equity\",$AZ$2)","v":"Semiconductors & Semiconductor"},null,0,{"$f":"_xll.BDP(B66,$BC$2)","v":1.4563819806770963},{"$f":"_xll.BDP(B66,$BD$2)","v":1.0903958557847104},{"$f":"_xll.BDP(B66,$BE$2)","v":-101.30802601647794},{"$f":"_xll.BDP(B66,$BF$2)","v":-0.45500000000000002},{"$f":"_xll.BDP(B66,$BG$2)","v":-1.3133739965990288E-3},{"$f":"_xll.BDP(B66,$BH$2)","v":1.4190446909464007},{"$f":"_xll.BDP(B66,$BI$2)","v":3.0449315865975946},null,{"$f":"_xll.BDP(B66,$BK$2)","v":105.4957},{"$f":"_xll.BDP(B66,$BL$2)","v":"#N/A Field Not Applicable"},{"$f":"_xll.BDP(B66,$BM$2)","v":35.085595394784505},{"$f":"_xll.BDP(B66,$BN$2)","v":9.7655957605978175E-3},{"$f":"_xll.BDP(B66,$BO$2)","v":38.129711779627655},{"$f":"_xll.BDP(AC66 & \" Equity\",$BP$2)","v":"#N/A N/A"},{"$f":"_xll.BDP(AC66 & \" Equity\",$BQ$2)","v":"03.02.2015"},{"$f":"_xll.BDP(AC66 & \" Equity\",$BR$2)","v":32.732803197738576}]
["US79466LAD64",{"$f":"A67 & \" Corp\"","v":"US79466LAD64 Corp"},"SALESFORCE.COM INC",{"$f":"_xll.BDP(B67,$D$2)","v":"SALESFORCE.COM INC"},{"$f":"_xll.BDP(B67,$E$2)","v":0.25},{"$f":"_xll.BDP(B67,$F$2)","v":"01.04.2018"},{"$f":"_xll.BDP(B67,$G$2)","v":"#N/A Field Not Applicable"},{"$f":"_xll.BDP(B67,$H$2)","v":"#N/A Field Not Applicable"},"2014-10-29",null,1,{"$f":"ROUND((T67*T$2+U67*U$2+S67*S$2+IF(P67=\"NR\",0,P67^2*SIGN(P67))+M67*M$2)/(L$2-IF(P67=\"NR\",0,P$2)-IF(S67,0,S$2)),0)","v":1},1,-1,0,-1,"2014-06-19",0,{"$f":"VLOOKUP(AX67,[1]Sheet1!$C$8:$D$23,2,FALSE)","v":1},{"$f":"MIN(ROUND(ABS(V67/AD67)*200,0),2)*SIGN(V67)","v":0},{"$f":"MIN(ROUND(ABS(X67),0),2)*IFERROR(SIGN(X67),0)","v":0},{"$f":"_xll.BDP(AC67 & \" Equity\",$V$3)","v":-0.1245235949754715},{"$f":"_xll.BDP(AC67 & \" Equity\",$W$3)","v":30.95035300438677},{"$f":"IFERROR(10*LN((100+Z67)/(100+$Z$1))+2*LN((100+$W$2)/(100+W67)),0)","v":-0.30826302325523414},{"$f":"_xll.BDP(AC67 & \" Equity\",$Y$2)","v":3.3207010000000001},{"$f":"_xll.BDP(AC67 & \" Equity\",$Z$2)","v":7.83575},{"$f":"_xll.BDP(AC67 & \" Equity\",$AA$2)","v":-3.4732780000000001},{"$f":"_xll.BDP(AC67 & \" Equity\",$AB$2)","v":"CRM US"},{"$f":"_xll.BDP(B67,$AC$2)","v":"EQ0108460500001000"},{"$f":"_xll.BDP(AC67 & \" Equity\",$AD$2)","v":56.81},60,55,{"$f":"_xll.BDP(B67,$AG$2)","v":"USD"},{"$f":"_xll.BDP(B67,$AH$2)","v":1150000000},{"$f":"IFERROR(VLOOKUP(A67,'Fisch Holding'!$A$5:$C$1245,3,FALSE)/AH67,\"-\")","v":3.3173913043478262E-2},{"$f":"IFERROR(VLOOKUP(A67,'BM Weight'!$A$7:$D$1020,3,FALSE),\"-\")","v":1.1499781523599999},{"$f":"IFERROR(VLOOKUP(A67,'BM Weight'!$A$7:$D$1020,4,FALSE),\"-    \")","v":0},{"$f":"IFERROR(VLOOKUP(A67,'Implied Rating'!$B$7:$C$1179,2,FALSE),\"-\")","v":"A+"},{"$f":"IFERROR(VLOOKUP(A67,'ICV Rating'!$B$5:$E$1306,2,FALSE),\"-\")","v":"BB+"},{"$f":"_xll.BDP(B67,$AN$2)","v":"NR"},{"$f":"_xll.BDP(B67,$AO$2)","v":"#N/A N/A"},{"$f":"_xll.BDP(B67,$AP$2)","v":"NR"},{"$f":"_xll.BDP(B67,$AQ$2)","v":"N"},{"$f":"_xll.BDP(B67,$AR$2)","v":"Optionally"},{"$f":"_xll.BDP(B67,$AS$2)","v":"N"},{"$f":"_xll.BDP(B67,$AT$2)","v":"#N/A N/A"},{"$f":"_xll.BDP(B67,$AU$2)","v":"N"},{"$f":"_xll.BDP(B67,$AV$2)","v":"N"},{"$f":"_xll.BDP(B67,$AW$2)","v":"US"},{"$f":"_xll.BDP(AC67 & \" Equity\",$AX$2)","v":"Information Technology"},{"$f":"_xll.BDP(AC67 & \" Equity\",$AY$2)","v":"Software & Services"},{"$f":"_xll.BDP(AC67 & \" Equity\",$AZ$2)","v":"Software"},null,0,{"$f":"_xll.BDP(B67,$BC$2)","v":3.2397095010863559},{"$f":"_xll.BDP(B67,$BD$2)","v":1.816944857890423},{"$f":"_xll.BDP(B67,$BE$2)","v":-471.32837221298496},{"$f":"_xll.BDP(B67,$BF$2)","v":-3.58},{"$f":"_xll.BDP(B67,$BG$2)","v":7.7142133539831265E-2},{"$f":"_xll.BDP(B67,$BH$2)","v":2.4438830405277083},{"$f":"_xll.BDP(B67,$BI$2)","v":5.3798847222692823},null,{"$f":"_xll.BDP(B67,$BK$2)","v":112.93389999999999},{"$f":"_xll.BDP(B67,$BL$2)","v":"#N/A Field Not Applicable"},{"$f":"_xll.BDP(B67,$BM$2)","v":56.862781080244353},{"$f":"_xll.BDP(B67,$BN$2)","v":6.2842498919126622E-3},{"$f":"_xll.BDP(B67,$BO$2)","v":31.241114061084378},{"$f":"_xll.BDP(AC67 & \" Equity\",$BP$2)","v":"#N/A N/A"},{"$f":"_xll.BDP(AC67 & \" Equity\",$BQ$2)","v":"27.02.2015"},{"$f":"_xll.BDP(AC67 & \" Equity\",$BR$2)","v":30.876521887703547},null,"2014-01-21"]
["US79466LAB09",{"$f":"A68 & \" Corp\"","v":"US79466LAB09 Corp"},"SALESFORCE.COM INC",{"$f":"_xll.BDP(B68,$D$2)","v":"SALESFORCE.COM INC"},{"$f":"_xll.BDP(B68,$E$2)","v":0.75},{"$f":"_xll.BDP(B68,$F$2)","v":"15.01.2015"},{"$f":"_xll.BDP(B68,$G$2)","v":"#N/A Field Not Applicable"},{"$f":"_xll.BDP(B68,$H$2)","v":"#N/A Field Not Applicable"},"2013-03-05",null,-1,{"$f":"ROUND((T68*T$2+U68*U$2+S68*S$2+IF(P68=\"NR\",0,P68^2*SIGN(P68))+M68*M$2)/(L$2-IF(P68=\"NR\",0,P$2)-IF(S68,0,S$2)),0)","v":-1},-1,0,-2,-1,"2013-03-05",0,{"$f":"VLOOKUP(AX68,[1]Sheet1!$C$8:$D$23,2,FALSE)","v":1},{"$f":"MIN(ROUND(ABS(V68/AD68)*200,0),2)*SIGN(V68)","v":0},{"$f":"MIN(ROUND(ABS(X68),0),2)*IFERROR(SIGN(X68),0)","v":0},{"$f":"_xll.BDP(AC68 & \" Equity\",$V$3)","v":-0.1245235949754715},{"$f":"_xll.BDP(AC68 & \" Equity\",$W$3)","v":30.95035300438677},{"$f":"IFERROR(10*LN((100+Z68)/(100+$Z$1))+2*LN((100+$W$2)/(100+W68)),0)","v":-0.30826302325523414},{"$f":"_xll.BDP(AC68 & \" Equity\",$Y$2)","v":3.3207010000000001},{"$f":"_xll.BDP(AC68 & \" Equity\",$Z$2)","v":7.83575},{"$f":"_xll.BDP(AC68 & \" Equity\",$AA$2)","v":-3.4732780000000001},{"$f":"_xll.BDP(AC68 & \" Equity\",$AB$2)","v":"CRM US"},{"$f":"_xll.BDP(B68,$AC$2)","v":"EQ0108460500001000"},{"$f":"_xll.BDP(AC68 & \" Equity\",$AD$2)","v":56.81},60,55,{"$f":"_xll.BDP(B68,$AG$2)","v":"USD"},{"$f":"_xll.BDP(B68,$AH$2)","v":163850000},{"$f":"IFERROR(VLOOKUP(A68,'Fisch Holding'!$A$5:$C$1245,3,FALSE)/AH68,\"-\")","v":"-"},{"$f":"IFERROR(VLOOKUP(A68,'BM Weight'!$A$7:$D$1020,3,FALSE),\"-\")","v":"-"},{"$f":"IFERROR(VLOOKUP(A68,'BM Weight'!$A$7:$D$1020,4,FALSE),\"-    \")","v":"-    "},{"$f":"IFERROR(VLOOKUP(A68,'Implied Rating'!$B$7:$C$1179,2,FALSE),\"-\")","v":"A"},{"$f":"IFERROR(VLOOKUP(A68,'ICV Rating'!$B$5:$E$1306,2,FALSE),\"-\")","v":"BB+"},{"$f":"_xll.BDP(B68,$AN$2)","v":"#N/A N/A"},{"$f":"_xll.BDP(B68,$AO$2)","v":"#N/A N/A"},{"$f":"_xll.BDP(B68,$AP$2)","v":"NR"},{"$f":"_xll.BDP(B68,$AQ$2)","v":"N"},{"$f":"_xll.BDP(B68,$AR$2)","v":"Optionally"},{"$f":"_xll.BDP(B68,$AS$2)","v":"N"},{"$f":"_xll.BDP(B68,$AT$2)","v":"#N/A N/A"},{"$f":"_xll.BDP(B68,$AU$2)","v":"N"},{"$f":"_xll.BDP(B68,$AV$2)","v":"N"},{"$f":"_xll.BDP(B68,$AW$2)","v":"US"},{"$f":"_xll.BDP(AC68 & \" Equity\",$AX$2)","v":"Information Technology"},{"$f":"_xll.BDP(AC68 & \" Equity\",$AY$2)","v":"Software & Services"},{"$f":"_xll.BDP(AC68 & \" Equity\",$AZ$2)","v":"Software"},null,0,{"$f":"_xll.BDP(B68,$BC$2)","v":7.4619597799305644E-3},{"$f":"_xll.BDP(B68,$BD$2)","v":"#N/A N/A"},{"$f":"_xll.BDP(B68,$BE$2)","v":"#N/A N/A"},{"$f":"_xll.BDP(B68,$BF$2)","v":-22648.212},{"$f":"_xll.BDP(B68,$BG$2)","v":0.56990410762323673},{"$f":"_xll.BDP(B68,$BH$2)","v":4.2401776860363398},{"$f":"_xll.BDP(B68,$BI$2)","v":8.592896993221558},null,{"$f":"_xll.BDP(B68,$BK$2)","v":269.26490000000001},{"$f":"_xll.BDP(B68,$BL$2)","v":"#N/A Field Not Applicable"},{"$f":"_xll.BDP(B68,$BM$2)","v":"#N/A N/A"},{"$f":"_xll.BDP(B68,$BN$2)","v":"#N/A N/A"},{"$f":"_xll.BDP(B68,$BO$2)","v":0.74492152784265009},{"$f":"_xll.BDP(AC68 & \" Equity\",$BP$2)","v":"#N/A N/A"},{"$f":"_xll.BDP(AC68 & \" Equity\",$BQ$2)","v":"27.02.2015"},{"$f":"_xll.BDP(AC68 & \" Equity\",$BR$2)","v":30.876521887703547}]
["US80004CAF86",{"$f":"A69 & \" Corp\"","v":"US80004CAF86 Corp"},"SANDISK CORP",{"$f":"_xll.BDP(B69,$D$2)","v":"SANDISK CORP"},{"$f":"_xll.BDP(B69,$E$2)","v":0.5},{"$f":"_xll.BDP(B69,$F$2)","v":"15.10.2020"},{"$f":"_xll.BDP(B69,$G$2)","v":"#N/A Field Not Applicable"},{"$f":"_xll.BDP(B69,$H$2)","v":"#N/A Field Not Applicable"},"2015-01-15",null,0,{"$f":"ROUND((T69*T$2+U69*U$2+S69*S$2+IF(P69=\"NR\",0,P69^2*SIGN(P69))+M69*M$2)/(L$2-IF(P69=\"NR\",0,P$2)-IF(S69,0,S$2)),0)","v":-1},0,0,0,0,"2014-07-21",0,{"$f":"VLOOKUP(AX69,[1]Sheet1!$C$8:$D$23,2,FALSE)","v":1},{"$f":"MIN(ROUND(ABS(V69/AD69)*200,0),2)*SIGN(V69)","v":-2},{"$f":"MIN(ROUND(ABS(X69),0),2)*IFERROR(SIGN(X69),0)","v":-2},{"$f":"_xll.BDP(AC69 & \" Equity\",$V$3)","v":-2.1350805759429932},{"$f":"_xll.BDP(AC69 & \" Equity\",$W$3)","v":40.249941879135719},{"$f":"IFERROR(10*LN((100+Z69)/(100+$Z$1))+2*LN((100+$W$2)/(100+W69)),0)","v":-1.7318511691598759},{"$f":"_xll.BDP(AC69 & \" Equity\",$Y$2)","v":-18.028079999999999},{"$f":"_xll.BDP(AC69 & \" Equity\",$Z$2)","v":-5.1807930000000004},{"$f":"_xll.BDP(AC69 & \" Equity\",$AA$2)","v":-18.371099999999998},{"$f":"_xll.BDP(AC69 & \" Equity\",$AB$2)","v":"SNDK US"},{"$f":"_xll.BDP(B69,$AC$2)","v":"EQ0017093100001000"},{"$f":"_xll.BDP(AC69 & \" Equity\",$AD$2)","v":80.02},88,78,{"$f":"_xll.BDP(B69,$AG$2)","v":"USD"},{"$f":"_xll.BDP(B69,$AH$2)","v":1500000000},{"$f":"IFERROR(VLOOKUP(A69,'Fisch Holding'!$A$5:$C$1245,3,FALSE)/AH69,\"-\")","v":1.8466666666666666E-2},{"$f":"IFERROR(VLOOKUP(A69,'BM Weight'!$A$7:$D$1020,3,FALSE),\"-\")","v":1.44993421404},{"$f":"IFERROR(VLOOKUP(A69,'BM Weight'!$A$7:$D$1020,4,FALSE),\"-    \")","v":0},{"$f":"IFERROR(VLOOKUP(A69,'Implied Rating'!$B$7:$C$1179,2,FALSE),\"-\")","v":"A"},{"$f":"IFERROR(VLOOKUP(A69,'ICV Rating'!$B$5:$E$1306,2,FALSE),\"-\")","v":"BB-"},{"$f":"_xll.BDP(B69,$AN$2)","v":"NR"},{"$f":"_xll.BDP(B69,$AO$2)","v":"#N/A N/A"},{"$f":"_xll.BDP(B69,$AP$2)","v":"BB+"},{"$f":"_xll.BDP(B69,$AQ$2)","v":"N"},{"$f":"_xll.BDP(B69,$AR$2)","v":"Optionally"},{"$f":"_xll.BDP(B69,$AS$2)","v":"N"},{"$f":"_xll.BDP(B69,$AT$2)","v":"#N/A N/A"},{"$f":"_xll.BDP(B69,$AU$2)","v":"N"},{"$f":"_xll.BDP(B69,$AV$2)","v":"N"},{"$f":"_xll.BDP(B69,$AW$2)","v":"US"},{"$f":"_xll.BDP(AC69 & \" Equity\",$AX$2)","v":"Information Technology"},{"$f":"_xll.BDP(AC69 & \" Equity\",$AY$2)","v":"Technology Hardware & Equipmen"},{"$f":"_xll.BDP(AC69 & \" Equity\",$AZ$2)","v":"Technology Hardware, Storage &"},null,0,{"$f":"_xll.BDP(B69,$BC$2)","v":5.6840077140993968},{"$f":"_xll.BDP(B69,$BD$2)","v":2.8173703812315023},{"$f":"_xll.BDP(B69,$BE$2)","v":-262.74444694238935},{"$f":"_xll.BDP(B69,$BF$2)","v":-1.0049999999999999},{"$f":"_xll.BDP(B69,$BG$2)","v":-8.332066624065618},{"$f":"_xll.BDP(B69,$BH$2)","v":-9.0144664487196025},{"$f":"_xll.BDP(B69,$BI$2)","v":-0.49329005469769527},null,{"$f":"_xll.BDP(B69,$BK$2)","v":108.7555},{"$f":"_xll.BDP(B69,$BL$2)","v":"#N/A Field Not Applicable"},{"$f":"_xll.BDP(B69,$BM$2)","v":66.570197354287984},{"$f":"_xll.BDP(B69,$BN$2)","v":4.7934941825837924E-3},{"$f":"_xll.BDP(B69,$BO$2)","v":25.329310445944042},{"$f":"_xll.BDP(AC69 & \" Equity\",$BP$2)","v":1.500375153392993},{"$f":"_xll.BDP(AC69 & \" Equity\",$BQ$2)","v":"21.01.2015"},{"$f":"_xll.BDP(AC69 & \" Equity\",$BR$2)","v":39.13873481374219}]
["US80004CAD39",{"$f":"A70 & \" Corp\"","v":"US80004CAD39 Corp"},"SANDISK CORP",{"$f":"_xll.BDP(B70,$D$2)","v":"SANDISK CORP"},{"$f":"_xll.BDP(B70,$E$2)","v":1.5},{"$f":"_xll.BDP(B70,$F$2)","v":"15.08.2017"},{"$f":"_xll.BDP(B70,$G$2)","v":"#N/A Field Not Applicable"},{"$f":"_xll.BDP(B70,$H$2)","v":"#N/A Field Not Applicable"},"2014-10-07",null,-1,{"$f":"ROUND((T70*T$2+U70*U$2+S70*S$2+IF(P70=\"NR\",0,P70^2*SIGN(P70))+M70*M$2)/(L$2-IF(P70=\"NR\",0,P$2)-IF(S70,0,S$2)),0)","v":-1},-1,0,-1,0,"2014-07-21",0,{"$f":"VLOOKUP(AX70,[1]Sheet1!$C$8:$D$23,2,FALSE)","v":1},{"$f":"MIN(ROUND(ABS(V70/AD70)*200,0),2)*SIGN(V70)","v":-2},{"$f":"MIN(ROUND(ABS(X70),0),2)*IFERROR(SIGN(X70),0)","v":-2},{"$f":"_xll.BDP(AC70 & \" Equity\",$V$3)","v":-2.1350805759429932},{"$f":"_xll.BDP(AC70 & \" Equity\",$W$3)","v":40.249941879135719},{"$f":"IFERROR(10*LN((100+Z70)/(100+$Z$1))+2*LN((100+$W$2)/(100+W70)),0)","v":-1.7318511691598759},{"$f":"_xll.BDP(AC70 & \" Equity\",$Y$2)","v":-18.028079999999999},{"$f":"_xll.BDP(AC70 & \" Equity\",$Z$2)","v":-5.1807930000000004},{"$f":"_xll.BDP(AC70 & \" Equity\",$AA$2)","v":-18.371099999999998},{"$f":"_xll.BDP(AC70 & \" Equity\",$AB$2)","v":"SNDK US"},{"$f":"_xll.BDP(B70,$AC$2)","v":"EQ0017093100001000"},{"$f":"_xll.BDP(AC70 & \" Equity\",$AD$2)","v":80.02},88,78,{"$f":"_xll.BDP(B70,$AG$2)","v":"USD"},{"$f":"_xll.BDP(B70,$AH$2)","v":1000000000},{"$f":"IFERROR(VLOOKUP(A70,'Fisch Holding'!$A$5:$C$1245,3,FALSE)/AH70,\"-\")","v":"-"},{"$f":"IFERROR(VLOOKUP(A70,'BM Weight'!$A$7:$D$1020,3,FALSE),\"-\")","v":"-"},{"$f":"IFERROR(VLOOKUP(A70,'BM Weight'!$A$7:$D$1020,4,FALSE),\"-    \")","v":"-    "},{"$f":"IFERROR(VLOOKUP(A70,'Implied Rating'!$B$7:$C$1179,2,FALSE),\"-\")","v":"BB+"},{"$f":"IFERROR(VLOOKUP(A70,'ICV Rating'!$B$5:$E$1306,2,FALSE),\"-\")","v":"BB-"},{"$f":"_xll.BDP(B70,$AN$2)","v":"NR"},{"$f":"_xll.BDP(B70,$AO$2)","v":"#N/A N/A"},{"$f":"_xll.BDP(B70,$AP$2)","v":"BB+"},{"$f":"_xll.BDP(B70,$AQ$2)","v":"N"},{"$f":"_xll.BDP(B70,$AR$2)","v":"Optionally"},{"$f":"_xll.BDP(B70,$AS$2)","v":"N"},{"$f":"_xll.BDP(B70,$AT$2)","v":"N"},{"$f":"_xll.BDP(B70,$AU$2)","v":"N"},{"$f":"_xll.BDP(B70,$AV$2)","v":"N"},{"$f":"_xll.BDP(B70,$AW$2)","v":"US"},{"$f":"_xll.BDP(AC70 & \" Equity\",$AX$2)","v":"Information Technology"},{"$f":"_xll.BDP(AC70 & \" Equity\",$AY$2)","v":"Technology Hardware & Equipmen"},{"$f":"_xll.BDP(AC70 & \" Equity\",$AZ$2)","v":"Technology Hardware, Storage &"},null,0,{"$f":"_xll.BDP(B70,$BC$2)","v":2.7557603996691804},{"$f":"_xll.BDP(B70,$BD$2)","v":0.17693173280262534},{"$f":"_xll.BDP(B70,$BE$2)","v":-1757.6299243659896},{"$f":"_xll.BDP(B70,$BF$2)","v":-16.634},{"$f":"_xll.BDP(B70,$BG$2)","v":-13.289619728781155},{"$f":"_xll.BDP(B70,$BH$2)","v":-15.805677603323574},{"$f":"_xll.BDP(B70,$BI$2)","v":-4.4725927916352086},null,{"$f":"_xll.BDP(B70,$BK$2)","v":161.11080000000001},{"$f":"_xll.BDP(B70,$BL$2)","v":"#N/A Field Not Applicable"},{"$f":"_xll.BDP(B70,$BM$2)","v":95.061264118059711},{"$f":"_xll.BDP(B70,$BN$2)","v":1.7436381496244654E-3},{"$f":"_xll.BDP(B70,$BO$2)","v":3.5321751136235036},{"$f":"_xll.BDP(AC70 & \" Equity\",$BP$2)","v":1.500375153392993},{"$f":"_xll.BDP(AC70 & \" Equity\",$BQ$2)","v":"21.01.2015"},{"$f":"_xll.BDP(AC70 & \" Equity\",$BR$2)","v":39.13873481374219}]
["US81762PAB85",{"$f":"A71 & \" Corp\"","v":"US81762PAB85 Corp"},"SERVICENOW INC",{"$f":"_xll.BDP(B71,$D$2)","v":"SERVICENOW INC"},{"$f":"_xll.BDP(B71,$E$2)","v":0},{"$f":"_xll.BDP(B71,$F$2)","v":"01.11.2018"},{"$f":"_xll.BDP(B71,$G$2)","v":"#N/A Field Not Applicable"},{"$f":"_xll.BDP(B71,$H$2)","v":"#N/A Field Not Applicable"},"2015-01-08",null,1,{"$f":"ROUND((T71*T$2+U71*U$2+S71*S$2+IF(P71=\"NR\",0,P71^2*SIGN(P71))+M71*M$2)/(L$2-IF(P71=\"NR\",0,P$2)-IF(S71,0,S$2)),0)","v":1},1,0,0,-1,"2014-06-19",-1,{"$f":"VLOOKUP(AX71,[1]Sheet1!$C$8:$D$23,2,FALSE)","v":1},{"$f":"MIN(ROUND(ABS(V71/AD71)*200,0),2)*SIGN(V71)","v":-1},{"$f":"MIN(ROUND(ABS(X71),0),2)*IFERROR(SIGN(X71),0)","v":0},{"$f":"_xll.BDP(AC71 & \" Equity\",$V$3)","v":-0.26410704851150513},{"$f":"_xll.BDP(AC71 & \" Equity\",$W$3)","v":36.950544464787008},{"$f":"IFERROR(10*LN((100+Z71)/(100+$Z$1))+2*LN((100+$W$2)/(100+W71)),0)","v":0.29523031747595463},{"$f":"_xll.BDP(AC71 & \" Equity\",$Y$2)","v":4.5712510000000002},{"$f":"_xll.BDP(AC71 & \" Equity\",$Z$2)","v":15.574909999999999},{"$f":"_xll.BDP(AC71 & \" Equity\",$AA$2)","v":-2.225495},{"$f":"_xll.BDP(AC71 & \" Equity\",$AB$2)","v":"NOW US"},{"$f":"_xll.BDP(B71,$AC$2)","v":"EQ0000000008461599"},{"$f":"_xll.BDP(AC71 & \" Equity\",$AD$2)","v":65.430000000000007},69,64,{"$f":"_xll.BDP(B71,$AG$2)","v":"USD"},{"$f":"_xll.BDP(B71,$AH$2)","v":575000000},{"$f":"IFERROR(VLOOKUP(A71,'Fisch Holding'!$A$5:$C$1245,3,FALSE)/AH71,\"-\")","v":8.5217391304347832E-3},{"$f":"IFERROR(VLOOKUP(A71,'BM Weight'!$A$7:$D$1020,3,FALSE),\"-\")","v":0.57455867381600001},{"$f":"IFERROR(VLOOKUP(A71,'BM Weight'!$A$7:$D$1020,4,FALSE),\"-    \")","v":0},{"$f":"IFERROR(VLOOKUP(A71,'Implied Rating'!$B$7:$C$1179,2,FALSE),\"-\")","v":"BB+"},{"$f":"IFERROR(VLOOKUP(A71,'ICV Rating'!$B$5:$E$1306,2,FALSE),\"-\")","v":"CCC"},{"$f":"_xll.BDP(B71,$AN$2)","v":"#N/A N/A"},{"$f":"_xll.BDP(B71,$AO$2)","v":"#N/A N/A"},{"$f":"_xll.BDP(B71,$AP$2)","v":"#N/A N/A"},{"$f":"_xll.BDP(B71,$AQ$2)","v":"N"},{"$f":"_xll.BDP(B71,$AR$2)","v":"Optionally"},{"$f":"_xll.BDP(B71,$AS$2)","v":"N"},{"$f":"_xll.BDP(B71,$AT$2)","v":"#N/A N/A"},{"$f":"_xll.BDP(B71,$AU$2)","v":"N"},{"$f":"_xll.BDP(B71,$AV$2)","v":"N"},{"$f":"_xll.BDP(B71,$AW$2)","v":"US"},{"$f":"_xll.BDP(AC71 & \" Equity\",$AX$2)","v":"Information Technology"},{"$f":"_xll.BDP(AC71 & \" Equity\",$AY$2)","v":"Software & Services"},{"$f":"_xll.BDP(AC71 & \" Equity\",$AZ$2)","v":"Software"},null,0,{"$f":"_xll.BDP(B71,$BC$2)","v":3.8377489817055088},{"$f":"_xll.BDP(B71,$BD$2)","v":1.7357375811800546},{"$f":"_xll.BDP(B71,$BE$2)","v":-447.719104582407},{"$f":"_xll.BDP(B71,$BF$2)","v":-3.2029999999999998},{"$f":"_xll.BDP(B71,$BG$2)","v":-0.70735244523022234},{"$f":"_xll.BDP(B71,$BH$2)","v":2.5367850575142126},{"$f":"_xll.BDP(B71,$BI$2)","v":8.0405416893921995},null,{"$f":"_xll.BDP(B71,$BK$2)","v":112.6374},{"$f":"_xll.BDP(B71,$BL$2)","v":"#N/A Field Not Applicable"},{"$f":"_xll.BDP(B71,$BM$2)","v":70.454532691959784},{"$f":"_xll.BDP(B71,$BN$2)","v":4.1813066724325472E-3},{"$f":"_xll.BDP(B71,$BO$2)","v":25.809852701980784},{"$f":"_xll.BDP(AC71 & \" Equity\",$BP$2)","v":"#N/A N/A"},{"$f":"_xll.BDP(AC71 & \" Equity\",$BQ$2)","v":"28.01.2015"},{"$f":"_xll.BDP(AC71 & \" Equity\",$BR$2)","v":38.809078234646691}]
["US81763UAB61",{"$f":"A72 & \" Corp\"","v":"US81763UAB61 Corp"},"SERVICESOURCE INTL INC",{"$f":"_xll.BDP(B72,$D$2)","v":"SERVICESOURCE INTL INC"},{"$f":"_xll.BDP(B72,$E$2)","v":1.5},{"$f":"_xll.BDP(B72,$F$2)","v":"01.08.2018"},{"$f":"_xll.BDP(B72,$G$2)","v":"#N/A Field Not Applicable"},{"$f":"_xll.BDP(B72,$H$2)","v":"#N/A Field Not Applicable"},"2013-11-05","NE 8.13 - 150 Mio; Cloud",-1,{"$f":"ROUND((T72*T$2+U72*U$2+S72*S$2+IF(P72=\"NR\",0,P72^2*SIGN(P72))+M72*M$2)/(L$2-IF(P72=\"NR\",0,P$2)-IF(S72,0,S$2)),0)","v":0},-1,-1,-1,"NR","2013-11-05",-1,{"$f":"VLOOKUP(AX72,[1]Sheet1!$C$8:$D$23,2,FALSE)","v":1},{"$f":"MIN(ROUND(ABS(V72/AD72)*200,0),2)*SIGN(V72)","v":-2},{"$f":"MIN(ROUND(ABS(X72),0),2)*IFERROR(SIGN(X72),0)","v":1},{"$f":"_xll.BDP(AC72 & \" Equity\",$V$3)","v":-4.9257472157478333E-2},{"$f":"_xll.BDP(AC72 & \" Equity\",$W$3)","v":64.863996906691639},{"$f":"IFERROR(10*LN((100+Z72)/(100+$Z$1))+2*LN((100+$W$2)/(100+W72)),0)","v":1.0674968117177248},{"$f":"_xll.BDP(AC72 & \" Equity\",$Y$2)","v":8.1424920000000007},{"$f":"_xll.BDP(AC72 & \" Equity\",$Z$2)","v":29.573170000000001},{"$f":"_xll.BDP(AC72 & \" Equity\",$AA$2)","v":-9.1880310000000005},{"$f":"_xll.BDP(AC72 & \" Equity\",$AB$2)","v":"SREV US"},{"$f":"_xll.BDP(B72,$AC$2)","v":"EQ0000000015600300"},{"$f":"_xll.BDP(AC72 & \" Equity\",$AD$2)","v":4.25},4.5,3,{"$f":"_xll.BDP(B72,$AG$2)","v":"USD"},{"$f":"_xll.BDP(B72,$AH$2)","v":150000000},{"$f":"IFERROR(VLOOKUP(A72,'Fisch Holding'!$A$5:$C$1245,3,FALSE)/AH72,\"-\")","v":"-"},{"$f":"IFERROR(VLOOKUP(A72,'BM Weight'!$A$7:$D$1020,3,FALSE),\"-\")","v":"-"},{"$f":"IFERROR(VLOOKUP(A72,'BM Weight'!$A$7:$D$1020,4,FALSE),\"-    \")","v":"-    "},{"$f":"IFERROR(VLOOKUP(A72,'Implied Rating'!$B$7:$C$1179,2,FALSE),\"-\")","v":"B"},{"$f":"IFERROR(VLOOKUP(A72,'ICV Rating'!$B$5:$E$1306,2,FALSE),\"-\")","v":0},{"$f":"_xll.BDP(B72,$AN$2)","v":"#N/A N/A"},{"$f":"_xll.BDP(B72,$AO$2)","v":"#N/A N/A"},{"$f":"_xll.BDP(B72,$AP$2)","v":"#N/A N/A"},{"$f":"_xll.BDP(B72,$AQ$2)","v":"N"},{"$f":"_xll.BDP(B72,$AR$2)","v":"Optionally"},{"$f":"_xll.BDP(B72,$AS$2)","v":"N"},{"$f":"_xll.BDP(B72,$AT$2)","v":"#N/A N/A"},{"$f":"_xll.BDP(B72,$AU$2)","v":"N"},{"$f":"_xll.BDP(B72,$AV$2)","v":"N"},{"$f":"_xll.BDP(B72,$AW$2)","v":"US"},{"$f":"_xll.BDP(AC72 & \" Equity\",$AX$2)","v":"Information Technology"},{"$f":"_xll.BDP(AC72 & \" Equity\",$AY$2)","v":"Software & Services"},{"$f":"_xll.BDP(AC72 & \" Equity\",$AZ$2)","v":"IT Services"},null,0,{"$f":"_xll.BDP(B72,$BC$2)","v":3.2394272120343239},{"$f":"_xll.BDP(B72,$BD$2)","v":2.2171604980801858},{"$f":"_xll.BDP(B72,$BE$2)","v":855.95686662330309},{"$f":"_xll.BDP(B72,$BF$2)","v":9.7629999999999999},{"$f":"_xll.BDP(B72,$BG$2)","v":8.9193791301676151E-2},{"$f":"_xll.BDP(B72,$BH$2)","v":-1.4962835026951231},{"$f":"_xll.BDP(B72,$BI$2)","v":1.6241248547210934},null,{"$f":"_xll.BDP(B72,$BK$2)","v":75.129390000000001},{"$f":"_xll.BDP(B72,$BL$2)","v":"#N/A Field Not Applicable"},{"$f":"_xll.BDP(B72,$BM$2)","v":97.947627286018985},{"$f":"_xll.BDP(B72,$BN$2)","v":1.2215611349121648E-4},{"$f":"_xll.BDP(B72,$BO$2)","v":189.2831630439033},{"$f":"_xll.BDP(AC72 & \" Equity\",$BP$2)","v":"#N/A N/A"},{"$f":"_xll.BDP(AC72 & \" Equity\",$BQ$2)","v":"06.02.2015"},{"$f":"_xll.BDP(AC72 & \" Equity\",$BR$2)","v":64.045578187096723}]
["US84649PAL94",{"$f":"A73 & \" Corp\"","v":"US84649PAL94 Corp"},"SPANSION LLC",{"$f":"_xll.BDP(B73,$D$2)","v":"SPANSION LLC"},{"$f":"_xll.BDP(B73,$E$2)","v":2},{"$f":"_xll.BDP(B73,$F$2)","v":"01.09.2020"},{"$f":"_xll.BDP(B73,$G$2)","v":"#N/A Field Not Applicable"},{"$f":"_xll.BDP(B73,$H$2)","v":"#N/A Field Not Applicable"},"2014-12-04","NE 8.13 ; Flash Memories",0,{"$f":"ROUND((T73*T$2+U73*U$2+S73*S$2+IF(P73=\"NR\",0,P73^2*SIGN(P73))+M73*M$2)/(L$2-IF(P73=\"NR\",0,P$2)-IF(S73,0,S$2)),0)","v":0},-1,-1,-1,"NR","2014-06-03",-1,{"$f":"VLOOKUP(AX73,[1]Sheet1!$C$8:$D$23,2,FALSE)","v":1},{"$f":"MIN(ROUND(ABS(V73/AD73)*200,0),2)*SIGN(V73)","v":-2},{"$f":"MIN(ROUND(ABS(X73),0),2)*IFERROR(SIGN(X73),0)","v":2},{"$f":"_xll.BDP(AC73 & \" Equity\",$V$3)","v":-0.39832258224487305},{"$f":"_xll.BDP(AC73 & \" Equity\",$W$3)","v":70.829865894344167},{"$f":"IFERROR(10*LN((100+Z73)/(100+$Z$1))+2*LN((100+$W$2)/(100+W73)),0)","v":5.7702466628192273},{"$f":"_xll.BDP(AC73 & \" Equity\",$Y$2)","v":4.6875},{"$f":"_xll.BDP(AC73 & \" Equity\",$Z$2)","v":108.85290000000001},{"$f":"_xll.BDP(AC73 & \" Equity\",$AA$2)","v":-2.1040359999999998},{"$f":"_xll.BDP(AC73 & \" Equity\",$AB$2)","v":"CODE US"},{"$f":"_xll.BDP(B73,$AC$2)","v":"EQ0000000010287264"},{"$f":"_xll.BDP(AC73 & \" Equity\",$AD$2)","v":33.590000000000003},36,33,{"$f":"_xll.BDP(B73,$AG$2)","v":"USD"},{"$f":"_xll.BDP(B73,$AH$2)","v":150000000},{"$f":"IFERROR(VLOOKUP(A73,'Fisch Holding'!$A$5:$C$1245,3,FALSE)/AH73,\"-\")","v":"-"},{"$f":"IFERROR(VLOOKUP(A73,'BM Weight'!$A$7:$D$1020,3,FALSE),\"-\")","v":"-"},{"$f":"IFERROR(VLOOKUP(A73,'BM Weight'!$A$7:$D$1020,4,FALSE),\"-    \")","v":"-    "},{"$f":"IFERROR(VLOOKUP(A73,'Implied Rating'!$B$7:$C$1179,2,FALSE),\"-\")","v":"B-"},{"$f":"IFERROR(VLOOKUP(A73,'ICV Rating'!$B$5:$E$1306,2,FALSE),\"-\")","v":0},{"$f":"_xll.BDP(B73,$AN$2)","v":"#N/A N/A"},{"$f":"_xll.BDP(B73,$AO$2)","v":"B1"},{"$f":"_xll.BDP(B73,$AP$2)","v":"#N/A N/A"},{"$f":"_xll.BDP(B73,$AQ$2)","v":"N"},{"$f":"_xll.BDP(B73,$AR$2)","v":"Optionally"},{"$f":"_xll.BDP(B73,$AS$2)","v":"N"},{"$f":"_xll.BDP(B73,$AT$2)","v":"#N/A N/A"},{"$f":"_xll.BDP(B73,$AU$2)","v":"N"},{"$f":"_xll.BDP(B73,$AV$2)","v":"N"},{"$f":"_xll.BDP(B73,$AW$2)","v":"US"},{"$f":"_xll.BDP(AC73 & \" Equity\",$AX$2)","v":"Information Technology"},{"$f":"_xll.BDP(AC73 & \" Equity\",$AY$2)","v":"Semiconductors & Semiconductor"},{"$f":"_xll.BDP(AC73 & \" Equity\",$AZ$2)","v":"Semiconductors & Semiconductor"},null,0,{"$f":"_xll.BDP(B73,$BC$2)","v":5.8392467803695407},{"$f":"_xll.BDP(B73,$BD$2)","v":-7.2940203092304581E-3},{"$f":"_xll.BDP(B73,$BE$2)","v":-1555.2620753849001},{"$f":"_xll.BDP(B73,$BF$2)","v":-13.956},{"$f":"_xll.BDP(B73,$BG$2)","v":3.5211622977782873E-2},{"$f":"_xll.BDP(B73,$BH$2)","v":2.2060531808530826},{"$f":"_xll.BDP(B73,$BI$2)","v":84.364615427400736},null,{"$f":"_xll.BDP(B73,$BK$2)","v":242.773},{"$f":"_xll.BDP(B73,$BL$2)","v":"#N/A Field Not Applicable"},{"$f":"_xll.BDP(B73,$BM$2)","v":99.999999999991815},{"$f":"_xll.BDP(B73,$BN$2)","v":-5.6652820566769491E-16},{"$f":"_xll.BDP(B73,$BO$2)","v":0.67234351829168604},{"$f":"_xll.BDP(AC73 & \" Equity\",$BP$2)","v":"#N/A N/A"},{"$f":"_xll.BDP(AC73 & \" Equity\",$BQ$2)","v":"04.02.2015"},{"$f":"_xll.BDP(AC73 & \" Equity\",$BR$2)","v":70.472915763117086},null,"2014-02-10"]
["US86732YAB56",{"$f":"A74 & \" Corp\"","v":"US86732YAB56 Corp"},"SUNEDISON INC",{"$f":"_xll.BDP(B74,$D$2)","v":"SUNEDISON INC"},{"$f":"_xll.BDP(B74,$E$2)","v":2.75},{"$f":"_xll.BDP(B74,$F$2)","v":"01.01.2021"},{"$f":"_xll.BDP(B74,$G$2)","v":"#N/A Field Not Applicable"},{"$f":"_xll.BDP(B74,$H$2)","v":"#N/A Field Not Applicable"},"2014-10-07","NE Dez. 13; USD 600 Mio, B; Solar + Semic. ",0,{"$f":"ROUND((T74*T$2+U74*U$2+S74*S$2+IF(P74=\"NR\",0,P74^2*SIGN(P74))+M74*M$2)/(L$2-IF(P74=\"NR\",0,P$2)-IF(S74,0,S$2)),0)","v":0},-1,-1,-2,-1,"2014-06-19",-1,{"$f":"VLOOKUP(AX74,[1]Sheet1!$C$8:$D$23,2,FALSE)","v":1},{"$f":"MIN(ROUND(ABS(V74/AD74)*200,0),2)*SIGN(V74)","v":2},{"$f":"MIN(ROUND(ABS(X74),0),2)*IFERROR(SIGN(X74),0)","v":2},{"$f":"_xll.BDP(AC74 & \" Equity\",$V$3)","v":0.19978025555610657},{"$f":"_xll.BDP(AC74 & \" Equity\",$W$3)","v":71.660979529512517},{"$f":"IFERROR(10*LN((100+Z74)/(100+$Z$1))+2*LN((100+$W$2)/(100+W74)),0)","v":1.6350785638418304},{"$f":"_xll.BDP(AC74 & \" Equity\",$Y$2)","v":16.05556},{"$f":"_xll.BDP(AC74 & \" Equity\",$Z$2)","v":38.25282},{"$f":"_xll.BDP(AC74 & \" Equity\",$AA$2)","v":7.0732939999999997},{"$f":"_xll.BDP(AC74 & \" Equity\",$AB$2)","v":"SUNE US"},{"$f":"_xll.BDP(B74,$AC$2)","v":"EQ0017059400001000"},{"$f":"_xll.BDP(AC74 & \" Equity\",$AD$2)","v":20.295000000000002},21,19,{"$f":"_xll.BDP(B74,$AG$2)","v":"USD"},{"$f":"_xll.BDP(B74,$AH$2)","v":600000000},{"$f":"IFERROR(VLOOKUP(A74,'Fisch Holding'!$A$5:$C$1245,3,FALSE)/AH74,\"-\")","v":"-"},{"$f":"IFERROR(VLOOKUP(A74,'BM Weight'!$A$7:$D$1020,3,FALSE),\"-\")","v":"-"},{"$f":"IFERROR(VLOOKUP(A74,'BM Weight'!$A$7:$D$1020,4,FALSE),\"-    \")","v":"-    "},{"$f":"IFERROR(VLOOKUP(A74,'Implied Rating'!$B$7:$C$1179,2,FALSE),\"-\")","v":"BB-"},{"$f":"IFERROR(VLOOKUP(A74,'ICV Rating'!$B$5:$E$1306,2,FALSE),\"-\")","v":"CCC"},{"$f":"_xll.BDP(B74,$AN$2)","v":"#N/A N/A"},{"$f":"_xll.BDP(B74,$AO$2)","v":"#N/A N/A"},{"$f":"_xll.BDP(B74,$AP$2)","v":"NR"},{"$f":"_xll.BDP(B74,$AQ$2)","v":"N"},{"$f":"_xll.BDP(B74,$AR$2)","v":"Optionally"},{"$f":"_xll.BDP(B74,$AS$2)","v":"N"},{"$f":"_xll.BDP(B74,$AT$2)","v":"#N/A N/A"},{"$f":"_xll.BDP(B74,$AU$2)","v":"N"},{"$f":"_xll.BDP(B74,$AV$2)","v":"N"},{"$f":"_xll.BDP(B74,$AW$2)","v":"US"},{"$f":"_xll.BDP(AC74 & \" Equity\",$AX$2)","v":"Information Technology"},{"$f":"_xll.BDP(AC74 & \" Equity\",$AY$2)","v":"Semiconductors & Semiconductor"},{"$f":"_xll.BDP(AC74 & \" Equity\",$AZ$2)","v":"Semiconductors & Semiconductor"},null,0,{"$f":"_xll.BDP(B74,$BC$2)","v":5.77784630235774},{"$f":"_xll.BDP(B74,$BD$2)","v":0.63495897138159152},{"$f":"_xll.BDP(B74,$BE$2)","v":-705.43854842561427},{"$f":"_xll.BDP(B74,$BF$2)","v":-5.42},{"$f":"_xll.BDP(B74,$BG$2)","v":11.508085418888541},{"$f":"_xll.BDP(B74,$BH$2)","v":11.340740421076344},{"$f":"_xll.BDP(B74,$BI$2)","v":26.983658988137684},null,{"$f":"_xll.BDP(B74,$BK$2)","v":158.10290000000001},{"$f":"_xll.BDP(B74,$BL$2)","v":"#N/A Field Not Applicable"},{"$f":"_xll.BDP(B74,$BM$2)","v":95.202799230452882},{"$f":"_xll.BDP(B74,$BN$2)","v":8.2199650875425202E-4},{"$f":"_xll.BDP(B74,$BO$2)","v":10.770430818899577},{"$f":"_xll.BDP(AC74 & \" Equity\",$BP$2)","v":"#N/A N/A"},{"$f":"_xll.BDP(AC74 & \" Equity\",$BQ$2)","v":"19.02.2015"},{"$f":"_xll.BDP(AC74 & \" Equity\",$BR$2)","v":70.694203103641769},null,"2014-02-24"]
["US86732YAE95",{"$f":"A75 & \" Corp\"","v":"US86732YAE95 Corp"},"SUNEDISON INC",{"$f":"_xll.BDP(B75,$D$2)","v":"SUNEDISON INC"},{"$f":"_xll.BDP(B75,$E$2)","v":0.25},{"$f":"_xll.BDP(B75,$F$2)","v":"15.01.2020"},{"$f":"_xll.BDP(B75,$G$2)","v":"#N/A Field Not Applicable"},{"$f":"_xll.BDP(B75,$H$2)","v":"#N/A Field Not Applicable"},"2015-01-15","NE Dez. 13; USD 600 Mio, B; Solar + Semic. ",0,{"$f":"ROUND((T75*T$2+U75*U$2+S75*S$2+IF(P75=\"NR\",0,P75^2*SIGN(P75))+M75*M$2)/(L$2-IF(P75=\"NR\",0,P$2)-IF(S75,0,S$2)),0)","v":1},1,-1,-1,-1,"2014-08-05",-1,{"$f":"VLOOKUP(AX75,[1]Sheet1!$C$8:$D$23,2,FALSE)","v":1},{"$f":"MIN(ROUND(ABS(V75/AD75)*200,0),2)*SIGN(V75)","v":2},{"$f":"MIN(ROUND(ABS(X75),0),2)*IFERROR(SIGN(X75),0)","v":2},{"$f":"_xll.BDP(AC75 & \" Equity\",$V$3)","v":0.19978025555610657},{"$f":"_xll.BDP(AC75 & \" Equity\",$W$3)","v":71.660979529512517},{"$f":"IFERROR(10*LN((100+Z75)/(100+$Z$1))+2*LN((100+$W$2)/(100+W75)),0)","v":1.6350785638418304},{"$f":"_xll.BDP(AC75 & \" Equity\",$Y$2)","v":16.05556},{"$f":"_xll.BDP(AC75 & \" Equity\",$Z$2)","v":38.25282},{"$f":"_xll.BDP(AC75 & \" Equity\",$AA$2)","v":7.0732939999999997},{"$f":"_xll.BDP(AC75 & \" Equity\",$AB$2)","v":"SUNE US"},{"$f":"_xll.BDP(B75,$AC$2)","v":"EQ0017059400001000"},{"$f":"_xll.BDP(AC75 & \" Equity\",$AD$2)","v":20.295000000000002},21,19,{"$f":"_xll.BDP(B75,$AG$2)","v":"USD"},{"$f":"_xll.BDP(B75,$AH$2)","v":600000000},{"$f":"IFERROR(VLOOKUP(A75,'Fisch Holding'!$A$5:$C$1245,3,FALSE)/AH75,\"-\")","v":1.4999999999999999E-2},{"$f":"IFERROR(VLOOKUP(A75,'BM Weight'!$A$7:$D$1020,3,FALSE),\"-\")","v":0.53963854871600003},{"$f":"IFERROR(VLOOKUP(A75,'BM Weight'!$A$7:$D$1020,4,FALSE),\"-    \")","v":0},{"$f":"IFERROR(VLOOKUP(A75,'Implied Rating'!$B$7:$C$1179,2,FALSE),\"-\")","v":"B"},{"$f":"IFERROR(VLOOKUP(A75,'ICV Rating'!$B$5:$E$1306,2,FALSE),\"-\")","v":"CCC"},{"$f":"_xll.BDP(B75,$AN$2)","v":"#N/A N/A"},{"$f":"_xll.BDP(B75,$AO$2)","v":"#N/A N/A"},{"$f":"_xll.BDP(B75,$AP$2)","v":"NR"},{"$f":"_xll.BDP(B75,$AQ$2)","v":"N"},{"$f":"_xll.BDP(B75,$AR$2)","v":"Optionally"},{"$f":"_xll.BDP(B75,$AS$2)","v":"N"},{"$f":"_xll.BDP(B75,$AT$2)","v":"N"},{"$f":"_xll.BDP(B75,$AU$2)","v":"N"},{"$f":"_xll.BDP(B75,$AV$2)","v":"N"},{"$f":"_xll.BDP(B75,$AW$2)","v":"US"},{"$f":"_xll.BDP(AC75 & \" Equity\",$AX$2)","v":"Information Technology"},{"$f":"_xll.BDP(AC75 & \" Equity\",$AY$2)","v":"Semiconductors & Semiconductor"},{"$f":"_xll.BDP(AC75 & \" Equity\",$AZ$2)","v":"Semiconductors & Semiconductor"},null,0,{"$f":"_xll.BDP(B75,$BC$2)","v":4.9515833532812836},{"$f":"_xll.BDP(B75,$BD$2)","v":2.0033108686728056},{"$f":"_xll.BDP(B75,$BE$2)","v":-139.59459000587671},{"$f":"_xll.BDP(B75,$BF$2)","v":0.11600000000000001},{"$f":"_xll.BDP(B75,$BG$2)","v":7.0136842655277896},{"$f":"_xll.BDP(B75,$BH$2)","v":6.3502296017172428},{"$f":"_xll.BDP(B75,$BI$2)","v":16.691637296274585},null,{"$f":"_xll.BDP(B75,$BK$2)","v":100.4714},{"$f":"_xll.BDP(B75,$BL$2)","v":"#N/A Field Not Applicable"},{"$f":"_xll.BDP(B75,$BM$2)","v":75.971955473729665},{"$f":"_xll.BDP(B75,$BN$2)","v":3.2844657524075333E-3},{"$f":"_xll.BDP(B75,$BO$2)","v":29.490325872629025},{"$f":"_xll.BDP(AC75 & \" Equity\",$BP$2)","v":"#N/A N/A"},{"$f":"_xll.BDP(AC75 & \" Equity\",$BQ$2)","v":"19.02.2015"},{"$f":"_xll.BDP(AC75 & \" Equity\",$BR$2)","v":70.694203103641769},null,"2014-02-24"]
["US86732YAA73",{"$f":"A76 & \" Corp\"","v":"US86732YAA73 Corp"},"SUNEDISON INC",{"$f":"_xll.BDP(B76,$D$2)","v":"SUNEDISON INC"},{"$f":"_xll.BDP(B76,$E$2)","v":2},{"$f":"_xll.BDP(B76,$F$2)","v":"01.10.2018"},{"$f":"_xll.BDP(B76,$G$2)","v":"#N/A Field Not Applicable"},{"$f":"_xll.BDP(B76,$H$2)","v":"#N/A Field Not Applicable"},"2014-10-07","NE Dez. 13; USD 600 Mio, B; Solar + Semic. ",0,{"$f":"ROUND((T76*T$2+U76*U$2+S76*S$2+IF(P76=\"NR\",0,P76^2*SIGN(P76))+M76*M$2)/(L$2-IF(P76=\"NR\",0,P$2)-IF(S76,0,S$2)),0)","v":0},-1,-1,-1,-1,"2014-06-19",-1,{"$f":"VLOOKUP(AX76,[1]Sheet1!$C$8:$D$23,2,FALSE)","v":1},{"$f":"MIN(ROUND(ABS(V76/AD76)*200,0),2)*SIGN(V76)","v":2},{"$f":"MIN(ROUND(ABS(X76),0),2)*IFERROR(SIGN(X76),0)","v":2},{"$f":"_xll.BDP(AC76 & \" Equity\",$V$3)","v":0.19978025555610657},{"$f":"_xll.BDP(AC76 & \" Equity\",$W$3)","v":71.660979529512517},{"$f":"IFERROR(10*LN((100+Z76)/(100+$Z$1))+2*LN((100+$W$2)/(100+W76)),0)","v":1.6350785638418304},{"$f":"_xll.BDP(AC76 & \" Equity\",$Y$2)","v":16.05556},{"$f":"_xll.BDP(AC76 & \" Equity\",$Z$2)","v":38.25282},{"$f":"_xll.BDP(AC76 & \" Equity\",$AA$2)","v":7.0732939999999997},{"$f":"_xll.BDP(AC76 & \" Equity\",$AB$2)","v":"SUNE US"},{"$f":"_xll.BDP(B76,$AC$2)","v":"EQ0017059400001000"},{"$f":"_xll.BDP(AC76 & \" Equity\",$AD$2)","v":20.295000000000002},21,19,{"$f":"_xll.BDP(B76,$AG$2)","v":"USD"},{"$f":"_xll.BDP(B76,$AH$2)","v":600000000},{"$f":"IFERROR(VLOOKUP(A76,'Fisch Holding'!$A$5:$C$1245,3,FALSE)/AH76,\"-\")","v":"-"},{"$f":"IFERROR(VLOOKUP(A76,'BM Weight'!$A$7:$D$1020,3,FALSE),\"-\")","v":"-"},{"$f":"IFERROR(VLOOKUP(A76,'BM Weight'!$A$7:$D$1020,4,FALSE),\"-    \")","v":"-    "},{"$f":"IFERROR(VLOOKUP(A76,'Implied Rating'!$B$7:$C$1179,2,FALSE),\"-\")","v":"BB"},{"$f":"IFERROR(VLOOKUP(A76,'ICV Rating'!$B$5:$E$1306,2,FALSE),\"-\")","v":"CCC"},{"$f":"_xll.BDP(B76,$AN$2)","v":"#N/A N/A"},{"$f":"_xll.BDP(B76,$AO$2)","v":"#N/A N/A"},{"$f":"_xll.BDP(B76,$AP$2)","v":"NR"},{"$f":"_xll.BDP(B76,$AQ$2)","v":"N"},{"$f":"_xll.BDP(B76,$AR$2)","v":"Optionally"},{"$f":"_xll.BDP(B76,$AS$2)","v":"N"},{"$f":"_xll.BDP(B76,$AT$2)","v":"#N/A N/A"},{"$f":"_xll.BDP(B76,$AU$2)","v":"N"},{"$f":"_xll.BDP(B76,$AV$2)","v":"N"},{"$f":"_xll.BDP(B76,$AW$2)","v":"US"},{"$f":"_xll.BDP(AC76 & \" Equity\",$AX$2)","v":"Information Technology"},{"$f":"_xll.BDP(AC76 & \" Equity\",$AY$2)","v":"Semiconductors & Semiconductor"},{"$f":"_xll.BDP(AC76 & \" Equity\",$AZ$2)","v":"Semiconductors & Semiconductor"},null,0,{"$f":"_xll.BDP(B76,$BC$2)","v":3.7797253230629222},{"$f":"_xll.BDP(B76,$BD$2)","v":0.4819297185984231},{"$f":"_xll.BDP(B76,$BE$2)","v":-1123.0324144645174},{"$f":"_xll.BDP(B76,$BF$2)","v":-9.9870000000000001},{"$f":"_xll.BDP(B76,$BG$2)","v":11.259811234720907},{"$f":"_xll.BDP(B76,$BH$2)","v":10.808101318357954},{"$f":"_xll.BDP(B76,$BI$2)","v":25.588542320425372},null,{"$f":"_xll.BDP(B76,$BK$2)","v":154.80959999999999},{"$f":"_xll.BDP(B76,$BL$2)","v":"#N/A Field Not Applicable"},{"$f":"_xll.BDP(B76,$BM$2)","v":92.740849455700996},{"$f":"_xll.BDP(B76,$BN$2)","v":1.3685896482969215E-3},{"$f":"_xll.BDP(B76,$BO$2)","v":8.6688518938010848},{"$f":"_xll.BDP(AC76 & \" Equity\",$BP$2)","v":"#N/A N/A"},{"$f":"_xll.BDP(AC76 & \" Equity\",$BQ$2)","v":"19.02.2015"},{"$f":"_xll.BDP(AC76 & \" Equity\",$BR$2)","v":70.694203103641769},null,"2014-02-24"]
["US867652AG47",{"$f":"A77 & \" Corp\"","v":"US867652AG47 Corp"},"SUNPOWER CORP",{"$f":"_xll.BDP(B77,$D$2)","v":"SUNPOWER CORP"},{"$f":"_xll.BDP(B77,$E$2)","v":0.75},{"$f":"_xll.BDP(B77,$F$2)","v":"01.06.2018"},{"$f":"_xll.BDP(B77,$G$2)","v":"#N/A Field Not Applicable"},{"$f":"_xll.BDP(B77,$H$2)","v":"#N/A Field Not Applicable"},"2014-10-07","NE Mai 13 - 200 von 300 Mio fest platziert",0,{"$f":"ROUND((T77*T$2+U77*U$2+S77*S$2+IF(P77=\"NR\",0,P77^2*SIGN(P77))+M77*M$2)/(L$2-IF(P77=\"NR\",0,P$2)-IF(S77,0,S$2)),0)","v":-1},-1,-1,-1,1,"2014-06-19",-1,{"$f":"VLOOKUP(AX77,[1]Sheet1!$C$8:$D$23,2,FALSE)","v":1},{"$f":"MIN(ROUND(ABS(V77/AD77)*200,0),2)*SIGN(V77)","v":2},{"$f":"MIN(ROUND(ABS(X77),0),2)*IFERROR(SIGN(X77),0)","v":-2},{"$f":"_xll.BDP(AC77 & \" Equity\",$V$3)","v":0.29825466871261597},{"$f":"_xll.BDP(AC77 & \" Equity\",$W$3)","v":48.073138060495637},{"$f":"IFERROR(10*LN((100+Z77)/(100+$Z$1))+2*LN((100+$W$2)/(100+W77)),0)","v":-1.8568342707675054},{"$f":"_xll.BDP(AC77 & \" Equity\",$Y$2)","v":15.541700000000001},{"$f":"_xll.BDP(AC77 & \" Equity\",$Z$2)","v":-5.3363839999999998},{"$f":"_xll.BDP(AC77 & \" Equity\",$AA$2)","v":4.0456839999999996},{"$f":"_xll.BDP(AC77 & \" Equity\",$AB$2)","v":"SPWR US"},{"$f":"_xll.BDP(B77,$AC$2)","v":"EQ0000000001457310"},{"$f":"_xll.BDP(AC77 & \" Equity\",$AD$2)","v":26.22},27,24,{"$f":"_xll.BDP(B77,$AG$2)","v":"USD"},{"$f":"_xll.BDP(B77,$AH$2)","v":300000000},{"$f":"IFERROR(VLOOKUP(A77,'Fisch Holding'!$A$5:$C$1245,3,FALSE)/AH77,\"-\")","v":"-"},{"$f":"IFERROR(VLOOKUP(A77,'BM Weight'!$A$7:$D$1020,3,FALSE),\"-\")","v":"-"},{"$f":"IFERROR(VLOOKUP(A77,'BM Weight'!$A$7:$D$1020,4,FALSE),\"-    \")","v":"-    "},{"$f":"IFERROR(VLOOKUP(A77,'Implied Rating'!$B$7:$C$1179,2,FALSE),\"-\")","v":"BB"},{"$f":"IFERROR(VLOOKUP(A77,'ICV Rating'!$B$5:$E$1306,2,FALSE),\"-\")","v":"BBB-"},{"$f":"_xll.BDP(B77,$AN$2)","v":"#N/A N/A"},{"$f":"_xll.BDP(B77,$AO$2)","v":"#N/A N/A"},{"$f":"_xll.BDP(B77,$AP$2)","v":"#N/A N/A"},{"$f":"_xll.BDP(B77,$AQ$2)","v":"N"},{"$f":"_xll.BDP(B77,$AR$2)","v":"Optionally"},{"$f":"_xll.BDP(B77,$AS$2)","v":"N"},{"$f":"_xll.BDP(B77,$AT$2)","v":"N"},{"$f":"_xll.BDP(B77,$AU$2)","v":"N"},{"$f":"_xll.BDP(B77,$AV$2)","v":"N"},{"$f":"_xll.BDP(B77,$AW$2)","v":"FR"},{"$f":"_xll.BDP(AC77 & \" Equity\",$AX$2)","v":"Information Technology"},{"$f":"_xll.BDP(AC77 & \" Equity\",$AY$2)","v":"Semiconductors & Semiconductor"},{"$f":"_xll.BDP(AC77 & \" Equity\",$AZ$2)","v":"Semiconductors & Semiconductor"},null,0,{"$f":"_xll.BDP(B77,$BC$2)","v":3.4319583953722437},{"$f":"_xll.BDP(B77,$BD$2)","v":1.0001813423310886},{"$f":"_xll.BDP(B77,$BE$2)","v":-727.87921590858377},{"$f":"_xll.BDP(B77,$BF$2)","v":-6.1079999999999997},{"$f":"_xll.BDP(B77,$BG$2)","v":7.6574160884233562},{"$f":"_xll.BDP(B77,$BH$2)","v":9.1870867490095094},{"$f":"_xll.BDP(B77,$BI$2)","v":-3.3227007736543661},null,{"$f":"_xll.BDP(B77,$BK$2)","v":125.95529999999999},{"$f":"_xll.BDP(B77,$BL$2)","v":"#N/A Field Not Applicable"},{"$f":"_xll.BDP(B77,$BM$2)","v":81.449650618652242},{"$f":"_xll.BDP(B77,$BN$2)","v":2.9731420488013495E-3},{"$f":"_xll.BDP(B77,$BO$2)","v":16.984336374985322},{"$f":"_xll.BDP(AC77 & \" Equity\",$BP$2)","v":"#N/A N/A"},{"$f":"_xll.BDP(AC77 & \" Equity\",$BQ$2)","v":"12.02.2015"},{"$f":"_xll.BDP(AC77 & \" Equity\",$BR$2)","v":48.826904281615832}]
["US867652AE98",{"$f":"A78 & \" Corp\"","v":"US867652AE98 Corp"},"SUNPOWER CORP",{"$f":"_xll.BDP(B78,$D$2)","v":"SUNPOWER CORP"},{"$f":"_xll.BDP(B78,$E$2)","v":4.5},{"$f":"_xll.BDP(B78,$F$2)","v":"15.03.2015"},{"$f":"_xll.BDP(B78,$G$2)","v":"#N/A Field Not Applicable"},{"$f":"_xll.BDP(B78,$H$2)","v":"#N/A Field Not Applicable"},"2014-06-19"," USD 250 Mio; I-CV Sept. 13; BBB-",0,{"$f":"ROUND((T78*T$2+U78*U$2+S78*S$2+IF(P78=\"NR\",0,P78^2*SIGN(P78))+M78*M$2)/(L$2-IF(P78=\"NR\",0,P$2)-IF(S78,0,S$2)),0)","v":-1},-1,-1,-1,1,"2014-06-19",-1,{"$f":"VLOOKUP(AX78,[1]Sheet1!$C$8:$D$23,2,FALSE)","v":1},{"$f":"MIN(ROUND(ABS(V78/AD78)*200,0),2)*SIGN(V78)","v":2},{"$f":"MIN(ROUND(ABS(X78),0),2)*IFERROR(SIGN(X78),0)","v":-2},{"$f":"_xll.BDP(AC78 & \" Equity\",$V$3)","v":0.29825466871261597},{"$f":"_xll.BDP(AC78 & \" Equity\",$W$3)","v":48.073138060495637},{"$f":"IFERROR(10*LN((100+Z78)/(100+$Z$1))+2*LN((100+$W$2)/(100+W78)),0)","v":-1.8568342707675054},{"$f":"_xll.BDP(AC78 & \" Equity\",$Y$2)","v":15.541700000000001},{"$f":"_xll.BDP(AC78 & \" Equity\",$Z$2)","v":-5.3363839999999998},{"$f":"_xll.BDP(AC78 & \" Equity\",$AA$2)","v":4.0456839999999996},{"$f":"_xll.BDP(AC78 & \" Equity\",$AB$2)","v":"SPWR US"},{"$f":"_xll.BDP(B78,$AC$2)","v":"EQ0000000001457310"},{"$f":"_xll.BDP(AC78 & \" Equity\",$AD$2)","v":26.22},27,24,{"$f":"_xll.BDP(B78,$AG$2)","v":"USD"},{"$f":"_xll.BDP(B78,$AH$2)","v":250000000},{"$f":"IFERROR(VLOOKUP(A78,'Fisch Holding'!$A$5:$C$1245,3,FALSE)/AH78,\"-\")","v":"-"},{"$f":"IFERROR(VLOOKUP(A78,'BM Weight'!$A$7:$D$1020,3,FALSE),\"-\")","v":"-"},{"$f":"IFERROR(VLOOKUP(A78,'BM Weight'!$A$7:$D$1020,4,FALSE),\"-    \")","v":"-    "},{"$f":"IFERROR(VLOOKUP(A78,'Implied Rating'!$B$7:$C$1179,2,FALSE),\"-\")","v":"-"},{"$f":"IFERROR(VLOOKUP(A78,'ICV Rating'!$B$5:$E$1306,2,FALSE),\"-\")","v":"-"},{"$f":"_xll.BDP(B78,$AN$2)","v":"#N/A N/A"},{"$f":"_xll.BDP(B78,$AO$2)","v":"#N/A N/A"},{"$f":"_xll.BDP(B78,$AP$2)","v":"#N/A N/A"},{"$f":"_xll.BDP(B78,$AQ$2)","v":"N"},{"$f":"_xll.BDP(B78,$AR$2)","v":"Optionally"},{"$f":"_xll.BDP(B78,$AS$2)","v":"N"},{"$f":"_xll.BDP(B78,$AT$2)","v":"Y"},{"$f":"_xll.BDP(B78,$AU$2)","v":"N"},{"$f":"_xll.BDP(B78,$AV$2)","v":"N"},{"$f":"_xll.BDP(B78,$AW$2)","v":"FR"},{"$f":"_xll.BDP(AC78 & \" Equity\",$AX$2)","v":"Information Technology"},{"$f":"_xll.BDP(AC78 & \" Equity\",$AY$2)","v":"Semiconductors & Semiconductor"},{"$f":"_xll.BDP(AC78 & \" Equity\",$AZ$2)","v":"Semiconductors & Semiconductor"},null,0,{"$f":"_xll.BDP(B78,$BC$2)","v":0.17806210274600368},{"$f":"_xll.BDP(B78,$BD$2)","v":-8.9054138300468204E-3},{"$f":"_xll.BDP(B78,$BE$2)","v":-8762.1885610761965},{"$f":"_xll.BDP(B78,$BF$2)","v":-105.499},{"$f":"_xll.BDP(B78,$BG$2)","v":8.6026222890990898},{"$f":"_xll.BDP(B78,$BH$2)","v":8.7048083245387744},{"$f":"_xll.BDP(B78,$BI$2)","v":-6.3336563275380229},null,{"$f":"_xll.BDP(B78,$BK$2)","v":119.8039},{"$f":"_xll.BDP(B78,$BL$2)","v":"#N/A Field Not Applicable"},{"$f":"_xll.BDP(B78,$BM$2)","v":96.914101377461606},{"$f":"_xll.BDP(B78,$BN$2)","v":3.6849148373567699E-3},{"$f":"_xll.BDP(B78,$BO$2)","v":0.51347924273482382},{"$f":"_xll.BDP(AC78 & \" Equity\",$BP$2)","v":"#N/A N/A"},{"$f":"_xll.BDP(AC78 & \" Equity\",$BQ$2)","v":"12.02.2015"},{"$f":"_xll.BDP(AC78 & \" Equity\",$BR$2)","v":48.826904281615832}]
["US867652AH20",{"$f":"A79 & \" Corp\"","v":"US867652AH20 Corp"},"SUNPOWER CORP",{"$f":"_xll.BDP(B79,$D$2)","v":"SUNPOWER CORP"},{"$f":"_xll.BDP(B79,$E$2)","v":0.875},{"$f":"_xll.BDP(B79,$F$2)","v":"01.06.2021"},{"$f":"_xll.BDP(B79,$G$2)","v":"#N/A Field Not Applicable"},{"$f":"_xll.BDP(B79,$H$2)","v":"#N/A Field Not Applicable"},"2015-01-15"," NE Juni 14;Total 60%-Stake; I-CV Sept. 13",0,{"$f":"ROUND((T79*T$2+U79*U$2+S79*S$2+IF(P79=\"NR\",0,P79^2*SIGN(P79))+M79*M$2)/(L$2-IF(P79=\"NR\",0,P$2)-IF(S79,0,S$2)),0)","v":-1},-1,-1,-1,1,"2014-08-05",-1,{"$f":"VLOOKUP(AX79,[1]Sheet1!$C$8:$D$23,2,FALSE)","v":1},{"$f":"MIN(ROUND(ABS(V79/AD79)*200,0),2)*SIGN(V79)","v":2},{"$f":"MIN(ROUND(ABS(X79),0),2)*IFERROR(SIGN(X79),0)","v":-2},{"$f":"_xll.BDP(AC79 & \" Equity\",$V$3)","v":0.29825466871261597},{"$f":"_xll.BDP(AC79 & \" Equity\",$W$3)","v":48.073138060495637},{"$f":"IFERROR(10*LN((100+Z79)/(100+$Z$1))+2*LN((100+$W$2)/(100+W79)),0)","v":-1.8568342707675054},{"$f":"_xll.BDP(AC79 & \" Equity\",$Y$2)","v":15.541700000000001},{"$f":"_xll.BDP(AC79 & \" Equity\",$Z$2)","v":-5.3363839999999998},{"$f":"_xll.BDP(AC79 & \" Equity\",$AA$2)","v":4.0456839999999996},{"$f":"_xll.BDP(AC79 & \" Equity\",$AB$2)","v":"SPWR US"},{"$f":"_xll.BDP(B79,$AC$2)","v":"EQ0000000001457310"},{"$f":"_xll.BDP(AC79 & \" Equity\",$AD$2)","v":26.22},27,24,{"$f":"_xll.BDP(B79,$AG$2)","v":"USD"},{"$f":"_xll.BDP(B79,$AH$2)","v":400000000},{"$f":"IFERROR(VLOOKUP(A79,'Fisch Holding'!$A$5:$C$1245,3,FALSE)/AH79,\"-\")","v":9.4750000000000008E-3},{"$f":"IFERROR(VLOOKUP(A79,'BM Weight'!$A$7:$D$1020,3,FALSE),\"-\")","v":"-"},{"$f":"IFERROR(VLOOKUP(A79,'BM Weight'!$A$7:$D$1020,4,FALSE),\"-    \")","v":"-    "},{"$f":"IFERROR(VLOOKUP(A79,'Implied Rating'!$B$7:$C$1179,2,FALSE),\"-\")","v":"BB"},{"$f":"IFERROR(VLOOKUP(A79,'ICV Rating'!$B$5:$E$1306,2,FALSE),\"-\")","v":"BBB-"},{"$f":"_xll.BDP(B79,$AN$2)","v":"#N/A N/A"},{"$f":"_xll.BDP(B79,$AO$2)","v":"#N/A N/A"},{"$f":"_xll.BDP(B79,$AP$2)","v":"#N/A N/A"},{"$f":"_xll.BDP(B79,$AQ$2)","v":"N"},{"$f":"_xll.BDP(B79,$AR$2)","v":"Optionally"},{"$f":"_xll.BDP(B79,$AS$2)","v":"N"},{"$f":"_xll.BDP(B79,$AT$2)","v":"N"},{"$f":"_xll.BDP(B79,$AU$2)","v":"N"},{"$f":"_xll.BDP(B79,$AV$2)","v":"N"},{"$f":"_xll.BDP(B79,$AW$2)","v":"FR"},{"$f":"_xll.BDP(AC79 & \" Equity\",$AX$2)","v":"Information Technology"},{"$f":"_xll.BDP(AC79 & \" Equity\",$AY$2)","v":"Semiconductors & Semiconductor"},{"$f":"_xll.BDP(AC79 & \" Equity\",$AZ$2)","v":"Semiconductors & Semiconductor"},null,0,{"$f":"_xll.BDP(B79,$BC$2)","v":6.1099492515196703},{"$f":"_xll.BDP(B79,$BD$2)","v":3.6542676563979537},{"$f":"_xll.BDP(B79,$BE$2)","v":65.933208607014791},{"$f":"_xll.BDP(B79,$BF$2)","v":2.359},{"$f":"_xll.BDP(B79,$BG$2)","v":3.5148543243833377},{"$f":"_xll.BDP(B79,$BH$2)","v":3.9012048860031818},{"$f":"_xll.BDP(B79,$BI$2)","v":-9.887148064711349},null,{"$f":"_xll.BDP(B79,$BK$2)","v":91.031999999999996},{"$f":"_xll.BDP(B79,$BL$2)","v":"#N/A Field Not Applicable"},{"$f":"_xll.BDP(B79,$BM$2)","v":64.49557518951346},{"$f":"_xll.BDP(B79,$BN$2)","v":3.9707222975260094E-3},{"$f":"_xll.BDP(B79,$BO$2)","v":65.627491692327069},{"$f":"_xll.BDP(AC79 & \" Equity\",$BP$2)","v":"#N/A N/A"},{"$f":"_xll.BDP(AC79 & \" Equity\",$BQ$2)","v":"12.02.2015"},{"$f":"_xll.BDP(AC79 & \" Equity\",$BR$2)","v":48.826904281615832}]
["US87157BAA17",{"$f":"A80 & \" Corp\"","v":"US87157BAA17 Corp"},"Synchronoss Techn.",{"$f":"_xll.BDP(B80,$D$2)","v":"SYNCHRONOSS TECHNOLOGIES"},{"$f":"_xll.BDP(B80,$E$2)","v":0.75},{"$f":"_xll.BDP(B80,$F$2)","v":"15.08.2019"},{"$f":"_xll.BDP(B80,$G$2)","v":"#N/A Field Not Applicable"},{"$f":"_xll.BDP(B80,$H$2)","v":"#N/A Field Not Applicable"},"2014-11-20",null,0,{"$f":"ROUND((T80*T$2+U80*U$2+S80*S$2+IF(P80=\"NR\",0,P80^2*SIGN(P80))+M80*M$2)/(L$2-IF(P80=\"NR\",0,P$2)-IF(S80,0,S$2)),0)","v":0},1,-1,0,"NR","2014-08-11",-1,{"$f":"VLOOKUP(AX80,[1]Sheet1!$C$8:$D$23,2,FALSE)","v":1},{"$f":"MIN(ROUND(ABS(V80/AD80)*200,0),2)*SIGN(V80)","v":0},{"$f":"MIN(ROUND(ABS(X80),0),2)*IFERROR(SIGN(X80),0)","v":-2},{"$f":"_xll.BDP(AC80 & \" Equity\",$V$3)","v":4.2323768138885498E-2},{"$f":"_xll.BDP(AC80 & \" Equity\",$W$3)","v":48.64526152700158},{"$f":"IFERROR(10*LN((100+Z80)/(100+$Z$1))+2*LN((100+$W$2)/(100+W80)),0)","v":-2.0643802188774663},{"$f":"_xll.BDP(AC80 & \" Equity\",$Y$2)","v":-0.29985119999999998},{"$f":"_xll.BDP(AC80 & \" Equity\",$Z$2)","v":-7.2093020000000001},{"$f":"_xll.BDP(AC80 & \" Equity\",$AA$2)","v":-4.6822759999999999},{"$f":"_xll.BDP(AC80 & \" Equity\",$AB$2)","v":"SNCR US"},{"$f":"_xll.BDP(B80,$AC$2)","v":"EQ0000000002347187"},{"$f":"_xll.BDP(AC80 & \" Equity\",$AD$2)","v":39.594999999999999},43,37,{"$f":"_xll.BDP(B80,$AG$2)","v":"USD"},{"$f":"_xll.BDP(B80,$AH$2)","v":230000000},{"$f":"IFERROR(VLOOKUP(A80,'Fisch Holding'!$A$5:$C$1245,3,FALSE)/AH80,\"-\")","v":"-"},{"$f":"IFERROR(VLOOKUP(A80,'BM Weight'!$A$7:$D$1020,3,FALSE),\"-\")","v":"-"},{"$f":"IFERROR(VLOOKUP(A80,'BM Weight'!$A$7:$D$1020,4,FALSE),\"-    \")","v":"-    "},{"$f":"IFERROR(VLOOKUP(A80,'Implied Rating'!$B$7:$C$1179,2,FALSE),\"-\")","v":"BB"},{"$f":"IFERROR(VLOOKUP(A80,'ICV Rating'!$B$5:$E$1306,2,FALSE),\"-\")","v":0},{"$f":"_xll.BDP(B80,$AN$2)","v":"#N/A N/A"},{"$f":"_xll.BDP(B80,$AO$2)","v":"#N/A N/A"},{"$f":"_xll.BDP(B80,$AP$2)","v":"#N/A N/A"},{"$f":"_xll.BDP(B80,$AQ$2)","v":"N"},{"$f":"_xll.BDP(B80,$AR$2)","v":"Optionally"},{"$f":"_xll.BDP(B80,$AS$2)","v":"N"},{"$f":"_xll.BDP(B80,$AT$2)","v":"N"},{"$f":"_xll.BDP(B80,$AU$2)","v":"N"},{"$f":"_xll.BDP(B80,$AV$2)","v":"N"},{"$f":"_xll.BDP(B80,$AW$2)","v":"US"},{"$f":"_xll.BDP(AC80 & \" Equity\",$AX$2)","v":"Information Technology"},{"$f":"_xll.BDP(AC80 & \" Equity\",$AY$2)","v":"Software & Services"},{"$f":"_xll.BDP(AC80 & \" Equity\",$AZ$2)","v":"Software"},null,0,{"$f":"_xll.BDP(B80,$BC$2)","v":4.4850486009544621},{"$f":"_xll.BDP(B80,$BD$2)","v":2.2687942984024319},{"$f":"_xll.BDP(B80,$BE$2)","v":-146.55094579580032},{"$f":"_xll.BDP(B80,$BF$2)","v":-3.7999999999999999E-2},{"$f":"_xll.BDP(B80,$BG$2)","v":2.1401518008979057},{"$f":"_xll.BDP(B80,$BH$2)","v":0.50125323141865119},{"$f":"_xll.BDP(B80,$BI$2)","v":-2.6326901621144581},null,{"$f":"_xll.BDP(B80,$BK$2)","v":103.42019999999999},{"$f":"_xll.BDP(B80,$BL$2)","v":"#N/A Field Not Applicable"},{"$f":"_xll.BDP(B80,$BM$2)","v":70.969043299916663},{"$f":"_xll.BDP(B80,$BN$2)","v":3.4750954195973908E-3},{"$f":"_xll.BDP(B80,$BO$2)","v":38.059689450281844},{"$f":"_xll.BDP(AC80 & \" Equity\",$BP$2)","v":"#N/A N/A"},{"$f":"_xll.BDP(AC80 & \" Equity\",$BQ$2)","v":"05.02.2015"},{"$f":"_xll.BDP(AC80 & \" Equity\",$BR$2)","v":43.919005255108715}]
["US874054AD16",{"$f":"A81 & \" Corp\"","v":"US874054AD16 Corp"},"TAKE-TWO INTERACTIVE SOF",{"$f":"_xll.BDP(B81,$D$2)","v":"TAKE-TWO INTERACTIVE SOF"},{"$f":"_xll.BDP(B81,$E$2)","v":1},{"$f":"_xll.BDP(B81,$F$2)","v":"01.07.2018"},{"$f":"_xll.BDP(B81,$G$2)","v":"#N/A Field Not Applicable"},{"$f":"_xll.BDP(B81,$H$2)","v":"#N/A Field Not Applicable"},"2014-11-06",null,1,{"$f":"ROUND((T81*T$2+U81*U$2+S81*S$2+IF(P81=\"NR\",0,P81^2*SIGN(P81))+M81*M$2)/(L$2-IF(P81=\"NR\",0,P$2)-IF(S81,0,S$2)),0)","v":1},0,0,0,0,"2014-06-30",-1,{"$f":"VLOOKUP(AX81,[1]Sheet1!$C$8:$D$23,2,FALSE)","v":1},{"$f":"MIN(ROUND(ABS(V81/AD81)*200,0),2)*SIGN(V81)","v":-1},{"$f":"MIN(ROUND(ABS(X81),0),2)*IFERROR(SIGN(X81),0)","v":2},{"$f":"_xll.BDP(AC81 & \" Equity\",$V$3)","v":-0.13797169923782349},{"$f":"_xll.BDP(AC81 & \" Equity\",$W$3)","v":37.858087786220302},{"$f":"IFERROR(10*LN((100+Z81)/(100+$Z$1))+2*LN((100+$W$2)/(100+W81)),0)","v":1.5639774407807661},{"$f":"_xll.BDP(AC81 & \" Equity\",$Y$2)","v":-0.9957355},{"$f":"_xll.BDP(AC81 & \" Equity\",$Z$2)","v":31.382719999999999},{"$f":"_xll.BDP(AC81 & \" Equity\",$AA$2)","v":-0.67784759999999999},{"$f":"_xll.BDP(AC81 & \" Equity\",$AB$2)","v":"TTWO US"},{"$f":"_xll.BDP(B81,$AC$2)","v":"EQ0022517100001000"},{"$f":"_xll.BDP(AC81 & \" Equity\",$AD$2)","v":27.58},29,25,{"$f":"_xll.BDP(B81,$AG$2)","v":"USD"},{"$f":"_xll.BDP(B81,$AH$2)","v":287500000},{"$f":"IFERROR(VLOOKUP(A81,'Fisch Holding'!$A$5:$C$1245,3,FALSE)/AH81,\"-\")","v":1.0434782608695651E-3},{"$f":"IFERROR(VLOOKUP(A81,'BM Weight'!$A$7:$D$1020,3,FALSE),\"-\")","v":"-"},{"$f":"IFERROR(VLOOKUP(A81,'BM Weight'!$A$7:$D$1020,4,FALSE),\"-    \")","v":"-    "},{"$f":"IFERROR(VLOOKUP(A81,'Implied Rating'!$B$7:$C$1179,2,FALSE),\"-\")","v":"BB+"},{"$f":"IFERROR(VLOOKUP(A81,'ICV Rating'!$B$5:$E$1306,2,FALSE),\"-\")","v":"B+"},{"$f":"_xll.BDP(B81,$AN$2)","v":"#N/A N/A"},{"$f":"_xll.BDP(B81,$AO$2)","v":"#N/A N/A"},{"$f":"_xll.BDP(B81,$AP$2)","v":"#N/A N/A"},{"$f":"_xll.BDP(B81,$AQ$2)","v":"N"},{"$f":"_xll.BDP(B81,$AR$2)","v":"Optionally"},{"$f":"_xll.BDP(B81,$AS$2)","v":"N"},{"$f":"_xll.BDP(B81,$AT$2)","v":"N"},{"$f":"_xll.BDP(B81,$AU$2)","v":"N"},{"$f":"_xll.BDP(B81,$AV$2)","v":"N"},{"$f":"_xll.BDP(B81,$AW$2)","v":"US"},{"$f":"_xll.BDP(AC81 & \" Equity\",$AX$2)","v":"Information Technology"},{"$f":"_xll.BDP(AC81 & \" Equity\",$AY$2)","v":"Software & Services"},{"$f":"_xll.BDP(AC81 & \" Equity\",$AZ$2)","v":"Software"},null,0,{"$f":"_xll.BDP(B81,$BC$2)","v":3.5570543110574779},{"$f":"_xll.BDP(B81,$BD$2)","v":0.63212259412943772},{"$f":"_xll.BDP(B81,$BE$2)","v":-997.97068026704676},{"$f":"_xll.BDP(B81,$BF$2)","v":-8.7910000000000004},{"$f":"_xll.BDP(B81,$BG$2)","v":-0.66642696662309975},{"$f":"_xll.BDP(B81,$BH$2)","v":-0.7340746695132373},{"$f":"_xll.BDP(B81,$BI$2)","v":20.401488955886677},null,{"$f":"_xll.BDP(B81,$BK$2)","v":139.96549999999999},{"$f":"_xll.BDP(B81,$BL$2)","v":"#N/A Field Not Applicable"},{"$f":"_xll.BDP(B81,$BM$2)","v":87.766636510932258},{"$f":"_xll.BDP(B81,$BN$2)","v":2.769854926943685E-3},{"$f":"_xll.BDP(B81,$BO$2)","v":8.5384160639703346},{"$f":"_xll.BDP(AC81 & \" Equity\",$BP$2)","v":"#N/A N/A"},{"$f":"_xll.BDP(AC81 & \" Equity\",$BQ$2)","v":"03.02.2015"},{"$f":"_xll.BDP(AC81 & \" Equity\",$BR$2)","v":35.558809645369379},null,"2014-02-03"]
["US874054AC33",{"$f":"A82 & \" Corp\"","v":"US874054AC33 Corp"},"TAKE-TWO INTERACTIVE SOF",{"$f":"_xll.BDP(B82,$D$2)","v":"TAKE-TWO INTERACTIVE SOF"},{"$f":"_xll.BDP(B82,$E$2)","v":1.75},{"$f":"_xll.BDP(B82,$F$2)","v":"01.12.2016"},{"$f":"_xll.BDP(B82,$G$2)","v":"#N/A Field Not Applicable"},{"$f":"_xll.BDP(B82,$H$2)","v":"#N/A Field Not Applicable"},"2014-02-03",null,-1,{"$f":"ROUND((T82*T$2+U82*U$2+S82*S$2+IF(P82=\"NR\",0,P82^2*SIGN(P82))+M82*M$2)/(L$2-IF(P82=\"NR\",0,P$2)-IF(S82,0,S$2)),0)","v":1},0,0,0,0,"2014-02-03",-1,{"$f":"VLOOKUP(AX82,[1]Sheet1!$C$8:$D$23,2,FALSE)","v":1},{"$f":"MIN(ROUND(ABS(V82/AD82)*200,0),2)*SIGN(V82)","v":-1},{"$f":"MIN(ROUND(ABS(X82),0),2)*IFERROR(SIGN(X82),0)","v":2},{"$f":"_xll.BDP(AC82 & \" Equity\",$V$3)","v":-0.13797169923782349},{"$f":"_xll.BDP(AC82 & \" Equity\",$W$3)","v":37.858087786220302},{"$f":"IFERROR(10*LN((100+Z82)/(100+$Z$1))+2*LN((100+$W$2)/(100+W82)),0)","v":1.5639774407807661},{"$f":"_xll.BDP(AC82 & \" Equity\",$Y$2)","v":-0.9957355},{"$f":"_xll.BDP(AC82 & \" Equity\",$Z$2)","v":31.382719999999999},{"$f":"_xll.BDP(AC82 & \" Equity\",$AA$2)","v":-0.67784759999999999},{"$f":"_xll.BDP(AC82 & \" Equity\",$AB$2)","v":"TTWO US"},{"$f":"_xll.BDP(B82,$AC$2)","v":"EQ0022517100001000"},{"$f":"_xll.BDP(AC82 & \" Equity\",$AD$2)","v":27.58},29,25,{"$f":"_xll.BDP(B82,$AG$2)","v":"USD"},{"$f":"_xll.BDP(B82,$AH$2)","v":250000000},{"$f":"IFERROR(VLOOKUP(A82,'Fisch Holding'!$A$5:$C$1245,3,FALSE)/AH82,\"-\")","v":"-"},{"$f":"IFERROR(VLOOKUP(A82,'BM Weight'!$A$7:$D$1020,3,FALSE),\"-\")","v":"-"},{"$f":"IFERROR(VLOOKUP(A82,'BM Weight'!$A$7:$D$1020,4,FALSE),\"-    \")","v":"-    "},{"$f":"IFERROR(VLOOKUP(A82,'Implied Rating'!$B$7:$C$1179,2,FALSE),\"-\")","v":"BB-"},{"$f":"IFERROR(VLOOKUP(A82,'ICV Rating'!$B$5:$E$1306,2,FALSE),\"-\")","v":"B+"},{"$f":"_xll.BDP(B82,$AN$2)","v":"#N/A N/A"},{"$f":"_xll.BDP(B82,$AO$2)","v":"#N/A N/A"},{"$f":"_xll.BDP(B82,$AP$2)","v":"#N/A N/A"},{"$f":"_xll.BDP(B82,$AQ$2)","v":"N"},{"$f":"_xll.BDP(B82,$AR$2)","v":"Optionally"},{"$f":"_xll.BDP(B82,$AS$2)","v":"N"},{"$f":"_xll.BDP(B82,$AT$2)","v":"Y"},{"$f":"_xll.BDP(B82,$AU$2)","v":"N"},{"$f":"_xll.BDP(B82,$AV$2)","v":"N"},{"$f":"_xll.BDP(B82,$AW$2)","v":"US"},{"$f":"_xll.BDP(AC82 & \" Equity\",$AX$2)","v":"Information Technology"},{"$f":"_xll.BDP(AC82 & \" Equity\",$AY$2)","v":"Software & Services"},{"$f":"_xll.BDP(AC82 & \" Equity\",$AZ$2)","v":"Software"},null,0,{"$f":"_xll.BDP(B82,$BC$2)","v":2.0419688590645184},{"$f":"_xll.BDP(B82,$BD$2)","v":0.16806770320736009},{"$f":"_xll.BDP(B82,$BE$2)","v":-2049.0780477165576},{"$f":"_xll.BDP(B82,$BF$2)","v":-19.792000000000002},{"$f":"_xll.BDP(B82,$BG$2)","v":-0.69407828071308864},{"$f":"_xll.BDP(B82,$BH$2)","v":-0.96079072910177832},{"$f":"_xll.BDP(B82,$BI$2)","v":22.032280439437855},null,{"$f":"_xll.BDP(B82,$BK$2)","v":151.2363},{"$f":"_xll.BDP(B82,$BL$2)","v":"#N/A Field Not Applicable"},{"$f":"_xll.BDP(B82,$BM$2)","v":93.198794521882434},{"$f":"_xll.BDP(B82,$BN$2)","v":2.353324985677896E-3},{"$f":"_xll.BDP(B82,$BO$2)","v":3.9595138161588608},{"$f":"_xll.BDP(AC82 & \" Equity\",$BP$2)","v":"#N/A N/A"},{"$f":"_xll.BDP(AC82 & \" Equity\",$BQ$2)","v":"03.02.2015"},{"$f":"_xll.BDP(AC82 & \" Equity\",$BR$2)","v":35.558809645369379},null,"2014-02-03"]
["US87929JAC71",{"$f":"A83 & \" Corp\"","v":"US87929JAC71 Corp"},"TELECOMMUNICATION SYSTEM",{"$f":"_xll.BDP(B83,$D$2)","v":"TELECOMMUNICATION SYSTEM"},{"$f":"_xll.BDP(B83,$E$2)","v":7.75},{"$f":"_xll.BDP(B83,$F$2)","v":"30.06.2018"},{"$f":"_xll.BDP(B83,$G$2)","v":"#N/A Field Not Applicable"},{"$f":"_xll.BDP(B83,$H$2)","v":"17.02.2015"},"2012-06-25","nur 50 Mio ausstehend",-1,{"$f":"ROUND((T83*T$2+U83*U$2+S83*S$2+IF(P83=\"NR\",0,P83^2*SIGN(P83))+M83*M$2)/(L$2-IF(P83=\"NR\",0,P$2)-IF(S83,0,S$2)),0)","v":-1},-1,-1,-2,"NR","2012-06-25",-2,{"$f":"VLOOKUP(AX83,[1]Sheet1!$C$8:$D$23,2,FALSE)","v":1},{"$f":"MIN(ROUND(ABS(V83/AD83)*200,0),2)*SIGN(V83)","v":-1},{"$f":"MIN(ROUND(ABS(X83),0),2)*IFERROR(SIGN(X83),0)","v":-1},{"$f":"_xll.BDP(AC83 & \" Equity\",$V$3)","v":-1.9849736243486404E-2},{"$f":"_xll.BDP(AC83 & \" Equity\",$W$3)","v":43.755323222425403},{"$f":"IFERROR(10*LN((100+Z83)/(100+$Z$1))+2*LN((100+$W$2)/(100+W83)),0)","v":-1.1470270947585728},{"$f":"_xll.BDP(AC83 & \" Equity\",$Y$2)","v":-4.530742},{"$f":"_xll.BDP(AC83 & \" Equity\",$Z$2)","v":1.0273950000000001},{"$f":"_xll.BDP(AC83 & \" Equity\",$AA$2)","v":-5.4487139999999998},{"$f":"_xll.BDP(AC83 & \" Equity\",$AB$2)","v":"TSYS US"},{"$f":"_xll.BDP(B83,$AC$2)","v":"EQ0117980700001000"},{"$f":"_xll.BDP(AC83 & \" Equity\",$AD$2)","v":2.97},4,2,{"$f":"_xll.BDP(B83,$AG$2)","v":"USD"},{"$f":"_xll.BDP(B83,$AH$2)","v":50000000},{"$f":"IFERROR(VLOOKUP(A83,'Fisch Holding'!$A$5:$C$1245,3,FALSE)/AH83,\"-\")","v":"-"},{"$f":"IFERROR(VLOOKUP(A83,'BM Weight'!$A$7:$D$1020,3,FALSE),\"-\")","v":"-"},{"$f":"IFERROR(VLOOKUP(A83,'BM Weight'!$A$7:$D$1020,4,FALSE),\"-    \")","v":"-    "},{"$f":"IFERROR(VLOOKUP(A83,'Implied Rating'!$B$7:$C$1179,2,FALSE),\"-\")","v":"-"},{"$f":"IFERROR(VLOOKUP(A83,'ICV Rating'!$B$5:$E$1306,2,FALSE),\"-\")","v":"-"},{"$f":"_xll.BDP(B83,$AN$2)","v":"#N/A N/A"},{"$f":"_xll.BDP(B83,$AO$2)","v":"#N/A N/A"},{"$f":"_xll.BDP(B83,$AP$2)","v":"#N/A N/A"},{"$f":"_xll.BDP(B83,$AQ$2)","v":"N"},{"$f":"_xll.BDP(B83,$AR$2)","v":"Optionally"},{"$f":"_xll.BDP(B83,$AS$2)","v":"N"},{"$f":"_xll.BDP(B83,$AT$2)","v":"#N/A N/A"},{"$f":"_xll.BDP(B83,$AU$2)","v":"N"},{"$f":"_xll.BDP(B83,$AV$2)","v":"Y"},{"$f":"_xll.BDP(B83,$AW$2)","v":"US"},{"$f":"_xll.BDP(AC83 & \" Equity\",$AX$2)","v":"Information Technology"},{"$f":"_xll.BDP(AC83 & \" Equity\",$AY$2)","v":"Software & Services"},{"$f":"_xll.BDP(AC83 & \" Equity\",$AZ$2)","v":"Software"},null,0,{"$f":"_xll.BDP(B83,$BC$2)","v":2.9344511527228105},{"$f":"_xll.BDP(B83,$BD$2)","v":2.7579992170121859},{"$f":"_xll.BDP(B83,$BE$2)","v":762.16481539089568},{"$f":"_xll.BDP(B83,$BF$2)","v":8.7680000000000007},{"$f":"_xll.BDP(B83,$BG$2)","v":-0.14880206915366012},{"$f":"_xll.BDP(B83,$BH$2)","v":3.1413028852259917},{"$f":"_xll.BDP(B83,$BI$2)","v":2.3131564591832814},null,{"$f":"_xll.BDP(B83,$BK$2)","v":96.531720000000007},{"$f":"_xll.BDP(B83,$BL$2)","v":"#N/A Field Not Applicable"},{"$f":"_xll.BDP(B83,$BM$2)","v":7.1482246799481048},{"$f":"_xll.BDP(B83,$BN$2)","v":7.7629642267268591E-4},{"$f":"_xll.BDP(B83,$BO$2)","v":240.3335474787938},{"$f":"_xll.BDP(AC83 & \" Equity\",$BP$2)","v":"#N/A N/A"},{"$f":"_xll.BDP(AC83 & \" Equity\",$BQ$2)","v":"27.01.2015"},{"$f":"_xll.BDP(AC83 & \" Equity\",$BR$2)","v":43.50207790805073}]
["US888706AD00",{"$f":"A84 & \" Corp\"","v":"US888706AD00 Corp"},"TIVO INC",{"$f":"_xll.BDP(B84,$D$2)","v":"TIVO INC"},{"$f":"_xll.BDP(B84,$E$2)","v":4},{"$f":"_xll.BDP(B84,$F$2)","v":"15.03.2016"},{"$f":"_xll.BDP(B84,$G$2)","v":"#N/A Field Not Applicable"},{"$f":"_xll.BDP(B84,$H$2)","v":"#N/A Field Not Applicable"},"2014-07-07","USD 172 Mio",0,{"$f":"ROUND((T84*T$2+U84*U$2+S84*S$2+IF(P84=\"NR\",0,P84^2*SIGN(P84))+M84*M$2)/(L$2-IF(P84=\"NR\",0,P$2)-IF(S84,0,S$2)),0)","v":-1},-1,0,0,"NR","2014-07-07",-2,{"$f":"VLOOKUP(AX84,[1]Sheet1!$C$8:$D$23,2,FALSE)","v":1},{"$f":"MIN(ROUND(ABS(V84/AD84)*200,0),2)*SIGN(V84)","v":-2},{"$f":"MIN(ROUND(ABS(X84),0),2)*IFERROR(SIGN(X84),0)","v":-2},{"$f":"_xll.BDP(AC84 & \" Equity\",$V$3)","v":-9.7174346446990967E-2},{"$f":"_xll.BDP(AC84 & \" Equity\",$W$3)","v":26.54552899294324},{"$f":"IFERROR(10*LN((100+Z84)/(100+$Z$1))+2*LN((100+$W$2)/(100+W84)),0)","v":-2.6196482492011128},{"$f":"_xll.BDP(AC84 & \" Equity\",$Y$2)","v":-11.90277},{"$f":"_xll.BDP(AC84 & \" Equity\",$Z$2)","v":-15.00202},{"$f":"_xll.BDP(AC84 & \" Equity\",$AA$2)","v":-11.23311},{"$f":"_xll.BDP(AC84 & \" Equity\",$AB$2)","v":"TIVO US"},{"$f":"_xll.BDP(B84,$AC$2)","v":"EQ0035828000001000"},{"$f":"_xll.BDP(AC84 & \" Equity\",$AD$2)","v":10.5},13,10,{"$f":"_xll.BDP(B84,$AG$2)","v":"USD"},{"$f":"_xll.BDP(B84,$AH$2)","v":172500000},{"$f":"IFERROR(VLOOKUP(A84,'Fisch Holding'!$A$5:$C$1245,3,FALSE)/AH84,\"-\")","v":"-"},{"$f":"IFERROR(VLOOKUP(A84,'BM Weight'!$A$7:$D$1020,3,FALSE),\"-\")","v":"-"},{"$f":"IFERROR(VLOOKUP(A84,'BM Weight'!$A$7:$D$1020,4,FALSE),\"-    \")","v":"-    "},{"$f":"IFERROR(VLOOKUP(A84,'Implied Rating'!$B$7:$C$1179,2,FALSE),\"-\")","v":"B-"},{"$f":"IFERROR(VLOOKUP(A84,'ICV Rating'!$B$5:$E$1306,2,FALSE),\"-\")","v":0},{"$f":"_xll.BDP(B84,$AN$2)","v":"#N/A N/A"},{"$f":"_xll.BDP(B84,$AO$2)","v":"#N/A N/A"},{"$f":"_xll.BDP(B84,$AP$2)","v":"#N/A N/A"},{"$f":"_xll.BDP(B84,$AQ$2)","v":"N"},{"$f":"_xll.BDP(B84,$AR$2)","v":"Optionally"},{"$f":"_xll.BDP(B84,$AS$2)","v":"N"},{"$f":"_xll.BDP(B84,$AT$2)","v":"#N/A N/A"},{"$f":"_xll.BDP(B84,$AU$2)","v":"N"},{"$f":"_xll.BDP(B84,$AV$2)","v":"N"},{"$f":"_xll.BDP(B84,$AW$2)","v":"US"},{"$f":"_xll.BDP(AC84 & \" Equity\",$AX$2)","v":"Information Technology"},{"$f":"_xll.BDP(AC84 & \" Equity\",$AY$2)","v":"Software & Services"},{"$f":"_xll.BDP(AC84 & \" Equity\",$AZ$2)","v":"Software"},null,0,{"$f":"_xll.BDP(B84,$BC$2)","v":1.1565827486976157},{"$f":"_xll.BDP(B84,$BD$2)","v":0.57165409561445979},{"$f":"_xll.BDP(B84,$BE$2)","v":-665.28297371144845},{"$f":"_xll.BDP(B84,$BF$2)","v":-6.2130000000000001},{"$f":"_xll.BDP(B84,$BG$2)","v":-1.8173427728177367},{"$f":"_xll.BDP(B84,$BH$2)","v":-6.6172055633325177},{"$f":"_xll.BDP(B84,$BI$2)","v":-9.6899787376765243},null,{"$f":"_xll.BDP(B84,$BK$2)","v":111.8467},{"$f":"_xll.BDP(B84,$BL$2)","v":"#N/A Field Not Applicable"},{"$f":"_xll.BDP(B84,$BM$2)","v":58.647430171257874},{"$f":"_xll.BDP(B84,$BN$2)","v":1.0085488330973964E-2},{"$f":"_xll.BDP(B84,$BO$2)","v":19.291138469797684},{"$f":"_xll.BDP(AC84 & \" Equity\",$BP$2)","v":"#N/A N/A"},{"$f":"_xll.BDP(AC84 & \" Equity\",$BQ$2)","v":"26.02.2015"},{"$f":"_xll.BDP(AC84 & \" Equity\",$BR$2)","v":30.621656021190091}]
["US888706AE82",{"$f":"A85 & \" Corp\"","v":"US888706AE82 Corp"},"TIVO INC",{"$f":"_xll.BDP(B85,$D$2)","v":"TIVO INC"},{"$f":"_xll.BDP(B85,$E$2)","v":2},{"$f":"_xll.BDP(B85,$F$2)","v":"01.10.2021"},{"$f":"_xll.BDP(B85,$G$2)","v":"#N/A Field Not Applicable"},{"$f":"_xll.BDP(B85,$H$2)","v":"#N/A Field Not Applicable"},"2014-09-11",null,1,{"$f":"ROUND((T85*T$2+U85*U$2+S85*S$2+IF(P85=\"NR\",0,P85^2*SIGN(P85))+M85*M$2)/(L$2-IF(P85=\"NR\",0,P$2)-IF(S85,0,S$2)),0)","v":0},1,0,0,"NR","2014-04-22",0,{"$f":"VLOOKUP(AX85,[1]Sheet1!$C$8:$D$23,2,FALSE)","v":1},{"$f":"MIN(ROUND(ABS(V85/AD85)*200,0),2)*SIGN(V85)","v":-2},{"$f":"MIN(ROUND(ABS(X85),0),2)*IFERROR(SIGN(X85),0)","v":-2},{"$f":"_xll.BDP(AC85 & \" Equity\",$V$3)","v":-9.7174346446990967E-2},{"$f":"_xll.BDP(AC85 & \" Equity\",$W$3)","v":26.54552899294324},{"$f":"IFERROR(10*LN((100+Z85)/(100+$Z$1))+2*LN((100+$W$2)/(100+W85)),0)","v":-2.6196482492011128},{"$f":"_xll.BDP(AC85 & \" Equity\",$Y$2)","v":-11.90277},{"$f":"_xll.BDP(AC85 & \" Equity\",$Z$2)","v":-15.00202},{"$f":"_xll.BDP(AC85 & \" Equity\",$AA$2)","v":-11.23311},{"$f":"_xll.BDP(AC85 & \" Equity\",$AB$2)","v":"TIVO US"},{"$f":"_xll.BDP(B85,$AC$2)","v":"EQ0035828000001000"},{"$f":"_xll.BDP(AC85 & \" Equity\",$AD$2)","v":10.5},13,10,{"$f":"_xll.BDP(B85,$AG$2)","v":"USD"},{"$f":"_xll.BDP(B85,$AH$2)","v":230000000},{"$f":"IFERROR(VLOOKUP(A85,'Fisch Holding'!$A$5:$C$1245,3,FALSE)/AH85,\"-\")","v":"-"},{"$f":"IFERROR(VLOOKUP(A85,'BM Weight'!$A$7:$D$1020,3,FALSE),\"-\")","v":"-"},{"$f":"IFERROR(VLOOKUP(A85,'BM Weight'!$A$7:$D$1020,4,FALSE),\"-    \")","v":"-    "},{"$f":"IFERROR(VLOOKUP(A85,'Implied Rating'!$B$7:$C$1179,2,FALSE),\"-\")","v":"-"},{"$f":"IFERROR(VLOOKUP(A85,'ICV Rating'!$B$5:$E$1306,2,FALSE),\"-\")","v":"-"},{"$f":"_xll.BDP(B85,$AN$2)","v":"#N/A N/A"},{"$f":"_xll.BDP(B85,$AO$2)","v":"#N/A N/A"},{"$f":"_xll.BDP(B85,$AP$2)","v":"#N/A N/A"},{"$f":"_xll.BDP(B85,$AQ$2)","v":"N"},{"$f":"_xll.BDP(B85,$AR$2)","v":"Optionally"},{"$f":"_xll.BDP(B85,$AS$2)","v":"N"},{"$f":"_xll.BDP(B85,$AT$2)","v":"N"},{"$f":"_xll.BDP(B85,$AU$2)","v":"N"},{"$f":"_xll.BDP(B85,$AV$2)","v":"N"},{"$f":"_xll.BDP(B85,$AW$2)","v":"US"},{"$f":"_xll.BDP(AC85 & \" Equity\",$AX$2)","v":"Information Technology"},{"$f":"_xll.BDP(AC85 & \" Equity\",$AY$2)","v":"Software & Services"},{"$f":"_xll.BDP(AC85 & \" Equity\",$AZ$2)","v":"Software"},null,0,{"$f":"_xll.BDP(B85,$BC$2)","v":6.1296759704151604},{"$f":"_xll.BDP(B85,$BD$2)","v":3.4897292696868862},{"$f":"_xll.BDP(B85,$BE$2)","v":162.8764746286142},{"$f":"_xll.BDP(B85,$BF$2)","v":3.3519999999999999},{"$f":"_xll.BDP(B85,$BG$2)","v":-1.2098821389651744},{"$f":"_xll.BDP(B85,$BH$2)","v":-4.6645246510982341},{"$f":"_xll.BDP(B85,$BI$2)","v":-2.6496449724418167},null,{"$f":"_xll.BDP(B85,$BK$2)","v":91.814430000000002},{"$f":"_xll.BDP(B85,$BL$2)","v":"#N/A Field Not Applicable"},{"$f":"_xll.BDP(B85,$BM$2)","v":68.062193513455099},{"$f":"_xll.BDP(B85,$BN$2)","v":3.7992092601836004E-3},{"$f":"_xll.BDP(B85,$BO$2)","v":55.926593705936369},{"$f":"_xll.BDP(AC85 & \" Equity\",$BP$2)","v":"#N/A N/A"},{"$f":"_xll.BDP(AC85 & \" Equity\",$BQ$2)","v":"26.02.2015"},{"$f":"_xll.BDP(AC85 & \" Equity\",$BR$2)","v":30.621656021190091}]
["US89628EAB02",{"$f":"A86 & \" Corp\"","v":"US89628EAB02 Corp"},"Trina Solar",{"$f":"_xll.BDP(B86,$D$2)","v":"TRINA SOLAR LTD"},{"$f":"_xll.BDP(B86,$E$2)","v":3.5},{"$f":"_xll.BDP(B86,$F$2)","v":"15.06.2019"},{"$f":"_xll.BDP(B86,$G$2)","v":"15.06.2017"},{"$f":"_xll.BDP(B86,$H$2)","v":"#N/A Field Not Applicable"},"2014-09-11","NE Juni 14",0,{"$f":"ROUND((T86*T$2+U86*U$2+S86*S$2+IF(P86=\"NR\",0,P86^2*SIGN(P86))+M86*M$2)/(L$2-IF(P86=\"NR\",0,P$2)-IF(S86,0,S$2)),0)","v":0},0,-1,-1,0,"2014-10-13",-2,{"$f":"VLOOKUP(AX86,[1]Sheet1!$C$8:$D$23,2,FALSE)","v":1},{"$f":"MIN(ROUND(ABS(V86/AD86)*200,0),2)*SIGN(V86)","v":1},{"$f":"MIN(ROUND(ABS(X86),0),2)*IFERROR(SIGN(X86),0)","v":-2},{"$f":"_xll.BDP(AC86 & \" Equity\",$V$3)","v":5.2888274192810059E-2},{"$f":"_xll.BDP(AC86 & \" Equity\",$W$3)","v":56.527362573844719},{"$f":"IFERROR(10*LN((100+Z86)/(100+$Z$1))+2*LN((100+$W$2)/(100+W86)),0)","v":-2.4028025933228241},{"$f":"_xll.BDP(AC86 & \" Equity\",$Y$2)","v":0.81018120000000005},{"$f":"_xll.BDP(AC86 & \" Equity\",$Z$2)","v":-9.3652409999999993},{"$f":"_xll.BDP(AC86 & \" Equity\",$AA$2)","v":-5.939527},{"$f":"_xll.BDP(AC86 & \" Equity\",$AB$2)","v":"TSL US"},{"$f":"_xll.BDP(B86,$AC$2)","v":"EQ0000000003055288"},{"$f":"_xll.BDP(AC86 & \" Equity\",$AD$2)","v":8.6999999999999993},10,8,{"$f":"_xll.BDP(B86,$AG$2)","v":"USD"},{"$f":"_xll.BDP(B86,$AH$2)","v":172500000},{"$f":"IFERROR(VLOOKUP(A86,'Fisch Holding'!$A$5:$C$1245,3,FALSE)/AH86,\"-\")","v":"-"},{"$f":"IFERROR(VLOOKUP(A86,'BM Weight'!$A$7:$D$1020,3,FALSE),\"-\")","v":"-"},{"$f":"IFERROR(VLOOKUP(A86,'BM Weight'!$A$7:$D$1020,4,FALSE),\"-    \")","v":"-    "},{"$f":"IFERROR(VLOOKUP(A86,'Implied Rating'!$B$7:$C$1179,2,FALSE),\"-\")","v":"-"},{"$f":"IFERROR(VLOOKUP(A86,'ICV Rating'!$B$5:$E$1306,2,FALSE),\"-\")","v":"-"},{"$f":"_xll.BDP(B86,$AN$2)","v":"#N/A N/A"},{"$f":"_xll.BDP(B86,$AO$2)","v":"#N/A N/A"},{"$f":"_xll.BDP(B86,$AP$2)","v":"#N/A N/A"},{"$f":"_xll.BDP(B86,$AQ$2)","v":"N"},{"$f":"_xll.BDP(B86,$AR$2)","v":"Optionally"},{"$f":"_xll.BDP(B86,$AS$2)","v":"N"},{"$f":"_xll.BDP(B86,$AT$2)","v":"N"},{"$f":"_xll.BDP(B86,$AU$2)","v":"N"},{"$f":"_xll.BDP(B86,$AV$2)","v":"N"},{"$f":"_xll.BDP(B86,$AW$2)","v":"CN"},{"$f":"_xll.BDP(AC86 & \" Equity\",$AX$2)","v":"Information Technology"},{"$f":"_xll.BDP(AC86 & \" Equity\",$AY$2)","v":"Semiconductors & Semiconductor"},{"$f":"_xll.BDP(AC86 & \" Equity\",$AZ$2)","v":"Semiconductors & Semiconductor"},null,0,{"$f":"_xll.BDP(B86,$BC$2)","v":2.2078364138036899},{"$f":"_xll.BDP(B86,$BD$2)","v":1.2097121789452567},{"$f":"_xll.BDP(B86,$BE$2)","v":794.56497139327234},{"$f":"_xll.BDP(B86,$BF$2)","v":8.8249999999999993},{"$f":"_xll.BDP(B86,$BG$2)","v":0.37038527617087708},{"$f":"_xll.BDP(B86,$BH$2)","v":0.19123321701747298},{"$f":"_xll.BDP(B86,$BI$2)","v":-4.373439176950499},null,{"$f":"_xll.BDP(B86,$BK$2)","v":88.100849999999994},{"$f":"_xll.BDP(B86,$BL$2)","v":"#N/A Field Not Applicable"},{"$f":"_xll.BDP(B86,$BM$2)","v":74.709642425863549},{"$f":"_xll.BDP(B86,$BN$2)","v":3.2002152311183373E-3},{"$f":"_xll.BDP(B86,$BO$2)","v":45.625160623986751},{"$f":"_xll.BDP(AC86 & \" Equity\",$BP$2)","v":"#N/A N/A"},{"$f":"_xll.BDP(AC86 & \" Equity\",$BQ$2)","v":"04.03.2015"},{"$f":"_xll.BDP(AC86 & \" Equity\",$BR$2)","v":60.88258029105851}]
["US89628EAD67",{"$f":"A87 & \" Corp\"","v":"US89628EAD67 Corp"},"Trina Solar",{"$f":"_xll.BDP(B87,$D$2)","v":"TRINA SOLAR LTD"},{"$f":"_xll.BDP(B87,$E$2)","v":4},{"$f":"_xll.BDP(B87,$F$2)","v":"15.10.2019"},{"$f":"_xll.BDP(B87,$G$2)","v":"15.10.2017"},{"$f":"_xll.BDP(B87,$H$2)","v":"#N/A Field Not Applicable"},"2014-10-14","NE Okt. 14",0,{"$f":"ROUND((T87*T$2+U87*U$2+S87*S$2+IF(P87=\"NR\",0,P87^2*SIGN(P87))+M87*M$2)/(L$2-IF(P87=\"NR\",0,P$2)-IF(S87,0,S$2)),0)","v":0},0,-1,-1,0,"2014-10-13",-2,{"$f":"VLOOKUP(AX87,[1]Sheet1!$C$8:$D$23,2,FALSE)","v":1},{"$f":"MIN(ROUND(ABS(V87/AD87)*200,0),2)*SIGN(V87)","v":1},{"$f":"MIN(ROUND(ABS(X87),0),2)*IFERROR(SIGN(X87),0)","v":-2},{"$f":"_xll.BDP(AC87 & \" Equity\",$V$3)","v":5.2888274192810059E-2},{"$f":"_xll.BDP(AC87 & \" Equity\",$W$3)","v":56.527362573844719},{"$f":"IFERROR(10*LN((100+Z87)/(100+$Z$1))+2*LN((100+$W$2)/(100+W87)),0)","v":-2.4028025933228241},{"$f":"_xll.BDP(AC87 & \" Equity\",$Y$2)","v":0.81018120000000005},{"$f":"_xll.BDP(AC87 & \" Equity\",$Z$2)","v":-9.3652409999999993},{"$f":"_xll.BDP(AC87 & \" Equity\",$AA$2)","v":-5.939527},{"$f":"_xll.BDP(AC87 & \" Equity\",$AB$2)","v":"TSL US"},{"$f":"_xll.BDP(B87,$AC$2)","v":"EQ0000000003055288"},{"$f":"_xll.BDP(AC87 & \" Equity\",$AD$2)","v":8.6999999999999993},10,8,{"$f":"_xll.BDP(B87,$AG$2)","v":"USD"},{"$f":"_xll.BDP(B87,$AH$2)","v":115000000},{"$f":"IFERROR(VLOOKUP(A87,'Fisch Holding'!$A$5:$C$1245,3,FALSE)/AH87,\"-\")","v":3.2608695652173912E-2},{"$f":"IFERROR(VLOOKUP(A87,'BM Weight'!$A$7:$D$1020,3,FALSE),\"-\")","v":"-"},{"$f":"IFERROR(VLOOKUP(A87,'BM Weight'!$A$7:$D$1020,4,FALSE),\"-    \")","v":"-    "},{"$f":"IFERROR(VLOOKUP(A87,'Implied Rating'!$B$7:$C$1179,2,FALSE),\"-\")","v":"-"},{"$f":"IFERROR(VLOOKUP(A87,'ICV Rating'!$B$5:$E$1306,2,FALSE),\"-\")","v":"-"},{"$f":"_xll.BDP(B87,$AN$2)","v":"#N/A N/A"},{"$f":"_xll.BDP(B87,$AO$2)","v":"#N/A N/A"},{"$f":"_xll.BDP(B87,$AP$2)","v":"#N/A N/A"},{"$f":"_xll.BDP(B87,$AQ$2)","v":"N"},{"$f":"_xll.BDP(B87,$AR$2)","v":"Optionally"},{"$f":"_xll.BDP(B87,$AS$2)","v":"N"},{"$f":"_xll.BDP(B87,$AT$2)","v":"#N/A N/A"},{"$f":"_xll.BDP(B87,$AU$2)","v":"N"},{"$f":"_xll.BDP(B87,$AV$2)","v":"N"},{"$f":"_xll.BDP(B87,$AW$2)","v":"CN"},{"$f":"_xll.BDP(AC87 & \" Equity\",$AX$2)","v":"Information Technology"},{"$f":"_xll.BDP(AC87 & \" Equity\",$AY$2)","v":"Semiconductors & Semiconductor"},{"$f":"_xll.BDP(AC87 & \" Equity\",$AZ$2)","v":"Semiconductors & Semiconductor"},null,0,{"$f":"_xll.BDP(B87,$BC$2)","v":2.4509090458754725},{"$f":"_xll.BDP(B87,$BD$2)","v":1.2749058866059519},{"$f":"_xll.BDP(B87,$BE$2)","v":883.80597814191026},{"$f":"_xll.BDP(B87,$BF$2)","v":9.82},{"$f":"_xll.BDP(B87,$BG$2)","v":-0.4717770722770494},{"$f":"_xll.BDP(B87,$BH$2)","v":-0.64869289512427364},{"$f":"_xll.BDP(B87,$BI$2)","v":-2.5441278600187816},null,{"$f":"_xll.BDP(B87,$BK$2)","v":86.073999999999998},{"$f":"_xll.BDP(B87,$BL$2)","v":"#N/A Field Not Applicable"},{"$f":"_xll.BDP(B87,$BM$2)","v":77.410375125968912},{"$f":"_xll.BDP(B87,$BN$2)","v":2.8983705402709174E-3},{"$f":"_xll.BDP(B87,$BO$2)","v":45.566459622410207},{"$f":"_xll.BDP(AC87 & \" Equity\",$BP$2)","v":"#N/A N/A"},{"$f":"_xll.BDP(AC87 & \" Equity\",$BQ$2)","v":"04.03.2015"},{"$f":"_xll.BDP(AC87 & \" Equity\",$BR$2)","v":60.88258029105851}]
["US897888AB94",{"$f":"A88 & \" Corp\"","v":"US897888AB94 Corp"},"TRULIA INC",{"$f":"_xll.BDP(B88,$D$2)","v":"TRULIA INC"},{"$f":"_xll.BDP(B88,$E$2)","v":2.75},{"$f":"_xll.BDP(B88,$F$2)","v":"15.12.2020"},{"$f":"_xll.BDP(B88,$G$2)","v":"#N/A Field Not Applicable"},{"$f":"_xll.BDP(B88,$H$2)","v":"#N/A Field Not Applicable"},"2014-07-28","NE Dez. 13; Real Estate Search Engine; Zillow-Takeover",0,{"$f":"ROUND((T88*T$2+U88*U$2+S88*S$2+IF(P88=\"NR\",0,P88^2*SIGN(P88))+M88*M$2)/(L$2-IF(P88=\"NR\",0,P$2)-IF(S88,0,S$2)),0)","v":0},0,0,-2,"NR","2014-07-28",-2,{"$f":"VLOOKUP(AX88,[1]Sheet1!$C$8:$D$23,2,FALSE)","v":1},{"$f":"MIN(ROUND(ABS(V88/AD88)*200,0),2)*SIGN(V88)","v":1},{"$f":"MIN(ROUND(ABS(X88),0),2)*IFERROR(SIGN(X88),0)","v":-1},{"$f":"_xll.BDP(AC88 & \" Equity\",$V$3)","v":0.14679932594299316},{"$f":"_xll.BDP(AC88 & \" Equity\",$W$3)","v":50.857343149690102},{"$f":"IFERROR(10*LN((100+Z88)/(100+$Z$1))+2*LN((100+$W$2)/(100+W88)),0)","v":-1.2215983622574795},{"$f":"_xll.BDP(AC88 & \" Equity\",$Y$2)","v":-10.663},{"$f":"_xll.BDP(AC88 & \" Equity\",$Z$2)","v":1.24861},{"$f":"_xll.BDP(AC88 & \" Equity\",$AA$2)","v":-1.3469450000000001},{"$f":"_xll.BDP(AC88 & \" Equity\",$AB$2)","v":"TRLA US"},{"$f":"_xll.BDP(B88,$AC$2)","v":"EQ0000000010085065"},{"$f":"_xll.BDP(AC88 & \" Equity\",$AD$2)","v":43.63},48,44,{"$f":"_xll.BDP(B88,$AG$2)","v":"USD"},{"$f":"_xll.BDP(B88,$AH$2)","v":230000000},{"$f":"IFERROR(VLOOKUP(A88,'Fisch Holding'!$A$5:$C$1245,3,FALSE)/AH88,\"-\")","v":"-"},{"$f":"IFERROR(VLOOKUP(A88,'BM Weight'!$A$7:$D$1020,3,FALSE),\"-\")","v":"-"},{"$f":"IFERROR(VLOOKUP(A88,'BM Weight'!$A$7:$D$1020,4,FALSE),\"-    \")","v":"-    "},{"$f":"IFERROR(VLOOKUP(A88,'Implied Rating'!$B$7:$C$1179,2,FALSE),\"-\")","v":"-"},{"$f":"IFERROR(VLOOKUP(A88,'ICV Rating'!$B$5:$E$1306,2,FALSE),\"-\")","v":"-"},{"$f":"_xll.BDP(B88,$AN$2)","v":"#N/A N/A"},{"$f":"_xll.BDP(B88,$AO$2)","v":"#N/A N/A"},{"$f":"_xll.BDP(B88,$AP$2)","v":"#N/A N/A"},{"$f":"_xll.BDP(B88,$AQ$2)","v":"N"},{"$f":"_xll.BDP(B88,$AR$2)","v":"Optionally"},{"$f":"_xll.BDP(B88,$AS$2)","v":"N"},{"$f":"_xll.BDP(B88,$AT$2)","v":"N"},{"$f":"_xll.BDP(B88,$AU$2)","v":"N"},{"$f":"_xll.BDP(B88,$AV$2)","v":"N"},{"$f":"_xll.BDP(B88,$AW$2)","v":"US"},{"$f":"_xll.BDP(AC88 & \" Equity\",$AX$2)","v":"Information Technology"},{"$f":"_xll.BDP(AC88 & \" Equity\",$AY$2)","v":"Software & Services"},{"$f":"_xll.BDP(AC88 & \" Equity\",$AZ$2)","v":"Internet Software & Services"},null,0,{"$f":"_xll.BDP(B88,$BC$2)","v":5.6668356131743636},{"$f":"_xll.BDP(B88,$BD$2)","v":0.92948602148607073},{"$f":"_xll.BDP(B88,$BE$2)","v":-551.08463115708423},{"$f":"_xll.BDP(B88,$BF$2)","v":-3.8849999999999998},{"$f":"_xll.BDP(B88,$BG$2)","v":1.8664804705452793},{"$f":"_xll.BDP(B88,$BH$2)","v":-8.0418017298403761},{"$f":"_xll.BDP(B88,$BI$2)","v":1.4730477848775045},null,{"$f":"_xll.BDP(B88,$BK$2)","v":143.90559999999999},{"$f":"_xll.BDP(B88,$BL$2)","v":"#N/A Field Not Applicable"},{"$f":"_xll.BDP(B88,$BM$2)","v":91.618128876101323},{"$f":"_xll.BDP(B88,$BN$2)","v":1.2963742540393244E-3},{"$f":"_xll.BDP(B88,$BO$2)","v":14.325828264057531},{"$f":"_xll.BDP(AC88 & \" Equity\",$BP$2)","v":"#N/A N/A"},{"$f":"_xll.BDP(AC88 & \" Equity\",$BQ$2)","v":"13.02.2015"},{"$f":"_xll.BDP(AC88 & \" Equity\",$BR$2)","v":48.826267970057835}]
["US87305RAC34",{"$f":"A89 & \" Corp\"","v":"US87305RAC34 Corp"},"TTM TECHNOLOGIES",{"$f":"_xll.BDP(B89,$D$2)","v":"TTM TECHNOLOGIES"},{"$f":"_xll.BDP(B89,$E$2)","v":3.25},{"$f":"_xll.BDP(B89,$F$2)","v":"15.05.2015"},{"$f":"_xll.BDP(B89,$G$2)","v":"#N/A Field Not Applicable"},{"$f":"_xll.BDP(B89,$H$2)","v":"#N/A Field Not Applicable"},"2013-08-27","32 Mio; I-CV OW (12.2010); Elektronik-Produzent",-1,{"$f":"ROUND((T89*T$2+U89*U$2+S89*S$2+IF(P89=\"NR\",0,P89^2*SIGN(P89))+M89*M$2)/(L$2-IF(P89=\"NR\",0,P$2)-IF(S89,0,S$2)),0)","v":0},-1,0,0,1,"2013-08-27",-1,{"$f":"VLOOKUP(AX89,[1]Sheet1!$C$8:$D$23,2,FALSE)","v":1},{"$f":"MIN(ROUND(ABS(V89/AD89)*200,0),2)*SIGN(V89)","v":0},{"$f":"MIN(ROUND(ABS(X89),0),2)*IFERROR(SIGN(X89),0)","v":1},{"$f":"_xll.BDP(AC89 & \" Equity\",$V$3)","v":-6.0393661260604858E-3},{"$f":"_xll.BDP(AC89 & \" Equity\",$W$3)","v":38.028658318586665},{"$f":"IFERROR(10*LN((100+Z89)/(100+$Z$1))+2*LN((100+$W$2)/(100+W89)),0)","v":1.0107256664050883},{"$f":"_xll.BDP(AC89 & \" Equity\",$Y$2)","v":7.5391149999999998},{"$f":"_xll.BDP(AC89 & \" Equity\",$Z$2)","v":24.342110000000002},{"$f":"_xll.BDP(AC89 & \" Equity\",$AA$2)","v":0.39840360000000002},{"$f":"_xll.BDP(AC89 & \" Equity\",$AB$2)","v":"TTMI US"},{"$f":"_xll.BDP(B89,$AC$2)","v":"EQ0118219500001000"},{"$f":"_xll.BDP(AC89 & \" Equity\",$AD$2)","v":7.53},7.7,7,{"$f":"_xll.BDP(B89,$AG$2)","v":"USD"},{"$f":"_xll.BDP(B89,$AH$2)","v":32395000},{"$f":"IFERROR(VLOOKUP(A89,'Fisch Holding'!$A$5:$C$1245,3,FALSE)/AH89,\"-\")","v":"-"},{"$f":"IFERROR(VLOOKUP(A89,'BM Weight'!$A$7:$D$1020,3,FALSE),\"-\")","v":"-"},{"$f":"IFERROR(VLOOKUP(A89,'BM Weight'!$A$7:$D$1020,4,FALSE),\"-    \")","v":"-    "},{"$f":"IFERROR(VLOOKUP(A89,'Implied Rating'!$B$7:$C$1179,2,FALSE),\"-\")","v":"BB-"},{"$f":"IFERROR(VLOOKUP(A89,'ICV Rating'!$B$5:$E$1306,2,FALSE),\"-\")","v":0},{"$f":"_xll.BDP(B89,$AN$2)","v":"NR"},{"$f":"_xll.BDP(B89,$AO$2)","v":"B2"},{"$f":"_xll.BDP(B89,$AP$2)","v":"BB     *-"},{"$f":"_xll.BDP(B89,$AQ$2)","v":"N"},{"$f":"_xll.BDP(B89,$AR$2)","v":"Optionally"},{"$f":"_xll.BDP(B89,$AS$2)","v":"N"},{"$f":"_xll.BDP(B89,$AT$2)","v":"Y"},{"$f":"_xll.BDP(B89,$AU$2)","v":"N"},{"$f":"_xll.BDP(B89,$AV$2)","v":"N"},{"$f":"_xll.BDP(B89,$AW$2)","v":"US"},{"$f":"_xll.BDP(AC89 & \" Equity\",$AX$2)","v":"Information Technology"},{"$f":"_xll.BDP(AC89 & \" Equity\",$AY$2)","v":"Technology Hardware & Equipmen"},{"$f":"_xll.BDP(AC89 & \" Equity\",$AZ$2)","v":"Electronic Equip., Instruments"},null,0,{"$f":"_xll.BDP(B89,$BC$2)","v":0.3139271562473771},{"$f":"_xll.BDP(B89,$BD$2)","v":0.31689031603065543},{"$f":"_xll.BDP(B89,$BE$2)","v":250.83747464453722},{"$f":"_xll.BDP(B89,$BF$2)","v":2.7560000000000002},{"$f":"_xll.BDP(B89,$BG$2)","v":1.6029220960409021},{"$f":"_xll.BDP(B89,$BH$2)","v":0.55221037580820642},{"$f":"_xll.BDP(B89,$BI$2)","v":0.35069833420814567},null,{"$f":"_xll.BDP(B89,$BK$2)","v":100.15},{"$f":"_xll.BDP(B89,$BL$2)","v":"#N/A Field Not Applicable"},{"$f":"_xll.BDP(B89,$BM$2)","v":0.23268048151937351},{"$f":"_xll.BDP(B89,$BN$2)","v":2.207663669002553E-4},{"$f":"_xll.BDP(B89,$BO$2)","v":111.46740752434208},{"$f":"_xll.BDP(AC89 & \" Equity\",$BP$2)","v":"#N/A N/A"},{"$f":"_xll.BDP(AC89 & \" Equity\",$BQ$2)","v":"04.02.2015"},{"$f":"_xll.BDP(AC89 & \" Equity\",$BR$2)","v":38.178947536790659}]
["US87305RAD17",{"$f":"A90 & \" Corp\"","v":"US87305RAD17 Corp"},"TTM TECHNOLOGIES INC",{"$f":"_xll.BDP(B90,$D$2)","v":"TTM TECHNOLOGIES INC"},{"$f":"_xll.BDP(B90,$E$2)","v":1.75},{"$f":"_xll.BDP(B90,$F$2)","v":"15.12.2020"},{"$f":"_xll.BDP(B90,$G$2)","v":"#N/A Field Not Applicable"},{"$f":"_xll.BDP(B90,$H$2)","v":"#N/A Field Not Applicable"},"2013-12-17","NE Dez. 13; 150 Mio; I-CV OW (12.2010); Elektronik-Produzent",0,{"$f":"ROUND((T90*T$2+U90*U$2+S90*S$2+IF(P90=\"NR\",0,P90^2*SIGN(P90))+M90*M$2)/(L$2-IF(P90=\"NR\",0,P$2)-IF(S90,0,S$2)),0)","v":1},1,0,0,1,"2013-12-17",-1,{"$f":"VLOOKUP(AX90,[1]Sheet1!$C$8:$D$23,2,FALSE)","v":1},{"$f":"MIN(ROUND(ABS(V90/AD90)*200,0),2)*SIGN(V90)","v":0},{"$f":"MIN(ROUND(ABS(X90),0),2)*IFERROR(SIGN(X90),0)","v":1},{"$f":"_xll.BDP(AC90 & \" Equity\",$V$3)","v":-6.0393661260604858E-3},{"$f":"_xll.BDP(AC90 & \" Equity\",$W$3)","v":38.028658318586665},{"$f":"IFERROR(10*LN((100+Z90)/(100+$Z$1))+2*LN((100+$W$2)/(100+W90)),0)","v":1.0107256664050883},{"$f":"_xll.BDP(AC90 & \" Equity\",$Y$2)","v":7.5391149999999998},{"$f":"_xll.BDP(AC90 & \" Equity\",$Z$2)","v":24.342110000000002},{"$f":"_xll.BDP(AC90 & \" Equity\",$AA$2)","v":0.39840360000000002},{"$f":"_xll.BDP(AC90 & \" Equity\",$AB$2)","v":"TTMI US"},{"$f":"_xll.BDP(B90,$AC$2)","v":"EQ0118219500001000"},{"$f":"_xll.BDP(AC90 & \" Equity\",$AD$2)","v":7.53},7.7,7,{"$f":"_xll.BDP(B90,$AG$2)","v":"USD"},{"$f":"_xll.BDP(B90,$AH$2)","v":250000000},{"$f":"IFERROR(VLOOKUP(A90,'Fisch Holding'!$A$5:$C$1245,3,FALSE)/AH90,\"-\")","v":"-"},{"$f":"IFERROR(VLOOKUP(A90,'BM Weight'!$A$7:$D$1020,3,FALSE),\"-\")","v":"-"},{"$f":"IFERROR(VLOOKUP(A90,'BM Weight'!$A$7:$D$1020,4,FALSE),\"-    \")","v":"-    "},{"$f":"IFERROR(VLOOKUP(A90,'Implied Rating'!$B$7:$C$1179,2,FALSE),\"-\")","v":"-"},{"$f":"IFERROR(VLOOKUP(A90,'ICV Rating'!$B$5:$E$1306,2,FALSE),\"-\")","v":"-"},{"$f":"_xll.BDP(B90,$AN$2)","v":"NR"},{"$f":"_xll.BDP(B90,$AO$2)","v":"B2"},{"$f":"_xll.BDP(B90,$AP$2)","v":"BB     *-"},{"$f":"_xll.BDP(B90,$AQ$2)","v":"N"},{"$f":"_xll.BDP(B90,$AR$2)","v":"Optionally"},{"$f":"_xll.BDP(B90,$AS$2)","v":"N"},{"$f":"_xll.BDP(B90,$AT$2)","v":"N"},{"$f":"_xll.BDP(B90,$AU$2)","v":"N"},{"$f":"_xll.BDP(B90,$AV$2)","v":"N"},{"$f":"_xll.BDP(B90,$AW$2)","v":"US"},{"$f":"_xll.BDP(AC90 & \" Equity\",$AX$2)","v":"Information Technology"},{"$f":"_xll.BDP(AC90 & \" Equity\",$AY$2)","v":"Technology Hardware & Equipmen"},{"$f":"_xll.BDP(AC90 & \" Equity\",$AZ$2)","v":"Electronic Equip., Instruments"},null,0,{"$f":"_xll.BDP(B90,$BC$2)","v":5.5514829893162299},{"$f":"_xll.BDP(B90,$BD$2)","v":1.7937214367051513},{"$f":"_xll.BDP(B90,$BE$2)","v":65.079009636960848},{"$f":"_xll.BDP(B90,$BF$2)","v":2.282},{"$f":"_xll.BDP(B90,$BG$2)","v":1.0473029964466265},{"$f":"_xll.BDP(B90,$BH$2)","v":3.1840955597502911},{"$f":"_xll.BDP(B90,$BI$2)","v":6.5774580856764953},null,{"$f":"_xll.BDP(B90,$BK$2)","v":96.83014},{"$f":"_xll.BDP(B90,$BL$2)","v":"#N/A Field Not Applicable"},{"$f":"_xll.BDP(B90,$BM$2)","v":82.586417418642625},{"$f":"_xll.BDP(B90,$BN$2)","v":2.796434174072306E-3},{"$f":"_xll.BDP(B90,$BO$2)","v":23.752698144012278},{"$f":"_xll.BDP(AC90 & \" Equity\",$BP$2)","v":"#N/A N/A"},{"$f":"_xll.BDP(AC90 & \" Equity\",$BQ$2)","v":"04.02.2015"},{"$f":"_xll.BDP(AC90 & \" Equity\",$BR$2)","v":38.178947536790659}]
["US90184LAA08",{"$f":"A91 & \" Corp\"","v":"US90184LAA08 Corp"},"Twitter",{"$f":"_xll.BDP(B91,$D$2)","v":"TWITTER INC"},{"$f":"_xll.BDP(B91,$E$2)","v":0.25},{"$f":"_xll.BDP(B91,$F$2)","v":"15.09.2019"},{"$f":"_xll.BDP(B91,$G$2)","v":"#N/A Field Not Applicable"},{"$f":"_xll.BDP(B91,$H$2)","v":"#N/A Field Not Applicable"},"2014-11-20",null,0,{"$f":"ROUND((T91*T$2+U91*U$2+S91*S$2+IF(P91=\"NR\",0,P91^2*SIGN(P91))+M91*M$2)/(L$2-IF(P91=\"NR\",0,P$2)-IF(S91,0,S$2)),0)","v":-1},-1,0,0,"NR","2014-04-22",0,{"$f":"VLOOKUP(AX91,[1]Sheet1!$C$8:$D$23,2,FALSE)","v":1},{"$f":"MIN(ROUND(ABS(V91/AD91)*200,0),2)*SIGN(V91)","v":2},{"$f":"MIN(ROUND(ABS(X91),0),2)*IFERROR(SIGN(X91),0)","v":-2},{"$f":"_xll.BDP(AC91 & \" Equity\",$V$3)","v":0.52540773153305054},{"$f":"_xll.BDP(AC91 & \" Equity\",$W$3)","v":49.850430892872708},{"$f":"IFERROR(10*LN((100+Z91)/(100+$Z$1))+2*LN((100+$W$2)/(100+W91)),0)","v":-3.599298531935363},{"$f":"_xll.BDP(AC91 & \" Equity\",$Y$2)","v":8.1411169999999995},{"$f":"_xll.BDP(AC91 & \" Equity\",$Z$2)","v":-20.28406},{"$f":"_xll.BDP(AC91 & \" Equity\",$AA$2)","v":11.09563},{"$f":"_xll.BDP(AC91 & \" Equity\",$AB$2)","v":"TWTR US"},{"$f":"_xll.BDP(B91,$AC$2)","v":"EQ0000000006576122"},{"$f":"_xll.BDP(AC91 & \" Equity\",$AD$2)","v":38.715000000000003},40,37,{"$f":"_xll.BDP(B91,$AG$2)","v":"USD"},{"$f":"_xll.BDP(B91,$AH$2)","v":935000000},{"$f":"IFERROR(VLOOKUP(A91,'Fisch Holding'!$A$5:$C$1245,3,FALSE)/AH91,\"-\")","v":"-"},{"$f":"IFERROR(VLOOKUP(A91,'BM Weight'!$A$7:$D$1020,3,FALSE),\"-\")","v":0.75909367895299995},{"$f":"IFERROR(VLOOKUP(A91,'BM Weight'!$A$7:$D$1020,4,FALSE),\"-    \")","v":0},{"$f":"IFERROR(VLOOKUP(A91,'Implied Rating'!$B$7:$C$1179,2,FALSE),\"-\")","v":"BBB-"},{"$f":"IFERROR(VLOOKUP(A91,'ICV Rating'!$B$5:$E$1306,2,FALSE),\"-\")","v":0},{"$f":"_xll.BDP(B91,$AN$2)","v":"NR"},{"$f":"_xll.BDP(B91,$AO$2)","v":"#N/A N/A"},{"$f":"_xll.BDP(B91,$AP$2)","v":"BB-u"},{"$f":"_xll.BDP(B91,$AQ$2)","v":"N"},{"$f":"_xll.BDP(B91,$AR$2)","v":"Optionally"},{"$f":"_xll.BDP(B91,$AS$2)","v":"N"},{"$f":"_xll.BDP(B91,$AT$2)","v":"#N/A N/A"},{"$f":"_xll.BDP(B91,$AU$2)","v":"N"},{"$f":"_xll.BDP(B91,$AV$2)","v":"N"},{"$f":"_xll.BDP(B91,$AW$2)","v":"US"},{"$f":"_xll.BDP(AC91 & \" Equity\",$AX$2)","v":"Information Technology"},{"$f":"_xll.BDP(AC91 & \" Equity\",$AY$2)","v":"Software & Services"},{"$f":"_xll.BDP(AC91 & \" Equity\",$AZ$2)","v":"Internet Software & Services"},null,0,{"$f":"_xll.BDP(B91,$BC$2)","v":4.5711130717254083},{"$f":"_xll.BDP(B91,$BD$2)","v":3.3930347218574406},{"$f":"_xll.BDP(B91,$BE$2)","v":66.773268129972109},{"$f":"_xll.BDP(B91,$BF$2)","v":2.1160000000000001},{"$f":"_xll.BDP(B91,$BG$2)","v":2.8502355515464499},{"$f":"_xll.BDP(B91,$BH$2)","v":4.3904529614216763},{"$f":"_xll.BDP(B91,$BI$2)","v":-4.7889474418490332},null,{"$f":"_xll.BDP(B91,$BK$2)","v":91.61703},{"$f":"_xll.BDP(B91,$BL$2)","v":"#N/A Field Not Applicable"},{"$f":"_xll.BDP(B91,$BM$2)","v":51.550359822003266},{"$f":"_xll.BDP(B91,$BN$2)","v":4.5016964811213558E-3},{"$f":"_xll.BDP(B91,$BO$2)","v":78.81884642314354},{"$f":"_xll.BDP(AC91 & \" Equity\",$BP$2)","v":"#N/A N/A"},{"$f":"_xll.BDP(AC91 & \" Equity\",$BQ$2)","v":"05.02.2015"},{"$f":"_xll.BDP(AC91 & \" Equity\",$BR$2)","v":49.714077073563374}]
["US90184LAC63",{"$f":"A92 & \" Corp\"","v":"US90184LAC63 Corp"},"Twitter",{"$f":"_xll.BDP(B92,$D$2)","v":"TWITTER INC"},{"$f":"_xll.BDP(B92,$E$2)","v":1},{"$f":"_xll.BDP(B92,$F$2)","v":"15.09.2021"},{"$f":"_xll.BDP(B92,$G$2)","v":"#N/A Field Not Applicable"},{"$f":"_xll.BDP(B92,$H$2)","v":"#N/A Field Not Applicable"},"2014-11-20",null,0,{"$f":"ROUND((T92*T$2+U92*U$2+S92*S$2+IF(P92=\"NR\",0,P92^2*SIGN(P92))+M92*M$2)/(L$2-IF(P92=\"NR\",0,P$2)-IF(S92,0,S$2)),0)","v":-1},-1,0,0,"NR","2014-04-22",0,{"$f":"VLOOKUP(AX92,[1]Sheet1!$C$8:$D$23,2,FALSE)","v":1},{"$f":"MIN(ROUND(ABS(V92/AD92)*200,0),2)*SIGN(V92)","v":2},{"$f":"MIN(ROUND(ABS(X92),0),2)*IFERROR(SIGN(X92),0)","v":-2},{"$f":"_xll.BDP(AC92 & \" Equity\",$V$3)","v":0.52540773153305054},{"$f":"_xll.BDP(AC92 & \" Equity\",$W$3)","v":49.850430892872708},{"$f":"IFERROR(10*LN((100+Z92)/(100+$Z$1))+2*LN((100+$W$2)/(100+W92)),0)","v":-3.599298531935363},{"$f":"_xll.BDP(AC92 & \" Equity\",$Y$2)","v":8.1411169999999995},{"$f":"_xll.BDP(AC92 & \" Equity\",$Z$2)","v":-20.28406},{"$f":"_xll.BDP(AC92 & \" Equity\",$AA$2)","v":11.09563},{"$f":"_xll.BDP(AC92 & \" Equity\",$AB$2)","v":"TWTR US"},{"$f":"_xll.BDP(B92,$AC$2)","v":"EQ0000000006576122"},{"$f":"_xll.BDP(AC92 & \" Equity\",$AD$2)","v":38.715000000000003},40,37,{"$f":"_xll.BDP(B92,$AG$2)","v":"USD"},{"$f":"_xll.BDP(B92,$AH$2)","v":954000000},{"$f":"IFERROR(VLOOKUP(A92,'Fisch Holding'!$A$5:$C$1245,3,FALSE)/AH92,\"-\")","v":2.2012578616352201E-3},{"$f":"IFERROR(VLOOKUP(A92,'BM Weight'!$A$7:$D$1020,3,FALSE),\"-\")","v":0.78392141554000005},{"$f":"IFERROR(VLOOKUP(A92,'BM Weight'!$A$7:$D$1020,4,FALSE),\"-    \")","v":0},{"$f":"IFERROR(VLOOKUP(A92,'Implied Rating'!$B$7:$C$1179,2,FALSE),\"-\")","v":"BB"},{"$f":"IFERROR(VLOOKUP(A92,'ICV Rating'!$B$5:$E$1306,2,FALSE),\"-\")","v":0},{"$f":"_xll.BDP(B92,$AN$2)","v":"NR"},{"$f":"_xll.BDP(B92,$AO$2)","v":"#N/A N/A"},{"$f":"_xll.BDP(B92,$AP$2)","v":"BB-u"},{"$f":"_xll.BDP(B92,$AQ$2)","v":"N"},{"$f":"_xll.BDP(B92,$AR$2)","v":"Optionally"},{"$f":"_xll.BDP(B92,$AS$2)","v":"N"},{"$f":"_xll.BDP(B92,$AT$2)","v":"N"},{"$f":"_xll.BDP(B92,$AU$2)","v":"N"},{"$f":"_xll.BDP(B92,$AV$2)","v":"N"},{"$f":"_xll.BDP(B92,$AW$2)","v":"US"},{"$f":"_xll.BDP(AC92 & \" Equity\",$AX$2)","v":"Information Technology"},{"$f":"_xll.BDP(AC92 & \" Equity\",$AY$2)","v":"Software & Services"},{"$f":"_xll.BDP(AC92 & \" Equity\",$AZ$2)","v":"Internet Software & Services"},null,0,{"$f":"_xll.BDP(B92,$BC$2)","v":6.3406905818919261},{"$f":"_xll.BDP(B92,$BD$2)","v":4.1886354837891977},{"$f":"_xll.BDP(B92,$BE$2)","v":58.282201351511659},{"$f":"_xll.BDP(B92,$BF$2)","v":2.3159999999999998},{"$f":"_xll.BDP(B92,$BG$2)","v":2.9790529736248796},{"$f":"_xll.BDP(B92,$BH$2)","v":4.8560933005897322},{"$f":"_xll.BDP(B92,$BI$2)","v":-4.6061785696489448},null,{"$f":"_xll.BDP(B92,$BK$2)","v":91.723889999999997},{"$f":"_xll.BDP(B92,$BL$2)","v":"#N/A Field Not Applicable"},{"$f":"_xll.BDP(B92,$BM$2)","v":61.868760387550104},{"$f":"_xll.BDP(B92,$BN$2)","v":3.7670720980814646E-3},{"$f":"_xll.BDP(B92,$BO$2)","v":79.12474614625971},{"$f":"_xll.BDP(AC92 & \" Equity\",$BP$2)","v":"#N/A N/A"},{"$f":"_xll.BDP(AC92 & \" Equity\",$BQ$2)","v":"05.02.2015"},{"$f":"_xll.BDP(AC92 & \" Equity\",$BR$2)","v":49.714077073563374}]
["US92343XAA81",{"$f":"A93 & \" Corp\"","v":"US92343XAA81 Corp"},"Verint Systems",{"$f":"_xll.BDP(B93,$D$2)","v":"VERINT SYSTEMS INC"},{"$f":"_xll.BDP(B93,$E$2)","v":1.5},{"$f":"_xll.BDP(B93,$F$2)","v":"01.06.2021"},{"$f":"_xll.BDP(B93,$G$2)","v":"#N/A Field Not Applicable"},{"$f":"_xll.BDP(B93,$H$2)","v":"#N/A Field Not Applicable"},"2015-01-15","NE Juni 14; communication analytics",1,{"$f":"ROUND((T93*T$2+U93*U$2+S93*S$2+IF(P93=\"NR\",0,P93^2*SIGN(P93))+M93*M$2)/(L$2-IF(P93=\"NR\",0,P$2)-IF(S93,0,S$2)),0)","v":1},1,0,0,null,"2014-06-19",-1,{"$f":"VLOOKUP(AX93,[1]Sheet1!$C$8:$D$23,2,FALSE)","v":1},{"$f":"MIN(ROUND(ABS(V93/AD93)*200,0),2)*SIGN(V93)","v":-1},{"$f":"MIN(ROUND(ABS(X93),0),2)*IFERROR(SIGN(X93),0)","v":0},{"$f":"_xll.BDP(AC93 & \" Equity\",$V$3)","v":-0.311431884765625},{"$f":"_xll.BDP(AC93 & \" Equity\",$W$3)","v":16.825126022097884},{"$f":"IFERROR(10*LN((100+Z93)/(100+$Z$1))+2*LN((100+$W$2)/(100+W93)),0)","v":-0.32096528856948214},{"$f":"_xll.BDP(AC93 & \" Equity\",$Y$2)","v":-2.3637299999999999},{"$f":"_xll.BDP(AC93 & \" Equity\",$Z$2)","v":5.2681589999999998},{"$f":"_xll.BDP(AC93 & \" Equity\",$AA$2)","v":-5.0274520000000003},{"$f":"_xll.BDP(AC93 & \" Equity\",$AB$2)","v":"VRNT US"},{"$f":"_xll.BDP(B93,$AC$2)","v":"EQ0000000000109380"},{"$f":"_xll.BDP(AC93 & \" Equity\",$AD$2)","v":54.69},60,55,{"$f":"_xll.BDP(B93,$AG$2)","v":"USD"},{"$f":"_xll.BDP(B93,$AH$2)","v":400000000},{"$f":"IFERROR(VLOOKUP(A93,'Fisch Holding'!$A$5:$C$1245,3,FALSE)/AH93,\"-\")","v":1.025E-2},{"$f":"IFERROR(VLOOKUP(A93,'BM Weight'!$A$7:$D$1020,3,FALSE),\"-\")","v":"-"},{"$f":"IFERROR(VLOOKUP(A93,'BM Weight'!$A$7:$D$1020,4,FALSE),\"-    \")","v":"-    "},{"$f":"IFERROR(VLOOKUP(A93,'Implied Rating'!$B$7:$C$1179,2,FALSE),\"-\")","v":"BBB-"},{"$f":"IFERROR(VLOOKUP(A93,'ICV Rating'!$B$5:$E$1306,2,FALSE),\"-\")","v":0},{"$f":"_xll.BDP(B93,$AN$2)","v":"NR"},{"$f":"_xll.BDP(B93,$AO$2)","v":"Ba3"},{"$f":"_xll.BDP(B93,$AP$2)","v":"BB"},{"$f":"_xll.BDP(B93,$AQ$2)","v":"N"},{"$f":"_xll.BDP(B93,$AR$2)","v":"Optionally"},{"$f":"_xll.BDP(B93,$AS$2)","v":"N"},{"$f":"_xll.BDP(B93,$AT$2)","v":"N"},{"$f":"_xll.BDP(B93,$AU$2)","v":"N"},{"$f":"_xll.BDP(B93,$AV$2)","v":"N"},{"$f":"_xll.BDP(B93,$AW$2)","v":"US"},{"$f":"_xll.BDP(AC93 & \" Equity\",$AX$2)","v":"Information Technology"},{"$f":"_xll.BDP(AC93 & \" Equity\",$AY$2)","v":"Software & Services"},{"$f":"_xll.BDP(AC93 & \" Equity\",$AZ$2)","v":"Software"},null,0,{"$f":"_xll.BDP(B93,$BC$2)","v":6.0833234818335296},{"$f":"_xll.BDP(B93,$BD$2)","v":2.3822157937160426},{"$f":"_xll.BDP(B93,$BE$2)","v":-144.48296442876932},{"$f":"_xll.BDP(B93,$BF$2)","v":0.248},{"$f":"_xll.BDP(B93,$BG$2)","v":-1.6398998162275702},{"$f":"_xll.BDP(B93,$BH$2)","v":-1.6383716553828125},{"$f":"_xll.BDP(B93,$BI$2)","v":1.8296792628110805},null,{"$f":"_xll.BDP(B93,$BK$2)","v":107.7136},{"$f":"_xll.BDP(B93,$BL$2)","v":"#N/A Field Not Applicable"},{"$f":"_xll.BDP(B93,$BM$2)","v":75.921226524352875},{"$f":"_xll.BDP(B93,$BN$2)","v":4.1189931191298445E-3},{"$f":"_xll.BDP(B93,$BO$2)","v":25.659329578050588},{"$f":"_xll.BDP(AC93 & \" Equity\",$BP$2)","v":"#N/A N/A"},{"$f":"_xll.BDP(AC93 & \" Equity\",$BQ$2)","v":"31.03.2015"},{"$f":"_xll.BDP(AC93 & \" Equity\",$BR$2)","v":22.988131384089609}]
["US92343EAC66",{"$f":"A94 & \" Corp\"","v":"US92343EAC66 Corp"},"VERISIGN INC",{"$f":"_xll.BDP(B94,$D$2)","v":"VERISIGN INC"},{"$f":"_xll.BDP(B94,$E$2)","v":4.0861200000000002},{"$f":"_xll.BDP(B94,$F$2)","v":"15.08.2037"},{"$f":"_xll.BDP(B94,$G$2)","v":"#N/A Field Not Applicable"},{"$f":"_xll.BDP(B94,$H$2)","v":"#N/A Field Not Applicable"},"2013-09-24","Call August 2017",-1,{"$f":"ROUND((T94*T$2+U94*U$2+S94*S$2+IF(P94=\"NR\",0,P94^2*SIGN(P94))+M94*M$2)/(L$2-IF(P94=\"NR\",0,P$2)-IF(S94,0,S$2)),0)","v":0},-1,1,-1,"NR","2013-09-24",-1,{"$f":"VLOOKUP(AX94,[1]Sheet1!$C$8:$D$23,2,FALSE)","v":1},{"$f":"MIN(ROUND(ABS(V94/AD94)*200,0),2)*SIGN(V94)","v":0},{"$f":"MIN(ROUND(ABS(X94),0),2)*IFERROR(SIGN(X94),0)","v":0},{"$f":"_xll.BDP(AC94 & \" Equity\",$V$3)","v":-1.2368708848953247E-2},{"$f":"_xll.BDP(AC94 & \" Equity\",$W$3)","v":19.829796255455356},{"$f":"IFERROR(10*LN((100+Z94)/(100+$Z$1))+2*LN((100+$W$2)/(100+W94)),0)","v":-0.31373427496822764},{"$f":"_xll.BDP(AC94 & \" Equity\",$Y$2)","v":-0.39830349999999998},{"$f":"_xll.BDP(AC94 & \" Equity\",$Z$2)","v":5.8806940000000001},{"$f":"_xll.BDP(AC94 & \" Equity\",$AA$2)","v":-1.289474},{"$f":"_xll.BDP(AC94 & \" Equity\",$AB$2)","v":"VRSN US"},{"$f":"_xll.BDP(B94,$AC$2)","v":"EQ0030298300001000"},{"$f":"_xll.BDP(AC94 & \" Equity\",$AD$2)","v":56.07},61,55,{"$f":"_xll.BDP(B94,$AG$2)","v":"USD"},{"$f":"_xll.BDP(B94,$AH$2)","v":1250000000},{"$f":"IFERROR(VLOOKUP(A94,'Fisch Holding'!$A$5:$C$1245,3,FALSE)/AH94,\"-\")","v":"-"},{"$f":"IFERROR(VLOOKUP(A94,'BM Weight'!$A$7:$D$1020,3,FALSE),\"-\")","v":"-"},{"$f":"IFERROR(VLOOKUP(A94,'BM Weight'!$A$7:$D$1020,4,FALSE),\"-    \")","v":"-    "},{"$f":"IFERROR(VLOOKUP(A94,'Implied Rating'!$B$7:$C$1179,2,FALSE),\"-\")","v":"-"},{"$f":"IFERROR(VLOOKUP(A94,'ICV Rating'!$B$5:$E$1306,2,FALSE),\"-\")","v":"-"},{"$f":"_xll.BDP(B94,$AN$2)","v":"NR"},{"$f":"_xll.BDP(B94,$AO$2)","v":"Ba2"},{"$f":"_xll.BDP(B94,$AP$2)","v":"BB+"},{"$f":"_xll.BDP(B94,$AQ$2)","v":"N"},{"$f":"_xll.BDP(B94,$AR$2)","v":"Optionally"},{"$f":"_xll.BDP(B94,$AS$2)","v":"Y"},{"$f":"_xll.BDP(B94,$AT$2)","v":"N"},{"$f":"_xll.BDP(B94,$AU$2)","v":"N"},{"$f":"_xll.BDP(B94,$AV$2)","v":"N"},{"$f":"_xll.BDP(B94,$AW$2)","v":"US"},{"$f":"_xll.BDP(AC94 & \" Equity\",$AX$2)","v":"Information Technology"},{"$f":"_xll.BDP(AC94 & \" Equity\",$AY$2)","v":"Software & Services"},{"$f":"_xll.BDP(AC94 & \" Equity\",$AZ$2)","v":"Internet Software & Services"},null,0,{"$f":"_xll.BDP(B94,$BC$2)","v":17.622003762830733},{"$f":"_xll.BDP(B94,$BD$2)","v":3.291516641144368E-2},{"$f":"_xll.BDP(B94,$BE$2)","v":-222.35849570331703},{"$f":"_xll.BDP(B94,$BF$2)","v":0.14599999999999999},{"$f":"_xll.BDP(B94,$BG$2)","v":0.86284993510837316},{"$f":"_xll.BDP(B94,$BH$2)","v":-0.74413731604890898},{"$f":"_xll.BDP(B94,$BI$2)","v":3.5341327073194386},null,{"$f":"_xll.BDP(B94,$BK$2)","v":168.7713},{"$f":"_xll.BDP(B94,$BL$2)","v":"#N/A Field Not Applicable"},{"$f":"_xll.BDP(B94,$BM$2)","v":99.837376417782181},{"$f":"_xll.BDP(B94,$BN$2)","v":6.698157465565649E-5},{"$f":"_xll.BDP(B94,$BO$2)","v":3.1975786833239637},{"$f":"_xll.BDP(AC94 & \" Equity\",$BP$2)","v":"#N/A N/A"},{"$f":"_xll.BDP(AC94 & \" Equity\",$BQ$2)","v":"05.02.2015"},{"$f":"_xll.BDP(AC94 & \" Equity\",$BR$2)","v":19.762848067189271}]
["US92763AAA97",{"$f":"A95 & \" Corp\"","v":"US92763AAA97 Corp"},"Violin Memory",{"$f":"_xll.BDP(B95,$D$2)","v":"VIOLIN MEMORY INC"},{"$f":"_xll.BDP(B95,$E$2)","v":4.25},{"$f":"_xll.BDP(B95,$F$2)","v":"01.10.2019"},{"$f":"_xll.BDP(B95,$G$2)","v":"#N/A Field Not Applicable"},{"$f":"_xll.BDP(B95,$H$2)","v":"#N/A Field Not Applicable"},"2014-11-27","NE Sept. 14; nur USD 105 Mio",0,{"$f":"ROUND((T95*T$2+U95*U$2+S95*S$2+IF(P95=\"NR\",0,P95^2*SIGN(P95))+M95*M$2)/(L$2-IF(P95=\"NR\",0,P$2)-IF(S95,0,S$2)),0)","v":0},1,1,-2,0,"2013-05-27",-1,{"$f":"VLOOKUP(AX95,[1]Sheet1!$C$8:$D$23,2,FALSE)","v":1},{"$f":"MIN(ROUND(ABS(V95/AD95)*200,0),2)*SIGN(V95)","v":-2},{"$f":"MIN(ROUND(ABS(X95),0),2)*IFERROR(SIGN(X95),0)","v":-1},{"$f":"_xll.BDP(AC95 & \" Equity\",$V$3)","v":-3.6949019879102707E-2},{"$f":"_xll.BDP(AC95 & \" Equity\",$W$3)","v":45.872253091463541},{"$f":"IFERROR(10*LN((100+Z95)/(100+$Z$1))+2*LN((100+$W$2)/(100+W95)),0)","v":-0.79395567808331435},{"$f":"_xll.BDP(AC95 & \" Equity\",$Y$2)","v":-1.3333330000000001},{"$f":"_xll.BDP(AC95 & \" Equity\",$Z$2)","v":4.9645390000000003},{"$f":"_xll.BDP(AC95 & \" Equity\",$AA$2)","v":-7.306889},{"$f":"_xll.BDP(AC95 & \" Equity\",$AB$2)","v":"VMEM US"},{"$f":"_xll.BDP(B95,$AC$2)","v":"EQ0000000010459337"},{"$f":"_xll.BDP(AC95 & \" Equity\",$AD$2)","v":4.24},5,4,{"$f":"_xll.BDP(B95,$AG$2)","v":"USD"},{"$f":"_xll.BDP(B95,$AH$2)","v":105000000},{"$f":"IFERROR(VLOOKUP(A95,'Fisch Holding'!$A$5:$C$1245,3,FALSE)/AH95,\"-\")","v":"-"},{"$f":"IFERROR(VLOOKUP(A95,'BM Weight'!$A$7:$D$1020,3,FALSE),\"-\")","v":"-"},{"$f":"IFERROR(VLOOKUP(A95,'BM Weight'!$A$7:$D$1020,4,FALSE),\"-    \")","v":"-    "},{"$f":"IFERROR(VLOOKUP(A95,'Implied Rating'!$B$7:$C$1179,2,FALSE),\"-\")","v":"-"},{"$f":"IFERROR(VLOOKUP(A95,'ICV Rating'!$B$5:$E$1306,2,FALSE),\"-\")","v":"-"},{"$f":"_xll.BDP(B95,$AN$2)","v":"#N/A N/A"},{"$f":"_xll.BDP(B95,$AO$2)","v":"#N/A N/A"},{"$f":"_xll.BDP(B95,$AP$2)","v":"#N/A N/A"},{"$f":"_xll.BDP(B95,$AQ$2)","v":"N"},{"$f":"_xll.BDP(B95,$AR$2)","v":"Optionally"},{"$f":"_xll.BDP(B95,$AS$2)","v":"N"},{"$f":"_xll.BDP(B95,$AT$2)","v":"N"},{"$f":"_xll.BDP(B95,$AU$2)","v":"N"},{"$f":"_xll.BDP(B95,$AV$2)","v":"N"},{"$f":"_xll.BDP(B95,$AW$2)","v":"US"},{"$f":"_xll.BDP(AC95 & \" Equity\",$AX$2)","v":"Information Technology"},{"$f":"_xll.BDP(AC95 & \" Equity\",$AY$2)","v":"Technology Hardware & Equipmen"},{"$f":"_xll.BDP(AC95 & \" Equity\",$AZ$2)","v":"Technology Hardware, Storage &"},null,0,{"$f":"_xll.BDP(B95,$BC$2)","v":4.1649486006437106},{"$f":"_xll.BDP(B95,$BD$2)","v":1.2355256798389866},{"$f":"_xll.BDP(B95,$BE$2)","v":248.44003025007999},{"$f":"_xll.BDP(B95,$BF$2)","v":3.9050000000000002},{"$f":"_xll.BDP(B95,$BG$2)","v":-3.5436492941636448},{"$f":"_xll.BDP(B95,$BH$2)","v":-2.6148628416856159},{"$f":"_xll.BDP(B95,$BI$2)","v":-0.2951031692002648},null,{"$f":"_xll.BDP(B95,$BK$2)","v":100.6889},{"$f":"_xll.BDP(B95,$BL$2)","v":"#N/A Field Not Applicable"},{"$f":"_xll.BDP(B95,$BM$2)","v":85.613242465229249},{"$f":"_xll.BDP(B95,$BN$2)","v":1.7996395077244057E-3},{"$f":"_xll.BDP(B95,$BO$2)","v":28.488713070910755},{"$f":"_xll.BDP(AC95 & \" Equity\",$BP$2)","v":"#N/A N/A"},{"$f":"_xll.BDP(AC95 & \" Equity\",$BQ$2)","v":"06.03.2015"},{"$f":"_xll.BDP(AC95 & \" Equity\",$BR$2)","v":57.689546311145619}]
["US928298AJ77",{"$f":"A96 & \" Corp\"","v":"US928298AJ77 Corp"},"VISHAY INTERTECHNOLOGY",{"$f":"_xll.BDP(B96,$D$2)","v":"VISHAY INTERTECHNOLOGY"},{"$f":"_xll.BDP(B96,$E$2)","v":2.25},{"$f":"_xll.BDP(B96,$F$2)","v":"15.05.2041"},{"$f":"_xll.BDP(B96,$G$2)","v":"#N/A Field Not Applicable"},{"$f":"_xll.BDP(B96,$H$2)","v":"#N/A Field Not Applicable"},"2014-06-12","USD 150 Mio ; Call Mai 21; Ba3/BB+",0,{"$f":"ROUND((T96*T$2+U96*U$2+S96*S$2+IF(P96=\"NR\",0,P96^2*SIGN(P96))+M96*M$2)/(L$2-IF(P96=\"NR\",0,P$2)-IF(S96,0,S$2)),0)","v":1},1,1,-1,0,"2014-06-12",-1,{"$f":"VLOOKUP(AX96,[1]Sheet1!$C$8:$D$23,2,FALSE)","v":1},{"$f":"MIN(ROUND(ABS(V96/AD96)*200,0),2)*SIGN(V96)","v":-1},{"$f":"MIN(ROUND(ABS(X96),0),2)*IFERROR(SIGN(X96),0)","v":0},{"$f":"_xll.BDP(AC96 & \" Equity\",$V$3)","v":-7.8130915760993958E-2},{"$f":"_xll.BDP(AC96 & \" Equity\",$W$3)","v":26.758734137262696},{"$f":"IFERROR(10*LN((100+Z96)/(100+$Z$1))+2*LN((100+$W$2)/(100+W96)),0)","v":-0.49959135358235812},{"$f":"_xll.BDP(AC96 & \" Equity\",$Y$2)","v":1.5945320000000001},{"$f":"_xll.BDP(AC96 & \" Equity\",$Z$2)","v":5.106052},{"$f":"_xll.BDP(AC96 & \" Equity\",$AA$2)","v":-5.441694},{"$f":"_xll.BDP(AC96 & \" Equity\",$AB$2)","v":"VSH US"},{"$f":"_xll.BDP(B96,$AC$2)","v":"EQ0010160100001000"},{"$f":"_xll.BDP(AC96 & \" Equity\",$AD$2)","v":13.31},14.4,13,{"$f":"_xll.BDP(B96,$AG$2)","v":"USD"},{"$f":"_xll.BDP(B96,$AH$2)","v":150000000},{"$f":"IFERROR(VLOOKUP(A96,'Fisch Holding'!$A$5:$C$1245,3,FALSE)/AH96,\"-\")","v":"-"},{"$f":"IFERROR(VLOOKUP(A96,'BM Weight'!$A$7:$D$1020,3,FALSE),\"-\")","v":"-"},{"$f":"IFERROR(VLOOKUP(A96,'BM Weight'!$A$7:$D$1020,4,FALSE),\"-    \")","v":"-    "},{"$f":"IFERROR(VLOOKUP(A96,'Implied Rating'!$B$7:$C$1179,2,FALSE),\"-\")","v":"-"},{"$f":"IFERROR(VLOOKUP(A96,'ICV Rating'!$B$5:$E$1306,2,FALSE),\"-\")","v":"-"},{"$f":"_xll.BDP(B96,$AN$2)","v":"NR"},{"$f":"_xll.BDP(B96,$AO$2)","v":"Ba3"},{"$f":"_xll.BDP(B96,$AP$2)","v":"BB+"},{"$f":"_xll.BDP(B96,$AQ$2)","v":"N"},{"$f":"_xll.BDP(B96,$AR$2)","v":"Optionally"},{"$f":"_xll.BDP(B96,$AS$2)","v":"N"},{"$f":"_xll.BDP(B96,$AT$2)","v":"#N/A N/A"},{"$f":"_xll.BDP(B96,$AU$2)","v":"N"},{"$f":"_xll.BDP(B96,$AV$2)","v":"N"},{"$f":"_xll.BDP(B96,$AW$2)","v":"US"},{"$f":"_xll.BDP(AC96 & \" Equity\",$AX$2)","v":"Information Technology"},{"$f":"_xll.BDP(AC96 & \" Equity\",$AY$2)","v":"Technology Hardware & Equipmen"},{"$f":"_xll.BDP(AC96 & \" Equity\",$AZ$2)","v":"Electronic Equip., Instruments"},null,0,{"$f":"_xll.BDP(B96,$BC$2)","v":19.046630160640856},{"$f":"_xll.BDP(B96,$BD$2)","v":1.8433182452845747},{"$f":"_xll.BDP(B96,$BE$2)","v":57.508725982221627},{"$f":"_xll.BDP(B96,$BF$2)","v":2.972},{"$f":"_xll.BDP(B96,$BG$2)","v":-0.43340711999115666},{"$f":"_xll.BDP(B96,$BH$2)","v":1.7902340759710911},{"$f":"_xll.BDP(B96,$BI$2)","v":2.4842771968986157},null,{"$f":"_xll.BDP(B96,$BK$2)","v":86.315520000000006},{"$f":"_xll.BDP(B96,$BL$2)","v":"#N/A Field Not Applicable"},{"$f":"_xll.BDP(B96,$BM$2)","v":92.532225727475677},{"$f":"_xll.BDP(B96,$BN$2)","v":8.7143073788851306E-4},{"$f":"_xll.BDP(B96,$BO$2)","v":21.534100446542677},{"$f":"_xll.BDP(AC96 & \" Equity\",$BP$2)","v":1.7937219330013601},{"$f":"_xll.BDP(AC96 & \" Equity\",$BQ$2)","v":"05.02.2015"},{"$f":"_xll.BDP(AC96 & \" Equity\",$BR$2)","v":29.48074624150988}]
["US928298AG39",{"$f":"A97 & \" Corp\"","v":"US928298AG39 Corp"},"VISHAY INTERTECHNOLOGY",{"$f":"_xll.BDP(B97,$D$2)","v":"VISHAY INTERTECHNOLOGY"},{"$f":"_xll.BDP(B97,$E$2)","v":2.25},{"$f":"_xll.BDP(B97,$F$2)","v":"15.11.2040"},{"$f":"_xll.BDP(B97,$G$2)","v":"#N/A Field Not Applicable"},{"$f":"_xll.BDP(B97,$H$2)","v":"#N/A Field Not Applicable"},"2014-06-12","USD 275 Mio; BB+; Call Nov. 20; Ba3/BB+",0,{"$f":"ROUND((T97*T$2+U97*U$2+S97*S$2+IF(P97=\"NR\",0,P97^2*SIGN(P97))+M97*M$2)/(L$2-IF(P97=\"NR\",0,P$2)-IF(S97,0,S$2)),0)","v":1},1,1,-1,0,"2014-06-12",-1,{"$f":"VLOOKUP(AX97,[1]Sheet1!$C$8:$D$23,2,FALSE)","v":1},{"$f":"MIN(ROUND(ABS(V97/AD97)*200,0),2)*SIGN(V97)","v":-1},{"$f":"MIN(ROUND(ABS(X97),0),2)*IFERROR(SIGN(X97),0)","v":0},{"$f":"_xll.BDP(AC97 & \" Equity\",$V$3)","v":-7.8130915760993958E-2},{"$f":"_xll.BDP(AC97 & \" Equity\",$W$3)","v":26.758734137262696},{"$f":"IFERROR(10*LN((100+Z97)/(100+$Z$1))+2*LN((100+$W$2)/(100+W97)),0)","v":-0.49959135358235812},{"$f":"_xll.BDP(AC97 & \" Equity\",$Y$2)","v":1.5945320000000001},{"$f":"_xll.BDP(AC97 & \" Equity\",$Z$2)","v":5.106052},{"$f":"_xll.BDP(AC97 & \" Equity\",$AA$2)","v":-5.441694},{"$f":"_xll.BDP(AC97 & \" Equity\",$AB$2)","v":"VSH US"},{"$f":"_xll.BDP(B97,$AC$2)","v":"EQ0010160100001000"},{"$f":"_xll.BDP(AC97 & \" Equity\",$AD$2)","v":13.31},14.4,13,{"$f":"_xll.BDP(B97,$AG$2)","v":"USD"},{"$f":"_xll.BDP(B97,$AH$2)","v":275000000},{"$f":"IFERROR(VLOOKUP(A97,'Fisch Holding'!$A$5:$C$1245,3,FALSE)/AH97,\"-\")","v":"-"},{"$f":"IFERROR(VLOOKUP(A97,'BM Weight'!$A$7:$D$1020,3,FALSE),\"-\")","v":"-"},{"$f":"IFERROR(VLOOKUP(A97,'BM Weight'!$A$7:$D$1020,4,FALSE),\"-    \")","v":"-    "},{"$f":"IFERROR(VLOOKUP(A97,'Implied Rating'!$B$7:$C$1179,2,FALSE),\"-\")","v":"-"},{"$f":"IFERROR(VLOOKUP(A97,'ICV Rating'!$B$5:$E$1306,2,FALSE),\"-\")","v":"-"},{"$f":"_xll.BDP(B97,$AN$2)","v":"NR"},{"$f":"_xll.BDP(B97,$AO$2)","v":"Ba3"},{"$f":"_xll.BDP(B97,$AP$2)","v":"BB+"},{"$f":"_xll.BDP(B97,$AQ$2)","v":"N"},{"$f":"_xll.BDP(B97,$AR$2)","v":"Optionally"},{"$f":"_xll.BDP(B97,$AS$2)","v":"N"},{"$f":"_xll.BDP(B97,$AT$2)","v":"N"},{"$f":"_xll.BDP(B97,$AU$2)","v":"N"},{"$f":"_xll.BDP(B97,$AV$2)","v":"N"},{"$f":"_xll.BDP(B97,$AW$2)","v":"US"},{"$f":"_xll.BDP(AC97 & \" Equity\",$AX$2)","v":"Information Technology"},{"$f":"_xll.BDP(AC97 & \" Equity\",$AY$2)","v":"Technology Hardware & Equipmen"},{"$f":"_xll.BDP(AC97 & \" Equity\",$AZ$2)","v":"Electronic Equip., Instruments"},null,0,{"$f":"_xll.BDP(B97,$BC$2)","v":19.656876926425511},{"$f":"_xll.BDP(B97,$BD$2)","v":0.3476438716872457},{"$f":"_xll.BDP(B97,$BE$2)","v":-47.459972432922676},{"$f":"_xll.BDP(B97,$BF$2)","v":1.9300000000000002},{"$f":"_xll.BDP(B97,$BG$2)","v":-0.7111922497363149},{"$f":"_xll.BDP(B97,$BH$2)","v":0.42264532037412572},{"$f":"_xll.BDP(B97,$BI$2)","v":2.595628781900567},null,{"$f":"_xll.BDP(B97,$BK$2)","v":105.9263},{"$f":"_xll.BDP(B97,$BL$2)","v":"#N/A Field Not Applicable"},{"$f":"_xll.BDP(B97,$BM$2)","v":98.909412271507961},{"$f":"_xll.BDP(B97,$BN$2)","v":1.9008209395838079E-4},{"$f":"_xll.BDP(B97,$BO$2)","v":8.707247885893894},{"$f":"_xll.BDP(AC97 & \" Equity\",$BP$2)","v":1.7937219330013601},{"$f":"_xll.BDP(AC97 & \" Equity\",$BQ$2)","v":"05.02.2015"},{"$f":"_xll.BDP(AC97 & \" Equity\",$BR$2)","v":29.48074624150988}]
["US928298AL24",{"$f":"A98 & \" Corp\"","v":"US928298AL24 Corp"},"VISHAY INTERTECHNOLOGY",{"$f":"_xll.BDP(B98,$D$2)","v":"VISHAY INTERTECHNOLOGY"},{"$f":"_xll.BDP(B98,$E$2)","v":2.25},{"$f":"_xll.BDP(B98,$F$2)","v":"01.06.2042"},{"$f":"_xll.BDP(B98,$G$2)","v":"#N/A Field Not Applicable"},{"$f":"_xll.BDP(B98,$H$2)","v":"#N/A Field Not Applicable"},"2013-05-27","USD 150 Mio",0,{"$f":"ROUND((T98*T$2+U98*U$2+S98*S$2+IF(P98=\"NR\",0,P98^2*SIGN(P98))+M98*M$2)/(L$2-IF(P98=\"NR\",0,P$2)-IF(S98,0,S$2)),0)","v":-1},-1,1,-2,0,"2013-05-27",-1,{"$f":"VLOOKUP(AX98,[1]Sheet1!$C$8:$D$23,2,FALSE)","v":1},{"$f":"MIN(ROUND(ABS(V98/AD98)*200,0),2)*SIGN(V98)","v":-1},{"$f":"MIN(ROUND(ABS(X98),0),2)*IFERROR(SIGN(X98),0)","v":0},{"$f":"_xll.BDP(AC98 & \" Equity\",$V$3)","v":-7.8130915760993958E-2},{"$f":"_xll.BDP(AC98 & \" Equity\",$W$3)","v":26.758734137262696},{"$f":"IFERROR(10*LN((100+Z98)/(100+$Z$1))+2*LN((100+$W$2)/(100+W98)),0)","v":-0.49959135358235812},{"$f":"_xll.BDP(AC98 & \" Equity\",$Y$2)","v":1.5945320000000001},{"$f":"_xll.BDP(AC98 & \" Equity\",$Z$2)","v":5.106052},{"$f":"_xll.BDP(AC98 & \" Equity\",$AA$2)","v":-5.441694},{"$f":"_xll.BDP(AC98 & \" Equity\",$AB$2)","v":"VSH US"},{"$f":"_xll.BDP(B98,$AC$2)","v":"EQ0010160100001000"},{"$f":"_xll.BDP(AC98 & \" Equity\",$AD$2)","v":13.31},14.4,13,{"$f":"_xll.BDP(B98,$AG$2)","v":"USD"},{"$f":"_xll.BDP(B98,$AH$2)","v":150000000},{"$f":"IFERROR(VLOOKUP(A98,'Fisch Holding'!$A$5:$C$1245,3,FALSE)/AH98,\"-\")","v":"-"},{"$f":"IFERROR(VLOOKUP(A98,'BM Weight'!$A$7:$D$1020,3,FALSE),\"-\")","v":"-"},{"$f":"IFERROR(VLOOKUP(A98,'BM Weight'!$A$7:$D$1020,4,FALSE),\"-    \")","v":"-    "},{"$f":"IFERROR(VLOOKUP(A98,'Implied Rating'!$B$7:$C$1179,2,FALSE),\"-\")","v":"-"},{"$f":"IFERROR(VLOOKUP(A98,'ICV Rating'!$B$5:$E$1306,2,FALSE),\"-\")","v":"-"},{"$f":"_xll.BDP(B98,$AN$2)","v":"NR"},{"$f":"_xll.BDP(B98,$AO$2)","v":"Ba3"},{"$f":"_xll.BDP(B98,$AP$2)","v":"BB+"},{"$f":"_xll.BDP(B98,$AQ$2)","v":"N"},{"$f":"_xll.BDP(B98,$AR$2)","v":"Optionally"},{"$f":"_xll.BDP(B98,$AS$2)","v":"N"},{"$f":"_xll.BDP(B98,$AT$2)","v":"Y"},{"$f":"_xll.BDP(B98,$AU$2)","v":"N"},{"$f":"_xll.BDP(B98,$AV$2)","v":"N"},{"$f":"_xll.BDP(B98,$AW$2)","v":"US"},{"$f":"_xll.BDP(AC98 & \" Equity\",$AX$2)","v":"Information Technology"},{"$f":"_xll.BDP(AC98 & \" Equity\",$AY$2)","v":"Technology Hardware & Equipmen"},{"$f":"_xll.BDP(AC98 & \" Equity\",$AZ$2)","v":"Electronic Equip., Instruments"},null,0,{"$f":"_xll.BDP(B98,$BC$2)","v":21.107543287506317},{"$f":"_xll.BDP(B98,$BD$2)","v":0.15111389854944277},{"$f":"_xll.BDP(B98,$BE$2)","v":-111.28531169198209},{"$f":"_xll.BDP(B98,$BF$2)","v":1.3080000000000001},{"$f":"_xll.BDP(B98,$BG$2)","v":-0.80474456735476119},{"$f":"_xll.BDP(B98,$BH$2)","v":1.3945368651410224},{"$f":"_xll.BDP(B98,$BI$2)","v":3.2371638197785719},null,{"$f":"_xll.BDP(B98,$BK$2)","v":121.099},{"$f":"_xll.BDP(B98,$BL$2)","v":"#N/A Field Not Applicable"},{"$f":"_xll.BDP(B98,$BM$2)","v":99.873481728351493},{"$f":"_xll.BDP(B98,$BN$2)","v":3.3929225123704631E-5},{"$f":"_xll.BDP(B98,$BO$2)","v":5.5878964211810249},{"$f":"_xll.BDP(AC98 & \" Equity\",$BP$2)","v":1.7937219330013601},{"$f":"_xll.BDP(AC98 & \" Equity\",$BQ$2)","v":"05.02.2015"},{"$f":"_xll.BDP(AC98 & \" Equity\",$BR$2)","v":29.48074624150988}]
["US94733AAA25",{"$f":"A99 & \" Corp\"","v":"US94733AAA25 Corp"},"WEB.COM GROUP INC",{"$f":"_xll.BDP(B99,$D$2)","v":"WEB.COM GROUP INC"},{"$f":"_xll.BDP(B99,$E$2)","v":1},{"$f":"_xll.BDP(B99,$F$2)","v":"15.08.2018"},{"$f":"_xll.BDP(B99,$G$2)","v":"#N/A Field Not Applicable"},{"$f":"_xll.BDP(B99,$H$2)","v":"#N/A Field Not Applicable"},"2014-04-07","NE 8.13; 259 Mio; Rating B; I-CV MW 8.13",-1,{"$f":"ROUND((T99*T$2+U99*U$2+S99*S$2+IF(P99=\"NR\",0,P99^2*SIGN(P99))+M99*M$2)/(L$2-IF(P99=\"NR\",0,P$2)-IF(S99,0,S$2)),0)","v":-1},-1,0,0,-1,"2014-04-07",-1,{"$f":"VLOOKUP(AX99,[1]Sheet1!$C$8:$D$23,2,FALSE)","v":1},{"$f":"MIN(ROUND(ABS(V99/AD99)*200,0),2)*SIGN(V99)","v":-2},{"$f":"MIN(ROUND(ABS(X99),0),2)*IFERROR(SIGN(X99),0)","v":-2},{"$f":"_xll.BDP(AC99 & \" Equity\",$V$3)","v":-0.20440952479839325},{"$f":"_xll.BDP(AC99 & \" Equity\",$W$3)","v":81.121243647056048},{"$f":"IFERROR(10*LN((100+Z99)/(100+$Z$1))+2*LN((100+$W$2)/(100+W99)),0)","v":-2.4516043776867327},{"$f":"_xll.BDP(AC99 & \" Equity\",$Y$2)","v":-3.2420309999999999},{"$f":"_xll.BDP(AC99 & \" Equity\",$Z$2)","v":-7.1351899999999997},{"$f":"_xll.BDP(AC99 & \" Equity\",$AA$2)","v":-8.8467599999999997},{"$f":"_xll.BDP(AC99 & \" Equity\",$AB$2)","v":"WWWW US"},{"$f":"_xll.BDP(B99,$AC$2)","v":"EQ0145867600001000"},{"$f":"_xll.BDP(AC99 & \" Equity\",$AD$2)","v":17.100000000000001},25,15,{"$f":"_xll.BDP(B99,$AG$2)","v":"USD"},{"$f":"_xll.BDP(B99,$AH$2)","v":258750000},{"$f":"IFERROR(VLOOKUP(A99,'Fisch Holding'!$A$5:$C$1245,3,FALSE)/AH99,\"-\")","v":"-"},{"$f":"IFERROR(VLOOKUP(A99,'BM Weight'!$A$7:$D$1020,3,FALSE),\"-\")","v":"-"},{"$f":"IFERROR(VLOOKUP(A99,'BM Weight'!$A$7:$D$1020,4,FALSE),\"-    \")","v":"-    "},{"$f":"IFERROR(VLOOKUP(A99,'Implied Rating'!$B$7:$C$1179,2,FALSE),\"-\")","v":"BB-"},{"$f":"IFERROR(VLOOKUP(A99,'ICV Rating'!$B$5:$E$1306,2,FALSE),\"-\")","v":0},{"$f":"_xll.BDP(B99,$AN$2)","v":"#N/A N/A"},{"$f":"_xll.BDP(B99,$AO$2)","v":"#N/A N/A"},{"$f":"_xll.BDP(B99,$AP$2)","v":"NR"},{"$f":"_xll.BDP(B99,$AQ$2)","v":"N"},{"$f":"_xll.BDP(B99,$AR$2)","v":"Optionally"},{"$f":"_xll.BDP(B99,$AS$2)","v":"N"},{"$f":"_xll.BDP(B99,$AT$2)","v":"N"},{"$f":"_xll.BDP(B99,$AU$2)","v":"N"},{"$f":"_xll.BDP(B99,$AV$2)","v":"N"},{"$f":"_xll.BDP(B99,$AW$2)","v":"US"},{"$f":"_xll.BDP(AC99 & \" Equity\",$AX$2)","v":"Information Technology"},{"$f":"_xll.BDP(AC99 & \" Equity\",$AY$2)","v":"Software & Services"},{"$f":"_xll.BDP(AC99 & \" Equity\",$AZ$2)","v":"Internet Software & Services"},null,0,{"$f":"_xll.BDP(B99,$BC$2)","v":3.4207475585655467},{"$f":"_xll.BDP(B99,$BD$2)","v":2.5566272228657159},{"$f":"_xll.BDP(B99,$BE$2)","v":278.71189900549763},{"$f":"_xll.BDP(B99,$BF$2)","v":4.0039999999999996},{"$f":"_xll.BDP(B99,$BG$2)","v":-0.95890361411124192},{"$f":"_xll.BDP(B99,$BH$2)","v":-0.56937931025137523},{"$f":"_xll.BDP(B99,$BI$2)","v":0.30230435778856191},null,{"$f":"_xll.BDP(B99,$BK$2)","v":89.570419999999999},{"$f":"_xll.BDP(B99,$BL$2)","v":"#N/A Field Not Applicable"},{"$f":"_xll.BDP(B99,$BM$2)","v":47.670789047190688},{"$f":"_xll.BDP(B99,$BN$2)","v":4.1310521107685207E-3},{"$f":"_xll.BDP(B99,$BO$2)","v":82.194295267787709},{"$f":"_xll.BDP(AC99 & \" Equity\",$BP$2)","v":"#N/A N/A"},{"$f":"_xll.BDP(AC99 & \" Equity\",$BQ$2)","v":"06.02.2015"},{"$f":"_xll.BDP(AC99 & \" Equity\",$BR$2)","v":67.790314609508258},null,"2014-02-03"]
["US94770VAH50",{"$f":"A100 & \" Corp\"","v":"US94770VAH50 Corp"},"WEBMD HEALTH CORP",{"$f":"_xll.BDP(B100,$D$2)","v":"WEBMD HEALTH CORP"},{"$f":"_xll.BDP(B100,$E$2)","v":2.25},{"$f":"_xll.BDP(B100,$F$2)","v":"31.03.2016"},{"$f":"_xll.BDP(B100,$G$2)","v":"#N/A Field Not Applicable"},{"$f":"_xll.BDP(B100,$H$2)","v":"#N/A Field Not Applicable"},"2014-07-07",null,-1,{"$f":"ROUND((T100*T$2+U100*U$2+S100*S$2+IF(P100=\"NR\",0,P100^2*SIGN(P100))+M100*M$2)/(L$2-IF(P100=\"NR\",0,P$2)-IF(S100,0,S$2)),0)","v":0},-1,-1,0,0,"2014-07-07",-1,{"$f":"VLOOKUP(AX100,[1]Sheet1!$C$8:$D$23,2,FALSE)","v":1},{"$f":"MIN(ROUND(ABS(V100/AD100)*200,0),2)*SIGN(V100)","v":1},{"$f":"MIN(ROUND(ABS(X100),0),2)*IFERROR(SIGN(X100),0)","v":0},{"$f":"_xll.BDP(AC100 & \" Equity\",$V$3)","v":0.15412673354148865},{"$f":"_xll.BDP(AC100 & \" Equity\",$W$3)","v":31.655855398552429},{"$f":"IFERROR(10*LN((100+Z100)/(100+$Z$1))+2*LN((100+$W$2)/(100+W100)),0)","v":-8.0417545443944249E-2},{"$f":"_xll.BDP(AC100 & \" Equity\",$Y$2)","v":10.10683},{"$f":"_xll.BDP(AC100 & \" Equity\",$Z$2)","v":10.43956},{"$f":"_xll.BDP(AC100 & \" Equity\",$AA$2)","v":1.643491},{"$f":"_xll.BDP(AC100 & \" Equity\",$AB$2)","v":"WBMD US"},{"$f":"_xll.BDP(B100,$AC$2)","v":"EQ0000000001753662"},{"$f":"_xll.BDP(AC100 & \" Equity\",$AD$2)","v":39.74},41,37,{"$f":"_xll.BDP(B100,$AG$2)","v":"USD"},{"$f":"_xll.BDP(B100,$AH$2)","v":252232000},{"$f":"IFERROR(VLOOKUP(A100,'Fisch Holding'!$A$5:$C$1245,3,FALSE)/AH100,\"-\")","v":"-"},{"$f":"IFERROR(VLOOKUP(A100,'BM Weight'!$A$7:$D$1020,3,FALSE),\"-\")","v":"-"},{"$f":"IFERROR(VLOOKUP(A100,'BM Weight'!$A$7:$D$1020,4,FALSE),\"-    \")","v":"-    "},{"$f":"IFERROR(VLOOKUP(A100,'Implied Rating'!$B$7:$C$1179,2,FALSE),\"-\")","v":"BB"},{"$f":"IFERROR(VLOOKUP(A100,'ICV Rating'!$B$5:$E$1306,2,FALSE),\"-\")","v":"B+"},{"$f":"_xll.BDP(B100,$AN$2)","v":"#N/A N/A"},{"$f":"_xll.BDP(B100,$AO$2)","v":"#N/A N/A"},{"$f":"_xll.BDP(B100,$AP$2)","v":"#N/A N/A"},{"$f":"_xll.BDP(B100,$AQ$2)","v":"N"},{"$f":"_xll.BDP(B100,$AR$2)","v":"Optionally"},{"$f":"_xll.BDP(B100,$AS$2)","v":"N"},{"$f":"_xll.BDP(B100,$AT$2)","v":"Y"},{"$f":"_xll.BDP(B100,$AU$2)","v":"N"},{"$f":"_xll.BDP(B100,$AV$2)","v":"N"},{"$f":"_xll.BDP(B100,$AW$2)","v":"US"},{"$f":"_xll.BDP(AC100 & \" Equity\",$AX$2)","v":"Information Technology"},{"$f":"_xll.BDP(AC100 & \" Equity\",$AY$2)","v":"Software & Services"},{"$f":"_xll.BDP(AC100 & \" Equity\",$AZ$2)","v":"Internet Software & Services"},null,0,{"$f":"_xll.BDP(B100,$BC$2)","v":1.1656613068365966},{"$f":"_xll.BDP(B100,$BD$2)","v":1.0756305089558602},{"$f":"_xll.BDP(B100,$BE$2)","v":79.800477660712616},{"$f":"_xll.BDP(B100,$BF$2)","v":1.2570000000000001},{"$f":"_xll.BDP(B100,$BG$2)","v":0.11126962350618247},{"$f":"_xll.BDP(B100,$BH$2)","v":0.37244997884006942},{"$f":"_xll.BDP(B100,$BI$2)","v":0.71404641018900705},null,{"$f":"_xll.BDP(B100,$BK$2)","v":100.7353},{"$f":"_xll.BDP(B100,$BL$2)","v":"#N/A Field Not Applicable"},{"$f":"_xll.BDP(B100,$BM$2)","v":17.42135927280847},{"$f":"_xll.BDP(B100,$BN$2)","v":5.4791613085136094E-3},{"$f":"_xll.BDP(B100,$BO$2)","v":80.792418133638463},{"$f":"_xll.BDP(AC100 & \" Equity\",$BP$2)","v":"#N/A N/A"},{"$f":"_xll.BDP(AC100 & \" Equity\",$BQ$2)","v":"20.02.2015"},{"$f":"_xll.BDP(AC100 & \" Equity\",$BR$2)","v":34.325661797891613}]
["US94770VAF94",{"$f":"A101 & \" Corp\"","v":"US94770VAF94 Corp"},"WEBMD HEALTH CORP",{"$f":"_xll.BDP(B101,$D$2)","v":"WEBMD HEALTH CORP"},{"$f":"_xll.BDP(B101,$E$2)","v":2.5},{"$f":"_xll.BDP(B101,$F$2)","v":"31.01.2018"},{"$f":"_xll.BDP(B101,$G$2)","v":"#N/A Field Not Applicable"},{"$f":"_xll.BDP(B101,$H$2)","v":"#N/A Field Not Applicable"},"2014-07-07","yield play?",0,{"$f":"ROUND((T101*T$2+U101*U$2+S101*S$2+IF(P101=\"NR\",0,P101^2*SIGN(P101))+M101*M$2)/(L$2-IF(P101=\"NR\",0,P$2)-IF(S101,0,S$2)),0)","v":1},1,0,0,0,"2014-07-07",-1,{"$f":"VLOOKUP(AX101,[1]Sheet1!$C$8:$D$23,2,FALSE)","v":1},{"$f":"MIN(ROUND(ABS(V101/AD101)*200,0),2)*SIGN(V101)","v":1},{"$f":"MIN(ROUND(ABS(X101),0),2)*IFERROR(SIGN(X101),0)","v":0},{"$f":"_xll.BDP(AC101 & \" Equity\",$V$3)","v":0.15412673354148865},{"$f":"_xll.BDP(AC101 & \" Equity\",$W$3)","v":31.655855398552429},{"$f":"IFERROR(10*LN((100+Z101)/(100+$Z$1))+2*LN((100+$W$2)/(100+W101)),0)","v":-8.0417545443944249E-2},{"$f":"_xll.BDP(AC101 & \" Equity\",$Y$2)","v":10.10683},{"$f":"_xll.BDP(AC101 & \" Equity\",$Z$2)","v":10.43956},{"$f":"_xll.BDP(AC101 & \" Equity\",$AA$2)","v":1.643491},{"$f":"_xll.BDP(AC101 & \" Equity\",$AB$2)","v":"WBMD US"},{"$f":"_xll.BDP(B101,$AC$2)","v":"EQ0000000001753662"},{"$f":"_xll.BDP(AC101 & \" Equity\",$AD$2)","v":39.74},41,37,{"$f":"_xll.BDP(B101,$AG$2)","v":"USD"},{"$f":"_xll.BDP(B101,$AH$2)","v":400000000},{"$f":"IFERROR(VLOOKUP(A101,'Fisch Holding'!$A$5:$C$1245,3,FALSE)/AH101,\"-\")","v":"-"},{"$f":"IFERROR(VLOOKUP(A101,'BM Weight'!$A$7:$D$1020,3,FALSE),\"-\")","v":"-"},{"$f":"IFERROR(VLOOKUP(A101,'BM Weight'!$A$7:$D$1020,4,FALSE),\"-    \")","v":"-    "},{"$f":"IFERROR(VLOOKUP(A101,'Implied Rating'!$B$7:$C$1179,2,FALSE),\"-\")","v":"B"},{"$f":"IFERROR(VLOOKUP(A101,'ICV Rating'!$B$5:$E$1306,2,FALSE),\"-\")","v":"B+"},{"$f":"_xll.BDP(B101,$AN$2)","v":"#N/A N/A"},{"$f":"_xll.BDP(B101,$AO$2)","v":"#N/A N/A"},{"$f":"_xll.BDP(B101,$AP$2)","v":"#N/A N/A"},{"$f":"_xll.BDP(B101,$AQ$2)","v":"N"},{"$f":"_xll.BDP(B101,$AR$2)","v":"Optionally"},{"$f":"_xll.BDP(B101,$AS$2)","v":"N"},{"$f":"_xll.BDP(B101,$AT$2)","v":"Y"},{"$f":"_xll.BDP(B101,$AU$2)","v":"N"},{"$f":"_xll.BDP(B101,$AV$2)","v":"N"},{"$f":"_xll.BDP(B101,$AW$2)","v":"US"},{"$f":"_xll.BDP(AC101 & \" Equity\",$AX$2)","v":"Information Technology"},{"$f":"_xll.BDP(AC101 & \" Equity\",$AY$2)","v":"Software & Services"},{"$f":"_xll.BDP(AC101 & \" Equity\",$AZ$2)","v":"Internet Software & Services"},null,0,{"$f":"_xll.BDP(B101,$BC$2)","v":2.8639085337722543},{"$f":"_xll.BDP(B101,$BD$2)","v":2.0058697756894945},{"$f":"_xll.BDP(B101,$BE$2)","v":132.03842820131624},{"$f":"_xll.BDP(B101,$BF$2)","v":2.399},{"$f":"_xll.BDP(B101,$BG$2)","v":0.60407016134611025},{"$f":"_xll.BDP(B101,$BH$2)","v":0.92296855345911344},{"$f":"_xll.BDP(B101,$BI$2)","v":4.2868000884083592},null,{"$f":"_xll.BDP(B101,$BK$2)","v":100.29219999999999},{"$f":"_xll.BDP(B101,$BL$2)","v":"#N/A Field Not Applicable"},{"$f":"_xll.BDP(B101,$BM$2)","v":49.851596764606796},{"$f":"_xll.BDP(B101,$BN$2)","v":5.5615472468993187E-3},{"$f":"_xll.BDP(B101,$BO$2)","v":60.834065258984658},{"$f":"_xll.BDP(AC101 & \" Equity\",$BP$2)","v":"#N/A N/A"},{"$f":"_xll.BDP(AC101 & \" Equity\",$BQ$2)","v":"20.02.2015"},{"$f":"_xll.BDP(AC101 & \" Equity\",$BR$2)","v":34.325661797891613}]
["US94770VAK89",{"$f":"A102 & \" Corp\"","v":"US94770VAK89 Corp"},"WEBMD HEALTH CORP",{"$f":"_xll.BDP(B102,$D$2)","v":"WEBMD HEALTH CORP"},{"$f":"_xll.BDP(B102,$E$2)","v":1.5},{"$f":"_xll.BDP(B102,$F$2)","v":"01.12.2020"},{"$f":"_xll.BDP(B102,$G$2)","v":"#N/A Field Not Applicable"},{"$f":"_xll.BDP(B102,$H$2)","v":"#N/A Field Not Applicable"},"2014-07-07","NE Nov. 13; USD 300 Mio",0,{"$f":"ROUND((T102*T$2+U102*U$2+S102*S$2+IF(P102=\"NR\",0,P102^2*SIGN(P102))+M102*M$2)/(L$2-IF(P102=\"NR\",0,P$2)-IF(S102,0,S$2)),0)","v":1},1,0,-1,0,"2014-07-07",-1,{"$f":"VLOOKUP(AX102,[1]Sheet1!$C$8:$D$23,2,FALSE)","v":1},{"$f":"MIN(ROUND(ABS(V102/AD102)*200,0),2)*SIGN(V102)","v":1},{"$f":"MIN(ROUND(ABS(X102),0),2)*IFERROR(SIGN(X102),0)","v":0},{"$f":"_xll.BDP(AC102 & \" Equity\",$V$3)","v":0.15412673354148865},{"$f":"_xll.BDP(AC102 & \" Equity\",$W$3)","v":31.655855398552429},{"$f":"IFERROR(10*LN((100+Z102)/(100+$Z$1))+2*LN((100+$W$2)/(100+W102)),0)","v":-8.0417545443944249E-2},{"$f":"_xll.BDP(AC102 & \" Equity\",$Y$2)","v":10.10683},{"$f":"_xll.BDP(AC102 & \" Equity\",$Z$2)","v":10.43956},{"$f":"_xll.BDP(AC102 & \" Equity\",$AA$2)","v":1.643491},{"$f":"_xll.BDP(AC102 & \" Equity\",$AB$2)","v":"WBMD US"},{"$f":"_xll.BDP(B102,$AC$2)","v":"EQ0000000001753662"},{"$f":"_xll.BDP(AC102 & \" Equity\",$AD$2)","v":39.74},41,37,{"$f":"_xll.BDP(B102,$AG$2)","v":"USD"},{"$f":"_xll.BDP(B102,$AH$2)","v":300000000},{"$f":"IFERROR(VLOOKUP(A102,'Fisch Holding'!$A$5:$C$1245,3,FALSE)/AH102,\"-\")","v":"-"},{"$f":"IFERROR(VLOOKUP(A102,'BM Weight'!$A$7:$D$1020,3,FALSE),\"-\")","v":"-"},{"$f":"IFERROR(VLOOKUP(A102,'BM Weight'!$A$7:$D$1020,4,FALSE),\"-    \")","v":"-    "},{"$f":"IFERROR(VLOOKUP(A102,'Implied Rating'!$B$7:$C$1179,2,FALSE),\"-\")","v":"BB"},{"$f":"IFERROR(VLOOKUP(A102,'ICV Rating'!$B$5:$E$1306,2,FALSE),\"-\")","v":"B+"},{"$f":"_xll.BDP(B102,$AN$2)","v":"#N/A N/A"},{"$f":"_xll.BDP(B102,$AO$2)","v":"#N/A N/A"},{"$f":"_xll.BDP(B102,$AP$2)","v":"#N/A N/A"},{"$f":"_xll.BDP(B102,$AQ$2)","v":"N"},{"$f":"_xll.BDP(B102,$AR$2)","v":"Optionally"},{"$f":"_xll.BDP(B102,$AS$2)","v":"N"},{"$f":"_xll.BDP(B102,$AT$2)","v":"#N/A N/A"},{"$f":"_xll.BDP(B102,$AU$2)","v":"N"},{"$f":"_xll.BDP(B102,$AV$2)","v":"N"},{"$f":"_xll.BDP(B102,$AW$2)","v":"US"},{"$f":"_xll.BDP(AC102 & \" Equity\",$AX$2)","v":"Information Technology"},{"$f":"_xll.BDP(AC102 & \" Equity\",$AY$2)","v":"Software & Services"},{"$f":"_xll.BDP(AC102 & \" Equity\",$AZ$2)","v":"Internet Software & Services"},null,0,{"$f":"_xll.BDP(B102,$BC$2)","v":5.5856447307614836},{"$f":"_xll.BDP(B102,$BD$2)","v":2.3187769131704448},{"$f":"_xll.BDP(B102,$BE$2)","v":-34.292430245230058},{"$f":"_xll.BDP(B102,$BF$2)","v":1.2869999999999999},{"$f":"_xll.BDP(B102,$BG$2)","v":2.4222858101944098},{"$f":"_xll.BDP(B102,$BH$2)","v":4.0869455203294738},{"$f":"_xll.BDP(B102,$BI$2)","v":6.3999932186765367},null,{"$f":"_xll.BDP(B102,$BK$2)","v":100.93640000000001},{"$f":"_xll.BDP(B102,$BL$2)","v":"#N/A Field Not Applicable"},{"$f":"_xll.BDP(B102,$BM$2)","v":77.262902450932202},{"$f":"_xll.BDP(B102,$BN$2)","v":3.0996541137567699E-3},{"$f":"_xll.BDP(B102,$BO$2)","v":32.638526401289141},{"$f":"_xll.BDP(AC102 & \" Equity\",$BP$2)","v":"#N/A N/A"},{"$f":"_xll.BDP(AC102 & \" Equity\",$BQ$2)","v":"20.02.2015"},{"$f":"_xll.BDP(AC102 & \" Equity\",$BR$2)","v":34.325661797891613}]
["US98138HAD35",{"$f":"A103 & \" Corp\"","v":"US98138HAD35 Corp"},"WORKDAY INC",{"$f":"_xll.BDP(B103,$D$2)","v":"WORKDAY INC"},{"$f":"_xll.BDP(B103,$E$2)","v":1.5},{"$f":"_xll.BDP(B103,$F$2)","v":"15.07.2020"},{"$f":"_xll.BDP(B103,$G$2)","v":"#N/A Field Not Applicable"},{"$f":"_xll.BDP(B103,$H$2)","v":"#N/A Field Not Applicable"},"2014-09-11","NE 6.13; USD 250 Mio; SaaS",0,{"$f":"ROUND((T103*T$2+U103*U$2+S103*S$2+IF(P103=\"NR\",0,P103^2*SIGN(P103))+M103*M$2)/(L$2-IF(P103=\"NR\",0,P$2)-IF(S103,0,S$2)),0)","v":0},0,-1,-1,-1,"2014-06-19",-1,{"$f":"VLOOKUP(AX103,[1]Sheet1!$C$8:$D$23,2,FALSE)","v":1},{"$f":"MIN(ROUND(ABS(V103/AD103)*200,0),2)*SIGN(V103)","v":1},{"$f":"MIN(ROUND(ABS(X103),0),2)*IFERROR(SIGN(X103),0)","v":-1},{"$f":"_xll.BDP(AC103 & \" Equity\",$V$3)","v":0.2704092264175415},{"$f":"_xll.BDP(AC103 & \" Equity\",$W$3)","v":33.669714094952909},{"$f":"IFERROR(10*LN((100+Z103)/(100+$Z$1))+2*LN((100+$W$2)/(100+W103)),0)","v":-0.7953888823526567},{"$f":"_xll.BDP(AC103 & \" Equity\",$Y$2)","v":0.14835039999999999},{"$f":"_xll.BDP(AC103 & \" Equity\",$Z$2)","v":3.1317590000000002},{"$f":"_xll.BDP(AC103 & \" Equity\",$AA$2)","v":-0.73520479999999999},{"$f":"_xll.BDP(AC103 & \" Equity\",$AB$2)","v":"WDAY US"},{"$f":"_xll.BDP(B103,$AC$2)","v":"EQ0000000005710817"},{"$f":"_xll.BDP(AC103 & \" Equity\",$AD$2)","v":79.635000000000005},83,77,{"$f":"_xll.BDP(B103,$AG$2)","v":"USD"},{"$f":"_xll.BDP(B103,$AH$2)","v":250000000},{"$f":"IFERROR(VLOOKUP(A103,'Fisch Holding'!$A$5:$C$1245,3,FALSE)/AH103,\"-\")","v":"-"},{"$f":"IFERROR(VLOOKUP(A103,'BM Weight'!$A$7:$D$1020,3,FALSE),\"-\")","v":"-"},{"$f":"IFERROR(VLOOKUP(A103,'BM Weight'!$A$7:$D$1020,4,FALSE),\"-    \")","v":"-    "},{"$f":"IFERROR(VLOOKUP(A103,'Implied Rating'!$B$7:$C$1179,2,FALSE),\"-\")","v":"BB"},{"$f":"IFERROR(VLOOKUP(A103,'ICV Rating'!$B$5:$E$1306,2,FALSE),\"-\")","v":"CCC"},{"$f":"_xll.BDP(B103,$AN$2)","v":"#N/A N/A"},{"$f":"_xll.BDP(B103,$AO$2)","v":"#N/A N/A"},{"$f":"_xll.BDP(B103,$AP$2)","v":"#N/A N/A"},{"$f":"_xll.BDP(B103,$AQ$2)","v":"N"},{"$f":"_xll.BDP(B103,$AR$2)","v":"Optionally"},{"$f":"_xll.BDP(B103,$AS$2)","v":"N"},{"$f":"_xll.BDP(B103,$AT$2)","v":"N"},{"$f":"_xll.BDP(B103,$AU$2)","v":"N"},{"$f":"_xll.BDP(B103,$AV$2)","v":"N"},{"$f":"_xll.BDP(B103,$AW$2)","v":"US"},{"$f":"_xll.BDP(AC103 & \" Equity\",$AX$2)","v":"Information Technology"},{"$f":"_xll.BDP(AC103 & \" Equity\",$AY$2)","v":"Software & Services"},{"$f":"_xll.BDP(AC103 & \" Equity\",$AZ$2)","v":"Software"},null,0,{"$f":"_xll.BDP(B103,$BC$2)","v":5.3624735431638895},{"$f":"_xll.BDP(B103,$BD$2)","v":1.6632708461205836},{"$f":"_xll.BDP(B103,$BE$2)","v":-371.96510597597648},{"$f":"_xll.BDP(B103,$BF$2)","v":-2.145},{"$f":"_xll.BDP(B103,$BG$2)","v":1.1196725627440685},{"$f":"_xll.BDP(B103,$BH$2)","v":-0.67772534433929388},{"$f":"_xll.BDP(B103,$BI$2)","v":0.64372627532761173},null,{"$f":"_xll.BDP(B103,$BK$2)","v":121.1461},{"$f":"_xll.BDP(B103,$BL$2)","v":"#N/A Field Not Applicable"},{"$f":"_xll.BDP(B103,$BM$2)","v":83.485916648021572},{"$f":"_xll.BDP(B103,$BN$2)","v":2.427122439113652E-3},{"$f":"_xll.BDP(B103,$BO$2)","v":22.421444144816526},{"$f":"_xll.BDP(AC103 & \" Equity\",$BP$2)","v":"#N/A N/A"},{"$f":"_xll.BDP(AC103 & \" Equity\",$BQ$2)","v":"26.02.2015"},{"$f":"_xll.BDP(AC103 & \" Equity\",$BR$2)","v":34.82929571416625},null,"2014-02-17"]
["US98138HAC51",{"$f":"A104 & \" Corp\"","v":"US98138HAC51 Corp"},"WORKDAY INC",{"$f":"_xll.BDP(B104,$D$2)","v":"WORKDAY INC"},{"$f":"_xll.BDP(B104,$E$2)","v":0.75},{"$f":"_xll.BDP(B104,$F$2)","v":"15.07.2018"},{"$f":"_xll.BDP(B104,$G$2)","v":"#N/A Field Not Applicable"},{"$f":"_xll.BDP(B104,$H$2)","v":"#N/A Field Not Applicable"},"2014-10-29","NE + I-CV 6.13; USD 350 Mio; SaaS",1,{"$f":"ROUND((T104*T$2+U104*U$2+S104*S$2+IF(P104=\"NR\",0,P104^2*SIGN(P104))+M104*M$2)/(L$2-IF(P104=\"NR\",0,P$2)-IF(S104,0,S$2)),0)","v":0},0,-1,-1,-1,"2014-06-19",-1,{"$f":"VLOOKUP(AX104,[1]Sheet1!$C$8:$D$23,2,FALSE)","v":1},{"$f":"MIN(ROUND(ABS(V104/AD104)*200,0),2)*SIGN(V104)","v":1},{"$f":"MIN(ROUND(ABS(X104),0),2)*IFERROR(SIGN(X104),0)","v":-1},{"$f":"_xll.BDP(AC104 & \" Equity\",$V$3)","v":0.2704092264175415},{"$f":"_xll.BDP(AC104 & \" Equity\",$W$3)","v":33.669714094952909},{"$f":"IFERROR(10*LN((100+Z104)/(100+$Z$1))+2*LN((100+$W$2)/(100+W104)),0)","v":-0.7953888823526567},{"$f":"_xll.BDP(AC104 & \" Equity\",$Y$2)","v":0.14835039999999999},{"$f":"_xll.BDP(AC104 & \" Equity\",$Z$2)","v":3.1317590000000002},{"$f":"_xll.BDP(AC104 & \" Equity\",$AA$2)","v":-0.73520479999999999},{"$f":"_xll.BDP(AC104 & \" Equity\",$AB$2)","v":"WDAY US"},{"$f":"_xll.BDP(B104,$AC$2)","v":"EQ0000000005710817"},{"$f":"_xll.BDP(AC104 & \" Equity\",$AD$2)","v":79.635000000000005},83,77,{"$f":"_xll.BDP(B104,$AG$2)","v":"USD"},{"$f":"_xll.BDP(B104,$AH$2)","v":350000000},{"$f":"IFERROR(VLOOKUP(A104,'Fisch Holding'!$A$5:$C$1245,3,FALSE)/AH104,\"-\")","v":"-"},{"$f":"IFERROR(VLOOKUP(A104,'BM Weight'!$A$7:$D$1020,3,FALSE),\"-\")","v":"-"},{"$f":"IFERROR(VLOOKUP(A104,'BM Weight'!$A$7:$D$1020,4,FALSE),\"-    \")","v":"-    "},{"$f":"IFERROR(VLOOKUP(A104,'Implied Rating'!$B$7:$C$1179,2,FALSE),\"-\")","v":"BB+"},{"$f":"IFERROR(VLOOKUP(A104,'ICV Rating'!$B$5:$E$1306,2,FALSE),\"-\")","v":"CCC"},{"$f":"_xll.BDP(B104,$AN$2)","v":"#N/A N/A"},{"$f":"_xll.BDP(B104,$AO$2)","v":"#N/A N/A"},{"$f":"_xll.BDP(B104,$AP$2)","v":"#N/A N/A"},{"$f":"_xll.BDP(B104,$AQ$2)","v":"N"},{"$f":"_xll.BDP(B104,$AR$2)","v":"Optionally"},{"$f":"_xll.BDP(B104,$AS$2)","v":"N"},{"$f":"_xll.BDP(B104,$AT$2)","v":"N"},{"$f":"_xll.BDP(B104,$AU$2)","v":"N"},{"$f":"_xll.BDP(B104,$AV$2)","v":"N"},{"$f":"_xll.BDP(B104,$AW$2)","v":"US"},{"$f":"_xll.BDP(AC104 & \" Equity\",$AX$2)","v":"Information Technology"},{"$f":"_xll.BDP(AC104 & \" Equity\",$AY$2)","v":"Software & Services"},{"$f":"_xll.BDP(AC104 & \" Equity\",$AZ$2)","v":"Software"},null,0,{"$f":"_xll.BDP(B104,$BC$2)","v":3.5162433290877413},{"$f":"_xll.BDP(B104,$BD$2)","v":1.2894587232865378},{"$f":"_xll.BDP(B104,$BE$2)","v":-512.48799911307947},{"$f":"_xll.BDP(B104,$BF$2)","v":-3.927},{"$f":"_xll.BDP(B104,$BG$2)","v":1.0733025380108796},{"$f":"_xll.BDP(B104,$BH$2)","v":-0.66799276272715158},{"$f":"_xll.BDP(B104,$BI$2)","v":0.77300349314558103},null,{"$f":"_xll.BDP(B104,$BK$2)","v":117.4513},{"$f":"_xll.BDP(B104,$BL$2)","v":"#N/A Field Not Applicable"},{"$f":"_xll.BDP(B104,$BM$2)","v":76.059731054323308},{"$f":"_xll.BDP(B104,$BN$2)","v":3.7918156227408403E-3},{"$f":"_xll.BDP(B104,$BO$2)","v":20.941361097693623},{"$f":"_xll.BDP(AC104 & \" Equity\",$BP$2)","v":"#N/A N/A"},{"$f":"_xll.BDP(AC104 & \" Equity\",$BQ$2)","v":"26.02.2015"},{"$f":"_xll.BDP(AC104 & \" Equity\",$BR$2)","v":34.82929571416625},null,"2014-02-17"]
["US983919AF83",{"$f":"A105 & \" Corp\"","v":"US983919AF83 Corp"},"XILINX INC",{"$f":"_xll.BDP(B105,$D$2)","v":"XILINX INC"},{"$f":"_xll.BDP(B105,$E$2)","v":2.625},{"$f":"_xll.BDP(B105,$F$2)","v":"15.06.2017"},{"$f":"_xll.BDP(B105,$G$2)","v":"#N/A Field Not Applicable"},{"$f":"_xll.BDP(B105,$H$2)","v":"#N/A Field Not Applicable"},"2014-04-29","nur noch Position im WIN4",-1,{"$f":"ROUND((T105*T$2+U105*U$2+S105*S$2+IF(P105=\"NR\",0,P105^2*SIGN(P105))+M105*M$2)/(L$2-IF(P105=\"NR\",0,P$2)-IF(S105,0,S$2)),0)","v":-1},-1,0,0,"NR","2014-04-29",1,{"$f":"VLOOKUP(AX105,[1]Sheet1!$C$8:$D$23,2,FALSE)","v":1},{"$f":"MIN(ROUND(ABS(V105/AD105)*200,0),2)*SIGN(V105)","v":-1},{"$f":"MIN(ROUND(ABS(X105),0),2)*IFERROR(SIGN(X105),0)","v":0},{"$f":"_xll.BDP(AC105 & \" Equity\",$V$3)","v":-0.18046730756759644},{"$f":"_xll.BDP(AC105 & \" Equity\",$W$3)","v":20.78796672549419},{"$f":"IFERROR(10*LN((100+Z105)/(100+$Z$1))+2*LN((100+$W$2)/(100+W105)),0)","v":5.9749386380426983E-2},{"$f":"_xll.BDP(AC105 & \" Equity\",$Y$2)","v":-6.3179340000000002},{"$f":"_xll.BDP(AC105 & \" Equity\",$Z$2)","v":10.085150000000001},{"$f":"_xll.BDP(AC105 & \" Equity\",$AA$2)","v":-4.435206},{"$f":"_xll.BDP(AC105 & \" Equity\",$AB$2)","v":"XLNX US"},{"$f":"_xll.BDP(B105,$AC$2)","v":"EQ0010794700001000"},{"$f":"_xll.BDP(AC105 & \" Equity\",$AD$2)","v":41.43},45,40,{"$f":"_xll.BDP(B105,$AG$2)","v":"USD"},{"$f":"_xll.BDP(B105,$AH$2)","v":600000000},{"$f":"IFERROR(VLOOKUP(A105,'Fisch Holding'!$A$5:$C$1245,3,FALSE)/AH105,\"-\")","v":"-"},{"$f":"IFERROR(VLOOKUP(A105,'BM Weight'!$A$7:$D$1020,3,FALSE),\"-\")","v":"-"},{"$f":"IFERROR(VLOOKUP(A105,'BM Weight'!$A$7:$D$1020,4,FALSE),\"-    \")","v":"-    "},{"$f":"IFERROR(VLOOKUP(A105,'Implied Rating'!$B$7:$C$1179,2,FALSE),\"-\")","v":"A"},{"$f":"IFERROR(VLOOKUP(A105,'ICV Rating'!$B$5:$E$1306,2,FALSE),\"-\")","v":0},{"$f":"_xll.BDP(B105,$AN$2)","v":"NR"},{"$f":"_xll.BDP(B105,$AO$2)","v":"A3"},{"$f":"_xll.BDP(B105,$AP$2)","v":"A-u"},{"$f":"_xll.BDP(B105,$AQ$2)","v":"N"},{"$f":"_xll.BDP(B105,$AR$2)","v":"Optionally"},{"$f":"_xll.BDP(B105,$AS$2)","v":"N"},{"$f":"_xll.BDP(B105,$AT$2)","v":"N"},{"$f":"_xll.BDP(B105,$AU$2)","v":"N"},{"$f":"_xll.BDP(B105,$AV$2)","v":"N"},{"$f":"_xll.BDP(B105,$AW$2)","v":"US"},{"$f":"_xll.BDP(AC105 & \" Equity\",$AX$2)","v":"Information Technology"},{"$f":"_xll.BDP(AC105 & \" Equity\",$AY$2)","v":"Semiconductors & Semiconductor"},{"$f":"_xll.BDP(AC105 & \" Equity\",$AZ$2)","v":"Semiconductors & Semiconductor"},null,0,{"$f":"_xll.BDP(B105,$BC$2)","v":2.5082337234787033},{"$f":"_xll.BDP(B105,$BD$2)","v":0.36281633028784399},{"$f":"_xll.BDP(B105,$BE$2)","v":-1358.6268212009802},{"$f":"_xll.BDP(B105,$BF$2)","v":-12.702},{"$f":"_xll.BDP(B105,$BG$2)","v":-0.90575342465752573},{"$f":"_xll.BDP(B105,$BH$2)","v":-6.8848913917940386},{"$f":"_xll.BDP(B105,$BI$2)","v":8.7801503759398596},null,{"$f":"_xll.BDP(B105,$BK$2)","v":144.67760000000001},{"$f":"_xll.BDP(B105,$BL$2)","v":"#N/A Field Not Applicable"},{"$f":"_xll.BDP(B105,$BM$2)","v":87.683241140446029},{"$f":"_xll.BDP(B105,$BN$2)","v":4.4321377560893336E-3},{"$f":"_xll.BDP(B105,$BO$2)","v":3.6533859516521883},{"$f":"_xll.BDP(AC105 & \" Equity\",$BP$2)","v":2.8039641446009163},{"$f":"_xll.BDP(AC105 & \" Equity\",$BQ$2)","v":"21.01.2015"},{"$f":"_xll.BDP(AC105 & \" Equity\",$BR$2)","v":29.502226529311404}]
["US984332AF31",{"$f":"A106 & \" Corp\"","v":"US984332AF31 Corp"},"YAHOO INC",{"$f":"_xll.BDP(B106,$D$2)","v":"YAHOO INC"},{"$f":"_xll.BDP(B106,$E$2)","v":0},{"$f":"_xll.BDP(B106,$F$2)","v":"01.12.2018"},{"$f":"_xll.BDP(B106,$G$2)","v":"#N/A Field Not Applicable"},{"$f":"_xll.BDP(B106,$H$2)","v":"#N/A Field Not Applicable"},"2015-01-15","BB+u ",0,{"$f":"ROUND((T106*T$2+U106*U$2+S106*S$2+IF(P106=\"NR\",0,P106^2*SIGN(P106))+M106*M$2)/(L$2-IF(P106=\"NR\",0,P$2)-IF(S106,0,S$2)),0)","v":1},1,-1,0,"NR","2014-04-22",0,{"$f":"VLOOKUP(AX106,[1]Sheet1!$C$8:$D$23,2,FALSE)","v":1},{"$f":"MIN(ROUND(ABS(V106/AD106)*200,0),2)*SIGN(V106)","v":-1},{"$f":"MIN(ROUND(ABS(X106),0),2)*IFERROR(SIGN(X106),0)","v":1},{"$f":"_xll.BDP(AC106 & \" Equity\",$V$3)","v":-0.33410778641700745},{"$f":"_xll.BDP(AC106 & \" Equity\",$W$3)","v":26.982794202347399},{"$f":"IFERROR(10*LN((100+Z106)/(100+$Z$1))+2*LN((100+$W$2)/(100+W106)),0)","v":1.27990178019964},{"$f":"_xll.BDP(AC106 & \" Equity\",$Y$2)","v":-4.636692},{"$f":"_xll.BDP(AC106 & \" Equity\",$Z$2)","v":25.621369999999999},{"$f":"_xll.BDP(AC106 & \" Equity\",$AA$2)","v":-5.9394150000000003},{"$f":"_xll.BDP(AC106 & \" Equity\",$AB$2)","v":"YHOO US"},{"$f":"_xll.BDP(B106,$AC$2)","v":"EQ0018613000001000"},{"$f":"_xll.BDP(AC106 & \" Equity\",$AD$2)","v":47.22},50,47,{"$f":"_xll.BDP(B106,$AG$2)","v":"USD"},{"$f":"_xll.BDP(B106,$AH$2)","v":1437500000},{"$f":"IFERROR(VLOOKUP(A106,'Fisch Holding'!$A$5:$C$1245,3,FALSE)/AH106,\"-\")","v":5.6347826086956525E-3},{"$f":"IFERROR(VLOOKUP(A106,'BM Weight'!$A$7:$D$1020,3,FALSE),\"-\")","v":1.4165430997999999},{"$f":"IFERROR(VLOOKUP(A106,'BM Weight'!$A$7:$D$1020,4,FALSE),\"-    \")","v":0},{"$f":"IFERROR(VLOOKUP(A106,'Implied Rating'!$B$7:$C$1179,2,FALSE),\"-\")","v":"A"},{"$f":"IFERROR(VLOOKUP(A106,'ICV Rating'!$B$5:$E$1306,2,FALSE),\"-\")","v":0},{"$f":"_xll.BDP(B106,$AN$2)","v":"NR"},{"$f":"_xll.BDP(B106,$AO$2)","v":"#N/A N/A"},{"$f":"_xll.BDP(B106,$AP$2)","v":"BB+u"},{"$f":"_xll.BDP(B106,$AQ$2)","v":"N"},{"$f":"_xll.BDP(B106,$AR$2)","v":"Optionally"},{"$f":"_xll.BDP(B106,$AS$2)","v":"N"},{"$f":"_xll.BDP(B106,$AT$2)","v":"#N/A N/A"},{"$f":"_xll.BDP(B106,$AU$2)","v":"N"},{"$f":"_xll.BDP(B106,$AV$2)","v":"N"},{"$f":"_xll.BDP(B106,$AW$2)","v":"US"},{"$f":"_xll.BDP(AC106 & \" Equity\",$AX$2)","v":"Information Technology"},{"$f":"_xll.BDP(AC106 & \" Equity\",$AY$2)","v":"Software & Services"},{"$f":"_xll.BDP(AC106 & \" Equity\",$AZ$2)","v":"Internet Software & Services"},null,0,{"$f":"_xll.BDP(B106,$BC$2)","v":3.9122603594575285},{"$f":"_xll.BDP(B106,$BD$2)","v":2.0124629718307325},{"$f":"_xll.BDP(B106,$BE$2)","v":-393.61725841395611},{"$f":"_xll.BDP(B106,$BF$2)","v":-2.6429999999999998},{"$f":"_xll.BDP(B106,$BG$2)","v":-0.8798784537391906},{"$f":"_xll.BDP(B106,$BH$2)","v":-0.99387918432486733},{"$f":"_xll.BDP(B106,$BI$2)","v":11.176053339062781},null,{"$f":"_xll.BDP(B106,$BK$2)","v":110.6968},{"$f":"_xll.BDP(B106,$BL$2)","v":"#N/A Field Not Applicable"},{"$f":"_xll.BDP(B106,$BM$2)","v":62.883706401107887},{"$f":"_xll.BDP(B106,$BN$2)","v":5.9153327195520409E-3},{"$f":"_xll.BDP(B106,$BO$2)","v":24.626367244791748},{"$f":"_xll.BDP(AC106 & \" Equity\",$BP$2)","v":"#N/A N/A"},{"$f":"_xll.BDP(AC106 & \" Equity\",$BQ$2)","v":"27.01.2015"},{"$f":"_xll.BDP(AC106 & \" Equity\",$BR$2)","v":29.584896819792373}]
[null,{"$f":"A107 & \" Corp\"","v":" Corp"}]
[null,{"$f":"A108 & \" Corp\"","v":" Corp"}]
[null,{"$f":"A109 & \" Corp\"","v":" Corp"}]
[null,{"$f":"A110 & \" Corp\"","v":" Corp"}]
[null,{"$f":"A111 & \" Corp\"","v":" Corp"}]
[null,{"$f":"A112 & \" Corp\"","v":" Corp"}]
[null,{"$f":"A113 & \" Corp\"","v":" Corp"}]
[null,{"$f":"A114 & \" Corp\"","v":" Corp"}]
[null,{"$f":"A115 & \" Corp\"","v":" Corp"}]
[null,{"$f":"A116 & \" Corp\"","v":" Corp"}]
[null,{"$f":"A117 & \" Corp\"","v":" Corp"}]
[null,{"$f":"A118 & \" Corp\"","v":" Corp"}]
[null,{"$f":"A119 & \" Corp\"","v":" Corp"}]
[null,{"$f":"A120 & \" Corp\"","v":" Corp"}]
[null,{"$f":"A121 & \" Corp\"","v":" Corp"}]
[null,{"$f":"A122 & \" Corp\"","v":" Corp"}]
[null,{"$f":"A123 & \" Corp\"","v":" Corp"}]
[null,{"$f":"A124 & \" Corp\"","v":" Corp"}]
[null,{"$f":"A125 & \" Corp\"","v":" Corp"}]
[null,{"$f":"A126 & \" Corp\"","v":" Corp"}]
[null,{"$f":"A127 & \" Corp\"","v":" Corp"}]
[null,{"$f":"A128 & \" Corp\"","v":" Corp"}]
[null,{"$f":"A129 & \" Corp\"","v":" Corp"}]
[null,{"$f":"A130 & \" Corp\"","v":" Corp"}]
[null,{"$f":"A131 & \" Corp\"","v":" Corp"}]
[null,{"$f":"A132 & \" Corp\"","v":" Corp"}]
[null,{"$f":"A133 & \" Corp\"","v":" Corp"}]
[null,{"$f":"A134 & \" Corp\"","v":" Corp"}]
[null,{"$f":"A135 & \" Corp\"","v":" Corp"}]
[null,{"$f":"A136 & \" Corp\"","v":" Corp"}]
[null,{"$f":"A137 & \" Corp\"","v":" Corp"}]
[null,{"$f":"A138 & \" Corp\"","v":" Corp"}]
[null,{"$f":"A139 & \" Corp\"","v":" Corp"}]
[null,{"$f":"A140 & \" Corp\"","v":" Corp"}]
[null,{"$f":"A141 & \" Corp\"","v":" Corp"}]
[null,{"$f":"A142 & \" Corp\"","v":" Corp"}]
[null,{"$f":"A143 & \" Corp\"","v":" Corp"}]
[null,{"$f":"A144 & \" Corp\"","v":" Corp"}]
[null,{"$f":"A145 & \" Corp\"","v":" Corp"}]
[null,{"$f":"A146 & \" Corp\"","v":" Corp"}]
[null,{"$f":"A147 & \" Corp\"","v":" Corp"}]
[null,{"$f":"A148 & \" Corp\"","v":" Corp"}]
[null,{"$f":"A149 & \" Corp\"","v":" Corp"}]
[null,{"$f":"A150 & \" Corp\"","v":" Corp"}]
[null,{"$f":"A151 & \" Corp\"","v":" Corp"}]
[null,{"$f":"A152 & \" Corp\"","v":" Corp"}]
[null,{"$f":"A153 & \" Corp\"","v":" Corp"}]
[null,{"$f":"A154 & \" Corp\"","v":" Corp"}]
[null,{"$f":"A155 & \" Corp\"","v":" Corp"}]
[null,{"$f":"A156 & \" Corp\"","v":" Corp"}]
[null,{"$f":"A157 & \" Corp\"","v":" Corp"}]
[null,{"$f":"A158 & \" Corp\"","v":" Corp"}]
[null,{"$f":"A159 & \" Corp\"","v":" Corp"}]
[null,{"$f":"A160 & \" Corp\"","v":" Corp"}]
[null,{"$f":"A161 & \" Corp\"","v":" Corp"}]
[null,{"$f":"A162 & \" Corp\"","v":" Corp"}]
[null,{"$f":"A163 & \" Corp\"","v":" Corp"}]
[null,{"$f":"A164 & \" Corp\"","v":" Corp"}]
[null,{"$f":"A165 & \" Corp\"","v":" Corp"}]
[null,{"$f":"A166 & \" Corp\"","v":" Corp"}]
[null,{"$f":"A167 & \" Corp\"","v":" Corp"}]
[null,{"$f":"A168 & \" Corp\"","v":" Corp"}]
[null,{"$f":"A169 & \" Corp\"","v":" Corp"}]
[null,{"$f":"A170 & \" Corp\"","v":" Corp"}]
[null,{"$f":"A171 & \" Corp\"","v":" Corp"}]
[null,{"$f":"A172 & \" Corp\"","v":" Corp"}]
[null,{"$f":"A173 & \" Corp\"","v":" Corp"}]
[null,{"$f":"A174 & \" Corp\"","v":" Corp"}]
[null,{"$f":"A175 & \" Corp\"","v":" Corp"}]
[null,{"$f":"A176 & \" Corp\"","v":" Corp"}]
[null,{"$f":"A177 & \" Corp\"","v":" Corp"}]
[null,{"$f":"A178 & \" Corp\"","v":" Corp"}]
[null,{"$f":"A179 & \" Corp\"","v":" Corp"}]

{"sheet":"Sector","index":1,"n_rows":43,"n_cols":10,"rows_kept":43,"cut":false,"hidden":false,"merged":[]}
[]
[null,null,null,"1D %","5D %","1M %","3M %","QTD %","YTD %","1 YR %"]
[null,null,"Name","CHG_PCT_1D","CHG_PCT_5D","CHG_PCT_1M","CHG_PCT_3M","CHG_PCT_QTD","CHG_PCT_YTD","CHG_PCT_1YR"]
[null,"S5INDU Index",{"$f":"_xll.BDP($B4,C$3)","v":"S&P 500 INDUSTRIALS IDX"},{"$f":"_xll.BDP($B4,D$3)","v":-0.57264040000000005},{"$f":"_xll.BDP($B4,E$3)","v":-0.54982240000000004},{"$f":"_xll.BDP($B4,F$3)","v":0.1541025},{"$f":"_xll.BDP($B4,G$3)","v":8.6234179999999991},{"$f":"_xll.BDP($B4,H$3)","v":-3.5688219999999999},{"$f":"_xll.BDP($B4,I$3)","v":-3.5688219999999999},{"$f":"_xll.BDP($B4,J$3)","v":3.8018640000000001}]
[null,"S5INFT Index",{"$f":"_xll.BDP($B5,C$3)","v":"S&P 500 INFO TECH INDEX"},{"$f":"_xll.BDP($B5,D$3)","v":-0.53137860000000003},{"$f":"_xll.BDP($B5,E$3)","v":1.4789389999999999E-2},{"$f":"_xll.BDP($B5,F$3)","v":0.48759390000000002},{"$f":"_xll.BDP($B5,G$3)","v":9.7091390000000004},{"$f":"_xll.BDP($B5,H$3)","v":-2.2588279999999998},{"$f":"_xll.BDP($B5,I$3)","v":-2.2588279999999998},{"$f":"_xll.BDP($B5,J$3)","v":14.512510000000001}]
[null,"S5HLTH Index",{"$f":"_xll.BDP($B6,C$3)","v":"S&P 500 HEALTH CARE IDX"},{"$f":"_xll.BDP($B6,D$3)","v":-9.8079639999999996E-2},{"$f":"_xll.BDP($B6,E$3)","v":0.24053440000000001},{"$f":"_xll.BDP($B6,F$3)","v":2.674865},{"$f":"_xll.BDP($B6,G$3)","v":15.39503},{"$f":"_xll.BDP($B6,H$3)","v":2.016124},{"$f":"_xll.BDP($B6,I$3)","v":2.016124},{"$f":"_xll.BDP($B6,J$3)","v":22.525410000000001}]
[null,"S5MATR Index",{"$f":"_xll.BDP($B7,C$3)","v":"S&P 500 MATERIALS INDEX"},{"$f":"_xll.BDP($B7,D$3)","v":-1.1895020000000001},{"$f":"_xll.BDP($B7,E$3)","v":-0.82810760000000005},{"$f":"_xll.BDP($B7,F$3)","v":1.8372409999999999},{"$f":"_xll.BDP($B7,G$3)","v":3.2048540000000001},{"$f":"_xll.BDP($B7,H$3)","v":-3.0230229999999998},{"$f":"_xll.BDP($B7,I$3)","v":-3.0230229999999998},{"$f":"_xll.BDP($B7,J$3)","v":2.0815489999999999}]
[null,"S5ENRS Index",{"$f":"_xll.BDP($B8,C$3)","v":"S&P 500 ENERGY INDEX"},{"$f":"_xll.BDP($B8,D$3)","v":0.12562219999999999},{"$f":"_xll.BDP($B8,E$3)","v":-2.037582},{"$f":"_xll.BDP($B8,F$3)","v":1.6028439999999999},{"$f":"_xll.BDP($B8,G$3)","v":-7.2260299999999997},{"$f":"_xll.BDP($B8,H$3)","v":-6.4630729999999996},{"$f":"_xll.BDP($B8,I$3)","v":-6.4630729999999996},{"$f":"_xll.BDP($B8,J$3)","v":-13.521179999999999}]
[null,"S5UTIL Index",{"$f":"_xll.BDP($B9,C$3)","v":"S&P 500 UTILITIES INDEX"},{"$f":"_xll.BDP($B9,D$3)","v":0.94644609999999996},{"$f":"_xll.BDP($B9,E$3)","v":1.044861},{"$f":"_xll.BDP($B9,F$3)","v":5.972359},{"$f":"_xll.BDP($B9,G$3)","v":12.087009999999999},{"$f":"_xll.BDP($B9,H$3)","v":1.3941490000000001},{"$f":"_xll.BDP($B9,I$3)","v":1.3941490000000001},{"$f":"_xll.BDP($B9,J$3)","v":26.571349999999999}]
[null,"S5COND Index",{"$f":"_xll.BDP($B10,C$3)","v":"S&P 500 CONS DISCRET IDX"},{"$f":"_xll.BDP($B10,D$3)","v":-1.1513739999999999},{"$f":"_xll.BDP($B10,E$3)","v":-1.4121919999999999},{"$f":"_xll.BDP($B10,F$3)","v":0.5050945},{"$f":"_xll.BDP($B10,G$3)","v":10.327220000000001},{"$f":"_xll.BDP($B10,H$3)","v":-3.5210509999999999},{"$f":"_xll.BDP($B10,I$3)","v":-3.5210509999999999},{"$f":"_xll.BDP($B10,J$3)","v":5.9970439999999998}]
[null,"S5CONS Index",{"$f":"_xll.BDP($B11,C$3)","v":"S&P 500 CONS STAPLES IDX"},{"$f":"_xll.BDP($B11,D$3)","v":-0.2632679},{"$f":"_xll.BDP($B11,E$3)","v":7.1673189999999998E-2},{"$f":"_xll.BDP($B11,F$3)","v":3.0194459999999999},{"$f":"_xll.BDP($B11,G$3)","v":9.7636210000000005},{"$f":"_xll.BDP($B11,H$3)","v":0.66747719999999999},{"$f":"_xll.BDP($B11,I$3)","v":0.66747719999999999},{"$f":"_xll.BDP($B11,J$3)","v":15.158480000000001}]
[null,"S5FINL Index",{"$f":"_xll.BDP($B12,C$3)","v":"S&P 500 FINANCIALS INDEX"},{"$f":"_xll.BDP($B12,D$3)","v":-1.418898},{"$f":"_xll.BDP($B12,E$3)","v":-2.472559},{"$f":"_xll.BDP($B12,F$3)","v":-1.3569199999999999},{"$f":"_xll.BDP($B12,G$3)","v":6.7927350000000004},{"$f":"_xll.BDP($B12,H$3)","v":-4.9103339999999998},{"$f":"_xll.BDP($B12,I$3)","v":-4.9103339999999998},{"$f":"_xll.BDP($B12,J$3)","v":6.1749970000000003}]
[null,"SPX Index",{"$f":"_xll.BDP($B13,C$3)","v":"S&P 500 INDEX"},{"$f":"_xll.BDP($B13,D$3)","v":-0.80936620000000004},{"$f":"_xll.BDP($B13,E$3)","v":0.38009110000000002},{"$f":"_xll.BDP($B13,F$3)","v":1.294994},{"$f":"_xll.BDP($B13,G$3)","v":7.9882330000000001},{"$f":"_xll.BDP($B13,H$3)","v":-2.3133659999999998},{"$f":"_xll.BDP($B13,I$3)","v":-2.3133659999999998},{"$f":"_xll.BDP($B13,J$3)","v":8.8125820000000008}]
[]
[null,null,"Name","CHG_PCT_1D","CHG_PCT_5D","CHG_PCT_1M","CHG_PCT_3M","CHG_PCT_QTD","CHG_PCT_YTD","CHG_PCT_1YR"]
[null,"XLY US Equity",{"$f":"_xll.BDP($B16,C$15)","v":"CONSUMER DISCRETIONARY SELT"},{"$f":"_xll.BDP($B16,D$15)","v":-1.205503},{"$f":"_xll.BDP($B16,E$15)","v":-1.4152279999999999},{"$f":"_xll.BDP($B16,F$15)","v":0.1192873},{"$f":"_xll.BDP($B16,G$15)","v":10.273870000000001},{"$f":"_xll.BDP($B16,H$15)","v":-3.4511449999999999},{"$f":"_xll.BDP($B16,I$15)","v":-3.4511449999999999},{"$f":"_xll.BDP($B16,J$15)","v":5.9790000000000001}]
[null,"XLP US Equity",{"$f":"_xll.BDP($B17,C$15)","v":"CONSUMER STAPLES SPDR"},{"$f":"_xll.BDP($B17,D$15)","v":-0.30643510000000002},{"$f":"_xll.BDP($B17,E$15)","v":6.1513230000000002E-2},{"$f":"_xll.BDP($B17,F$15)","v":2.542551},{"$f":"_xll.BDP($B17,G$15)","v":9.8604280000000006},{"$f":"_xll.BDP($B17,H$15)","v":0.63930359999999997},{"$f":"_xll.BDP($B17,I$15)","v":0.63930359999999997},{"$f":"_xll.BDP($B17,J$15)","v":15.12149}]
[null,"XLE US Equity",{"$f":"_xll.BDP($B18,C$15)","v":"ENERGY SELECT SECTOR SPDR"},{"$f":"_xll.BDP($B18,D$15)","v":0.3126274},{"$f":"_xll.BDP($B18,E$15)","v":-1.965994},{"$f":"_xll.BDP($B18,F$15)","v":0.59978109999999996},{"$f":"_xll.BDP($B18,G$15)","v":-8.3912580000000005},{"$f":"_xll.BDP($B18,H$15)","v":-6.7711009999999998},{"$f":"_xll.BDP($B18,I$15)","v":-6.7711009999999998},{"$f":"_xll.BDP($B18,J$15)","v":-14.21597}]
[null,"XLF US Equity",{"$f":"_xll.BDP($B19,C$15)","v":"FINANCIAL SELECT SECTOR SPDR"},{"$f":"_xll.BDP($B19,D$15)","v":-1.4261740000000001},{"$f":"_xll.BDP($B19,E$15)","v":-2.4491489999999998},{"$f":"_xll.BDP($B19,F$15)","v":-1.7558530000000001},{"$f":"_xll.BDP($B19,G$15)","v":6.6243150000000002},{"$f":"_xll.BDP($B19,H$15)","v":-4.9737140000000002},{"$f":"_xll.BDP($B19,I$15)","v":-4.9737140000000002},{"$f":"_xll.BDP($B19,J$15)","v":6.1427310000000004}]
[null,"XLV US Equity",{"$f":"_xll.BDP($B20,C$15)","v":"HEALTH CARE SELECT SECTOR"},{"$f":"_xll.BDP($B20,D$15)","v":-0.1573002},{"$f":"_xll.BDP($B20,E$15)","v":0.2440775},{"$f":"_xll.BDP($B20,F$15)","v":2.450475},{"$f":"_xll.BDP($B20,G$15)","v":15.366820000000001},{"$f":"_xll.BDP($B20,H$15)","v":2.1058829999999999},{"$f":"_xll.BDP($B20,I$15)","v":2.1058829999999999},{"$f":"_xll.BDP($B20,J$15)","v":22.62031}]
[null,"XLI US Equity",{"$f":"_xll.BDP($B21,C$15)","v":"INDUSTRIAL SELECT SECT SPDR"},{"$f":"_xll.BDP($B21,D$15)","v":-0.54614960000000001},{"$f":"_xll.BDP($B21,E$15)","v":-0.52804079999999998},{"$f":"_xll.BDP($B21,F$15)","v":-1.8300489999999999E-2},{"$f":"_xll.BDP($B21,G$15)","v":9.0201539999999998},{"$f":"_xll.BDP($B21,H$15)","v":-3.4464510000000002},{"$f":"_xll.BDP($B21,I$15)","v":-3.4464510000000002},{"$f":"_xll.BDP($B21,J$15)","v":4.6351290000000001}]
[null,"XLB US Equity",{"$f":"_xll.BDP($B22,C$15)","v":"MATERIALS SELECT SECTOR SPDR"},{"$f":"_xll.BDP($B22,D$15)","v":-1.1727749999999999},{"$f":"_xll.BDP($B22,E$15)","v":-0.69444439999999996},{"$f":"_xll.BDP($B22,F$15)","v":1.3748670000000001},{"$f":"_xll.BDP($B22,G$15)","v":3.5776970000000001},{"$f":"_xll.BDP($B22,H$15)","v":-2.8612630000000001},{"$f":"_xll.BDP($B22,I$15)","v":-2.8612630000000001},{"$f":"_xll.BDP($B22,J$15)","v":2.7433040000000002}]
[null,"XLK US Equity",{"$f":"_xll.BDP($B23,C$15)","v":"TECHNOLOGY SELECT SECT SPDR"},{"$f":"_xll.BDP($B23,D$15)","v":-0.56455569999999999},{"$f":"_xll.BDP($B23,E$15)","v":4.939491E-2},{"$f":"_xll.BDP($B23,F$15)","v":0.34679480000000001},{"$f":"_xll.BDP($B23,G$15)","v":8.2286929999999998},{"$f":"_xll.BDP($B23,H$15)","v":-2.0314350000000001},{"$f":"_xll.BDP($B23,I$15)","v":-2.0314350000000001},{"$f":"_xll.BDP($B23,J$15)","v":12.652950000000001}]
[null,"XLU US Equity",{"$f":"_xll.BDP($B24,C$15)","v":"UTILITIES SELECT SECTOR SPDR"},{"$f":"_xll.BDP($B24,D$15)","v":0.86497889999999999},{"$f":"_xll.BDP($B24,E$15)","v":0.97148889999999999},{"$f":"_xll.BDP($B24,F$15)","v":5.0307550000000001},{"$f":"_xll.BDP($B24,G$15)","v":11.941000000000001},{"$f":"_xll.BDP($B24,H$15)","v":1.249468},{"$f":"_xll.BDP($B24,I$15)","v":1.249468},{"$f":"_xll.BDP($B24,J$15)","v":26.448029999999999}]
[]
[]
[]
[null,null,"Name","CHG_PCT_1D","CHG_PCT_5D","CHG_PCT_1M","CHG_PCT_3M","CHG_PCT_QTD","CHG_PCT_YTD","CHG_PCT_1YR"]
["SPX Index","SPX Index",{"$f":"_xll.BDP($B29,C$28)","v":"S&P 500 INDEX"},{"$f":"_xll.BDP($B29,D$28)","v":-0.80936620000000004},{"$f":"_xll.BDP($B29,E$28)","v":0.38009110000000002},{"$f":"_xll.BDP($B29,F$28)","v":1.294994},{"$f":"_xll.BDP($B29,G$28)","v":7.9882330000000001},{"$f":"_xll.BDP($B29,H$28)","v":-2.3133659999999998},{"$f":"_xll.BDP($B29,I$28)","v":-2.3133659999999998},{"$f":"_xll.BDP($B29,J$28)","v":8.8125820000000008}]
["Health Care","S5HLTH Index",{"$f":"_xll.BDP($B30,C$28)","v":"S&P 500 HEALTH CARE IDX"},{"$f":"_xll.BDP($B30,D$28)","v":-9.8079639999999996E-2},{"$f":"_xll.BDP($B30,E$28)","v":0.24053440000000001},{"$f":"_xll.BDP($B30,F$28)","v":2.674865},{"$f":"_xll.BDP($B30,G$28)","v":15.39503},{"$f":"_xll.BDP($B30,H$28)","v":2.016124},{"$f":"_xll.BDP($B30,I$28)","v":2.016124},{"$f":"_xll.BDP($B30,J$28)","v":22.525410000000001}]
["Equipment & Service","S5HCES Index",{"$f":"_xll.BDP($B31,C$28)","v":"S&P 500 HC EQUIP&SVC IDX"},{"$f":"_xll.BDP($B31,D$28)","v":-0.18228},{"$f":"_xll.BDP($B31,E$28)","v":0.5122816},{"$f":"_xll.BDP($B31,F$28)","v":3.4092579999999999},{"$f":"_xll.BDP($B31,G$28)","v":16.73865},{"$f":"_xll.BDP($B31,H$28)","v":1.1172070000000001},{"$f":"_xll.BDP($B31,I$28)","v":1.1172070000000001},{"$f":"_xll.BDP($B31,J$28)","v":23.83344}]
["Equipment & Supplies","S5HCEQ Index",{"$f":"_xll.BDP($B32,C$28)","v":"S&P 500 HC EQM & SUP IDX"},{"$f":"_xll.BDP($B32,D$28)","v":-0.48829879999999998},{"$f":"_xll.BDP($B32,E$28)","v":-0.34519939999999999},{"$f":"_xll.BDP($B32,F$28)","v":2.7000190000000002},{"$f":"_xll.BDP($B32,G$28)","v":14.89559},{"$f":"_xll.BDP($B32,H$28)","v":0.49538599999999999},{"$f":"_xll.BDP($B32,I$28)","v":0.49538599999999999},{"$f":"_xll.BDP($B32,J$28)","v":20.24231}]
["Equipment","S5HCEP Index",{"$f":"_xll.BDP($B33,C$28)","v":"S&P 500 HLTH CR EQIP IDX"},{"$f":"_xll.BDP($B33,D$28)","v":-0.4706494},{"$f":"_xll.BDP($B33,E$28)","v":-0.31968200000000002},{"$f":"_xll.BDP($B33,F$28)","v":2.8269440000000001},{"$f":"_xll.BDP($B33,G$28)","v":14.94351},{"$f":"_xll.BDP($B33,H$28)","v":0.57278309999999999},{"$f":"_xll.BDP($B33,I$28)","v":0.57278309999999999},{"$f":"_xll.BDP($B33,J$28)","v":20.525539999999999}]
["Supplies","S5HCSU Index",{"$f":"_xll.BDP($B34,C$28)","v":"S&P 500 HLTH CR SUPP IDX"},{"$f":"_xll.BDP($B34,D$28)","v":-1.458739},{"$f":"_xll.BDP($B34,E$28)","v":-1.74163},{"$f":"_xll.BDP($B34,F$28)","v":-3.8756900000000001},{"$f":"_xll.BDP($B34,G$28)","v":12.292210000000001},{"$f":"_xll.BDP($B34,H$28)","v":-3.6230570000000002},{"$f":"_xll.BDP($B34,I$28)","v":-3.6230570000000002},{"$f":"_xll.BDP($B34,J$28)","v":6.2719839999999998}]
["Providers & Services","S5HCPS Index",{"$f":"_xll.BDP($B35,C$28)","v":"S&P 500 HC PVDRS SVC IDX"},{"$f":"_xll.BDP($B35,D$28)","v":0.14887040000000001},{"$f":"_xll.BDP($B35,E$28)","v":1.3427469999999999},{"$f":"_xll.BDP($B35,F$28)","v":4.0363879999999996},{"$f":"_xll.BDP($B35,G$28)","v":18.731249999999999},{"$f":"_xll.BDP($B35,H$28)","v":1.7764690000000001},{"$f":"_xll.BDP($B35,I$28)","v":1.7764690000000001},{"$f":"_xll.BDP($B35,J$28)","v":27.870930000000001}]
["Distributors","S5HCDS Index",{"$f":"_xll.BDP($B36,C$28)","v":"S&P 500 HLTH CR DIST IDX"},{"$f":"_xll.BDP($B36,D$28)","v":-0.3379376},{"$f":"_xll.BDP($B36,E$28)","v":-0.20939340000000001},{"$f":"_xll.BDP($B36,F$28)","v":3.0920990000000002},{"$f":"_xll.BDP($B36,G$28)","v":15.86116},{"$f":"_xll.BDP($B36,H$28)","v":2.4271880000000001},{"$f":"_xll.BDP($B36,I$28)","v":2.4271880000000001},{"$f":"_xll.BDP($B36,J$28)","v":25.904260000000001}]
["Services","S5HCSV Index",{"$f":"_xll.BDP($B37,C$28)","v":"S&P 500 HEALTHCARE SRVC"},{"$f":"_xll.BDP($B37,D$28)","v":0.4920969},{"$f":"_xll.BDP($B37,E$28)","v":0.19434009999999999},{"$f":"_xll.BDP($B37,F$28)","v":3.5506350000000002},{"$f":"_xll.BDP($B37,G$28)","v":16.97381},{"$f":"_xll.BDP($B37,H$28)","v":0.2682254},{"$f":"_xll.BDP($B37,I$28)","v":0.2682254},{"$f":"_xll.BDP($B37,J$28)","v":17.076599999999999}]
["Facilities","S5HCFA Index",{"$f":"_xll.BDP($B38,C$28)","v":"S&P 500 HLTH CR FACL IDX"},{"$f":"_xll.BDP($B38,D$28)","v":-1.8723540000000001},{"$f":"_xll.BDP($B38,E$28)","v":-8.3014770000000002},{"$f":"_xll.BDP($B38,F$28)","v":-4.0546800000000003},{"$f":"_xll.BDP($B38,G$28)","v":-2.9780769999999999},{"$f":"_xll.BDP($B38,H$28)","v":-7.7132230000000002},{"$f":"_xll.BDP($B38,I$28)","v":-7.7132230000000002},{"$f":"_xll.BDP($B38,J$28)","v":14.406370000000001}]
["Managed Health Care","S5MANH Index",{"$f":"_xll.BDP($B39,C$28)","v":"S&P 500 MANG'D HLTH  IDX"},{"$f":"_xll.BDP($B39,D$28)","v":0.3588346},{"$f":"_xll.BDP($B39,E$28)","v":3.2949869999999999},{"$f":"_xll.BDP($B39,F$28)","v":5.265301},{"$f":"_xll.BDP($B39,G$28)","v":22.681429999999999},{"$f":"_xll.BDP($B39,H$28)","v":2.8258009999999998},{"$f":"_xll.BDP($B39,I$28)","v":2.8258009999999998},{"$f":"_xll.BDP($B39,J$28)","v":36.438079999999999}]
["Pharma, Biotech, Life Science","S5PHRM Index",{"$f":"_xll.BDP($B40,C$28)","v":"S&P 500 PHRM BIO & LF SC"},{"$f":"_xll.BDP($B40,D$28)","v":-5.7765410000000003E-2},{"$f":"_xll.BDP($B40,E$28)","v":0.1111282},{"$f":"_xll.BDP($B40,F$28)","v":2.3278289999999999},{"$f":"_xll.BDP($B40,G$28)","v":14.76182},{"$f":"_xll.BDP($B40,H$28)","v":2.4515959999999999},{"$f":"_xll.BDP($B40,I$28)","v":2.4515959999999999},{"$f":"_xll.BDP($B40,J$28)","v":21.895029999999998}]
["Biotechnology","S5BIOT Index",{"$f":"_xll.BDP($B41,C$28)","v":"S&P 500 BIOTECH INDEX"},{"$f":"_xll.BDP($B41,D$28)","v":0.3881134},{"$f":"_xll.BDP($B41,E$28)","v":-0.24148330000000001},{"$f":"_xll.BDP($B41,F$28)","v":0.30773050000000002},{"$f":"_xll.BDP($B41,G$28)","v":15.75643},{"$f":"_xll.BDP($B41,H$28)","v":2.271636},{"$f":"_xll.BDP($B41,I$28)","v":2.271636},{"$f":"_xll.BDP($B41,J$28)","v":32.77552}]
["Pharma","S5PHAR Index",{"$f":"_xll.BDP($B42,C$28)","v":"S&P 500 PHARM INDEX"},{"$f":"_xll.BDP($B42,D$28)","v":-0.1636774},{"$f":"_xll.BDP($B42,E$28)","v":0.40501769999999998},{"$f":"_xll.BDP($B42,F$28)","v":3.3149069999999998},{"$f":"_xll.BDP($B42,G$28)","v":14.493309999999999},{"$f":"_xll.BDP($B42,H$28)","v":2.7214580000000002},{"$f":"_xll.BDP($B42,I$28)","v":2.7214580000000002},{"$f":"_xll.BDP($B42,J$28)","v":18.80508}]
["Life Science Tools & Services","S5LSTS Index",{"$f":"_xll.BDP($B43,C$28)","v":"S&P 500 LIFE SC TOOL SVC"},{"$f":"_xll.BDP($B43,D$28)","v":-1.522359},{"$f":"_xll.BDP($B43,E$28)","v":-1.802281},{"$f":"_xll.BDP($B43,F$28)","v":1.975803},{"$f":"_xll.BDP($B43,G$28)","v":12.46635},{"$f":"_xll.BDP($B43,H$28)","v":-0.27041399999999999},{"$f":"_xll.BDP($B43,I$28)","v":-0.27041399999999999},{"$f":"_xll.BDP($B43,J$28)","v":4.5029589999999997}]

{"sheet":"Implied Rating","index":2,"n_rows":1473,"n_cols":4,"rows_kept":1473,"cut":false,"hidden":false,"merged":[]}
[]
[]
[]
[{"$f":"[2]!FT(\"getinstr/?condition=RELEVANT_REGION,=,North America&_view_config=Implied_Rating_proCB\")","v":"Valuation Date"},"2015-01-15",0]
[0,0,0]
["INSTRUMENT","ISIN","INSTRUMENT RATING IMPLIED"]
["ACCURAY INC/3.75%/01.08.2016","US004397AB18","B"]
["ACORDA THE/REG/1.75%/15.06.2021","US00484MAA45","B+"]
["AEGERION P/144A/2.0%/15.08.2019","US00767EAA01","B-"]
["AFFYMETRIX INC/4%/01.07.2019","US00826TAH14","B-","e"]
["AKAMAI TECH/0%/15.02.2019","US00971TAF84","A-"]
["AKORN INC/3.5%/01.06.2016","US009728AB25","CCC"]
["AK STEEL CORP/5%/15.11.2019","US001546AP59","CCC+"]
["ALBANY MOLECULAR/2.25%/15.11.2018","US012423AB50","B-"]
["ALCOA INC/5.375%/01.10.2017","US0138173093","A-"]
["ALEXANDRIA REAL/7%/PERP","US0152715050","B"]
["ALLSCRIPTS HEALT/1.25%/01.07.2020","US01988PAD06","BB"]
["ALPHA NATURAL/3.75%/15.12.2017","US02076XAE22","B-"]
["ALPHA NATURAL/4.875%/15.12.2020","US02076XAF96","CCC+"]
["AMAG PHARMA INC/2.5%/15.02.2019","US00163UAA43","B"]
["AMD/6%/01.05.2015","US007903AL16","BB"]
["AMERICAN REALITY/3.75%/15.12.2020","US02917TAB08","BBB"]
["AMERICAN TOWER/5.25%/15.05.2017","US03027X3089","BBB-"]
["AMER REALTY CAP/3%/01.08.2018","US02917TAA25","BBB+"]
["AMSURG CORP/5.25%/01.07.2017","US03232P5044","BBB-"]
["AMTRUST FINANCIA/5.5%/15.12.2021","US032359AC55","B+"]
["ANACOR PHARMACEU/144A/2%/15.10.2021","US032420AA94","BB"]
["ANNALY CAPITAL/4%/15.02.2015","US035710AA05","BB"]
["ANNALY CAPITAL/5%/15.05.2015","US035710AB87","BB"]
["AOL/144A/0.75%/01.09.2019","US00184XAA37","BB+"]
["ARES CAPITAL COR/5.75%/01.02.2016","US04010LAB99","BBB"]
["ARES CAPITAL COR/REG/4.375%/15.01.2019","US04010LAM54","BBB"]
["ARES CAPITAL COR/REG/5.125%/01.06.2016","US04010LAD55","BB-"]
["ARRAY BIOPHARMA/3%/01.06.2020","US04269XAA37","B"]
["AUXILIUM/1.5%/15.07.2018","US05334DAA54","B-"]
["B2GOLD CORP/3.25%/01.10.2018","US11777QAB68","B"]
["BANK OF AMER CRP/7.25%/PERP","US0605056821","B"]
["BIOMARIN PHARM/0.75%/15.10.2018","US09061GAE17","BBB-"]
["BIOMARIN PHARM/1.5%/15.10.2020","US09061GAF81","BBB-"]
["BIOMARIN PHARM/1.875%/23.04.2017","US09061GAD34","BB-"]
["BIOMED REALTY LP/3.75%/15.01.2030","US09064AAB70","BB-"]
["BLUCORA INC/4.25%/01.04.2019","US095229AB69","CCC"]
["BOTTOMLINE TECH/1.5%/01.12.2017","US101388AA48","BB-"]
["BROADSOFT INC/1.5%/01.07.2018","US11133BAB80","B+"]
["BROCADE COM SYS/144A/1.375%/01.01.2020","US111621AP39","BB+"]
["BROOKDALE SENIOR/2.75%/15.06.2018","US112463AA27","BB+"]
["BUNGE LTD/4.875%/PERP","BMG169622047","B+"]
["CADENCE DESIGN/2.625%/01.06.2015","US127387AJ78","B+"]
["CANADIAN SOLAR/144A/4.25%/15.02.2019","US136635AD18","CCC+"]
["CANADIAN SOLAR/4.25%/15.02.2019","USC15396AA90","CCC"]
["CARDTRONICS INC/1%/01.12.2020","US14161HAG39","BB+"]
["CARRIAGE SERVICE/144A/2.75%/15.03.2021","US143905AL17","BB"]
["CBIZ INC/4.875%/01.10.2015","US124805AC68","B"]
["CENT EURO MEDIA/5%/15.11.2015","US153443AH94","B-"]
["CEPHEID INC/1.25%/01.02.2021","US15670RAB33","BB"]
["CHART INDUSTRIES/2%/01.08.2018","US16115QAC42","B"]
["CHESAPEAKE/*/2.5%/15.05.2037","US165167CA30","BBB"]
["CHESAPEAKE/2.5%/15.05.2037","US165167BZ99","A-"]
["CHESAPEAKE ENERG/4.5%/PERP","US1651678427","BB"]
["CHESAPEAKE ENRGY/2.25%/15.12.2038","US165167CB13","B"]
["CHESAPEAKE ENRGY/2.75%/15.11.2035","US165167BW68","A-"]
["CHESAPEAKE ENRGY/5.75%/PERP","US1651677767","BB+"]
["CIENA CORP/0.875%/15.06.2017","US171779AE10","BB"]
["CIENA CORP/144A/4%/15.03.2015","US171779AF84","B"]
["CIENA CORP/3.75%/15.10.2018","US171779AG67","B"]
["CITRIX SYSTEMS/144A/0.5%/15.04.2019","US177376AC40","A+"]
["CLIFFS NATURAL R/7%/01.02.2016","US18683K4085","B"]
["CLOVIS ONCOLOGY/144A/2.5%/15.09.2021","US189464AA81","B+"]
["COBALT INT/2.625%/01.12.2019","US19075FAA49","B"]
["COBALT INT/3.125%/15.05.2024","US19075FAB22","B"]
["COLONY FINANCIAL/3.875%/15.01.2021","US19624RAB24","BB"]
["CONCUR TECH INC/0.5%/15.06.2018","US206708AC38","BBB"]
["CONCUR TECH INC/144A/2.5%/15.04.2015","US206708AA71","BB-"]
["CORNERSTONE ONDE/REG/1.5%/01.07.2018","US21925YAB92","BBB-"]
["CROWN CASTLE/4.5%/01.11.2016","US22822V2007","BB+"]
["CSG SYSTEMS INTL/144A/3%/01.03.2017","US126349AC33","B"]
["CUBIST PHARM/1.125%/01.09.2018","US229678AF41","BBB-"]
["CUBIST PHARM/1.875%/01.09.2020","US229678AH07","BB"]
["CUBIST PHARM/2.5%/01.11.2017","US229678AD92","B"]
["DEALERTRACK HOLD/1.5%/15.03.2017","US242309AB86","BB"]
["DENDREON CORP/2.875%/15.01.2016","US24823QAC15","B-"]
["DEPOMED INC/2.5%/01.09.2021","US249908AA20","B+"]
["DEVELOPERS DIVER/1.75%/15.11.2040","US251591AX13","BBB-"]
["DOMINION RES/A/6.125%/01.04.2016","US25746U7037","AA+"]
["DOMINION RES/B/6%/01.07.2016","US25746U8852","AA+"]
["DOMINION R/REG/3.188%/01.07.2017","US25746U8696","A-"]
["DYNEGY INC/5.375%/01.11.2017","US26817R2076","BB-"]
["ELEC FOR IMAGING/144A/0.75%/01.09.2019","US286082AB86","BB+"]
["ELECTRONIC ARTS/0.75%/15.07.2016","US285512AA71","A+"]
["EMERGENT BIOSOLU/2.875%/15.01.2021","US29089QAA31","B"]
["EMPIRE STATE REA/144A/2.625%/15.08.2019","US292102AA81","BBB"]
["ENDOLOGIX INC/2.25%/15.12.2018","US29266SAA42","B-"]
["ENERGY XXI/3%/15.12.2018","US29274UAB70","B"]
["ENERGY XXI/5.625%/PERP","US29274U3095","B"]
["ENERSYS/FRN-STEP/01.06.2038","US29275YAA01","B+"]
["EQUINIX INC/4.75%/15.06.2016","US29444UAH95","B"]
["EURONET WORLDWID/144A/1.5%/01.10.2044","US298736AG45","BB"]
["EXELIXIS INC/4.25%/15.08.2019","US30161QAC87","CCC"]
["EXELON COR/REG/3.25%/01.06.2017","US30161N1274","A+"]
["EXTRA SPACE STOR/2.375%/01.07.2033","US30225VAC19","BBB-"]
["FIDELITY NATL FI/4.25%/15.08.2018","US31620RAE53","BB"]
["FINISAR CORP/0.5%/15.12.2033","US31787AAM36","BB+"]
["FORESTAR GROUP/3.75%/01.03.2020","US346232AB79","B"]
["FOREST CITY ENT/3.625%/15.08.2020","US345550AR85","B"]
["FOREST CITY ENT/4.25%/15.08.2018","US345550AP20","B"]
["FXCM INC/2.25%/15.06.2018","US302693AB25","B"]
["GEN CABLE CORP/FRN-STEP/15.11.2029","US369300AL27","B"]
["GENCORP INC/4.0625%/31.12.2039","US368682AN09","B-"]
["GILEAD SCIENCES/1.625%/01.05.2016","US375558AP86","AA+"]
["GOLAR LNG LTD/3.75%/07.03.2017","NO0010637846","B"]
["GOLDEN OCEAN GRP/3.07%/30.01.2019","NO0010701055","B"]
["GOODRICH PETROLE/5%/01.10.2029","US382410AC28","B-"]
["GREENBRIER COS/3.5%/01.04.2018","US393657AH48","BB"]
["GROUP 1 AUTO/3%/15.03.2020","US398905AG48","B"]
["GT ADV TECHNOLOG/3%/15.12.2020","US36191UAB26","B"]
["HEALTH CARE REIT/3%/01.12.2029","US42217KAR77","A-"]
["HEALTH CARE REIT/6.5%/PERP","US42217K6010","BB"]
["HEALTHSOUTH CORP/2%/01.12.2043","US421924BL47","BB"]
["HEALTHWAYS INC/1.5%/01.07.2018","US422245AB65","B"]
["HEARTWARE INTERN/3.5%/15.12.2017","US422368AA83","B"]
["HERBALIFE LTD/2%/15.08.2019","US42703MAA18","BB-"]
["HOLOGIC/FRN-STEP/15.12.2043","US436440AG63","BB"]
["HOLOGIC INC/2010/FRN-STEP/15.12.2037","US436440AB76","BB"]
["HOLOGIC INC/FRN-STEP/01.03.2042","US436440AC59","BB"]
["HOMEAWAY INC/0.125%/01.04.2019","US43739QAA85","BB"]
["HORNBECK OFF/1.5%/01.09.2019","US440543AN62","BB+"]
["HOST HOTEL/144A/2.5%/15.10.2029","US44107TAG13","BB+"]
["HOVNANIAN ENTR/6%/01.12.2017","US442488BN15","CCC"]
["HUNTINGTON BANCS/8.5%/PERP","US4461504015","BB"]
["HURON CONSULTING/144A/1.25%/01.10.2019","US447462AA02","BB"]
["IAS OPER PART LP/5%/15.03.2018","US44927XAA37","B"]
["ICONIX BRAND GRP/1.5%/15.03.2018","US451055AF44","BBB-"]
["ICONIX BRAND GRP/2.5%/01.06.2016","US451055AE78","B"]
["ILLUMINA/144A/0.0%/15.06.2019","US452327AE94","A-"]
["ILLUMINA INC/0.25%/15.03.2016","US452327AD12","BB-"]
["ILLUMINA INC/0.5%/15.06.2021","US452327AG43","A-"]
["INCYTE CORP LTD/0.375%/15.11.2018","US45337CAM47","BB"]
["INCYTE CORP LTD/1.25%/15.11.2020","US45337CAN20","BB"]
["INCYTE CORP LTD/4.75%/01.10.2015","US45337CAJ18","CCC"]
["INFINERA CORP/1.75%/01.06.2018","US45667GAB95","BB"]
["INTEGRA LIFESCIE/1.625%/15.12.2016","US457985AK56","BBB-"]
["INTEL CORP/144A/3.25%/01.08.2039","US458140AF79","AA+"]
["INTEL CORP/2.95%/15.12.2035","US458140AD22","AA+"]
["INTERDIGITAL INC/2.5%/15.03.2016","US458660AB32","BB+"]
["INTERMUNE INC/2.5%/15.09.2018","US45884XAE31","CCC"]
["ISIS PHARMACEUTI/144A/1%/15.11.2021","US464337AH78","B+"]
["ISTAR FINANCIAL/3%/15.11.2016","US45031UBR14","B+"]
["J2 GLOBAL COMM/3.25%/15.06.2029","US48123VAC63","BB-"]
["JAMES RIVER COAL/4.5%/01.12.2015","US470355AF58","CCC"]
["JARDEN CORP/1.125%/15.03.2034","US471109AK41","BB+"]
["JARDEN CORP/1.5%/15.06.2019","US471109AL24","BBB-"]
["JARDEN CORP/1.875%/15.09.2018","US471109AH12","BB"]
["JDS UNIPHASE/0.625%/15.08.2033","US46612JAF84","BB+"]
["JEFFERIES GROUP/3.875%/01.11.2029","US472319AG74","B+"]
["KAISER ALUMINUM/4.5%/01.04.2015","US483007AB65","B"]
["KB HOME/1.375%/01.02.2019","US48666KAS87","BBB-"]
["KNIGHT CAPITAL/3.5%/15.03.2015","US499005AE60","B+"]
["LAM RESEAR/0.5%/15.05.2016","US512807AJ73","A+"]
["LAM RESEAR/1.25%/15.05.2018","US512807AL20","A+"]
["LENNAR CORP/2.75%/15.12.2020","US526057BE33","B"]
["LENNAR CORP/3.25%/15.11.2021","US526057BG80","BBB-"]
["LIBERTY INTERACT/0.75%/30.03.2043","US530610AC87","BB+"]
["LIBERTY INTER (HSN) /1%/30.09.2043","US530610AB05","A+"]
["LIBERTY MEDIA/1.375%/15.10.2023","US531229AB89","BBB"]
["LINKEDIN CORP/144A/0.5%/01.11.2019","US53578AAA60","BBB"]
["LIVE NATION ENT/144A/2.5%/15.05.2019","US538034AH26","BB"]
["LUFTHANSA MALTA (JETBLUE)/0.75%/05.04.2017","XS0765567259","BB-"]
["MACQUARIE INFRAS/2.875%/15.07.2019","US55608BAA35","BBB+"]
["MASSEY ENERGY CO/3.25%/01.08.2015","US576203AJ29","BB"]
["MEDICINES COMP/1.375%/01.06.2017","US584688AC99","CCC"]
["MEDICINES COMP/144A/2.5%/15.01.2022","US584688AD72","BB-"]
["MEDIDATA SOLUTIO/REG/1%/01.08.2018","US58471AAB17","BB"]
["MEDIVATION INC/2.625%/01.04.2017","US58501NAA90","BB+"]
["MENTOR GRAPHICS CORP/4%/01.04.2031","US587200AK26","B+"]
["MERITAGE HOMES/1.875%/15.09.2032","US59001AAR32","BB"]
["MERRIMACK PHARMA/4.5%/15.07.2020","US590328AA86","CCC+"]
["MGIC INVT CORP/2%/01.04.2020","US552848AE34","BB+"]
["MGIC INVT CORP/5%/01.05.2017","US552848AD50","BB"]
["MGM MIRAGE/4.25%/15.04.2015","US55303QAE08","BB"]
["MICROCHIP TECH/2.125%/15.12.2037","US595017AB07","BB-"]
["MICRON TECH/1.625%/15.02.2033","US595112AU73","BB-"]
["MICRON TECH/2.125%/15.02.2033","US595112AV56","B+"]
["MICRON TECH/3%/15.11.2043","US595112AY95","BB-"]
["MICRON TECHNOLOGY INC/2.375%/01.05.2032","US595112AW30","B+"]
["MICRON TECHNOLOGY INC/3.125%/01.05.2032","US595112AX13","BB-"]
["M/I HOMES INC/3.25%/15.09.2017","US55292PAA30","CCC"]
["MOLINA HEALTHCAR/1.125%/15.01.2020","US60855RAC43","BB"]
["MOLINA HEALTHCAR/1.625%/15.08.2044","US60855RAD26","BB+"]
["MOLYCORP INC/3.25%/15.06.2016","US608753AA72","B"]
["MOLYCORP INC/5.5%/01.02.2018","US608753AH26","CCC+"]
["MOLYCORP INC/6%/01.09.2017","US608753AF69","CCC"]
["MONSTER WORLDWID/144A/3.5%/15.10.2019","US611742AA54","B-"]
["MOVE INC/144A/2.75%/01.09.2018","US62458MAB46","B+"]
["MYLAN INC/3.75%/15.09.2015","US628530AJ63","BB+"]
["NATIONAL HEALTH/3.25%/01.04.2021","US63633DAE40","BBB"]
["NAVISTAR INTL/144A/4.5%/15.10.2018","US63934EAQ17","B-"]
["NAVISTAR INTL/4.75%/15.04.2019","US63934EAR99","B+"]
["NETSUITE INC/0.25%/01.06.2018","US64118QAB32","BB+"]
["NEWMONT MINING/1.625%/15.07.2017","US651639AJ57","A+"]
["NEXITY/0.625%/01.01.2020","FR0011983105","BBB-"]
["NEXTERA ENERGY/5.599%/01.06.2015","US65339F7050","A+"]
["NEXTERA ENERGY/5.799%/01.09.2016","US65339F8611","AA+"]
["NEXTERA ENERGY/5.889%/01.09.2015","US65339F8876","A+"]
["NORTHGATE (AURICO GOLD)/3.5%/01.10.2016","US666416AB86","B"]
["NORTHSTAR REAL/7.5%/15.03.2031","US66705PAA12","CCC"]
["NOVELLUS S/2.625%/15.05.2041","US670008AD31","BB-"]
["NRG YIELD INC/144A/3.5%/01.02.2019","US62942XAA63","BB"]
["NUANCE COMMUNIC/2.75%/01.11.2031","US67020YAF79","BB"]
["NUVASIVE INC/2.75%/01.07.2017","US670704AC96","BB"]
["NVIDIA CORP/1%/01.12.2018","US67066GAC87","BBB-"]
["OLD REPUB INTL/3.75%/15.03.2018","US680223AH76","BBB"]
["OMNICARE CAPITAL/4%/15.06.2033","US68214Q2003","CCC+"]
["OMNICARE INC/3.25%/15.12.2035/1","US681904AR94","BB"]
["OMNICARE INC/3.5%/15.02.2044","US681904AQ12","BB"]
["OMNICARE INC/3.75%/15.12.2025","US681904AN80","B"]
["ON SEMICONDUCTOR/B/2.625%/15.12.2026","US682189AH82","BB+"]
["OPKO HEALTH INC/3%/01.02.2033","US68375NAA19","B-"]
["OREXIGEN THERAPE/2.75%/01.12.2020","US686164AB05","CCC+"]
["OWENS-BROCKWAY/144A/3%/01.06.2015","US69073TAQ67","AA"]
["PALO ALTO NET/144A/0%/01.07.2019","US697435AA30","BB+"]
["PDL BIO PHARMA/4.0%/01.02.2018","US69329YAF16","BB"]
["PEABODY ENERGY/4.75%/15.12.2041","US704549AG98","B"]
["PETROLEUM DEVELOPMENT CO/3.25%/15.05.2016","US716578AC33","CCC"]
["PRICELINE/1%/15.03.2018","US741503AQ92","A"]
["PRICELINE./1.25%/15.3.2015","US741503AN61","BBB"]
["PRICELINE.COM/REG/0.35%/15.06.2020","US741503AS58","A+"]
["PRICELINE GROUP/144A/0.9%/15.09.2021","US741503AT32","A+"]
["PROLOGIS INC/3.25%/15.03.2015","US74340XAT81","AA+"]
["PROOFPOINT INC/1.25%/15.12.2018","US743424AB91","BB"]
["PROSPECT CAPITAL/144A/4.75%/15.04.2020","US74348TAP75","BB+"]
["QUANTUM CORP/3.5%/15.11.2015","US747906AG03","CCC+"]
["RADIAN GROUP INC/2.25%/01.03.2019","US750236AN17","BB+"]
["RADIAN GROUP INC/3%/15.11.2017","US750236AK77","B+"]
["RED HAT INC/144A/0.25%/01.10.2019","US756577AC63","A+"]
["REGENERON PHARMACEUTICAL/1.875%/01.10.2016","US75886FAD96","BBB+"]
["RESTORATION HARD/144A/0%/15.06.2019","US761283AA86","BB+"]
["ROVI CORP/2.625%/15.2.2040","US779376AB85","BB"]
["ROYAL GOLD INC/2.875%/15.06.2019","US780287AA66","BB+"]
["RPM INTL INC/2.25%/15.12.2020","US749685AT01","A-"]
["RTI INTERNATIONAL METALS/3%/01.12.2015","US74973WAA53","B+"]
["RTI INTL METALS/1.625%/15.10.2019","US74973WAB37","B+"]
["RYLAND GROUP/0.25%/01.06.2019","US783764AS21","BBB"]
["RYLAND GROUP/1.625%/15.05.2018","US783764AQ64","BB-"]
["SALESFORCE.COM/0.25%/01.04.2018","US79466LAD64","A+"]
["SALESFORCE.COM/0.75%/15.01.2015","US79466LAB09","A"]
["SALIX PHARMACEUTICALS/1.5%/15.03.2019","US795435AE61","B"]
["SALIX PHARMACEUTICALS LT/2.75%/15.05.2015","US795435AC06","B-"]
["SANDISK CORP/0.5%/15.10.2020","US80004CAF86","A"]
["SANDISK CORP/1.5%/15.08.2017","US80004CAD39","BB+"]
["SANDRIDGE ENERGY/7%/PERP","US80007P8775","CCC"]
["SEACOR HOLDINGS/2.5%/15.12.2027","US811904AM35","BB+"]
["SEACOR HOLDINGS/3%/15.11.2028","US81170YAB56","BB"]
["SEQUENOM INC/5%/01.10.2017","US817337AB40","CCC+"]
["SERVICENOW INC/0%/01.11.2018","US81762PAB85","BB+"]
["SERVICESOURCE/1.5%/01.08.2018","US81763UAB61","B"]
["SHUTTERFLY INC/0.25%/15.05.2018","US82568PAB22","B+"]
["SILVER STANDARD/2.875%/01.02.2033","US82823LAB27","B-"]
["SL GREEN OPERATING PARTN/3%/15.10.2017","US78444FAC05","BB+"]
["SPANSION LLC/2%/01.09.2020","US84649PAL94","B-"]
["SPECTRANETICS/2.625%/01.06.2034","US84760CAA53","B+"]
["SPECTRUM PHARMA/2.75%/15.12.2018","US84763AAB44","B-"]
["SPIRIT REA/REG/2.875%/15.05.2019","US84860WAA09","BBB-"]
["SPIRIT REA/REG/3.75%/15.05.2021","US84860WAB81","BB+"]
["STANDARD PACIFIC/1.25%/01.08.2032","US85375CBC47","A"]
["STANLEY BL/4.75%/17.11.2015","US8545023090","BBB-"]
["STANLEY BLACK/6.25%/17.11.2016","US8545028040","A+"]
["STARWOOD/4.0%/15.01.2019","US85571BAB18","B+"]
["STARWOOD PROP TR/3.75%/15.10.2017","US85571BAC90","BB+"]
["STARWOOD PROP TR/4.55%/01.03.2018","US85571BAA35","B+"]
["STILLWATER MINING COMP/1.75%/15.10.2032","US86074QAL68","B"]
["STILLWATER MINING COMP/1.875%/15.03.2028","US86074QAF90","B"]
["STONE ENERGY/1.75%/01.03.2017","US861642AN69","B"]
["SUNEDISON INC/0.25%/15.01.2020","US86732YAE95","B"]
["SUNEDISON INC/2%/01.10.2018","US86732YAA73","BB"]
["SUNEDISON INC/2.75%/01.01.2021","US86732YAB56","BB-"]
["SUNPOWER CORP/144A/0.875%/01.06.2021","US867652AH20","BB"]
["SUNPOWER CORP/REG/0.75%/01.06.2018","US867652AG47","BB"]
["SYNCHRONOSS TECH/0.75%/15.08.2019","US87157BAA17","BB"]
["TAKE-TWO INTERAC/1%/01.07.2018","US874054AD16","BB+"]
["TAKE-TWO INTERAC/1.75%/01.12.2016","US874054AC33","BB-"]
["TELEFLEX INC/3.875%/01.08.2017","US879369AA42","B+"]
["TEREX CORP/4%/01.06.2015","US880779AV56","B-"]
["TESARO INC/3%/01.10.2021","US881569AA53","B-"]
["TESLA MOTORS INC/0.25%/01.03.2019","US88160RAB78","BB-"]
["TESLA MOTORS INC/1.25%/01.03.2021","US88160RAC51","BB-"]
["TESLA MOTORS INC/1.5%/01.06.2018","US88160RAA95","B"]
["TIBCO SOFTWARE INC/2.25%/01.05.2032","US88632QAB95","BB"]
["TIVO INC/4%/15.03.2016","US888706AD00","B-"]
["T-MOBILE US INC/5.5%/15.12.2017","US8725902030","A"]
["TOLL BROTHERS/0.5%/15.09.2032","US88947EAM21","A"]
["TRINITY IND/3.875%/01.06.2036","US896522AF60","B+"]
["TRW AUTOMOTIVE INC/3.5%/01.12.2015","US87264MAH25","BB+"]
["TTM TECHNOLOGIES/3.25%/15.05.2015","US87305RAC34","BB-"]
["TWITTER/144A/0.25%/15.09.2019","US90184LAA08","BBB-"]
["TWITTER INC/144A/1%/15.09.2021","US90184LAC63","BB"]
["TYSON FOOD/REG/2.375%/15.07.2017","US9024943014","AAA"]
["UNITED TEC/7.5%/01.08.2015","US9130171179","AA+"]
["UNITED THERAPEUTICS CORP/1%/15.09.2016","US91307CAF95","BBB-"]
["US STEEL CORP/2.75%/01.04.2019","US912909AH17","BB-"]
["UTI WORLDWIDE/144A/4.5%/01.03.2019","US90349LAA26","CCC+"]
["VECTOR GROUP LTD/1.75%/15.04.2020","US92240MBC10","B"]
["VERINT SYS/REG/1.5%/01.06.2021","US92343XAA81","BBB-"]
["VERISIGN INC/3.25%/15.08.2037","US92343EAD40","BB-"]
["VOLCANO CORP/1.75%/01.12.2017","US928645AB67","B+"]
["WEB.COM GROUP/1%/15.08.2018","US94733AAA25","BB-"]
["WEBMD HEAL/2.25%/31.03.2016","US94770VAH50","BB"]
["WEBMD HEAL/2.5%/31.01.2018","US94770VAF94","B"]
["WEBMD HEALTH/144A/1.5%/01.12.2020","US94770VAK89","BB"]
["WELLPOINT INC/2.75%/15.10.2042","US94973VBG14","A"]
["WELLS FARGO CO/7.5%/PERP","US9497468044","BB"]
["WEYERHAEUSER CO/6.375%/01.07.2016","US9621668725","A-"]
["WORKDAY INC/0.75%/15.07.2018","US98138HAC51","BB+"]
["WORKDAY INC/1.5%/15.07.2020","US98138HAD35","BB"]
["WRIGHT MED/2.0%/15.08.2017","US98235TAC18","B+"]
["XILINX INC/2.625%/15.06.2017","US983919AF83","A"]
["YAHOO INC/0%/01.12.2018","US984332AF31","A"]
[{"$error":"#N/A"},{"$error":"#N/A"},{"$error":"#N/A"}]
[{"$error":"#N/A"},{"$error":"#N/A"},{"$error":"#N/A"}]
[{"$error":"#N/A"},{"$error":"#N/A"},{"$error":"#N/A"}]
[{"$error":"#N/A"},{"$error":"#N/A"},{"$error":"#N/A"}]
[{"$error":"#N/A"},{"$error":"#N/A"},{"$error":"#N/A"}]
[{"$error":"#N/A"},{"$error":"#N/A"},{"$error":"#N/A"}]
[{"$error":"#N/A"},{"$error":"#N/A"},{"$error":"#N/A"}]
[{"$error":"#N/A"},{"$error":"#N/A"},{"$error":"#N/A"}]
[{"$error":"#N/A"},{"$error":"#N/A"},{"$error":"#N/A"}]
[{"$error":"#N/A"},{"$error":"#N/A"},{"$error":"#N/A"}]
[{"$error":"#N/A"},{"$error":"#N/A"},{"$error":"#N/A"}]
[{"$error":"#N/A"},{"$error":"#N/A"},{"$error":"#N/A"}]
[{"$error":"#N/A"},{"$error":"#N/A"},{"$error":"#N/A"}]
[{"$error":"#N/A"},{"$error":"#N/A"},{"$error":"#N/A"}]
[{"$error":"#N/A"},{"$error":"#N/A"},{"$error":"#N/A"}]
[{"$error":"#N/A"},{"$error":"#N/A"},{"$error":"#N/A"}]
[{"$error":"#N/A"},{"$error":"#N/A"},{"$error":"#N/A"}]
[{"$error":"#N/A"},{"$error":"#N/A"},{"$error":"#N/A"}]
[{"$error":"#N/A"},{"$error":"#N/A"},{"$error":"#N/A"}]
[{"$error":"#N/A"},{"$error":"#N/A"},{"$error":"#N/A"}]
[{"$error":"#N/A"},{"$error":"#N/A"},{"$error":"#N/A"}]
[{"$error":"#N/A"},{"$error":"#N/A"},{"$error":"#N/A"}]
[{"$error":"#N/A"},{"$error":"#N/A"},{"$error":"#N/A"}]
[{"$error":"#N/A"},{"$error":"#N/A"},{"$error":"#N/A"}]
[{"$error":"#N/A"},{"$error":"#N/A"},{"$error":"#N/A"}]
[{"$error":"#N/A"},{"$error":"#N/A"},{"$error":"#N/A"}]
[{"$error":"#N/A"},{"$error":"#N/A"},{"$error":"#N/A"}]
[{"$error":"#N/A"},{"$error":"#N/A"},{"$error":"#N/A"}]
[{"$error":"#N/A"},{"$error":"#N/A"},{"$error":"#N/A"}]
[{"$error":"#N/A"},{"$error":"#N/A"},{"$error":"#N/A"}]
[{"$error":"#N/A"},{"$error":"#N/A"},{"$error":"#N/A"}]
[{"$error":"#N/A"},{"$error":"#N/A"},{"$error":"#N/A"}]
[{"$error":"#N/A"},{"$error":"#N/A"},{"$error":"#N/A"}]
[{"$error":"#N/A"},{"$error":"#N/A"},{"$error":"#N/A"}]
[{"$error":"#N/A"},{"$error":"#N/A"},{"$error":"#N/A"}]
[{"$error":"#N/A"},{"$error":"#N/A"},{"$error":"#N/A"}]
[{"$error":"#N/A"},{"$error":"#N/A"},{"$error":"#N/A"}]
[{"$error":"#N/A"},{"$error":"#N/A"},{"$error":"#N/A"}]
[{"$error":"#N/A"},{"$error":"#N/A"},{"$error":"#N/A"}]
[{"$error":"#N/A"},{"$error":"#N/A"},{"$error":"#N/A"}]
[{"$error":"#N/A"},{"$error":"#N/A"},{"$error":"#N/A"}]
[{"$error":"#N/A"},{"$error":"#N/A"},{"$error":"#N/A"}]
[{"$error":"#N/A"},{"$error":"#N/A"},{"$error":"#N/A"}]
[{"$error":"#N/A"},{"$error":"#N/A"},{"$error":"#N/A"}]
[{"$error":"#N/A"},{"$error":"#N/A"},{"$error":"#N/A"}]
[{"$error":"#N/A"},{"$error":"#N/A"},{"$error":"#N/A"}]
[{"$error":"#N/A"},{"$error":"#N/A"},{"$error":"#N/A"}]
[{"$error":"#N/A"},{"$error":"#N/A"},{"$error":"#N/A"}]
[{"$error":"#N/A"},{"$error":"#N/A"},{"$error":"#N/A"}]
[{"$error":"#N/A"},{"$error":"#N/A"},{"$error":"#N/A"}]
[{"$error":"#N/A"},{"$error":"#N/A"},{"$error":"#N/A"}]
[{"$error":"#N/A"},{"$error":"#N/A"},{"$error":"#N/A"}]
[{"$error":"#N/A"},{"$error":"#N/A"},{"$error":"#N/A"}]
[{"$error":"#N/A"},{"$error":"#N/A"},{"$error":"#N/A"}]
[{"$error":"#N/A"},{"$error":"#N/A"},{"$error":"#N/A"}]
[{"$error":"#N/A"},{"$error":"#N/A"},{"$error":"#N/A"}]
[{"$error":"#N/A"},{"$error":"#N/A"},{"$error":"#N/A"}]
[{"$error":"#N/A"},{"$error":"#N/A"},{"$error":"#N/A"}]
[{"$error":"#N/A"},{"$error":"#N/A"},{"$error":"#N/A"}]
[{"$error":"#N/A"},{"$error":"#N/A"},{"$error":"#N/A"}]
[{"$error":"#N/A"},{"$error":"#N/A"},{"$error":"#N/A"}]
[{"$error":"#N/A"},{"$error":"#N/A"},{"$error":"#N/A"}]
[{"$error":"#N/A"},{"$error":"#N/A"},{"$error":"#N/A"}]
[{"$error":"#N/A"},{"$error":"#N/A"},{"$error":"#N/A"}]
[{"$error":"#N/A"},{"$error":"#N/A"},{"$error":"#N/A"}]
[{"$error":"#N/A"},{"$error":"#N/A"},{"$error":"#N/A"}]
[{"$error":"#N/A"},{"$error":"#N/A"},{"$error":"#N/A"}]
[{"$error":"#N/A"},{"$error":"#N/A"},{"$error":"#N/A"}]
[{"$error":"#N/A"},{"$error":"#N/A"},{"$error":"#N/A"}]
[{"$error":"#N/A"},{"$error":"#N/A"},{"$error":"#N/A"}]
[{"$error":"#N/A"},{"$error":"#N/A"},{"$error":"#N/A"}]
[{"$error":"#N/A"},{"$error":"#N/A"},{"$error":"#N/A"}]
[{"$error":"#N/A"},{"$error":"#N/A"},{"$error":"#N/A"}]
[{"$error":"#N/A"},{"$error":"#N/A"},{"$error":"#N/A"}]
[{"$error":"#N/A"},{"$error":"#N/A"},{"$error":"#N/A"}]
[{"$error":"#N/A"},{"$error":"#N/A"},{"$error":"#N/A"}]
[{"$error":"#N/A"},{"$error":"#N/A"},{"$error":"#N/A"}]
[{"$error":"#N/A"},{"$error":"#N/A"},{"$error":"#N/A"}]
[{"$error":"#N/A"},{"$error":"#N/A"},{"$error":"#N/A"}]
[{"$error":"#N/A"},{"$error":"#N/A"},{"$error":"#N/A"}]
[{"$error":"#N/A"},{"$error":"#N/A"},{"$error":"#N/A"}]
[{"$error":"#N/A"},{"$error":"#N/A"},{"$error":"#N/A"}]
[{"$error":"#N/A"},{"$error":"#N/A"},{"$error":"#N/A"}]
[{"$error":"#N/A"},{"$error":"#N/A"},{"$error":"#N/A"}]
[{"$error":"#N/A"},{"$error":"#N/A"},{"$error":"#N/A"}]
[{"$error":"#N/A"},{"$error":"#N/A"},{"$error":"#N/A"}]
[{"$error":"#N/A"},{"$error":"#N/A"},{"$error":"#N/A"}]
[{"$error":"#N/A"},{"$error":"#N/A"},{"$error":"#N/A"}]
[{"$error":"#N/A"},{"$error":"#N/A"},{"$error":"#N/A"}]
[{"$error":"#N/A"},{"$error":"#N/A"},{"$error":"#N/A"}]
[{"$error":"#N/A"},{"$error":"#N/A"},{"$error":"#N/A"}]
[{"$error":"#N/A"},{"$error":"#N/A"},{"$error":"#N/A"}]
[{"$error":"#N/A"},{"$error":"#N/A"},{"$error":"#N/A"}]
[{"$error":"#N/A"},{"$error":"#N/A"},{"$error":"#N/A"}]
[{"$error":"#N/A"},{"$error":"#N/A"},{"$error":"#N/A"}]
[{"$error":"#N/A"},{"$error":"#N/A"},{"$error":"#N/A"}]
[{"$error":"#N/A"},{"$error":"#N/A"},{"$error":"#N/A"}]
[{"$error":"#N/A"},{"$error":"#N/A"},{"$error":"#N/A"}]
[{"$error":"#N/A"},{"$error":"#N/A"},{"$error":"#N/A"}]
[{"$error":"#N/A"},{"$error":"#N/A"},{"$error":"#N/A"}]
[{"$error":"#N/A"},{"$error":"#N/A"},{"$error":"#N/A"}]
[{"$error":"#N/A"},{"$error":"#N/A"},{"$error":"#N/A"}]
[{"$error":"#N/A"},{"$error":"#N/A"},{"$error":"#N/A"}]
[{"$error":"#N/A"},{"$error":"#N/A"},{"$error":"#N/A"}]
[{"$error":"#N/A"},{"$error":"#N/A"},{"$error":"#N/A"}]
[{"$error":"#N/A"},{"$error":"#N/A"},{"$error":"#N/A"}]
[{"$error":"#N/A"},{"$error":"#N/A"},{"$error":"#N/A"}]
[{"$error":"#N/A"},{"$error":"#N/A"},{"$error":"#N/A"}]
[{"$error":"#N/A"},{"$error":"#N/A"},{"$error":"#N/A"}]
[{"$error":"#N/A"},{"$error":"#N/A"},{"$error":"#N/A"}]
[{"$error":"#N/A"},{"$error":"#N/A"},{"$error":"#N/A"}]
[{"$error":"#N/A"},{"$error":"#N/A"},{"$error":"#N/A"}]
[{"$error":"#N/A"},{"$error":"#N/A"},{"$error":"#N/A"}]
[{"$error":"#N/A"},{"$error":"#N/A"},{"$error":"#N/A"}]
[{"$error":"#N/A"},{"$error":"#N/A"},{"$error":"#N/A"}]
[{"$error":"#N/A"},{"$error":"#N/A"},{"$error":"#N/A"}]
[{"$error":"#N/A"},{"$error":"#N/A"},{"$error":"#N/A"}]
[{"$error":"#N/A"},{"$error":"#N/A"},{"$error":"#N/A"}]
[{"$error":"#N/A"},{"$error":"#N/A"},{"$error":"#N/A"}]
[{"$error":"#N/A"},{"$error":"#N/A"},{"$error":"#N/A"}]
[{"$error":"#N/A"},{"$error":"#N/A"},{"$error":"#N/A"}]
[{"$error":"#N/A"},{"$error":"#N/A"},{"$error":"#N/A"}]
[{"$error":"#N/A"},{"$error":"#N/A"},{"$error":"#N/A"}]
[{"$error":"#N/A"},{"$error":"#N/A"},{"$error":"#N/A"}]
[{"$error":"#N/A"},{"$error":"#N/A"},{"$error":"#N/A"}]
[{"$error":"#N/A"},{"$error":"#N/A"},{"$error":"#N/A"}]
[{"$error":"#N/A"},{"$error":"#N/A"},{"$error":"#N/A"}]
[{"$error":"#N/A"},{"$error":"#N/A"},{"$error":"#N/A"}]
[{"$error":"#N/A"},{"$error":"#N/A"},{"$error":"#N/A"}]
[{"$error":"#N/A"},{"$error":"#N/A"},{"$error":"#N/A"}]
[{"$error":"#N/A"},{"$error":"#N/A"},{"$error":"#N/A"}]
[{"$error":"#N/A"},{"$error":"#N/A"},{"$error":"#N/A"}]
[{"$error":"#N/A"},{"$error":"#N/A"},{"$error":"#N/A"}]
[{"$error":"#N/A"},{"$error":"#N/A"},{"$error":"#N/A"}]
[{"$error":"#N/A"},{"$error":"#N/A"},{"$error":"#N/A"}]
[{"$error":"#N/A"},{"$error":"#N/A"},{"$error":"#N/A"}]
[{"$error":"#N/A"},{"$error":"#N/A"},{"$error":"#N/A"}]
[{"$error":"#N/A"},{"$error":"#N/A"},{"$error":"#N/A"}]
[{"$error":"#N/A"},{"$error":"#N/A"},{"$error":"#N/A"}]
[{"$error":"#N/A"},{"$error":"#N/A"},{"$error":"#N/A"}]
[{"$error":"#N/A"},{"$error":"#N/A"},{"$error":"#N/A"}]
[{"$error":"#N/A"},{"$error":"#N/A"},{"$error":"#N/A"}]
[{"$error":"#N/A"},{"$error":"#N/A"},{"$error":"#N/A"}]
[{"$error":"#N/A"},{"$error":"#N/A"},{"$error":"#N/A"}]
[{"$error":"#N/A"},{"$error":"#N/A"},{"$error":"#N/A"}]
[{"$error":"#N/A"},{"$error":"#N/A"},{"$error":"#N/A"}]
[{"$error":"#N/A"},{"$error":"#N/A"},{"$error":"#N/A"}]
[{"$error":"#N/A"},{"$error":"#N/A"},{"$error":"#N/A"}]
[{"$error":"#N/A"},{"$error":"#N/A"},{"$error":"#N/A"}]
[{"$error":"#N/A"},{"$error":"#N/A"},{"$error":"#N/A"}]
[{"$error":"#N/A"},{"$error":"#N/A"},{"$error":"#N/A"}]
[{"$error":"#N/A"},{"$error":"#N/A"},{"$error":"#N/A"}]
[{"$error":"#N/A"},{"$error":"#N/A"},{"$error":"#N/A"}]
[{"$error":"#N/A"},{"$error":"#N/A"},{"$error":"#N/A"}]
[{"$error":"#N/A"},{"$error":"#N/A"},{"$error":"#N/A"}]
[{"$error":"#N/A"},{"$error":"#N/A"},{"$error":"#N/A"}]
[{"$error":"#N/A"},{"$error":"#N/A"},{"$error":"#N/A"}]
[{"$error":"#N/A"},{"$error":"#N/A"},{"$error":"#N/A"}]
[{"$error":"#N/A"},{"$error":"#N/A"},{"$error":"#N/A"}]
[{"$error":"#N/A"},{"$error":"#N/A"},{"$error":"#N/A"}]
[{"$error":"#N/A"},{"$error":"#N/A"},{"$error":"#N/A"}]
[{"$error":"#N/A"},{"$error":"#N/A"},{"$error":"#N/A"}]
[{"$error":"#N/A"},{"$error":"#N/A"},{"$error":"#N/A"}]
[{"$error":"#N/A"},{"$error":"#N/A"},{"$error":"#N/A"}]
[{"$error":"#N/A"},{"$error":"#N/A"},{"$error":"#N/A"}]
[{"$error":"#N/A"},{"$error":"#N/A"},{"$error":"#N/A"}]
[{"$error":"#N/A"},{"$error":"#N/A"},{"$error":"#N/A"}]
[{"$error":"#N/A"},{"$error":"#N/A"},{"$error":"#N/A"}]
[{"$error":"#N/A"},{"$error":"#N/A"},{"$error":"#N/A"}]
[{"$error":"#N/A"},{"$error":"#N/A"},{"$error":"#N/A"}]
[{"$error":"#N/A"},{"$error":"#N/A"},{"$error":"#N/A"}]
[{"$error":"#N/A"},{"$error":"#N/A"},{"$error":"#N/A"}]
[{"$error":"#N/A"},{"$error":"#N/A"},{"$error":"#N/A"}]
[{"$error":"#N/A"},{"$error":"#N/A"},{"$error":"#N/A"}]
[{"$error":"#N/A"},{"$error":"#N/A"},{"$error":"#N/A"}]
[{"$error":"#N/A"},{"$error":"#N/A"},{"$error":"#N/A"}]
[{"$error":"#N/A"},{"$error":"#N/A"},{"$error":"#N/A"}]
[{"$error":"#N/A"},{"$error":"#N/A"},{"$error":"#N/A"}]
[{"$error":"#N/A"},{"$error":"#N/A"},{"$error":"#N/A"}]
[{"$error":"#N/A"},{"$error":"#N/A"},{"$error":"#N/A"}]
[{"$error":"#N/A"},{"$error":"#N/A"},{"$error":"#N/A"}]
[{"$error":"#N/A"},{"$error":"#N/A"},{"$error":"#N/A"}]
[{"$error":"#N/A"},{"$error":"#N/A"},{"$error":"#N/A"}]
[{"$error":"#N/A"},{"$error":"#N/A"},{"$error":"#N/A"}]
[{"$error":"#N/A"},{"$error":"#N/A"},{"$error":"#N/A"}]
[{"$error":"#N/A"},{"$error":"#N/A"},{"$error":"#N/A"}]
[{"$error":"#N/A"},{"$error":"#N/A"},{"$error":"#N/A"}]
[{"$error":"#N/A"},{"$error":"#N/A"},{"$error":"#N/A"}]
[{"$error":"#N/A"},{"$error":"#N/A"},{"$error":"#N/A"}]
[{"$error":"#N/A"},{"$error":"#N/A"},{"$error":"#N/A"}]
[{"$error":"#N/A"},{"$error":"#N/A"},{"$error":"#N/A"}]
[{"$error":"#N/A"},{"$error":"#N/A"},{"$error":"#N/A"}]
[{"$error":"#N/A"},{"$error":"#N/A"},{"$error":"#N/A"}]
[{"$error":"#N/A"},{"$error":"#N/A"},{"$error":"#N/A"}]
[{"$error":"#N/A"},{"$error":"#N/A"},{"$error":"#N/A"}]
[{"$error":"#N/A"},{"$error":"#N/A"},{"$error":"#N/A"}]
[{"$error":"#N/A"},{"$error":"#N/A"},{"$error":"#N/A"}]
[{"$error":"#N/A"},{"$error":"#N/A"},{"$error":"#N/A"}]
[{"$error":"#N/A"},{"$error":"#N/A"},{"$error":"#N/A"}]
[{"$error":"#N/A"},{"$error":"#N/A"},{"$error":"#N/A"}]
[{"$error":"#N/A"},{"$error":"#N/A"},{"$error":"#N/A"}]
[{"$error":"#N/A"},{"$error":"#N/A"},{"$error":"#N/A"}]
[{"$error":"#N/A"},{"$error":"#N/A"},{"$error":"#N/A"}]
[{"$error":"#N/A"},{"$error":"#N/A"},{"$error":"#N/A"}]
[{"$error":"#N/A"},{"$error":"#N/A"},{"$error":"#N/A"}]
[{"$error":"#N/A"},{"$error":"#N/A"},{"$error":"#N/A"}]
[{"$error":"#N/A"},{"$error":"#N/A"},{"$error":"#N/A"}]
[{"$error":"#N/A"},{"$error":"#N/A"},{"$error":"#N/A"}]
[{"$error":"#N/A"},{"$error":"#N/A"},{"$error":"#N/A"}]
[{"$error":"#N/A"},{"$error":"#N/A"},{"$error":"#N/A"}]
[{"$error":"#N/A"},{"$error":"#N/A"},{"$error":"#N/A"}]
[{"$error":"#N/A"},{"$error":"#N/A"},{"$error":"#N/A"}]
[{"$error":"#N/A"},{"$error":"#N/A"},{"$error":"#N/A"}]
[{"$error":"#N/A"},{"$error":"#N/A"},{"$error":"#N/A"}]
[{"$error":"#N/A"},{"$error":"#N/A"},{"$error":"#N/A"}]
[{"$error":"#N/A"},{"$error":"#N/A"},{"$error":"#N/A"}]
[{"$error":"#N/A"},{"$error":"#N/A"},{"$error":"#N/A"}]
[{"$error":"#N/A"},{"$error":"#N/A"},{"$error":"#N/A"}]
[{"$error":"#N/A"},{"$error":"#N/A"},{"$error":"#N/A"}]
[{"$error":"#N/A"},{"$error":"#N/A"},{"$error":"#N/A"}]
[{"$error":"#N/A"},{"$error":"#N/A"},{"$error":"#N/A"}]
[{"$error":"#N/A"},{"$error":"#N/A"},{"$error":"#N/A"}]
[{"$error":"#N/A"},{"$error":"#N/A"},{"$error":"#N/A"}]
[{"$error":"#N/A"},{"$error":"#N/A"},{"$error":"#N/A"}]
[{"$error":"#N/A"},{"$error":"#N/A"},{"$error":"#N/A"}]
[{"$error":"#N/A"},{"$error":"#N/A"},{"$error":"#N/A"}]
[{"$error":"#N/A"},{"$error":"#N/A"},{"$error":"#N/A"}]
[{"$error":"#N/A"},{"$error":"#N/A"},{"$error":"#N/A"}]
[{"$error":"#N/A"},{"$error":"#N/A"},{"$error":"#N/A"}]
[{"$error":"#N/A"},{"$error":"#N/A"},{"$error":"#N/A"}]
[{"$error":"#N/A"},{"$error":"#N/A"},{"$error":"#N/A"}]
[{"$error":"#N/A"},{"$error":"#N/A"},{"$error":"#N/A"}]
[{"$error":"#N/A"},{"$error":"#N/A"},{"$error":"#N/A"}]
[{"$error":"#N/A"},{"$error":"#N/A"},{"$error":"#N/A"}]
[{"$error":"#N/A"},{"$error":"#N/A"},{"$error":"#N/A"}]
[{"$error":"#N/A"},{"$error":"#N/A"},{"$error":"#N/A"}]
[{"$error":"#N/A"},{"$error":"#N/A"},{"$error":"#N/A"}]
[{"$error":"#N/A"},{"$error":"#N/A"},{"$error":"#N/A"}]
[{"$error":"#N/A"},{"$error":"#N/A"},{"$error":"#N/A"}]
[{"$error":"#N/A"},{"$error":"#N/A"},{"$error":"#N/A"}]
[{"$error":"#N/A"},{"$error":"#N/A"},{"$error":"#N/A"}]
[{"$error":"#N/A"},{"$error":"#N/A"},{"$error":"#N/A"}]
[{"$error":"#N/A"},{"$error":"#N/A"},{"$error":"#N/A"}]
[{"$error":"#N/A"},{"$error":"#N/A"},{"$error":"#N/A"}]
[{"$error":"#N/A"},{"$error":"#N/A"},{"$error":"#N/A"}]
[{"$error":"#N/A"},{"$error":"#N/A"},{"$error":"#N/A"}]
[{"$error":"#N/A"},{"$error":"#N/A"},{"$error":"#N/A"}]
[{"$error":"#N/A"},{"$error":"#N/A"},{"$error":"#N/A"}]
[{"$error":"#N/A"},{"$error":"#N/A"},{"$error":"#N/A"}]
[{"$error":"#N/A"},{"$error":"#N/A"},{"$error":"#N/A"}]
[{"$error":"#N/A"},{"$error":"#N/A"},{"$error":"#N/A"}]
[{"$error":"#N/A"},{"$error":"#N/A"},{"$error":"#N/A"}]
[{"$error":"#N/A"},{"$error":"#N/A"},{"$error":"#N/A"}]
[{"$error":"#N/A"},{"$error":"#N/A"},{"$error":"#N/A"}]
[{"$error":"#N/A"},{"$error":"#N/A"},{"$error":"#N/A"}]
[{"$error":"#N/A"},{"$error":"#N/A"},{"$error":"#N/A"}]
[{"$error":"#N/A"},{"$error":"#N/A"},{"$error":"#N/A"}]
[{"$error":"#N/A"},{"$error":"#N/A"},{"$error":"#N/A"}]
[{"$error":"#N/A"},{"$error":"#N/A"},{"$error":"#N/A"}]
[{"$error":"#N/A"},{"$error":"#N/A"},{"$error":"#N/A"}]
[{"$error":"#N/A"},{"$error":"#N/A"},{"$error":"#N/A"}]
[{"$error":"#N/A"},{"$error":"#N/A"},{"$error":"#N/A"}]
[{"$error":"#N/A"},{"$error":"#N/A"},{"$error":"#N/A"}]
[{"$error":"#N/A"},{"$error":"#N/A"},{"$error":"#N/A"}]
[{"$error":"#N/A"},{"$error":"#N/A"},{"$error":"#N/A"}]
[{"$error":"#N/A"},{"$error":"#N/A"},{"$error":"#N/A"}]
[{"$error":"#N/A"},{"$error":"#N/A"},{"$error":"#N/A"}]
[{"$error":"#N/A"},{"$error":"#N/A"},{"$error":"#N/A"}]
[{"$error":"#N/A"},{"$error":"#N/A"},{"$error":"#N/A"}]
[{"$error":"#N/A"},{"$error":"#N/A"},{"$error":"#N/A"}]
[{"$error":"#N/A"},{"$error":"#N/A"},{"$error":"#N/A"}]
[{"$error":"#N/A"},{"$error":"#N/A"},{"$error":"#N/A"}]
[{"$error":"#N/A"},{"$error":"#N/A"},{"$error":"#N/A"}]
[{"$error":"#N/A"},{"$error":"#N/A"},{"$error":"#N/A"}]
[{"$error":"#N/A"},{"$error":"#N/A"},{"$error":"#N/A"}]
[{"$error":"#N/A"},{"$error":"#N/A"},{"$error":"#N/A"}]
[{"$error":"#N/A"},{"$error":"#N/A"},{"$error":"#N/A"}]
[{"$error":"#N/A"},{"$error":"#N/A"},{"$error":"#N/A"}]
[{"$error":"#N/A"},{"$error":"#N/A"},{"$error":"#N/A"}]
[{"$error":"#N/A"},{"$error":"#N/A"},{"$error":"#N/A"}]
[{"$error":"#N/A"},{"$error":"#N/A"},{"$error":"#N/A"}]
[{"$error":"#N/A"},{"$error":"#N/A"},{"$error":"#N/A"}]
[{"$error":"#N/A"},{"$error":"#N/A"},{"$error":"#N/A"}]
[{"$error":"#N/A"},{"$error":"#N/A"},{"$error":"#N/A"}]
[{"$error":"#N/A"},{"$error":"#N/A"},{"$error":"#N/A"}]
[{"$error":"#N/A"},{"$error":"#N/A"},{"$error":"#N/A"}]
[{"$error":"#N/A"},{"$error":"#N/A"},{"$error":"#N/A"}]
[{"$error":"#N/A"},{"$error":"#N/A"},{"$error":"#N/A"}]
[{"$error":"#N/A"},{"$error":"#N/A"},{"$error":"#N/A"}]
[{"$error":"#N/A"},{"$error":"#N/A"},{"$error":"#N/A"}]
[{"$error":"#N/A"},{"$error":"#N/A"},{"$error":"#N/A"}]
[{"$error":"#N/A"},{"$error":"#N/A"},{"$error":"#N/A"}]
[{"$error":"#N/A"},{"$error":"#N/A"},{"$error":"#N/A"}]
[{"$error":"#N/A"},{"$error":"#N/A"},{"$error":"#N/A"}]
[{"$error":"#N/A"},{"$error":"#N/A"},{"$error":"#N/A"}]
[{"$error":"#N/A"},{"$error":"#N/A"},{"$error":"#N/A"}]
[{"$error":"#N/A"},{"$error":"#N/A"},{"$error":"#N/A"}]
[{"$error":"#N/A"},{"$error":"#N/A"},{"$error":"#N/A"}]
[{"$error":"#N/A"},{"$error":"#N/A"},{"$error":"#N/A"}]
[{"$error":"#N/A"},{"$error":"#N/A"},{"$error":"#N/A"}]
[{"$error":"#N/A"},{"$error":"#N/A"},{"$error":"#N/A"}]
[{"$error":"#N/A"},{"$error":"#N/A"},{"$error":"#N/A"}]
[{"$error":"#N/A"},{"$error":"#N/A"},{"$error":"#N/A"}]
[{"$error":"#N/A"},{"$error":"#N/A"},{"$error":"#N/A"}]
[{"$error":"#N/A"},{"$error":"#N/A"},{"$error":"#N/A"}]
[{"$error":"#N/A"},{"$error":"#N/A"},{"$error":"#N/A"}]
[{"$error":"#N/A"},{"$error":"#N/A"},{"$error":"#N/A"}]
[{"$error":"#N/A"},{"$error":"#N/A"},{"$error":"#N/A"}]
[{"$error":"#N/A"},{"$error":"#N/A"},{"$error":"#N/A"}]
[{"$error":"#N/A"},{"$error":"#N/A"},{"$error":"#N/A"}]
[{"$error":"#N/A"},{"$error":"#N/A"},{"$error":"#N/A"}]
[{"$error":"#N/A"},{"$error":"#N/A"},{"$error":"#N/A"}]
[{"$error":"#N/A"},{"$error":"#N/A"},{"$error":"#N/A"}]
[{"$error":"#N/A"},{"$error":"#N/A"},{"$error":"#N/A"}]
[{"$error":"#N/A"},{"$error":"#N/A"},{"$error":"#N/A"}]
[{"$error":"#N/A"},{"$error":"#N/A"},{"$error":"#N/A"}]
[{"$error":"#N/A"},{"$error":"#N/A"},{"$error":"#N/A"}]
[{"$error":"#N/A"},{"$error":"#N/A"},{"$error":"#N/A"}]
[{"$error":"#N/A"},{"$error":"#N/A"},{"$error":"#N/A"}]
[{"$error":"#N/A"},{"$error":"#N/A"},{"$error":"#N/A"}]
[{"$error":"#N/A"},{"$error":"#N/A"},{"$error":"#N/A"}]
[{"$error":"#N/A"},{"$error":"#N/A"},{"$error":"#N/A"}]
[{"$error":"#N/A"},{"$error":"#N/A"},{"$error":"#N/A"}]
[{"$error":"#N/A"},{"$error":"#N/A"},{"$error":"#N/A"}]
[{"$error":"#N/A"},{"$error":"#N/A"},{"$error":"#N/A"}]
[{"$error":"#N/A"},{"$error":"#N/A"},{"$error":"#N/A"}]
[{"$error":"#N/A"},{"$error":"#N/A"},{"$error":"#N/A"}]
[{"$error":"#N/A"},{"$error":"#N/A"},{"$error":"#N/A"}]
[{"$error":"#N/A"},{"$error":"#N/A"},{"$error":"#N/A"}]
[{"$error":"#N/A"},{"$error":"#N/A"},{"$error":"#N/A"}]
[{"$error":"#N/A"},{"$error":"#N/A"},{"$error":"#N/A"}]
[{"$error":"#N/A"},{"$error":"#N/A"},{"$error":"#N/A"}]
[{"$error":"#N/A"},{"$error":"#N/A"},{"$error":"#N/A"}]
[{"$error":"#N/A"},{"$error":"#N/A"},{"$error":"#N/A"}]
[{"$error":"#N/A"},{"$error":"#N/A"},{"$error":"#N/A"}]
[{"$error":"#N/A"},{"$error":"#N/A"},{"$error":"#N/A"}]
[{"$error":"#N/A"},{"$error":"#N/A"},{"$error":"#N/A"}]
[{"$error":"#N/A"},{"$error":"#N/A"},{"$error":"#N/A"}]
[{"$error":"#N/A"},{"$error":"#N/A"},{"$error":"#N/A"}]
[{"$error":"#N/A"},{"$error":"#N/A"},{"$error":"#N/A"}]
[{"$error":"#N/A"},{"$error":"#N/A"},{"$error":"#N/A"}]
[{"$error":"#N/A"},{"$error":"#N/A"},{"$error":"#N/A"}]
[{"$error":"#N/A"},{"$error":"#N/A"},{"$error":"#N/A"}]
[{"$error":"#N/A"},{"$error":"#N/A"},{"$error":"#N/A"}]
[{"$error":"#N/A"},{"$error":"#N/A"},{"$error":"#N/A"}]
[{"$error":"#N/A"},{"$error":"#N/A"},{"$error":"#N/A"}]
[{"$error":"#N/A"},{"$error":"#N/A"},{"$error":"#N/A"}]
[{"$error":"#N/A"},{"$error":"#N/A"},{"$error":"#N/A"}]
[{"$error":"#N/A"},{"$error":"#N/A"},{"$error":"#N/A"}]
[{"$error":"#N/A"},{"$error":"#N/A"},{"$error":"#N/A"}]
[{"$error":"#N/A"},{"$error":"#N/A"},{"$error":"#N/A"}]
[{"$error":"#N/A"},{"$error":"#N/A"},{"$error":"#N/A"}]
[{"$error":"#N/A"},{"$error":"#N/A"},{"$error":"#N/A"}]
[{"$error":"#N/A"},{"$error":"#N/A"},{"$error":"#N/A"}]
[{"$error":"#N/A"},{"$error":"#N/A"},{"$error":"#N/A"}]
[{"$error":"#N/A"},{"$error":"#N/A"},{"$error":"#N/A"}]
[{"$error":"#N/A"},{"$error":"#N/A"},{"$error":"#N/A"}]
[{"$error":"#N/A"},{"$error":"#N/A"},{"$error":"#N/A"}]
[{"$error":"#N/A"},{"$error":"#N/A"},{"$error":"#N/A"}]
[{"$error":"#N/A"},{"$error":"#N/A"},{"$error":"#N/A"}]
[{"$error":"#N/A"},{"$error":"#N/A"},{"$error":"#N/A"}]
[{"$error":"#N/A"},{"$error":"#N/A"},{"$error":"#N/A"}]
[{"$error":"#N/A"},{"$error":"#N/A"},{"$error":"#N/A"}]
[{"$error":"#N/A"},{"$error":"#N/A"},{"$error":"#N/A"}]
[{"$error":"#N/A"},{"$error":"#N/A"},{"$error":"#N/A"}]
[{"$error":"#N/A"},{"$error":"#N/A"},{"$error":"#N/A"}]
[{"$error":"#N/A"},{"$error":"#N/A"},{"$error":"#N/A"}]
[{"$error":"#N/A"},{"$error":"#N/A"},{"$error":"#N/A"}]
[{"$error":"#N/A"},{"$error":"#N/A"},{"$error":"#N/A"}]
[{"$error":"#N/A"},{"$error":"#N/A"},{"$error":"#N/A"}]
[{"$error":"#N/A"},{"$error":"#N/A"},{"$error":"#N/A"}]
[{"$error":"#N/A"},{"$error":"#N/A"},{"$error":"#N/A"}]
[{"$error":"#N/A"},{"$error":"#N/A"},{"$error":"#N/A"}]
[{"$error":"#N/A"},{"$error":"#N/A"},{"$error":"#N/A"}]
[{"$error":"#N/A"},{"$error":"#N/A"},{"$error":"#N/A"}]
[{"$error":"#N/A"},{"$error":"#N/A"},{"$error":"#N/A"}]
[{"$error":"#N/A"},{"$error":"#N/A"},{"$error":"#N/A"}]
[{"$error":"#N/A"},{"$error":"#N/A"},{"$error":"#N/A"}]
[{"$error":"#N/A"},{"$error":"#N/A"},{"$error":"#N/A"}]
[{"$error":"#N/A"},{"$error":"#N/A"},{"$error":"#N/A"}]
[{"$error":"#N/A"},{"$error":"#N/A"},{"$error":"#N/A"}]
[{"$error":"#N/A"},{"$error":"#N/A"},{"$error":"#N/A"}]
[{"$error":"#N/A"},{"$error":"#N/A"},{"$error":"#N/A"}]
[{"$error":"#N/A"},{"$error":"#N/A"},{"$error":"#N/A"}]
[{"$error":"#N/A"},{"$error":"#N/A"},{"$error":"#N/A"}]
[{"$error":"#N/A"},{"$error":"#N/A"},{"$error":"#N/A"}]
[{"$error":"#N/A"},{"$error":"#N/A"},{"$error":"#N/A"}]
[{"$error":"#N/A"},{"$error":"#N/A"},{"$error":"#N/A"}]
[{"$error":"#N/A"},{"$error":"#N/A"},{"$error":"#N/A"}]
[{"$error":"#N/A"},{"$error":"#N/A"},{"$error":"#N/A"}]
[{"$error":"#N/A"},{"$error":"#N/A"},{"$error":"#N/A"}]
[{"$error":"#N/A"},{"$error":"#N/A"},{"$error":"#N/A"}]
[{"$error":"#N/A"},{"$error":"#N/A"},{"$error":"#N/A"}]
[{"$error":"#N/A"},{"$error":"#N/A"},{"$error":"#N/A"}]
[{"$error":"#N/A"},{"$error":"#N/A"},{"$error":"#N/A"}]
[{"$error":"#N/A"},{"$error":"#N/A"},{"$error":"#N/A"}]
[{"$error":"#N/A"},{"$error":"#N/A"},{"$error":"#N/A"}]
[{"$error":"#N/A"},{"$error":"#N/A"},{"$error":"#N/A"}]
[{"$error":"#N/A"},{"$error":"#N/A"},{"$error":"#N/A"}]
[{"$error":"#N/A"},{"$error":"#N/A"},{"$error":"#N/A"}]
[{"$error":"#N/A"},{"$error":"#N/A"},{"$error":"#N/A"}]
[{"$error":"#N/A"},{"$error":"#N/A"},{"$error":"#N/A"}]
[{"$error":"#N/A"},{"$error":"#N/A"},{"$error":"#N/A"}]
[{"$error":"#N/A"},{"$error":"#N/A"},{"$error":"#N/A"}]
[{"$error":"#N/A"},{"$error":"#N/A"},{"$error":"#N/A"}]
[{"$error":"#N/A"},{"$error":"#N/A"},{"$error":"#N/A"}]
[{"$error":"#N/A"},{"$error":"#N/A"},{"$error":"#N/A"}]
[{"$error":"#N/A"},{"$error":"#N/A"},{"$error":"#N/A"}]
[{"$error":"#N/A"},{"$error":"#N/A"},{"$error":"#N/A"}]
[{"$error":"#N/A"},{"$error":"#N/A"},{"$error":"#N/A"}]
[{"$error":"#N/A"},{"$error":"#N/A"},{"$error":"#N/A"}]
[{"$error":"#N/A"},{"$error":"#N/A"},{"$error":"#N/A"}]
[{"$error":"#N/A"},{"$error":"#N/A"},{"$error":"#N/A"}]
[{"$error":"#N/A"},{"$error":"#N/A"},{"$error":"#N/A"}]
[{"$error":"#N/A"},{"$error":"#N/A"},{"$error":"#N/A"}]
[{"$error":"#N/A"},{"$error":"#N/A"},{"$error":"#N/A"}]
[{"$error":"#N/A"},{"$error":"#N/A"},{"$error":"#N/A"}]
[{"$error":"#N/A"},{"$error":"#N/A"},{"$error":"#N/A"}]
[{"$error":"#N/A"},{"$error":"#N/A"},{"$error":"#N/A"}]
[{"$error":"#N/A"},{"$error":"#N/A"},{"$error":"#N/A"}]
[{"$error":"#N/A"},{"$error":"#N/A"},{"$error":"#N/A"}]
[{"$error":"#N/A"},{"$error":"#N/A"},{"$error":"#N/A"}]
[{"$error":"#N/A"},{"$error":"#N/A"},{"$error":"#N/A"}]
[{"$error":"#N/A"},{"$error":"#N/A"},{"$error":"#N/A"}]
[{"$error":"#N/A"},{"$error":"#N/A"},{"$error":"#N/A"}]
[{"$error":"#N/A"},{"$error":"#N/A"},{"$error":"#N/A"}]
[{"$error":"#N/A"},{"$error":"#N/A"},{"$error":"#N/A"}]
[{"$error":"#N/A"},{"$error":"#N/A"},{"$error":"#N/A"}]
[{"$error":"#N/A"},{"$error":"#N/A"},{"$error":"#N/A"}]
[{"$error":"#N/A"},{"$error":"#N/A"},{"$error":"#N/A"}]
[{"$error":"#N/A"},{"$error":"#N/A"},{"$error":"#N/A"}]
[{"$error":"#N/A"},{"$error":"#N/A"},{"$error":"#N/A"}]
[{"$error":"#N/A"},{"$error":"#N/A"},{"$error":"#N/A"}]
[{"$error":"#N/A"},{"$error":"#N/A"},{"$error":"#N/A"}]
[{"$error":"#N/A"},{"$error":"#N/A"},{"$error":"#N/A"}]
[{"$error":"#N/A"},{"$error":"#N/A"},{"$error":"#N/A"}]
[{"$error":"#N/A"},{"$error":"#N/A"},{"$error":"#N/A"}]
[{"$error":"#N/A"},{"$error":"#N/A"},{"$error":"#N/A"}]
[{"$error":"#N/A"},{"$error":"#N/A"},{"$error":"#N/A"}]
[{"$error":"#N/A"},{"$error":"#N/A"},{"$error":"#N/A"}]
[{"$error":"#N/A"},{"$error":"#N/A"},{"$error":"#N/A"}]
[{"$error":"#N/A"},{"$error":"#N/A"},{"$error":"#N/A"}]
[{"$error":"#N/A"},{"$error":"#N/A"},{"$error":"#N/A"}]
[{"$error":"#N/A"},{"$error":"#N/A"},{"$error":"#N/A"}]
[{"$error":"#N/A"},{"$error":"#N/A"},{"$error":"#N/A"}]
[{"$error":"#N/A"},{"$error":"#N/A"},{"$error":"#N/A"}]
[{"$error":"#N/A"},{"$error":"#N/A"},{"$error":"#N/A"}]
[{"$error":"#N/A"},{"$error":"#N/A"},{"$error":"#N/A"}]
[{"$error":"#N/A"},{"$error":"#N/A"},{"$error":"#N/A"}]
[{"$error":"#N/A"},{"$error":"#N/A"},{"$error":"#N/A"}]
[{"$error":"#N/A"},{"$error":"#N/A"},{"$error":"#N/A"}]
[{"$error":"#N/A"},{"$error":"#N/A"},{"$error":"#N/A"}]
[{"$error":"#N/A"},{"$error":"#N/A"},{"$error":"#N/A"}]
[{"$error":"#N/A"},{"$error":"#N/A"},{"$error":"#N/A"}]
[{"$error":"#N/A"},{"$error":"#N/A"},{"$error":"#N/A"}]
[{"$error":"#N/A"},{"$error":"#N/A"},{"$error":"#N/A"}]
[{"$error":"#N/A"},{"$error":"#N/A"},{"$error":"#N/A"}]
[{"$error":"#N/A"},{"$error":"#N/A"},{"$error":"#N/A"}]
[{"$error":"#N/A"},{"$error":"#N/A"},{"$error":"#N/A"}]
[{"$error":"#N/A"},{"$error":"#N/A"},{"$error":"#N/A"}]
[{"$error":"#N/A"},{"$error":"#N/A"},{"$error":"#N/A"}]
[{"$error":"#N/A"},{"$error":"#N/A"},{"$error":"#N/A"}]
[{"$error":"#N/A"},{"$error":"#N/A"},{"$error":"#N/A"}]
[{"$error":"#N/A"},{"$error":"#N/A"},{"$error":"#N/A"}]
[{"$error":"#N/A"},{"$error":"#N/A"},{"$error":"#N/A"}]
[{"$error":"#N/A"},{"$error":"#N/A"},{"$error":"#N/A"}]
[{"$error":"#N/A"},{"$error":"#N/A"},{"$error":"#N/A"}]
[{"$error":"#N/A"},{"$error":"#N/A"},{"$error":"#N/A"}]
[{"$error":"#N/A"},{"$error":"#N/A"},{"$error":"#N/A"}]
[{"$error":"#N/A"},{"$error":"#N/A"},{"$error":"#N/A"}]
[{"$error":"#N/A"},{"$error":"#N/A"},{"$error":"#N/A"}]
[{"$error":"#N/A"},{"$error":"#N/A"},{"$error":"#N/A"}]
[{"$error":"#N/A"},{"$error":"#N/A"},{"$error":"#N/A"}]
[{"$error":"#N/A"},{"$error":"#N/A"},{"$error":"#N/A"}]
[{"$error":"#N/A"},{"$error":"#N/A"},{"$error":"#N/A"}]
[{"$error":"#N/A"},{"$error":"#N/A"},{"$error":"#N/A"}]
[{"$error":"#N/A"},{"$error":"#N/A"},{"$error":"#N/A"}]
[{"$error":"#N/A"},{"$error":"#N/A"},{"$error":"#N/A"}]
[{"$error":"#N/A"},{"$error":"#N/A"},{"$error":"#N/A"}]
[{"$error":"#N/A"},{"$error":"#N/A"},{"$error":"#N/A"}]
[{"$error":"#N/A"},{"$error":"#N/A"},{"$error":"#N/A"}]
[{"$error":"#N/A"},{"$error":"#N/A"},{"$error":"#N/A"}]
[{"$error":"#N/A"},{"$error":"#N/A"},{"$error":"#N/A"}]
[{"$error":"#N/A"},{"$error":"#N/A"},{"$error":"#N/A"}]
[{"$error":"#N/A"},{"$error":"#N/A"},{"$error":"#N/A"}]
[{"$error":"#N/A"},{"$error":"#N/A"},{"$error":"#N/A"}]
[{"$error":"#N/A"},{"$error":"#N/A"},{"$error":"#N/A"}]
[{"$error":"#N/A"},{"$error":"#N/A"},{"$error":"#N/A"}]
[{"$error":"#N/A"},{"$error":"#N/A"},{"$error":"#N/A"}]
[{"$error":"#N/A"},{"$error":"#N/A"},{"$error":"#N/A"}]
[{"$error":"#N/A"},{"$error":"#N/A"},{"$error":"#N/A"}]
[{"$error":"#N/A"},{"$error":"#N/A"},{"$error":"#N/A"}]
[{"$error":"#N/A"},{"$error":"#N/A"},{"$error":"#N/A"}]
[{"$error":"#N/A"},{"$error":"#N/A"},{"$error":"#N/A"}]
[{"$error":"#N/A"},{"$error":"#N/A"},{"$error":"#N/A"}]
[{"$error":"#N/A"},{"$error":"#N/A"},{"$error":"#N/A"}]
[{"$error":"#N/A"},{"$error":"#N/A"},{"$error":"#N/A"}]
[{"$error":"#N/A"},{"$error":"#N/A"},{"$error":"#N/A"}]
[{"$error":"#N/A"},{"$error":"#N/A"},{"$error":"#N/A"}]
[{"$error":"#N/A"},{"$error":"#N/A"},{"$error":"#N/A"}]
[{"$error":"#N/A"},{"$error":"#N/A"},{"$error":"#N/A"}]
[{"$error":"#N/A"},{"$error":"#N/A"},{"$error":"#N/A"}]
[{"$error":"#N/A"},{"$error":"#N/A"},{"$error":"#N/A"}]
[{"$error":"#N/A"},{"$error":"#N/A"},{"$error":"#N/A"}]
[{"$error":"#N/A"},{"$error":"#N/A"},{"$error":"#N/A"}]
[{"$error":"#N/A"},{"$error":"#N/A"},{"$error":"#N/A"}]
[{"$error":"#N/A"},{"$error":"#N/A"},{"$error":"#N/A"}]
[{"$error":"#N/A"},{"$error":"#N/A"},{"$error":"#N/A"}]
[{"$error":"#N/A"},{"$error":"#N/A"},{"$error":"#N/A"}]
[{"$error":"#N/A"},{"$error":"#N/A"},{"$error":"#N/A"}]
[{"$error":"#N/A"},{"$error":"#N/A"},{"$error":"#N/A"}]
[{"$error":"#N/A"},{"$error":"#N/A"},{"$error":"#N/A"}]
[{"$error":"#N/A"},{"$error":"#N/A"},{"$error":"#N/A"}]
[{"$error":"#N/A"},{"$error":"#N/A"},{"$error":"#N/A"}]
[{"$error":"#N/A"},{"$error":"#N/A"},{"$error":"#N/A"}]
[{"$error":"#N/A"},{"$error":"#N/A"},{"$error":"#N/A"}]
[{"$error":"#N/A"},{"$error":"#N/A"},{"$error":"#N/A"}]
[{"$error":"#N/A"},{"$error":"#N/A"},{"$error":"#N/A"}]
[{"$error":"#N/A"},{"$error":"#N/A"},{"$error":"#N/A"}]
[{"$error":"#N/A"},{"$error":"#N/A"},{"$error":"#N/A"}]
[{"$error":"#N/A"},{"$error":"#N/A"},{"$error":"#N/A"}]
[{"$error":"#N/A"},{"$error":"#N/A"},{"$error":"#N/A"}]
[{"$error":"#N/A"},{"$error":"#N/A"},{"$error":"#N/A"}]
[{"$error":"#N/A"},{"$error":"#N/A"},{"$error":"#N/A"}]
[{"$error":"#N/A"},{"$error":"#N/A"},{"$error":"#N/A"}]
[{"$error":"#N/A"},{"$error":"#N/A"},{"$error":"#N/A"}]
[{"$error":"#N/A"},{"$error":"#N/A"},{"$error":"#N/A"}]
[{"$error":"#N/A"},{"$error":"#N/A"},{"$error":"#N/A"}]
[{"$error":"#N/A"},{"$error":"#N/A"},{"$error":"#N/A"}]
[{"$error":"#N/A"},{"$error":"#N/A"},{"$error":"#N/A"}]
[{"$error":"#N/A"},{"$error":"#N/A"},{"$error":"#N/A"}]
[{"$error":"#N/A"},{"$error":"#N/A"},{"$error":"#N/A"}]
[{"$error":"#N/A"},{"$error":"#N/A"},{"$error":"#N/A"}]
[{"$error":"#N/A"},{"$error":"#N/A"},{"$error":"#N/A"}]
[{"$error":"#N/A"},{"$error":"#N/A"},{"$error":"#N/A"}]
[{"$error":"#N/A"},{"$error":"#N/A"},{"$error":"#N/A"}]
[{"$error":"#N/A"},{"$error":"#N/A"},{"$error":"#N/A"}]
[{"$error":"#N/A"},{"$error":"#N/A"},{"$error":"#N/A"}]
[{"$error":"#N/A"},{"$error":"#N/A"},{"$error":"#N/A"}]
[{"$error":"#N/A"},{"$error":"#N/A"},{"$error":"#N/A"}]
[{"$error":"#N/A"},{"$error":"#N/A"},{"$error":"#N/A"}]
[{"$error":"#N/A"},{"$error":"#N/A"},{"$error":"#N/A"}]
[{"$error":"#N/A"},{"$error":"#N/A"},{"$error":"#N/A"}]
[{"$error":"#N/A"},{"$error":"#N/A"},{"$error":"#N/A"}]
[{"$error":"#N/A"},{"$error":"#N/A"},{"$error":"#N/A"}]
[{"$error":"#N/A"},{"$error":"#N/A"},{"$error":"#N/A"}]
[{"$error":"#N/A"},{"$error":"#N/A"},{"$error":"#N/A"}]
[{"$error":"#N/A"},{"$error":"#N/A"},{"$error":"#N/A"}]
[{"$error":"#N/A"},{"$error":"#N/A"},{"$error":"#N/A"}]
[{"$error":"#N/A"},{"$error":"#N/A"},{"$error":"#N/A"}]
[{"$error":"#N/A"},{"$error":"#N/A"},{"$error":"#N/A"}]
[{"$error":"#N/A"},{"$error":"#N/A"},{"$error":"#N/A"}]
[{"$error":"#N/A"},{"$error":"#N/A"},{"$error":"#N/A"}]
[{"$error":"#N/A"},{"$error":"#N/A"},{"$error":"#N/A"}]
[{"$error":"#N/A"},{"$error":"#N/A"},{"$error":"#N/A"}]
[{"$error":"#N/A"},{"$error":"#N/A"},{"$error":"#N/A"}]
[{"$error":"#N/A"},{"$error":"#N/A"},{"$error":"#N/A"}]
[{"$error":"#N/A"},{"$error":"#N/A"},{"$error":"#N/A"}]
[{"$error":"#N/A"},{"$error":"#N/A"},{"$error":"#N/A"}]
[{"$error":"#N/A"},{"$error":"#N/A"},{"$error":"#N/A"}]
[{"$error":"#N/A"},{"$error":"#N/A"},{"$error":"#N/A"}]
[{"$error":"#N/A"},{"$error":"#N/A"},{"$error":"#N/A"}]
[{"$error":"#N/A"},{"$error":"#N/A"},{"$error":"#N/A"}]
[{"$error":"#N/A"},{"$error":"#N/A"},{"$error":"#N/A"}]
[{"$error":"#N/A"},{"$error":"#N/A"},{"$error":"#N/A"}]
[{"$error":"#N/A"},{"$error":"#N/A"},{"$error":"#N/A"}]
[{"$error":"#N/A"},{"$error":"#N/A"},{"$error":"#N/A"}]
[{"$error":"#N/A"},{"$error":"#N/A"},{"$error":"#N/A"}]
[{"$error":"#N/A"},{"$error":"#N/A"},{"$error":"#N/A"}]
[{"$error":"#N/A"},{"$error":"#N/A"},{"$error":"#N/A"}]
[{"$error":"#N/A"},{"$error":"#N/A"},{"$error":"#N/A"}]
[{"$error":"#N/A"},{"$error":"#N/A"},{"$error":"#N/A"}]
[{"$error":"#N/A"},{"$error":"#N/A"},{"$error":"#N/A"}]
[{"$error":"#N/A"},{"$error":"#N/A"},{"$error":"#N/A"}]
[{"$error":"#N/A"},{"$error":"#N/A"},{"$error":"#N/A"}]
[{"$error":"#N/A"},{"$error":"#N/A"},{"$error":"#N/A"}]
[{"$error":"#N/A"},{"$error":"#N/A"},{"$error":"#N/A"}]
[{"$error":"#N/A"},{"$error":"#N/A"},{"$error":"#N/A"}]
[{"$error":"#N/A"},{"$error":"#N/A"},{"$error":"#N/A"}]
[{"$error":"#N/A"},{"$error":"#N/A"},{"$error":"#N/A"}]
[{"$error":"#N/A"},{"$error":"#N/A"},{"$error":"#N/A"}]
[{"$error":"#N/A"},{"$error":"#N/A"},{"$error":"#N/A"}]
[{"$error":"#N/A"},{"$error":"#N/A"},{"$error":"#N/A"}]
[{"$error":"#N/A"},{"$error":"#N/A"},{"$error":"#N/A"}]
[{"$error":"#N/A"},{"$error":"#N/A"},{"$error":"#N/A"}]
[{"$error":"#N/A"},{"$error":"#N/A"},{"$error":"#N/A"}]
[{"$error":"#N/A"},{"$error":"#N/A"},{"$error":"#N/A"}]
[{"$error":"#N/A"},{"$error":"#N/A"},{"$error":"#N/A"}]
[{"$error":"#N/A"},{"$error":"#N/A"},{"$error":"#N/A"}]
[{"$error":"#N/A"},{"$error":"#N/A"},{"$error":"#N/A"}]
[{"$error":"#N/A"},{"$error":"#N/A"},{"$error":"#N/A"}]
[{"$error":"#N/A"},{"$error":"#N/A"},{"$error":"#N/A"}]
[{"$error":"#N/A"},{"$error":"#N/A"},{"$error":"#N/A"}]
[{"$error":"#N/A"},{"$error":"#N/A"},{"$error":"#N/A"}]
[{"$error":"#N/A"},{"$error":"#N/A"},{"$error":"#N/A"}]
[{"$error":"#N/A"},{"$error":"#N/A"},{"$error":"#N/A"}]
[{"$error":"#N/A"},{"$error":"#N/A"},{"$error":"#N/A"}]
[{"$error":"#N/A"},{"$error":"#N/A"},{"$error":"#N/A"}]
[{"$error":"#N/A"},{"$error":"#N/A"},{"$error":"#N/A"}]
[{"$error":"#N/A"},{"$error":"#N/A"},{"$error":"#N/A"}]
[{"$error":"#N/A"},{"$error":"#N/A"},{"$error":"#N/A"}]
[{"$error":"#N/A"},{"$error":"#N/A"},{"$error":"#N/A"}]
[{"$error":"#N/A"},{"$error":"#N/A"},{"$error":"#N/A"}]
[{"$error":"#N/A"},{"$error":"#N/A"},{"$error":"#N/A"}]
[{"$error":"#N/A"},{"$error":"#N/A"},{"$error":"#N/A"}]
[{"$error":"#N/A"},{"$error":"#N/A"},{"$error":"#N/A"}]
[{"$error":"#N/A"},{"$error":"#N/A"},{"$error":"#N/A"}]
[{"$error":"#N/A"},{"$error":"#N/A"},{"$error":"#N/A"}]
[{"$error":"#N/A"},{"$error":"#N/A"},{"$error":"#N/A"}]
[{"$error":"#N/A"},{"$error":"#N/A"},{"$error":"#N/A"}]
[{"$error":"#N/A"},{"$error":"#N/A"},{"$error":"#N/A"}]
[{"$error":"#N/A"},{"$error":"#N/A"},{"$error":"#N/A"}]
[{"$error":"#N/A"},{"$error":"#N/A"},{"$error":"#N/A"}]
[{"$error":"#N/A"},{"$error":"#N/A"},{"$error":"#N/A"}]
[{"$error":"#N/A"},{"$error":"#N/A"},{"$error":"#N/A"}]
[{"$error":"#N/A"},{"$error":"#N/A"},{"$error":"#N/A"}]
[{"$error":"#N/A"},{"$error":"#N/A"},{"$error":"#N/A"}]
[{"$error":"#N/A"},{"$error":"#N/A"},{"$error":"#N/A"}]
[{"$error":"#N/A"},{"$error":"#N/A"},{"$error":"#N/A"}]
[{"$error":"#N/A"},{"$error":"#N/A"},{"$error":"#N/A"}]
[{"$error":"#N/A"},{"$error":"#N/A"},{"$error":"#N/A"}]
[{"$error":"#N/A"},{"$error":"#N/A"},{"$error":"#N/A"}]
[{"$error":"#N/A"},{"$error":"#N/A"},{"$error":"#N/A"}]
[{"$error":"#N/A"},{"$error":"#N/A"},{"$error":"#N/A"}]
[{"$error":"#N/A"},{"$error":"#N/A"},{"$error":"#N/A"}]
[{"$error":"#N/A"},{"$error":"#N/A"},{"$error":"#N/A"}]
[{"$error":"#N/A"},{"$error":"#N/A"},{"$error":"#N/A"}]
[{"$error":"#N/A"},{"$error":"#N/A"},{"$error":"#N/A"}]
[{"$error":"#N/A"},{"$error":"#N/A"},{"$error":"#N/A"}]
[{"$error":"#N/A"},{"$error":"#N/A"},{"$error":"#N/A"}]
[{"$error":"#N/A"},{"$error":"#N/A"},{"$error":"#N/A"}]
[{"$error":"#N/A"},{"$error":"#N/A"},{"$error":"#N/A"}]
[{"$error":"#N/A"},{"$error":"#N/A"},{"$error":"#N/A"}]
[{"$error":"#N/A"},{"$error":"#N/A"},{"$error":"#N/A"}]
[{"$error":"#N/A"},{"$error":"#N/A"},{"$error":"#N/A"}]
[{"$error":"#N/A"},{"$error":"#N/A"},{"$error":"#N/A"}]
[{"$error":"#N/A"},{"$error":"#N/A"},{"$error":"#N/A"}]
[{"$error":"#N/A"},{"$error":"#N/A"},{"$error":"#N/A"}]
[{"$error":"#N/A"},{"$error":"#N/A"},{"$error":"#N/A"}]
[{"$error":"#N/A"},{"$error":"#N/A"},{"$error":"#N/A"}]
[{"$error":"#N/A"},{"$error":"#N/A"},{"$error":"#N/A"}]
[{"$error":"#N/A"},{"$error":"#N/A"},{"$error":"#N/A"}]
[{"$error":"#N/A"},{"$error":"#N/A"},{"$error":"#N/A"}]
[{"$error":"#N/A"},{"$error":"#N/A"},{"$error":"#N/A"}]
[{"$error":"#N/A"},{"$error":"#N/A"},{"$error":"#N/A"}]
[{"$error":"#N/A"},{"$error":"#N/A"},{"$error":"#N/A"}]
[{"$error":"#N/A"},{"$error":"#N/A"},{"$error":"#N/A"}]
[{"$error":"#N/A"},{"$error":"#N/A"},{"$error":"#N/A"}]
[{"$error":"#N/A"},{"$error":"#N/A"},{"$error":"#N/A"}]
[{"$error":"#N/A"},{"$error":"#N/A"},{"$error":"#N/A"}]
[{"$error":"#N/A"},{"$error":"#N/A"},{"$error":"#N/A"}]
[{"$error":"#N/A"},{"$error":"#N/A"},{"$error":"#N/A"}]
[{"$error":"#N/A"},{"$error":"#N/A"},{"$error":"#N/A"}]
[{"$error":"#N/A"},{"$error":"#N/A"},{"$error":"#N/A"}]
[{"$error":"#N/A"},{"$error":"#N/A"},{"$error":"#N/A"}]
[{"$error":"#N/A"},{"$error":"#N/A"},{"$error":"#N/A"}]
[{"$error":"#N/A"},{"$error":"#N/A"},{"$error":"#N/A"}]
[{"$error":"#N/A"},{"$error":"#N/A"},{"$error":"#N/A"}]
[{"$error":"#N/A"},{"$error":"#N/A"},{"$error":"#N/A"}]
[{"$error":"#N/A"},{"$error":"#N/A"},{"$error":"#N/A"}]
[{"$error":"#N/A"},{"$error":"#N/A"},{"$error":"#N/A"}]
[{"$error":"#N/A"},{"$error":"#N/A"},{"$error":"#N/A"}]
[{"$error":"#N/A"},{"$error":"#N/A"},{"$error":"#N/A"}]
[{"$error":"#N/A"},{"$error":"#N/A"},{"$error":"#N/A"}]
[{"$error":"#N/A"},{"$error":"#N/A"},{"$error":"#N/A"}]
[{"$error":"#N/A"},{"$error":"#N/A"},{"$error":"#N/A"}]
[{"$error":"#N/A"},{"$error":"#N/A"},{"$error":"#N/A"}]
[{"$error":"#N/A"},{"$error":"#N/A"},{"$error":"#N/A"}]
[{"$error":"#N/A"},{"$error":"#N/A"},{"$error":"#N/A"}]
[{"$error":"#N/A"},{"$error":"#N/A"},{"$error":"#N/A"}]
[{"$error":"#N/A"},{"$error":"#N/A"},{"$error":"#N/A"}]
[{"$error":"#N/A"},{"$error":"#N/A"},{"$error":"#N/A"}]
[{"$error":"#N/A"},{"$error":"#N/A"},{"$error":"#N/A"}]
[{"$error":"#N/A"},{"$error":"#N/A"},{"$error":"#N/A"}]
[{"$error":"#N/A"},{"$error":"#N/A"},{"$error":"#N/A"}]
[{"$error":"#N/A"},{"$error":"#N/A"},{"$error":"#N/A"}]
[{"$error":"#N/A"},{"$error":"#N/A"},{"$error":"#N/A"}]
[{"$error":"#N/A"},{"$error":"#N/A"},{"$error":"#N/A"}]
[{"$error":"#N/A"},{"$error":"#N/A"},{"$error":"#N/A"}]
[{"$error":"#N/A"},{"$error":"#N/A"},{"$error":"#N/A"}]
[{"$error":"#N/A"},{"$error":"#N/A"},{"$error":"#N/A"}]
[{"$error":"#N/A"},{"$error":"#N/A"},{"$error":"#N/A"}]
[{"$error":"#N/A"},{"$error":"#N/A"},{"$error":"#N/A"}]
[{"$error":"#N/A"},{"$error":"#N/A"},{"$error":"#N/A"}]
[{"$error":"#N/A"},{"$error":"#N/A"},{"$error":"#N/A"}]
[{"$error":"#N/A"},{"$error":"#N/A"},{"$error":"#N/A"}]
[{"$error":"#N/A"},{"$error":"#N/A"},{"$error":"#N/A"}]
[{"$error":"#N/A"},{"$error":"#N/A"},{"$error":"#N/A"}]
[{"$error":"#N/A"},{"$error":"#N/A"},{"$error":"#N/A"}]
[{"$error":"#N/A"},{"$error":"#N/A"},{"$error":"#N/A"}]
[{"$error":"#N/A"},{"$error":"#N/A"},{"$error":"#N/A"}]
[{"$error":"#N/A"},{"$error":"#N/A"},{"$error":"#N/A"}]
[{"$error":"#N/A"},{"$error":"#N/A"},{"$error":"#N/A"}]
[{"$error":"#N/A"},{"$error":"#N/A"},{"$error":"#N/A"}]
[{"$error":"#N/A"},{"$error":"#N/A"},{"$error":"#N/A"}]
[{"$error":"#N/A"},{"$error":"#N/A"},{"$error":"#N/A"}]
[{"$error":"#N/A"},{"$error":"#N/A"},{"$error":"#N/A"}]
[{"$error":"#N/A"},{"$error":"#N/A"},{"$error":"#N/A"}]
[{"$error":"#N/A"},{"$error":"#N/A"},{"$error":"#N/A"}]
[{"$error":"#N/A"},{"$error":"#N/A"},{"$error":"#N/A"}]
[{"$error":"#N/A"},{"$error":"#N/A"},{"$error":"#N/A"}]
[{"$error":"#N/A"},{"$error":"#N/A"},{"$error":"#N/A"}]
[{"$error":"#N/A"},{"$error":"#N/A"},{"$error":"#N/A"}]
[{"$error":"#N/A"},{"$error":"#N/A"},{"$error":"#N/A"}]
[{"$error":"#N/A"},{"$error":"#N/A"},{"$error":"#N/A"}]
[{"$error":"#N/A"},{"$error":"#N/A"},{"$error":"#N/A"}]
[{"$error":"#N/A"},{"$error":"#N/A"},{"$error":"#N/A"}]
[{"$error":"#N/A"},{"$error":"#N/A"},{"$error":"#N/A"}]
[{"$error":"#N/A"},{"$error":"#N/A"},{"$error":"#N/A"}]
[{"$error":"#N/A"},{"$error":"#N/A"},{"$error":"#N/A"}]
[{"$error":"#N/A"},{"$error":"#N/A"},{"$error":"#N/A"}]
[{"$error":"#N/A"},{"$error":"#N/A"},{"$error":"#N/A"}]
[{"$error":"#N/A"},{"$error":"#N/A"},{"$error":"#N/A"}]
[{"$error":"#N/A"},{"$error":"#N/A"},{"$error":"#N/A"}]
[{"$error":"#N/A"},{"$error":"#N/A"},{"$error":"#N/A"}]
[{"$error":"#N/A"},{"$error":"#N/A"},{"$error":"#N/A"}]
[{"$error":"#N/A"},{"$error":"#N/A"},{"$error":"#N/A"}]
[{"$error":"#N/A"},{"$error":"#N/A"},{"$error":"#N/A"}]
[{"$error":"#N/A"},{"$error":"#N/A"},{"$error":"#N/A"}]
[{"$error":"#N/A"},{"$error":"#N/A"},{"$error":"#N/A"}]
[{"$error":"#N/A"},{"$error":"#N/A"},{"$error":"#N/A"}]
[{"$error":"#N/A"},{"$error":"#N/A"},{"$error":"#N/A"}]
[{"$error":"#N/A"},{"$error":"#N/A"},{"$error":"#N/A"}]
[{"$error":"#N/A"},{"$error":"#N/A"},{"$error":"#N/A"}]
[{"$error":"#N/A"},{"$error":"#N/A"},{"$error":"#N/A"}]
[{"$error":"#N/A"},{"$error":"#N/A"},{"$error":"#N/A"}]
[{"$error":"#N/A"},{"$error":"#N/A"},{"$error":"#N/A"}]
[{"$error":"#N/A"},{"$error":"#N/A"},{"$error":"#N/A"}]
[{"$error":"#N/A"},{"$error":"#N/A"},{"$error":"#N/A"}]
[{"$error":"#N/A"},{"$error":"#N/A"},{"$error":"#N/A"}]
[{"$error":"#N/A"},{"$error":"#N/A"},{"$error":"#N/A"}]
[{"$error":"#N/A"},{"$error":"#N/A"},{"$error":"#N/A"}]
[{"$error":"#N/A"},{"$error":"#N/A"},{"$error":"#N/A"}]
[{"$error":"#N/A"},{"$error":"#N/A"},{"$error":"#N/A"}]
[{"$error":"#N/A"},{"$error":"#N/A"},{"$error":"#N/A"}]
[{"$error":"#N/A"},{"$error":"#N/A"},{"$error":"#N/A"}]
[{"$error":"#N/A"},{"$error":"#N/A"},{"$error":"#N/A"}]
[{"$error":"#N/A"},{"$error":"#N/A"},{"$error":"#N/A"}]
[{"$error":"#N/A"},{"$error":"#N/A"},{"$error":"#N/A"}]
[{"$error":"#N/A"},{"$error":"#N/A"},{"$error":"#N/A"}]
[{"$error":"#N/A"},{"$error":"#N/A"},{"$error":"#N/A"}]
[{"$error":"#N/A"},{"$error":"#N/A"},{"$error":"#N/A"}]
[{"$error":"#N/A"},{"$error":"#N/A"},{"$error":"#N/A"}]
[{"$error":"#N/A"},{"$error":"#N/A"},{"$error":"#N/A"}]
[{"$error":"#N/A"},{"$error":"#N/A"},{"$error":"#N/A"}]
[{"$error":"#N/A"},{"$error":"#N/A"},{"$error":"#N/A"}]
[{"$error":"#N/A"},{"$error":"#N/A"},{"$error":"#N/A"}]
[{"$error":"#N/A"},{"$error":"#N/A"},{"$error":"#N/A"}]
[{"$error":"#N/A"},{"$error":"#N/A"},{"$error":"#N/A"}]
[{"$error":"#N/A"},{"$error":"#N/A"},{"$error":"#N/A"}]
[{"$error":"#N/A"},{"$error":"#N/A"},{"$error":"#N/A"}]
[{"$error":"#N/A"},{"$error":"#N/A"},{"$error":"#N/A"}]
[{"$error":"#N/A"},{"$error":"#N/A"},{"$error":"#N/A"}]
[{"$error":"#N/A"},{"$error":"#N/A"},{"$error":"#N/A"}]
[{"$error":"#N/A"},{"$error":"#N/A"},{"$error":"#N/A"}]
[{"$error":"#N/A"},{"$error":"#N/A"},{"$error":"#N/A"}]
[{"$error":"#N/A"},{"$error":"#N/A"},{"$error":"#N/A"}]
[{"$error":"#N/A"},{"$error":"#N/A"},{"$error":"#N/A"}]
[{"$error":"#N/A"},{"$error":"#N/A"},{"$error":"#N/A"}]
[{"$error":"#N/A"},{"$error":"#N/A"},{"$error":"#N/A"}]
[{"$error":"#N/A"},{"$error":"#N/A"},{"$error":"#N/A"}]
[{"$error":"#N/A"},{"$error":"#N/A"},{"$error":"#N/A"}]
[{"$error":"#N/A"},{"$error":"#N/A"},{"$error":"#N/A"}]
[{"$error":"#N/A"},{"$error":"#N/A"},{"$error":"#N/A"}]
[{"$error":"#N/A"},{"$error":"#N/A"},{"$error":"#N/A"}]
[{"$error":"#N/A"},{"$error":"#N/A"},{"$error":"#N/A"}]
[{"$error":"#N/A"},{"$error":"#N/A"},{"$error":"#N/A"}]
[{"$error":"#N/A"},{"$error":"#N/A"},{"$error":"#N/A"}]
[{"$error":"#N/A"},{"$error":"#N/A"},{"$error":"#N/A"}]
[{"$error":"#N/A"},{"$error":"#N/A"},{"$error":"#N/A"}]
[{"$error":"#N/A"},{"$error":"#N/A"},{"$error":"#N/A"}]
[{"$error":"#N/A"},{"$error":"#N/A"},{"$error":"#N/A"}]
[{"$error":"#N/A"},{"$error":"#N/A"},{"$error":"#N/A"}]
[{"$error":"#N/A"},{"$error":"#N/A"},{"$error":"#N/A"}]
[{"$error":"#N/A"},{"$error":"#N/A"},{"$error":"#N/A"}]
[{"$error":"#N/A"},{"$error":"#N/A"},{"$error":"#N/A"}]
[{"$error":"#N/A"},{"$error":"#N/A"},{"$error":"#N/A"}]
[{"$error":"#N/A"},{"$error":"#N/A"},{"$error":"#N/A"}]
[{"$error":"#N/A"},{"$error":"#N/A"},{"$error":"#N/A"}]
[{"$error":"#N/A"},{"$error":"#N/A"},{"$error":"#N/A"}]
[{"$error":"#N/A"},{"$error":"#N/A"},{"$error":"#N/A"}]
[{"$error":"#N/A"},{"$error":"#N/A"},{"$error":"#N/A"}]
[{"$error":"#N/A"},{"$error":"#N/A"},{"$error":"#N/A"}]
[{"$error":"#N/A"},{"$error":"#N/A"},{"$error":"#N/A"}]
[{"$error":"#N/A"},{"$error":"#N/A"},{"$error":"#N/A"}]
[{"$error":"#N/A"},{"$error":"#N/A"},{"$error":"#N/A"}]
[{"$error":"#N/A"},{"$error":"#N/A"},{"$error":"#N/A"}]
[{"$error":"#N/A"},{"$error":"#N/A"},{"$error":"#N/A"}]
[{"$error":"#N/A"},{"$error":"#N/A"},{"$error":"#N/A"}]
[{"$error":"#N/A"},{"$error":"#N/A"},{"$error":"#N/A"}]
[{"$error":"#N/A"},{"$error":"#N/A"},{"$error":"#N/A"}]
[{"$error":"#N/A"},{"$error":"#N/A"},{"$error":"#N/A"}]
[{"$error":"#N/A"},{"$error":"#N/A"},{"$error":"#N/A"}]
[{"$error":"#N/A"},{"$error":"#N/A"},{"$error":"#N/A"}]
[{"$error":"#N/A"},{"$error":"#N/A"},{"$error":"#N/A"}]
[{"$error":"#N/A"},{"$error":"#N/A"},{"$error":"#N/A"}]
[{"$error":"#N/A"},{"$error":"#N/A"},{"$error":"#N/A"}]
[{"$error":"#N/A"},{"$error":"#N/A"},{"$error":"#N/A"}]
[{"$error":"#N/A"},{"$error":"#N/A"},{"$error":"#N/A"}]
[{"$error":"#N/A"},{"$error":"#N/A"},{"$error":"#N/A"}]
[{"$error":"#N/A"},{"$error":"#N/A"},{"$error":"#N/A"}]
[{"$error":"#N/A"},{"$error":"#N/A"},{"$error":"#N/A"}]
[{"$error":"#N/A"},{"$error":"#N/A"},{"$error":"#N/A"}]
[{"$error":"#N/A"},{"$error":"#N/A"},{"$error":"#N/A"}]
[{"$error":"#N/A"},{"$error":"#N/A"},{"$error":"#N/A"}]
[{"$error":"#N/A"},{"$error":"#N/A"},{"$error":"#N/A"}]
[{"$error":"#N/A"},{"$error":"#N/A"},{"$error":"#N/A"}]
[{"$error":"#N/A"},{"$error":"#N/A"},{"$error":"#N/A"}]
[{"$error":"#N/A"},{"$error":"#N/A"},{"$error":"#N/A"}]
[{"$error":"#N/A"},{"$error":"#N/A"},{"$error":"#N/A"}]
[{"$error":"#N/A"},{"$error":"#N/A"},{"$error":"#N/A"}]
[{"$error":"#N/A"},{"$error":"#N/A"},{"$error":"#N/A"}]
[{"$error":"#N/A"},{"$error":"#N/A"},{"$error":"#N/A"}]
[{"$error":"#N/A"},{"$error":"#N/A"},{"$error":"#N/A"}]
[{"$error":"#N/A"},{"$error":"#N/A"},{"$error":"#N/A"}]
[{"$error":"#N/A"},{"$error":"#N/A"},{"$error":"#N/A"}]
[{"$error":"#N/A"},{"$error":"#N/A"},{"$error":"#N/A"}]
[{"$error":"#N/A"},{"$error":"#N/A"},{"$error":"#N/A"}]
[{"$error":"#N/A"},{"$error":"#N/A"},{"$error":"#N/A"}]
[{"$error":"#N/A"},{"$error":"#N/A"},{"$error":"#N/A"}]
[{"$error":"#N/A"},{"$error":"#N/A"},{"$error":"#N/A"}]
[{"$error":"#N/A"},{"$error":"#N/A"},{"$error":"#N/A"}]
[{"$error":"#N/A"},{"$error":"#N/A"},{"$error":"#N/A"}]
[{"$error":"#N/A"},{"$error":"#N/A"},{"$error":"#N/A"}]
[{"$error":"#N/A"},{"$error":"#N/A"},{"$error":"#N/A"}]
[{"$error":"#N/A"},{"$error":"#N/A"},{"$error":"#N/A"}]
[{"$error":"#N/A"},{"$error":"#N/A"},{"$error":"#N/A"}]
[{"$error":"#N/A"},{"$error":"#N/A"},{"$error":"#N/A"}]
[{"$error":"#N/A"},{"$error":"#N/A"},{"$error":"#N/A"}]
[{"$error":"#N/A"},{"$error":"#N/A"},{"$error":"#N/A"}]
[{"$error":"#N/A"},{"$error":"#N/A"},{"$error":"#N/A"}]
[{"$error":"#N/A"},{"$error":"#N/A"},{"$error":"#N/A"}]
[{"$error":"#N/A"},{"$error":"#N/A"},{"$error":"#N/A"}]
[{"$error":"#N/A"},{"$error":"#N/A"},{"$error":"#N/A"}]
[{"$error":"#N/A"},{"$error":"#N/A"},{"$error":"#N/A"}]
[{"$error":"#N/A"},{"$error":"#N/A"},{"$error":"#N/A"}]
[{"$error":"#N/A"},{"$error":"#N/A"},{"$error":"#N/A"}]
[{"$error":"#N/A"},{"$error":"#N/A"},{"$error":"#N/A"}]
[{"$error":"#N/A"},{"$error":"#N/A"},{"$error":"#N/A"}]
[{"$error":"#N/A"},{"$error":"#N/A"},{"$error":"#N/A"}]
[{"$error":"#N/A"},{"$error":"#N/A"},{"$error":"#N/A"}]
[{"$error":"#N/A"},{"$error":"#N/A"},{"$error":"#N/A"}]
[{"$error":"#N/A"},{"$error":"#N/A"},{"$error":"#N/A"}]
[{"$error":"#N/A"},{"$error":"#N/A"},{"$error":"#N/A"}]
[{"$error":"#N/A"},{"$error":"#N/A"},{"$error":"#N/A"}]
[{"$error":"#N/A"},{"$error":"#N/A"},{"$error":"#N/A"}]
[{"$error":"#N/A"},{"$error":"#N/A"},{"$error":"#N/A"}]
[{"$error":"#N/A"},{"$error":"#N/A"},{"$error":"#N/A"}]
[{"$error":"#N/A"},{"$error":"#N/A"},{"$error":"#N/A"}]
[{"$error":"#N/A"},{"$error":"#N/A"},{"$error":"#N/A"}]
[{"$error":"#N/A"},{"$error":"#N/A"},{"$error":"#N/A"}]
[{"$error":"#N/A"},{"$error":"#N/A"},{"$error":"#N/A"}]
[{"$error":"#N/A"},{"$error":"#N/A"},{"$error":"#N/A"}]
[{"$error":"#N/A"},{"$error":"#N/A"},{"$error":"#N/A"}]
[{"$error":"#N/A"},{"$error":"#N/A"},{"$error":"#N/A"}]
[{"$error":"#N/A"},{"$error":"#N/A"},{"$error":"#N/A"}]
[{"$error":"#N/A"},{"$error":"#N/A"},{"$error":"#N/A"}]
[{"$error":"#N/A"},{"$error":"#N/A"},{"$error":"#N/A"}]
[{"$error":"#N/A"},{"$error":"#N/A"},{"$error":"#N/A"}]
[{"$error":"#N/A"},{"$error":"#N/A"},{"$error":"#N/A"}]
[{"$error":"#N/A"},{"$error":"#N/A"},{"$error":"#N/A"}]
[{"$error":"#N/A"},{"$error":"#N/A"},{"$error":"#N/A"}]
[{"$error":"#N/A"},{"$error":"#N/A"},{"$error":"#N/A"}]
[{"$error":"#N/A"},{"$error":"#N/A"},{"$error":"#N/A"}]
[{"$error":"#N/A"},{"$error":"#N/A"},{"$error":"#N/A"}]
[{"$error":"#N/A"},{"$error":"#N/A"},{"$error":"#N/A"}]
[{"$error":"#N/A"},{"$error":"#N/A"},{"$error":"#N/A"}]
[{"$error":"#N/A"},{"$error":"#N/A"},{"$error":"#N/A"}]
[{"$error":"#N/A"},{"$error":"#N/A"},{"$error":"#N/A"}]
[{"$error":"#N/A"},{"$error":"#N/A"},{"$error":"#N/A"}]
[{"$error":"#N/A"},{"$error":"#N/A"},{"$error":"#N/A"}]
[{"$error":"#N/A"},{"$error":"#N/A"},{"$error":"#N/A"}]
[{"$error":"#N/A"},{"$error":"#N/A"},{"$error":"#N/A"}]
[{"$error":"#N/A"},{"$error":"#N/A"},{"$error":"#N/A"}]
[{"$error":"#N/A"},{"$error":"#N/A"},{"$error":"#N/A"}]
[{"$error":"#N/A"},{"$error":"#N/A"},{"$error":"#N/A"}]
[{"$error":"#N/A"},{"$error":"#N/A"},{"$error":"#N/A"}]
[{"$error":"#N/A"},{"$error":"#N/A"},{"$error":"#N/A"}]
[{"$error":"#N/A"},{"$error":"#N/A"},{"$error":"#N/A"}]
[{"$error":"#N/A"},{"$error":"#N/A"},{"$error":"#N/A"}]
[{"$error":"#N/A"},{"$error":"#N/A"},{"$error":"#N/A"}]
[{"$error":"#N/A"},{"$error":"#N/A"},{"$error":"#N/A"}]
[{"$error":"#N/A"},{"$error":"#N/A"},{"$error":"#N/A"}]
[{"$error":"#N/A"},{"$error":"#N/A"},{"$error":"#N/A"}]
[{"$error":"#N/A"},{"$error":"#N/A"},{"$error":"#N/A"}]
[{"$error":"#N/A"},{"$error":"#N/A"},{"$error":"#N/A"}]
[{"$error":"#N/A"},{"$error":"#N/A"},{"$error":"#N/A"}]
[{"$error":"#N/A"},{"$error":"#N/A"},{"$error":"#N/A"}]
[{"$error":"#N/A"},{"$error":"#N/A"},{"$error":"#N/A"}]
[{"$error":"#N/A"},{"$error":"#N/A"},{"$error":"#N/A"}]
[{"$error":"#N/A"},{"$error":"#N/A"},{"$error":"#N/A"}]
[{"$error":"#N/A"},{"$error":"#N/A"},{"$error":"#N/A"}]
[{"$error":"#N/A"},{"$error":"#N/A"},{"$error":"#N/A"}]
[{"$error":"#N/A"},{"$error":"#N/A"},{"$error":"#N/A"}]
[{"$error":"#N/A"},{"$error":"#N/A"},{"$error":"#N/A"}]
[{"$error":"#N/A"},{"$error":"#N/A"},{"$error":"#N/A"}]
[{"$error":"#N/A"},{"$error":"#N/A"},{"$error":"#N/A"}]
[{"$error":"#N/A"},{"$error":"#N/A"},{"$error":"#N/A"}]
[{"$error":"#N/A"},{"$error":"#N/A"},{"$error":"#N/A"}]
[{"$error":"#N/A"},{"$error":"#N/A"},{"$error":"#N/A"}]
[{"$error":"#N/A"},{"$error":"#N/A"},{"$error":"#N/A"}]
[{"$error":"#N/A"},{"$error":"#N/A"},{"$error":"#N/A"}]
[{"$error":"#N/A"},{"$error":"#N/A"},{"$error":"#N/A"}]
[{"$error":"#N/A"},{"$error":"#N/A"},{"$error":"#N/A"}]
[{"$error":"#N/A"},{"$error":"#N/A"},{"$error":"#N/A"}]
[{"$error":"#N/A"},{"$error":"#N/A"},{"$error":"#N/A"}]
[{"$error":"#N/A"},{"$error":"#N/A"},{"$error":"#N/A"}]
[{"$error":"#N/A"},{"$error":"#N/A"},{"$error":"#N/A"}]
[{"$error":"#N/A"},{"$error":"#N/A"},{"$error":"#N/A"}]
[{"$error":"#N/A"},{"$error":"#N/A"},{"$error":"#N/A"}]
[{"$error":"#N/A"},{"$error":"#N/A"},{"$error":"#N/A"}]
[{"$error":"#N/A"},{"$error":"#N/A"},{"$error":"#N/A"}]
[{"$error":"#N/A"},{"$error":"#N/A"},{"$error":"#N/A"}]
[{"$error":"#N/A"},{"$error":"#N/A"},{"$error":"#N/A"}]
[{"$error":"#N/A"},{"$error":"#N/A"},{"$error":"#N/A"}]
[{"$error":"#N/A"},{"$error":"#N/A"},{"$error":"#N/A"}]
[{"$error":"#N/A"},{"$error":"#N/A"},{"$error":"#N/A"}]
[{"$error":"#N/A"},{"$error":"#N/A"},{"$error":"#N/A"}]
[{"$error":"#N/A"},{"$error":"#N/A"},{"$error":"#N/A"}]
[{"$error":"#N/A"},{"$error":"#N/A"},{"$error":"#N/A"}]
[{"$error":"#N/A"},{"$error":"#N/A"},{"$error":"#N/A"}]
[{"$error":"#N/A"},{"$error":"#N/A"},{"$error":"#N/A"}]
[{"$error":"#N/A"},{"$error":"#N/A"},{"$error":"#N/A"}]
[{"$error":"#N/A"},{"$error":"#N/A"},{"$error":"#N/A"}]
[{"$error":"#N/A"},{"$error":"#N/A"},{"$error":"#N/A"}]
[{"$error":"#N/A"},{"$error":"#N/A"},{"$error":"#N/A"}]
[{"$error":"#N/A"},{"$error":"#N/A"},{"$error":"#N/A"}]
[{"$error":"#N/A"},{"$error":"#N/A"},{"$error":"#N/A"}]
[{"$error":"#N/A"},{"$error":"#N/A"},{"$error":"#N/A"}]
[{"$error":"#N/A"},{"$error":"#N/A"},{"$error":"#N/A"}]
[{"$error":"#N/A"},{"$error":"#N/A"},{"$error":"#N/A"}]
[{"$error":"#N/A"},{"$error":"#N/A"},{"$error":"#N/A"}]
[{"$error":"#N/A"},{"$error":"#N/A"},{"$error":"#N/A"}]
[{"$error":"#N/A"},{"$error":"#N/A"},{"$error":"#N/A"}]
[{"$error":"#N/A"},{"$error":"#N/A"},{"$error":"#N/A"}]
[{"$error":"#N/A"},{"$error":"#N/A"},{"$error":"#N/A"}]
[{"$error":"#N/A"},{"$error":"#N/A"},{"$error":"#N/A"}]
[{"$error":"#N/A"},{"$error":"#N/A"},{"$error":"#N/A"}]
[{"$error":"#N/A"},{"$error":"#N/A"},{"$error":"#N/A"}]
[{"$error":"#N/A"},{"$error":"#N/A"},{"$error":"#N/A"}]
[{"$error":"#N/A"},{"$error":"#N/A"},{"$error":"#N/A"}]
[{"$error":"#N/A"},{"$error":"#N/A"},{"$error":"#N/A"}]
[{"$error":"#N/A"},{"$error":"#N/A"},{"$error":"#N/A"}]
[{"$error":"#N/A"},{"$error":"#N/A"},{"$error":"#N/A"}]
[{"$error":"#N/A"},{"$error":"#N/A"},{"$error":"#N/A"}]
[{"$error":"#N/A"},{"$error":"#N/A"},{"$error":"#N/A"}]
[{"$error":"#N/A"},{"$error":"#N/A"},{"$error":"#N/A"}]
[{"$error":"#N/A"},{"$error":"#N/A"},{"$error":"#N/A"}]
[{"$error":"#N/A"},{"$error":"#N/A"},{"$error":"#N/A"}]
[{"$error":"#N/A"},{"$error":"#N/A"},{"$error":"#N/A"}]
[{"$error":"#N/A"},{"$error":"#N/A"},{"$error":"#N/A"}]
[{"$error":"#N/A"},{"$error":"#N/A"},{"$error":"#N/A"}]
[{"$error":"#N/A"},{"$error":"#N/A"},{"$error":"#N/A"}]
[{"$error":"#N/A"},{"$error":"#N/A"},{"$error":"#N/A"}]
[{"$error":"#N/A"},{"$error":"#N/A"},{"$error":"#N/A"}]
[{"$error":"#N/A"},{"$error":"#N/A"},{"$error":"#N/A"}]
[{"$error":"#N/A"},{"$error":"#N/A"},{"$error":"#N/A"}]
[{"$error":"#N/A"},{"$error":"#N/A"},{"$error":"#N/A"}]
[{"$error":"#N/A"},{"$error":"#N/A"},{"$error":"#N/A"}]
[{"$error":"#N/A"},{"$error":"#N/A"},{"$error":"#N/A"}]
[{"$error":"#N/A"},{"$error":"#N/A"},{"$error":"#N/A"}]
[{"$error":"#N/A"},{"$error":"#N/A"},{"$error":"#N/A"}]
[{"$error":"#N/A"},{"$error":"#N/A"},{"$error":"#N/A"}]
[{"$error":"#N/A"},{"$error":"#N/A"},{"$error":"#N/A"}]
[{"$error":"#N/A"},{"$error":"#N/A"},{"$error":"#N/A"}]
[{"$error":"#N/A"},{"$error":"#N/A"},{"$error":"#N/A"}]
[{"$error":"#N/A"},{"$error":"#N/A"},{"$error":"#N/A"}]
[{"$error":"#N/A"},{"$error":"#N/A"},{"$error":"#N/A"}]
[{"$error":"#N/A"},{"$error":"#N/A"},{"$error":"#N/A"}]
[{"$error":"#N/A"},{"$error":"#N/A"},{"$error":"#N/A"}]
[{"$error":"#N/A"},{"$error":"#N/A"},{"$error":"#N/A"}]
[{"$error":"#N/A"},{"$error":"#N/A"},{"$error":"#N/A"}]
[{"$error":"#N/A"},{"$error":"#N/A"},{"$error":"#N/A"}]
[{"$error":"#N/A"},{"$error":"#N/A"},{"$error":"#N/A"}]
[{"$error":"#N/A"},{"$error":"#N/A"},{"$error":"#N/A"}]
[{"$error":"#N/A"},{"$error":"#N/A"},{"$error":"#N/A"}]
[{"$error":"#N/A"},{"$error":"#N/A"},{"$error":"#N/A"}]
[{"$error":"#N/A"},{"$error":"#N/A"},{"$error":"#N/A"}]
[{"$error":"#N/A"},{"$error":"#N/A"},{"$error":"#N/A"}]
[{"$error":"#N/A"},{"$error":"#N/A"},{"$error":"#N/A"}]
[{"$error":"#N/A"},{"$error":"#N/A"},{"$error":"#N/A"}]
[{"$error":"#N/A"},{"$error":"#N/A"},{"$error":"#N/A"}]
[{"$error":"#N/A"},{"$error":"#N/A"},{"$error":"#N/A"}]
[{"$error":"#N/A"},{"$error":"#N/A"},{"$error":"#N/A"}]
[{"$error":"#N/A"},{"$error":"#N/A"},{"$error":"#N/A"}]
[{"$error":"#N/A"},{"$error":"#N/A"},{"$error":"#N/A"}]
[{"$error":"#N/A"},{"$error":"#N/A"},{"$error":"#N/A"}]
[{"$error":"#N/A"},{"$error":"#N/A"},{"$error":"#N/A"}]
[{"$error":"#N/A"},{"$error":"#N/A"},{"$error":"#N/A"}]
[{"$error":"#N/A"},{"$error":"#N/A"},{"$error":"#N/A"}]
[{"$error":"#N/A"},{"$error":"#N/A"},{"$error":"#N/A"}]
[{"$error":"#N/A"},{"$error":"#N/A"},{"$error":"#N/A"}]
[{"$error":"#N/A"},{"$error":"#N/A"},{"$error":"#N/A"}]
[{"$error":"#N/A"},{"$error":"#N/A"},{"$error":"#N/A"}]
[{"$error":"#N/A"},{"$error":"#N/A"},{"$error":"#N/A"}]
[{"$error":"#N/A"},{"$error":"#N/A"},{"$error":"#N/A"}]
[{"$error":"#N/A"},{"$error":"#N/A"},{"$error":"#N/A"}]
[{"$error":"#N/A"},{"$error":"#N/A"},{"$error":"#N/A"}]
[{"$error":"#N/A"},{"$error":"#N/A"},{"$error":"#N/A"}]
[{"$error":"#N/A"},{"$error":"#N/A"},{"$error":"#N/A"}]
[{"$error":"#N/A"},{"$error":"#N/A"},{"$error":"#N/A"}]
[{"$error":"#N/A"},{"$error":"#N/A"},{"$error":"#N/A"}]
[{"$error":"#N/A"},{"$error":"#N/A"},{"$error":"#N/A"}]
[{"$error":"#N/A"},{"$error":"#N/A"},{"$error":"#N/A"}]
[{"$error":"#N/A"},{"$error":"#N/A"},{"$error":"#N/A"}]
[{"$error":"#N/A"},{"$error":"#N/A"},{"$error":"#N/A"}]
[{"$error":"#N/A"},{"$error":"#N/A"},{"$error":"#N/A"}]
[{"$error":"#N/A"},{"$error":"#N/A"},{"$error":"#N/A"}]
[{"$error":"#N/A"},{"$error":"#N/A"},{"$error":"#N/A"}]
[{"$error":"#N/A"},{"$error":"#N/A"},{"$error":"#N/A"}]
[{"$error":"#N/A"},{"$error":"#N/A"},{"$error":"#N/A"}]
[{"$error":"#N/A"},{"$error":"#N/A"},{"$error":"#N/A"}]
[{"$error":"#N/A"},{"$error":"#N/A"},{"$error":"#N/A"}]
[{"$error":"#N/A"},{"$error":"#N/A"},{"$error":"#N/A"}]
[{"$error":"#N/A"},{"$error":"#N/A"},{"$error":"#N/A"}]
[{"$error":"#N/A"},{"$error":"#N/A"},{"$error":"#N/A"}]
[{"$error":"#N/A"},{"$error":"#N/A"},{"$error":"#N/A"}]
[{"$error":"#N/A"},{"$error":"#N/A"},{"$error":"#N/A"}]
[{"$error":"#N/A"},{"$error":"#N/A"},{"$error":"#N/A"}]
[{"$error":"#N/A"},{"$error":"#N/A"},{"$error":"#N/A"}]
[{"$error":"#N/A"},{"$error":"#N/A"},{"$error":"#N/A"}]
[{"$error":"#N/A"},{"$error":"#N/A"},{"$error":"#N/A"}]
[{"$error":"#N/A"},{"$error":"#N/A"},{"$error":"#N/A"}]
[{"$error":"#N/A"},{"$error":"#N/A"},{"$error":"#N/A"}]
[{"$error":"#N/A"},{"$error":"#N/A"},{"$error":"#N/A"}]
[{"$error":"#N/A"},{"$error":"#N/A"},{"$error":"#N/A"}]
[{"$error":"#N/A"},{"$error":"#N/A"},{"$error":"#N/A"}]
[{"$error":"#N/A"},{"$error":"#N/A"},{"$error":"#N/A"}]
[{"$error":"#N/A"},{"$error":"#N/A"},{"$error":"#N/A"}]
[{"$error":"#N/A"},{"$error":"#N/A"},{"$error":"#N/A"}]
[{"$error":"#N/A"},{"$error":"#N/A"},{"$error":"#N/A"}]
[{"$error":"#N/A"},{"$error":"#N/A"},{"$error":"#N/A"}]
[{"$error":"#N/A"},{"$error":"#N/A"},{"$error":"#N/A"}]
[{"$error":"#N/A"},{"$error":"#N/A"},{"$error":"#N/A"}]
[{"$error":"#N/A"},{"$error":"#N/A"},{"$error":"#N/A"}]
[{"$error":"#N/A"},{"$error":"#N/A"},{"$error":"#N/A"}]
[{"$error":"#N/A"},{"$error":"#N/A"},{"$error":"#N/A"}]
[{"$error":"#N/A"},{"$error":"#N/A"},{"$error":"#N/A"}]
[{"$error":"#N/A"},{"$error":"#N/A"},{"$error":"#N/A"}]
[{"$error":"#N/A"},{"$error":"#N/A"},{"$error":"#N/A"}]
[{"$error":"#N/A"},{"$error":"#N/A"},{"$error":"#N/A"}]
[{"$error":"#N/A"},{"$error":"#N/A"},{"$error":"#N/A"}]
[{"$error":"#N/A"},{"$error":"#N/A"},{"$error":"#N/A"}]
[{"$error":"#N/A"},{"$error":"#N/A"},{"$error":"#N/A"}]
[{"$error":"#N/A"},{"$error":"#N/A"},{"$error":"#N/A"}]
[{"$error":"#N/A"},{"$error":"#N/A"},{"$error":"#N/A"}]
[{"$error":"#N/A"},{"$error":"#N/A"},{"$error":"#N/A"}]
[{"$error":"#N/A"},{"$error":"#N/A"},{"$error":"#N/A"}]
[{"$error":"#N/A"},{"$error":"#N/A"},{"$error":"#N/A"}]
[{"$error":"#N/A"},{"$error":"#N/A"},{"$error":"#N/A"}]
[{"$error":"#N/A"},{"$error":"#N/A"},{"$error":"#N/A"}]
[{"$error":"#N/A"},{"$error":"#N/A"},{"$error":"#N/A"}]
[{"$error":"#N/A"},{"$error":"#N/A"},{"$error":"#N/A"}]
[{"$error":"#N/A"},{"$error":"#N/A"},{"$error":"#N/A"}]
[{"$error":"#N/A"},{"$error":"#N/A"},{"$error":"#N/A"}]
[{"$error":"#N/A"},{"$error":"#N/A"},{"$error":"#N/A"}]
[{"$error":"#N/A"},{"$error":"#N/A"},{"$error":"#N/A"}]
[{"$error":"#N/A"},{"$error":"#N/A"},{"$error":"#N/A"}]
[{"$error":"#N/A"},{"$error":"#N/A"},{"$error":"#N/A"}]
[{"$error":"#N/A"},{"$error":"#N/A"},{"$error":"#N/A"}]
[{"$error":"#N/A"},{"$error":"#N/A"},{"$error":"#N/A"}]
[{"$error":"#N/A"},{"$error":"#N/A"},{"$error":"#N/A"}]
[{"$error":"#N/A"},{"$error":"#N/A"},{"$error":"#N/A"}]
[{"$error":"#N/A"},{"$error":"#N/A"},{"$error":"#N/A"}]
[{"$error":"#N/A"},{"$error":"#N/A"},{"$error":"#N/A"}]
[{"$error":"#N/A"},{"$error":"#N/A"},{"$error":"#N/A"}]
[{"$error":"#N/A"},{"$error":"#N/A"},{"$error":"#N/A"}]
[{"$error":"#N/A"},{"$error":"#N/A"},{"$error":"#N/A"}]
[{"$error":"#N/A"},{"$error":"#N/A"},{"$error":"#N/A"}]
[{"$error":"#N/A"},{"$error":"#N/A"},{"$error":"#N/A"}]
[{"$error":"#N/A"},{"$error":"#N/A"},{"$error":"#N/A"}]
[{"$error":"#N/A"},{"$error":"#N/A"},{"$error":"#N/A"}]
[{"$error":"#N/A"},{"$error":"#N/A"},{"$error":"#N/A"}]
[{"$error":"#N/A"},{"$error":"#N/A"},{"$error":"#N/A"}]
[{"$error":"#N/A"},{"$error":"#N/A"},{"$error":"#N/A"}]
[{"$error":"#N/A"},{"$error":"#N/A"},{"$error":"#N/A"}]
[{"$error":"#N/A"},{"$error":"#N/A"},{"$error":"#N/A"}]
[{"$error":"#N/A"},{"$error":"#N/A"},{"$error":"#N/A"}]
[{"$error":"#N/A"},{"$error":"#N/A"},{"$error":"#N/A"}]
[{"$error":"#N/A"},{"$error":"#N/A"},{"$error":"#N/A"}]
[{"$error":"#N/A"},{"$error":"#N/A"},{"$error":"#N/A"}]
[{"$error":"#N/A"},{"$error":"#N/A"},{"$error":"#N/A"}]
[{"$error":"#N/A"},{"$error":"#N/A"},{"$error":"#N/A"}]
[{"$error":"#N/A"},{"$error":"#N/A"},{"$error":"#N/A"}]
[{"$error":"#N/A"},{"$error":"#N/A"},{"$error":"#N/A"}]
[{"$error":"#N/A"},{"$error":"#N/A"},{"$error":"#N/A"}]
[{"$error":"#N/A"},{"$error":"#N/A"},{"$error":"#N/A"}]
[{"$error":"#N/A"},{"$error":"#N/A"},{"$error":"#N/A"}]
[{"$error":"#N/A"},{"$error":"#N/A"},{"$error":"#N/A"}]
[{"$error":"#N/A"},{"$error":"#N/A"},{"$error":"#N/A"}]
[{"$error":"#N/A"},{"$error":"#N/A"},{"$error":"#N/A"}]
[{"$error":"#N/A"},{"$error":"#N/A"},{"$error":"#N/A"}]
[{"$error":"#N/A"},{"$error":"#N/A"},{"$error":"#N/A"}]
[{"$error":"#N/A"},{"$error":"#N/A"},{"$error":"#N/A"}]
[{"$error":"#N/A"},{"$error":"#N/A"},{"$error":"#N/A"}]
[{"$error":"#N/A"},{"$error":"#N/A"},{"$error":"#N/A"}]
[{"$error":"#N/A"},{"$error":"#N/A"},{"$error":"#N/A"}]
[{"$error":"#N/A"},{"$error":"#N/A"},{"$error":"#N/A"}]
[{"$error":"#N/A"},{"$error":"#N/A"},{"$error":"#N/A"}]
[{"$error":"#N/A"},{"$error":"#N/A"},{"$error":"#N/A"}]
[{"$error":"#N/A"},{"$error":"#N/A"},{"$error":"#N/A"}]
[{"$error":"#N/A"},{"$error":"#N/A"},{"$error":"#N/A"}]
[{"$error":"#N/A"},{"$error":"#N/A"},{"$error":"#N/A"}]
[{"$error":"#N/A"},{"$error":"#N/A"},{"$error":"#N/A"}]
[{"$error":"#N/A"},{"$error":"#N/A"},{"$error":"#N/A"}]
[{"$error":"#N/A"},{"$error":"#N/A"},{"$error":"#N/A"}]
[{"$error":"#N/A"},{"$error":"#N/A"},{"$error":"#N/A"}]
[{"$error":"#N/A"},{"$error":"#N/A"},{"$error":"#N/A"}]
[{"$error":"#N/A"},{"$error":"#N/A"},{"$error":"#N/A"}]
[{"$error":"#N/A"},{"$error":"#N/A"},{"$error":"#N/A"}]
[{"$error":"#N/A"},{"$error":"#N/A"},{"$error":"#N/A"}]
[{"$error":"#N/A"},{"$error":"#N/A"},{"$error":"#N/A"}]
[{"$error":"#N/A"},{"$error":"#N/A"},{"$error":"#N/A"}]
[{"$error":"#N/A"},{"$error":"#N/A"},{"$error":"#N/A"}]
[{"$error":"#N/A"},{"$error":"#N/A"},{"$error":"#N/A"}]
[{"$error":"#N/A"},{"$error":"#N/A"},{"$error":"#N/A"}]
[{"$error":"#N/A"},{"$error":"#N/A"},{"$error":"#N/A"}]
[{"$error":"#N/A"},{"$error":"#N/A"},{"$error":"#N/A"}]
[{"$error":"#N/A"},{"$error":"#N/A"},{"$error":"#N/A"}]
[{"$error":"#N/A"},{"$error":"#N/A"},{"$error":"#N/A"}]
[{"$error":"#N/A"},{"$error":"#N/A"},{"$error":"#N/A"}]
[{"$error":"#N/A"},{"$error":"#N/A"},{"$error":"#N/A"}]
[{"$error":"#N/A"},{"$error":"#N/A"},{"$error":"#N/A"}]
[{"$error":"#N/A"},{"$error":"#N/A"},{"$error":"#N/A"}]
[{"$error":"#N/A"},{"$error":"#N/A"},{"$error":"#N/A"}]
[{"$error":"#N/A"},{"$error":"#N/A"},{"$error":"#N/A"}]
[{"$error":"#N/A"},{"$error":"#N/A"},{"$error":"#N/A"}]
[{"$error":"#N/A"},{"$error":"#N/A"},{"$error":"#N/A"}]
[{"$error":"#N/A"},{"$error":"#N/A"},{"$error":"#N/A"}]
[{"$error":"#N/A"},{"$error":"#N/A"},{"$error":"#N/A"}]
[{"$error":"#N/A"},{"$error":"#N/A"},{"$error":"#N/A"}]
[{"$error":"#N/A"},{"$error":"#N/A"},{"$error":"#N/A"}]
[{"$error":"#N/A"},{"$error":"#N/A"},{"$error":"#N/A"}]
[{"$error":"#N/A"},{"$error":"#N/A"},{"$error":"#N/A"}]
[{"$error":"#N/A"},{"$error":"#N/A"},{"$error":"#N/A"}]
[{"$error":"#N/A"},{"$error":"#N/A"},{"$error":"#N/A"}]
[{"$error":"#N/A"},{"$error":"#N/A"},{"$error":"#N/A"}]
[{"$error":"#N/A"},{"$error":"#N/A"},{"$error":"#N/A"}]
[{"$error":"#N/A"},{"$error":"#N/A"},{"$error":"#N/A"}]
[{"$error":"#N/A"},{"$error":"#N/A"},{"$error":"#N/A"}]
[{"$error":"#N/A"},{"$error":"#N/A"},{"$error":"#N/A"}]
[{"$error":"#N/A"},{"$error":"#N/A"},{"$error":"#N/A"}]
[{"$error":"#N/A"},{"$error":"#N/A"},{"$error":"#N/A"}]
[{"$error":"#N/A"},{"$error":"#N/A"},{"$error":"#N/A"}]
[{"$error":"#N/A"},{"$error":"#N/A"},{"$error":"#N/A"}]
[{"$error":"#N/A"},{"$error":"#N/A"},{"$error":"#N/A"}]
[{"$error":"#N/A"},{"$error":"#N/A"},{"$error":"#N/A"}]
[{"$error":"#N/A"},{"$error":"#N/A"},{"$error":"#N/A"}]
[{"$error":"#N/A"},{"$error":"#N/A"},{"$error":"#N/A"}]
[{"$error":"#N/A"},{"$error":"#N/A"},{"$error":"#N/A"}]
[{"$error":"#N/A"},{"$error":"#N/A"},{"$error":"#N/A"}]
[{"$error":"#N/A"},{"$error":"#N/A"},{"$error":"#N/A"}]
[{"$error":"#N/A"},{"$error":"#N/A"},{"$error":"#N/A"}]
[{"$error":"#N/A"},{"$error":"#N/A"},{"$error":"#N/A"}]
[{"$error":"#N/A"},{"$error":"#N/A"},{"$error":"#N/A"}]
[{"$error":"#N/A"},{"$error":"#N/A"},{"$error":"#N/A"}]
[{"$error":"#N/A"},{"$error":"#N/A"},{"$error":"#N/A"}]

{"sheet":"ICV Rating","index":3,"n_rows":2354,"n_cols":5,"rows_kept":2354,"cut":false,"hidden":false,"merged":[]}
[]
[{"$f":"[2]!FT(\"getinstr/?condition=RELEVANT_REGION,=,North America&_view_config=ICV_Rating_proCB\")","v":"Valuation Date"},"2015-01-15",0,0]
[0,0,0,0]
["INSTRUMENT","ISIN","INSTRUMENT RATING ICV","INSTRUMENT RATING ICV VALUATION DATE",{"$f":"D4","v":"INSTRUMENT RATING ICV VALUATION DATE"}]
["ACCURAY INC/3.75%/01.08.2016","US004397AB18",0,0,{"$f":"IF(D5<>0,D5,\"\")","v":""}]
["ACORDA THE/REG/1.75%/15.06.2021","US00484MAA45",0,0,{"$f":"IF(D6<>0,D6,\"\")","v":""}]
["AEGERION P/144A/2.0%/15.08.2019","US00767EAA01","CCC",41954,"2014-11-11"]
["AFFYMETRIX INC/4%/01.07.2019","US00826TAH14",0,0,""]
["AKAMAI TECH/0%/15.02.2019","US00971TAF84",0,0,""]
["AKORN INC/3.5%/01.06.2016","US009728AB25",0,0,""]
["AK STEEL CORP/5%/15.11.2019","US001546AP59","CCC",41625,"2013-12-17"]
["ALBANY MOLECULAR/2.25%/15.11.2018","US012423AB50","B",41666,"2014-01-27"]
["ALCOA INC/5.375%/01.10.2017","US0138173093",0,0,""]
["ALEXANDRIA REAL/7%/PERP","US0152715050",0,0,""]
["ALLSCRIPTS HEALT/1.25%/01.07.2020","US01988PAD06",0,0,""]
["ALPHA NATURAL/3.75%/15.12.2017","US02076XAE22","B+",41589,"2013-11-11"]
["ALPHA NATURAL/4.875%/15.12.2020","US02076XAF96","B+",41589,"2013-11-11"]
["AMAG PHARMA INC/2.5%/15.02.2019","US00163UAA43",0,0,""]
["AMD/6%/01.05.2015","US007903AL16","CCC",41416,"2013-05-22"]
["AMERICAN REALITY/3.75%/15.12.2020","US02917TAB08","BBB-",41712,"2014-03-14"]
["AMERICAN TOWER/5.25%/15.05.2017","US03027X3089",0,0,""]
["AMER REALTY CAP/3%/01.08.2018","US02917TAA25","BBB-",41712,"2014-03-14"]
["AMSURG CORP/5.25%/01.07.2017","US03232P5044",0,0,""]
["AMTRUST FINANCIA/5.5%/15.12.2021","US032359AC55",0,0,""]
["ANACOR PHARMACEU/144A/2%/15.10.2021","US032420AA94",0,0,""]
["ANNALY CAPITAL/4%/15.02.2015","US035710AA05","B-",41022,"2012-04-23"]
["ANNALY CAPITAL/5%/15.05.2015","US035710AB87","B-",41022,"2012-04-23"]
["AOL/144A/0.75%/01.09.2019","US00184XAA37","BB",41871,"2014-08-20"]
["ARES CAPITAL COR/5.75%/01.02.2016","US04010LAB99",0,0,""]
["ARES CAPITAL COR/REG/4.375%/15.01.2019","US04010LAM54",0,0,""]
["ARES CAPITAL COR/REG/5.125%/01.06.2016","US04010LAD55",0,0,""]
["ARRAY BIOPHARMA/3%/01.06.2020","US04269XAA37",0,0,""]
["AUXILIUM/1.5%/15.07.2018","US05334DAA54",0,0,""]
["B2GOLD CORP/3.25%/01.10.2018","US11777QAB68","CC",41515,"2013-08-29"]
["BANK OF AMER CRP/7.25%/PERP","US0605056821","BB-",41922,"2014-10-10"]
["BIOMARIN PHARM/0.75%/15.10.2018","US09061GAE17","C",41666,"2014-01-27"]
["BIOMARIN PHARM/1.5%/15.10.2020","US09061GAF81","C",41666,"2014-01-27"]
["BIOMARIN PHARM/1.875%/23.04.2017","US09061GAD34","C",41666,"2014-01-27"]
["BIOMED REALTY LP/3.75%/15.01.2030","US09064AAB70",0,0,""]
["BLUCORA INC/4.25%/01.04.2019","US095229AB69","B-",41452,"2013-06-27"]
["BOTTOMLINE TECH/1.5%/01.12.2017","US101388AA48",0,0,""]
["BROADSOFT INC/1.5%/01.07.2018","US11133BAB80",0,0,""]
["BROCADE COM SYS/144A/1.375%/01.01.2020","US111621AP39",0,0,""]
["BROOKDALE SENIOR/2.75%/15.06.2018","US112463AA27","B+",41158,"2012-09-06"]
["BUNGE LTD/4.875%/PERP","BMG169622047",0,0,""]
["CADENCE DESIGN/2.625%/01.06.2015","US127387AJ78",0,0,""]
["CANADIAN SOLAR/144A/4.25%/15.02.2019","US136635AD18","B",41711,"2014-03-13"]
["CANADIAN SOLAR/4.25%/15.02.2019","USC15396AA90","B",41711,"2014-03-13"]
["CARDTRONICS INC/1%/01.12.2020","US14161HAG39","BB-",41604,"2013-11-26"]
["CARRIAGE SERVICE/144A/2.75%/15.03.2021","US143905AL17","CC",41992,"2014-12-19"]
["CBIZ INC/4.875%/01.10.2015","US124805AC68","CCC",41366,"2013-04-02"]
["CENT EURO MEDIA/5%/15.11.2015","US153443AH94","B-",41695,"2014-02-25"]
["CEPHEID INC/1.25%/01.02.2021","US15670RAB33","B-",41684,"2014-02-14"]
["CHART INDUSTRIES/2%/01.08.2018","US16115QAC42",0,0,""]
["CHESAPEAKE/*/2.5%/15.05.2037","US165167CA30","B+",40955,"2012-02-16"]
["CHESAPEAKE/2.5%/15.05.2037","US165167BZ99","B+",40955,"2012-02-16"]
["CHESAPEAKE ENERG/4.5%/PERP","US1651678427","D",40955,"2012-02-16"]
["CHESAPEAKE ENRGY/2.25%/15.12.2038","US165167CB13","B+",40955,"2012-02-16"]
["CHESAPEAKE ENRGY/2.75%/15.11.2035","US165167BW68","B+",40955,"2012-02-16"]
["CHESAPEAKE ENRGY/5.75%/PERP","US1651677767","D",40955,"2012-02-16"]
["CIENA CORP/0.875%/15.06.2017","US171779AE10","B-",40535,"2010-12-23"]
["CIENA CORP/144A/4%/15.03.2015","US171779AF84","B-",40535,"2010-12-23"]
["CIENA CORP/3.75%/15.10.2018","US171779AG67","B-",40535,"2010-12-23"]
["CITRIX SYSTEMS/144A/0.5%/15.04.2019","US177376AC40",0,0,""]
["CLIFFS NATURAL R/7%/01.02.2016","US18683K4085",0,0,""]
["CLOVIS ONCOLOGY/144A/2.5%/15.09.2021","US189464AA81",0,0,""]
["COBALT INT/2.625%/01.12.2019","US19075FAA49","CCC",41295,"2013-01-21"]
["COBALT INT/3.125%/15.05.2024","US19075FAB22","CCC",41295,"2013-01-21"]
["COLONY FINANCIAL/3.875%/15.01.2021","US19624RAB24",0,0,""]
["CONCUR TECH INC/0.5%/15.06.2018","US206708AC38","A+",41838,{"$f":"IF(D70<>0,D70,\"\")","v":"2014-07-18"}]
["CONCUR TECH INC/144A/2.5%/15.04.2015","US206708AA71","A+",41838,"2014-07-18"]
["CORNERSTONE ONDE/REG/1.5%/01.07.2018","US21925YAB92","CC",41589,"2013-11-11"]
["CROWN CASTLE/4.5%/01.11.2016","US22822V2007",0,0,""]
["CSG SYSTEMS INTL/144A/3%/01.03.2017","US126349AC33",0,0,""]
["CUBIST PHARM/1.125%/01.09.2018","US229678AF41",0,0,""]
["CUBIST PHARM/1.875%/01.09.2020","US229678AH07",0,0,""]
["CUBIST PHARM/2.5%/01.11.2017","US229678AD92",0,0,""]
["DEALERTRACK HOLD/1.5%/15.03.2017","US242309AB86",0,0,""]
["DENDREON CORP/2.875%/15.01.2016","US24823QAC15",0,0,""]
["DEPOMED INC/2.5%/01.09.2021","US249908AA20",0,0,""]
["DEVELOPERS DIVER/1.75%/15.11.2040","US251591AX13",0,0,""]
["DOMINION RES/A/6.125%/01.04.2016","US25746U7037","B",41400,"2013-05-06"]
["DOMINION RES/B/6%/01.07.2016","US25746U8852","B",41400,"2013-05-06"]
["DOMINION R/REG/3.188%/01.07.2017","US25746U8696","B",41400,"2013-05-06"]
["DYNEGY INC/5.375%/01.11.2017","US26817R2076",0,0,""]
["ELEC FOR IMAGING/144A/0.75%/01.09.2019","US286082AB86",0,0,""]
["ELECTRONIC ARTS/0.75%/15.07.2016","US285512AA71","BB",40977,"2012-03-09"]
["EMERGENT BIOSOLU/2.875%/15.01.2021","US29089QAA31",0,0,""]
["EMPIRE STATE REA/144A/2.625%/15.08.2019","US292102AA81",0,0,""]
["ENDOLOGIX INC/2.25%/15.12.2018","US29266SAA42",0,0,""]
["ENERGY XXI/3%/15.12.2018","US29274UAB70",0,0,""]
["ENERGY XXI/5.625%/PERP","US29274U3095",0,0,""]
["ENERSYS/FRN-STEP/01.06.2038","US29275YAA01",0,0,""]
["EQUINIX INC/4.75%/15.06.2016","US29444UAH95",0,0,""]
["EURONET WORLDWID/144A/1.5%/01.10.2044","US298736AG45",0,0,""]
["EXELIXIS INC/4.25%/15.08.2019","US30161QAC87",0,0,""]
["EXELON COR/REG/3.25%/01.06.2017","US30161N1274",0,0,""]
["EXTRA SPACE STOR/2.375%/01.07.2033","US30225VAC19","BBB",41705,"2014-03-07"]
["FIDELITY NATL FI/4.25%/15.08.2018","US31620RAE53",0,0,""]
["FINISAR CORP/0.5%/15.12.2033","US31787AAM36",0,0,""]
["FORESTAR GROUP/3.75%/01.03.2020","US346232AB79",0,0,""]
["FOREST CITY ENT/3.625%/15.08.2020","US345550AR85","B",41494,"2013-08-08"]
["FOREST CITY ENT/4.25%/15.08.2018","US345550AP20","B",41494,"2013-08-08"]
["FXCM INC/2.25%/15.06.2018","US302693AB25","CCC",41452,"2013-06-27"]
["GEN CABLE CORP/FRN-STEP/15.11.2029","US369300AL27","B",41368,"2013-04-04"]
["GENCORP INC/4.0625%/31.12.2039","US368682AN09",0,0,""]
["GILEAD SCIENCES/1.625%/01.05.2016","US375558AP86","A",41955,"2014-11-12"]
["GOLAR LNG LTD/3.75%/07.03.2017","NO0010637846","B-",41134,"2012-08-13"]
["GOLDEN OCEAN GRP/3.07%/30.01.2019","NO0010701055",0,0,""]
["GOODRICH PETROLE/5%/01.10.2029","US382410AC28","CCC",41334,"2013-03-01"]
["GREENBRIER COS/3.5%/01.04.2018","US393657AH48",0,0,""]
["GROUP 1 AUTO/3%/15.03.2020","US398905AG48",0,0,""]
["GT ADV TECHNOLOG/3%/15.12.2020","US36191UAB26",0,0,""]
["HEALTH CARE REIT/3%/01.12.2029","US42217KAR77",0,0,""]
["HEALTH CARE REIT/6.5%/PERP","US42217K6010",0,0,""]
["HEALTHSOUTH CORP/2%/01.12.2043","US421924BL47",0,0,""]
["HEALTHWAYS INC/1.5%/01.07.2018","US422245AB65","B-",41598,"2013-11-20"]
["HEARTWARE INTERN/3.5%/15.12.2017","US422368AA83",0,0,""]
["HERBALIFE LTD/2%/15.08.2019","US42703MAA18","BB-",41708,"2014-03-10"]
["HOLOGIC/FRN-STEP/15.12.2043","US436440AG63",0,0,""]
["HOLOGIC INC/2010/FRN-STEP/15.12.2037","US436440AB76",0,0,""]
["HOLOGIC INC/FRN-STEP/01.03.2042","US436440AC59",0,0,""]
["HOMEAWAY INC/0.125%/01.04.2019","US43739QAA85","B+",41858,"2014-08-07"]
["HORNBECK OFF/1.5%/01.09.2019","US440543AN62",0,0,""]
["HOST HOTEL/144A/2.5%/15.10.2029","US44107TAG13",0,0,""]
["HOVNANIAN ENTR/6%/01.12.2017","US442488BN15","CCC",41278,"2013-01-04"]
["HUNTINGTON BANCS/8.5%/PERP","US4461504015",0,0,""]
["HURON CONSULTING/144A/1.25%/01.10.2019","US447462AA02",0,0,""]
["IAS OPER PART LP/5%/15.03.2018","US44927XAA37",0,0,""]
["ICONIX BRAND GRP/1.5%/15.03.2018","US451055AF44","B",41708,"2014-03-10"]
["ICONIX BRAND GRP/2.5%/01.06.2016","US451055AE78","B",41708,"2014-03-10"]
["ILLUMINA/144A/0.0%/15.06.2019","US452327AE94","BB-",40624,"2011-03-22"]
["ILLUMINA INC/0.25%/15.03.2016","US452327AD12","BB-",40624,"2011-03-22"]
["ILLUMINA INC/0.5%/15.06.2021","US452327AG43","BB-",40624,{"$f":"IF(D134<>0,D134,\"\")","v":"2011-03-22"}]
["INCYTE CORP LTD/0.375%/15.11.2018","US45337CAM47",0,0,""]
["INCYTE CORP LTD/1.25%/15.11.2020","US45337CAN20",0,0,""]
["INCYTE CORP LTD/4.75%/01.10.2015","US45337CAJ18",0,0,""]
["INFINERA CORP/1.75%/01.06.2018","US45667GAB95",0,0,""]
["INTEGRA LIFESCIE/1.625%/15.12.2016","US457985AK56",0,0,""]
["INTEL CORP/144A/3.25%/01.08.2039","US458140AF79","BBB",41492,"2013-08-06"]
["INTEL CORP/2.95%/15.12.2035","US458140AD22","BBB",41492,"2013-08-06"]
["INTERDIGITAL INC/2.5%/15.03.2016","US458660AB32","B",41802,"2014-06-12"]
["INTERMUNE INC/2.5%/15.09.2018","US45884XAE31",0,0,""]
["ISIS PHARMACEUTI/144A/1%/15.11.2021","US464337AH78",0,0,""]
["ISTAR FINANCIAL/3%/15.11.2016","US45031UBR14",0,0,""]
["J2 GLOBAL COMM/3.25%/15.06.2029","US48123VAC63",0,0,""]
["JAMES RIVER COAL/4.5%/01.12.2015","US470355AF58","CCC",40513,"2010-12-01"]
["JARDEN CORP/1.125%/15.03.2034","US471109AK41","B",41877,"2014-08-26"]
["JARDEN CORP/1.5%/15.06.2019","US471109AL24","B",41877,"2014-08-26"]
["JARDEN CORP/1.875%/15.09.2018","US471109AH12","B",41877,"2014-08-26"]
["JDS UNIPHASE/0.625%/15.08.2033","US46612JAF84","BB",41521,"2013-09-04"]
["JEFFERIES GROUP/3.875%/01.11.2029","US472319AG74",0,0,""]
["KAISER ALUMINUM/4.5%/01.04.2015","US483007AB65",0,0,""]
["KB HOME/1.375%/01.02.2019","US48666KAS87",0,0,""]
["KNIGHT CAPITAL/3.5%/15.03.2015","US499005AE60",0,0,""]
["LAM RESEAR/0.5%/15.05.2016","US512807AJ73",0,0,""]
["LAM RESEAR/1.25%/15.05.2018","US512807AL20",0,0,""]
["LENNAR CORP/2.75%/15.12.2020","US526057BE33",0,0,""]
["LENNAR CORP/3.25%/15.11.2021","US526057BG80",0,0,""]
["LIBERTY INTERACT/0.75%/30.03.2043","US530610AC87",0,0,""]
["LIBERTY INTER (HSN) /1%/30.09.2043","US530610AB05",0,0,""]
["LIBERTY MEDIA/1.375%/15.10.2023","US531229AB89","BB-",41704,"2014-03-06"]
["LINKEDIN CORP/144A/0.5%/01.11.2019","US53578AAA60",0,0,""]
["LIVE NATION ENT/144A/2.5%/15.05.2019","US538034AH26","B+",41795,"2014-06-05"]
["LUFTHANSA MALTA (JETBLUE)/0.75%/05.04.2017","XS0765567259",0,0,""]
["MACQUARIE INFRAS/2.875%/15.07.2019","US55608BAA35",0,0,""]
["MASSEY ENERGY CO/3.25%/01.08.2015","US576203AJ29","B+",41589,"2013-11-11"]
["MEDICINES COMP/1.375%/01.06.2017","US584688AC99",0,0,""]
["MEDICINES COMP/144A/2.5%/15.01.2022","US584688AD72",0,0,""]
["MEDIDATA SOLUTIO/REG/1%/01.08.2018","US58471AAB17","B-",41863,"2014-08-12"]
["MEDIVATION INC/2.625%/01.04.2017","US58501NAA90",0,0,""]
["MENTOR GRAPHICS CORP/4%/01.04.2031","US587200AK26","B-",40638,"2011-04-05"]
["MERITAGE HOMES/1.875%/15.09.2032","US59001AAR32",0,0,""]
["MERRIMACK PHARMA/4.5%/15.07.2020","US590328AA86","CCC",41719,"2014-03-21"]
["MGIC INVT CORP/2%/01.04.2020","US552848AE34","CCC",41409,"2013-05-15"]
["MGIC INVT CORP/5%/01.05.2017","US552848AD50","CCC",41409,"2013-05-15"]
["MGM MIRAGE/4.25%/15.04.2015","US55303QAE08","B-",40980,"2012-03-12"]
["MICROCHIP TECH/2.125%/15.12.2037","US595017AB07",0,0,""]
["MICRON TECH/1.625%/15.02.2033","US595112AU73",0,0,""]
["MICRON TECH/2.125%/15.02.2033","US595112AV56",0,0,""]
["MICRON TECH/3%/15.11.2043","US595112AY95",0,0,""]
["MICRON TECHNOLOGY INC/2.375%/01.05.2032","US595112AW30",0,0,""]
["MICRON TECHNOLOGY INC/3.125%/01.05.2032","US595112AX13",0,0,""]
["M/I HOMES INC/3.25%/15.09.2017","US55292PAA30",0,0,""]
["MOLINA HEALTHCAR/1.125%/15.01.2020","US60855RAC43",0,0,""]
["MOLINA HEALTHCAR/1.625%/15.08.2044","US60855RAD26",0,0,""]
["MOLYCORP INC/3.25%/15.06.2016","US608753AA72","B-",41158,"2012-09-06"]
["MOLYCORP INC/5.5%/01.02.2018","US608753AH26","B-",41158,"2012-09-06"]
["MOLYCORP INC/6%/01.09.2017","US608753AF69","B-",41158,"2012-09-06"]
["MONSTER WORLDWID/144A/3.5%/15.10.2019","US611742AA54",0,0,""]
["MOVE INC/144A/2.75%/01.09.2018","US62458MAB46",0,0,""]
["MYLAN INC/3.75%/15.09.2015","US628530AJ63",0,0,""]
["NATIONAL HEALTH/3.25%/01.04.2021","US63633DAE40",0,0,""]
["NAVISTAR INTL/144A/4.5%/15.10.2018","US63934EAQ17","C",41355,"2013-03-22"]
["NAVISTAR INTL/4.75%/15.04.2019","US63934EAR99","C",41355,"2013-03-22"]
["NETSUITE INC/0.25%/01.06.2018","US64118QAB32","B+",41450,"2013-06-25"]
["NEWMONT MINING/1.625%/15.07.2017","US651639AJ57",0,0,""]
["NEXITY/0.625%/01.01.2020","FR0011983105",0,0,{"$f":"IF(D198<>0,D198,\"\")","v":""}]
["NEXTERA ENERGY/5.599%/01.06.2015","US65339F7050",0,0,""]
["NEXTERA ENERGY/5.799%/01.09.2016","US65339F8611",0,0,""]
["NEXTERA ENERGY/5.889%/01.09.2015","US65339F8876",0,0,""]
["NORTHGATE (AURICO GOLD)/3.5%/01.10.2016","US666416AB86","B",41215,"2012-11-02"]
["NORTHSTAR REAL/7.5%/15.03.2031","US66705PAA12","CCC",41240,"2012-11-27"]
["NOVELLUS S/2.625%/15.05.2041","US670008AD31",0,0,""]
["NRG YIELD INC/144A/3.5%/01.02.2019","US62942XAA63","B-",41744,"2014-04-15"]
["NUANCE COMMUNIC/2.75%/01.11.2031","US67020YAF79",0,0,""]
["NUVASIVE INC/2.75%/01.07.2017","US670704AC96","B+",41086,"2012-06-26"]
["NVIDIA CORP/1%/01.12.2018","US67066GAC87",0,0,""]
["OLD REPUB INTL/3.75%/15.03.2018","US680223AH76",0,0,""]
["OMNICARE CAPITAL/4%/15.06.2033","US68214Q2003",0,0,""]
["OMNICARE INC/3.25%/15.12.2035/1","US681904AR94",0,0,""]
["OMNICARE INC/3.5%/15.02.2044","US681904AQ12",0,0,""]
["OMNICARE INC/3.75%/15.12.2025","US681904AN80",0,0,""]
["ON SEMICONDUCTOR/B/2.625%/15.12.2026","US682189AH82",0,0,""]
["OPKO HEALTH INC/3%/01.02.2033","US68375NAA19",0,0,""]
["OREXIGEN THERAPE/2.75%/01.12.2020","US686164AB05",0,0,""]
["OWENS-BROCKWAY/144A/3%/01.06.2015","US69073TAQ67",0,0,""]
["PALO ALTO NET/144A/0%/01.07.2019","US697435AA30",0,0,""]
["PDL BIO PHARMA/4.0%/01.02.2018","US69329YAF16","B-",41828,"2014-07-08"]
["PEABODY ENERGY/4.75%/15.12.2041","US704549AG98","B",41145,"2012-08-24"]
["PETROLEUM DEVELOPMENT CO/3.25%/15.05.2016","US716578AC33",0,0,""]
["PRICELINE/1%/15.03.2018","US741503AQ92","BBB+",41898,"2014-09-16"]
["PRICELINE./1.25%/15.3.2015","US741503AN61","BBB+",41898,"2014-09-16"]
["PRICELINE.COM/REG/0.35%/15.06.2020","US741503AS58","BBB+",41898,"2014-09-16"]
["PRICELINE GROUP/144A/0.9%/15.09.2021","US741503AT32","BBB+",41898,"2014-09-16"]
["PROLOGIS INC/3.25%/15.03.2015","US74340XAT81","BBB+",41548,"2013-10-01"]
["PROOFPOINT INC/1.25%/15.12.2018","US743424AB91","CCC",41745,"2014-04-16"]
["PROSPECT CAPITAL/144A/4.75%/15.04.2020","US74348TAP75",0,0,""]
["QUANTUM CORP/3.5%/15.11.2015","US747906AG03","CCC",40512,"2010-11-30"]
["RADIAN GROUP INC/2.25%/01.03.2019","US750236AN17","B-",41409,"2013-05-15"]
["RADIAN GROUP INC/3%/15.11.2017","US750236AK77","B-",41409,"2013-05-15"]
["RED HAT INC/144A/0.25%/01.10.2019","US756577AC63",0,0,""]
["REGENERON PHARMACEUTICAL/1.875%/01.10.2016","US75886FAD96",0,0,""]
["RESTORATION HARD/144A/0%/15.06.2019","US761283AA86",0,0,""]
["ROVI CORP/2.625%/15.2.2040","US779376AB85",0,0,""]
["ROYAL GOLD INC/2.875%/15.06.2019","US780287AA66","B",41124,"2012-08-03"]
["RPM INTL INC/2.25%/15.12.2020","US749685AT01",0,0,""]
["RTI INTERNATIONAL METALS/3%/01.12.2015","US74973WAA53",0,0,""]
["RTI INTL METALS/1.625%/15.10.2019","US74973WAB37",0,0,""]
["RYLAND GROUP/0.25%/01.06.2019","US783764AS21",0,0,""]
["RYLAND GROUP/1.625%/15.05.2018","US783764AQ64",0,0,""]
["SALESFORCE.COM/0.25%/01.04.2018","US79466LAD64","BB+",41359,"2013-03-26"]
["SALESFORCE.COM/0.75%/15.01.2015","US79466LAB09","BB+",41359,"2013-03-26"]
["SALIX PHARMACEUTICALS/1.5%/15.03.2019","US795435AE61","B",41023,"2012-04-24"]
["SALIX PHARMACEUTICALS LT/2.75%/15.05.2015","US795435AC06","B",41023,"2012-04-24"]
["SANDISK CORP/0.5%/15.10.2020","US80004CAF86","BB-",41019,"2012-04-20"]
["SANDISK CORP/1.5%/15.08.2017","US80004CAD39","BB-",41019,"2012-04-20"]
["SANDRIDGE ENERGY/7%/PERP","US80007P8775",0,0,""]
["SEACOR HOLDINGS/2.5%/15.12.2027","US811904AM35",0,0,""]
["SEACOR HOLDINGS/3%/15.11.2028","US81170YAB56",0,0,""]
["SEQUENOM INC/5%/01.10.2017","US817337AB40",0,0,""]
["SERVICENOW INC/0%/01.11.2018","US81762PAB85","CCC",41592,"2013-11-14"]
["SERVICESOURCE/1.5%/01.08.2018","US81763UAB61",0,0,""]
["SHUTTERFLY INC/0.25%/15.05.2018","US82568PAB22","B",41708,"2014-03-10"]
["SILVER STANDARD/2.875%/01.02.2033","US82823LAB27",0,0,""]
["SL GREEN OPERATING PARTN/3%/15.10.2017","US78444FAC05",0,0,""]
["SPANSION LLC/2%/01.09.2020","US84649PAL94",0,0,""]
["SPECTRANETICS/2.625%/01.06.2034","US84760CAA53",0,0,""]
["SPECTRUM PHARMA/2.75%/15.12.2018","US84763AAB44",0,0,""]
["SPIRIT REA/REG/2.875%/15.05.2019","US84860WAA09",0,0,""]
["SPIRIT REA/REG/3.75%/15.05.2021","US84860WAB81",0,0,""]
["STANDARD PACIFIC/1.25%/01.08.2032","US85375CBC47",0,0,{"$f":"IF(D262<>0,D262,\"\")","v":""}]
["STANLEY BL/4.75%/17.11.2015","US8545023090",0,0,""]
["STANLEY BLACK/6.25%/17.11.2016","US8545028040",0,0,""]
["STARWOOD/4.0%/15.01.2019","US85571BAB18","BB",41778,"2014-05-19"]
["STARWOOD PROP TR/3.75%/15.10.2017","US85571BAC90","BB",41778,"2014-05-19"]
["STARWOOD PROP TR/4.55%/01.03.2018","US85571BAA35","BB",41778,"2014-05-19"]
["STILLWATER MINING COMP/1.75%/15.10.2032","US86074QAL68",0,0,""]
["STILLWATER MINING COMP/1.875%/15.03.2028","US86074QAF90",0,0,""]
["STONE ENERGY/1.75%/01.03.2017","US861642AN69",0,0,""]
["SUNEDISON INC/0.25%/15.01.2020","US86732YAE95","CCC",41648,"2014-01-09"]
["SUNEDISON INC/2%/01.10.2018","US86732YAA73","CCC",41648,"2014-01-09"]
["SUNEDISON INC/2.75%/01.01.2021","US86732YAB56","CCC",41648,"2014-01-09"]
["SUNPOWER CORP/144A/0.875%/01.06.2021","US867652AH20","BBB-",41542,"2013-09-25"]
["SUNPOWER CORP/REG/0.75%/01.06.2018","US867652AG47","BBB-",41542,"2013-09-25"]
["SYNCHRONOSS TECH/0.75%/15.08.2019","US87157BAA17",0,0,""]
["TAKE-TWO INTERAC/1%/01.07.2018","US874054AD16","B+",40925,"2012-01-17"]
["TAKE-TWO INTERAC/1.75%/01.12.2016","US874054AC33","B+",40925,"2012-01-17"]
["TELEFLEX INC/3.875%/01.08.2017","US879369AA42",0,0,""]
["TEREX CORP/4%/01.06.2015","US880779AV56",0,0,""]
["TESARO INC/3%/01.10.2021","US881569AA53",0,0,""]
["TESLA MOTORS INC/0.25%/01.03.2019","US88160RAB78",0,0,""]
["TESLA MOTORS INC/1.25%/01.03.2021","US88160RAC51",0,0,""]
["TESLA MOTORS INC/1.5%/01.06.2018","US88160RAA95",0,0,""]
["TIBCO SOFTWARE INC/2.25%/01.05.2032","US88632QAB95","BB-",41170,"2012-09-18"]
["TIVO INC/4%/15.03.2016","US888706AD00",0,0,""]
["T-MOBILE US INC/5.5%/15.12.2017","US8725902030",0,0,""]
["TOLL BROTHERS/0.5%/15.09.2032","US88947EAM21",0,0,""]
["TRINITY IND/3.875%/01.06.2036","US896522AF60",0,0,""]
["TRW AUTOMOTIVE INC/3.5%/01.12.2015","US87264MAH25",0,0,""]
["TTM TECHNOLOGIES/3.25%/15.05.2015","US87305RAC34",0,0,""]
["TWITTER/144A/0.25%/15.09.2019","US90184LAA08",0,0,""]
["TWITTER INC/144A/1%/15.09.2021","US90184LAC63",0,0,""]
["TYSON FOOD/REG/2.375%/15.07.2017","US9024943014","B-",41856,"2014-08-05"]
["UNITED TEC/7.5%/01.08.2015","US9130171179",0,0,""]
["UNITED THERAPEUTICS CORP/1%/15.09.2016","US91307CAF95",0,0,""]
["US STEEL CORP/2.75%/01.04.2019","US912909AH17","B",40854,"2011-11-07"]
["UTI WORLDWIDE/144A/4.5%/01.03.2019","US90349LAA26",0,0,""]
["VECTOR GROUP LTD/1.75%/15.04.2020","US92240MBC10",0,0,""]
["VERINT SYS/REG/1.5%/01.06.2021","US92343XAA81",0,0,""]
["VERISIGN INC/3.25%/15.08.2037","US92343EAD40",0,0,""]
["VOLCANO CORP/1.75%/01.12.2017","US928645AB67","B-",40512,"2010-11-30"]
["WEB.COM GROUP/1%/15.08.2018","US94733AAA25",0,0,""]
["WEBMD HEAL/2.25%/31.03.2016","US94770VAH50","B+",41297,"2013-01-23"]
["WEBMD HEAL/2.5%/31.01.2018","US94770VAF94","B+",41297,"2013-01-23"]
["WEBMD HEALTH/144A/1.5%/01.12.2020","US94770VAK89","B+",41297,"2013-01-23"]
["WELLPOINT INC/2.75%/15.10.2042","US94973VBG14",0,0,""]
["WELLS FARGO CO/7.5%/PERP","US9497468044","BB",41862,"2014-08-11"]
["WEYERHAEUSER CO/6.375%/01.07.2016","US9621668725",0,0,""]
["WORKDAY INC/0.75%/15.07.2018","US98138HAC51","CCC",41589,"2013-11-11"]
["WORKDAY INC/1.5%/15.07.2020","US98138HAD35","CCC",41589,"2013-11-11"]
["WRIGHT MED/2.0%/15.08.2017","US98235TAC18",0,0,""]
["XILINX INC/2.625%/15.06.2017","US983919AF83",0,0,""]
["YAHOO INC/0%/01.12.2018","US984332AF31",0,0,""]
[{"$error":"#N/A"},{"$error":"#N/A"},{"$error":"#N/A"},{"$error":"#N/A"},{"$error":"#N/A"}]
[{"$error":"#N/A"},{"$error":"#N/A"},{"$error":"#N/A"},{"$error":"#N/A"},{"$error":"#N/A"}]
[{"$error":"#N/A"},{"$error":"#N/A"},{"$error":"#N/A"},{"$error":"#N/A"},{"$error":"#N/A"}]
[{"$error":"#N/A"},{"$error":"#N/A"},{"$error":"#N/A"},{"$error":"#N/A"},{"$error":"#N/A"}]
[{"$error":"#N/A"},{"$error":"#N/A"},{"$error":"#N/A"},{"$error":"#N/A"},{"$error":"#N/A"}]
[{"$error":"#N/A"},{"$error":"#N/A"},{"$error":"#N/A"},{"$error":"#N/A"},{"$error":"#N/A"}]
[{"$error":"#N/A"},{"$error":"#N/A"},{"$error":"#N/A"},{"$error":"#N/A"},{"$error":"#N/A"}]
[{"$error":"#N/A"},{"$error":"#N/A"},{"$error":"#N/A"},{"$error":"#N/A"},{"$error":"#N/A"}]
[{"$error":"#N/A"},{"$error":"#N/A"},{"$error":"#N/A"},{"$error":"#N/A"},{"$error":"#N/A"}]
[{"$error":"#N/A"},{"$error":"#N/A"},{"$error":"#N/A"},{"$error":"#N/A"},{"$error":"#N/A"}]
[{"$error":"#N/A"},{"$error":"#N/A"},{"$error":"#N/A"},{"$error":"#N/A"},{"$error":"#N/A"}]
[{"$error":"#N/A"},{"$error":"#N/A"},{"$error":"#N/A"},{"$error":"#N/A"},{"$f":"IF(D326<>0,D326,\"\")","v":{"$error":"#N/A"}}]
[{"$error":"#N/A"},{"$error":"#N/A"},{"$error":"#N/A"},{"$error":"#N/A"},{"$error":"#N/A"}]
[{"$error":"#N/A"},{"$error":"#N/A"},{"$error":"#N/A"},{"$error":"#N/A"},{"$error":"#N/A"}]
[{"$error":"#N/A"},{"$error":"#N/A"},{"$error":"#N/A"},{"$error":"#N/A"},{"$error":"#N/A"}]
[{"$error":"#N/A"},{"$error":"#N/A"},{"$error":"#N/A"},{"$error":"#N/A"},{"$error":"#N/A"}]
[{"$error":"#N/A"},{"$error":"#N/A"},{"$error":"#N/A"},{"$error":"#N/A"},{"$error":"#N/A"}]
[{"$error":"#N/A"},{"$error":"#N/A"},{"$error":"#N/A"},{"$error":"#N/A"},{"$error":"#N/A"}]
[{"$error":"#N/A"},{"$error":"#N/A"},{"$error":"#N/A"},{"$error":"#N/A"},{"$error":"#N/A"}]
[{"$error":"#N/A"},{"$error":"#N/A"},{"$error":"#N/A"},{"$error":"#N/A"},{"$error":"#N/A"}]
[{"$error":"#N/A"},{"$error":"#N/A"},{"$error":"#N/A"},{"$error":"#N/A"},{"$error":"#N/A"}]
[{"$error":"#N/A"},{"$error":"#N/A"},{"$error":"#N/A"},{"$error":"#N/A"},{"$error":"#N/A"}]
[{"$error":"#N/A"},{"$error":"#N/A"},{"$error":"#N/A"},{"$error":"#N/A"},{"$error":"#N/A"}]
[{"$error":"#N/A"},{"$error":"#N/A"},{"$error":"#N/A"},{"$error":"#N/A"},{"$error":"#N/A"}]
[{"$error":"#N/A"},{"$error":"#N/A"},{"$error":"#N/A"},{"$error":"#N/A"},{"$error":"#N/A"}]
[{"$error":"#N/A"},{"$error":"#N/A"},{"$error":"#N/A"},{"$error":"#N/A"},{"$error":"#N/A"}]
[{"$error":"#N/A"},{"$error":"#N/A"},{"$error":"#N/A"},{"$error":"#N/A"},{"$error":"#N/A"}]
[{"$error":"#N/A"},{"$error":"#N/A"},{"$error":"#N/A"},{"$error":"#N/A"},{"$error":"#N/A"}]
[{"$error":"#N/A"},{"$error":"#N/A"},{"$error":"#N/A"},{"$error":"#N/A"},{"$error":"#N/A"}]
[{"$error":"#N/A"},{"$error":"#N/A"},{"$error":"#N/A"},{"$error":"#N/A"},{"$error":"#N/A"}]
[{"$error":"#N/A"},{"$error":"#N/A"},{"$error":"#N/A"},{"$error":"#N/A"},{"$error":"#N/A"}]
[{"$error":"#N/A"},{"$error":"#N/A"},{"$error":"#N/A"},{"$error":"#N/A"},{"$error":"#N/A"}]
[{"$error":"#N/A"},{"$error":"#N/A"},{"$error":"#N/A"},{"$error":"#N/A"},{"$error":"#N/A"}]
[{"$error":"#N/A"},{"$error":"#N/A"},{"$error":"#N/A"},{"$error":"#N/A"},{"$error":"#N/A"}]
[{"$error":"#N/A"},{"$error":"#N/A"},{"$error":"#N/A"},{"$error":"#N/A"},{"$error":"#N/A"}]
[{"$error":"#N/A"},{"$error":"#N/A"},{"$error":"#N/A"},{"$error":"#N/A"},{"$error":"#N/A"}]
[{"$error":"#N/A"},{"$error":"#N/A"},{"$error":"#N/A"},{"$error":"#N/A"},{"$error":"#N/A"}]
[{"$error":"#N/A"},{"$error":"#N/A"},{"$error":"#N/A"},{"$error":"#N/A"},{"$error":"#N/A"}]
[{"$error":"#N/A"},{"$error":"#N/A"},{"$error":"#N/A"},{"$error":"#N/A"},{"$error":"#N/A"}]
[{"$error":"#N/A"},{"$error":"#N/A"},{"$error":"#N/A"},{"$error":"#N/A"},{"$error":"#N/A"}]
[{"$error":"#N/A"},{"$error":"#N/A"},{"$error":"#N/A"},{"$error":"#N/A"},{"$error":"#N/A"}]
[{"$error":"#N/A"},{"$error":"#N/A"},{"$error":"#N/A"},{"$error":"#N/A"},{"$error":"#N/A"}]
[{"$error":"#N/A"},{"$error":"#N/A"},{"$error":"#N/A"},{"$error":"#N/A"},{"$error":"#N/A"}]
[{"$error":"#N/A"},{"$error":"#N/A"},{"$error":"#N/A"},{"$error":"#N/A"},{"$error":"#N/A"}]
[{"$error":"#N/A"},{"$error":"#N/A"},{"$error":"#N/A"},{"$error":"#N/A"},{"$error":"#N/A"}]
[{"$error":"#N/A"},{"$error":"#N/A"},{"$error":"#N/A"},{"$error":"#N/A"},{"$error":"#N/A"}]
[{"$error":"#N/A"},{"$error":"#N/A"},{"$error":"#N/A"},{"$error":"#N/A"},{"$error":"#N/A"}]
[{"$error":"#N/A"},{"$error":"#N/A"},{"$error":"#N/A"},{"$error":"#N/A"},{"$error":"#N/A"}]
[{"$error":"#N/A"},{"$error":"#N/A"},{"$error":"#N/A"},{"$error":"#N/A"},{"$error":"#N/A"}]
[{"$error":"#N/A"},{"$error":"#N/A"},{"$error":"#N/A"},{"$error":"#N/A"},{"$error":"#N/A"}]
[{"$error":"#N/A"},{"$error":"#N/A"},{"$error":"#N/A"},{"$error":"#N/A"},{"$error":"#N/A"}]
[{"$error":"#N/A"},{"$error":"#N/A"},{"$error":"#N/A"},{"$error":"#N/A"},{"$error":"#N/A"}]
[{"$error":"#N/A"},{"$error":"#N/A"},{"$error":"#N/A"},{"$error":"#N/A"},{"$error":"#N/A"}]
[{"$error":"#N/A"},{"$error":"#N/A"},{"$error":"#N/A"},{"$error":"#N/A"},{"$error":"#N/A"}]
[{"$error":"#N/A"},{"$error":"#N/A"},{"$error":"#N/A"},{"$error":"#N/A"},{"$error":"#N/A"}]
[{"$error":"#N/A"},{"$error":"#N/A"},{"$error":"#N/A"},{"$error":"#N/A"},{"$error":"#N/A"}]
[{"$error":"#N/A"},{"$error":"#N/A"},{"$error":"#N/A"},{"$error":"#N/A"},{"$error":"#N/A"}]
[{"$error":"#N/A"},{"$error":"#N/A"},{"$error":"#N/A"},{"$error":"#N/A"},{"$error":"#N/A"}]
[{"$error":"#N/A"},{"$error":"#N/A"},{"$error":"#N/A"},{"$error":"#N/A"},{"$error":"#N/A"}]
[{"$error":"#N/A"},{"$error":"#N/A"},{"$error":"#N/A"},{"$error":"#N/A"},{"$error":"#N/A"}]
[{"$error":"#N/A"},{"$error":"#N/A"},{"$error":"#N/A"},{"$error":"#N/A"},{"$error":"#N/A"}]
[{"$error":"#N/A"},{"$error":"#N/A"},{"$error":"#N/A"},{"$error":"#N/A"},{"$error":"#N/A"}]
[{"$error":"#N/A"},{"$error":"#N/A"},{"$error":"#N/A"},{"$error":"#N/A"},{"$error":"#N/A"}]
[{"$error":"#N/A"},{"$error":"#N/A"},{"$error":"#N/A"},{"$error":"#N/A"},{"$error":"#N/A"}]
[{"$error":"#N/A"},{"$error":"#N/A"},{"$error":"#N/A"},{"$error":"#N/A"},{"$error":"#N/A"}]
[{"$error":"#N/A"},{"$error":"#N/A"},{"$error":"#N/A"},{"$error":"#N/A"},{"$error":"#N/A"}]
[{"$error":"#N/A"},{"$error":"#N/A"},{"$error":"#N/A"},{"$error":"#N/A"},{"$error":"#N/A"}]
[{"$error":"#N/A"},{"$error":"#N/A"},{"$error":"#N/A"},{"$error":"#N/A"},{"$error":"#N/A"}]
[{"$error":"#N/A"},{"$error":"#N/A"},{"$error":"#N/A"},{"$error":"#N/A"},{"$error":"#N/A"}]
[{"$error":"#N/A"},{"$error":"#N/A"},{"$error":"#N/A"},{"$error":"#N/A"},{"$error":"#N/A"}]
[{"$error":"#N/A"},{"$error":"#N/A"},{"$error":"#N/A"},{"$error":"#N/A"},{"$error":"#N/A"}]
[{"$error":"#N/A"},{"$error":"#N/A"},{"$error":"#N/A"},{"$error":"#N/A"},{"$error":"#N/A"}]
[{"$error":"#N/A"},{"$error":"#N/A"},{"$error":"#N/A"},{"$error":"#N/A"},{"$error":"#N/A"}]
[{"$error":"#N/A"},{"$error":"#N/A"},{"$error":"#N/A"},{"$error":"#N/A"},{"$error":"#N/A"}]
[{"$error":"#N/A"},{"$error":"#N/A"},{"$error":"#N/A"},{"$error":"#N/A"},{"$error":"#N/A"}]
[{"$error":"#N/A"},{"$error":"#N/A"},{"$error":"#N/A"},{"$error":"#N/A"},{"$f":"IF(D390<>0,D390,\"\")","v":{"$error":"#N/A"}}]
[{"$error":"#N/A"},{"$error":"#N/A"},{"$error":"#N/A"},{"$error":"#N/A"},{"$error":"#N/A"}]
[{"$error":"#N/A"},{"$error":"#N/A"},{"$error":"#N/A"},{"$error":"#N/A"},{"$error":"#N/A"}]
[{"$error":"#N/A"},{"$error":"#N/A"},{"$error":"#N/A"},{"$error":"#N/A"},{"$error":"#N/A"}]
[{"$error":"#N/A"},{"$error":"#N/A"},{"$error":"#N/A"},{"$error":"#N/A"},{"$error":"#N/A"}]
[{"$error":"#N/A"},{"$error":"#N/A"},{"$error":"#N/A"},{"$error":"#N/A"},{"$error":"#N/A"}]
[{"$error":"#N/A"},{"$error":"#N/A"},{"$error":"#N/A"},{"$error":"#N/A"},{"$error":"#N/A"}]
[{"$error":"#N/A"},{"$error":"#N/A"},{"$error":"#N/A"},{"$error":"#N/A"},{"$error":"#N/A"}]
[{"$error":"#N/A"},{"$error":"#N/A"},{"$error":"#N/A"},{"$error":"#N/A"},{"$error":"#N/A"}]
[{"$error":"#N/A"},{"$error":"#N/A"},{"$error":"#N/A"},{"$error":"#N/A"},{"$error":"#N/A"}]
[{"$error":"#N/A"},{"$error":"#N/A"},{"$error":"#N/A"},{"$error":"#N/A"},{"$error":"#N/A"}]
[{"$error":"#N/A"},{"$error":"#N/A"},{"$error":"#N/A"},{"$error":"#N/A"},{"$error":"#N/A"}]
[{"$error":"#N/A"},{"$error":"#N/A"},{"$error":"#N/A"},{"$error":"#N/A"},{"$error":"#N/A"}]
[{"$error":"#N/A"},{"$error":"#N/A"},{"$error":"#N/A"},{"$error":"#N/A"},{"$error":"#N/A"}]
[{"$error":"#N/A"},{"$error":"#N/A"},{"$error":"#N/A"},{"$error":"#N/A"},{"$error":"#N/A"}]
[{"$error":"#N/A"},{"$error":"#N/A"},{"$error":"#N/A"},{"$error":"#N/A"},{"$error":"#N/A"}]
[{"$error":"#N/A"},{"$error":"#N/A"},{"$error":"#N/A"},{"$error":"#N/A"},{"$error":"#N/A"}]
[{"$error":"#N/A"},{"$error":"#N/A"},{"$error":"#N/A"},{"$error":"#N/A"},{"$error":"#N/A"}]
[{"$error":"#N/A"},{"$error":"#N/A"},{"$error":"#N/A"},{"$error":"#N/A"},{"$error":"#N/A"}]
[{"$error":"#N/A"},{"$error":"#N/A"},{"$error":"#N/A"},{"$error":"#N/A"},{"$error":"#N/A"}]
[{"$error":"#N/A"},{"$error":"#N/A"},{"$error":"#N/A"},{"$error":"#N/A"},{"$error":"#N/A"}]
[{"$error":"#N/A"},{"$error":"#N/A"},{"$error":"#N/A"},{"$error":"#N/A"},{"$error":"#N/A"}]
[{"$error":"#N/A"},{"$error":"#N/A"},{"$error":"#N/A"},{"$error":"#N/A"},{"$error":"#N/A"}]
[{"$error":"#N/A"},{"$error":"#N/A"},{"$error":"#N/A"},{"$error":"#N/A"},{"$error":"#N/A"}]
[{"$error":"#N/A"},{"$error":"#N/A"},{"$error":"#N/A"},{"$error":"#N/A"},{"$error":"#N/A"}]
[{"$error":"#N/A"},{"$error":"#N/A"},{"$error":"#N/A"},{"$error":"#N/A"},{"$error":"#N/A"}]
[{"$error":"#N/A"},{"$error":"#N/A"},{"$error":"#N/A"},{"$error":"#N/A"},{"$error":"#N/A"}]
[{"$error":"#N/A"},{"$error":"#N/A"},{"$error":"#N/A"},{"$error":"#N/A"},{"$error":"#N/A"}]
[{"$error":"#N/A"},{"$error":"#N/A"},{"$error":"#N/A"},{"$error":"#N/A"},{"$error":"#N/A"}]
[{"$error":"#N/A"},{"$error":"#N/A"},{"$error":"#N/A"},{"$error":"#N/A"},{"$error":"#N/A"}]
[{"$error":"#N/A"},{"$error":"#N/A"},{"$error":"#N/A"},{"$error":"#N/A"},{"$error":"#N/A"}]
[{"$error":"#N/A"},{"$error":"#N/A"},{"$error":"#N/A"},{"$error":"#N/A"},{"$error":"#N/A"}]
[{"$error":"#N/A"},{"$error":"#N/A"},{"$error":"#N/A"},{"$error":"#N/A"},{"$error":"#N/A"}]
[{"$error":"#N/A"},{"$error":"#N/A"},{"$error":"#N/A"},{"$error":"#N/A"},{"$error":"#N/A"}]
[{"$error":"#N/A"},{"$error":"#N/A"},{"$error":"#N/A"},{"$error":"#N/A"},{"$error":"#N/A"}]
[{"$error":"#N/A"},{"$error":"#N/A"},{"$error":"#N/A"},{"$error":"#N/A"},{"$error":"#N/A"}]
[{"$error":"#N/A"},{"$error":"#N/A"},{"$error":"#N/A"},{"$error":"#N/A"},{"$error":"#N/A"}]
[{"$error":"#N/A"},{"$error":"#N/A"},{"$error":"#N/A"},{"$error":"#N/A"},{"$error":"#N/A"}]
[{"$error":"#N/A"},{"$error":"#N/A"},{"$error":"#N/A"},{"$error":"#N/A"},{"$error":"#N/A"}]
[{"$error":"#N/A"},{"$error":"#N/A"},{"$error":"#N/A"},{"$error":"#N/A"},{"$error":"#N/A"}]
[{"$error":"#N/A"},{"$error":"#N/A"},{"$error":"#N/A"},{"$error":"#N/A"},{"$error":"#N/A"}]
[{"$error":"#N/A"},{"$error":"#N/A"},{"$error":"#N/A"},{"$error":"#N/A"},{"$error":"#N/A"}]
[{"$error":"#N/A"},{"$error":"#N/A"},{"$error":"#N/A"},{"$error":"#N/A"},{"$error":"#N/A"}]
[{"$error":"#N/A"},{"$error":"#N/A"},{"$error":"#N/A"},{"$error":"#N/A"},{"$error":"#N/A"}]
[{"$error":"#N/A"},{"$error":"#N/A"},{"$error":"#N/A"},{"$error":"#N/A"},{"$error":"#N/A"}]
[{"$error":"#N/A"},{"$error":"#N/A"},{"$error":"#N/A"},{"$error":"#N/A"},{"$error":"#N/A"}]
[{"$error":"#N/A"},{"$error":"#N/A"},{"$error":"#N/A"},{"$error":"#N/A"},{"$error":"#N/A"}]
[{"$error":"#N/A"},{"$error":"#N/A"},{"$error":"#N/A"},{"$error":"#N/A"},{"$error":"#N/A"}]
[{"$error":"#N/A"},{"$error":"#N/A"},{"$error":"#N/A"},{"$error":"#N/A"},{"$error":"#N/A"}]
[{"$error":"#N/A"},{"$error":"#N/A"},{"$error":"#N/A"},{"$error":"#N/A"},{"$error":"#N/A"}]
[{"$error":"#N/A"},{"$error":"#N/A"},{"$error":"#N/A"},{"$error":"#N/A"},{"$error":"#N/A"}]
[{"$error":"#N/A"},{"$error":"#N/A"},{"$error":"#N/A"},{"$error":"#N/A"},{"$error":"#N/A"}]
[{"$error":"#N/A"},{"$error":"#N/A"},{"$error":"#N/A"},{"$error":"#N/A"},{"$error":"#N/A"}]
[{"$error":"#N/A"},{"$error":"#N/A"},{"$error":"#N/A"},{"$error":"#N/A"},{"$error":"#N/A"}]
[{"$error":"#N/A"},{"$error":"#N/A"},{"$error":"#N/A"},{"$error":"#N/A"},{"$error":"#N/A"}]
[{"$error":"#N/A"},{"$error":"#N/A"},{"$error":"#N/A"},{"$error":"#N/A"},{"$error":"#N/A"}]
[{"$error":"#N/A"},{"$error":"#N/A"},{"$error":"#N/A"},{"$error":"#N/A"},{"$error":"#N/A"}]
[{"$error":"#N/A"},{"$error":"#N/A"},{"$error":"#N/A"},{"$error":"#N/A"},{"$error":"#N/A"}]
[{"$error":"#N/A"},{"$error":"#N/A"},{"$error":"#N/A"},{"$error":"#N/A"},{"$error":"#N/A"}]
[{"$error":"#N/A"},{"$error":"#N/A"},{"$error":"#N/A"},{"$error":"#N/A"},{"$error":"#N/A"}]
[{"$error":"#N/A"},{"$error":"#N/A"},{"$error":"#N/A"},{"$error":"#N/A"},{"$error":"#N/A"}]
[{"$error":"#N/A"},{"$error":"#N/A"},{"$error":"#N/A"},{"$error":"#N/A"},{"$error":"#N/A"}]
[{"$error":"#N/A"},{"$error":"#N/A"},{"$error":"#N/A"},{"$error":"#N/A"},{"$error":"#N/A"}]
[{"$error":"#N/A"},{"$error":"#N/A"},{"$error":"#N/A"},{"$error":"#N/A"},{"$error":"#N/A"}]
[{"$error":"#N/A"},{"$error":"#N/A"},{"$error":"#N/A"},{"$error":"#N/A"},{"$f":"IF(D454<>0,D454,\"\")","v":{"$error":"#N/A"}}]
[{"$error":"#N/A"},{"$error":"#N/A"},{"$error":"#N/A"},{"$error":"#N/A"},{"$error":"#N/A"}]
[{"$error":"#N/A"},{"$error":"#N/A"},{"$error":"#N/A"},{"$error":"#N/A"},{"$error":"#N/A"}]
[{"$error":"#N/A"},{"$error":"#N/A"},{"$error":"#N/A"},{"$error":"#N/A"},{"$error":"#N/A"}]
[{"$error":"#N/A"},{"$error":"#N/A"},{"$error":"#N/A"},{"$error":"#N/A"},{"$error":"#N/A"}]
[{"$error":"#N/A"},{"$error":"#N/A"},{"$error":"#N/A"},{"$error":"#N/A"},{"$error":"#N/A"}]
[{"$error":"#N/A"},{"$error":"#N/A"},{"$error":"#N/A"},{"$error":"#N/A"},{"$error":"#N/A"}]
[{"$error":"#N/A"},{"$error":"#N/A"},{"$error":"#N/A"},{"$error":"#N/A"},{"$error":"#N/A"}]
[{"$error":"#N/A"},{"$error":"#N/A"},{"$error":"#N/A"},{"$error":"#N/A"},{"$error":"#N/A"}]
[{"$error":"#N/A"},{"$error":"#N/A"},{"$error":"#N/A"},{"$error":"#N/A"},{"$error":"#N/A"}]
[{"$error":"#N/A"},{"$error":"#N/A"},{"$error":"#N/A"},{"$error":"#N/A"},{"$error":"#N/A"}]
[{"$error":"#N/A"},{"$error":"#N/A"},{"$error":"#N/A"},{"$error":"#N/A"},{"$error":"#N/A"}]
[{"$error":"#N/A"},{"$error":"#N/A"},{"$error":"#N/A"},{"$error":"#N/A"},{"$error":"#N/A"}]
[{"$error":"#N/A"},{"$error":"#N/A"},{"$error":"#N/A"},{"$error":"#N/A"},{"$error":"#N/A"}]
[{"$error":"#N/A"},{"$error":"#N/A"},{"$error":"#N/A"},{"$error":"#N/A"},{"$error":"#N/A"}]
[{"$error":"#N/A"},{"$error":"#N/A"},{"$error":"#N/A"},{"$error":"#N/A"},{"$error":"#N/A"}]
[{"$error":"#N/A"},{"$error":"#N/A"},{"$error":"#N/A"},{"$error":"#N/A"},{"$error":"#N/A"}]
[{"$error":"#N/A"},{"$error":"#N/A"},{"$error":"#N/A"},{"$error":"#N/A"},{"$error":"#N/A"}]
[{"$error":"#N/A"},{"$error":"#N/A"},{"$error":"#N/A"},{"$error":"#N/A"},{"$error":"#N/A"}]
[{"$error":"#N/A"},{"$error":"#N/A"},{"$error":"#N/A"},{"$error":"#N/A"},{"$error":"#N/A"}]
[{"$error":"#N/A"},{"$error":"#N/A"},{"$error":"#N/A"},{"$error":"#N/A"},{"$error":"#N/A"}]
[{"$error":"#N/A"},{"$error":"#N/A"},{"$error":"#N/A"},{"$error":"#N/A"},{"$error":"#N/A"}]
[{"$error":"#N/A"},{"$error":"#N/A"},{"$error":"#N/A"},{"$error":"#N/A"},{"$error":"#N/A"}]
[{"$error":"#N/A"},{"$error":"#N/A"},{"$error":"#N/A"},{"$error":"#N/A"},{"$error":"#N/A"}]
[{"$error":"#N/A"},{"$error":"#N/A"},{"$error":"#N/A"},{"$error":"#N/A"},{"$error":"#N/A"}]
[{"$error":"#N/A"},{"$error":"#N/A"},{"$error":"#N/A"},{"$error":"#N/A"},{"$error":"#N/A"}]
[{"$error":"#N/A"},{"$error":"#N/A"},{"$error":"#N/A"},{"$error":"#N/A"},{"$error":"#N/A"}]
[{"$error":"#N/A"},{"$error":"#N/A"},{"$error":"#N/A"},{"$error":"#N/A"},{"$error":"#N/A"}]
[{"$error":"#N/A"},{"$error":"#N/A"},{"$error":"#N/A"},{"$error":"#N/A"},{"$error":"#N/A"}]
[{"$error":"#N/A"},{"$error":"#N/A"},{"$error":"#N/A"},{"$error":"#N/A"},{"$error":"#N/A"}]
[{"$error":"#N/A"},{"$error":"#N/A"},{"$error":"#N/A"},{"$error":"#N/A"},{"$error":"#N/A"}]
[{"$error":"#N/A"},{"$error":"#N/A"},{"$error":"#N/A"},{"$error":"#N/A"},{"$error":"#N/A"}]
[{"$error":"#N/A"},{"$error":"#N/A"},{"$error":"#N/A"},{"$error":"#N/A"},{"$error":"#N/A"}]
[{"$error":"#N/A"},{"$error":"#N/A"},{"$error":"#N/A"},{"$error":"#N/A"},{"$error":"#N/A"}]
[{"$error":"#N/A"},{"$error":"#N/A"},{"$error":"#N/A"},{"$error":"#N/A"},{"$error":"#N/A"}]
[{"$error":"#N/A"},{"$error":"#N/A"},{"$error":"#N/A"},{"$error":"#N/A"},{"$error":"#N/A"}]
[{"$error":"#N/A"},{"$error":"#N/A"},{"$error":"#N/A"},{"$error":"#N/A"},{"$error":"#N/A"}]
[{"$error":"#N/A"},{"$error":"#N/A"},{"$error":"#N/A"},{"$error":"#N/A"},{"$error":"#N/A"}]
[{"$error":"#N/A"},{"$error":"#N/A"},{"$error":"#N/A"},{"$error":"#N/A"},{"$error":"#N/A"}]
[{"$error":"#N/A"},{"$error":"#N/A"},{"$error":"#N/A"},{"$error":"#N/A"},{"$error":"#N/A"}]
[{"$error":"#N/A"},{"$error":"#N/A"},{"$error":"#N/A"},{"$error":"#N/A"},{"$error":"#N/A"}]
[{"$error":"#N/A"},{"$error":"#N/A"},{"$error":"#N/A"},{"$error":"#N/A"},{"$error":"#N/A"}]
[{"$error":"#N/A"},{"$error":"#N/A"},{"$error":"#N/A"},{"$error":"#N/A"},{"$error":"#N/A"}]
[{"$error":"#N/A"},{"$error":"#N/A"},{"$error":"#N/A"},{"$error":"#N/A"},{"$error":"#N/A"}]
[{"$error":"#N/A"},{"$error":"#N/A"},{"$error":"#N/A"},{"$error":"#N/A"},{"$error":"#N/A"}]
[{"$error":"#N/A"},{"$error":"#N/A"},{"$error":"#N/A"},{"$error":"#N/A"},{"$error":"#N/A"}]
[{"$error":"#N/A"},{"$error":"#N/A"},{"$error":"#N/A"},{"$error":"#N/A"},{"$error":"#N/A"}]
[{"$error":"#N/A"},{"$error":"#N/A"},{"$error":"#N/A"},{"$error":"#N/A"},{"$error":"#N/A"}]
[{"$error":"#N/A"},{"$error":"#N/A"},{"$error":"#N/A"},{"$error":"#N/A"},{"$error":"#N/A"}]
[{"$error":"#N/A"},{"$error":"#N/A"},{"$error":"#N/A"},{"$error":"#N/A"},{"$error":"#N/A"}]
[{"$error":"#N/A"},{"$error":"#N/A"},{"$error":"#N/A"},{"$error":"#N/A"},{"$error":"#N/A"}]
[{"$error":"#N/A"},{"$error":"#N/A"},{"$error":"#N/A"},{"$error":"#N/A"},{"$error":"#N/A"}]
[{"$error":"#N/A"},{"$error":"#N/A"},{"$error":"#N/A"},{"$error":"#N/A"},{"$error":"#N/A"}]
[{"$error":"#N/A"},{"$error":"#N/A"},{"$error":"#N/A"},{"$error":"#N/A"},{"$error":"#N/A"}]
[{"$error":"#N/A"},{"$error":"#N/A"},{"$error":"#N/A"},{"$error":"#N/A"},{"$error":"#N/A"}]
[{"$error":"#N/A"},{"$error":"#N/A"},{"$error":"#N/A"},{"$error":"#N/A"},{"$error":"#N/A"}]
[{"$error":"#N/A"},{"$error":"#N/A"},{"$error":"#N/A"},{"$error":"#N/A"},{"$error":"#N/A"}]
[{"$error":"#N/A"},{"$error":"#N/A"},{"$error":"#N/A"},{"$error":"#N/A"},{"$error":"#N/A"}]
[{"$error":"#N/A"},{"$error":"#N/A"},{"$error":"#N/A"},{"$error":"#N/A"},{"$error":"#N/A"}]
[{"$error":"#N/A"},{"$error":"#N/A"},{"$error":"#N/A"},{"$error":"#N/A"},{"$error":"#N/A"}]
[{"$error":"#N/A"},{"$error":"#N/A"},{"$error":"#N/A"},{"$error":"#N/A"},{"$error":"#N/A"}]
[{"$error":"#N/A"},{"$error":"#N/A"},{"$error":"#N/A"},{"$error":"#N/A"},{"$error":"#N/A"}]
[{"$error":"#N/A"},{"$error":"#N/A"},{"$error":"#N/A"},{"$error":"#N/A"},{"$error":"#N/A"}]
[{"$error":"#N/A"},{"$error":"#N/A"},{"$error":"#N/A"},{"$error":"#N/A"},{"$error":"#N/A"}]
[{"$error":"#N/A"},{"$error":"#N/A"},{"$error":"#N/A"},{"$error":"#N/A"},{"$f":"IF(D518<>0,D518,\"\")","v":{"$error":"#N/A"}}]
[{"$error":"#N/A"},{"$error":"#N/A"},{"$error":"#N/A"},{"$error":"#N/A"},{"$error":"#N/A"}]
[{"$error":"#N/A"},{"$error":"#N/A"},{"$error":"#N/A"},{"$error":"#N/A"},{"$error":"#N/A"}]
[{"$error":"#N/A"},{"$error":"#N/A"},{"$error":"#N/A"},{"$error":"#N/A"},{"$error":"#N/A"}]
[{"$error":"#N/A"},{"$error":"#N/A"},{"$error":"#N/A"},{"$error":"#N/A"},{"$error":"#N/A"}]
[{"$error":"#N/A"},{"$error":"#N/A"},{"$error":"#N/A"},{"$error":"#N/A"},{"$error":"#N/A"}]
[{"$error":"#N/A"},{"$error":"#N/A"},{"$error":"#N/A"},{"$error":"#N/A"},{"$error":"#N/A"}]
[{"$error":"#N/A"},{"$error":"#N/A"},{"$error":"#N/A"},{"$error":"#N/A"},{"$error":"#N/A"}]
[{"$error":"#N/A"},{"$error":"#N/A"},{"$error":"#N/A"},{"$error":"#N/A"},{"$error":"#N/A"}]
[{"$error":"#N/A"},{"$error":"#N/A"},{"$error":"#N/A"},{"$error":"#N/A"},{"$error":"#N/A"}]
[{"$error":"#N/A"},{"$error":"#N/A"},{"$error":"#N/A"},{"$error":"#N/A"},{"$error":"#N/A"}]
[{"$error":"#N/A"},{"$error":"#N/A"},{"$error":"#N/A"},{"$error":"#N/A"},{"$error":"#N/A"}]
[{"$error":"#N/A"},{"$error":"#N/A"},{"$error":"#N/A"},{"$error":"#N/A"},{"$error":"#N/A"}]
[{"$error":"#N/A"},{"$error":"#N/A"},{"$error":"#N/A"},{"$error":"#N/A"},{"$error":"#N/A"}]
[{"$error":"#N/A"},{"$error":"#N/A"},{"$error":"#N/A"},{"$error":"#N/A"},{"$error":"#N/A"}]
[{"$error":"#N/A"},{"$error":"#N/A"},{"$error":"#N/A"},{"$error":"#N/A"},{"$error":"#N/A"}]
[{"$error":"#N/A"},{"$error":"#N/A"},{"$error":"#N/A"},{"$error":"#N/A"},{"$error":"#N/A"}]
[{"$error":"#N/A"},{"$error":"#N/A"},{"$error":"#N/A"},{"$error":"#N/A"},{"$error":"#N/A"}]
[{"$error":"#N/A"},{"$error":"#N/A"},{"$error":"#N/A"},{"$error":"#N/A"},{"$error":"#N/A"}]
[{"$error":"#N/A"},{"$error":"#N/A"},{"$error":"#N/A"},{"$error":"#N/A"},{"$error":"#N/A"}]
[{"$error":"#N/A"},{"$error":"#N/A"},{"$error":"#N/A"},{"$error":"#N/A"},{"$error":"#N/A"}]
[{"$error":"#N/A"},{"$error":"#N/A"},{"$error":"#N/A"},{"$error":"#N/A"},{"$error":"#N/A"}]
[{"$error":"#N/A"},{"$error":"#N/A"},{"$error":"#N/A"},{"$error":"#N/A"},{"$error":"#N/A"}]
[{"$error":"#N/A"},{"$error":"#N/A"},{"$error":"#N/A"},{"$error":"#N/A"},{"$error":"#N/A"}]
[{"$error":"#N/A"},{"$error":"#N/A"},{"$error":"#N/A"},{"$error":"#N/A"},{"$error":"#N/A"}]
[{"$error":"#N/A"},{"$error":"#N/A"},{"$error":"#N/A"},{"$error":"#N/A"},{"$error":"#N/A"}]
[{"$error":"#N/A"},{"$error":"#N/A"},{"$error":"#N/A"},{"$error":"#N/A"},{"$error":"#N/A"}]
[{"$error":"#N/A"},{"$error":"#N/A"},{"$error":"#N/A"},{"$error":"#N/A"},{"$error":"#N/A"}]
[{"$error":"#N/A"},{"$error":"#N/A"},{"$error":"#N/A"},{"$error":"#N/A"},{"$error":"#N/A"}]
[{"$error":"#N/A"},{"$error":"#N/A"},{"$error":"#N/A"},{"$error":"#N/A"},{"$error":"#N/A"}]
[{"$error":"#N/A"},{"$error":"#N/A"},{"$error":"#N/A"},{"$error":"#N/A"},{"$error":"#N/A"}]
[{"$error":"#N/A"},{"$error":"#N/A"},{"$error":"#N/A"},{"$error":"#N/A"},{"$error":"#N/A"}]
[{"$error":"#N/A"},{"$error":"#N/A"},{"$error":"#N/A"},{"$error":"#N/A"},{"$error":"#N/A"}]
[{"$error":"#N/A"},{"$error":"#N/A"},{"$error":"#N/A"},{"$error":"#N/A"},{"$error":"#N/A"}]
[{"$error":"#N/A"},{"$error":"#N/A"},{"$error":"#N/A"},{"$error":"#N/A"},{"$error":"#N/A"}]
[{"$error":"#N/A"},{"$error":"#N/A"},{"$error":"#N/A"},{"$error":"#N/A"},{"$error":"#N/A"}]
[{"$error":"#N/A"},{"$error":"#N/A"},{"$error":"#N/A"},{"$error":"#N/A"},{"$error":"#N/A"}]
[{"$error":"#N/A"},{"$error":"#N/A"},{"$error":"#N/A"},{"$error":"#N/A"},{"$error":"#N/A"}]
[{"$error":"#N/A"},{"$error":"#N/A"},{"$error":"#N/A"},{"$error":"#N/A"},{"$error":"#N/A"}]
[{"$error":"#N/A"},{"$error":"#N/A"},{"$error":"#N/A"},{"$error":"#N/A"},{"$error":"#N/A"}]
[{"$error":"#N/A"},{"$error":"#N/A"},{"$error":"#N/A"},{"$error":"#N/A"},{"$error":"#N/A"}]
[{"$error":"#N/A"},{"$error":"#N/A"},{"$error":"#N/A"},{"$error":"#N/A"},{"$error":"#N/A"}]
[{"$error":"#N/A"},{"$error":"#N/A"},{"$error":"#N/A"},{"$error":"#N/A"},{"$error":"#N/A"}]
[{"$error":"#N/A"},{"$error":"#N/A"},{"$error":"#N/A"},{"$error":"#N/A"},{"$error":"#N/A"}]
[{"$error":"#N/A"},{"$error":"#N/A"},{"$error":"#N/A"},{"$error":"#N/A"},{"$error":"#N/A"}]
[{"$error":"#N/A"},{"$error":"#N/A"},{"$error":"#N/A"},{"$error":"#N/A"},{"$error":"#N/A"}]
[{"$error":"#N/A"},{"$error":"#N/A"},{"$error":"#N/A"},{"$error":"#N/A"},{"$error":"#N/A"}]
[{"$error":"#N/A"},{"$error":"#N/A"},{"$error":"#N/A"},{"$error":"#N/A"},{"$error":"#N/A"}]
[{"$error":"#N/A"},{"$error":"#N/A"},{"$error":"#N/A"},{"$error":"#N/A"},{"$error":"#N/A"}]
[{"$error":"#N/A"},{"$error":"#N/A"},{"$error":"#N/A"},{"$error":"#N/A"},{"$error":"#N/A"}]
[{"$error":"#N/A"},{"$error":"#N/A"},{"$error":"#N/A"},{"$error":"#N/A"},{"$error":"#N/A"}]
[{"$error":"#N/A"},{"$error":"#N/A"},{"$error":"#N/A"},{"$error":"#N/A"},{"$error":"#N/A"}]
[{"$error":"#N/A"},{"$error":"#N/A"},{"$error":"#N/A"},{"$error":"#N/A"},{"$error":"#N/A"}]
[{"$error":"#N/A"},{"$error":"#N/A"},{"$error":"#N/A"},{"$error":"#N/A"},{"$error":"#N/A"}]
[{"$error":"#N/A"},{"$error":"#N/A"},{"$error":"#N/A"},{"$error":"#N/A"},{"$error":"#N/A"}]
[{"$error":"#N/A"},{"$error":"#N/A"},{"$error":"#N/A"},{"$error":"#N/A"},{"$error":"#N/A"}]
[{"$error":"#N/A"},{"$error":"#N/A"},{"$error":"#N/A"},{"$error":"#N/A"},{"$error":"#N/A"}]
[{"$error":"#N/A"},{"$error":"#N/A"},{"$error":"#N/A"},{"$error":"#N/A"},{"$error":"#N/A"}]
[{"$error":"#N/A"},{"$error":"#N/A"},{"$error":"#N/A"},{"$error":"#N/A"},{"$error":"#N/A"}]
[{"$error":"#N/A"},{"$error":"#N/A"},{"$error":"#N/A"},{"$error":"#N/A"},{"$error":"#N/A"}]
[{"$error":"#N/A"},{"$error":"#N/A"},{"$error":"#N/A"},{"$error":"#N/A"},{"$error":"#N/A"}]
[{"$error":"#N/A"},{"$error":"#N/A"},{"$error":"#N/A"},{"$error":"#N/A"},{"$error":"#N/A"}]
[{"$error":"#N/A"},{"$error":"#N/A"},{"$error":"#N/A"},{"$error":"#N/A"},{"$error":"#N/A"}]
[{"$error":"#N/A"},{"$error":"#N/A"},{"$error":"#N/A"},{"$error":"#N/A"},{"$error":"#N/A"}]
[{"$error":"#N/A"},{"$error":"#N/A"},{"$error":"#N/A"},{"$error":"#N/A"},{"$f":"IF(D582<>0,D582,\"\")","v":{"$error":"#N/A"}}]
[{"$error":"#N/A"},{"$error":"#N/A"},{"$error":"#N/A"},{"$error":"#N/A"},{"$error":"#N/A"}]
[{"$error":"#N/A"},{"$error":"#N/A"},{"$error":"#N/A"},{"$error":"#N/A"},{"$error":"#N/A"}]
[{"$error":"#N/A"},{"$error":"#N/A"},{"$error":"#N/A"},{"$error":"#N/A"},{"$error":"#N/A"}]
[{"$error":"#N/A"},{"$error":"#N/A"},{"$error":"#N/A"},{"$error":"#N/A"},{"$error":"#N/A"}]
[{"$error":"#N/A"},{"$error":"#N/A"},{"$error":"#N/A"},{"$error":"#N/A"},{"$error":"#N/A"}]
[{"$error":"#N/A"},{"$error":"#N/A"},{"$error":"#N/A"},{"$error":"#N/A"},{"$error":"#N/A"}]
[{"$error":"#N/A"},{"$error":"#N/A"},{"$error":"#N/A"},{"$error":"#N/A"},{"$error":"#N/A"}]
[{"$error":"#N/A"},{"$error":"#N/A"},{"$error":"#N/A"},{"$error":"#N/A"},{"$error":"#N/A"}]
[{"$error":"#N/A"},{"$error":"#N/A"},{"$error":"#N/A"},{"$error":"#N/A"},{"$error":"#N/A"}]
[{"$error":"#N/A"},{"$error":"#N/A"},{"$error":"#N/A"},{"$error":"#N/A"},{"$error":"#N/A"}]
[{"$error":"#N/A"},{"$error":"#N/A"},{"$error":"#N/A"},{"$error":"#N/A"},{"$error":"#N/A"}]
[{"$error":"#N/A"},{"$error":"#N/A"},{"$error":"#N/A"},{"$error":"#N/A"},{"$error":"#N/A"}]
[{"$error":"#N/A"},{"$error":"#N/A"},{"$error":"#N/A"},{"$error":"#N/A"},{"$error":"#N/A"}]
[{"$error":"#N/A"},{"$error":"#N/A"},{"$error":"#N/A"},{"$error":"#N/A"},{"$error":"#N/A"}]
[{"$error":"#N/A"},{"$error":"#N/A"},{"$error":"#N/A"},{"$error":"#N/A"},{"$error":"#N/A"}]
[{"$error":"#N/A"},{"$error":"#N/A"},{"$error":"#N/A"},{"$error":"#N/A"},{"$error":"#N/A"}]
[{"$error":"#N/A"},{"$error":"#N/A"},{"$error":"#N/A"},{"$error":"#N/A"},{"$error":"#N/A"}]
[{"$error":"#N/A"},{"$error":"#N/A"},{"$error":"#N/A"},{"$error":"#N/A"},{"$error":"#N/A"}]
[{"$error":"#N/A"},{"$error":"#N/A"},{"$error":"#N/A"},{"$error":"#N/A"},{"$error":"#N/A"}]
[{"$error":"#N/A"},{"$error":"#N/A"},{"$error":"#N/A"},{"$error":"#N/A"},{"$error":"#N/A"}]
[{"$error":"#N/A"},{"$error":"#N/A"},{"$error":"#N/A"},{"$error":"#N/A"},{"$error":"#N/A"}]
[{"$error":"#N/A"},{"$error":"#N/A"},{"$error":"#N/A"},{"$error":"#N/A"},{"$error":"#N/A"}]
[{"$error":"#N/A"},{"$error":"#N/A"},{"$error":"#N/A"},{"$error":"#N/A"},{"$error":"#N/A"}]
[{"$error":"#N/A"},{"$error":"#N/A"},{"$error":"#N/A"},{"$error":"#N/A"},{"$error":"#N/A"}]
[{"$error":"#N/A"},{"$error":"#N/A"},{"$error":"#N/A"},{"$error":"#N/A"},{"$error":"#N/A"}]
[{"$error":"#N/A"},{"$error":"#N/A"},{"$error":"#N/A"},{"$error":"#N/A"},{"$error":"#N/A"}]
[{"$error":"#N/A"},{"$error":"#N/A"},{"$error":"#N/A"},{"$error":"#N/A"},{"$error":"#N/A"}]
[{"$error":"#N/A"},{"$error":"#N/A"},{"$error":"#N/A"},{"$error":"#N/A"},{"$error":"#N/A"}]
[{"$error":"#N/A"},{"$error":"#N/A"},{"$error":"#N/A"},{"$error":"#N/A"},{"$error":"#N/A"}]
[{"$error":"#N/A"},{"$error":"#N/A"},{"$error":"#N/A"},{"$error":"#N/A"},{"$error":"#N/A"}]
[{"$error":"#N/A"},{"$error":"#N/A"},{"$error":"#N/A"},{"$error":"#N/A"},{"$error":"#N/A"}]
[{"$error":"#N/A"},{"$error":"#N/A"},{"$error":"#N/A"},{"$error":"#N/A"},{"$error":"#N/A"}]
[{"$error":"#N/A"},{"$error":"#N/A"},{"$error":"#N/A"},{"$error":"#N/A"},{"$error":"#N/A"}]
[{"$error":"#N/A"},{"$error":"#N/A"},{"$error":"#N/A"},{"$error":"#N/A"},{"$error":"#N/A"}]
[{"$error":"#N/A"},{"$error":"#N/A"},{"$error":"#N/A"},{"$error":"#N/A"},{"$error":"#N/A"}]
[{"$error":"#N/A"},{"$error":"#N/A"},{"$error":"#N/A"},{"$error":"#N/A"},{"$error":"#N/A"}]
[{"$error":"#N/A"},{"$error":"#N/A"},{"$error":"#N/A"},{"$error":"#N/A"},{"$error":"#N/A"}]
[{"$error":"#N/A"},{"$error":"#N/A"},{"$error":"#N/A"},{"$error":"#N/A"},{"$error":"#N/A"}]
[{"$error":"#N/A"},{"$error":"#N/A"},{"$error":"#N/A"},{"$error":"#N/A"},{"$error":"#N/A"}]
[{"$error":"#N/A"},{"$error":"#N/A"},{"$error":"#N/A"},{"$error":"#N/A"},{"$error":"#N/A"}]
[{"$error":"#N/A"},{"$error":"#N/A"},{"$error":"#N/A"},{"$error":"#N/A"},{"$error":"#N/A"}]
[{"$error":"#N/A"},{"$error":"#N/A"},{"$error":"#N/A"},{"$error":"#N/A"},{"$error":"#N/A"}]
[{"$error":"#N/A"},{"$error":"#N/A"},{"$error":"#N/A"},{"$error":"#N/A"},{"$error":"#N/A"}]
[{"$error":"#N/A"},{"$error":"#N/A"},{"$error":"#N/A"},{"$error":"#N/A"},{"$error":"#N/A"}]
[{"$error":"#N/A"},{"$error":"#N/A"},{"$error":"#N/A"},{"$error":"#N/A"},{"$error":"#N/A"}]
[{"$error":"#N/A"},{"$error":"#N/A"},{"$error":"#N/A"},{"$error":"#N/A"},{"$error":"#N/A"}]
[{"$error":"#N/A"},{"$error":"#N/A"},{"$error":"#N/A"},{"$error":"#N/A"},{"$error":"#N/A"}]
[{"$error":"#N/A"},{"$error":"#N/A"},{"$error":"#N/A"},{"$error":"#N/A"},{"$error":"#N/A"}]
[{"$error":"#N/A"},{"$error":"#N/A"},{"$error":"#N/A"},{"$error":"#N/A"},{"$error":"#N/A"}]
[{"$error":"#N/A"},{"$error":"#N/A"},{"$error":"#N/A"},{"$error":"#N/A"},{"$error":"#N/A"}]
[{"$error":"#N/A"},{"$error":"#N/A"},{"$error":"#N/A"},{"$error":"#N/A"},{"$error":"#N/A"}]
[{"$error":"#N/A"},{"$error":"#N/A"},{"$error":"#N/A"},{"$error":"#N/A"},{"$error":"#N/A"}]
[{"$error":"#N/A"},{"$error":"#N/A"},{"$error":"#N/A"},{"$error":"#N/A"},{"$error":"#N/A"}]
[{"$error":"#N/A"},{"$error":"#N/A"},{"$error":"#N/A"},{"$error":"#N/A"},{"$error":"#N/A"}]
[{"$error":"#N/A"},{"$error":"#N/A"},{"$error":"#N/A"},{"$error":"#N/A"},{"$error":"#N/A"}]
[{"$error":"#N/A"},{"$error":"#N/A"},{"$error":"#N/A"},{"$error":"#N/A"},{"$error":"#N/A"}]
[{"$error":"#N/A"},{"$error":"#N/A"},{"$error":"#N/A"},{"$error":"#N/A"},{"$error":"#N/A"}]
[{"$error":"#N/A"},{"$error":"#N/A"},{"$error":"#N/A"},{"$error":"#N/A"},{"$error":"#N/A"}]
[{"$error":"#N/A"},{"$error":"#N/A"},{"$error":"#N/A"},{"$error":"#N/A"},{"$error":"#N/A"}]
[{"$error":"#N/A"},{"$error":"#N/A"},{"$error":"#N/A"},{"$error":"#N/A"},{"$error":"#N/A"}]
[{"$error":"#N/A"},{"$error":"#N/A"},{"$error":"#N/A"},{"$error":"#N/A"},{"$error":"#N/A"}]
[{"$error":"#N/A"},{"$error":"#N/A"},{"$error":"#N/A"},{"$error":"#N/A"},{"$error":"#N/A"}]
[{"$error":"#N/A"},{"$error":"#N/A"},{"$error":"#N/A"},{"$error":"#N/A"},{"$error":"#N/A"}]
[{"$error":"#N/A"},{"$error":"#N/A"},{"$error":"#N/A"},{"$error":"#N/A"},{"$f":"IF(D646<>0,D646,\"\")","v":{"$error":"#N/A"}}]
[{"$error":"#N/A"},{"$error":"#N/A"},{"$error":"#N/A"},{"$error":"#N/A"},{"$error":"#N/A"}]
[{"$error":"#N/A"},{"$error":"#N/A"},{"$error":"#N/A"},{"$error":"#N/A"},{"$error":"#N/A"}]
[{"$error":"#N/A"},{"$error":"#N/A"},{"$error":"#N/A"},{"$error":"#N/A"},{"$error":"#N/A"}]
[{"$error":"#N/A"},{"$error":"#N/A"},{"$error":"#N/A"},{"$error":"#N/A"},{"$error":"#N/A"}]
[{"$error":"#N/A"},{"$error":"#N/A"},{"$error":"#N/A"},{"$error":"#N/A"},{"$error":"#N/A"}]
[{"$error":"#N/A"},{"$error":"#N/A"},{"$error":"#N/A"},{"$error":"#N/A"},{"$error":"#N/A"}]
[{"$error":"#N/A"},{"$error":"#N/A"},{"$error":"#N/A"},{"$error":"#N/A"},{"$error":"#N/A"}]
[{"$error":"#N/A"},{"$error":"#N/A"},{"$error":"#N/A"},{"$error":"#N/A"},{"$error":"#N/A"}]
[{"$error":"#N/A"},{"$error":"#N/A"},{"$error":"#N/A"},{"$error":"#N/A"},{"$error":"#N/A"}]
[{"$error":"#N/A"},{"$error":"#N/A"},{"$error":"#N/A"},{"$error":"#N/A"},{"$error":"#N/A"}]
[{"$error":"#N/A"},{"$error":"#N/A"},{"$error":"#N/A"},{"$error":"#N/A"},{"$error":"#N/A"}]
[{"$error":"#N/A"},{"$error":"#N/A"},{"$error":"#N/A"},{"$error":"#N/A"},{"$error":"#N/A"}]
[{"$error":"#N/A"},{"$error":"#N/A"},{"$error":"#N/A"},{"$error":"#N/A"},{"$error":"#N/A"}]
[{"$error":"#N/A"},{"$error":"#N/A"},{"$error":"#N/A"},{"$error":"#N/A"},{"$error":"#N/A"}]
[{"$error":"#N/A"},{"$error":"#N/A"},{"$error":"#N/A"},{"$error":"#N/A"},{"$error":"#N/A"}]
[{"$error":"#N/A"},{"$error":"#N/A"},{"$error":"#N/A"},{"$error":"#N/A"},{"$error":"#N/A"}]
[{"$error":"#N/A"},{"$error":"#N/A"},{"$error":"#N/A"},{"$error":"#N/A"},{"$error":"#N/A"}]
[{"$error":"#N/A"},{"$error":"#N/A"},{"$error":"#N/A"},{"$error":"#N/A"},{"$error":"#N/A"}]
[{"$error":"#N/A"},{"$error":"#N/A"},{"$error":"#N/A"},{"$error":"#N/A"},{"$error":"#N/A"}]
[{"$error":"#N/A"},{"$error":"#N/A"},{"$error":"#N/A"},{"$error":"#N/A"},{"$error":"#N/A"}]
[{"$error":"#N/A"},{"$error":"#N/A"},{"$error":"#N/A"},{"$error":"#N/A"},{"$error":"#N/A"}]
[{"$error":"#N/A"},{"$error":"#N/A"},{"$error":"#N/A"},{"$error":"#N/A"},{"$error":"#N/A"}]
[{"$error":"#N/A"},{"$error":"#N/A"},{"$error":"#N/A"},{"$error":"#N/A"},{"$error":"#N/A"}]
[{"$error":"#N/A"},{"$error":"#N/A"},{"$error":"#N/A"},{"$error":"#N/A"},{"$error":"#N/A"}]
[{"$error":"#N/A"},{"$error":"#N/A"},{"$error":"#N/A"},{"$error":"#N/A"},{"$error":"#N/A"}]
[{"$error":"#N/A"},{"$error":"#N/A"},{"$error":"#N/A"},{"$error":"#N/A"},{"$error":"#N/A"}]
[{"$error":"#N/A"},{"$error":"#N/A"},{"$error":"#N/A"},{"$error":"#N/A"},{"$error":"#N/A"}]
[{"$error":"#N/A"},{"$error":"#N/A"},{"$error":"#N/A"},{"$error":"#N/A"},{"$error":"#N/A"}]
[{"$error":"#N/A"},{"$error":"#N/A"},{"$error":"#N/A"},{"$error":"#N/A"},{"$error":"#N/A"}]
[{"$error":"#N/A"},{"$error":"#N/A"},{"$error":"#N/A"},{"$error":"#N/A"},{"$error":"#N/A"}]
[{"$error":"#N/A"},{"$error":"#N/A"},{"$error":"#N/A"},{"$error":"#N/A"},{"$error":"#N/A"}]
[{"$error":"#N/A"},{"$error":"#N/A"},{"$error":"#N/A"},{"$error":"#N/A"},{"$error":"#N/A"}]
[{"$error":"#N/A"},{"$error":"#N/A"},{"$error":"#N/A"},{"$error":"#N/A"},{"$error":"#N/A"}]
[{"$error":"#N/A"},{"$error":"#N/A"},{"$error":"#N/A"},{"$error":"#N/A"},{"$error":"#N/A"}]
[{"$error":"#N/A"},{"$error":"#N/A"},{"$error":"#N/A"},{"$error":"#N/A"},{"$error":"#N/A"}]
[{"$error":"#N/A"},{"$error":"#N/A"},{"$error":"#N/A"},{"$error":"#N/A"},{"$error":"#N/A"}]
[{"$error":"#N/A"},{"$error":"#N/A"},{"$error":"#N/A"},{"$error":"#N/A"},{"$error":"#N/A"}]
[{"$error":"#N/A"},{"$error":"#N/A"},{"$error":"#N/A"},{"$error":"#N/A"},{"$error":"#N/A"}]
[{"$error":"#N/A"},{"$error":"#N/A"},{"$error":"#N/A"},{"$error":"#N/A"},{"$error":"#N/A"}]
[{"$error":"#N/A"},{"$error":"#N/A"},{"$error":"#N/A"},{"$error":"#N/A"},{"$error":"#N/A"}]
[{"$error":"#N/A"},{"$error":"#N/A"},{"$error":"#N/A"},{"$error":"#N/A"},{"$error":"#N/A"}]
[{"$error":"#N/A"},{"$error":"#N/A"},{"$error":"#N/A"},{"$error":"#N/A"},{"$error":"#N/A"}]
[{"$error":"#N/A"},{"$error":"#N/A"},{"$error":"#N/A"},{"$error":"#N/A"},{"$error":"#N/A"}]
[{"$error":"#N/A"},{"$error":"#N/A"},{"$error":"#N/A"},{"$error":"#N/A"},{"$error":"#N/A"}]
[{"$error":"#N/A"},{"$error":"#N/A"},{"$error":"#N/A"},{"$error":"#N/A"},{"$error":"#N/A"}]
[{"$error":"#N/A"},{"$error":"#N/A"},{"$error":"#N/A"},{"$error":"#N/A"},{"$error":"#N/A"}]
[{"$error":"#N/A"},{"$error":"#N/A"},{"$error":"#N/A"},{"$error":"#N/A"},{"$error":"#N/A"}]
[{"$error":"#N/A"},{"$error":"#N/A"},{"$error":"#N/A"},{"$error":"#N/A"},{"$error":"#N/A"}]
[{"$error":"#N/A"},{"$error":"#N/A"},{"$error":"#N/A"},{"$error":"#N/A"},{"$error":"#N/A"}]
[{"$error":"#N/A"},{"$error":"#N/A"},{"$error":"#N/A"},{"$error":"#N/A"},{"$error":"#N/A"}]
[{"$error":"#N/A"},{"$error":"#N/A"},{"$error":"#N/A"},{"$error":"#N/A"},{"$error":"#N/A"}]
[{"$error":"#N/A"},{"$error":"#N/A"},{"$error":"#N/A"},{"$error":"#N/A"},{"$error":"#N/A"}]
[{"$error":"#N/A"},{"$error":"#N/A"},{"$error":"#N/A"},{"$error":"#N/A"},{"$error":"#N/A"}]
[{"$error":"#N/A"},{"$error":"#N/A"},{"$error":"#N/A"},{"$error":"#N/A"},{"$error":"#N/A"}]
[{"$error":"#N/A"},{"$error":"#N/A"},{"$error":"#N/A"},{"$error":"#N/A"},{"$error":"#N/A"}]
[{"$error":"#N/A"},{"$error":"#N/A"},{"$error":"#N/A"},{"$error":"#N/A"},{"$error":"#N/A"}]
[{"$error":"#N/A"},{"$error":"#N/A"},{"$error":"#N/A"},{"$error":"#N/A"},{"$error":"#N/A"}]
[{"$error":"#N/A"},{"$error":"#N/A"},{"$error":"#N/A"},{"$error":"#N/A"},{"$error":"#N/A"}]
[{"$error":"#N/A"},{"$error":"#N/A"},{"$error":"#N/A"},{"$error":"#N/A"},{"$error":"#N/A"}]
[{"$error":"#N/A"},{"$error":"#N/A"},{"$error":"#N/A"},{"$error":"#N/A"},{"$error":"#N/A"}]
[{"$error":"#N/A"},{"$error":"#N/A"},{"$error":"#N/A"},{"$error":"#N/A"},{"$error":"#N/A"}]
[{"$error":"#N/A"},{"$error":"#N/A"},{"$error":"#N/A"},{"$error":"#N/A"},{"$error":"#N/A"}]
[{"$error":"#N/A"},{"$error":"#N/A"},{"$error":"#N/A"},{"$error":"#N/A"},{"$error":"#N/A"}]
[{"$error":"#N/A"},{"$error":"#N/A"},{"$error":"#N/A"},{"$error":"#N/A"},{"$f":"IF(D710<>0,D710,\"\")","v":{"$error":"#N/A"}}]
[{"$error":"#N/A"},{"$error":"#N/A"},{"$error":"#N/A"},{"$error":"#N/A"},{"$error":"#N/A"}]
[{"$error":"#N/A"},{"$error":"#N/A"},{"$error":"#N/A"},{"$error":"#N/A"},{"$error":"#N/A"}]
[{"$error":"#N/A"},{"$error":"#N/A"},{"$error":"#N/A"},{"$error":"#N/A"},{"$error":"#N/A"}]
[{"$error":"#N/A"},{"$error":"#N/A"},{"$error":"#N/A"},{"$error":"#N/A"},{"$error":"#N/A"}]
[{"$error":"#N/A"},{"$error":"#N/A"},{"$error":"#N/A"},{"$error":"#N/A"},{"$error":"#N/A"}]
[{"$error":"#N/A"},{"$error":"#N/A"},{"$error":"#N/A"},{"$error":"#N/A"},{"$error":"#N/A"}]
[{"$error":"#N/A"},{"$error":"#N/A"},{"$error":"#N/A"},{"$error":"#N/A"},{"$error":"#N/A"}]
[{"$error":"#N/A"},{"$error":"#N/A"},{"$error":"#N/A"},{"$error":"#N/A"},{"$error":"#N/A"}]
[{"$error":"#N/A"},{"$error":"#N/A"},{"$error":"#N/A"},{"$error":"#N/A"},{"$error":"#N/A"}]
[{"$error":"#N/A"},{"$error":"#N/A"},{"$error":"#N/A"},{"$error":"#N/A"},{"$error":"#N/A"}]
[{"$error":"#N/A"},{"$error":"#N/A"},{"$error":"#N/A"},{"$error":"#N/A"},{"$error":"#N/A"}]
[{"$error":"#N/A"},{"$error":"#N/A"},{"$error":"#N/A"},{"$error":"#N/A"},{"$error":"#N/A"}]
[{"$error":"#N/A"},{"$error":"#N/A"},{"$error":"#N/A"},{"$error":"#N/A"},{"$error":"#N/A"}]
[{"$error":"#N/A"},{"$error":"#N/A"},{"$error":"#N/A"},{"$error":"#N/A"},{"$error":"#N/A"}]
[{"$error":"#N/A"},{"$error":"#N/A"},{"$error":"#N/A"},{"$error":"#N/A"},{"$error":"#N/A"}]
[{"$error":"#N/A"},{"$error":"#N/A"},{"$error":"#N/A"},{"$error":"#N/A"},{"$error":"#N/A"}]
[{"$error":"#N/A"},{"$error":"#N/A"},{"$error":"#N/A"},{"$error":"#N/A"},{"$error":"#N/A"}]
[{"$error":"#N/A"},{"$error":"#N/A"},{"$error":"#N/A"},{"$error":"#N/A"},{"$error":"#N/A"}]
[{"$error":"#N/A"},{"$error":"#N/A"},{"$error":"#N/A"},{"$error":"#N/A"},{"$error":"#N/A"}]
[{"$error":"#N/A"},{"$error":"#N/A"},{"$error":"#N/A"},{"$error":"#N/A"},{"$error":"#N/A"}]
[{"$error":"#N/A"},{"$error":"#N/A"},{"$error":"#N/A"},{"$error":"#N/A"},{"$error":"#N/A"}]
[{"$error":"#N/A"},{"$error":"#N/A"},{"$error":"#N/A"},{"$error":"#N/A"},{"$error":"#N/A"}]
[{"$error":"#N/A"},{"$error":"#N/A"},{"$error":"#N/A"},{"$error":"#N/A"},{"$error":"#N/A"}]
[{"$error":"#N/A"},{"$error":"#N/A"},{"$error":"#N/A"},{"$error":"#N/A"},{"$error":"#N/A"}]
[{"$error":"#N/A"},{"$error":"#N/A"},{"$error":"#N/A"},{"$error":"#N/A"},{"$error":"#N/A"}]
[{"$error":"#N/A"},{"$error":"#N/A"},{"$error":"#N/A"},{"$error":"#N/A"},{"$error":"#N/A"}]
[{"$error":"#N/A"},{"$error":"#N/A"},{"$error":"#N/A"},{"$error":"#N/A"},{"$error":"#N/A"}]
[{"$error":"#N/A"},{"$error":"#N/A"},{"$error":"#N/A"},{"$error":"#N/A"},{"$error":"#N/A"}]
[{"$error":"#N/A"},{"$error":"#N/A"},{"$error":"#N/A"},{"$error":"#N/A"},{"$error":"#N/A"}]
[{"$error":"#N/A"},{"$error":"#N/A"},{"$error":"#N/A"},{"$error":"#N/A"},{"$error":"#N/A"}]
[{"$error":"#N/A"},{"$error":"#N/A"},{"$error":"#N/A"},{"$error":"#N/A"},{"$error":"#N/A"}]
[{"$error":"#N/A"},{"$error":"#N/A"},{"$error":"#N/A"},{"$error":"#N/A"},{"$error":"#N/A"}]
[{"$error":"#N/A"},{"$error":"#N/A"},{"$error":"#N/A"},{"$error":"#N/A"},{"$error":"#N/A"}]
[{"$error":"#N/A"},{"$error":"#N/A"},{"$error":"#N/A"},{"$error":"#N/A"},{"$error":"#N/A"}]
[{"$error":"#N/A"},{"$error":"#N/A"},{"$error":"#N/A"},{"$error":"#N/A"},{"$error":"#N/A"}]
[{"$error":"#N/A"},{"$error":"#N/A"},{"$error":"#N/A"},{"$error":"#N/A"},{"$error":"#N/A"}]
[{"$error":"#N/A"},{"$error":"#N/A"},{"$error":"#N/A"},{"$error":"#N/A"},{"$error":"#N/A"}]
[{"$error":"#N/A"},{"$error":"#N/A"},{"$error":"#N/A"},{"$error":"#N/A"},{"$error":"#N/A"}]
[{"$error":"#N/A"},{"$error":"#N/A"},{"$error":"#N/A"},{"$error":"#N/A"},{"$error":"#N/A"}]
[{"$error":"#N/A"},{"$error":"#N/A"},{"$error":"#N/A"},{"$error":"#N/A"},{"$error":"#N/A"}]
[{"$error":"#N/A"},{"$error":"#N/A"},{"$error":"#N/A"},{"$error":"#N/A"},{"$error":"#N/A"}]
[{"$error":"#N/A"},{"$error":"#N/A"},{"$error":"#N/A"},{"$error":"#N/A"},{"$error":"#N/A"}]
[{"$error":"#N/A"},{"$error":"#N/A"},{"$error":"#N/A"},{"$error":"#N/A"},{"$error":"#N/A"}]
[{"$error":"#N/A"},{"$error":"#N/A"},{"$error":"#N/A"},{"$error":"#N/A"},{"$error":"#N/A"}]
[{"$error":"#N/A"},{"$error":"#N/A"},{"$error":"#N/A"},{"$error":"#N/A"},{"$error":"#N/A"}]
[{"$error":"#N/A"},{"$error":"#N/A"},{"$error":"#N/A"},{"$error":"#N/A"},{"$error":"#N/A"}]
[{"$error":"#N/A"},{"$error":"#N/A"},{"$error":"#N/A"},{"$error":"#N/A"},{"$error":"#N/A"}]
[{"$error":"#N/A"},{"$error":"#N/A"},{"$error":"#N/A"},{"$error":"#N/A"},{"$error":"#N/A"}]
[{"$error":"#N/A"},{"$error":"#N/A"},{"$error":"#N/A"},{"$error":"#N/A"},{"$error":"#N/A"}]
[{"$error":"#N/A"},{"$error":"#N/A"},{"$error":"#N/A"},{"$error":"#N/A"},{"$error":"#N/A"}]
[{"$error":"#N/A"},{"$error":"#N/A"},{"$error":"#N/A"},{"$error":"#N/A"},{"$error":"#N/A"}]
[{"$error":"#N/A"},{"$error":"#N/A"},{"$error":"#N/A"},{"$error":"#N/A"},{"$error":"#N/A"}]
[{"$error":"#N/A"},{"$error":"#N/A"},{"$error":"#N/A"},{"$error":"#N/A"},{"$error":"#N/A"}]
[{"$error":"#N/A"},{"$error":"#N/A"},{"$error":"#N/A"},{"$error":"#N/A"},{"$error":"#N/A"}]
[{"$error":"#N/A"},{"$error":"#N/A"},{"$error":"#N/A"},{"$error":"#N/A"},{"$error":"#N/A"}]
[{"$error":"#N/A"},{"$error":"#N/A"},{"$error":"#N/A"},{"$error":"#N/A"},{"$error":"#N/A"}]
[{"$error":"#N/A"},{"$error":"#N/A"},{"$error":"#N/A"},{"$error":"#N/A"},{"$error":"#N/A"}]
[{"$error":"#N/A"},{"$error":"#N/A"},{"$error":"#N/A"},{"$error":"#N/A"},{"$error":"#N/A"}]
[{"$error":"#N/A"},{"$error":"#N/A"},{"$error":"#N/A"},{"$error":"#N/A"},{"$error":"#N/A"}]
[{"$error":"#N/A"},{"$error":"#N/A"},{"$error":"#N/A"},{"$error":"#N/A"},{"$error":"#N/A"}]
[{"$error":"#N/A"},{"$error":"#N/A"},{"$error":"#N/A"},{"$error":"#N/A"},{"$error":"#N/A"}]
[{"$error":"#N/A"},{"$error":"#N/A"},{"$error":"#N/A"},{"$error":"#N/A"},{"$error":"#N/A"}]
[{"$error":"#N/A"},{"$error":"#N/A"},{"$error":"#N/A"},{"$error":"#N/A"},{"$error":"#N/A"}]
[{"$error":"#N/A"},{"$error":"#N/A"},{"$error":"#N/A"},{"$error":"#N/A"},{"$f":"IF(D774<>0,D774,\"\")","v":{"$error":"#N/A"}}]
[{"$error":"#N/A"},{"$error":"#N/A"},{"$error":"#N/A"},{"$error":"#N/A"},{"$error":"#N/A"}]
[{"$error":"#N/A"},{"$error":"#N/A"},{"$error":"#N/A"},{"$error":"#N/A"},{"$error":"#N/A"}]
[{"$error":"#N/A"},{"$error":"#N/A"},{"$error":"#N/A"},{"$error":"#N/A"},{"$error":"#N/A"}]
[{"$error":"#N/A"},{"$error":"#N/A"},{"$error":"#N/A"},{"$error":"#N/A"},{"$error":"#N/A"}]
[{"$error":"#N/A"},{"$error":"#N/A"},{"$error":"#N/A"},{"$error":"#N/A"},{"$error":"#N/A"}]
[{"$error":"#N/A"},{"$error":"#N/A"},{"$error":"#N/A"},{"$error":"#N/A"},{"$error":"#N/A"}]
[{"$error":"#N/A"},{"$error":"#N/A"},{"$error":"#N/A"},{"$error":"#N/A"},{"$error":"#N/A"}]
[{"$error":"#N/A"},{"$error":"#N/A"},{"$error":"#N/A"},{"$error":"#N/A"},{"$error":"#N/A"}]
[{"$error":"#N/A"},{"$error":"#N/A"},{"$error":"#N/A"},{"$error":"#N/A"},{"$error":"#N/A"}]
[{"$error":"#N/A"},{"$error":"#N/A"},{"$error":"#N/A"},{"$error":"#N/A"},{"$error":"#N/A"}]
[{"$error":"#N/A"},{"$error":"#N/A"},{"$error":"#N/A"},{"$error":"#N/A"},{"$error":"#N/A"}]
[{"$error":"#N/A"},{"$error":"#N/A"},{"$error":"#N/A"},{"$error":"#N/A"},{"$error":"#N/A"}]
[{"$error":"#N/A"},{"$error":"#N/A"},{"$error":"#N/A"},{"$error":"#N/A"},{"$error":"#N/A"}]
[{"$error":"#N/A"},{"$error":"#N/A"},{"$error":"#N/A"},{"$error":"#N/A"},{"$error":"#N/A"}]
[{"$error":"#N/A"},{"$error":"#N/A"},{"$error":"#N/A"},{"$error":"#N/A"},{"$error":"#N/A"}]
[{"$error":"#N/A"},{"$error":"#N/A"},{"$error":"#N/A"},{"$error":"#N/A"},{"$error":"#N/A"}]
[{"$error":"#N/A"},{"$error":"#N/A"},{"$error":"#N/A"},{"$error":"#N/A"},{"$error":"#N/A"}]
[{"$error":"#N/A"},{"$error":"#N/A"},{"$error":"#N/A"},{"$error":"#N/A"},{"$error":"#N/A"}]
[{"$error":"#N/A"},{"$error":"#N/A"},{"$error":"#N/A"},{"$error":"#N/A"},{"$error":"#N/A"}]
[{"$error":"#N/A"},{"$error":"#N/A"},{"$error":"#N/A"},{"$error":"#N/A"},{"$error":"#N/A"}]
[{"$error":"#N/A"},{"$error":"#N/A"},{"$error":"#N/A"},{"$error":"#N/A"},{"$error":"#N/A"}]
[{"$error":"#N/A"},{"$error":"#N/A"},{"$error":"#N/A"},{"$error":"#N/A"},{"$error":"#N/A"}]
[{"$error":"#N/A"},{"$error":"#N/A"},{"$error":"#N/A"},{"$error":"#N/A"},{"$error":"#N/A"}]
[{"$error":"#N/A"},{"$error":"#N/A"},{"$error":"#N/A"},{"$error":"#N/A"},{"$error":"#N/A"}]
[{"$error":"#N/A"},{"$error":"#N/A"},{"$error":"#N/A"},{"$error":"#N/A"},{"$error":"#N/A"}]
[{"$error":"#N/A"},{"$error":"#N/A"},{"$error":"#N/A"},{"$error":"#N/A"},{"$error":"#N/A"}]
[{"$error":"#N/A"},{"$error":"#N/A"},{"$error":"#N/A"},{"$error":"#N/A"},{"$error":"#N/A"}]
[{"$error":"#N/A"},{"$error":"#N/A"},{"$error":"#N/A"},{"$error":"#N/A"},{"$error":"#N/A"}]
[{"$error":"#N/A"},{"$error":"#N/A"},{"$error":"#N/A"},{"$error":"#N/A"},{"$error":"#N/A"}]
[{"$error":"#N/A"},{"$error":"#N/A"},{"$error":"#N/A"},{"$error":"#N/A"},{"$error":"#N/A"}]
[{"$error":"#N/A"},{"$error":"#N/A"},{"$error":"#N/A"},{"$error":"#N/A"},{"$error":"#N/A"}]
[{"$error":"#N/A"},{"$error":"#N/A"},{"$error":"#N/A"},{"$error":"#N/A"},{"$error":"#N/A"}]
[{"$error":"#N/A"},{"$error":"#N/A"},{"$error":"#N/A"},{"$error":"#N/A"},{"$error":"#N/A"}]
[{"$error":"#N/A"},{"$error":"#N/A"},{"$error":"#N/A"},{"$error":"#N/A"},{"$error":"#N/A"}]
[{"$error":"#N/A"},{"$error":"#N/A"},{"$error":"#N/A"},{"$error":"#N/A"},{"$error":"#N/A"}]
[{"$error":"#N/A"},{"$error":"#N/A"},{"$error":"#N/A"},{"$error":"#N/A"},{"$error":"#N/A"}]
[{"$error":"#N/A"},{"$error":"#N/A"},{"$error":"#N/A"},{"$error":"#N/A"},{"$error":"#N/A"}]
[{"$error":"#N/A"},{"$error":"#N/A"},{"$error":"#N/A"},{"$error":"#N/A"},{"$error":"#N/A"}]
[{"$error":"#N/A"},{"$error":"#N/A"},{"$error":"#N/A"},{"$error":"#N/A"},{"$error":"#N/A"}]
[{"$error":"#N/A"},{"$error":"#N/A"},{"$error":"#N/A"},{"$error":"#N/A"},{"$error":"#N/A"}]
[{"$error":"#N/A"},{"$error":"#N/A"},{"$error":"#N/A"},{"$error":"#N/A"},{"$error":"#N/A"}]
[{"$error":"#N/A"},{"$error":"#N/A"},{"$error":"#N/A"},{"$error":"#N/A"},{"$error":"#N/A"}]
[{"$error":"#N/A"},{"$error":"#N/A"},{"$error":"#N/A"},{"$error":"#N/A"},{"$error":"#N/A"}]
[{"$error":"#N/A"},{"$error":"#N/A"},{"$error":"#N/A"},{"$error":"#N/A"},{"$error":"#N/A"}]
[{"$error":"#N/A"},{"$error":"#N/A"},{"$error":"#N/A"},{"$error":"#N/A"},{"$error":"#N/A"}]
[{"$error":"#N/A"},{"$error":"#N/A"},{"$error":"#N/A"},{"$error":"#N/A"},{"$error":"#N/A"}]
[{"$error":"#N/A"},{"$error":"#N/A"},{"$error":"#N/A"},{"$error":"#N/A"},{"$error":"#N/A"}]
[{"$error":"#N/A"},{"$error":"#N/A"},{"$error":"#N/A"},{"$error":"#N/A"},{"$error":"#N/A"}]
[{"$error":"#N/A"},{"$error":"#N/A"},{"$error":"#N/A"},{"$error":"#N/A"},{"$error":"#N/A"}]
[{"$error":"#N/A"},{"$error":"#N/A"},{"$error":"#N/A"},{"$error":"#N/A"},{"$error":"#N/A"}]
[{"$error":"#N/A"},{"$error":"#N/A"},{"$error":"#N/A"},{"$error":"#N/A"},{"$error":"#N/A"}]
[{"$error":"#N/A"},{"$error":"#N/A"},{"$error":"#N/A"},{"$error":"#N/A"},{"$error":"#N/A"}]
[{"$error":"#N/A"},{"$error":"#N/A"},{"$error":"#N/A"},{"$error":"#N/A"},{"$error":"#N/A"}]
[{"$error":"#N/A"},{"$error":"#N/A"},{"$error":"#N/A"},{"$error":"#N/A"},{"$error":"#N/A"}]
[{"$error":"#N/A"},{"$error":"#N/A"},{"$error":"#N/A"},{"$error":"#N/A"},{"$error":"#N/A"}]
[{"$error":"#N/A"},{"$error":"#N/A"},{"$error":"#N/A"},{"$error":"#N/A"},{"$error":"#N/A"}]
[{"$error":"#N/A"},{"$error":"#N/A"},{"$error":"#N/A"},{"$error":"#N/A"},{"$error":"#N/A"}]
[{"$error":"#N/A"},{"$error":"#N/A"},{"$error":"#N/A"},{"$error":"#N/A"},{"$error":"#N/A"}]
[{"$error":"#N/A"},{"$error":"#N/A"},{"$error":"#N/A"},{"$error":"#N/A"},{"$error":"#N/A"}]
[{"$error":"#N/A"},{"$error":"#N/A"},{"$error":"#N/A"},{"$error":"#N/A"},{"$error":"#N/A"}]
[{"$error":"#N/A"},{"$error":"#N/A"},{"$error":"#N/A"},{"$error":"#N/A"},{"$error":"#N/A"}]
[{"$error":"#N/A"},{"$error":"#N/A"},{"$error":"#N/A"},{"$error":"#N/A"},{"$error":"#N/A"}]
[{"$error":"#N/A"},{"$error":"#N/A"},{"$error":"#N/A"},{"$error":"#N/A"},{"$error":"#N/A"}]
[{"$error":"#N/A"},{"$error":"#N/A"},{"$error":"#N/A"},{"$error":"#N/A"},{"$f":"IF(D838<>0,D838,\"\")","v":{"$error":"#N/A"}}]
[{"$error":"#N/A"},{"$error":"#N/A"},{"$error":"#N/A"},{"$error":"#N/A"},{"$error":"#N/A"}]
[{"$error":"#N/A"},{"$error":"#N/A"},{"$error":"#N/A"},{"$error":"#N/A"},{"$error":"#N/A"}]
[{"$error":"#N/A"},{"$error":"#N/A"},{"$error":"#N/A"},{"$error":"#N/A"},{"$error":"#N/A"}]
[{"$error":"#N/A"},{"$error":"#N/A"},{"$error":"#N/A"},{"$error":"#N/A"},{"$error":"#N/A"}]
[{"$error":"#N/A"},{"$error":"#N/A"},{"$error":"#N/A"},{"$error":"#N/A"},{"$error":"#N/A"}]
[{"$error":"#N/A"},{"$error":"#N/A"},{"$error":"#N/A"},{"$error":"#N/A"},{"$error":"#N/A"}]
[{"$error":"#N/A"},{"$error":"#N/A"},{"$error":"#N/A"},{"$error":"#N/A"},{"$error":"#N/A"}]
[{"$error":"#N/A"},{"$error":"#N/A"},{"$error":"#N/A"},{"$error":"#N/A"},{"$error":"#N/A"}]
[{"$error":"#N/A"},{"$error":"#N/A"},{"$error":"#N/A"},{"$error":"#N/A"},{"$error":"#N/A"}]
[{"$error":"#N/A"},{"$error":"#N/A"},{"$error":"#N/A"},{"$error":"#N/A"},{"$error":"#N/A"}]
[{"$error":"#N/A"},{"$error":"#N/A"},{"$error":"#N/A"},{"$error":"#N/A"},{"$error":"#N/A"}]
[{"$error":"#N/A"},{"$error":"#N/A"},{"$error":"#N/A"},{"$error":"#N/A"},{"$error":"#N/A"}]
[{"$error":"#N/A"},{"$error":"#N/A"},{"$error":"#N/A"},{"$error":"#N/A"},{"$error":"#N/A"}]
[{"$error":"#N/A"},{"$error":"#N/A"},{"$error":"#N/A"},{"$error":"#N/A"},{"$error":"#N/A"}]
[{"$error":"#N/A"},{"$error":"#N/A"},{"$error":"#N/A"},{"$error":"#N/A"},{"$error":"#N/A"}]
[{"$error":"#N/A"},{"$error":"#N/A"},{"$error":"#N/A"},{"$error":"#N/A"},{"$error":"#N/A"}]
[{"$error":"#N/A"},{"$error":"#N/A"},{"$error":"#N/A"},{"$error":"#N/A"},{"$error":"#N/A"}]
[{"$error":"#N/A"},{"$error":"#N/A"},{"$error":"#N/A"},{"$error":"#N/A"},{"$error":"#N/A"}]
[{"$error":"#N/A"},{"$error":"#N/A"},{"$error":"#N/A"},{"$error":"#N/A"},{"$error":"#N/A"}]
[{"$error":"#N/A"},{"$error":"#N/A"},{"$error":"#N/A"},{"$error":"#N/A"},{"$error":"#N/A"}]
[{"$error":"#N/A"},{"$error":"#N/A"},{"$error":"#N/A"},{"$error":"#N/A"},{"$error":"#N/A"}]
[{"$error":"#N/A"},{"$error":"#N/A"},{"$error":"#N/A"},{"$error":"#N/A"},{"$error":"#N/A"}]
[{"$error":"#N/A"},{"$error":"#N/A"},{"$error":"#N/A"},{"$error":"#N/A"},{"$error":"#N/A"}]
[{"$error":"#N/A"},{"$error":"#N/A"},{"$error":"#N/A"},{"$error":"#N/A"},{"$error":"#N/A"}]
[{"$error":"#N/A"},{"$error":"#N/A"},{"$error":"#N/A"},{"$error":"#N/A"},{"$error":"#N/A"}]
[{"$error":"#N/A"},{"$error":"#N/A"},{"$error":"#N/A"},{"$error":"#N/A"},{"$error":"#N/A"}]
[{"$error":"#N/A"},{"$error":"#N/A"},{"$error":"#N/A"},{"$error":"#N/A"},{"$error":"#N/A"}]
[{"$error":"#N/A"},{"$error":"#N/A"},{"$error":"#N/A"},{"$error":"#N/A"},{"$error":"#N/A"}]
[{"$error":"#N/A"},{"$error":"#N/A"},{"$error":"#N/A"},{"$error":"#N/A"},{"$error":"#N/A"}]
[{"$error":"#N/A"},{"$error":"#N/A"},{"$error":"#N/A"},{"$error":"#N/A"},{"$error":"#N/A"}]
[{"$error":"#N/A"},{"$error":"#N/A"},{"$error":"#N/A"},{"$error":"#N/A"},{"$error":"#N/A"}]
[{"$error":"#N/A"},{"$error":"#N/A"},{"$error":"#N/A"},{"$error":"#N/A"},{"$error":"#N/A"}]
[{"$error":"#N/A"},{"$error":"#N/A"},{"$error":"#N/A"},{"$error":"#N/A"},{"$error":"#N/A"}]
[{"$error":"#N/A"},{"$error":"#N/A"},{"$error":"#N/A"},{"$error":"#N/A"},{"$error":"#N/A"}]
[{"$error":"#N/A"},{"$error":"#N/A"},{"$error":"#N/A"},{"$error":"#N/A"},{"$error":"#N/A"}]
[{"$error":"#N/A"},{"$error":"#N/A"},{"$error":"#N/A"},{"$error":"#N/A"},{"$error":"#N/A"}]
[{"$error":"#N/A"},{"$error":"#N/A"},{"$error":"#N/A"},{"$error":"#N/A"},{"$error":"#N/A"}]
[{"$error":"#N/A"},{"$error":"#N/A"},{"$error":"#N/A"},{"$error":"#N/A"},{"$error":"#N/A"}]
[{"$error":"#N/A"},{"$error":"#N/A"},{"$error":"#N/A"},{"$error":"#N/A"},{"$error":"#N/A"}]
[{"$error":"#N/A"},{"$error":"#N/A"},{"$error":"#N/A"},{"$error":"#N/A"},{"$error":"#N/A"}]
[{"$error":"#N/A"},{"$error":"#N/A"},{"$error":"#N/A"},{"$error":"#N/A"},{"$error":"#N/A"}]
[{"$error":"#N/A"},{"$error":"#N/A"},{"$error":"#N/A"},{"$error":"#N/A"},{"$error":"#N/A"}]
[{"$error":"#N/A"},{"$error":"#N/A"},{"$error":"#N/A"},{"$error":"#N/A"},{"$error":"#N/A"}]
[{"$error":"#N/A"},{"$error":"#N/A"},{"$error":"#N/A"},{"$error":"#N/A"},{"$error":"#N/A"}]
[{"$error":"#N/A"},{"$error":"#N/A"},{"$error":"#N/A"},{"$error":"#N/A"},{"$error":"#N/A"}]
[{"$error":"#N/A"},{"$error":"#N/A"},{"$error":"#N/A"},{"$error":"#N/A"},{"$error":"#N/A"}]
[{"$error":"#N/A"},{"$error":"#N/A"},{"$error":"#N/A"},{"$error":"#N/A"},{"$error":"#N/A"}]
[{"$error":"#N/A"},{"$error":"#N/A"},{"$error":"#N/A"},{"$error":"#N/A"},{"$error":"#N/A"}]
[{"$error":"#N/A"},{"$error":"#N/A"},{"$error":"#N/A"},{"$error":"#N/A"},{"$error":"#N/A"}]
[{"$error":"#N/A"},{"$error":"#N/A"},{"$error":"#N/A"},{"$error":"#N/A"},{"$error":"#N/A"}]
[{"$error":"#N/A"},{"$error":"#N/A"},{"$error":"#N/A"},{"$error":"#N/A"},{"$error":"#N/A"}]
[{"$error":"#N/A"},{"$error":"#N/A"},{"$error":"#N/A"},{"$error":"#N/A"},{"$error":"#N/A"}]
[{"$error":"#N/A"},{"$error":"#N/A"},{"$error":"#N/A"},{"$error":"#N/A"},{"$error":"#N/A"}]
[{"$error":"#N/A"},{"$error":"#N/A"},{"$error":"#N/A"},{"$error":"#N/A"},{"$error":"#N/A"}]
[{"$error":"#N/A"},{"$error":"#N/A"},{"$error":"#N/A"},{"$error":"#N/A"},{"$error":"#N/A"}]
[{"$error":"#N/A"},{"$error":"#N/A"},{"$error":"#N/A"},{"$error":"#N/A"},{"$error":"#N/A"}]
[{"$error":"#N/A"},{"$error":"#N/A"},{"$error":"#N/A"},{"$error":"#N/A"},{"$error":"#N/A"}]
[{"$error":"#N/A"},{"$error":"#N/A"},{"$error":"#N/A"},{"$error":"#N/A"},{"$error":"#N/A"}]
[{"$error":"#N/A"},{"$error":"#N/A"},{"$error":"#N/A"},{"$error":"#N/A"},{"$error":"#N/A"}]
[{"$error":"#N/A"},{"$error":"#N/A"},{"$error":"#N/A"},{"$error":"#N/A"},{"$error":"#N/A"}]
[{"$error":"#N/A"},{"$error":"#N/A"},{"$error":"#N/A"},{"$error":"#N/A"},{"$error":"#N/A"}]
[{"$error":"#N/A"},{"$error":"#N/A"},{"$error":"#N/A"},{"$error":"#N/A"},{"$error":"#N/A"}]
[{"$error":"#N/A"},{"$error":"#N/A"},{"$error":"#N/A"},{"$error":"#N/A"},{"$error":"#N/A"}]
[{"$error":"#N/A"},{"$error":"#N/A"},{"$error":"#N/A"},{"$error":"#N/A"},{"$f":"IF(D902<>0,D902,\"\")","v":{"$error":"#N/A"}}]
[{"$error":"#N/A"},{"$error":"#N/A"},{"$error":"#N/A"},{"$error":"#N/A"},{"$error":"#N/A"}]
[{"$error":"#N/A"},{"$error":"#N/A"},{"$error":"#N/A"},{"$error":"#N/A"},{"$error":"#N/A"}]
[{"$error":"#N/A"},{"$error":"#N/A"},{"$error":"#N/A"},{"$error":"#N/A"},{"$error":"#N/A"}]
[{"$error":"#N/A"},{"$error":"#N/A"},{"$error":"#N/A"},{"$error":"#N/A"},{"$error":"#N/A"}]
[{"$error":"#N/A"},{"$error":"#N/A"},{"$error":"#N/A"},{"$error":"#N/A"},{"$error":"#N/A"}]
[{"$error":"#N/A"},{"$error":"#N/A"},{"$error":"#N/A"},{"$error":"#N/A"},{"$error":"#N/A"}]
[{"$error":"#N/A"},{"$error":"#N/A"},{"$error":"#N/A"},{"$error":"#N/A"},{"$error":"#N/A"}]
[{"$error":"#N/A"},{"$error":"#N/A"},{"$error":"#N/A"},{"$error":"#N/A"},{"$error":"#N/A"}]
[{"$error":"#N/A"},{"$error":"#N/A"},{"$error":"#N/A"},{"$error":"#N/A"},{"$error":"#N/A"}]
[{"$error":"#N/A"},{"$error":"#N/A"},{"$error":"#N/A"},{"$error":"#N/A"},{"$error":"#N/A"}]
[{"$error":"#N/A"},{"$error":"#N/A"},{"$error":"#N/A"},{"$error":"#N/A"},{"$error":"#N/A"}]
[{"$error":"#N/A"},{"$error":"#N/A"},{"$error":"#N/A"},{"$error":"#N/A"},{"$error":"#N/A"}]
[{"$error":"#N/A"},{"$error":"#N/A"},{"$error":"#N/A"},{"$error":"#N/A"},{"$error":"#N/A"}]
[{"$error":"#N/A"},{"$error":"#N/A"},{"$error":"#N/A"},{"$error":"#N/A"},{"$error":"#N/A"}]
[{"$error":"#N/A"},{"$error":"#N/A"},{"$error":"#N/A"},{"$error":"#N/A"},{"$error":"#N/A"}]
[{"$error":"#N/A"},{"$error":"#N/A"},{"$error":"#N/A"},{"$error":"#N/A"},{"$error":"#N/A"}]
[{"$error":"#N/A"},{"$error":"#N/A"},{"$error":"#N/A"},{"$error":"#N/A"},{"$error":"#N/A"}]
[{"$error":"#N/A"},{"$error":"#N/A"},{"$error":"#N/A"},{"$error":"#N/A"},{"$error":"#N/A"}]
[{"$error":"#N/A"},{"$error":"#N/A"},{"$error":"#N/A"},{"$error":"#N/A"},{"$error":"#N/A"}]
[{"$error":"#N/A"},{"$error":"#N/A"},{"$error":"#N/A"},{"$error":"#N/A"},{"$error":"#N/A"}]
[{"$error":"#N/A"},{"$error":"#N/A"},{"$error":"#N/A"},{"$error":"#N/A"},{"$error":"#N/A"}]
[{"$error":"#N/A"},{"$error":"#N/A"},{"$error":"#N/A"},{"$error":"#N/A"},{"$error":"#N/A"}]
[{"$error":"#N/A"},{"$error":"#N/A"},{"$error":"#N/A"},{"$error":"#N/A"},{"$error":"#N/A"}]
[{"$error":"#N/A"},{"$error":"#N/A"},{"$error":"#N/A"},{"$error":"#N/A"},{"$error":"#N/A"}]
[{"$error":"#N/A"},{"$error":"#N/A"},{"$error":"#N/A"},{"$error":"#N/A"},{"$error":"#N/A"}]
[{"$error":"#N/A"},{"$error":"#N/A"},{"$error":"#N/A"},{"$error":"#N/A"},{"$error":"#N/A"}]
[{"$error":"#N/A"},{"$error":"#N/A"},{"$error":"#N/A"},{"$error":"#N/A"},{"$error":"#N/A"}]
[{"$error":"#N/A"},{"$error":"#N/A"},{"$error":"#N/A"},{"$error":"#N/A"},{"$error":"#N/A"}]
[{"$error":"#N/A"},{"$error":"#N/A"},{"$error":"#N/A"},{"$error":"#N/A"},{"$error":"#N/A"}]
[{"$error":"#N/A"},{"$error":"#N/A"},{"$error":"#N/A"},{"$error":"#N/A"},{"$error":"#N/A"}]
[{"$error":"#N/A"},{"$error":"#N/A"},{"$error":"#N/A"},{"$error":"#N/A"},{"$error":"#N/A"}]
[{"$error":"#N/A"},{"$error":"#N/A"},{"$error":"#N/A"},{"$error":"#N/A"},{"$error":"#N/A"}]
[{"$error":"#N/A"},{"$error":"#N/A"},{"$error":"#N/A"},{"$error":"#N/A"},{"$error":"#N/A"}]
[{"$error":"#N/A"},{"$error":"#N/A"},{"$error":"#N/A"},{"$error":"#N/A"},{"$error":"#N/A"}]
[{"$error":"#N/A"},{"$error":"#N/A"},{"$error":"#N/A"},{"$error":"#N/A"},{"$error":"#N/A"}]
[{"$error":"#N/A"},{"$error":"#N/A"},{"$error":"#N/A"},{"$error":"#N/A"},{"$error":"#N/A"}]
[{"$error":"#N/A"},{"$error":"#N/A"},{"$error":"#N/A"},{"$error":"#N/A"},{"$error":"#N/A"}]
[{"$error":"#N/A"},{"$error":"#N/A"},{"$error":"#N/A"},{"$error":"#N/A"},{"$error":"#N/A"}]
[{"$error":"#N/A"},{"$error":"#N/A"},{"$error":"#N/A"},{"$error":"#N/A"},{"$error":"#N/A"}]
[{"$error":"#N/A"},{"$error":"#N/A"},{"$error":"#N/A"},{"$error":"#N/A"},{"$error":"#N/A"}]
[{"$error":"#N/A"},{"$error":"#N/A"},{"$error":"#N/A"},{"$error":"#N/A"},{"$error":"#N/A"}]
[{"$error":"#N/A"},{"$error":"#N/A"},{"$error":"#N/A"},{"$error":"#N/A"},{"$error":"#N/A"}]
[{"$error":"#N/A"},{"$error":"#N/A"},{"$error":"#N/A"},{"$error":"#N/A"},{"$error":"#N/A"}]
[{"$error":"#N/A"},{"$error":"#N/A"},{"$error":"#N/A"},{"$error":"#N/A"},{"$error":"#N/A"}]
[{"$error":"#N/A"},{"$error":"#N/A"},{"$error":"#N/A"},{"$error":"#N/A"},{"$error":"#N/A"}]
[{"$error":"#N/A"},{"$error":"#N/A"},{"$error":"#N/A"},{"$error":"#N/A"},{"$error":"#N/A"}]
[{"$error":"#N/A"},{"$error":"#N/A"},{"$error":"#N/A"},{"$error":"#N/A"},{"$error":"#N/A"}]
[{"$error":"#N/A"},{"$error":"#N/A"},{"$error":"#N/A"},{"$error":"#N/A"},{"$error":"#N/A"}]
[{"$error":"#N/A"},{"$error":"#N/A"},{"$error":"#N/A"},{"$error":"#N/A"},{"$error":"#N/A"}]
[{"$error":"#N/A"},{"$error":"#N/A"},{"$error":"#N/A"},{"$error":"#N/A"},{"$error":"#N/A"}]
[{"$error":"#N/A"},{"$error":"#N/A"},{"$error":"#N/A"},{"$error":"#N/A"},{"$error":"#N/A"}]
[{"$error":"#N/A"},{"$error":"#N/A"},{"$error":"#N/A"},{"$error":"#N/A"},{"$error":"#N/A"}]
[{"$error":"#N/A"},{"$error":"#N/A"},{"$error":"#N/A"},{"$error":"#N/A"},{"$error":"#N/A"}]
[{"$error":"#N/A"},{"$error":"#N/A"},{"$error":"#N/A"},{"$error":"#N/A"},{"$error":"#N/A"}]
[{"$error":"#N/A"},{"$error":"#N/A"},{"$error":"#N/A"},{"$error":"#N/A"},{"$error":"#N/A"}]
[{"$error":"#N/A"},{"$error":"#N/A"},{"$error":"#N/A"},{"$error":"#N/A"},{"$error":"#N/A"}]
[{"$error":"#N/A"},{"$error":"#N/A"},{"$error":"#N/A"},{"$error":"#N/A"},{"$error":"#N/A"}]
[{"$error":"#N/A"},{"$error":"#N/A"},{"$error":"#N/A"},{"$error":"#N/A"},{"$error":"#N/A"}]
[{"$error":"#N/A"},{"$error":"#N/A"},{"$error":"#N/A"},{"$error":"#N/A"},{"$error":"#N/A"}]
[{"$error":"#N/A"},{"$error":"#N/A"},{"$error":"#N/A"},{"$error":"#N/A"},{"$error":"#N/A"}]
[{"$error":"#N/A"},{"$error":"#N/A"},{"$error":"#N/A"},{"$error":"#N/A"},{"$error":"#N/A"}]
[{"$error":"#N/A"},{"$error":"#N/A"},{"$error":"#N/A"},{"$error":"#N/A"},{"$error":"#N/A"}]
[{"$error":"#N/A"},{"$error":"#N/A"},{"$error":"#N/A"},{"$error":"#N/A"},{"$error":"#N/A"}]
[{"$error":"#N/A"},{"$error":"#N/A"},{"$error":"#N/A"},{"$error":"#N/A"},{"$f":"IF(D966<>0,D966,\"\")","v":{"$error":"#N/A"}}]
[{"$error":"#N/A"},{"$error":"#N/A"},{"$error":"#N/A"},{"$error":"#N/A"},{"$error":"#N/A"}]
[{"$error":"#N/A"},{"$error":"#N/A"},{"$error":"#N/A"},{"$error":"#N/A"},{"$error":"#N/A"}]
[{"$error":"#N/A"},{"$error":"#N/A"},{"$error":"#N/A"},{"$error":"#N/A"},{"$error":"#N/A"}]
[{"$error":"#N/A"},{"$error":"#N/A"},{"$error":"#N/A"},{"$error":"#N/A"},{"$error":"#N/A"}]
[{"$error":"#N/A"},{"$error":"#N/A"},{"$error":"#N/A"},{"$error":"#N/A"},{"$error":"#N/A"}]
[{"$error":"#N/A"},{"$error":"#N/A"},{"$error":"#N/A"},{"$error":"#N/A"},{"$error":"#N/A"}]
[{"$error":"#N/A"},{"$error":"#N/A"},{"$error":"#N/A"},{"$error":"#N/A"},{"$error":"#N/A"}]
[{"$error":"#N/A"},{"$error":"#N/A"},{"$error":"#N/A"},{"$error":"#N/A"},{"$error":"#N/A"}]
[{"$error":"#N/A"},{"$error":"#N/A"},{"$error":"#N/A"},{"$error":"#N/A"},{"$error":"#N/A"}]
[{"$error":"#N/A"},{"$error":"#N/A"},{"$error":"#N/A"},{"$error":"#N/A"},{"$error":"#N/A"}]
[{"$error":"#N/A"},{"$error":"#N/A"},{"$error":"#N/A"},{"$error":"#N/A"},{"$error":"#N/A"}]
[{"$error":"#N/A"},{"$error":"#N/A"},{"$error":"#N/A"},{"$error":"#N/A"},{"$error":"#N/A"}]
[{"$error":"#N/A"},{"$error":"#N/A"},{"$error":"#N/A"},{"$error":"#N/A"},{"$error":"#N/A"}]
[{"$error":"#N/A"},{"$error":"#N/A"},{"$error":"#N/A"},{"$error":"#N/A"},{"$error":"#N/A"}]
[{"$error":"#N/A"},{"$error":"#N/A"},{"$error":"#N/A"},{"$error":"#N/A"},{"$error":"#N/A"}]
[{"$error":"#N/A"},{"$error":"#N/A"},{"$error":"#N/A"},{"$error":"#N/A"},{"$error":"#N/A"}]
[{"$error":"#N/A"},{"$error":"#N/A"},{"$error":"#N/A"},{"$error":"#N/A"},{"$error":"#N/A"}]
[{"$error":"#N/A"},{"$error":"#N/A"},{"$error":"#N/A"},{"$error":"#N/A"},{"$error":"#N/A"}]
[{"$error":"#N/A"},{"$error":"#N/A"},{"$error":"#N/A"},{"$error":"#N/A"},{"$error":"#N/A"}]
[{"$error":"#N/A"},{"$error":"#N/A"},{"$error":"#N/A"},{"$error":"#N/A"},{"$error":"#N/A"}]
[{"$error":"#N/A"},{"$error":"#N/A"},{"$error":"#N/A"},{"$error":"#N/A"},{"$error":"#N/A"}]
[{"$error":"#N/A"},{"$error":"#N/A"},{"$error":"#N/A"},{"$error":"#N/A"},{"$error":"#N/A"}]
[{"$error":"#N/A"},{"$error":"#N/A"},{"$error":"#N/A"},{"$error":"#N/A"},{"$error":"#N/A"}]
[{"$error":"#N/A"},{"$error":"#N/A"},{"$error":"#N/A"},{"$error":"#N/A"},{"$error":"#N/A"}]
[{"$error":"#N/A"},{"$error":"#N/A"},{"$error":"#N/A"},{"$error":"#N/A"},{"$error":"#N/A"}]
[{"$error":"#N/A"},{"$error":"#N/A"},{"$error":"#N/A"},{"$error":"#N/A"},{"$error":"#N/A"}]
[{"$error":"#N/A"},{"$error":"#N/A"},{"$error":"#N/A"},{"$error":"#N/A"},{"$error":"#N/A"}]
[{"$error":"#N/A"},{"$error":"#N/A"},{"$error":"#N/A"},{"$error":"#N/A"},{"$error":"#N/A"}]
[{"$error":"#N/A"},{"$error":"#N/A"},{"$error":"#N/A"},{"$error":"#N/A"},{"$error":"#N/A"}]
[{"$error":"#N/A"},{"$error":"#N/A"},{"$error":"#N/A"},{"$error":"#N/A"},{"$error":"#N/A"}]
[{"$error":"#N/A"},{"$error":"#N/A"},{"$error":"#N/A"},{"$error":"#N/A"},{"$error":"#N/A"}]
[{"$error":"#N/A"},{"$error":"#N/A"},{"$error":"#N/A"},{"$error":"#N/A"},{"$error":"#N/A"}]
[{"$error":"#N/A"},{"$error":"#N/A"},{"$error":"#N/A"},{"$error":"#N/A"},{"$error":"#N/A"}]
[{"$error":"#N/A"},{"$error":"#N/A"},{"$error":"#N/A"},{"$error":"#N/A"},{"$error":"#N/A"}]
[{"$error":"#N/A"},{"$error":"#N/A"},{"$error":"#N/A"},{"$error":"#N/A"},{"$error":"#N/A"}]
[{"$error":"#N/A"},{"$error":"#N/A"},{"$error":"#N/A"},{"$error":"#N/A"},{"$error":"#N/A"}]
[{"$error":"#N/A"},{"$error":"#N/A"},{"$error":"#N/A"},{"$error":"#N/A"},{"$error":"#N/A"}]
[{"$error":"#N/A"},{"$error":"#N/A"},{"$error":"#N/A"},{"$error":"#N/A"},{"$error":"#N/A"}]
[{"$error":"#N/A"},{"$error":"#N/A"},{"$error":"#N/A"},{"$error":"#N/A"},{"$error":"#N/A"}]
[{"$error":"#N/A"},{"$error":"#N/A"},{"$error":"#N/A"},{"$error":"#N/A"},{"$error":"#N/A"}]
[{"$error":"#N/A"},{"$error":"#N/A"},{"$error":"#N/A"},{"$error":"#N/A"},{"$error":"#N/A"}]
[{"$error":"#N/A"},{"$error":"#N/A"},{"$error":"#N/A"},{"$error":"#N/A"},{"$error":"#N/A"}]
[{"$error":"#N/A"},{"$error":"#N/A"},{"$error":"#N/A"},{"$error":"#N/A"},{"$error":"#N/A"}]
[{"$error":"#N/A"},{"$error":"#N/A"},{"$error":"#N/A"},{"$error":"#N/A"},{"$error":"#N/A"}]
[{"$error":"#N/A"},{"$error":"#N/A"},{"$error":"#N/A"},{"$error":"#N/A"},{"$error":"#N/A"}]
[{"$error":"#N/A"},{"$error":"#N/A"},{"$error":"#N/A"},{"$error":"#N/A"},{"$error":"#N/A"}]
[{"$error":"#N/A"},{"$error":"#N/A"},{"$error":"#N/A"},{"$error":"#N/A"},{"$error":"#N/A"}]
[{"$error":"#N/A"},{"$error":"#N/A"},{"$error":"#N/A"},{"$error":"#N/A"},{"$error":"#N/A"}]
[{"$error":"#N/A"},{"$error":"#N/A"},{"$error":"#N/A"},{"$error":"#N/A"},{"$error":"#N/A"}]
[{"$error":"#N/A"},{"$error":"#N/A"},{"$error":"#N/A"},{"$error":"#N/A"},{"$error":"#N/A"}]
[{"$error":"#N/A"},{"$error":"#N/A"},{"$error":"#N/A"},{"$error":"#N/A"},{"$error":"#N/A"}]
[{"$error":"#N/A"},{"$error":"#N/A"},{"$error":"#N/A"},{"$error":"#N/A"},{"$error":"#N/A"}]
[{"$error":"#N/A"},{"$error":"#N/A"},{"$error":"#N/A"},{"$error":"#N/A"},{"$error":"#N/A"}]
[{"$error":"#N/A"},{"$error":"#N/A"},{"$error":"#N/A"},{"$error":"#N/A"},{"$error":"#N/A"}]
[{"$error":"#N/A"},{"$error":"#N/A"},{"$error":"#N/A"},{"$error":"#N/A"},{"$error":"#N/A"}]
[{"$error":"#N/A"},{"$error":"#N/A"},{"$error":"#N/A"},{"$error":"#N/A"},{"$error":"#N/A"}]
[{"$error":"#N/A"},{"$error":"#N/A"},{"$error":"#N/A"},{"$error":"#N/A"},{"$error":"#N/A"}]
[{"$error":"#N/A"},{"$error":"#N/A"},{"$error":"#N/A"},{"$error":"#N/A"},{"$error":"#N/A"}]
[{"$error":"#N/A"},{"$error":"#N/A"},{"$error":"#N/A"},{"$error":"#N/A"},{"$error":"#N/A"}]
[{"$error":"#N/A"},{"$error":"#N/A"},{"$error":"#N/A"},{"$error":"#N/A"},{"$error":"#N/A"}]
[{"$error":"#N/A"},{"$error":"#N/A"},{"$error":"#N/A"},{"$error":"#N/A"},{"$error":"#N/A"}]
[{"$error":"#N/A"},{"$error":"#N/A"},{"$error":"#N/A"},{"$error":"#N/A"},{"$error":"#N/A"}]
[{"$error":"#N/A"},{"$error":"#N/A"},{"$error":"#N/A"},{"$error":"#N/A"},{"$error":"#N/A"}]
[{"$error":"#N/A"},{"$error":"#N/A"},{"$error":"#N/A"},{"$error":"#N/A"},{"$f":"IF(D1030<>0,D1030,\"\")","v":{"$error":"#N/A"}}]
[{"$error":"#N/A"},{"$error":"#N/A"},{"$error":"#N/A"},{"$error":"#N/A"},{"$error":"#N/A"}]
[{"$error":"#N/A"},{"$error":"#N/A"},{"$error":"#N/A"},{"$error":"#N/A"},{"$error":"#N/A"}]
[{"$error":"#N/A"},{"$error":"#N/A"},{"$error":"#N/A"},{"$error":"#N/A"},{"$error":"#N/A"}]
[{"$error":"#N/A"},{"$error":"#N/A"},{"$error":"#N/A"},{"$error":"#N/A"},{"$error":"#N/A"}]
[{"$error":"#N/A"},{"$error":"#N/A"},{"$error":"#N/A"},{"$error":"#N/A"},{"$error":"#N/A"}]
[{"$error":"#N/A"},{"$error":"#N/A"},{"$error":"#N/A"},{"$error":"#N/A"},{"$error":"#N/A"}]
[{"$error":"#N/A"},{"$error":"#N/A"},{"$error":"#N/A"},{"$error":"#N/A"},{"$error":"#N/A"}]
[{"$error":"#N/A"},{"$error":"#N/A"},{"$error":"#N/A"},{"$error":"#N/A"},{"$error":"#N/A"}]
[{"$error":"#N/A"},{"$error":"#N/A"},{"$error":"#N/A"},{"$error":"#N/A"},{"$error":"#N/A"}]
[{"$error":"#N/A"},{"$error":"#N/A"},{"$error":"#N/A"},{"$error":"#N/A"},{"$error":"#N/A"}]
[{"$error":"#N/A"},{"$error":"#N/A"},{"$error":"#N/A"},{"$error":"#N/A"},{"$error":"#N/A"}]
[{"$error":"#N/A"},{"$error":"#N/A"},{"$error":"#N/A"},{"$error":"#N/A"},{"$error":"#N/A"}]
[{"$error":"#N/A"},{"$error":"#N/A"},{"$error":"#N/A"},{"$error":"#N/A"},{"$error":"#N/A"}]
[{"$error":"#N/A"},{"$error":"#N/A"},{"$error":"#N/A"},{"$error":"#N/A"},{"$error":"#N/A"}]
[{"$error":"#N/A"},{"$error":"#N/A"},{"$error":"#N/A"},{"$error":"#N/A"},{"$error":"#N/A"}]
[{"$error":"#N/A"},{"$error":"#N/A"},{"$error":"#N/A"},{"$error":"#N/A"},{"$error":"#N/A"}]
[{"$error":"#N/A"},{"$error":"#N/A"},{"$error":"#N/A"},{"$error":"#N/A"},{"$error":"#N/A"}]
[{"$error":"#N/A"},{"$error":"#N/A"},{"$error":"#N/A"},{"$error":"#N/A"},{"$error":"#N/A"}]
[{"$error":"#N/A"},{"$error":"#N/A"},{"$error":"#N/A"},{"$error":"#N/A"},{"$error":"#N/A"}]
[{"$error":"#N/A"},{"$error":"#N/A"},{"$error":"#N/A"},{"$error":"#N/A"},{"$error":"#N/A"}]
[{"$error":"#N/A"},{"$error":"#N/A"},{"$error":"#N/A"},{"$error":"#N/A"},{"$error":"#N/A"}]
[{"$error":"#N/A"},{"$error":"#N/A"},{"$error":"#N/A"},{"$error":"#N/A"},{"$error":"#N/A"}]
[{"$error":"#N/A"},{"$error":"#N/A"},{"$error":"#N/A"},{"$error":"#N/A"},{"$error":"#N/A"}]
[{"$error":"#N/A"},{"$error":"#N/A"},{"$error":"#N/A"},{"$error":"#N/A"},{"$error":"#N/A"}]
[{"$error":"#N/A"},{"$error":"#N/A"},{"$error":"#N/A"},{"$error":"#N/A"},{"$error":"#N/A"}]
[{"$error":"#N/A"},{"$error":"#N/A"},{"$error":"#N/A"},{"$error":"#N/A"},{"$error":"#N/A"}]
[{"$error":"#N/A"},{"$error":"#N/A"},{"$error":"#N/A"},{"$error":"#N/A"},{"$error":"#N/A"}]
[{"$error":"#N/A"},{"$error":"#N/A"},{"$error":"#N/A"},{"$error":"#N/A"},{"$error":"#N/A"}]
[{"$error":"#N/A"},{"$error":"#N/A"},{"$error":"#N/A"},{"$error":"#N/A"},{"$error":"#N/A"}]
[{"$error":"#N/A"},{"$error":"#N/A"},{"$error":"#N/A"},{"$error":"#N/A"},{"$error":"#N/A"}]
[{"$error":"#N/A"},{"$error":"#N/A"},{"$error":"#N/A"},{"$error":"#N/A"},{"$error":"#N/A"}]
[{"$error":"#N/A"},{"$error":"#N/A"},{"$error":"#N/A"},{"$error":"#N/A"},{"$error":"#N/A"}]
[{"$error":"#N/A"},{"$error":"#N/A"},{"$error":"#N/A"},{"$error":"#N/A"},{"$error":"#N/A"}]
[{"$error":"#N/A"},{"$error":"#N/A"},{"$error":"#N/A"},{"$error":"#N/A"},{"$error":"#N/A"}]
[{"$error":"#N/A"},{"$error":"#N/A"},{"$error":"#N/A"},{"$error":"#N/A"},{"$error":"#N/A"}]
[{"$error":"#N/A"},{"$error":"#N/A"},{"$error":"#N/A"},{"$error":"#N/A"},{"$error":"#N/A"}]
[{"$error":"#N/A"},{"$error":"#N/A"},{"$error":"#N/A"},{"$error":"#N/A"},{"$error":"#N/A"}]
[{"$error":"#N/A"},{"$error":"#N/A"},{"$error":"#N/A"},{"$error":"#N/A"},{"$error":"#N/A"}]
[{"$error":"#N/A"},{"$error":"#N/A"},{"$error":"#N/A"},{"$error":"#N/A"},{"$error":"#N/A"}]
[{"$error":"#N/A"},{"$error":"#N/A"},{"$error":"#N/A"},{"$error":"#N/A"},{"$error":"#N/A"}]
[{"$error":"#N/A"},{"$error":"#N/A"},{"$error":"#N/A"},{"$error":"#N/A"},{"$error":"#N/A"}]
[{"$error":"#N/A"},{"$error":"#N/A"},{"$error":"#N/A"},{"$error":"#N/A"},{"$error":"#N/A"}]
[{"$error":"#N/A"},{"$error":"#N/A"},{"$error":"#N/A"},{"$error":"#N/A"},{"$error":"#N/A"}]
[{"$error":"#N/A"},{"$error":"#N/A"},{"$error":"#N/A"},{"$error":"#N/A"},{"$error":"#N/A"}]
[{"$error":"#N/A"},{"$error":"#N/A"},{"$error":"#N/A"},{"$error":"#N/A"},{"$error":"#N/A"}]
[{"$error":"#N/A"},{"$error":"#N/A"},{"$error":"#N/A"},{"$error":"#N/A"},{"$error":"#N/A"}]
[{"$error":"#N/A"},{"$error":"#N/A"},{"$error":"#N/A"},{"$error":"#N/A"},{"$error":"#N/A"}]
[{"$error":"#N/A"},{"$error":"#N/A"},{"$error":"#N/A"},{"$error":"#N/A"},{"$error":"#N/A"}]
[{"$error":"#N/A"},{"$error":"#N/A"},{"$error":"#N/A"},{"$error":"#N/A"},{"$error":"#N/A"}]
[{"$error":"#N/A"},{"$error":"#N/A"},{"$error":"#N/A"},{"$error":"#N/A"},{"$error":"#N/A"}]
[{"$error":"#N/A"},{"$error":"#N/A"},{"$error":"#N/A"},{"$error":"#N/A"},{"$error":"#N/A"}]
[{"$error":"#N/A"},{"$error":"#N/A"},{"$error":"#N/A"},{"$error":"#N/A"},{"$error":"#N/A"}]
[{"$error":"#N/A"},{"$error":"#N/A"},{"$error":"#N/A"},{"$error":"#N/A"},{"$error":"#N/A"}]
[{"$error":"#N/A"},{"$error":"#N/A"},{"$error":"#N/A"},{"$error":"#N/A"},{"$error":"#N/A"}]
[{"$error":"#N/A"},{"$error":"#N/A"},{"$error":"#N/A"},{"$error":"#N/A"},{"$error":"#N/A"}]
[{"$error":"#N/A"},{"$error":"#N/A"},{"$error":"#N/A"},{"$error":"#N/A"},{"$error":"#N/A"}]
[{"$error":"#N/A"},{"$error":"#N/A"},{"$error":"#N/A"},{"$error":"#N/A"},{"$error":"#N/A"}]
[{"$error":"#N/A"},{"$error":"#N/A"},{"$error":"#N/A"},{"$error":"#N/A"},{"$error":"#N/A"}]
[{"$error":"#N/A"},{"$error":"#N/A"},{"$error":"#N/A"},{"$error":"#N/A"},{"$error":"#N/A"}]
[{"$error":"#N/A"},{"$error":"#N/A"},{"$error":"#N/A"},{"$error":"#N/A"},{"$error":"#N/A"}]
[{"$error":"#N/A"},{"$error":"#N/A"},{"$error":"#N/A"},{"$error":"#N/A"},{"$error":"#N/A"}]
[{"$error":"#N/A"},{"$error":"#N/A"},{"$error":"#N/A"},{"$error":"#N/A"},{"$error":"#N/A"}]
[{"$error":"#N/A"},{"$error":"#N/A"},{"$error":"#N/A"},{"$error":"#N/A"},{"$error":"#N/A"}]
[{"$error":"#N/A"},{"$error":"#N/A"},{"$error":"#N/A"},{"$error":"#N/A"},{"$f":"IF(D1094<>0,D1094,\"\")","v":{"$error":"#N/A"}}]
[{"$error":"#N/A"},{"$error":"#N/A"},{"$error":"#N/A"},{"$error":"#N/A"},{"$error":"#N/A"}]
[{"$error":"#N/A"},{"$error":"#N/A"},{"$error":"#N/A"},{"$error":"#N/A"},{"$error":"#N/A"}]
[{"$error":"#N/A"},{"$error":"#N/A"},{"$error":"#N/A"},{"$error":"#N/A"},{"$error":"#N/A"}]
[{"$error":"#N/A"},{"$error":"#N/A"},{"$error":"#N/A"},{"$error":"#N/A"},{"$error":"#N/A"}]
[{"$error":"#N/A"},{"$error":"#N/A"},{"$error":"#N/A"},{"$error":"#N/A"},{"$error":"#N/A"}]
[{"$error":"#N/A"},{"$error":"#N/A"},{"$error":"#N/A"},{"$error":"#N/A"},{"$error":"#N/A"}]
[{"$error":"#N/A"},{"$error":"#N/A"},{"$error":"#N/A"},{"$error":"#N/A"},{"$error":"#N/A"}]
[{"$error":"#N/A"},{"$error":"#N/A"},{"$error":"#N/A"},{"$error":"#N/A"},{"$error":"#N/A"}]
[{"$error":"#N/A"},{"$error":"#N/A"},{"$error":"#N/A"},{"$error":"#N/A"},{"$error":"#N/A"}]
[{"$error":"#N/A"},{"$error":"#N/A"},{"$error":"#N/A"},{"$error":"#N/A"},{"$error":"#N/A"}]
[{"$error":"#N/A"},{"$error":"#N/A"},{"$error":"#N/A"},{"$error":"#N/A"},{"$error":"#N/A"}]
[{"$error":"#N/A"},{"$error":"#N/A"},{"$error":"#N/A"},{"$error":"#N/A"},{"$error":"#N/A"}]
[{"$error":"#N/A"},{"$error":"#N/A"},{"$error":"#N/A"},{"$error":"#N/A"},{"$error":"#N/A"}]
[{"$error":"#N/A"},{"$error":"#N/A"},{"$error":"#N/A"},{"$error":"#N/A"},{"$error":"#N/A"}]
[{"$error":"#N/A"},{"$error":"#N/A"},{"$error":"#N/A"},{"$error":"#N/A"},{"$error":"#N/A"}]
[{"$error":"#N/A"},{"$error":"#N/A"},{"$error":"#N/A"},{"$error":"#N/A"},{"$error":"#N/A"}]
[{"$error":"#N/A"},{"$error":"#N/A"},{"$error":"#N/A"},{"$error":"#N/A"},{"$error":"#N/A"}]
[{"$error":"#N/A"},{"$error":"#N/A"},{"$error":"#N/A"},{"$error":"#N/A"},{"$error":"#N/A"}]
[{"$error":"#N/A"},{"$error":"#N/A"},{"$error":"#N/A"},{"$error":"#N/A"},{"$error":"#N/A"}]
[{"$error":"#N/A"},{"$error":"#N/A"},{"$error":"#N/A"},{"$error":"#N/A"},{"$error":"#N/A"}]
[{"$error":"#N/A"},{"$error":"#N/A"},{"$error":"#N/A"},{"$error":"#N/A"},{"$error":"#N/A"}]
[{"$error":"#N/A"},{"$error":"#N/A"},{"$error":"#N/A"},{"$error":"#N/A"},{"$error":"#N/A"}]
[{"$error":"#N/A"},{"$error":"#N/A"},{"$error":"#N/A"},{"$error":"#N/A"},{"$error":"#N/A"}]
[{"$error":"#N/A"},{"$error":"#N/A"},{"$error":"#N/A"},{"$error":"#N/A"},{"$error":"#N/A"}]
[{"$error":"#N/A"},{"$error":"#N/A"},{"$error":"#N/A"},{"$error":"#N/A"},{"$error":"#N/A"}]
[{"$error":"#N/A"},{"$error":"#N/A"},{"$error":"#N/A"},{"$error":"#N/A"},{"$error":"#N/A"}]
[{"$error":"#N/A"},{"$error":"#N/A"},{"$error":"#N/A"},{"$error":"#N/A"},{"$error":"#N/A"}]
[{"$error":"#N/A"},{"$error":"#N/A"},{"$error":"#N/A"},{"$error":"#N/A"},{"$error":"#N/A"}]
[{"$error":"#N/A"},{"$error":"#N/A"},{"$error":"#N/A"},{"$error":"#N/A"},{"$error":"#N/A"}]
[{"$error":"#N/A"},{"$error":"#N/A"},{"$error":"#N/A"},{"$error":"#N/A"},{"$error":"#N/A"}]
[{"$error":"#N/A"},{"$error":"#N/A"},{"$error":"#N/A"},{"$error":"#N/A"},{"$error":"#N/A"}]
[{"$error":"#N/A"},{"$error":"#N/A"},{"$error":"#N/A"},{"$error":"#N/A"},{"$error":"#N/A"}]
[{"$error":"#N/A"},{"$error":"#N/A"},{"$error":"#N/A"},{"$error":"#N/A"},{"$error":"#N/A"}]
[{"$error":"#N/A"},{"$error":"#N/A"},{"$error":"#N/A"},{"$error":"#N/A"},{"$error":"#N/A"}]
[{"$error":"#N/A"},{"$error":"#N/A"},{"$error":"#N/A"},{"$error":"#N/A"},{"$error":"#N/A"}]
[{"$error":"#N/A"},{"$error":"#N/A"},{"$error":"#N/A"},{"$error":"#N/A"},{"$error":"#N/A"}]
[{"$error":"#N/A"},{"$error":"#N/A"},{"$error":"#N/A"},{"$error":"#N/A"},{"$error":"#N/A"}]
[{"$error":"#N/A"},{"$error":"#N/A"},{"$error":"#N/A"},{"$error":"#N/A"},{"$error":"#N/A"}]
[{"$error":"#N/A"},{"$error":"#N/A"},{"$error":"#N/A"},{"$error":"#N/A"},{"$error":"#N/A"}]
[{"$error":"#N/A"},{"$error":"#N/A"},{"$error":"#N/A"},{"$error":"#N/A"},{"$error":"#N/A"}]
[{"$error":"#N/A"},{"$error":"#N/A"},{"$error":"#N/A"},{"$error":"#N/A"},{"$error":"#N/A"}]
[{"$error":"#N/A"},{"$error":"#N/A"},{"$error":"#N/A"},{"$error":"#N/A"},{"$error":"#N/A"}]
[{"$error":"#N/A"},{"$error":"#N/A"},{"$error":"#N/A"},{"$error":"#N/A"},{"$error":"#N/A"}]
[{"$error":"#N/A"},{"$error":"#N/A"},{"$error":"#N/A"},{"$error":"#N/A"},{"$error":"#N/A"}]
[{"$error":"#N/A"},{"$error":"#N/A"},{"$error":"#N/A"},{"$error":"#N/A"},{"$error":"#N/A"}]
[{"$error":"#N/A"},{"$error":"#N/A"},{"$error":"#N/A"},{"$error":"#N/A"},{"$error":"#N/A"}]
[{"$error":"#N/A"},{"$error":"#N/A"},{"$error":"#N/A"},{"$error":"#N/A"},{"$error":"#N/A"}]
[{"$error":"#N/A"},{"$error":"#N/A"},{"$error":"#N/A"},{"$error":"#N/A"},{"$error":"#N/A"}]
[{"$error":"#N/A"},{"$error":"#N/A"},{"$error":"#N/A"},{"$error":"#N/A"},{"$error":"#N/A"}]
[{"$error":"#N/A"},{"$error":"#N/A"},{"$error":"#N/A"},{"$error":"#N/A"},{"$error":"#N/A"}]
[{"$error":"#N/A"},{"$error":"#N/A"},{"$error":"#N/A"},{"$error":"#N/A"},{"$error":"#N/A"}]
[{"$error":"#N/A"},{"$error":"#N/A"},{"$error":"#N/A"},{"$error":"#N/A"},{"$error":"#N/A"}]
[{"$error":"#N/A"},{"$error":"#N/A"},{"$error":"#N/A"},{"$error":"#N/A"},{"$error":"#N/A"}]
[{"$error":"#N/A"},{"$error":"#N/A"},{"$error":"#N/A"},{"$error":"#N/A"},{"$error":"#N/A"}]
[{"$error":"#N/A"},{"$error":"#N/A"},{"$error":"#N/A"},{"$error":"#N/A"},{"$error":"#N/A"}]
[{"$error":"#N/A"},{"$error":"#N/A"},{"$error":"#N/A"},{"$error":"#N/A"},{"$error":"#N/A"}]
[{"$error":"#N/A"},{"$error":"#N/A"},{"$error":"#N/A"},{"$error":"#N/A"},{"$error":"#N/A"}]
[{"$error":"#N/A"},{"$error":"#N/A"},{"$error":"#N/A"},{"$error":"#N/A"},{"$error":"#N/A"}]
[{"$error":"#N/A"},{"$error":"#N/A"},{"$error":"#N/A"},{"$error":"#N/A"},{"$error":"#N/A"}]
[{"$error":"#N/A"},{"$error":"#N/A"},{"$error":"#N/A"},{"$error":"#N/A"},{"$error":"#N/A"}]
[{"$error":"#N/A"},{"$error":"#N/A"},{"$error":"#N/A"},{"$error":"#N/A"},{"$error":"#N/A"}]
[{"$error":"#N/A"},{"$error":"#N/A"},{"$error":"#N/A"},{"$error":"#N/A"},{"$error":"#N/A"}]
[{"$error":"#N/A"},{"$error":"#N/A"},{"$error":"#N/A"},{"$error":"#N/A"},{"$error":"#N/A"}]
[{"$error":"#N/A"},{"$error":"#N/A"},{"$error":"#N/A"},{"$error":"#N/A"},{"$f":"IF(D1158<>0,D1158,\"\")","v":{"$error":"#N/A"}}]
[{"$error":"#N/A"},{"$error":"#N/A"},{"$error":"#N/A"},{"$error":"#N/A"},{"$error":"#N/A"}]
[{"$error":"#N/A"},{"$error":"#N/A"},{"$error":"#N/A"},{"$error":"#N/A"},{"$error":"#N/A"}]
[{"$error":"#N/A"},{"$error":"#N/A"},{"$error":"#N/A"},{"$error":"#N/A"},{"$error":"#N/A"}]
[{"$error":"#N/A"},{"$error":"#N/A"},{"$error":"#N/A"},{"$error":"#N/A"},{"$error":"#N/A"}]
[{"$error":"#N/A"},{"$error":"#N/A"},{"$error":"#N/A"},{"$error":"#N/A"},{"$error":"#N/A"}]
[{"$error":"#N/A"},{"$error":"#N/A"},{"$error":"#N/A"},{"$error":"#N/A"},{"$error":"#N/A"}]
[{"$error":"#N/A"},{"$error":"#N/A"},{"$error":"#N/A"},{"$error":"#N/A"},{"$error":"#N/A"}]
[{"$error":"#N/A"},{"$error":"#N/A"},{"$error":"#N/A"},{"$error":"#N/A"},{"$error":"#N/A"}]
[{"$error":"#N/A"},{"$error":"#N/A"},{"$error":"#N/A"},{"$error":"#N/A"},{"$error":"#N/A"}]
[{"$error":"#N/A"},{"$error":"#N/A"},{"$error":"#N/A"},{"$error":"#N/A"},{"$error":"#N/A"}]
[{"$error":"#N/A"},{"$error":"#N/A"},{"$error":"#N/A"},{"$error":"#N/A"},{"$error":"#N/A"}]
[{"$error":"#N/A"},{"$error":"#N/A"},{"$error":"#N/A"},{"$error":"#N/A"},{"$error":"#N/A"}]
[{"$error":"#N/A"},{"$error":"#N/A"},{"$error":"#N/A"},{"$error":"#N/A"},{"$error":"#N/A"}]
[{"$error":"#N/A"},{"$error":"#N/A"},{"$error":"#N/A"},{"$error":"#N/A"},{"$error":"#N/A"}]
[{"$error":"#N/A"},{"$error":"#N/A"},{"$error":"#N/A"},{"$error":"#N/A"},{"$error":"#N/A"}]
[{"$error":"#N/A"},{"$error":"#N/A"},{"$error":"#N/A"},{"$error":"#N/A"},{"$error":"#N/A"}]
[{"$error":"#N/A"},{"$error":"#N/A"},{"$error":"#N/A"},{"$error":"#N/A"},{"$error":"#N/A"}]
[{"$error":"#N/A"},{"$error":"#N/A"},{"$error":"#N/A"},{"$error":"#N/A"},{"$error":"#N/A"}]
[{"$error":"#N/A"},{"$error":"#N/A"},{"$error":"#N/A"},{"$error":"#N/A"},{"$error":"#N/A"}]
[{"$error":"#N/A"},{"$error":"#N/A"},{"$error":"#N/A"},{"$error":"#N/A"},{"$error":"#N/A"}]
[{"$error":"#N/A"},{"$error":"#N/A"},{"$error":"#N/A"},{"$error":"#N/A"},{"$error":"#N/A"}]
[{"$error":"#N/A"},{"$error":"#N/A"},{"$error":"#N/A"},{"$error":"#N/A"},{"$error":"#N/A"}]
[{"$error":"#N/A"},{"$error":"#N/A"},{"$error":"#N/A"},{"$error":"#N/A"},{"$error":"#N/A"}]
[{"$error":"#N/A"},{"$error":"#N/A"},{"$error":"#N/A"},{"$error":"#N/A"},{"$error":"#N/A"}]
[{"$error":"#N/A"},{"$error":"#N/A"},{"$error":"#N/A"},{"$error":"#N/A"},{"$error":"#N/A"}]
[{"$error":"#N/A"},{"$error":"#N/A"},{"$error":"#N/A"},{"$error":"#N/A"},{"$error":"#N/A"}]
[{"$error":"#N/A"},{"$error":"#N/A"},{"$error":"#N/A"},{"$error":"#N/A"},{"$error":"#N/A"}]
[{"$error":"#N/A"},{"$error":"#N/A"},{"$error":"#N/A"},{"$error":"#N/A"},{"$error":"#N/A"}]
[{"$error":"#N/A"},{"$error":"#N/A"},{"$error":"#N/A"},{"$error":"#N/A"},{"$error":"#N/A"}]
[{"$error":"#N/A"},{"$error":"#N/A"},{"$error":"#N/A"},{"$error":"#N/A"},{"$error":"#N/A"}]
[{"$error":"#N/A"},{"$error":"#N/A"},{"$error":"#N/A"},{"$error":"#N/A"},{"$error":"#N/A"}]
[{"$error":"#N/A"},{"$error":"#N/A"},{"$error":"#N/A"},{"$error":"#N/A"},{"$error":"#N/A"}]
[{"$error":"#N/A"},{"$error":"#N/A"},{"$error":"#N/A"},{"$error":"#N/A"},{"$error":"#N/A"}]
[{"$error":"#N/A"},{"$error":"#N/A"},{"$error":"#N/A"},{"$error":"#N/A"},{"$error":"#N/A"}]
[{"$error":"#N/A"},{"$error":"#N/A"},{"$error":"#N/A"},{"$error":"#N/A"},{"$error":"#N/A"}]
[{"$error":"#N/A"},{"$error":"#N/A"},{"$error":"#N/A"},{"$error":"#N/A"},{"$error":"#N/A"}]
[{"$error":"#N/A"},{"$error":"#N/A"},{"$error":"#N/A"},{"$error":"#N/A"},{"$error":"#N/A"}]
[{"$error":"#N/A"},{"$error":"#N/A"},{"$error":"#N/A"},{"$error":"#N/A"},{"$error":"#N/A"}]
[{"$error":"#N/A"},{"$error":"#N/A"},{"$error":"#N/A"},{"$error":"#N/A"},{"$error":"#N/A"}]
[{"$error":"#N/A"},{"$error":"#N/A"},{"$error":"#N/A"},{"$error":"#N/A"},{"$error":"#N/A"}]
[{"$error":"#N/A"},{"$error":"#N/A"},{"$error":"#N/A"},{"$error":"#N/A"},{"$error":"#N/A"}]
[{"$error":"#N/A"},{"$error":"#N/A"},{"$error":"#N/A"},{"$error":"#N/A"},{"$error":"#N/A"}]
[{"$error":"#N/A"},{"$error":"#N/A"},{"$error":"#N/A"},{"$error":"#N/A"},{"$error":"#N/A"}]
[{"$error":"#N/A"},{"$error":"#N/A"},{"$error":"#N/A"},{"$error":"#N/A"},{"$error":"#N/A"}]
[{"$error":"#N/A"},{"$error":"#N/A"},{"$error":"#N/A"},{"$error":"#N/A"},{"$error":"#N/A"}]
[{"$error":"#N/A"},{"$error":"#N/A"},{"$error":"#N/A"},{"$error":"#N/A"},{"$error":"#N/A"}]
[{"$error":"#N/A"},{"$error":"#N/A"},{"$error":"#N/A"},{"$error":"#N/A"},{"$error":"#N/A"}]
[{"$error":"#N/A"},{"$error":"#N/A"},{"$error":"#N/A"},{"$error":"#N/A"},{"$error":"#N/A"}]
[{"$error":"#N/A"},{"$error":"#N/A"},{"$error":"#N/A"},{"$error":"#N/A"},{"$error":"#N/A"}]
[{"$error":"#N/A"},{"$error":"#N/A"},{"$error":"#N/A"},{"$error":"#N/A"},{"$error":"#N/A"}]
[{"$error":"#N/A"},{"$error":"#N/A"},{"$error":"#N/A"},{"$error":"#N/A"},{"$error":"#N/A"}]
[{"$error":"#N/A"},{"$error":"#N/A"},{"$error":"#N/A"},{"$error":"#N/A"},{"$error":"#N/A"}]
[{"$error":"#N/A"},{"$error":"#N/A"},{"$error":"#N/A"},{"$error":"#N/A"},{"$error":"#N/A"}]
[{"$error":"#N/A"},{"$error":"#N/A"},{"$error":"#N/A"},{"$error":"#N/A"},{"$error":"#N/A"}]
[{"$error":"#N/A"},{"$error":"#N/A"},{"$error":"#N/A"},{"$error":"#N/A"},{"$error":"#N/A"}]
[{"$error":"#N/A"},{"$error":"#N/A"},{"$error":"#N/A"},{"$error":"#N/A"},{"$error":"#N/A"}]
[{"$error":"#N/A"},{"$error":"#N/A"},{"$error":"#N/A"},{"$error":"#N/A"},{"$error":"#N/A"}]
[{"$error":"#N/A"},{"$error":"#N/A"},{"$error":"#N/A"},{"$error":"#N/A"},{"$error":"#N/A"}]
[{"$error":"#N/A"},{"$error":"#N/A"},{"$error":"#N/A"},{"$error":"#N/A"},{"$error":"#N/A"}]
[{"$error":"#N/A"},{"$error":"#N/A"},{"$error":"#N/A"},{"$error":"#N/A"},{"$error":"#N/A"}]
[{"$error":"#N/A"},{"$error":"#N/A"},{"$error":"#N/A"},{"$error":"#N/A"},{"$error":"#N/A"}]
[{"$error":"#N/A"},{"$error":"#N/A"},{"$error":"#N/A"},{"$error":"#N/A"},{"$error":"#N/A"}]
[{"$error":"#N/A"},{"$error":"#N/A"},{"$error":"#N/A"},{"$error":"#N/A"},{"$error":"#N/A"}]
[{"$error":"#N/A"},{"$error":"#N/A"},{"$error":"#N/A"},{"$error":"#N/A"},{"$f":"IF(D1222<>0,D1222,\"\")","v":{"$error":"#N/A"}}]
[{"$error":"#N/A"},{"$error":"#N/A"},{"$error":"#N/A"},{"$error":"#N/A"},{"$error":"#N/A"}]
[{"$error":"#N/A"},{"$error":"#N/A"},{"$error":"#N/A"},{"$error":"#N/A"},{"$error":"#N/A"}]
[{"$error":"#N/A"},{"$error":"#N/A"},{"$error":"#N/A"},{"$error":"#N/A"},{"$error":"#N/A"}]
[{"$error":"#N/A"},{"$error":"#N/A"},{"$error":"#N/A"},{"$error":"#N/A"},{"$error":"#N/A"}]
[{"$error":"#N/A"},{"$error":"#N/A"},{"$error":"#N/A"},{"$error":"#N/A"},{"$error":"#N/A"}]
[{"$error":"#N/A"},{"$error":"#N/A"},{"$error":"#N/A"},{"$error":"#N/A"},{"$error":"#N/A"}]
[{"$error":"#N/A"},{"$error":"#N/A"},{"$error":"#N/A"},{"$error":"#N/A"},{"$error":"#N/A"}]
[{"$error":"#N/A"},{"$error":"#N/A"},{"$error":"#N/A"},{"$error":"#N/A"},{"$error":"#N/A"}]
[{"$error":"#N/A"},{"$error":"#N/A"},{"$error":"#N/A"},{"$error":"#N/A"},{"$error":"#N/A"}]
[{"$error":"#N/A"},{"$error":"#N/A"},{"$error":"#N/A"},{"$error":"#N/A"},{"$error":"#N/A"}]
[{"$error":"#N/A"},{"$error":"#N/A"},{"$error":"#N/A"},{"$error":"#N/A"},{"$error":"#N/A"}]
[{"$error":"#N/A"},{"$error":"#N/A"},{"$error":"#N/A"},{"$error":"#N/A"},{"$error":"#N/A"}]
[{"$error":"#N/A"},{"$error":"#N/A"},{"$error":"#N/A"},{"$error":"#N/A"},{"$error":"#N/A"}]
[{"$error":"#N/A"},{"$error":"#N/A"},{"$error":"#N/A"},{"$error":"#N/A"},{"$error":"#N/A"}]
[{"$error":"#N/A"},{"$error":"#N/A"},{"$error":"#N/A"},{"$error":"#N/A"},{"$error":"#N/A"}]
[{"$error":"#N/A"},{"$error":"#N/A"},{"$error":"#N/A"},{"$error":"#N/A"},{"$error":"#N/A"}]
[{"$error":"#N/A"},{"$error":"#N/A"},{"$error":"#N/A"},{"$error":"#N/A"},{"$error":"#N/A"}]
[{"$error":"#N/A"},{"$error":"#N/A"},{"$error":"#N/A"},{"$error":"#N/A"},{"$error":"#N/A"}]
[{"$error":"#N/A"},{"$error":"#N/A"},{"$error":"#N/A"},{"$error":"#N/A"},{"$error":"#N/A"}]
[{"$error":"#N/A"},{"$error":"#N/A"},{"$error":"#N/A"},{"$error":"#N/A"},{"$error":"#N/A"}]
[{"$error":"#N/A"},{"$error":"#N/A"},{"$error":"#N/A"},{"$error":"#N/A"},{"$error":"#N/A"}]
[{"$error":"#N/A"},{"$error":"#N/A"},{"$error":"#N/A"},{"$error":"#N/A"},{"$error":"#N/A"}]
[{"$error":"#N/A"},{"$error":"#N/A"},{"$error":"#N/A"},{"$error":"#N/A"},{"$error":"#N/A"}]
[{"$error":"#N/A"},{"$error":"#N/A"},{"$error":"#N/A"},{"$error":"#N/A"},{"$error":"#N/A"}]
[{"$error":"#N/A"},{"$error":"#N/A"},{"$error":"#N/A"},{"$error":"#N/A"},{"$error":"#N/A"}]
[{"$error":"#N/A"},{"$error":"#N/A"},{"$error":"#N/A"},{"$error":"#N/A"},{"$error":"#N/A"}]
[{"$error":"#N/A"},{"$error":"#N/A"},{"$error":"#N/A"},{"$error":"#N/A"},{"$error":"#N/A"}]
[{"$error":"#N/A"},{"$error":"#N/A"},{"$error":"#N/A"},{"$error":"#N/A"},{"$error":"#N/A"}]
[{"$error":"#N/A"},{"$error":"#N/A"},{"$error":"#N/A"},{"$error":"#N/A"},{"$error":"#N/A"}]
[{"$error":"#N/A"},{"$error":"#N/A"},{"$error":"#N/A"},{"$error":"#N/A"},{"$error":"#N/A"}]
[{"$error":"#N/A"},{"$error":"#N/A"},{"$error":"#N/A"},{"$error":"#N/A"},{"$error":"#N/A"}]
[{"$error":"#N/A"},{"$error":"#N/A"},{"$error":"#N/A"},{"$error":"#N/A"},{"$error":"#N/A"}]
[{"$error":"#N/A"},{"$error":"#N/A"},{"$error":"#N/A"},{"$error":"#N/A"},{"$error":"#N/A"}]
[{"$error":"#N/A"},{"$error":"#N/A"},{"$error":"#N/A"},{"$error":"#N/A"},{"$error":"#N/A"}]
[{"$error":"#N/A"},{"$error":"#N/A"},{"$error":"#N/A"},{"$error":"#N/A"},{"$error":"#N/A"}]
[{"$error":"#N/A"},{"$error":"#N/A"},{"$error":"#N/A"},{"$error":"#N/A"},{"$error":"#N/A"}]
[{"$error":"#N/A"},{"$error":"#N/A"},{"$error":"#N/A"},{"$error":"#N/A"},{"$error":"#N/A"}]
[{"$error":"#N/A"},{"$error":"#N/A"},{"$error":"#N/A"},{"$error":"#N/A"},{"$error":"#N/A"}]
[{"$error":"#N/A"},{"$error":"#N/A"},{"$error":"#N/A"},{"$error":"#N/A"},{"$error":"#N/A"}]
[{"$error":"#N/A"},{"$error":"#N/A"},{"$error":"#N/A"},{"$error":"#N/A"},{"$error":"#N/A"}]
[{"$error":"#N/A"},{"$error":"#N/A"},{"$error":"#N/A"},{"$error":"#N/A"},{"$error":"#N/A"}]
[{"$error":"#N/A"},{"$error":"#N/A"},{"$error":"#N/A"},{"$error":"#N/A"},{"$error":"#N/A"}]
[{"$error":"#N/A"},{"$error":"#N/A"},{"$error":"#N/A"},{"$error":"#N/A"},{"$error":"#N/A"}]
[{"$error":"#N/A"},{"$error":"#N/A"},{"$error":"#N/A"},{"$error":"#N/A"},{"$error":"#N/A"}]
[{"$error":"#N/A"},{"$error":"#N/A"},{"$error":"#N/A"},{"$error":"#N/A"},{"$error":"#N/A"}]
[{"$error":"#N/A"},{"$error":"#N/A"},{"$error":"#N/A"},{"$error":"#N/A"},{"$error":"#N/A"}]
[{"$error":"#N/A"},{"$error":"#N/A"},{"$error":"#N/A"},{"$error":"#N/A"},{"$error":"#N/A"}]
[{"$error":"#N/A"},{"$error":"#N/A"},{"$error":"#N/A"},{"$error":"#N/A"},{"$error":"#N/A"}]
[{"$error":"#N/A"},{"$error":"#N/A"},{"$error":"#N/A"},{"$error":"#N/A"},{"$error":"#N/A"}]
[{"$error":"#N/A"},{"$error":"#N/A"},{"$error":"#N/A"},{"$error":"#N/A"},{"$error":"#N/A"}]
[{"$error":"#N/A"},{"$error":"#N/A"},{"$error":"#N/A"},{"$error":"#N/A"},{"$error":"#N/A"}]
[{"$error":"#N/A"},{"$error":"#N/A"},{"$error":"#N/A"},{"$error":"#N/A"},{"$error":"#N/A"}]
[{"$error":"#N/A"},{"$error":"#N/A"},{"$error":"#N/A"},{"$error":"#N/A"},{"$error":"#N/A"}]
[{"$error":"#N/A"},{"$error":"#N/A"},{"$error":"#N/A"},{"$error":"#N/A"},{"$error":"#N/A"}]
[{"$error":"#N/A"},{"$error":"#N/A"},{"$error":"#N/A"},{"$error":"#N/A"},{"$error":"#N/A"}]
[{"$error":"#N/A"},{"$error":"#N/A"},{"$error":"#N/A"},{"$error":"#N/A"},{"$error":"#N/A"}]
[{"$error":"#N/A"},{"$error":"#N/A"},{"$error":"#N/A"},{"$error":"#N/A"},{"$error":"#N/A"}]
[{"$error":"#N/A"},{"$error":"#N/A"},{"$error":"#N/A"},{"$error":"#N/A"},{"$error":"#N/A"}]
[{"$error":"#N/A"},{"$error":"#N/A"},{"$error":"#N/A"},{"$error":"#N/A"},{"$error":"#N/A"}]
[{"$error":"#N/A"},{"$error":"#N/A"},{"$error":"#N/A"},{"$error":"#N/A"},{"$error":"#N/A"}]
[{"$error":"#N/A"},{"$error":"#N/A"},{"$error":"#N/A"},{"$error":"#N/A"},{"$error":"#N/A"}]
[{"$error":"#N/A"},{"$error":"#N/A"},{"$error":"#N/A"},{"$error":"#N/A"},{"$error":"#N/A"}]
[{"$error":"#N/A"},{"$error":"#N/A"},{"$error":"#N/A"},{"$error":"#N/A"},{"$error":"#N/A"}]
[{"$error":"#N/A"},{"$error":"#N/A"},{"$error":"#N/A"},{"$error":"#N/A"},{"$f":"IF(D1286<>0,D1286,\"\")","v":{"$error":"#N/A"}}]
[{"$error":"#N/A"},{"$error":"#N/A"},{"$error":"#N/A"},{"$error":"#N/A"},{"$error":"#N/A"}]
[{"$error":"#N/A"},{"$error":"#N/A"},{"$error":"#N/A"},{"$error":"#N/A"},{"$error":"#N/A"}]
[{"$error":"#N/A"},{"$error":"#N/A"},{"$error":"#N/A"},{"$error":"#N/A"},{"$error":"#N/A"}]
[{"$error":"#N/A"},{"$error":"#N/A"},{"$error":"#N/A"},{"$error":"#N/A"},{"$error":"#N/A"}]
[{"$error":"#N/A"},{"$error":"#N/A"},{"$error":"#N/A"},{"$error":"#N/A"},{"$error":"#N/A"}]
[{"$error":"#N/A"},{"$error":"#N/A"},{"$error":"#N/A"},{"$error":"#N/A"},{"$error":"#N/A"}]
[{"$error":"#N/A"},{"$error":"#N/A"},{"$error":"#N/A"},{"$error":"#N/A"},{"$error":"#N/A"}]
[{"$error":"#N/A"},{"$error":"#N/A"},{"$error":"#N/A"},{"$error":"#N/A"},{"$error":"#N/A"}]
[{"$error":"#N/A"},{"$error":"#N/A"},{"$error":"#N/A"},{"$error":"#N/A"},{"$error":"#N/A"}]
[{"$error":"#N/A"},{"$error":"#N/A"},{"$error":"#N/A"},{"$error":"#N/A"},{"$error":"#N/A"}]
[{"$error":"#N/A"},{"$error":"#N/A"},{"$error":"#N/A"},{"$error":"#N/A"},{"$error":"#N/A"}]
[{"$error":"#N/A"},{"$error":"#N/A"},{"$error":"#N/A"},{"$error":"#N/A"},{"$error":"#N/A"}]
[{"$error":"#N/A"},{"$error":"#N/A"},{"$error":"#N/A"},{"$error":"#N/A"},{"$error":"#N/A"}]
[{"$error":"#N/A"},{"$error":"#N/A"},{"$error":"#N/A"},{"$error":"#N/A"},{"$error":"#N/A"}]
[{"$error":"#N/A"},{"$error":"#N/A"},{"$error":"#N/A"},{"$error":"#N/A"},{"$error":"#N/A"}]
[{"$error":"#N/A"},{"$error":"#N/A"},{"$error":"#N/A"},{"$error":"#N/A"},{"$error":"#N/A"}]
[{"$error":"#N/A"},{"$error":"#N/A"},{"$error":"#N/A"},{"$error":"#N/A"},{"$error":"#N/A"}]
[{"$error":"#N/A"},{"$error":"#N/A"},{"$error":"#N/A"},{"$error":"#N/A"},{"$error":"#N/A"}]
[{"$error":"#N/A"},{"$error":"#N/A"},{"$error":"#N/A"},{"$error":"#N/A"},{"$error":"#N/A"}]
[{"$error":"#N/A"},{"$error":"#N/A"},{"$error":"#N/A"},{"$error":"#N/A"},{"$error":"#N/A"}]
[{"$error":"#N/A"},{"$error":"#N/A"},{"$error":"#N/A"},{"$error":"#N/A"},{"$error":"#N/A"}]
[{"$error":"#N/A"},{"$error":"#N/A"},{"$error":"#N/A"},{"$error":"#N/A"},{"$error":"#N/A"}]
[{"$error":"#N/A"},{"$error":"#N/A"},{"$error":"#N/A"},{"$error":"#N/A"},{"$error":"#N/A"}]
[{"$error":"#N/A"},{"$error":"#N/A"},{"$error":"#N/A"},{"$error":"#N/A"},{"$error":"#N/A"}]
[{"$error":"#N/A"},{"$error":"#N/A"},{"$error":"#N/A"},{"$error":"#N/A"},{"$error":"#N/A"}]
[{"$error":"#N/A"},{"$error":"#N/A"},{"$error":"#N/A"},{"$error":"#N/A"},{"$error":"#N/A"}]
[{"$error":"#N/A"},{"$error":"#N/A"},{"$error":"#N/A"},{"$error":"#N/A"},{"$error":"#N/A"}]
[{"$error":"#N/A"},{"$error":"#N/A"},{"$error":"#N/A"},{"$error":"#N/A"},{"$error":"#N/A"}]
[{"$error":"#N/A"},{"$error":"#N/A"},{"$error":"#N/A"},{"$error":"#N/A"},{"$error":"#N/A"}]
[{"$error":"#N/A"},{"$error":"#N/A"},{"$error":"#N/A"},{"$error":"#N/A"},{"$error":"#N/A"}]
[{"$error":"#N/A"},{"$error":"#N/A"},{"$error":"#N/A"},{"$error":"#N/A"},{"$error":"#N/A"}]
[{"$error":"#N/A"},{"$error":"#N/A"},{"$error":"#N/A"},{"$error":"#N/A"},{"$error":"#N/A"}]
[{"$error":"#N/A"},{"$error":"#N/A"},{"$error":"#N/A"},{"$error":"#N/A"},{"$error":"#N/A"}]
[{"$error":"#N/A"},{"$error":"#N/A"},{"$error":"#N/A"},{"$error":"#N/A"},{"$error":"#N/A"}]
[{"$error":"#N/A"},{"$error":"#N/A"},{"$error":"#N/A"},{"$error":"#N/A"},{"$error":"#N/A"}]
[{"$error":"#N/A"},{"$error":"#N/A"},{"$error":"#N/A"},{"$error":"#N/A"},{"$error":"#N/A"}]
[{"$error":"#N/A"},{"$error":"#N/A"},{"$error":"#N/A"},{"$error":"#N/A"},{"$error":"#N/A"}]
[{"$error":"#N/A"},{"$error":"#N/A"},{"$error":"#N/A"},{"$error":"#N/A"},{"$error":"#N/A"}]
[{"$error":"#N/A"},{"$error":"#N/A"},{"$error":"#N/A"},{"$error":"#N/A"},{"$error":"#N/A"}]
[{"$error":"#N/A"},{"$error":"#N/A"},{"$error":"#N/A"},{"$error":"#N/A"},{"$error":"#N/A"}]
[{"$error":"#N/A"},{"$error":"#N/A"},{"$error":"#N/A"},{"$error":"#N/A"},{"$error":"#N/A"}]
[{"$error":"#N/A"},{"$error":"#N/A"},{"$error":"#N/A"},{"$error":"#N/A"},{"$error":"#N/A"}]
[{"$error":"#N/A"},{"$error":"#N/A"},{"$error":"#N/A"},{"$error":"#N/A"},{"$error":"#N/A"}]
[{"$error":"#N/A"},{"$error":"#N/A"},{"$error":"#N/A"},{"$error":"#N/A"},{"$error":"#N/A"}]
[{"$error":"#N/A"},{"$error":"#N/A"},{"$error":"#N/A"},{"$error":"#N/A"},{"$error":"#N/A"}]
[{"$error":"#N/A"},{"$error":"#N/A"},{"$error":"#N/A"},{"$error":"#N/A"},{"$error":"#N/A"}]
[{"$error":"#N/A"},{"$error":"#N/A"},{"$error":"#N/A"},{"$error":"#N/A"},{"$error":"#N/A"}]
[{"$error":"#N/A"},{"$error":"#N/A"},{"$error":"#N/A"},{"$error":"#N/A"},{"$error":"#N/A"}]
[{"$error":"#N/A"},{"$error":"#N/A"},{"$error":"#N/A"},{"$error":"#N/A"},{"$error":"#N/A"}]
[{"$error":"#N/A"},{"$error":"#N/A"},{"$error":"#N/A"},{"$error":"#N/A"},{"$error":"#N/A"}]
[{"$error":"#N/A"},{"$error":"#N/A"},{"$error":"#N/A"},{"$error":"#N/A"},{"$error":"#N/A"}]
[{"$error":"#N/A"},{"$error":"#N/A"},{"$error":"#N/A"},{"$error":"#N/A"},{"$error":"#N/A"}]
[{"$error":"#N/A"},{"$error":"#N/A"},{"$error":"#N/A"},{"$error":"#N/A"},{"$error":"#N/A"}]
[{"$error":"#N/A"},{"$error":"#N/A"},{"$error":"#N/A"},{"$error":"#N/A"},{"$error":"#N/A"}]
[{"$error":"#N/A"},{"$error":"#N/A"},{"$error":"#N/A"},{"$error":"#N/A"},{"$error":"#N/A"}]
[{"$error":"#N/A"},{"$error":"#N/A"},{"$error":"#N/A"},{"$error":"#N/A"},{"$error":"#N/A"}]
[{"$error":"#N/A"},{"$error":"#N/A"},{"$error":"#N/A"},{"$error":"#N/A"},{"$error":"#N/A"}]
[{"$error":"#N/A"},{"$error":"#N/A"},{"$error":"#N/A"},{"$error":"#N/A"},{"$error":"#N/A"}]
[{"$error":"#N/A"},{"$error":"#N/A"},{"$error":"#N/A"},{"$error":"#N/A"},{"$error":"#N/A"}]
[{"$error":"#N/A"},{"$error":"#N/A"},{"$error":"#N/A"},{"$error":"#N/A"},{"$error":"#N/A"}]
[{"$error":"#N/A"},{"$error":"#N/A"},{"$error":"#N/A"},{"$error":"#N/A"},{"$error":"#N/A"}]
[{"$error":"#N/A"},{"$error":"#N/A"},{"$error":"#N/A"},{"$error":"#N/A"},{"$error":"#N/A"}]
[{"$error":"#N/A"},{"$error":"#N/A"},{"$error":"#N/A"},{"$error":"#N/A"},{"$error":"#N/A"}]
[{"$error":"#N/A"},{"$error":"#N/A"},{"$error":"#N/A"},{"$error":"#N/A"},{"$f":"IF(D1350<>0,D1350,\"\")","v":{"$error":"#N/A"}}]
[{"$error":"#N/A"},{"$error":"#N/A"},{"$error":"#N/A"},{"$error":"#N/A"},{"$error":"#N/A"}]
[{"$error":"#N/A"},{"$error":"#N/A"},{"$error":"#N/A"},{"$error":"#N/A"},{"$error":"#N/A"}]
[{"$error":"#N/A"},{"$error":"#N/A"},{"$error":"#N/A"},{"$error":"#N/A"},{"$error":"#N/A"}]
[{"$error":"#N/A"},{"$error":"#N/A"},{"$error":"#N/A"},{"$error":"#N/A"},{"$error":"#N/A"}]
[{"$error":"#N/A"},{"$error":"#N/A"},{"$error":"#N/A"},{"$error":"#N/A"},{"$error":"#N/A"}]
[{"$error":"#N/A"},{"$error":"#N/A"},{"$error":"#N/A"},{"$error":"#N/A"},{"$error":"#N/A"}]
[{"$error":"#N/A"},{"$error":"#N/A"},{"$error":"#N/A"},{"$error":"#N/A"},{"$error":"#N/A"}]
[{"$error":"#N/A"},{"$error":"#N/A"},{"$error":"#N/A"},{"$error":"#N/A"},{"$error":"#N/A"}]
[{"$error":"#N/A"},{"$error":"#N/A"},{"$error":"#N/A"},{"$error":"#N/A"},{"$error":"#N/A"}]
[{"$error":"#N/A"},{"$error":"#N/A"},{"$error":"#N/A"},{"$error":"#N/A"},{"$error":"#N/A"}]
[{"$error":"#N/A"},{"$error":"#N/A"},{"$error":"#N/A"},{"$error":"#N/A"},{"$error":"#N/A"}]
[{"$error":"#N/A"},{"$error":"#N/A"},{"$error":"#N/A"},{"$error":"#N/A"},{"$error":"#N/A"}]
[{"$error":"#N/A"},{"$error":"#N/A"},{"$error":"#N/A"},{"$error":"#N/A"},{"$error":"#N/A"}]
[{"$error":"#N/A"},{"$error":"#N/A"},{"$error":"#N/A"},{"$error":"#N/A"},{"$error":"#N/A"}]
[{"$error":"#N/A"},{"$error":"#N/A"},{"$error":"#N/A"},{"$error":"#N/A"},{"$error":"#N/A"}]
[{"$error":"#N/A"},{"$error":"#N/A"},{"$error":"#N/A"},{"$error":"#N/A"},{"$error":"#N/A"}]
[{"$error":"#N/A"},{"$error":"#N/A"},{"$error":"#N/A"},{"$error":"#N/A"},{"$error":"#N/A"}]
[{"$error":"#N/A"},{"$error":"#N/A"},{"$error":"#N/A"},{"$error":"#N/A"},{"$error":"#N/A"}]
[{"$error":"#N/A"},{"$error":"#N/A"},{"$error":"#N/A"},{"$error":"#N/A"},{"$error":"#N/A"}]
[{"$error":"#N/A"},{"$error":"#N/A"},{"$error":"#N/A"},{"$error":"#N/A"},{"$error":"#N/A"}]
[{"$error":"#N/A"},{"$error":"#N/A"},{"$error":"#N/A"},{"$error":"#N/A"},{"$error":"#N/A"}]
[{"$error":"#N/A"},{"$error":"#N/A"},{"$error":"#N/A"},{"$error":"#N/A"},{"$error":"#N/A"}]
[{"$error":"#N/A"},{"$error":"#N/A"},{"$error":"#N/A"},{"$error":"#N/A"},{"$error":"#N/A"}]
[{"$error":"#N/A"},{"$error":"#N/A"},{"$error":"#N/A"},{"$error":"#N/A"},{"$error":"#N/A"}]
[{"$error":"#N/A"},{"$error":"#N/A"},{"$error":"#N/A"},{"$error":"#N/A"},{"$error":"#N/A"}]
[{"$error":"#N/A"},{"$error":"#N/A"},{"$error":"#N/A"},{"$error":"#N/A"},{"$error":"#N/A"}]
[{"$error":"#N/A"},{"$error":"#N/A"},{"$error":"#N/A"},{"$error":"#N/A"},{"$error":"#N/A"}]
[{"$error":"#N/A"},{"$error":"#N/A"},{"$error":"#N/A"},{"$error":"#N/A"},{"$error":"#N/A"}]
[{"$error":"#N/A"},{"$error":"#N/A"},{"$error":"#N/A"},{"$error":"#N/A"},{"$error":"#N/A"}]
[{"$error":"#N/A"},{"$error":"#N/A"},{"$error":"#N/A"},{"$error":"#N/A"},{"$error":"#N/A"}]
[{"$error":"#N/A"},{"$error":"#N/A"},{"$error":"#N/A"},{"$error":"#N/A"},{"$error":"#N/A"}]
[{"$error":"#N/A"},{"$error":"#N/A"},{"$error":"#N/A"},{"$error":"#N/A"},{"$error":"#N/A"}]
[{"$error":"#N/A"},{"$error":"#N/A"},{"$error":"#N/A"},{"$error":"#N/A"},{"$error":"#N/A"}]
[{"$error":"#N/A"},{"$error":"#N/A"},{"$error":"#N/A"},{"$error":"#N/A"},{"$error":"#N/A"}]
[{"$error":"#N/A"},{"$error":"#N/A"},{"$error":"#N/A"},{"$error":"#N/A"},{"$error":"#N/A"}]
[{"$error":"#N/A"},{"$error":"#N/A"},{"$error":"#N/A"},{"$error":"#N/A"},{"$error":"#N/A"}]
[{"$error":"#N/A"},{"$error":"#N/A"},{"$error":"#N/A"},{"$error":"#N/A"},{"$error":"#N/A"}]
[{"$error":"#N/A"},{"$error":"#N/A"},{"$error":"#N/A"},{"$error":"#N/A"},{"$error":"#N/A"}]
[{"$error":"#N/A"},{"$error":"#N/A"},{"$error":"#N/A"},{"$error":"#N/A"},{"$error":"#N/A"}]
[{"$error":"#N/A"},{"$error":"#N/A"},{"$error":"#N/A"},{"$error":"#N/A"},{"$error":"#N/A"}]
[{"$error":"#N/A"},{"$error":"#N/A"},{"$error":"#N/A"},{"$error":"#N/A"},{"$error":"#N/A"}]
[{"$error":"#N/A"},{"$error":"#N/A"},{"$error":"#N/A"},{"$error":"#N/A"},{"$error":"#N/A"}]
[{"$error":"#N/A"},{"$error":"#N/A"},{"$error":"#N/A"},{"$error":"#N/A"},{"$error":"#N/A"}]
[{"$error":"#N/A"},{"$error":"#N/A"},{"$error":"#N/A"},{"$error":"#N/A"},{"$error":"#N/A"}]
[{"$error":"#N/A"},{"$error":"#N/A"},{"$error":"#N/A"},{"$error":"#N/A"},{"$error":"#N/A"}]
[{"$error":"#N/A"},{"$error":"#N/A"},{"$error":"#N/A"},{"$error":"#N/A"},{"$error":"#N/A"}]
[{"$error":"#N/A"},{"$error":"#N/A"},{"$error":"#N/A"},{"$error":"#N/A"},{"$error":"#N/A"}]
[{"$error":"#N/A"},{"$error":"#N/A"},{"$error":"#N/A"},{"$error":"#N/A"},{"$error":"#N/A"}]
[{"$error":"#N/A"},{"$error":"#N/A"},{"$error":"#N/A"},{"$error":"#N/A"},{"$error":"#N/A"}]
[{"$error":"#N/A"},{"$error":"#N/A"},{"$error":"#N/A"},{"$error":"#N/A"},{"$error":"#N/A"}]
[{"$error":"#N/A"},{"$error":"#N/A"},{"$error":"#N/A"},{"$error":"#N/A"},{"$error":"#N/A"}]
[{"$error":"#N/A"},{"$error":"#N/A"},{"$error":"#N/A"},{"$error":"#N/A"},{"$error":"#N/A"}]
[{"$error":"#N/A"},{"$error":"#N/A"},{"$error":"#N/A"},{"$error":"#N/A"},{"$error":"#N/A"}]
[{"$error":"#N/A"},{"$error":"#N/A"},{"$error":"#N/A"},{"$error":"#N/A"},{"$error":"#N/A"}]
[{"$error":"#N/A"},{"$error":"#N/A"},{"$error":"#N/A"},{"$error":"#N/A"},{"$error":"#N/A"}]
[{"$error":"#N/A"},{"$error":"#N/A"},{"$error":"#N/A"},{"$error":"#N/A"},{"$error":"#N/A"}]
[{"$error":"#N/A"},{"$error":"#N/A"},{"$error":"#N/A"},{"$error":"#N/A"},{"$error":"#N/A"}]
[{"$error":"#N/A"},{"$error":"#N/A"},{"$error":"#N/A"},{"$error":"#N/A"},{"$error":"#N/A"}]
[{"$error":"#N/A"},{"$error":"#N/A"},{"$error":"#N/A"},{"$error":"#N/A"},{"$error":"#N/A"}]
[{"$error":"#N/A"},{"$error":"#N/A"},{"$error":"#N/A"},{"$error":"#N/A"},{"$error":"#N/A"}]
[{"$error":"#N/A"},{"$error":"#N/A"},{"$error":"#N/A"},{"$error":"#N/A"},{"$error":"#N/A"}]
[{"$error":"#N/A"},{"$error":"#N/A"},{"$error":"#N/A"},{"$error":"#N/A"},{"$error":"#N/A"}]
[{"$error":"#N/A"},{"$error":"#N/A"},{"$error":"#N/A"},{"$error":"#N/A"},{"$error":"#N/A"}]
[{"$error":"#N/A"},{"$error":"#N/A"},{"$error":"#N/A"},{"$error":"#N/A"},{"$f":"IF(D1414<>0,D1414,\"\")","v":{"$error":"#N/A"}}]
[{"$error":"#N/A"},{"$error":"#N/A"},{"$error":"#N/A"},{"$error":"#N/A"},{"$error":"#N/A"}]
[{"$error":"#N/A"},{"$error":"#N/A"},{"$error":"#N/A"},{"$error":"#N/A"},{"$error":"#N/A"}]
[{"$error":"#N/A"},{"$error":"#N/A"},{"$error":"#N/A"},{"$error":"#N/A"},{"$error":"#N/A"}]
[{"$error":"#N/A"},{"$error":"#N/A"},{"$error":"#N/A"},{"$error":"#N/A"},{"$error":"#N/A"}]
[{"$error":"#N/A"},{"$error":"#N/A"},{"$error":"#N/A"},{"$error":"#N/A"},{"$error":"#N/A"}]
[{"$error":"#N/A"},{"$error":"#N/A"},{"$error":"#N/A"},{"$error":"#N/A"},{"$error":"#N/A"}]
[{"$error":"#N/A"},{"$error":"#N/A"},{"$error":"#N/A"},{"$error":"#N/A"},{"$error":"#N/A"}]
[{"$error":"#N/A"},{"$error":"#N/A"},{"$error":"#N/A"},{"$error":"#N/A"},{"$error":"#N/A"}]
[{"$error":"#N/A"},{"$error":"#N/A"},{"$error":"#N/A"},{"$error":"#N/A"},{"$error":"#N/A"}]
[{"$error":"#N/A"},{"$error":"#N/A"},{"$error":"#N/A"},{"$error":"#N/A"},{"$error":"#N/A"}]
[{"$error":"#N/A"},{"$error":"#N/A"},{"$error":"#N/A"},{"$error":"#N/A"},{"$error":"#N/A"}]
[{"$error":"#N/A"},{"$error":"#N/A"},{"$error":"#N/A"},{"$error":"#N/A"},{"$error":"#N/A"}]
[{"$error":"#N/A"},{"$error":"#N/A"},{"$error":"#N/A"},{"$error":"#N/A"},{"$error":"#N/A"}]
[{"$error":"#N/A"},{"$error":"#N/A"},{"$error":"#N/A"},{"$error":"#N/A"},{"$error":"#N/A"}]
[{"$error":"#N/A"},{"$error":"#N/A"},{"$error":"#N/A"},{"$error":"#N/A"},{"$error":"#N/A"}]
[{"$error":"#N/A"},{"$error":"#N/A"},{"$error":"#N/A"},{"$error":"#N/A"},{"$error":"#N/A"}]
[{"$error":"#N/A"},{"$error":"#N/A"},{"$error":"#N/A"},{"$error":"#N/A"},{"$error":"#N/A"}]
[{"$error":"#N/A"},{"$error":"#N/A"},{"$error":"#N/A"},{"$error":"#N/A"},{"$error":"#N/A"}]
[{"$error":"#N/A"},{"$error":"#N/A"},{"$error":"#N/A"},{"$error":"#N/A"},{"$error":"#N/A"}]
[{"$error":"#N/A"},{"$error":"#N/A"},{"$error":"#N/A"},{"$error":"#N/A"},{"$error":"#N/A"}]
[{"$error":"#N/A"},{"$error":"#N/A"},{"$error":"#N/A"},{"$error":"#N/A"},{"$error":"#N/A"}]
[{"$error":"#N/A"},{"$error":"#N/A"},{"$error":"#N/A"},{"$error":"#N/A"},{"$error":"#N/A"}]
[{"$error":"#N/A"},{"$error":"#N/A"},{"$error":"#N/A"},{"$error":"#N/A"},{"$error":"#N/A"}]
[{"$error":"#N/A"},{"$error":"#N/A"},{"$error":"#N/A"},{"$error":"#N/A"},{"$error":"#N/A"}]
[{"$error":"#N/A"},{"$error":"#N/A"},{"$error":"#N/A"},{"$error":"#N/A"},{"$error":"#N/A"}]
[{"$error":"#N/A"},{"$error":"#N/A"},{"$error":"#N/A"},{"$error":"#N/A"},{"$error":"#N/A"}]
[{"$error":"#N/A"},{"$error":"#N/A"},{"$error":"#N/A"},{"$error":"#N/A"},{"$error":"#N/A"}]
[{"$error":"#N/A"},{"$error":"#N/A"},{"$error":"#N/A"},{"$error":"#N/A"},{"$error":"#N/A"}]
[{"$error":"#N/A"},{"$error":"#N/A"},{"$error":"#N/A"},{"$error":"#N/A"},{"$error":"#N/A"}]
[{"$error":"#N/A"},{"$error":"#N/A"},{"$error":"#N/A"},{"$error":"#N/A"},{"$error":"#N/A"}]
[{"$error":"#N/A"},{"$error":"#N/A"},{"$error":"#N/A"},{"$error":"#N/A"},{"$error":"#N/A"}]
[{"$error":"#N/A"},{"$error":"#N/A"},{"$error":"#N/A"},{"$error":"#N/A"},{"$error":"#N/A"}]
[{"$error":"#N/A"},{"$error":"#N/A"},{"$error":"#N/A"},{"$error":"#N/A"},{"$error":"#N/A"}]
[{"$error":"#N/A"},{"$error":"#N/A"},{"$error":"#N/A"},{"$error":"#N/A"},{"$error":"#N/A"}]
[{"$error":"#N/A"},{"$error":"#N/A"},{"$error":"#N/A"},{"$error":"#N/A"},{"$error":"#N/A"}]
[{"$error":"#N/A"},{"$error":"#N/A"},{"$error":"#N/A"},{"$error":"#N/A"},{"$error":"#N/A"}]
[{"$error":"#N/A"},{"$error":"#N/A"},{"$error":"#N/A"},{"$error":"#N/A"},{"$error":"#N/A"}]
[{"$error":"#N/A"},{"$error":"#N/A"},{"$error":"#N/A"},{"$error":"#N/A"},{"$error":"#N/A"}]
[{"$error":"#N/A"},{"$error":"#N/A"},{"$error":"#N/A"},{"$error":"#N/A"},{"$error":"#N/A"}]
[{"$error":"#N/A"},{"$error":"#N/A"},{"$error":"#N/A"},{"$error":"#N/A"},{"$error":"#N/A"}]
[{"$error":"#N/A"},{"$error":"#N/A"},{"$error":"#N/A"},{"$error":"#N/A"},{"$error":"#N/A"}]
[{"$error":"#N/A"},{"$error":"#N/A"},{"$error":"#N/A"},{"$error":"#N/A"},{"$error":"#N/A"}]
[{"$error":"#N/A"},{"$error":"#N/A"},{"$error":"#N/A"},{"$error":"#N/A"},{"$error":"#N/A"}]
[{"$error":"#N/A"},{"$error":"#N/A"},{"$error":"#N/A"},{"$error":"#N/A"},{"$error":"#N/A"}]
[{"$error":"#N/A"},{"$error":"#N/A"},{"$error":"#N/A"},{"$error":"#N/A"},{"$error":"#N/A"}]
[{"$error":"#N/A"},{"$error":"#N/A"},{"$error":"#N/A"},{"$error":"#N/A"},{"$error":"#N/A"}]
[{"$error":"#N/A"},{"$error":"#N/A"},{"$error":"#N/A"},{"$error":"#N/A"},{"$error":"#N/A"}]
[{"$error":"#N/A"},{"$error":"#N/A"},{"$error":"#N/A"},{"$error":"#N/A"},{"$error":"#N/A"}]
[{"$error":"#N/A"},{"$error":"#N/A"},{"$error":"#N/A"},{"$error":"#N/A"},{"$error":"#N/A"}]
[{"$error":"#N/A"},{"$error":"#N/A"},{"$error":"#N/A"},{"$error":"#N/A"},{"$error":"#N/A"}]
[{"$error":"#N/A"},{"$error":"#N/A"},{"$error":"#N/A"},{"$error":"#N/A"},{"$error":"#N/A"}]
[{"$error":"#N/A"},{"$error":"#N/A"},{"$error":"#N/A"},{"$error":"#N/A"},{"$error":"#N/A"}]
[{"$error":"#N/A"},{"$error":"#N/A"},{"$error":"#N/A"},{"$error":"#N/A"},{"$error":"#N/A"}]
[{"$error":"#N/A"},{"$error":"#N/A"},{"$error":"#N/A"},{"$error":"#N/A"},{"$error":"#N/A"}]
[{"$error":"#N/A"},{"$error":"#N/A"},{"$error":"#N/A"},{"$error":"#N/A"},{"$error":"#N/A"}]
[{"$error":"#N/A"},{"$error":"#N/A"},{"$error":"#N/A"},{"$error":"#N/A"},{"$error":"#N/A"}]
[{"$error":"#N/A"},{"$error":"#N/A"},{"$error":"#N/A"},{"$error":"#N/A"},{"$error":"#N/A"}]
[{"$error":"#N/A"},{"$error":"#N/A"},{"$error":"#N/A"},{"$error":"#N/A"},{"$error":"#N/A"}]
[{"$error":"#N/A"},{"$error":"#N/A"},{"$error":"#N/A"},{"$error":"#N/A"},{"$error":"#N/A"}]
[{"$error":"#N/A"},{"$error":"#N/A"},{"$error":"#N/A"},{"$error":"#N/A"},{"$error":"#N/A"}]
[{"$error":"#N/A"},{"$error":"#N/A"},{"$error":"#N/A"},{"$error":"#N/A"},{"$error":"#N/A"}]
[{"$error":"#N/A"},{"$error":"#N/A"},{"$error":"#N/A"},{"$error":"#N/A"},{"$error":"#N/A"}]
[{"$error":"#N/A"},{"$error":"#N/A"},{"$error":"#N/A"},{"$error":"#N/A"},{"$error":"#N/A"}]
[{"$error":"#N/A"},{"$error":"#N/A"},{"$error":"#N/A"},{"$error":"#N/A"},{"$f":"IF(D1478<>0,D1478,\"\")","v":{"$error":"#N/A"}}]
[{"$error":"#N/A"},{"$error":"#N/A"},{"$error":"#N/A"},{"$error":"#N/A"},{"$error":"#N/A"}]
[{"$error":"#N/A"},{"$error":"#N/A"},{"$error":"#N/A"},{"$error":"#N/A"},{"$error":"#N/A"}]
[{"$error":"#N/A"},{"$error":"#N/A"},{"$error":"#N/A"},{"$error":"#N/A"},{"$error":"#N/A"}]
[{"$error":"#N/A"},{"$error":"#N/A"},{"$error":"#N/A"},{"$error":"#N/A"},{"$error":"#N/A"}]
[{"$error":"#N/A"},{"$error":"#N/A"},{"$error":"#N/A"},{"$error":"#N/A"},{"$error":"#N/A"}]
[{"$error":"#N/A"},{"$error":"#N/A"},{"$error":"#N/A"},{"$error":"#N/A"},{"$error":"#N/A"}]
[{"$error":"#N/A"},{"$error":"#N/A"},{"$error":"#N/A"},{"$error":"#N/A"},{"$error":"#N/A"}]
[{"$error":"#N/A"},{"$error":"#N/A"},{"$error":"#N/A"},{"$error":"#N/A"},{"$error":"#N/A"}]
[{"$error":"#N/A"},{"$error":"#N/A"},{"$error":"#N/A"},{"$error":"#N/A"},{"$error":"#N/A"}]
[{"$error":"#N/A"},{"$error":"#N/A"},{"$error":"#N/A"},{"$error":"#N/A"},{"$error":"#N/A"}]
[{"$error":"#N/A"},{"$error":"#N/A"},{"$error":"#N/A"},{"$error":"#N/A"},{"$error":"#N/A"}]
[{"$error":"#N/A"},{"$error":"#N/A"},{"$error":"#N/A"},{"$error":"#N/A"},{"$error":"#N/A"}]
[{"$error":"#N/A"},{"$error":"#N/A"},{"$error":"#N/A"},{"$error":"#N/A"},{"$error":"#N/A"}]
[{"$error":"#N/A"},{"$error":"#N/A"},{"$error":"#N/A"},{"$error":"#N/A"},{"$error":"#N/A"}]
[{"$error":"#N/A"},{"$error":"#N/A"},{"$error":"#N/A"},{"$error":"#N/A"},{"$error":"#N/A"}]
[{"$error":"#N/A"},{"$error":"#N/A"},{"$error":"#N/A"},{"$error":"#N/A"},{"$error":"#N/A"}]
[{"$error":"#N/A"},{"$error":"#N/A"},{"$error":"#N/A"},{"$error":"#N/A"},{"$error":"#N/A"}]
[{"$error":"#N/A"},{"$error":"#N/A"},{"$error":"#N/A"},{"$error":"#N/A"},{"$error":"#N/A"}]
[{"$error":"#N/A"},{"$error":"#N/A"},{"$error":"#N/A"},{"$error":"#N/A"},{"$error":"#N/A"}]
[{"$error":"#N/A"},{"$error":"#N/A"},{"$error":"#N/A"},{"$error":"#N/A"},{"$error":"#N/A"}]
[{"$error":"#N/A"},{"$error":"#N/A"},{"$error":"#N/A"},{"$error":"#N/A"},{"$error":"#N/A"}]
[{"$error":"#N/A"},{"$error":"#N/A"},{"$error":"#N/A"},{"$error":"#N/A"},{"$error":"#N/A"}]
[{"$error":"#N/A"},{"$error":"#N/A"},{"$error":"#N/A"},{"$error":"#N/A"},{"$error":"#N/A"}]
[{"$error":"#N/A"},{"$error":"#N/A"},{"$error":"#N/A"},{"$error":"#N/A"},{"$error":"#N/A"}]
[{"$error":"#N/A"},{"$error":"#N/A"},{"$error":"#N/A"},{"$error":"#N/A"},{"$error":"#N/A"}]
[{"$error":"#N/A"},{"$error":"#N/A"},{"$error":"#N/A"},{"$error":"#N/A"},{"$error":"#N/A"}]
[{"$error":"#N/A"},{"$error":"#N/A"},{"$error":"#N/A"},{"$error":"#N/A"},{"$error":"#N/A"}]
[{"$error":"#N/A"},{"$error":"#N/A"},{"$error":"#N/A"},{"$error":"#N/A"},{"$error":"#N/A"}]
[{"$error":"#N/A"},{"$error":"#N/A"},{"$error":"#N/A"},{"$error":"#N/A"},{"$error":"#N/A"}]
[{"$error":"#N/A"},{"$error":"#N/A"},{"$error":"#N/A"},{"$error":"#N/A"},{"$error":"#N/A"}]
[{"$error":"#N/A"},{"$error":"#N/A"},{"$error":"#N/A"},{"$error":"#N/A"},{"$error":"#N/A"}]
[{"$error":"#N/A"},{"$error":"#N/A"},{"$error":"#N/A"},{"$error":"#N/A"},{"$error":"#N/A"}]
[{"$error":"#N/A"},{"$error":"#N/A"},{"$error":"#N/A"},{"$error":"#N/A"},{"$error":"#N/A"}]
[{"$error":"#N/A"},{"$error":"#N/A"},{"$error":"#N/A"},{"$error":"#N/A"},{"$error":"#N/A"}]
[{"$error":"#N/A"},{"$error":"#N/A"},{"$error":"#N/A"},{"$error":"#N/A"},{"$error":"#N/A"}]
[{"$error":"#N/A"},{"$error":"#N/A"},{"$error":"#N/A"},{"$error":"#N/A"},{"$error":"#N/A"}]
[{"$error":"#N/A"},{"$error":"#N/A"},{"$error":"#N/A"},{"$error":"#N/A"},{"$error":"#N/A"}]
[{"$error":"#N/A"},{"$error":"#N/A"},{"$error":"#N/A"},{"$error":"#N/A"},{"$error":"#N/A"}]
[{"$error":"#N/A"},{"$error":"#N/A"},{"$error":"#N/A"},{"$error":"#N/A"},{"$error":"#N/A"}]
[{"$error":"#N/A"},{"$error":"#N/A"},{"$error":"#N/A"},{"$error":"#N/A"},{"$error":"#N/A"}]
[{"$error":"#N/A"},{"$error":"#N/A"},{"$error":"#N/A"},{"$error":"#N/A"},{"$error":"#N/A"}]
[{"$error":"#N/A"},{"$error":"#N/A"},{"$error":"#N/A"},{"$error":"#N/A"},{"$error":"#N/A"}]
[{"$error":"#N/A"},{"$error":"#N/A"},{"$error":"#N/A"},{"$error":"#N/A"},{"$error":"#N/A"}]
[{"$error":"#N/A"},{"$error":"#N/A"},{"$error":"#N/A"},{"$error":"#N/A"},{"$error":"#N/A"}]
[{"$error":"#N/A"},{"$error":"#N/A"},{"$error":"#N/A"},{"$error":"#N/A"},{"$error":"#N/A"}]
[{"$error":"#N/A"},{"$error":"#N/A"},{"$error":"#N/A"},{"$error":"#N/A"},{"$error":"#N/A"}]
[{"$error":"#N/A"},{"$error":"#N/A"},{"$error":"#N/A"},{"$error":"#N/A"},{"$error":"#N/A"}]
[{"$error":"#N/A"},{"$error":"#N/A"},{"$error":"#N/A"},{"$error":"#N/A"},{"$error":"#N/A"}]
[{"$error":"#N/A"},{"$error":"#N/A"},{"$error":"#N/A"},{"$error":"#N/A"},{"$error":"#N/A"}]
[{"$error":"#N/A"},{"$error":"#N/A"},{"$error":"#N/A"},{"$error":"#N/A"},{"$error":"#N/A"}]
[{"$error":"#N/A"},{"$error":"#N/A"},{"$error":"#N/A"},{"$error":"#N/A"},{"$error":"#N/A"}]
[{"$error":"#N/A"},{"$error":"#N/A"},{"$error":"#N/A"},{"$error":"#N/A"},{"$error":"#N/A"}]
[{"$error":"#N/A"},{"$error":"#N/A"},{"$error":"#N/A"},{"$error":"#N/A"},{"$error":"#N/A"}]
[{"$error":"#N/A"},{"$error":"#N/A"},{"$error":"#N/A"},{"$error":"#N/A"},{"$error":"#N/A"}]
[{"$error":"#N/A"},{"$error":"#N/A"},{"$error":"#N/A"},{"$error":"#N/A"},{"$error":"#N/A"}]
[{"$error":"#N/A"},{"$error":"#N/A"},{"$error":"#N/A"},{"$error":"#N/A"},{"$error":"#N/A"}]
[{"$error":"#N/A"},{"$error":"#N/A"},{"$error":"#N/A"},{"$error":"#N/A"},{"$error":"#N/A"}]
[{"$error":"#N/A"},{"$error":"#N/A"},{"$error":"#N/A"},{"$error":"#N/A"},{"$error":"#N/A"}]
[{"$error":"#N/A"},{"$error":"#N/A"},{"$error":"#N/A"},{"$error":"#N/A"},{"$error":"#N/A"}]
[{"$error":"#N/A"},{"$error":"#N/A"},{"$error":"#N/A"},{"$error":"#N/A"},{"$error":"#N/A"}]
[{"$error":"#N/A"},{"$error":"#N/A"},{"$error":"#N/A"},{"$error":"#N/A"},{"$error":"#N/A"}]
[{"$error":"#N/A"},{"$error":"#N/A"},{"$error":"#N/A"},{"$error":"#N/A"},{"$error":"#N/A"}]
[{"$error":"#N/A"},{"$error":"#N/A"},{"$error":"#N/A"},{"$error":"#N/A"},{"$error":"#N/A"}]
[{"$error":"#N/A"},{"$error":"#N/A"},{"$error":"#N/A"},{"$error":"#N/A"},{"$f":"IF(D1542<>0,D1542,\"\")","v":{"$error":"#N/A"}}]
[{"$error":"#N/A"},{"$error":"#N/A"},{"$error":"#N/A"},{"$error":"#N/A"},{"$error":"#N/A"}]
[{"$error":"#N/A"},{"$error":"#N/A"},{"$error":"#N/A"},{"$error":"#N/A"},{"$error":"#N/A"}]
[{"$error":"#N/A"},{"$error":"#N/A"},{"$error":"#N/A"},{"$error":"#N/A"},{"$error":"#N/A"}]
[{"$error":"#N/A"},{"$error":"#N/A"},{"$error":"#N/A"},{"$error":"#N/A"},{"$error":"#N/A"}]
[{"$error":"#N/A"},{"$error":"#N/A"},{"$error":"#N/A"},{"$error":"#N/A"},{"$error":"#N/A"}]
[{"$error":"#N/A"},{"$error":"#N/A"},{"$error":"#N/A"},{"$error":"#N/A"},{"$error":"#N/A"}]
[{"$error":"#N/A"},{"$error":"#N/A"},{"$error":"#N/A"},{"$error":"#N/A"},{"$error":"#N/A"}]
[{"$error":"#N/A"},{"$error":"#N/A"},{"$error":"#N/A"},{"$error":"#N/A"},{"$error":"#N/A"}]
[{"$error":"#N/A"},{"$error":"#N/A"},{"$error":"#N/A"},{"$error":"#N/A"},{"$error":"#N/A"}]
[{"$error":"#N/A"},{"$error":"#N/A"},{"$error":"#N/A"},{"$error":"#N/A"},{"$error":"#N/A"}]
[{"$error":"#N/A"},{"$error":"#N/A"},{"$error":"#N/A"},{"$error":"#N/A"},{"$error":"#N/A"}]
[{"$error":"#N/A"},{"$error":"#N/A"},{"$error":"#N/A"},{"$error":"#N/A"},{"$error":"#N/A"}]
[{"$error":"#N/A"},{"$error":"#N/A"},{"$error":"#N/A"},{"$error":"#N/A"},{"$error":"#N/A"}]
[{"$error":"#N/A"},{"$error":"#N/A"},{"$error":"#N/A"},{"$error":"#N/A"},{"$error":"#N/A"}]
[{"$error":"#N/A"},{"$error":"#N/A"},{"$error":"#N/A"},{"$error":"#N/A"},{"$error":"#N/A"}]
[{"$error":"#N/A"},{"$error":"#N/A"},{"$error":"#N/A"},{"$error":"#N/A"},{"$error":"#N/A"}]
[{"$error":"#N/A"},{"$error":"#N/A"},{"$error":"#N/A"},{"$error":"#N/A"},{"$error":"#N/A"}]
[{"$error":"#N/A"},{"$error":"#N/A"},{"$error":"#N/A"},{"$error":"#N/A"},{"$error":"#N/A"}]
[{"$error":"#N/A"},{"$error":"#N/A"},{"$error":"#N/A"},{"$error":"#N/A"},{"$error":"#N/A"}]
[{"$error":"#N/A"},{"$error":"#N/A"},{"$error":"#N/A"},{"$error":"#N/A"},{"$error":"#N/A"}]
[{"$error":"#N/A"},{"$error":"#N/A"},{"$error":"#N/A"},{"$error":"#N/A"},{"$error":"#N/A"}]
[{"$error":"#N/A"},{"$error":"#N/A"},{"$error":"#N/A"},{"$error":"#N/A"},{"$error":"#N/A"}]
[{"$error":"#N/A"},{"$error":"#N/A"},{"$error":"#N/A"},{"$error":"#N/A"},{"$error":"#N/A"}]
[{"$error":"#N/A"},{"$error":"#N/A"},{"$error":"#N/A"},{"$error":"#N/A"},{"$error":"#N/A"}]
[{"$error":"#N/A"},{"$error":"#N/A"},{"$error":"#N/A"},{"$error":"#N/A"},{"$error":"#N/A"}]
[{"$error":"#N/A"},{"$error":"#N/A"},{"$error":"#N/A"},{"$error":"#N/A"},{"$error":"#N/A"}]
[{"$error":"#N/A"},{"$error":"#N/A"},{"$error":"#N/A"},{"$error":"#N/A"},{"$error":"#N/A"}]
[{"$error":"#N/A"},{"$error":"#N/A"},{"$error":"#N/A"},{"$error":"#N/A"},{"$error":"#N/A"}]
[{"$error":"#N/A"},{"$error":"#N/A"},{"$error":"#N/A"},{"$error":"#N/A"},{"$error":"#N/A"}]
[{"$error":"#N/A"},{"$error":"#N/A"},{"$error":"#N/A"},{"$error":"#N/A"},{"$error":"#N/A"}]
[{"$error":"#N/A"},{"$error":"#N/A"},{"$error":"#N/A"},{"$error":"#N/A"},{"$error":"#N/A"}]
[{"$error":"#N/A"},{"$error":"#N/A"},{"$error":"#N/A"},{"$error":"#N/A"},{"$error":"#N/A"}]
[{"$error":"#N/A"},{"$error":"#N/A"},{"$error":"#N/A"},{"$error":"#N/A"},{"$error":"#N/A"}]
[{"$error":"#N/A"},{"$error":"#N/A"},{"$error":"#N/A"},{"$error":"#N/A"},{"$error":"#N/A"}]
[{"$error":"#N/A"},{"$error":"#N/A"},{"$error":"#N/A"},{"$error":"#N/A"},{"$error":"#N/A"}]
[{"$error":"#N/A"},{"$error":"#N/A"},{"$error":"#N/A"},{"$error":"#N/A"},{"$error":"#N/A"}]
[{"$error":"#N/A"},{"$error":"#N/A"},{"$error":"#N/A"},{"$error":"#N/A"},{"$error":"#N/A"}]
[{"$error":"#N/A"},{"$error":"#N/A"},{"$error":"#N/A"},{"$error":"#N/A"},{"$error":"#N/A"}]
[{"$error":"#N/A"},{"$error":"#N/A"},{"$error":"#N/A"},{"$error":"#N/A"},{"$error":"#N/A"}]
[{"$error":"#N/A"},{"$error":"#N/A"},{"$error":"#N/A"},{"$error":"#N/A"},{"$error":"#N/A"}]
[{"$error":"#N/A"},{"$error":"#N/A"},{"$error":"#N/A"},{"$error":"#N/A"},{"$error":"#N/A"}]
[{"$error":"#N/A"},{"$error":"#N/A"},{"$error":"#N/A"},{"$error":"#N/A"},{"$error":"#N/A"}]
[{"$error":"#N/A"},{"$error":"#N/A"},{"$error":"#N/A"},{"$error":"#N/A"},{"$error":"#N/A"}]
[{"$error":"#N/A"},{"$error":"#N/A"},{"$error":"#N/A"},{"$error":"#N/A"},{"$error":"#N/A"}]
[{"$error":"#N/A"},{"$error":"#N/A"},{"$error":"#N/A"},{"$error":"#N/A"},{"$error":"#N/A"}]
[{"$error":"#N/A"},{"$error":"#N/A"},{"$error":"#N/A"},{"$error":"#N/A"},{"$error":"#N/A"}]
[{"$error":"#N/A"},{"$error":"#N/A"},{"$error":"#N/A"},{"$error":"#N/A"},{"$error":"#N/A"}]
[{"$error":"#N/A"},{"$error":"#N/A"},{"$error":"#N/A"},{"$error":"#N/A"},{"$error":"#N/A"}]
[{"$error":"#N/A"},{"$error":"#N/A"},{"$error":"#N/A"},{"$error":"#N/A"},{"$error":"#N/A"}]
[{"$error":"#N/A"},{"$error":"#N/A"},{"$error":"#N/A"},{"$error":"#N/A"},{"$error":"#N/A"}]
[{"$error":"#N/A"},{"$error":"#N/A"},{"$error":"#N/A"},{"$error":"#N/A"},{"$error":"#N/A"}]
[{"$error":"#N/A"},{"$error":"#N/A"},{"$error":"#N/A"},{"$error":"#N/A"},{"$error":"#N/A"}]
[{"$error":"#N/A"},{"$error":"#N/A"},{"$error":"#N/A"},{"$error":"#N/A"},{"$error":"#N/A"}]
[{"$error":"#N/A"},{"$error":"#N/A"},{"$error":"#N/A"},{"$error":"#N/A"},{"$error":"#N/A"}]
[{"$error":"#N/A"},{"$error":"#N/A"},{"$error":"#N/A"},{"$error":"#N/A"},{"$error":"#N/A"}]
[{"$error":"#N/A"},{"$error":"#N/A"},{"$error":"#N/A"},{"$error":"#N/A"},{"$error":"#N/A"}]
[{"$error":"#N/A"},{"$error":"#N/A"},{"$error":"#N/A"},{"$error":"#N/A"},{"$error":"#N/A"}]
[{"$error":"#N/A"},{"$error":"#N/A"},{"$error":"#N/A"},{"$error":"#N/A"},{"$error":"#N/A"}]
[{"$error":"#N/A"},{"$error":"#N/A"},{"$error":"#N/A"},{"$error":"#N/A"},{"$error":"#N/A"}]
[{"$error":"#N/A"},{"$error":"#N/A"},{"$error":"#N/A"},{"$error":"#N/A"},{"$error":"#N/A"}]
[{"$error":"#N/A"},{"$error":"#N/A"},{"$error":"#N/A"},{"$error":"#N/A"},{"$error":"#N/A"}]
[{"$error":"#N/A"},{"$error":"#N/A"},{"$error":"#N/A"},{"$error":"#N/A"},{"$error":"#N/A"}]
[{"$error":"#N/A"},{"$error":"#N/A"},{"$error":"#N/A"},{"$error":"#N/A"},{"$error":"#N/A"}]
[{"$error":"#N/A"},{"$error":"#N/A"},{"$error":"#N/A"},{"$error":"#N/A"},{"$f":"IF(D1606<>0,D1606,\"\")","v":{"$error":"#N/A"}}]
[{"$error":"#N/A"},{"$error":"#N/A"},{"$error":"#N/A"},{"$error":"#N/A"},{"$error":"#N/A"}]
[{"$error":"#N/A"},{"$error":"#N/A"},{"$error":"#N/A"},{"$error":"#N/A"},{"$error":"#N/A"}]
[{"$error":"#N/A"},{"$error":"#N/A"},{"$error":"#N/A"},{"$error":"#N/A"},{"$error":"#N/A"}]
[{"$error":"#N/A"},{"$error":"#N/A"},{"$error":"#N/A"},{"$error":"#N/A"},{"$error":"#N/A"}]
[{"$error":"#N/A"},{"$error":"#N/A"},{"$error":"#N/A"},{"$error":"#N/A"},{"$error":"#N/A"}]
[{"$error":"#N/A"},{"$error":"#N/A"},{"$error":"#N/A"},{"$error":"#N/A"},{"$error":"#N/A"}]
[{"$error":"#N/A"},{"$error":"#N/A"},{"$error":"#N/A"},{"$error":"#N/A"},{"$error":"#N/A"}]
[{"$error":"#N/A"},{"$error":"#N/A"},{"$error":"#N/A"},{"$error":"#N/A"},{"$error":"#N/A"}]
[{"$error":"#N/A"},{"$error":"#N/A"},{"$error":"#N/A"},{"$error":"#N/A"},{"$error":"#N/A"}]
[{"$error":"#N/A"},{"$error":"#N/A"},{"$error":"#N/A"},{"$error":"#N/A"},{"$error":"#N/A"}]
[{"$error":"#N/A"},{"$error":"#N/A"},{"$error":"#N/A"},{"$error":"#N/A"},{"$error":"#N/A"}]
[{"$error":"#N/A"},{"$error":"#N/A"},{"$error":"#N/A"},{"$error":"#N/A"},{"$error":"#N/A"}]
[{"$error":"#N/A"},{"$error":"#N/A"},{"$error":"#N/A"},{"$error":"#N/A"},{"$error":"#N/A"}]
[{"$error":"#N/A"},{"$error":"#N/A"},{"$error":"#N/A"},{"$error":"#N/A"},{"$error":"#N/A"}]
[{"$error":"#N/A"},{"$error":"#N/A"},{"$error":"#N/A"},{"$error":"#N/A"},{"$error":"#N/A"}]
[{"$error":"#N/A"},{"$error":"#N/A"},{"$error":"#N/A"},{"$error":"#N/A"},{"$error":"#N/A"}]
[{"$error":"#N/A"},{"$error":"#N/A"},{"$error":"#N/A"},{"$error":"#N/A"},{"$error":"#N/A"}]
[{"$error":"#N/A"},{"$error":"#N/A"},{"$error":"#N/A"},{"$error":"#N/A"},{"$error":"#N/A"}]
[{"$error":"#N/A"},{"$error":"#N/A"},{"$error":"#N/A"},{"$error":"#N/A"},{"$error":"#N/A"}]
[{"$error":"#N/A"},{"$error":"#N/A"},{"$error":"#N/A"},{"$error":"#N/A"},{"$error":"#N/A"}]
[{"$error":"#N/A"},{"$error":"#N/A"},{"$error":"#N/A"},{"$error":"#N/A"},{"$error":"#N/A"}]
[{"$error":"#N/A"},{"$error":"#N/A"},{"$error":"#N/A"},{"$error":"#N/A"},{"$error":"#N/A"}]
[{"$error":"#N/A"},{"$error":"#N/A"},{"$error":"#N/A"},{"$error":"#N/A"},{"$error":"#N/A"}]
[{"$error":"#N/A"},{"$error":"#N/A"},{"$error":"#N/A"},{"$error":"#N/A"},{"$error":"#N/A"}]
[{"$error":"#N/A"},{"$error":"#N/A"},{"$error":"#N/A"},{"$error":"#N/A"},{"$error":"#N/A"}]
[{"$error":"#N/A"},{"$error":"#N/A"},{"$error":"#N/A"},{"$error":"#N/A"},{"$error":"#N/A"}]
[{"$error":"#N/A"},{"$error":"#N/A"},{"$error":"#N/A"},{"$error":"#N/A"},{"$error":"#N/A"}]
[{"$error":"#N/A"},{"$error":"#N/A"},{"$error":"#N/A"},{"$error":"#N/A"},{"$error":"#N/A"}]
[{"$error":"#N/A"},{"$error":"#N/A"},{"$error":"#N/A"},{"$error":"#N/A"},{"$error":"#N/A"}]
[{"$error":"#N/A"},{"$error":"#N/A"},{"$error":"#N/A"},{"$error":"#N/A"},{"$error":"#N/A"}]
[{"$error":"#N/A"},{"$error":"#N/A"},{"$error":"#N/A"},{"$error":"#N/A"},{"$error":"#N/A"}]
[{"$error":"#N/A"},{"$error":"#N/A"},{"$error":"#N/A"},{"$error":"#N/A"},{"$error":"#N/A"}]
[{"$error":"#N/A"},{"$error":"#N/A"},{"$error":"#N/A"},{"$error":"#N/A"},{"$error":"#N/A"}]
[{"$error":"#N/A"},{"$error":"#N/A"},{"$error":"#N/A"},{"$error":"#N/A"},{"$error":"#N/A"}]
[{"$error":"#N/A"},{"$error":"#N/A"},{"$error":"#N/A"},{"$error":"#N/A"},{"$error":"#N/A"}]
[{"$error":"#N/A"},{"$error":"#N/A"},{"$error":"#N/A"},{"$error":"#N/A"},{"$error":"#N/A"}]
[{"$error":"#N/A"},{"$error":"#N/A"},{"$error":"#N/A"},{"$error":"#N/A"},{"$error":"#N/A"}]
[{"$error":"#N/A"},{"$error":"#N/A"},{"$error":"#N/A"},{"$error":"#N/A"},{"$error":"#N/A"}]
[{"$error":"#N/A"},{"$error":"#N/A"},{"$error":"#N/A"},{"$error":"#N/A"},{"$error":"#N/A"}]
[{"$error":"#N/A"},{"$error":"#N/A"},{"$error":"#N/A"},{"$error":"#N/A"},{"$error":"#N/A"}]
[{"$error":"#N/A"},{"$error":"#N/A"},{"$error":"#N/A"},{"$error":"#N/A"},{"$error":"#N/A"}]
[{"$error":"#N/A"},{"$error":"#N/A"},{"$error":"#N/A"},{"$error":"#N/A"},{"$error":"#N/A"}]
[{"$error":"#N/A"},{"$error":"#N/A"},{"$error":"#N/A"},{"$error":"#N/A"},{"$error":"#N/A"}]
[{"$error":"#N/A"},{"$error":"#N/A"},{"$error":"#N/A"},{"$error":"#N/A"},{"$error":"#N/A"}]
[{"$error":"#N/A"},{"$error":"#N/A"},{"$error":"#N/A"},{"$error":"#N/A"},{"$error":"#N/A"}]
[{"$error":"#N/A"},{"$error":"#N/A"},{"$error":"#N/A"},{"$error":"#N/A"},{"$error":"#N/A"}]
[{"$error":"#N/A"},{"$error":"#N/A"},{"$error":"#N/A"},{"$error":"#N/A"},{"$error":"#N/A"}]
[{"$error":"#N/A"},{"$error":"#N/A"},{"$error":"#N/A"},{"$error":"#N/A"},{"$error":"#N/A"}]
[{"$error":"#N/A"},{"$error":"#N/A"},{"$error":"#N/A"},{"$error":"#N/A"},{"$error":"#N/A"}]
[{"$error":"#N/A"},{"$error":"#N/A"},{"$error":"#N/A"},{"$error":"#N/A"},{"$error":"#N/A"}]
[{"$error":"#N/A"},{"$error":"#N/A"},{"$error":"#N/A"},{"$error":"#N/A"},{"$error":"#N/A"}]
[{"$error":"#N/A"},{"$error":"#N/A"},{"$error":"#N/A"},{"$error":"#N/A"},{"$error":"#N/A"}]
[{"$error":"#N/A"},{"$error":"#N/A"},{"$error":"#N/A"},{"$error":"#N/A"},{"$error":"#N/A"}]
[{"$error":"#N/A"},{"$error":"#N/A"},{"$error":"#N/A"},{"$error":"#N/A"},{"$error":"#N/A"}]
[{"$error":"#N/A"},{"$error":"#N/A"},{"$error":"#N/A"},{"$error":"#N/A"},{"$error":"#N/A"}]
[{"$error":"#N/A"},{"$error":"#N/A"},{"$error":"#N/A"},{"$error":"#N/A"},{"$error":"#N/A"}]
[{"$error":"#N/A"},{"$error":"#N/A"},{"$error":"#N/A"},{"$error":"#N/A"},{"$error":"#N/A"}]
[{"$error":"#N/A"},{"$error":"#N/A"},{"$error":"#N/A"},{"$error":"#N/A"},{"$error":"#N/A"}]
[{"$error":"#N/A"},{"$error":"#N/A"},{"$error":"#N/A"},{"$error":"#N/A"},{"$error":"#N/A"}]
[{"$error":"#N/A"},{"$error":"#N/A"},{"$error":"#N/A"},{"$error":"#N/A"},{"$error":"#N/A"}]
[{"$error":"#N/A"},{"$error":"#N/A"},{"$error":"#N/A"},{"$error":"#N/A"},{"$error":"#N/A"}]
[{"$error":"#N/A"},{"$error":"#N/A"},{"$error":"#N/A"},{"$error":"#N/A"},{"$error":"#N/A"}]
[{"$error":"#N/A"},{"$error":"#N/A"},{"$error":"#N/A"},{"$error":"#N/A"},{"$error":"#N/A"}]
[{"$error":"#N/A"},{"$error":"#N/A"},{"$error":"#N/A"},{"$error":"#N/A"},{"$f":"IF(D1670<>0,D1670,\"\")","v":{"$error":"#N/A"}}]
[{"$error":"#N/A"},{"$error":"#N/A"},{"$error":"#N/A"},{"$error":"#N/A"},{"$error":"#N/A"}]
[{"$error":"#N/A"},{"$error":"#N/A"},{"$error":"#N/A"},{"$error":"#N/A"},{"$error":"#N/A"}]
[{"$error":"#N/A"},{"$error":"#N/A"},{"$error":"#N/A"},{"$error":"#N/A"},{"$error":"#N/A"}]
[{"$error":"#N/A"},{"$error":"#N/A"},{"$error":"#N/A"},{"$error":"#N/A"},{"$error":"#N/A"}]
[{"$error":"#N/A"},{"$error":"#N/A"},{"$error":"#N/A"},{"$error":"#N/A"},{"$error":"#N/A"}]
[{"$error":"#N/A"},{"$error":"#N/A"},{"$error":"#N/A"},{"$error":"#N/A"},{"$error":"#N/A"}]
[{"$error":"#N/A"},{"$error":"#N/A"},{"$error":"#N/A"},{"$error":"#N/A"},{"$error":"#N/A"}]
[{"$error":"#N/A"},{"$error":"#N/A"},{"$error":"#N/A"},{"$error":"#N/A"},{"$error":"#N/A"}]
[{"$error":"#N/A"},{"$error":"#N/A"},{"$error":"#N/A"},{"$error":"#N/A"},{"$error":"#N/A"}]
[{"$error":"#N/A"},{"$error":"#N/A"},{"$error":"#N/A"},{"$error":"#N/A"},{"$error":"#N/A"}]
[{"$error":"#N/A"},{"$error":"#N/A"},{"$error":"#N/A"},{"$error":"#N/A"},{"$error":"#N/A"}]
[{"$error":"#N/A"},{"$error":"#N/A"},{"$error":"#N/A"},{"$error":"#N/A"},{"$error":"#N/A"}]
[{"$error":"#N/A"},{"$error":"#N/A"},{"$error":"#N/A"},{"$error":"#N/A"},{"$error":"#N/A"}]
[{"$error":"#N/A"},{"$error":"#N/A"},{"$error":"#N/A"},{"$error":"#N/A"},{"$error":"#N/A"}]
[{"$error":"#N/A"},{"$error":"#N/A"},{"$error":"#N/A"},{"$error":"#N/A"},{"$error":"#N/A"}]
[{"$error":"#N/A"},{"$error":"#N/A"},{"$error":"#N/A"},{"$error":"#N/A"},{"$error":"#N/A"}]
[{"$error":"#N/A"},{"$error":"#N/A"},{"$error":"#N/A"},{"$error":"#N/A"},{"$error":"#N/A"}]
[{"$error":"#N/A"},{"$error":"#N/A"},{"$error":"#N/A"},{"$error":"#N/A"},{"$error":"#N/A"}]
[{"$error":"#N/A"},{"$error":"#N/A"},{"$error":"#N/A"},{"$error":"#N/A"},{"$error":"#N/A"}]
[{"$error":"#N/A"},{"$error":"#N/A"},{"$error":"#N/A"},{"$error":"#N/A"},{"$error":"#N/A"}]
[{"$error":"#N/A"},{"$error":"#N/A"},{"$error":"#N/A"},{"$error":"#N/A"},{"$error":"#N/A"}]
[{"$error":"#N/A"},{"$error":"#N/A"},{"$error":"#N/A"},{"$error":"#N/A"},{"$error":"#N/A"}]
[{"$error":"#N/A"},{"$error":"#N/A"},{"$error":"#N/A"},{"$error":"#N/A"},{"$error":"#N/A"}]
[{"$error":"#N/A"},{"$error":"#N/A"},{"$error":"#N/A"},{"$error":"#N/A"},{"$error":"#N/A"}]
[{"$error":"#N/A"},{"$error":"#N/A"},{"$error":"#N/A"},{"$error":"#N/A"},{"$error":"#N/A"}]
[{"$error":"#N/A"},{"$error":"#N/A"},{"$error":"#N/A"},{"$error":"#N/A"},{"$error":"#N/A"}]
[{"$error":"#N/A"},{"$error":"#N/A"},{"$error":"#N/A"},{"$error":"#N/A"},{"$error":"#N/A"}]
[{"$error":"#N/A"},{"$error":"#N/A"},{"$error":"#N/A"},{"$error":"#N/A"},{"$error":"#N/A"}]
[{"$error":"#N/A"},{"$error":"#N/A"},{"$error":"#N/A"},{"$error":"#N/A"},{"$error":"#N/A"}]
[{"$error":"#N/A"},{"$error":"#N/A"},{"$error":"#N/A"},{"$error":"#N/A"},{"$error":"#N/A"}]
[{"$error":"#N/A"},{"$error":"#N/A"},{"$error":"#N/A"},{"$error":"#N/A"},{"$error":"#N/A"}]
[{"$error":"#N/A"},{"$error":"#N/A"},{"$error":"#N/A"},{"$error":"#N/A"},{"$error":"#N/A"}]
[{"$error":"#N/A"},{"$error":"#N/A"},{"$error":"#N/A"},{"$error":"#N/A"},{"$error":"#N/A"}]
[{"$error":"#N/A"},{"$error":"#N/A"},{"$error":"#N/A"},{"$error":"#N/A"},{"$error":"#N/A"}]
[{"$error":"#N/A"},{"$error":"#N/A"},{"$error":"#N/A"},{"$error":"#N/A"},{"$error":"#N/A"}]
[{"$error":"#N/A"},{"$error":"#N/A"},{"$error":"#N/A"},{"$error":"#N/A"},{"$error":"#N/A"}]
[{"$error":"#N/A"},{"$error":"#N/A"},{"$error":"#N/A"},{"$error":"#N/A"},{"$error":"#N/A"}]
[{"$error":"#N/A"},{"$error":"#N/A"},{"$error":"#N/A"},{"$error":"#N/A"},{"$error":"#N/A"}]
[{"$error":"#N/A"},{"$error":"#N/A"},{"$error":"#N/A"},{"$error":"#N/A"},{"$error":"#N/A"}]
[{"$error":"#N/A"},{"$error":"#N/A"},{"$error":"#N/A"},{"$error":"#N/A"},{"$error":"#N/A"}]
[{"$error":"#N/A"},{"$error":"#N/A"},{"$error":"#N/A"},{"$error":"#N/A"},{"$error":"#N/A"}]
[{"$error":"#N/A"},{"$error":"#N/A"},{"$error":"#N/A"},{"$error":"#N/A"},{"$error":"#N/A"}]
[{"$error":"#N/A"},{"$error":"#N/A"},{"$error":"#N/A"},{"$error":"#N/A"},{"$error":"#N/A"}]
[{"$error":"#N/A"},{"$error":"#N/A"},{"$error":"#N/A"},{"$error":"#N/A"},{"$error":"#N/A"}]
[{"$error":"#N/A"},{"$error":"#N/A"},{"$error":"#N/A"},{"$error":"#N/A"},{"$error":"#N/A"}]
[{"$error":"#N/A"},{"$error":"#N/A"},{"$error":"#N/A"},{"$error":"#N/A"},{"$error":"#N/A"}]
[{"$error":"#N/A"},{"$error":"#N/A"},{"$error":"#N/A"},{"$error":"#N/A"},{"$error":"#N/A"}]
[{"$error":"#N/A"},{"$error":"#N/A"},{"$error":"#N/A"},{"$error":"#N/A"},{"$error":"#N/A"}]
[{"$error":"#N/A"},{"$error":"#N/A"},{"$error":"#N/A"},{"$error":"#N/A"},{"$error":"#N/A"}]
[{"$error":"#N/A"},{"$error":"#N/A"},{"$error":"#N/A"},{"$error":"#N/A"},{"$error":"#N/A"}]
[{"$error":"#N/A"},{"$error":"#N/A"},{"$error":"#N/A"},{"$error":"#N/A"},{"$error":"#N/A"}]
[{"$error":"#N/A"},{"$error":"#N/A"},{"$error":"#N/A"},{"$error":"#N/A"},{"$error":"#N/A"}]
[{"$error":"#N/A"},{"$error":"#N/A"},{"$error":"#N/A"},{"$error":"#N/A"},{"$error":"#N/A"}]
[{"$error":"#N/A"},{"$error":"#N/A"},{"$error":"#N/A"},{"$error":"#N/A"},{"$error":"#N/A"}]
[{"$error":"#N/A"},{"$error":"#N/A"},{"$error":"#N/A"},{"$error":"#N/A"},{"$error":"#N/A"}]
[{"$error":"#N/A"},{"$error":"#N/A"},{"$error":"#N/A"},{"$error":"#N/A"},{"$error":"#N/A"}]
[{"$error":"#N/A"},{"$error":"#N/A"},{"$error":"#N/A"},{"$error":"#N/A"},{"$error":"#N/A"}]
[{"$error":"#N/A"},{"$error":"#N/A"},{"$error":"#N/A"},{"$error":"#N/A"},{"$error":"#N/A"}]
[{"$error":"#N/A"},{"$error":"#N/A"},{"$error":"#N/A"},{"$error":"#N/A"},{"$error":"#N/A"}]
[{"$error":"#N/A"},{"$error":"#N/A"},{"$error":"#N/A"},{"$error":"#N/A"},{"$error":"#N/A"}]
[{"$error":"#N/A"},{"$error":"#N/A"},{"$error":"#N/A"},{"$error":"#N/A"},{"$error":"#N/A"}]
[{"$error":"#N/A"},{"$error":"#N/A"},{"$error":"#N/A"},{"$error":"#N/A"},{"$error":"#N/A"}]
[{"$error":"#N/A"},{"$error":"#N/A"},{"$error":"#N/A"},{"$error":"#N/A"},{"$error":"#N/A"}]
[{"$error":"#N/A"},{"$error":"#N/A"},{"$error":"#N/A"},{"$error":"#N/A"},{"$f":"IF(D1734<>0,D1734,\"\")","v":{"$error":"#N/A"}}]
[{"$error":"#N/A"},{"$error":"#N/A"},{"$error":"#N/A"},{"$error":"#N/A"},{"$error":"#N/A"}]
[{"$error":"#N/A"},{"$error":"#N/A"},{"$error":"#N/A"},{"$error":"#N/A"},{"$error":"#N/A"}]
[{"$error":"#N/A"},{"$error":"#N/A"},{"$error":"#N/A"},{"$error":"#N/A"},{"$error":"#N/A"}]
[{"$error":"#N/A"},{"$error":"#N/A"},{"$error":"#N/A"},{"$error":"#N/A"},{"$error":"#N/A"}]
[{"$error":"#N/A"},{"$error":"#N/A"},{"$error":"#N/A"},{"$error":"#N/A"},{"$error":"#N/A"}]
[{"$error":"#N/A"},{"$error":"#N/A"},{"$error":"#N/A"},{"$error":"#N/A"},{"$error":"#N/A"}]
[{"$error":"#N/A"},{"$error":"#N/A"},{"$error":"#N/A"},{"$error":"#N/A"},{"$error":"#N/A"}]
[{"$error":"#N/A"},{"$error":"#N/A"},{"$error":"#N/A"},{"$error":"#N/A"},{"$error":"#N/A"}]
[{"$error":"#N/A"},{"$error":"#N/A"},{"$error":"#N/A"},{"$error":"#N/A"},{"$error":"#N/A"}]
[{"$error":"#N/A"},{"$error":"#N/A"},{"$error":"#N/A"},{"$error":"#N/A"},{"$error":"#N/A"}]
[{"$error":"#N/A"},{"$error":"#N/A"},{"$error":"#N/A"},{"$error":"#N/A"},{"$error":"#N/A"}]
[{"$error":"#N/A"},{"$error":"#N/A"},{"$error":"#N/A"},{"$error":"#N/A"},{"$error":"#N/A"}]
[{"$error":"#N/A"},{"$error":"#N/A"},{"$error":"#N/A"},{"$error":"#N/A"},{"$error":"#N/A"}]
[{"$error":"#N/A"},{"$error":"#N/A"},{"$error":"#N/A"},{"$error":"#N/A"},{"$error":"#N/A"}]
[{"$error":"#N/A"},{"$error":"#N/A"},{"$error":"#N/A"},{"$error":"#N/A"},{"$error":"#N/A"}]
[{"$error":"#N/A"},{"$error":"#N/A"},{"$error":"#N/A"},{"$error":"#N/A"},{"$error":"#N/A"}]
[{"$error":"#N/A"},{"$error":"#N/A"},{"$error":"#N/A"},{"$error":"#N/A"},{"$error":"#N/A"}]
[{"$error":"#N/A"},{"$error":"#N/A"},{"$error":"#N/A"},{"$error":"#N/A"},{"$error":"#N/A"}]
[{"$error":"#N/A"},{"$error":"#N/A"},{"$error":"#N/A"},{"$error":"#N/A"},{"$error":"#N/A"}]
[{"$error":"#N/A"},{"$error":"#N/A"},{"$error":"#N/A"},{"$error":"#N/A"},{"$error":"#N/A"}]
[{"$error":"#N/A"},{"$error":"#N/A"},{"$error":"#N/A"},{"$error":"#N/A"},{"$error":"#N/A"}]
[{"$error":"#N/A"},{"$error":"#N/A"},{"$error":"#N/A"},{"$error":"#N/A"},{"$error":"#N/A"}]
[{"$error":"#N/A"},{"$error":"#N/A"},{"$error":"#N/A"},{"$error":"#N/A"},{"$error":"#N/A"}]
[{"$error":"#N/A"},{"$error":"#N/A"},{"$error":"#N/A"},{"$error":"#N/A"},{"$error":"#N/A"}]
[{"$error":"#N/A"},{"$error":"#N/A"},{"$error":"#N/A"},{"$error":"#N/A"},{"$error":"#N/A"}]
[{"$error":"#N/A"},{"$error":"#N/A"},{"$error":"#N/A"},{"$error":"#N/A"},{"$error":"#N/A"}]
[{"$error":"#N/A"},{"$error":"#N/A"},{"$error":"#N/A"},{"$error":"#N/A"},{"$error":"#N/A"}]
[{"$error":"#N/A"},{"$error":"#N/A"},{"$error":"#N/A"},{"$error":"#N/A"},{"$error":"#N/A"}]
[{"$error":"#N/A"},{"$error":"#N/A"},{"$error":"#N/A"},{"$error":"#N/A"},{"$error":"#N/A"}]
[{"$error":"#N/A"},{"$error":"#N/A"},{"$error":"#N/A"},{"$error":"#N/A"},{"$error":"#N/A"}]
[{"$error":"#N/A"},{"$error":"#N/A"},{"$error":"#N/A"},{"$error":"#N/A"},{"$error":"#N/A"}]
[{"$error":"#N/A"},{"$error":"#N/A"},{"$error":"#N/A"},{"$error":"#N/A"},{"$error":"#N/A"}]
[{"$error":"#N/A"},{"$error":"#N/A"},{"$error":"#N/A"},{"$error":"#N/A"},{"$error":"#N/A"}]
[{"$error":"#N/A"},{"$error":"#N/A"},{"$error":"#N/A"},{"$error":"#N/A"},{"$error":"#N/A"}]
[{"$error":"#N/A"},{"$error":"#N/A"},{"$error":"#N/A"},{"$error":"#N/A"},{"$error":"#N/A"}]
[{"$error":"#N/A"},{"$error":"#N/A"},{"$error":"#N/A"},{"$error":"#N/A"},{"$error":"#N/A"}]
[{"$error":"#N/A"},{"$error":"#N/A"},{"$error":"#N/A"},{"$error":"#N/A"},{"$error":"#N/A"}]
[{"$error":"#N/A"},{"$error":"#N/A"},{"$error":"#N/A"},{"$error":"#N/A"},{"$error":"#N/A"}]
[{"$error":"#N/A"},{"$error":"#N/A"},{"$error":"#N/A"},{"$error":"#N/A"},{"$error":"#N/A"}]
[{"$error":"#N/A"},{"$error":"#N/A"},{"$error":"#N/A"},{"$error":"#N/A"},{"$error":"#N/A"}]
[{"$error":"#N/A"},{"$error":"#N/A"},{"$error":"#N/A"},{"$error":"#N/A"},{"$error":"#N/A"}]
[{"$error":"#N/A"},{"$error":"#N/A"},{"$error":"#N/A"},{"$error":"#N/A"},{"$error":"#N/A"}]
[{"$error":"#N/A"},{"$error":"#N/A"},{"$error":"#N/A"},{"$error":"#N/A"},{"$error":"#N/A"}]
[{"$error":"#N/A"},{"$error":"#N/A"},{"$error":"#N/A"},{"$error":"#N/A"},{"$error":"#N/A"}]
[{"$error":"#N/A"},{"$error":"#N/A"},{"$error":"#N/A"},{"$error":"#N/A"},{"$error":"#N/A"}]
[{"$error":"#N/A"},{"$error":"#N/A"},{"$error":"#N/A"},{"$error":"#N/A"},{"$error":"#N/A"}]
[{"$error":"#N/A"},{"$error":"#N/A"},{"$error":"#N/A"},{"$error":"#N/A"},{"$error":"#N/A"}]
[{"$error":"#N/A"},{"$error":"#N/A"},{"$error":"#N/A"},{"$error":"#N/A"},{"$error":"#N/A"}]
[{"$error":"#N/A"},{"$error":"#N/A"},{"$error":"#N/A"},{"$error":"#N/A"},{"$error":"#N/A"}]
[{"$error":"#N/A"},{"$error":"#N/A"},{"$error":"#N/A"},{"$error":"#N/A"},{"$error":"#N/A"}]
[{"$error":"#N/A"},{"$error":"#N/A"},{"$error":"#N/A"},{"$error":"#N/A"},{"$error":"#N/A"}]
[{"$error":"#N/A"},{"$error":"#N/A"},{"$error":"#N/A"},{"$error":"#N/A"},{"$error":"#N/A"}]
[{"$error":"#N/A"},{"$error":"#N/A"},{"$error":"#N/A"},{"$error":"#N/A"},{"$error":"#N/A"}]
[{"$error":"#N/A"},{"$error":"#N/A"},{"$error":"#N/A"},{"$error":"#N/A"},{"$error":"#N/A"}]
[{"$error":"#N/A"},{"$error":"#N/A"},{"$error":"#N/A"},{"$error":"#N/A"},{"$error":"#N/A"}]
[{"$error":"#N/A"},{"$error":"#N/A"},{"$error":"#N/A"},{"$error":"#N/A"},{"$error":"#N/A"}]
[{"$error":"#N/A"},{"$error":"#N/A"},{"$error":"#N/A"},{"$error":"#N/A"},{"$error":"#N/A"}]
[{"$error":"#N/A"},{"$error":"#N/A"},{"$error":"#N/A"},{"$error":"#N/A"},{"$error":"#N/A"}]
[{"$error":"#N/A"},{"$error":"#N/A"},{"$error":"#N/A"},{"$error":"#N/A"},{"$error":"#N/A"}]
[{"$error":"#N/A"},{"$error":"#N/A"},{"$error":"#N/A"},{"$error":"#N/A"},{"$error":"#N/A"}]
[{"$error":"#N/A"},{"$error":"#N/A"},{"$error":"#N/A"},{"$error":"#N/A"},{"$error":"#N/A"}]
[{"$error":"#N/A"},{"$error":"#N/A"},{"$error":"#N/A"},{"$error":"#N/A"},{"$error":"#N/A"}]
[{"$error":"#N/A"},{"$error":"#N/A"},{"$error":"#N/A"},{"$error":"#N/A"},{"$error":"#N/A"}]
[{"$error":"#N/A"},{"$error":"#N/A"},{"$error":"#N/A"},{"$error":"#N/A"},{"$f":"IF(D1798<>0,D1798,\"\")","v":{"$error":"#N/A"}}]
[{"$error":"#N/A"},{"$error":"#N/A"},{"$error":"#N/A"},{"$error":"#N/A"},{"$error":"#N/A"}]
[{"$error":"#N/A"},{"$error":"#N/A"},{"$error":"#N/A"},{"$error":"#N/A"},{"$error":"#N/A"}]
[{"$error":"#N/A"},{"$error":"#N/A"},{"$error":"#N/A"},{"$error":"#N/A"},{"$error":"#N/A"}]
[{"$error":"#N/A"},{"$error":"#N/A"},{"$error":"#N/A"},{"$error":"#N/A"},{"$error":"#N/A"}]
[{"$error":"#N/A"},{"$error":"#N/A"},{"$error":"#N/A"},{"$error":"#N/A"},{"$error":"#N/A"}]
[{"$error":"#N/A"},{"$error":"#N/A"},{"$error":"#N/A"},{"$error":"#N/A"},{"$error":"#N/A"}]
[{"$error":"#N/A"},{"$error":"#N/A"},{"$error":"#N/A"},{"$error":"#N/A"},{"$error":"#N/A"}]
[{"$error":"#N/A"},{"$error":"#N/A"},{"$error":"#N/A"},{"$error":"#N/A"},{"$error":"#N/A"}]
[{"$error":"#N/A"},{"$error":"#N/A"},{"$error":"#N/A"},{"$error":"#N/A"},{"$error":"#N/A"}]
[{"$error":"#N/A"},{"$error":"#N/A"},{"$error":"#N/A"},{"$error":"#N/A"},{"$error":"#N/A"}]
[{"$error":"#N/A"},{"$error":"#N/A"},{"$error":"#N/A"},{"$error":"#N/A"},{"$error":"#N/A"}]
[{"$error":"#N/A"},{"$error":"#N/A"},{"$error":"#N/A"},{"$error":"#N/A"},{"$error":"#N/A"}]
[{"$error":"#N/A"},{"$error":"#N/A"},{"$error":"#N/A"},{"$error":"#N/A"},{"$error":"#N/A"}]
[{"$error":"#N/A"},{"$error":"#N/A"},{"$error":"#N/A"},{"$error":"#N/A"},{"$error":"#N/A"}]
[{"$error":"#N/A"},{"$error":"#N/A"},{"$error":"#N/A"},{"$error":"#N/A"},{"$error":"#N/A"}]
[{"$error":"#N/A"},{"$error":"#N/A"},{"$error":"#N/A"},{"$error":"#N/A"},{"$error":"#N/A"}]
[{"$error":"#N/A"},{"$error":"#N/A"},{"$error":"#N/A"},{"$error":"#N/A"},{"$error":"#N/A"}]
[{"$error":"#N/A"},{"$error":"#N/A"},{"$error":"#N/A"},{"$error":"#N/A"},{"$error":"#N/A"}]
[{"$error":"#N/A"},{"$error":"#N/A"},{"$error":"#N/A"},{"$error":"#N/A"},{"$error":"#N/A"}]
[{"$error":"#N/A"},{"$error":"#N/A"},{"$error":"#N/A"},{"$error":"#N/A"},{"$error":"#N/A"}]
[{"$error":"#N/A"},{"$error":"#N/A"},{"$error":"#N/A"},{"$error":"#N/A"},{"$error":"#N/A"}]
[{"$error":"#N/A"},{"$error":"#N/A"},{"$error":"#N/A"},{"$error":"#N/A"},{"$error":"#N/A"}]
[{"$error":"#N/A"},{"$error":"#N/A"},{"$error":"#N/A"},{"$error":"#N/A"},{"$error":"#N/A"}]
[{"$error":"#N/A"},{"$error":"#N/A"},{"$error":"#N/A"},{"$error":"#N/A"},{"$error":"#N/A"}]
[{"$error":"#N/A"},{"$error":"#N/A"},{"$error":"#N/A"},{"$error":"#N/A"},{"$error":"#N/A"}]
[{"$error":"#N/A"},{"$error":"#N/A"},{"$error":"#N/A"},{"$error":"#N/A"},{"$error":"#N/A"}]
[{"$error":"#N/A"},{"$error":"#N/A"},{"$error":"#N/A"},{"$error":"#N/A"},{"$error":"#N/A"}]
[{"$error":"#N/A"},{"$error":"#N/A"},{"$error":"#N/A"},{"$error":"#N/A"},{"$error":"#N/A"}]
[{"$error":"#N/A"},{"$error":"#N/A"},{"$error":"#N/A"},{"$error":"#N/A"},{"$error":"#N/A"}]
[{"$error":"#N/A"},{"$error":"#N/A"},{"$error":"#N/A"},{"$error":"#N/A"},{"$error":"#N/A"}]
[{"$error":"#N/A"},{"$error":"#N/A"},{"$error":"#N/A"},{"$error":"#N/A"},{"$error":"#N/A"}]
[{"$error":"#N/A"},{"$error":"#N/A"},{"$error":"#N/A"},{"$error":"#N/A"},{"$error":"#N/A"}]
[{"$error":"#N/A"},{"$error":"#N/A"},{"$error":"#N/A"},{"$error":"#N/A"},{"$error":"#N/A"}]
[{"$error":"#N/A"},{"$error":"#N/A"},{"$error":"#N/A"},{"$error":"#N/A"},{"$error":"#N/A"}]
[{"$error":"#N/A"},{"$error":"#N/A"},{"$error":"#N/A"},{"$error":"#N/A"},{"$error":"#N/A"}]
[{"$error":"#N/A"},{"$error":"#N/A"},{"$error":"#N/A"},{"$error":"#N/A"},{"$error":"#N/A"}]
[{"$error":"#N/A"},{"$error":"#N/A"},{"$error":"#N/A"},{"$error":"#N/A"},{"$error":"#N/A"}]
[{"$error":"#N/A"},{"$error":"#N/A"},{"$error":"#N/A"},{"$error":"#N/A"},{"$error":"#N/A"}]
[{"$error":"#N/A"},{"$error":"#N/A"},{"$error":"#N/A"},{"$error":"#N/A"},{"$error":"#N/A"}]
[{"$error":"#N/A"},{"$error":"#N/A"},{"$error":"#N/A"},{"$error":"#N/A"},{"$error":"#N/A"}]
[{"$error":"#N/A"},{"$error":"#N/A"},{"$error":"#N/A"},{"$error":"#N/A"},{"$error":"#N/A"}]
[{"$error":"#N/A"},{"$error":"#N/A"},{"$error":"#N/A"},{"$error":"#N/A"},{"$error":"#N/A"}]
[{"$error":"#N/A"},{"$error":"#N/A"},{"$error":"#N/A"},{"$error":"#N/A"},{"$error":"#N/A"}]
[{"$error":"#N/A"},{"$error":"#N/A"},{"$error":"#N/A"},{"$error":"#N/A"},{"$error":"#N/A"}]
[{"$error":"#N/A"},{"$error":"#N/A"},{"$error":"#N/A"},{"$error":"#N/A"},{"$error":"#N/A"}]
[{"$error":"#N/A"},{"$error":"#N/A"},{"$error":"#N/A"},{"$error":"#N/A"},{"$error":"#N/A"}]
[{"$error":"#N/A"},{"$error":"#N/A"},{"$error":"#N/A"},{"$error":"#N/A"},{"$error":"#N/A"}]
[{"$error":"#N/A"},{"$error":"#N/A"},{"$error":"#N/A"},{"$error":"#N/A"},{"$error":"#N/A"}]
[{"$error":"#N/A"},{"$error":"#N/A"},{"$error":"#N/A"},{"$error":"#N/A"},{"$error":"#N/A"}]
[{"$error":"#N/A"},{"$error":"#N/A"},{"$error":"#N/A"},{"$error":"#N/A"},{"$error":"#N/A"}]
[{"$error":"#N/A"},{"$error":"#N/A"},{"$error":"#N/A"},{"$error":"#N/A"},{"$error":"#N/A"}]
[{"$error":"#N/A"},{"$error":"#N/A"},{"$error":"#N/A"},{"$error":"#N/A"},{"$error":"#N/A"}]
[{"$error":"#N/A"},{"$error":"#N/A"},{"$error":"#N/A"},{"$error":"#N/A"},{"$error":"#N/A"}]
[{"$error":"#N/A"},{"$error":"#N/A"},{"$error":"#N/A"},{"$error":"#N/A"},{"$error":"#N/A"}]
[{"$error":"#N/A"},{"$error":"#N/A"},{"$error":"#N/A"},{"$error":"#N/A"},{"$error":"#N/A"}]
[{"$error":"#N/A"},{"$error":"#N/A"},{"$error":"#N/A"},{"$error":"#N/A"},{"$error":"#N/A"}]
[{"$error":"#N/A"},{"$error":"#N/A"},{"$error":"#N/A"},{"$error":"#N/A"},{"$error":"#N/A"}]
[{"$error":"#N/A"},{"$error":"#N/A"},{"$error":"#N/A"},{"$error":"#N/A"},{"$error":"#N/A"}]
[{"$error":"#N/A"},{"$error":"#N/A"},{"$error":"#N/A"},{"$error":"#N/A"},{"$error":"#N/A"}]
[{"$error":"#N/A"},{"$error":"#N/A"},{"$error":"#N/A"},{"$error":"#N/A"},{"$error":"#N/A"}]
[{"$error":"#N/A"},{"$error":"#N/A"},{"$error":"#N/A"},{"$error":"#N/A"},{"$error":"#N/A"}]
[{"$error":"#N/A"},{"$error":"#N/A"},{"$error":"#N/A"},{"$error":"#N/A"},{"$error":"#N/A"}]
[{"$error":"#N/A"},{"$error":"#N/A"},{"$error":"#N/A"},{"$error":"#N/A"},{"$error":"#N/A"}]
[{"$error":"#N/A"},{"$error":"#N/A"},{"$error":"#N/A"},{"$error":"#N/A"},{"$f":"IF(D1862<>0,D1862,\"\")","v":{"$error":"#N/A"}}]
[{"$error":"#N/A"},{"$error":"#N/A"},{"$error":"#N/A"},{"$error":"#N/A"},{"$error":"#N/A"}]
[{"$error":"#N/A"},{"$error":"#N/A"},{"$error":"#N/A"},{"$error":"#N/A"},{"$error":"#N/A"}]
[{"$error":"#N/A"},{"$error":"#N/A"},{"$error":"#N/A"},{"$error":"#N/A"},{"$error":"#N/A"}]
[{"$error":"#N/A"},{"$error":"#N/A"},{"$error":"#N/A"},{"$error":"#N/A"},{"$error":"#N/A"}]
[{"$error":"#N/A"},{"$error":"#N/A"},{"$error":"#N/A"},{"$error":"#N/A"},{"$error":"#N/A"}]
[{"$error":"#N/A"},{"$error":"#N/A"},{"$error":"#N/A"},{"$error":"#N/A"},{"$error":"#N/A"}]
[{"$error":"#N/A"},{"$error":"#N/A"},{"$error":"#N/A"},{"$error":"#N/A"},{"$error":"#N/A"}]
[{"$error":"#N/A"},{"$error":"#N/A"},{"$error":"#N/A"},{"$error":"#N/A"},{"$error":"#N/A"}]
[{"$error":"#N/A"},{"$error":"#N/A"},{"$error":"#N/A"},{"$error":"#N/A"},{"$error":"#N/A"}]
[{"$error":"#N/A"},{"$error":"#N/A"},{"$error":"#N/A"},{"$error":"#N/A"},{"$error":"#N/A"}]
[{"$error":"#N/A"},{"$error":"#N/A"},{"$error":"#N/A"},{"$error":"#N/A"},{"$error":"#N/A"}]
[{"$error":"#N/A"},{"$error":"#N/A"},{"$error":"#N/A"},{"$error":"#N/A"},{"$error":"#N/A"}]
[{"$error":"#N/A"},{"$error":"#N/A"},{"$error":"#N/A"},{"$error":"#N/A"},{"$error":"#N/A"}]
[{"$error":"#N/A"},{"$error":"#N/A"},{"$error":"#N/A"},{"$error":"#N/A"},{"$error":"#N/A"}]
[{"$error":"#N/A"},{"$error":"#N/A"},{"$error":"#N/A"},{"$error":"#N/A"},{"$error":"#N/A"}]
[{"$error":"#N/A"},{"$error":"#N/A"},{"$error":"#N/A"},{"$error":"#N/A"},{"$error":"#N/A"}]
[{"$error":"#N/A"},{"$error":"#N/A"},{"$error":"#N/A"},{"$error":"#N/A"},{"$error":"#N/A"}]
[{"$error":"#N/A"},{"$error":"#N/A"},{"$error":"#N/A"},{"$error":"#N/A"},{"$error":"#N/A"}]
[{"$error":"#N/A"},{"$error":"#N/A"},{"$error":"#N/A"},{"$error":"#N/A"},{"$error":"#N/A"}]
[{"$error":"#N/A"},{"$error":"#N/A"},{"$error":"#N/A"},{"$error":"#N/A"},{"$error":"#N/A"}]
[{"$error":"#N/A"},{"$error":"#N/A"},{"$error":"#N/A"},{"$error":"#N/A"},{"$error":"#N/A"}]
[{"$error":"#N/A"},{"$error":"#N/A"},{"$error":"#N/A"},{"$error":"#N/A"},{"$error":"#N/A"}]
[{"$error":"#N/A"},{"$error":"#N/A"},{"$error":"#N/A"},{"$error":"#N/A"},{"$error":"#N/A"}]
[{"$error":"#N/A"},{"$error":"#N/A"},{"$error":"#N/A"},{"$error":"#N/A"},{"$error":"#N/A"}]
[{"$error":"#N/A"},{"$error":"#N/A"},{"$error":"#N/A"},{"$error":"#N/A"},{"$error":"#N/A"}]
[{"$error":"#N/A"},{"$error":"#N/A"},{"$error":"#N/A"},{"$error":"#N/A"},{"$error":"#N/A"}]
[{"$error":"#N/A"},{"$error":"#N/A"},{"$error":"#N/A"},{"$error":"#N/A"},{"$error":"#N/A"}]
[{"$error":"#N/A"},{"$error":"#N/A"},{"$error":"#N/A"},{"$error":"#N/A"},{"$error":"#N/A"}]
[{"$error":"#N/A"},{"$error":"#N/A"},{"$error":"#N/A"},{"$error":"#N/A"},{"$error":"#N/A"}]
[{"$error":"#N/A"},{"$error":"#N/A"},{"$error":"#N/A"},{"$error":"#N/A"},{"$error":"#N/A"}]
[{"$error":"#N/A"},{"$error":"#N/A"},{"$error":"#N/A"},{"$error":"#N/A"},{"$error":"#N/A"}]
[{"$error":"#N/A"},{"$error":"#N/A"},{"$error":"#N/A"},{"$error":"#N/A"},{"$error":"#N/A"}]
[{"$error":"#N/A"},{"$error":"#N/A"},{"$error":"#N/A"},{"$error":"#N/A"},{"$error":"#N/A"}]
[{"$error":"#N/A"},{"$error":"#N/A"},{"$error":"#N/A"},{"$error":"#N/A"},{"$error":"#N/A"}]
[{"$error":"#N/A"},{"$error":"#N/A"},{"$error":"#N/A"},{"$error":"#N/A"},{"$error":"#N/A"}]
[{"$error":"#N/A"},{"$error":"#N/A"},{"$error":"#N/A"},{"$error":"#N/A"},{"$error":"#N/A"}]
[{"$error":"#N/A"},{"$error":"#N/A"},{"$error":"#N/A"},{"$error":"#N/A"},{"$error":"#N/A"}]
[{"$error":"#N/A"},{"$error":"#N/A"},{"$error":"#N/A"},{"$error":"#N/A"},{"$error":"#N/A"}]
[{"$error":"#N/A"},{"$error":"#N/A"},{"$error":"#N/A"},{"$error":"#N/A"},{"$error":"#N/A"}]
[{"$error":"#N/A"},{"$error":"#N/A"},{"$error":"#N/A"},{"$error":"#N/A"},{"$error":"#N/A"}]
[{"$error":"#N/A"},{"$error":"#N/A"},{"$error":"#N/A"},{"$error":"#N/A"},{"$error":"#N/A"}]
[{"$error":"#N/A"},{"$error":"#N/A"},{"$error":"#N/A"},{"$error":"#N/A"},{"$error":"#N/A"}]
[{"$error":"#N/A"},{"$error":"#N/A"},{"$error":"#N/A"},{"$error":"#N/A"},{"$error":"#N/A"}]
[{"$error":"#N/A"},{"$error":"#N/A"},{"$error":"#N/A"},{"$error":"#N/A"},{"$error":"#N/A"}]
[{"$error":"#N/A"},{"$error":"#N/A"},{"$error":"#N/A"},{"$error":"#N/A"},{"$error":"#N/A"}]
[{"$error":"#N/A"},{"$error":"#N/A"},{"$error":"#N/A"},{"$error":"#N/A"},{"$error":"#N/A"}]
[{"$error":"#N/A"},{"$error":"#N/A"},{"$error":"#N/A"},{"$error":"#N/A"},{"$error":"#N/A"}]
[{"$error":"#N/A"},{"$error":"#N/A"},{"$error":"#N/A"},{"$error":"#N/A"},{"$error":"#N/A"}]
[{"$error":"#N/A"},{"$error":"#N/A"},{"$error":"#N/A"},{"$error":"#N/A"},{"$error":"#N/A"}]
[{"$error":"#N/A"},{"$error":"#N/A"},{"$error":"#N/A"},{"$error":"#N/A"},{"$error":"#N/A"}]
[{"$error":"#N/A"},{"$error":"#N/A"},{"$error":"#N/A"},{"$error":"#N/A"},{"$error":"#N/A"}]
[{"$error":"#N/A"},{"$error":"#N/A"},{"$error":"#N/A"},{"$error":"#N/A"},{"$error":"#N/A"}]
[{"$error":"#N/A"},{"$error":"#N/A"},{"$error":"#N/A"},{"$error":"#N/A"},{"$error":"#N/A"}]
[{"$error":"#N/A"},{"$error":"#N/A"},{"$error":"#N/A"},{"$error":"#N/A"},{"$error":"#N/A"}]
[{"$error":"#N/A"},{"$error":"#N/A"},{"$error":"#N/A"},{"$error":"#N/A"},{"$error":"#N/A"}]
[{"$error":"#N/A"},{"$error":"#N/A"},{"$error":"#N/A"},{"$error":"#N/A"},{"$error":"#N/A"}]
[{"$error":"#N/A"},{"$error":"#N/A"},{"$error":"#N/A"},{"$error":"#N/A"},{"$error":"#N/A"}]
[{"$error":"#N/A"},{"$error":"#N/A"},{"$error":"#N/A"},{"$error":"#N/A"},{"$error":"#N/A"}]
[{"$error":"#N/A"},{"$error":"#N/A"},{"$error":"#N/A"},{"$error":"#N/A"},{"$error":"#N/A"}]
[{"$error":"#N/A"},{"$error":"#N/A"},{"$error":"#N/A"},{"$error":"#N/A"},{"$error":"#N/A"}]
[{"$error":"#N/A"},{"$error":"#N/A"},{"$error":"#N/A"},{"$error":"#N/A"},{"$error":"#N/A"}]
[{"$error":"#N/A"},{"$error":"#N/A"},{"$error":"#N/A"},{"$error":"#N/A"},{"$error":"#N/A"}]
[{"$error":"#N/A"},{"$error":"#N/A"},{"$error":"#N/A"},{"$error":"#N/A"},{"$error":"#N/A"}]
[{"$error":"#N/A"},{"$error":"#N/A"},{"$error":"#N/A"},{"$error":"#N/A"},{"$f":"IF(D1926<>0,D1926,\"\")","v":{"$error":"#N/A"}}]
[{"$error":"#N/A"},{"$error":"#N/A"},{"$error":"#N/A"},{"$error":"#N/A"},{"$error":"#N/A"}]
[{"$error":"#N/A"},{"$error":"#N/A"},{"$error":"#N/A"},{"$error":"#N/A"},{"$error":"#N/A"}]
[{"$error":"#N/A"},{"$error":"#N/A"},{"$error":"#N/A"},{"$error":"#N/A"},{"$error":"#N/A"}]
[{"$error":"#N/A"},{"$error":"#N/A"},{"$error":"#N/A"},{"$error":"#N/A"},{"$error":"#N/A"}]
[{"$error":"#N/A"},{"$error":"#N/A"},{"$error":"#N/A"},{"$error":"#N/A"},{"$error":"#N/A"}]
[{"$error":"#N/A"},{"$error":"#N/A"},{"$error":"#N/A"},{"$error":"#N/A"},{"$error":"#N/A"}]
[{"$error":"#N/A"},{"$error":"#N/A"},{"$error":"#N/A"},{"$error":"#N/A"},{"$error":"#N/A"}]
[{"$error":"#N/A"},{"$error":"#N/A"},{"$error":"#N/A"},{"$error":"#N/A"},{"$error":"#N/A"}]
[{"$error":"#N/A"},{"$error":"#N/A"},{"$error":"#N/A"},{"$error":"#N/A"},{"$error":"#N/A"}]
[{"$error":"#N/A"},{"$error":"#N/A"},{"$error":"#N/A"},{"$error":"#N/A"},{"$error":"#N/A"}]
[{"$error":"#N/A"},{"$error":"#N/A"},{"$error":"#N/A"},{"$error":"#N/A"},{"$error":"#N/A"}]
[{"$error":"#N/A"},{"$error":"#N/A"},{"$error":"#N/A"},{"$error":"#N/A"},{"$error":"#N/A"}]
[{"$error":"#N/A"},{"$error":"#N/A"},{"$error":"#N/A"},{"$error":"#N/A"},{"$error":"#N/A"}]
[{"$error":"#N/A"},{"$error":"#N/A"},{"$error":"#N/A"},{"$error":"#N/A"},{"$error":"#N/A"}]
[{"$error":"#N/A"},{"$error":"#N/A"},{"$error":"#N/A"},{"$error":"#N/A"},{"$error":"#N/A"}]
[{"$error":"#N/A"},{"$error":"#N/A"},{"$error":"#N/A"},{"$error":"#N/A"},{"$error":"#N/A"}]
[{"$error":"#N/A"},{"$error":"#N/A"},{"$error":"#N/A"},{"$error":"#N/A"},{"$error":"#N/A"}]
[{"$error":"#N/A"},{"$error":"#N/A"},{"$error":"#N/A"},{"$error":"#N/A"},{"$error":"#N/A"}]
[{"$error":"#N/A"},{"$error":"#N/A"},{"$error":"#N/A"},{"$error":"#N/A"},{"$error":"#N/A"}]
[{"$error":"#N/A"},{"$error":"#N/A"},{"$error":"#N/A"},{"$error":"#N/A"},{"$error":"#N/A"}]
[{"$error":"#N/A"},{"$error":"#N/A"},{"$error":"#N/A"},{"$error":"#N/A"},{"$error":"#N/A"}]
[{"$error":"#N/A"},{"$error":"#N/A"},{"$error":"#N/A"},{"$error":"#N/A"},{"$error":"#N/A"}]
[{"$error":"#N/A"},{"$error":"#N/A"},{"$error":"#N/A"},{"$error":"#N/A"},{"$error":"#N/A"}]
[{"$error":"#N/A"},{"$error":"#N/A"},{"$error":"#N/A"},{"$error":"#N/A"},{"$error":"#N/A"}]
[{"$error":"#N/A"},{"$error":"#N/A"},{"$error":"#N/A"},{"$error":"#N/A"},{"$error":"#N/A"}]
[{"$error":"#N/A"},{"$error":"#N/A"},{"$error":"#N/A"},{"$error":"#N/A"},{"$error":"#N/A"}]
[{"$error":"#N/A"},{"$error":"#N/A"},{"$error":"#N/A"},{"$error":"#N/A"},{"$error":"#N/A"}]
[{"$error":"#N/A"},{"$error":"#N/A"},{"$error":"#N/A"},{"$error":"#N/A"},{"$error":"#N/A"}]
[{"$error":"#N/A"},{"$error":"#N/A"},{"$error":"#N/A"},{"$error":"#N/A"},{"$error":"#N/A"}]
[{"$error":"#N/A"},{"$error":"#N/A"},{"$error":"#N/A"},{"$error":"#N/A"},{"$error":"#N/A"}]
[{"$error":"#N/A"},{"$error":"#N/A"},{"$error":"#N/A"},{"$error":"#N/A"},{"$error":"#N/A"}]
[{"$error":"#N/A"},{"$error":"#N/A"},{"$error":"#N/A"},{"$error":"#N/A"},{"$error":"#N/A"}]
[{"$error":"#N/A"},{"$error":"#N/A"},{"$error":"#N/A"},{"$error":"#N/A"},{"$error":"#N/A"}]
[{"$error":"#N/A"},{"$error":"#N/A"},{"$error":"#N/A"},{"$error":"#N/A"},{"$error":"#N/A"}]
[{"$error":"#N/A"},{"$error":"#N/A"},{"$error":"#N/A"},{"$error":"#N/A"},{"$error":"#N/A"}]
[{"$error":"#N/A"},{"$error":"#N/A"},{"$error":"#N/A"},{"$error":"#N/A"},{"$error":"#N/A"}]
[{"$error":"#N/A"},{"$error":"#N/A"},{"$error":"#N/A"},{"$error":"#N/A"},{"$error":"#N/A"}]
[{"$error":"#N/A"},{"$error":"#N/A"},{"$error":"#N/A"},{"$error":"#N/A"},{"$error":"#N/A"}]
[{"$error":"#N/A"},{"$error":"#N/A"},{"$error":"#N/A"},{"$error":"#N/A"},{"$error":"#N/A"}]
[{"$error":"#N/A"},{"$error":"#N/A"},{"$error":"#N/A"},{"$error":"#N/A"},{"$error":"#N/A"}]
[{"$error":"#N/A"},{"$error":"#N/A"},{"$error":"#N/A"},{"$error":"#N/A"},{"$error":"#N/A"}]
[{"$error":"#N/A"},{"$error":"#N/A"},{"$error":"#N/A"},{"$error":"#N/A"},{"$error":"#N/A"}]
[{"$error":"#N/A"},{"$error":"#N/A"},{"$error":"#N/A"},{"$error":"#N/A"},{"$error":"#N/A"}]
[{"$error":"#N/A"},{"$error":"#N/A"},{"$error":"#N/A"},{"$error":"#N/A"},{"$error":"#N/A"}]
[{"$error":"#N/A"},{"$error":"#N/A"},{"$error":"#N/A"},{"$error":"#N/A"},{"$error":"#N/A"}]
[{"$error":"#N/A"},{"$error":"#N/A"},{"$error":"#N/A"},{"$error":"#N/A"},{"$error":"#N/A"}]
[{"$error":"#N/A"},{"$error":"#N/A"},{"$error":"#N/A"},{"$error":"#N/A"},{"$error":"#N/A"}]
[{"$error":"#N/A"},{"$error":"#N/A"},{"$error":"#N/A"},{"$error":"#N/A"},{"$error":"#N/A"}]
[{"$error":"#N/A"},{"$error":"#N/A"},{"$error":"#N/A"},{"$error":"#N/A"},{"$error":"#N/A"}]
[{"$error":"#N/A"},{"$error":"#N/A"},{"$error":"#N/A"},{"$error":"#N/A"},{"$error":"#N/A"}]
[{"$error":"#N/A"},{"$error":"#N/A"},{"$error":"#N/A"},{"$error":"#N/A"},{"$error":"#N/A"}]
[{"$error":"#N/A"},{"$error":"#N/A"},{"$error":"#N/A"},{"$error":"#N/A"},{"$error":"#N/A"}]
[{"$error":"#N/A"},{"$error":"#N/A"},{"$error":"#N/A"},{"$error":"#N/A"},{"$error":"#N/A"}]
[{"$error":"#N/A"},{"$error":"#N/A"},{"$error":"#N/A"},{"$error":"#N/A"},{"$error":"#N/A"}]
[{"$error":"#N/A"},{"$error":"#N/A"},{"$error":"#N/A"},{"$error":"#N/A"},{"$error":"#N/A"}]
[{"$error":"#N/A"},{"$error":"#N/A"},{"$error":"#N/A"},{"$error":"#N/A"},{"$error":"#N/A"}]
[{"$error":"#N/A"},{"$error":"#N/A"},{"$error":"#N/A"},{"$error":"#N/A"},{"$error":"#N/A"}]
[{"$error":"#N/A"},{"$error":"#N/A"},{"$error":"#N/A"},{"$error":"#N/A"},{"$error":"#N/A"}]
[{"$error":"#N/A"},{"$error":"#N/A"},{"$error":"#N/A"},{"$error":"#N/A"},{"$error":"#N/A"}]
[{"$error":"#N/A"},{"$error":"#N/A"},{"$error":"#N/A"},{"$error":"#N/A"},{"$error":"#N/A"}]
[{"$error":"#N/A"},{"$error":"#N/A"},{"$error":"#N/A"},{"$error":"#N/A"},{"$error":"#N/A"}]
[{"$error":"#N/A"},{"$error":"#N/A"},{"$error":"#N/A"},{"$error":"#N/A"},{"$error":"#N/A"}]
[{"$error":"#N/A"},{"$error":"#N/A"},{"$error":"#N/A"},{"$error":"#N/A"},{"$error":"#N/A"}]
[{"$error":"#N/A"},{"$error":"#N/A"},{"$error":"#N/A"},{"$error":"#N/A"},{"$f":"IF(D1990<>0,D1990,\"\")","v":{"$error":"#N/A"}}]
[{"$error":"#N/A"},{"$error":"#N/A"},{"$error":"#N/A"},{"$error":"#N/A"},{"$error":"#N/A"}]
[{"$error":"#N/A"},{"$error":"#N/A"},{"$error":"#N/A"},{"$error":"#N/A"},{"$error":"#N/A"}]
[{"$error":"#N/A"},{"$error":"#N/A"},{"$error":"#N/A"},{"$error":"#N/A"},{"$error":"#N/A"}]
[{"$error":"#N/A"},{"$error":"#N/A"},{"$error":"#N/A"},{"$error":"#N/A"},{"$error":"#N/A"}]
[{"$error":"#N/A"},{"$error":"#N/A"},{"$error":"#N/A"},{"$error":"#N/A"},{"$error":"#N/A"}]
[{"$error":"#N/A"},{"$error":"#N/A"},{"$error":"#N/A"},{"$error":"#N/A"},{"$error":"#N/A"}]
[{"$error":"#N/A"},{"$error":"#N/A"},{"$error":"#N/A"},{"$error":"#N/A"},{"$error":"#N/A"}]
[{"$error":"#N/A"},{"$error":"#N/A"},{"$error":"#N/A"},{"$error":"#N/A"}]
[{"$error":"#N/A"},{"$error":"#N/A"},{"$error":"#N/A"},{"$error":"#N/A"}]
[{"$error":"#N/A"},{"$error":"#N/A"},{"$error":"#N/A"},{"$error":"#N/A"}]
[{"$error":"#N/A"},{"$error":"#N/A"},{"$error":"#N/A"},{"$error":"#N/A"}]
[{"$error":"#N/A"},{"$error":"#N/A"},{"$error":"#N/A"},{"$error":"#N/A"}]
[{"$error":"#N/A"},{"$error":"#N/A"},{"$error":"#N/A"},{"$error":"#N/A"}]
[{"$error":"#N/A"},{"$error":"#N/A"},{"$error":"#N/A"},{"$error":"#N/A"}]
[{"$error":"#N/A"},{"$error":"#N/A"},{"$error":"#N/A"},{"$error":"#N/A"}]
[{"$error":"#N/A"},{"$error":"#N/A"},{"$error":"#N/A"},{"$error":"#N/A"}]
[{"$error":"#N/A"},{"$error":"#N/A"},{"$error":"#N/A"},{"$error":"#N/A"}]
[{"$error":"#N/A"},{"$error":"#N/A"},{"$error":"#N/A"},{"$error":"#N/A"}]
[{"$error":"#N/A"},{"$error":"#N/A"},{"$error":"#N/A"},{"$error":"#N/A"}]
[{"$error":"#N/A"},{"$error":"#N/A"},{"$error":"#N/A"},{"$error":"#N/A"}]
[{"$error":"#N/A"},{"$error":"#N/A"},{"$error":"#N/A"},{"$error":"#N/A"}]
[{"$error":"#N/A"},{"$error":"#N/A"},{"$error":"#N/A"},{"$error":"#N/A"}]
[{"$error":"#N/A"},{"$error":"#N/A"},{"$error":"#N/A"},{"$error":"#N/A"}]
[{"$error":"#N/A"},{"$error":"#N/A"},{"$error":"#N/A"},{"$error":"#N/A"}]
[{"$error":"#N/A"},{"$error":"#N/A"},{"$error":"#N/A"},{"$error":"#N/A"}]
[{"$error":"#N/A"},{"$error":"#N/A"},{"$error":"#N/A"},{"$error":"#N/A"}]
[{"$error":"#N/A"},{"$error":"#N/A"},{"$error":"#N/A"},{"$error":"#N/A"}]
[{"$error":"#N/A"},{"$error":"#N/A"},{"$error":"#N/A"},{"$error":"#N/A"}]
[{"$error":"#N/A"},{"$error":"#N/A"},{"$error":"#N/A"},{"$error":"#N/A"}]
[{"$error":"#N/A"},{"$error":"#N/A"},{"$error":"#N/A"},{"$error":"#N/A"}]
[{"$error":"#N/A"},{"$error":"#N/A"},{"$error":"#N/A"},{"$error":"#N/A"}]
[{"$error":"#N/A"},{"$error":"#N/A"},{"$error":"#N/A"},{"$error":"#N/A"}]
[{"$error":"#N/A"},{"$error":"#N/A"},{"$error":"#N/A"},{"$error":"#N/A"}]
[{"$error":"#N/A"},{"$error":"#N/A"},{"$error":"#N/A"},{"$error":"#N/A"}]
[{"$error":"#N/A"},{"$error":"#N/A"},{"$error":"#N/A"},{"$error":"#N/A"}]
[{"$error":"#N/A"},{"$error":"#N/A"},{"$error":"#N/A"},{"$error":"#N/A"}]
[{"$error":"#N/A"},{"$error":"#N/A"},{"$error":"#N/A"},{"$error":"#N/A"}]
[{"$error":"#N/A"},{"$error":"#N/A"},{"$error":"#N/A"},{"$error":"#N/A"}]
[{"$error":"#N/A"},{"$error":"#N/A"},{"$error":"#N/A"},{"$error":"#N/A"}]
[{"$error":"#N/A"},{"$error":"#N/A"},{"$error":"#N/A"},{"$error":"#N/A"}]
[{"$error":"#N/A"},{"$error":"#N/A"},{"$error":"#N/A"},{"$error":"#N/A"}]
[{"$error":"#N/A"},{"$error":"#N/A"},{"$error":"#N/A"},{"$error":"#N/A"}]
[{"$error":"#N/A"},{"$error":"#N/A"},{"$error":"#N/A"},{"$error":"#N/A"}]
[{"$error":"#N/A"},{"$error":"#N/A"},{"$error":"#N/A"},{"$error":"#N/A"}]
[{"$error":"#N/A"},{"$error":"#N/A"},{"$error":"#N/A"},{"$error":"#N/A"}]
[{"$error":"#N/A"},{"$error":"#N/A"},{"$error":"#N/A"},{"$error":"#N/A"}]
[{"$error":"#N/A"},{"$error":"#N/A"},{"$error":"#N/A"},{"$error":"#N/A"}]
[{"$error":"#N/A"},{"$error":"#N/A"},{"$error":"#N/A"},{"$error":"#N/A"}]
[{"$error":"#N/A"},{"$error":"#N/A"},{"$error":"#N/A"},{"$error":"#N/A"}]
[{"$error":"#N/A"},{"$error":"#N/A"},{"$error":"#N/A"},{"$error":"#N/A"}]
[{"$error":"#N/A"},{"$error":"#N/A"},{"$error":"#N/A"},{"$error":"#N/A"}]
[{"$error":"#N/A"},{"$error":"#N/A"},{"$error":"#N/A"},{"$error":"#N/A"}]
[{"$error":"#N/A"},{"$error":"#N/A"},{"$error":"#N/A"},{"$error":"#N/A"}]
[{"$error":"#N/A"},{"$error":"#N/A"},{"$error":"#N/A"},{"$error":"#N/A"}]
[{"$error":"#N/A"},{"$error":"#N/A"},{"$error":"#N/A"},{"$error":"#N/A"}]
[{"$error":"#N/A"},{"$error":"#N/A"},{"$error":"#N/A"},{"$error":"#N/A"}]
[{"$error":"#N/A"},{"$error":"#N/A"},{"$error":"#N/A"},{"$error":"#N/A"}]
[{"$error":"#N/A"},{"$error":"#N/A"},{"$error":"#N/A"},{"$error":"#N/A"}]
[{"$error":"#N/A"},{"$error":"#N/A"},{"$error":"#N/A"},{"$error":"#N/A"}]
[{"$error":"#N/A"},{"$error":"#N/A"},{"$error":"#N/A"},{"$error":"#N/A"}]
[{"$error":"#N/A"},{"$error":"#N/A"},{"$error":"#N/A"},{"$error":"#N/A"}]
[{"$error":"#N/A"},{"$error":"#N/A"},{"$error":"#N/A"},{"$error":"#N/A"}]
[{"$error":"#N/A"},{"$error":"#N/A"},{"$error":"#N/A"},{"$error":"#N/A"}]
[{"$error":"#N/A"},{"$error":"#N/A"},{"$error":"#N/A"},{"$error":"#N/A"}]
[{"$error":"#N/A"},{"$error":"#N/A"},{"$error":"#N/A"},{"$error":"#N/A"}]
[{"$error":"#N/A"},{"$error":"#N/A"},{"$error":"#N/A"},{"$error":"#N/A"}]
[{"$error":"#N/A"},{"$error":"#N/A"},{"$error":"#N/A"},{"$error":"#N/A"}]
[{"$error":"#N/A"},{"$error":"#N/A"},{"$error":"#N/A"},{"$error":"#N/A"}]
[{"$error":"#N/A"},{"$error":"#N/A"},{"$error":"#N/A"},{"$error":"#N/A"}]
[{"$error":"#N/A"},{"$error":"#N/A"},{"$error":"#N/A"},{"$error":"#N/A"}]
[{"$error":"#N/A"},{"$error":"#N/A"},{"$error":"#N/A"},{"$error":"#N/A"}]
[{"$error":"#N/A"},{"$error":"#N/A"},{"$error":"#N/A"},{"$error":"#N/A"}]
[{"$error":"#N/A"},{"$error":"#N/A"},{"$error":"#N/A"},{"$error":"#N/A"}]
[{"$error":"#N/A"},{"$error":"#N/A"},{"$error":"#N/A"},{"$error":"#N/A"}]
[{"$error":"#N/A"},{"$error":"#N/A"},{"$error":"#N/A"},{"$error":"#N/A"}]
[{"$error":"#N/A"},{"$error":"#N/A"},{"$error":"#N/A"},{"$error":"#N/A"}]
[{"$error":"#N/A"},{"$error":"#N/A"},{"$error":"#N/A"},{"$error":"#N/A"}]
[{"$error":"#N/A"},{"$error":"#N/A"},{"$error":"#N/A"},{"$error":"#N/A"}]
[{"$error":"#N/A"},{"$error":"#N/A"},{"$error":"#N/A"},{"$error":"#N/A"}]
[{"$error":"#N/A"},{"$error":"#N/A"},{"$error":"#N/A"},{"$error":"#N/A"}]
[{"$error":"#N/A"},{"$error":"#N/A"},{"$error":"#N/A"},{"$error":"#N/A"}]
[{"$error":"#N/A"},{"$error":"#N/A"},{"$error":"#N/A"},{"$error":"#N/A"}]
[{"$error":"#N/A"},{"$error":"#N/A"},{"$error":"#N/A"},{"$error":"#N/A"}]
[{"$error":"#N/A"},{"$error":"#N/A"},{"$error":"#N/A"},{"$error":"#N/A"}]
[{"$error":"#N/A"},{"$error":"#N/A"},{"$error":"#N/A"},{"$error":"#N/A"}]
[{"$error":"#N/A"},{"$error":"#N/A"},{"$error":"#N/A"},{"$error":"#N/A"}]
[{"$error":"#N/A"},{"$error":"#N/A"},{"$error":"#N/A"},{"$error":"#N/A"}]
[{"$error":"#N/A"},{"$error":"#N/A"},{"$error":"#N/A"},{"$error":"#N/A"}]
[{"$error":"#N/A"},{"$error":"#N/A"},{"$error":"#N/A"},{"$error":"#N/A"}]
[{"$error":"#N/A"},{"$error":"#N/A"},{"$error":"#N/A"},{"$error":"#N/A"}]
[{"$error":"#N/A"},{"$error":"#N/A"},{"$error":"#N/A"},{"$error":"#N/A"}]
[{"$error":"#N/A"},{"$error":"#N/A"},{"$error":"#N/A"},{"$error":"#N/A"}]
[{"$error":"#N/A"},{"$error":"#N/A"},{"$error":"#N/A"},{"$error":"#N/A"}]
[{"$error":"#N/A"},{"$error":"#N/A"},{"$error":"#N/A"},{"$error":"#N/A"}]
[{"$error":"#N/A"},{"$error":"#N/A"},{"$error":"#N/A"},{"$error":"#N/A"}]
[{"$error":"#N/A"},{"$error":"#N/A"},{"$error":"#N/A"},{"$error":"#N/A"}]
[{"$error":"#N/A"},{"$error":"#N/A"},{"$error":"#N/A"},{"$error":"#N/A"}]
[{"$error":"#N/A"},{"$error":"#N/A"},{"$error":"#N/A"},{"$error":"#N/A"}]
[{"$error":"#N/A"},{"$error":"#N/A"},{"$error":"#N/A"},{"$error":"#N/A"}]
[{"$error":"#N/A"},{"$error":"#N/A"},{"$error":"#N/A"},{"$error":"#N/A"}]
[{"$error":"#N/A"},{"$error":"#N/A"},{"$error":"#N/A"},{"$error":"#N/A"}]
[{"$error":"#N/A"},{"$error":"#N/A"},{"$error":"#N/A"},{"$error":"#N/A"}]
[{"$error":"#N/A"},{"$error":"#N/A"},{"$error":"#N/A"},{"$error":"#N/A"}]
[{"$error":"#N/A"},{"$error":"#N/A"},{"$error":"#N/A"},{"$error":"#N/A"}]
[{"$error":"#N/A"},{"$error":"#N/A"},{"$error":"#N/A"},{"$error":"#N/A"}]
[{"$error":"#N/A"},{"$error":"#N/A"},{"$error":"#N/A"},{"$error":"#N/A"}]
[{"$error":"#N/A"},{"$error":"#N/A"},{"$error":"#N/A"},{"$error":"#N/A"}]
[{"$error":"#N/A"},{"$error":"#N/A"},{"$error":"#N/A"},{"$error":"#N/A"}]
[{"$error":"#N/A"},{"$error":"#N/A"},{"$error":"#N/A"},{"$error":"#N/A"}]
[{"$error":"#N/A"},{"$error":"#N/A"},{"$error":"#N/A"},{"$error":"#N/A"}]
[{"$error":"#N/A"},{"$error":"#N/A"},{"$error":"#N/A"},{"$error":"#N/A"}]
[{"$error":"#N/A"},{"$error":"#N/A"},{"$error":"#N/A"},{"$error":"#N/A"}]
[{"$error":"#N/A"},{"$error":"#N/A"},{"$error":"#N/A"},{"$error":"#N/A"}]
[{"$error":"#N/A"},{"$error":"#N/A"},{"$error":"#N/A"},{"$error":"#N/A"}]
[{"$error":"#N/A"},{"$error":"#N/A"},{"$error":"#N/A"},{"$error":"#N/A"}]
[{"$error":"#N/A"},{"$error":"#N/A"},{"$error":"#N/A"},{"$error":"#N/A"}]
[{"$error":"#N/A"},{"$error":"#N/A"},{"$error":"#N/A"},{"$error":"#N/A"}]
[{"$error":"#N/A"},{"$error":"#N/A"},{"$error":"#N/A"},{"$error":"#N/A"}]
[{"$error":"#N/A"},{"$error":"#N/A"},{"$error":"#N/A"},{"$error":"#N/A"}]
[{"$error":"#N/A"},{"$error":"#N/A"},{"$error":"#N/A"},{"$error":"#N/A"}]
[{"$error":"#N/A"},{"$error":"#N/A"},{"$error":"#N/A"},{"$error":"#N/A"}]
[{"$error":"#N/A"},{"$error":"#N/A"},{"$error":"#N/A"},{"$error":"#N/A"}]
[{"$error":"#N/A"},{"$error":"#N/A"},{"$error":"#N/A"},{"$error":"#N/A"}]
[{"$error":"#N/A"},{"$error":"#N/A"},{"$error":"#N/A"},{"$error":"#N/A"}]
[{"$error":"#N/A"},{"$error":"#N/A"},{"$error":"#N/A"},{"$error":"#N/A"}]
[{"$error":"#N/A"},{"$error":"#N/A"},{"$error":"#N/A"},{"$error":"#N/A"}]
[{"$error":"#N/A"},{"$error":"#N/A"},{"$error":"#N/A"},{"$error":"#N/A"}]
[{"$error":"#N/A"},{"$error":"#N/A"},{"$error":"#N/A"},{"$error":"#N/A"}]
[{"$error":"#N/A"},{"$error":"#N/A"},{"$error":"#N/A"},{"$error":"#N/A"}]
[{"$error":"#N/A"},{"$error":"#N/A"},{"$error":"#N/A"},{"$error":"#N/A"}]
[{"$error":"#N/A"},{"$error":"#N/A"},{"$error":"#N/A"},{"$error":"#N/A"}]
[{"$error":"#N/A"},{"$error":"#N/A"},{"$error":"#N/A"},{"$error":"#N/A"}]
[{"$error":"#N/A"},{"$error":"#N/A"},{"$error":"#N/A"},{"$error":"#N/A"}]
[{"$error":"#N/A"},{"$error":"#N/A"},{"$error":"#N/A"},{"$error":"#N/A"}]
[{"$error":"#N/A"},{"$error":"#N/A"},{"$error":"#N/A"},{"$error":"#N/A"}]
[{"$error":"#N/A"},{"$error":"#N/A"},{"$error":"#N/A"},{"$error":"#N/A"}]
[{"$error":"#N/A"},{"$error":"#N/A"},{"$error":"#N/A"},{"$error":"#N/A"}]
[{"$error":"#N/A"},{"$error":"#N/A"},{"$error":"#N/A"},{"$error":"#N/A"}]
[{"$error":"#N/A"},{"$error":"#N/A"},{"$error":"#N/A"},{"$error":"#N/A"}]
[{"$error":"#N/A"},{"$error":"#N/A"},{"$error":"#N/A"},{"$error":"#N/A"}]
[{"$error":"#N/A"},{"$error":"#N/A"},{"$error":"#N/A"},{"$error":"#N/A"}]
[{"$error":"#N/A"},{"$error":"#N/A"},{"$error":"#N/A"},{"$error":"#N/A"}]
[{"$error":"#N/A"},{"$error":"#N/A"},{"$error":"#N/A"},{"$error":"#N/A"}]
[{"$error":"#N/A"},{"$error":"#N/A"},{"$error":"#N/A"},{"$error":"#N/A"}]
[{"$error":"#N/A"},{"$error":"#N/A"},{"$error":"#N/A"},{"$error":"#N/A"}]
[{"$error":"#N/A"},{"$error":"#N/A"},{"$error":"#N/A"},{"$error":"#N/A"}]
[{"$error":"#N/A"},{"$error":"#N/A"},{"$error":"#N/A"},{"$error":"#N/A"}]
[{"$error":"#N/A"},{"$error":"#N/A"},{"$error":"#N/A"},{"$error":"#N/A"}]
[{"$error":"#N/A"},{"$error":"#N/A"},{"$error":"#N/A"},{"$error":"#N/A"}]
[{"$error":"#N/A"},{"$error":"#N/A"},{"$error":"#N/A"},{"$error":"#N/A"}]
[{"$error":"#N/A"},{"$error":"#N/A"},{"$error":"#N/A"},{"$error":"#N/A"}]
[{"$error":"#N/A"},{"$error":"#N/A"},{"$error":"#N/A"},{"$error":"#N/A"}]
[{"$error":"#N/A"},{"$error":"#N/A"},{"$error":"#N/A"},{"$error":"#N/A"}]
[{"$error":"#N/A"},{"$error":"#N/A"},{"$error":"#N/A"},{"$error":"#N/A"}]
[{"$error":"#N/A"},{"$error":"#N/A"},{"$error":"#N/A"},{"$error":"#N/A"}]
[{"$error":"#N/A"},{"$error":"#N/A"},{"$error":"#N/A"},{"$error":"#N/A"}]
[{"$error":"#N/A"},{"$error":"#N/A"},{"$error":"#N/A"},{"$error":"#N/A"}]
[{"$error":"#N/A"},{"$error":"#N/A"},{"$error":"#N/A"},{"$error":"#N/A"}]
[{"$error":"#N/A"},{"$error":"#N/A"},{"$error":"#N/A"},{"$error":"#N/A"}]
[{"$error":"#N/A"},{"$error":"#N/A"},{"$error":"#N/A"},{"$error":"#N/A"}]
[{"$error":"#N/A"},{"$error":"#N/A"},{"$error":"#N/A"},{"$error":"#N/A"}]
[{"$error":"#N/A"},{"$error":"#N/A"},{"$error":"#N/A"},{"$error":"#N/A"}]
[{"$error":"#N/A"},{"$error":"#N/A"},{"$error":"#N/A"},{"$error":"#N/A"}]
[{"$error":"#N/A"},{"$error":"#N/A"},{"$error":"#N/A"},{"$error":"#N/A"}]
[{"$error":"#N/A"},{"$error":"#N/A"},{"$error":"#N/A"},{"$error":"#N/A"}]
[{"$error":"#N/A"},{"$error":"#N/A"},{"$error":"#N/A"},{"$error":"#N/A"}]
[{"$error":"#N/A"},{"$error":"#N/A"},{"$error":"#N/A"},{"$error":"#N/A"}]
[{"$error":"#N/A"},{"$error":"#N/A"},{"$error":"#N/A"},{"$error":"#N/A"}]
[{"$error":"#N/A"},{"$error":"#N/A"},{"$error":"#N/A"},{"$error":"#N/A"}]
[{"$error":"#N/A"},{"$error":"#N/A"},{"$error":"#N/A"},{"$error":"#N/A"}]
[{"$error":"#N/A"},{"$error":"#N/A"},{"$error":"#N/A"},{"$error":"#N/A"}]
[{"$error":"#N/A"},{"$error":"#N/A"},{"$error":"#N/A"},{"$error":"#N/A"}]
[{"$error":"#N/A"},{"$error":"#N/A"},{"$error":"#N/A"},{"$error":"#N/A"}]
[{"$error":"#N/A"},{"$error":"#N/A"},{"$error":"#N/A"},{"$error":"#N/A"}]
[{"$error":"#N/A"},{"$error":"#N/A"},{"$error":"#N/A"},{"$error":"#N/A"}]
[{"$error":"#N/A"},{"$error":"#N/A"},{"$error":"#N/A"},{"$error":"#N/A"}]
[{"$error":"#N/A"},{"$error":"#N/A"},{"$error":"#N/A"},{"$error":"#N/A"}]
[{"$error":"#N/A"},{"$error":"#N/A"},{"$error":"#N/A"},{"$error":"#N/A"}]
[{"$error":"#N/A"},{"$error":"#N/A"},{"$error":"#N/A"},{"$error":"#N/A"}]
[{"$error":"#N/A"},{"$error":"#N/A"},{"$error":"#N/A"},{"$error":"#N/A"}]
[{"$error":"#N/A"},{"$error":"#N/A"},{"$error":"#N/A"},{"$error":"#N/A"}]
[{"$error":"#N/A"},{"$error":"#N/A"},{"$error":"#N/A"},{"$error":"#N/A"}]
[{"$error":"#N/A"},{"$error":"#N/A"},{"$error":"#N/A"},{"$error":"#N/A"}]
[{"$error":"#N/A"},{"$error":"#N/A"},{"$error":"#N/A"},{"$error":"#N/A"}]
[{"$error":"#N/A"},{"$error":"#N/A"},{"$error":"#N/A"},{"$error":"#N/A"}]
[{"$error":"#N/A"},{"$error":"#N/A"},{"$error":"#N/A"},{"$error":"#N/A"}]
[{"$error":"#N/A"},{"$error":"#N/A"},{"$error":"#N/A"},{"$error":"#N/A"}]
[{"$error":"#N/A"},{"$error":"#N/A"},{"$error":"#N/A"},{"$error":"#N/A"}]
[{"$error":"#N/A"},{"$error":"#N/A"},{"$error":"#N/A"},{"$error":"#N/A"}]
[{"$error":"#N/A"},{"$error":"#N/A"},{"$error":"#N/A"},{"$error":"#N/A"}]
[{"$error":"#N/A"},{"$error":"#N/A"},{"$error":"#N/A"},{"$error":"#N/A"}]
[{"$error":"#N/A"},{"$error":"#N/A"},{"$error":"#N/A"},{"$error":"#N/A"}]
[{"$error":"#N/A"},{"$error":"#N/A"},{"$error":"#N/A"},{"$error":"#N/A"}]
[{"$error":"#N/A"},{"$error":"#N/A"},{"$error":"#N/A"},{"$error":"#N/A"}]
[{"$error":"#N/A"},{"$error":"#N/A"},{"$error":"#N/A"},{"$error":"#N/A"}]
[{"$error":"#N/A"},{"$error":"#N/A"},{"$error":"#N/A"},{"$error":"#N/A"}]
[{"$error":"#N/A"},{"$error":"#N/A"},{"$error":"#N/A"},{"$error":"#N/A"}]
[{"$error":"#N/A"},{"$error":"#N/A"},{"$error":"#N/A"},{"$error":"#N/A"}]
[{"$error":"#N/A"},{"$error":"#N/A"},{"$error":"#N/A"},{"$error":"#N/A"}]
[{"$error":"#N/A"},{"$error":"#N/A"},{"$error":"#N/A"},{"$error":"#N/A"}]
[{"$error":"#N/A"},{"$error":"#N/A"},{"$error":"#N/A"},{"$error":"#N/A"}]
[{"$error":"#N/A"},{"$error":"#N/A"},{"$error":"#N/A"},{"$error":"#N/A"}]
[{"$error":"#N/A"},{"$error":"#N/A"},{"$error":"#N/A"},{"$error":"#N/A"}]
[{"$error":"#N/A"},{"$error":"#N/A"},{"$error":"#N/A"},{"$error":"#N/A"}]
[{"$error":"#N/A"},{"$error":"#N/A"},{"$error":"#N/A"},{"$error":"#N/A"}]
[{"$error":"#N/A"},{"$error":"#N/A"},{"$error":"#N/A"},{"$error":"#N/A"}]
[{"$error":"#N/A"},{"$error":"#N/A"},{"$error":"#N/A"},{"$error":"#N/A"}]
[{"$error":"#N/A"},{"$error":"#N/A"},{"$error":"#N/A"},{"$error":"#N/A"}]
[{"$error":"#N/A"},{"$error":"#N/A"},{"$error":"#N/A"},{"$error":"#N/A"}]
[{"$error":"#N/A"},{"$error":"#N/A"},{"$error":"#N/A"},{"$error":"#N/A"}]
[{"$error":"#N/A"},{"$error":"#N/A"},{"$error":"#N/A"},{"$error":"#N/A"}]
[{"$error":"#N/A"},{"$error":"#N/A"},{"$error":"#N/A"},{"$error":"#N/A"}]
[{"$error":"#N/A"},{"$error":"#N/A"},{"$error":"#N/A"},{"$error":"#N/A"}]
[{"$error":"#N/A"},{"$error":"#N/A"},{"$error":"#N/A"},{"$error":"#N/A"}]
[{"$error":"#N/A"},{"$error":"#N/A"},{"$error":"#N/A"},{"$error":"#N/A"}]
[{"$error":"#N/A"},{"$error":"#N/A"},{"$error":"#N/A"},{"$error":"#N/A"}]
[{"$error":"#N/A"},{"$error":"#N/A"},{"$error":"#N/A"},{"$error":"#N/A"}]
[{"$error":"#N/A"},{"$error":"#N/A"},{"$error":"#N/A"},{"$error":"#N/A"}]
[{"$error":"#N/A"},{"$error":"#N/A"},{"$error":"#N/A"},{"$error":"#N/A"}]
[{"$error":"#N/A"},{"$error":"#N/A"},{"$error":"#N/A"},{"$error":"#N/A"}]
[{"$error":"#N/A"},{"$error":"#N/A"},{"$error":"#N/A"},{"$error":"#N/A"}]
[{"$error":"#N/A"},{"$error":"#N/A"},{"$error":"#N/A"},{"$error":"#N/A"}]
[{"$error":"#N/A"},{"$error":"#N/A"},{"$error":"#N/A"},{"$error":"#N/A"}]
[{"$error":"#N/A"},{"$error":"#N/A"},{"$error":"#N/A"},{"$error":"#N/A"}]
[{"$error":"#N/A"},{"$error":"#N/A"},{"$error":"#N/A"},{"$error":"#N/A"}]
[{"$error":"#N/A"},{"$error":"#N/A"},{"$error":"#N/A"},{"$error":"#N/A"}]
[{"$error":"#N/A"},{"$error":"#N/A"},{"$error":"#N/A"},{"$error":"#N/A"}]
[{"$error":"#N/A"},{"$error":"#N/A"},{"$error":"#N/A"},{"$error":"#N/A"}]
[{"$error":"#N/A"},{"$error":"#N/A"},{"$error":"#N/A"},{"$error":"#N/A"}]
[{"$error":"#N/A"},{"$error":"#N/A"},{"$error":"#N/A"},{"$error":"#N/A"}]
[{"$error":"#N/A"},{"$error":"#N/A"},{"$error":"#N/A"},{"$error":"#N/A"}]
[{"$error":"#N/A"},{"$error":"#N/A"},{"$error":"#N/A"},{"$error":"#N/A"}]
[{"$error":"#N/A"},{"$error":"#N/A"},{"$error":"#N/A"},{"$error":"#N/A"}]
[{"$error":"#N/A"},{"$error":"#N/A"},{"$error":"#N/A"},{"$error":"#N/A"}]
[{"$error":"#N/A"},{"$error":"#N/A"},{"$error":"#N/A"},{"$error":"#N/A"}]
[{"$error":"#N/A"},{"$error":"#N/A"},{"$error":"#N/A"},{"$error":"#N/A"}]
[{"$error":"#N/A"},{"$error":"#N/A"},{"$error":"#N/A"},{"$error":"#N/A"}]
[{"$error":"#N/A"},{"$error":"#N/A"},{"$error":"#N/A"},{"$error":"#N/A"}]
[{"$error":"#N/A"},{"$error":"#N/A"},{"$error":"#N/A"},{"$error":"#N/A"}]
[{"$error":"#N/A"},{"$error":"#N/A"},{"$error":"#N/A"},{"$error":"#N/A"}]
[{"$error":"#N/A"},{"$error":"#N/A"},{"$error":"#N/A"},{"$error":"#N/A"}]
[{"$error":"#N/A"},{"$error":"#N/A"},{"$error":"#N/A"},{"$error":"#N/A"}]
[{"$error":"#N/A"},{"$error":"#N/A"},{"$error":"#N/A"},{"$error":"#N/A"}]
[{"$error":"#N/A"},{"$error":"#N/A"},{"$error":"#N/A"},{"$error":"#N/A"}]
[{"$error":"#N/A"},{"$error":"#N/A"},{"$error":"#N/A"},{"$error":"#N/A"}]
[{"$error":"#N/A"},{"$error":"#N/A"},{"$error":"#N/A"},{"$error":"#N/A"}]
[{"$error":"#N/A"},{"$error":"#N/A"},{"$error":"#N/A"},{"$error":"#N/A"}]
[{"$error":"#N/A"},{"$error":"#N/A"},{"$error":"#N/A"},{"$error":"#N/A"}]
[{"$error":"#N/A"},{"$error":"#N/A"},{"$error":"#N/A"},{"$error":"#N/A"}]
[{"$error":"#N/A"},{"$error":"#N/A"},{"$error":"#N/A"},{"$error":"#N/A"}]
[{"$error":"#N/A"},{"$error":"#N/A"},{"$error":"#N/A"},{"$error":"#N/A"}]
[{"$error":"#N/A"},{"$error":"#N/A"},{"$error":"#N/A"},{"$error":"#N/A"}]
[{"$error":"#N/A"},{"$error":"#N/A"},{"$error":"#N/A"},{"$error":"#N/A"}]
[{"$error":"#N/A"},{"$error":"#N/A"},{"$error":"#N/A"},{"$error":"#N/A"}]
[{"$error":"#N/A"},{"$error":"#N/A"},{"$error":"#N/A"},{"$error":"#N/A"}]
[{"$error":"#N/A"},{"$error":"#N/A"},{"$error":"#N/A"},{"$error":"#N/A"}]
[{"$error":"#N/A"},{"$error":"#N/A"},{"$error":"#N/A"},{"$error":"#N/A"}]
[{"$error":"#N/A"},{"$error":"#N/A"},{"$error":"#N/A"},{"$error":"#N/A"}]
[{"$error":"#N/A"},{"$error":"#N/A"},{"$error":"#N/A"},{"$error":"#N/A"}]
[{"$error":"#N/A"},{"$error":"#N/A"},{"$error":"#N/A"},{"$error":"#N/A"}]
[{"$error":"#N/A"},{"$error":"#N/A"},{"$error":"#N/A"},{"$error":"#N/A"}]
[{"$error":"#N/A"},{"$error":"#N/A"},{"$error":"#N/A"},{"$error":"#N/A"}]
[{"$error":"#N/A"},{"$error":"#N/A"},{"$error":"#N/A"},{"$error":"#N/A"}]
[{"$error":"#N/A"},{"$error":"#N/A"},{"$error":"#N/A"},{"$error":"#N/A"}]
[{"$error":"#N/A"},{"$error":"#N/A"},{"$error":"#N/A"},{"$error":"#N/A"}]
[{"$error":"#N/A"},{"$error":"#N/A"},{"$error":"#N/A"},{"$error":"#N/A"}]
[{"$error":"#N/A"},{"$error":"#N/A"},{"$error":"#N/A"},{"$error":"#N/A"}]
[{"$error":"#N/A"},{"$error":"#N/A"},{"$error":"#N/A"},{"$error":"#N/A"}]
[{"$error":"#N/A"},{"$error":"#N/A"},{"$error":"#N/A"},{"$error":"#N/A"}]
[{"$error":"#N/A"},{"$error":"#N/A"},{"$error":"#N/A"},{"$error":"#N/A"}]
[{"$error":"#N/A"},{"$error":"#N/A"},{"$error":"#N/A"},{"$error":"#N/A"}]
[{"$error":"#N/A"},{"$error":"#N/A"},{"$error":"#N/A"},{"$error":"#N/A"}]
[{"$error":"#N/A"},{"$error":"#N/A"},{"$error":"#N/A"},{"$error":"#N/A"}]
[{"$error":"#N/A"},{"$error":"#N/A"},{"$error":"#N/A"},{"$error":"#N/A"}]
[{"$error":"#N/A"},{"$error":"#N/A"},{"$error":"#N/A"},{"$error":"#N/A"}]
[{"$error":"#N/A"},{"$error":"#N/A"},{"$error":"#N/A"},{"$error":"#N/A"}]
[{"$error":"#N/A"},{"$error":"#N/A"},{"$error":"#N/A"},{"$error":"#N/A"}]
[{"$error":"#N/A"},{"$error":"#N/A"},{"$error":"#N/A"},{"$error":"#N/A"}]
[{"$error":"#N/A"},{"$error":"#N/A"},{"$error":"#N/A"},{"$error":"#N/A"}]
[{"$error":"#N/A"},{"$error":"#N/A"},{"$error":"#N/A"},{"$error":"#N/A"}]
[{"$error":"#N/A"},{"$error":"#N/A"},{"$error":"#N/A"},{"$error":"#N/A"}]
[{"$error":"#N/A"},{"$error":"#N/A"},{"$error":"#N/A"},{"$error":"#N/A"}]
[{"$error":"#N/A"},{"$error":"#N/A"},{"$error":"#N/A"},{"$error":"#N/A"}]
[{"$error":"#N/A"},{"$error":"#N/A"},{"$error":"#N/A"},{"$error":"#N/A"}]
[{"$error":"#N/A"},{"$error":"#N/A"},{"$error":"#N/A"},{"$error":"#N/A"}]
[{"$error":"#N/A"},{"$error":"#N/A"},{"$error":"#N/A"},{"$error":"#N/A"}]
[{"$error":"#N/A"},{"$error":"#N/A"},{"$error":"#N/A"},{"$error":"#N/A"}]
[{"$error":"#N/A"},{"$error":"#N/A"},{"$error":"#N/A"},{"$error":"#N/A"}]
[{"$error":"#N/A"},{"$error":"#N/A"},{"$error":"#N/A"},{"$error":"#N/A"}]
[{"$error":"#N/A"},{"$error":"#N/A"},{"$error":"#N/A"},{"$error":"#N/A"}]
[{"$error":"#N/A"},{"$error":"#N/A"},{"$error":"#N/A"},{"$error":"#N/A"}]
[{"$error":"#N/A"},{"$error":"#N/A"},{"$error":"#N/A"},{"$error":"#N/A"}]
[{"$error":"#N/A"},{"$error":"#N/A"},{"$error":"#N/A"},{"$error":"#N/A"}]
[{"$error":"#N/A"},{"$error":"#N/A"},{"$error":"#N/A"},{"$error":"#N/A"}]
[{"$error":"#N/A"},{"$error":"#N/A"},{"$error":"#N/A"},{"$error":"#N/A"}]
[{"$error":"#N/A"},{"$error":"#N/A"},{"$error":"#N/A"},{"$error":"#N/A"}]
[{"$error":"#N/A"},{"$error":"#N/A"},{"$error":"#N/A"},{"$error":"#N/A"}]
[{"$error":"#N/A"},{"$error":"#N/A"},{"$error":"#N/A"},{"$error":"#N/A"}]
[{"$error":"#N/A"},{"$error":"#N/A"},{"$error":"#N/A"},{"$error":"#N/A"}]
[{"$error":"#N/A"},{"$error":"#N/A"},{"$error":"#N/A"},{"$error":"#N/A"}]
[{"$error":"#N/A"},{"$error":"#N/A"},{"$error":"#N/A"},{"$error":"#N/A"}]
[{"$error":"#N/A"},{"$error":"#N/A"},{"$error":"#N/A"},{"$error":"#N/A"}]
[{"$error":"#N/A"},{"$error":"#N/A"},{"$error":"#N/A"},{"$error":"#N/A"}]
[{"$error":"#N/A"},{"$error":"#N/A"},{"$error":"#N/A"},{"$error":"#N/A"}]
[{"$error":"#N/A"},{"$error":"#N/A"},{"$error":"#N/A"},{"$error":"#N/A"}]
[{"$error":"#N/A"},{"$error":"#N/A"},{"$error":"#N/A"},{"$error":"#N/A"}]
[{"$error":"#N/A"},{"$error":"#N/A"},{"$error":"#N/A"},{"$error":"#N/A"}]
[{"$error":"#N/A"},{"$error":"#N/A"},{"$error":"#N/A"},{"$error":"#N/A"}]
[{"$error":"#N/A"},{"$error":"#N/A"},{"$error":"#N/A"},{"$error":"#N/A"}]
[{"$error":"#N/A"},{"$error":"#N/A"},{"$error":"#N/A"},{"$error":"#N/A"}]
[{"$error":"#N/A"},{"$error":"#N/A"},{"$error":"#N/A"},{"$error":"#N/A"}]
[{"$error":"#N/A"},{"$error":"#N/A"},{"$error":"#N/A"},{"$error":"#N/A"}]
[{"$error":"#N/A"},{"$error":"#N/A"},{"$error":"#N/A"},{"$error":"#N/A"}]
[{"$error":"#N/A"},{"$error":"#N/A"},{"$error":"#N/A"},{"$error":"#N/A"}]
[{"$error":"#N/A"},{"$error":"#N/A"},{"$error":"#N/A"},{"$error":"#N/A"}]
[{"$error":"#N/A"},{"$error":"#N/A"},{"$error":"#N/A"},{"$error":"#N/A"}]
[{"$error":"#N/A"},{"$error":"#N/A"},{"$error":"#N/A"},{"$error":"#N/A"}]
[{"$error":"#N/A"},{"$error":"#N/A"},{"$error":"#N/A"},{"$error":"#N/A"}]
[{"$error":"#N/A"},{"$error":"#N/A"},{"$error":"#N/A"},{"$error":"#N/A"}]
[{"$error":"#N/A"},{"$error":"#N/A"},{"$error":"#N/A"},{"$error":"#N/A"}]
[{"$error":"#N/A"},{"$error":"#N/A"},{"$error":"#N/A"},{"$error":"#N/A"}]
[{"$error":"#N/A"},{"$error":"#N/A"},{"$error":"#N/A"},{"$error":"#N/A"}]
[{"$error":"#N/A"},{"$error":"#N/A"},{"$error":"#N/A"},{"$error":"#N/A"}]
[{"$error":"#N/A"},{"$error":"#N/A"},{"$error":"#N/A"},{"$error":"#N/A"}]
[{"$error":"#N/A"},{"$error":"#N/A"},{"$error":"#N/A"},{"$error":"#N/A"}]
[{"$error":"#N/A"},{"$error":"#N/A"},{"$error":"#N/A"},{"$error":"#N/A"}]
[{"$error":"#N/A"},{"$error":"#N/A"},{"$error":"#N/A"},{"$error":"#N/A"}]
[{"$error":"#N/A"},{"$error":"#N/A"},{"$error":"#N/A"},{"$error":"#N/A"}]
[{"$error":"#N/A"},{"$error":"#N/A"},{"$error":"#N/A"},{"$error":"#N/A"}]
[{"$error":"#N/A"},{"$error":"#N/A"},{"$error":"#N/A"},{"$error":"#N/A"}]
[{"$error":"#N/A"},{"$error":"#N/A"},{"$error":"#N/A"},{"$error":"#N/A"}]
[{"$error":"#N/A"},{"$error":"#N/A"},{"$error":"#N/A"},{"$error":"#N/A"}]
[{"$error":"#N/A"},{"$error":"#N/A"},{"$error":"#N/A"},{"$error":"#N/A"}]
[{"$error":"#N/A"},{"$error":"#N/A"},{"$error":"#N/A"},{"$error":"#N/A"}]
[{"$error":"#N/A"},{"$error":"#N/A"},{"$error":"#N/A"},{"$error":"#N/A"}]
[{"$error":"#N/A"},{"$error":"#N/A"},{"$error":"#N/A"},{"$error":"#N/A"}]
[{"$error":"#N/A"},{"$error":"#N/A"},{"$error":"#N/A"},{"$error":"#N/A"}]
[{"$error":"#N/A"},{"$error":"#N/A"},{"$error":"#N/A"},{"$error":"#N/A"}]
[{"$error":"#N/A"},{"$error":"#N/A"},{"$error":"#N/A"},{"$error":"#N/A"}]
[{"$error":"#N/A"},{"$error":"#N/A"},{"$error":"#N/A"},{"$error":"#N/A"}]
[{"$error":"#N/A"},{"$error":"#N/A"},{"$error":"#N/A"},{"$error":"#N/A"}]
[{"$error":"#N/A"},{"$error":"#N/A"},{"$error":"#N/A"},{"$error":"#N/A"}]
[{"$error":"#N/A"},{"$error":"#N/A"},{"$error":"#N/A"},{"$error":"#N/A"}]
[{"$error":"#N/A"},{"$error":"#N/A"},{"$error":"#N/A"},{"$error":"#N/A"}]
[{"$error":"#N/A"},{"$error":"#N/A"},{"$error":"#N/A"},{"$error":"#N/A"}]
[{"$error":"#N/A"},{"$error":"#N/A"},{"$error":"#N/A"},{"$error":"#N/A"}]
[{"$error":"#N/A"},{"$error":"#N/A"},{"$error":"#N/A"},{"$error":"#N/A"}]
[{"$error":"#N/A"},{"$error":"#N/A"},{"$error":"#N/A"},{"$error":"#N/A"}]
[{"$error":"#N/A"},{"$error":"#N/A"},{"$error":"#N/A"},{"$error":"#N/A"}]
[{"$error":"#N/A"},{"$error":"#N/A"},{"$error":"#N/A"},{"$error":"#N/A"}]
[{"$error":"#N/A"},{"$error":"#N/A"},{"$error":"#N/A"},{"$error":"#N/A"}]
[{"$error":"#N/A"},{"$error":"#N/A"},{"$error":"#N/A"},{"$error":"#N/A"}]
[{"$error":"#N/A"},{"$error":"#N/A"},{"$error":"#N/A"},{"$error":"#N/A"}]
[{"$error":"#N/A"},{"$error":"#N/A"},{"$error":"#N/A"},{"$error":"#N/A"}]
[{"$error":"#N/A"},{"$error":"#N/A"},{"$error":"#N/A"},{"$error":"#N/A"}]
[{"$error":"#N/A"},{"$error":"#N/A"},{"$error":"#N/A"},{"$error":"#N/A"}]
[{"$error":"#N/A"},{"$error":"#N/A"},{"$error":"#N/A"},{"$error":"#N/A"}]
[{"$error":"#N/A"},{"$error":"#N/A"},{"$error":"#N/A"},{"$error":"#N/A"}]
[{"$error":"#N/A"},{"$error":"#N/A"},{"$error":"#N/A"},{"$error":"#N/A"}]
[{"$error":"#N/A"},{"$error":"#N/A"},{"$error":"#N/A"},{"$error":"#N/A"}]
[{"$error":"#N/A"},{"$error":"#N/A"},{"$error":"#N/A"},{"$error":"#N/A"}]
[{"$error":"#N/A"},{"$error":"#N/A"},{"$error":"#N/A"},{"$error":"#N/A"}]
[{"$error":"#N/A"},{"$error":"#N/A"},{"$error":"#N/A"},{"$error":"#N/A"}]
[{"$error":"#N/A"},{"$error":"#N/A"},{"$error":"#N/A"},{"$error":"#N/A"}]

{"sheet":"BM Weight","index":4,"n_rows":2348,"n_cols":4,"rows_kept":2348,"cut":false,"hidden":false,"merged":[]}
[{"$f":"[2]!FT(\"compareaccounts/?_view_config=BM weight\")","v":"Reference Account"},"ZERO Benchmark",0,0]
["Comparison Accounts","TRI Global Focus, TRI Global Focus IG",0,0]
["Valuation date for ref. account","2015-01-14",0,0]
["Valuation date for accounts","2015-01-14",0,0]
[0,0,0,0]
["ISIN","INSTRUMENT","TRI Global Focus WEIGHT","TRI Global Focus IG WEIGHT"]
["BE6258355120","SAGERPAR(GBL)/0.375%/09.10.2018",0.47994578643500002,0]
["CH0227342232","SWISS LIFE HOLD/0%/02.12.2020",0.51538879871800003,1.82637855231]
["DE000A11QGV1","RAG STIFTUNG (EVONIK)/0%/31.12.2018",0.62672996538000003,0]
["DE000A12UDH7","DEUTSCHE WOHNEN/0.875%/08.09.2021",0.49183507920699998,1.74291951373]
["DE000A13R491","FRESENIUS MEDICA/1.125%/31.01.2020",0.46858102689100001,0]
["DE000A1G0WA1","SIEMENS FINAN/1.05%/16.08.2017",1.4636881130299999,2.93868037303]
["DE000A1G0WC7","SIEMENS FINAN/1.65%/16.08.2019",1.5334818933100001,3.0788210555200002]
["DE000A1ML0D9","ADIDAS AG/0.25%/14.06.2019",0.57002375336599997,0]
["DE000A1R0VM5","DEUTSCHE POST AG/0.6%/06.12.2019",1.44342553495,5.1150669363499999]
["DE000A1YC3T6","FRESENIUS SE/0%/24.09.2019",0.60781720441200005,0]
["DE000TUAG158","TUI AG/2.75%/24.03.2016",0.45541421238500002,0]
["FR0010449264","MICHELIN CGDE/0%/01.01.2017",0.77686582880099997,2.7532049727799999]
["FR0010771766","AIR FRANCE-KLM/4.97%/01.04.2015",0.72281659601399995,0]
["FR0010773226","PEUGEOT SA/4.45%/01.01.2016",0.62388078004799996,0]
["FR0010881573","GECINA/2.125%/01.01.2016",0.42577982837400002,1.50906148898]
["FR0010941427","MISARTE (KERING)/3.25%/01.01.2016",0.90878052943099996,0]
["FR0010962704","TECHNIP/0.5%/01.01.2016",0.5759040849,2.0409608925399998]
["FR0011050111","FONCIERE REGIONS/3.34%/01.01.2017",0.52365937282200004,1.8557017482]
["FR0011163864","TECHNIP/0.25%/01.01.2017",0.51505900253400005,1.8252192059600001]
["FR0011321330","UNIBAIL-RODAMCO/0.75%/01.01.2018",0.97549077399299999,3.45725911688]
["FR0011453463","AIR FRANCE-KLM/2.03%/15.02.2023",0.64453235476399995,0]
["FR0011521673","UNIBAIL-RODAMCO/0%/01.07.2021",0.54169946795299995,1.9197972357199999]
["FR0011567908","RALLYE SA (CASINO)/1%/02.10.2020",0.42752271827900001,0]
["FR0011600352","CAP GEMINI SOGET/0%/01.01.2019",0.50732985572,1.7979401878400001]
["FR0011641034","CREDIT AGRICOLE (EURAZEO)/06.12.2016",0.39471069650099999,1.3988482121600001]
["FR0011766120","SUEZ ENVIRON/0%/27.02.2020",0.40032953900500001,1.4186552079400001]
["FR0011948306","ALCATEL-LUCENT/0%/30.01.2019",0.72260349805400004,0]
["FR0011948314","ALCATEL-LUCENT/0.125%/30.01.2020",0.48668676900699998,0]
["JP316600PD34","EBARA CORP/0%/19.03.2018",0.17072975528600001,0]
["NO0010679152","MARINE HAR/2.375%/08.05.2018",0.51451406345299999,0]
["NO0010710395","MARINE HARVEST/0.875%/06.05.2019",0.48109200377299999,0]
["PTPETROM0005","PARPUBLICA (GALP)/5.25%/28.09.2017",1.02692110997,0]
["US00971TAF84","AKAMAI TECH/0%/15.02.2019",0.62960111073900005,0]
["US02917TAA25","AMER REALTY CAP/3%/01.08.2018",0.50953254169999995,0]
["US035710AB87","ANNALY CAPITAL/5%/15.05.2015",0.67982008511699998,0]
["US04010LAB99","ARES CAPITAL COR/5.75%/01.02.2016",0.55310393441299999,1.9600398325599999]
["US151290AV52","CEMEX SAB/4.875%/15.03.2015",0.18970768971099999,0]
["US151290BB89","CEMEX SAB/3.25%/15.03.2016",1.0058081425100001,0]
["US151290BC62","CEMEX SAB/3.75%/15.03.2018",0.73434236224299998,0]
["US177376AC40","CITRIX SYSTEMS/144A/0.5%/15.04.2019",1.30416965564,4.6216047484900002]
["US19075FAB22","COBALT INT/3.125%/15.05.2024",0.77237607825800003,0]
["US22943FAD24","CTRIP.COM INT/REG/1.25%/15.10.2018",0.69318622968599997,0]
["US229678AH07","CUBIST PHARM/1.875%/01.09.2020",0.55150858707399997,0]
["US369300AL27","GEN CABLE CORP/FRN-STEP/15.11.2029",0.25617435440399999,0]
["US436440AB76","HOLOGIC INC/2010/FRN-STEP/15.12.2037",0.52991108086700001,0]
["US436440AC59","HOLOGIC INC/FRN-STEP/01.03.2042",0.51706504150099997,0]
["US452327AE94","ILLUMINA/144A/0.0%/15.06.2019",0.611934778219,2.1685329203100001]
["US452327AG43","ILLUMINA INC/0.5%/15.06.2021",0.52269205968400001,1.8522865902900001]
["US458140AD22","INTEL CORP/2.95%/15.12.2035",1.88817094268,6.0003594724099996]
["US464337AH78","ISIS PHARMACEUTI/144A/1%/15.11.2021",0.55693828000199996,0]
["US46612JAF84","JDS UNIPHASE/0.625%/15.08.2033",0.60933402238900003,0]
["US471109AK41","JARDEN CORP/1.125%/15.03.2034",0.68549328953900002,0]
["US472145AA96","JAZZ INVT I LTD/144A/1.875%/15.08.2021",0.58500242678799996,0]
["US512807AJ73","LAM RESEAR/0.5%/15.05.2016",0.50966535420600001,1.8060990257]
["US530610AC87","LIBERTY INTERACT/0.75%/30.03.2043",1.0251667232199999,0]
["US531229AB89","LIBERTY MEDIA/1.375%/15.10.2023",0.87984638402100002,0]
["US53578AAA60","LINKEDIN CORP/144A/0.5%/01.11.2019",1.2170851492500001,0]
["US60855RAC43","MOLINA HEALTHCAR/1.125%/15.01.2020",0.64213193614499997,0]
["US62952QAA85","NXP SEMICOND/144A/1%/01.12.2019",1.08732081263,0]
["US67066GAC87","NVIDIA CORP/1%/01.12.2018",1.5191978605100001,0]
["US697435AA30","PALO ALTO NET/144A/0%/01.07.2019",0.66052601231499997,0]
["US741503AS58","PRICELINE.COM/REG/0.35%/15.06.2020",0.95657575025700003,3.19691121371]
["US741503AT32","PRICELINE GROUP/144A/0.9%/15.09.2021",0.83851249520799997,2.8023281197599998]
["US74340XAT81","PROLOGIS INC/3.25%/15.03.2015",0.46054559268799999,1.6320480557399999]
["US74734MAA71","QIHOO 360 TECH/144A/2.5%/15.09.2018",0.51901296540399999,0]
["US756577AC63","RED HAT INC/144A/0.25%/01.10.2019",0.82545710187499999,2.925167203]
["US79466LAD64","SALESFORCE.COM/0.25%/01.04.2018",1.1499781523599999,0]
["US80004CAF86","SANDISK CORP/0.5%/15.10.2020",1.44993421404,0]
["US81762PAB85","SERVICENOW INC/0%/01.11.2018",0.57455867381600001,0]
["US83416TAB61","SOLARCITY CORP/144A/1.625%/01.11.2019",0.44004811026899998,0]
["US85571BAA35","STARWOOD PROP TR/4.55%/01.03.2018",0.59177332372900004,0]
["US85571BAB18","STARWOOD/4.0%/15.01.2019",0.47521147427499999,0]
["US86732YAE95","SUNEDISON INC/0.25%/15.01.2020",0.53963854871600003,0]
["US88160RAB78","TESLA MOTORS INC/0.25%/01.03.2019",0.72016246014899998,0]
["US88160RAC51","TESLA MOTORS INC/1.25%/01.03.2021",1.05358541612,0]
["US88163VAE92","TEVA PHARM/0.25%/01.02.2026",0.63531783336600001,2.25139115074]
["US90184LAA08","TWITTER/144A/0.25%/15.09.2019",0.75909367895299995,0]
["US90184LAC63","TWITTER INC/144A/1%/15.09.2021",0.78392141554000005,0]
["US92763WAA18","VIPSHOP HOLDING/1.5%/15.03.2019",0.71375814177999997,0]
["US984332AF31","YAHOO INC/0%/01.12.2018",1.4165430997999999,0]
["USG73030AB75","QIHOO 360 /0.5%/15.08.2020",0.403174525728,0]
["USG73030AC58","QIHOO 360 TECH/1.75%/15.08.2021",0.39006385967599999,0]
["XS0444106644","CAPITALAND LTD/2.875%/03.09.2016",0.32042651027399999,0]
["XS0450423321","OLAM INTL LTD/6%/15.10.2016",0.39039811435600003,0]
["XS0468958433","SQUARE ENIX HOLD/0%/04.02.2015",0.26606924625,0]
["XS0496240184","RUBY ASSETS (ASCENDAS REIT)/1.6%/01.02.2017",0.235353532684,0.83401286473000003]
["XS0503743949","TUI TRAVEL PLC/4.9%/27.04.2017",0.700478270219,0]
["XS0546152645","BILLION EXPRESS (CHINA UNICOM)/0.75%/18.10.2015",1.6402795569999999,0]
["XS0563898062","LUKOIL INTL FINANCE BV/2.625%/16.06.2015",1.2942588508199999,4.5864978987600002]
["XS0566792353","KAISA GROUP/8%/20.12.2015",8.3664121331600005E-2,0]
["XS0579438663","INDUSTRIVARDEN/1.875%/27.02.2017",0.60565778690399996,2.1462632428199999]
["XS0592528870","IMMOFINANZ/4.25%/08.03.2018",0.53566455766800003,0]
["XS0593734980","YAMATO HOLDINGS/0%/07.03.2016",0.200847976717,0]
["XS0605635787","STEINHOFF FINANCE HLDG/4.5%/31.03.2018",0.70830029593400001,0]
["XS0632138961","AABAR (DAIMLER)/4%/27.05.2016",1.61737316751,0]
["XS0641119812","NOVION PROPERTY/5.75%/04.07.2016",0.22651810785500001,0.80272227643600003]
["XS0755481339","FUKUYAMA TRANS/0%/22.03.2017",0.188146684831,0]
["XS0761797868","SOLIDIUM (TELIASONERA)/0.5%/29.09.2015",0.62971642444599996,0]
["XS0827518159","GOLDEN AGRI LTD/2.5%/04.10.2017",0.346814249204,0]
["XS0827594762","BRITISH LAND CO/1.5%/10.09.2017",0.64658358889300005,0]
["XS0834475161","HOLDGROVE (SEVERSTAL)/1%/24.09.2017",0.40677678910800003,0]
["XS0834486796","INTU PROPERTIES/2.5%/04.10.2018",0.44805211942299999,0]
["XS0836237213","HK EXCHANGES/0.5%/23.10.2017",0.53871873557399996,0]
["XS0860994200","ENI SPA (GALP)/0.25%/30.11.2015",1.0738504456,2.63433417826]
["XS0861577301","BES FINANCE (BRADESCO)/3.5%/06.12.2015",0.39919910404600001,0]
["XS0875275819","ABENGOA SA/6.25%/17.01.2019",0.51398933719899997,0]
["XS0876187815","ABC MART/0%/05.02.2018",0.31988525906199999,0]
["XS0877820422","ENI SPA (SNAM)/0.625%/18.01.2016",1.3836142844699999,3.3942266084099999]
["XS0877989763","LOTTE SHOPPING (LOTTE HIMART)/0%/24.01.2018",0.25481354346099999,0.90298325341499996]
["XS0878021913","TONG JIE (SHANGHAI IND)/0%/18.02.2018",0.44810443988499998,0]
["XS0882243453","GRP BRUXELLES (GDF SUEZ)/1.25%/07.02.2017",1.2083018375900001,0]
["XS0884410019","ENN ENERGY HLDG/0%/26.02.2018",0.49187064641599998,1.7430429462599999]
["XS0911796364","OHL INVEST (OHL MEXICO)/4%/25.04.2018",0.39233518331299999,0]
["XS0914326417","SHIZUOKA BANK/0%/25.04.2018",0.42607072856799999,1.50987599759]
["XS0935605401","CAPITALAND LTD/1.85%/19.06.2020",0.41539672595400001,0]
["XS0936737195","HENGAN INTL/0%/27.06.2018",0.63368899189500005,0]
["XS0937410214","AMORIM (GALP)/3.375%/03.06.2018",0.35943979530600001,0]
["XS0938970562","NAT BK ABU DHABI/1%/12.03.2018",0.44320644387300001,1.5706051513299999]
["XS0951366136","ACS ACT(IBERDROLA)/2.625%/22.10.2018",0.34726616287899997,0]
["XS0957543506","EPISTAR CORP/0%/07.08.2018",0.246319321925,0]
["XS0967009381","KAWASAKI KISEN/0%/26.09.2018",0.44994892897900002,0]
["XS0968252006","ADVANCED SEMICON/0%/05.09.2018",0.422960423802,0]
["XS0971995237","NAGOYA RAILROAD/0%/03.10.2023",0.23091635499099999,0]
["XS0974088402","CAPITALAND LTD/1.95%/17.10.2023",0.54670696950200004,0]
["XS0974154550","OCI NV/3.875%/30.09.2018",0.388927293535,0]
["XS0980205271","SBI HOLDINGS INC/0%/02.11.2017",0.241175101537,0]
["XS0985326411","INDAH CAP (IHH)/0%/24.10.2018",0.41310062468600001,0]
["XS0987076899","SEMICONDUCTOR MA/0%/07.11.2018",0.381467237914,1.3518295304100001]
["XS0989029706","GS YUASA CORP/0%/13.03.2019",0.18933307213200001,0]
["XS0993164895","HUNGARIAN STATE (GEDEON RICHTER)/3.375%/02.04.2019",0.96486822816399997,0]
["XS0993227213","LOGO STAR (FOSUN)/1.5%/22.11.2018",0.51821681773299999,0]
["XS0995390621","CAIXABANK (LA CAIXA)/1%/25.11.2017",0.88044709434199997,0]
["XS0996455803","TAKASHIMAYA CO/0%/11.12.2018",0.313584457772,0]
["XS0996456520","TAKASHIMAYA CO/0%/11.12.2020",0.19836554868100001,0]
["XS0997588727","YAMAGUCHI FIN GP/0%/20.12.2018",0.28293737739500002,0]
["XS1000862398","TOPPAN PRINTING/0%/19.12.2016",0.30521994285800003,0]
["XS1000908993","TOPPAN PRINTING/0%/19.12.2019",0.30521994285800003,0]
["XS1013691024","CHINA OVRS FIN 4/0%/04.02.2021",0.73647567384099999,0]
["XS1020736069","ACCIONA S.A./3%/30.01.2019",0.39962880023500003,0]
["XS1023684282","STEINHOFF FINANC/4%/30.01.2021",0.64991517466899995,0]
["XS1027633434","CEZ MH BV(MOL)/0%/04.08.2017",0.48350573975099997,1.7134181715300001]
["XS1030986613","ASICS CORP/0%/01.03.2019",0.27510172165800001,0]
["XS1034964111","ADVANTEST CORP/0%/14.03.2019",0.24373728939299999,0]
["XS1042530326","ALPS ELECTRIC CO/0%/25.03.2019",0.31044402148900002,0]
["XS1042935228","ASM PACIFIC TECH/2%/28.03.2019",0.284595312258,0]
["XS1046590805","ACS ACT (IBERDROLA)/1.625%/27.03.2019",0.256967505559,0]
["XS1055002387","MITSUI OSK LINES/0%/24.04.2018",0.25165263039399999,0.89177352947099997]
["XS1055003435","MITSUI OSK LINES/0%/24.04.2020",0.168545707746,0.59726074243100002]
["XS1055030917","JOYO BANK LTD/0%/24.04.2019",0.25864150078300002,0]
["XS1056384420","AYC FINANCE LTD/0.5%/02.05.2019",0.29381124907299999,0]
["XS1064689075","YAMADA DENKI CO/0%/28.06.2019",0.76780039329500005,0]
["XS1067081692","INDUSTRIVARDEN (ICA GRUPPEN)/0%/15.05.2019",0.548319067376,1.9430818130800001]
["XS1069938741","TORAY INDUSTRIES/0%/30.08.2019",0.45668839852400001,0]
["XS1069939392","TORAY INDUSTRIES/0%/31.08.2021",0.47968831571999998,0]
["XS1072637645","SHENZHOU INTERNA/0.5%/18.06.2019",0.44410845216299999,0]
["XS1077058722","ZHEN DING TECH/0%/26.06.2019",0.26882071981700001,0]
["XS1077992904","SHINE POWER (BEIJING ENTERPR)/0%/28.07.2019",0.47434458989900002,1.68091867524]
["XS1078764302","DP WORLD LTD/1.75%/19.06.2024",0.93485420223000004,3.3128430624999998]
["XS1083956307","STMICROELECTRON/0%/03.07.2019",0.51197977735,1.8143003318199999]
["XS1108672988","BUWOG(IMMO/1.5%/11.09.2019",0.41893271182500003,0]
["XS1108673440","BANGKOK DUSIT MD/0%/18.09.2019",0.268920536534,0]
["XS1113032319","GUNMA BANK LTD/0%/11.10.2019",0.190399485525,0.67472669283200004]
["XS1116833796","SILICONWARE PRE/0%/31.10.2019",0.385953925255,0]
["XS1136394159","RESORTTRUST INC/0%/01.12.2021",0.25200210363999997,0]
["XS1138495509","NAGOYA RAILROAD/0%/11.12.2024",0.31989522499299999,0]
["XS1139087933","J SAINSBURY PLC/1.25%/21.11.2019",0.62926100451099998,0]
["XS1139279415","TERUMO CORP/0%/04.12.2019",0.39910386937499998,0]
["XS1139279845","TERUMO CORP/0%/06.12.2021",0.40043979783,0]
["XS1146234825","CYBERDYNE INC/0%/12.12.2017",0.167698985982,0]
[{"$error":"#N/A"},{"$error":"#N/A"},{"$error":"#N/A"},{"$error":"#N/A"}]
[{"$error":"#N/A"},{"$error":"#N/A"},{"$error":"#N/A"},{"$error":"#N/A"}]
[{"$error":"#N/A"},{"$error":"#N/A"},{"$error":"#N/A"},{"$error":"#N/A"}]
[{"$error":"#N/A"},{"$error":"#N/A"},{"$error":"#N/A"},{"$error":"#N/A"}]
[{"$error":"#N/A"},{"$error":"#N/A"},{"$error":"#N/A"},{"$error":"#N/A"}]
[{"$error":"#N/A"},{"$error":"#N/A"},{"$error":"#N/A"},{"$error":"#N/A"}]
[{"$error":"#N/A"},{"$error":"#N/A"},{"$error":"#N/A"},{"$error":"#N/A"}]
[{"$error":"#N/A"},{"$error":"#N/A"},{"$error":"#N/A"},{"$error":"#N/A"}]
[{"$error":"#N/A"},{"$error":"#N/A"},{"$error":"#N/A"},{"$error":"#N/A"}]
[{"$error":"#N/A"},{"$error":"#N/A"},{"$error":"#N/A"},{"$error":"#N/A"}]
[{"$error":"#N/A"},{"$error":"#N/A"},{"$error":"#N/A"},{"$error":"#N/A"}]
[{"$error":"#N/A"},{"$error":"#N/A"},{"$error":"#N/A"},{"$error":"#N/A"}]
[{"$error":"#N/A"},{"$error":"#N/A"},{"$error":"#N/A"},{"$error":"#N/A"}]
[{"$error":"#N/A"},{"$error":"#N/A"},{"$error":"#N/A"},{"$error":"#N/A"}]
[{"$error":"#N/A"},{"$error":"#N/A"},{"$error":"#N/A"},{"$error":"#N/A"}]
[{"$error":"#N/A"},{"$error":"#N/A"},{"$error":"#N/A"},{"$error":"#N/A"}]
[{"$error":"#N/A"},{"$error":"#N/A"},{"$error":"#N/A"},{"$error":"#N/A"}]
[{"$error":"#N/A"},{"$error":"#N/A"},{"$error":"#N/A"},{"$error":"#N/A"}]
[{"$error":"#N/A"},{"$error":"#N/A"},{"$error":"#N/A"},{"$error":"#N/A"}]
[{"$error":"#N/A"},{"$error":"#N/A"},{"$error":"#N/A"},{"$error":"#N/A"}]
[{"$error":"#N/A"},{"$error":"#N/A"},{"$error":"#N/A"},{"$error":"#N/A"}]
[{"$error":"#N/A"},{"$error":"#N/A"},{"$error":"#N/A"},{"$error":"#N/A"}]
[{"$error":"#N/A"},{"$error":"#N/A"},{"$error":"#N/A"},{"$error":"#N/A"}]
[{"$error":"#N/A"},{"$error":"#N/A"},{"$error":"#N/A"},{"$error":"#N/A"}]
[{"$error":"#N/A"},{"$error":"#N/A"},{"$error":"#N/A"},{"$error":"#N/A"}]
[{"$error":"#N/A"},{"$error":"#N/A"},{"$error":"#N/A"},{"$error":"#N/A"}]
[{"$error":"#N/A"},{"$error":"#N/A"},{"$error":"#N/A"},{"$error":"#N/A"}]
[{"$error":"#N/A"},{"$error":"#N/A"},{"$error":"#N/A"},{"$error":"#N/A"}]
[{"$error":"#N/A"},{"$error":"#N/A"},{"$error":"#N/A"},{"$error":"#N/A"}]
[{"$error":"#N/A"},{"$error":"#N/A"},{"$error":"#N/A"},{"$error":"#N/A"}]
[{"$error":"#N/A"},{"$error":"#N/A"},{"$error":"#N/A"},{"$error":"#N/A"}]
[{"$error":"#N/A"},{"$error":"#N/A"},{"$error":"#N/A"},{"$error":"#N/A"}]
[{"$error":"#N/A"},{"$error":"#N/A"},{"$error":"#N/A"},{"$error":"#N/A"}]
[{"$error":"#N/A"},{"$error":"#N/A"},{"$error":"#N/A"},{"$error":"#N/A"}]
[{"$error":"#N/A"},{"$error":"#N/A"},{"$error":"#N/A"},{"$error":"#N/A"}]
[{"$error":"#N/A"},{"$error":"#N/A"},{"$error":"#N/A"},{"$error":"#N/A"}]
[{"$error":"#N/A"},{"$error":"#N/A"},{"$error":"#N/A"},{"$error":"#N/A"}]
[{"$error":"#N/A"},{"$error":"#N/A"},{"$error":"#N/A"},{"$error":"#N/A"}]
[{"$error":"#N/A"},{"$error":"#N/A"},{"$error":"#N/A"},{"$error":"#N/A"}]
[{"$error":"#N/A"},{"$error":"#N/A"},{"$error":"#N/A"},{"$error":"#N/A"}]
[{"$error":"#N/A"},{"$error":"#N/A"},{"$error":"#N/A"},{"$error":"#N/A"}]
[{"$error":"#N/A"},{"$error":"#N/A"},{"$error":"#N/A"},{"$error":"#N/A"}]
[{"$error":"#N/A"},{"$error":"#N/A"},{"$error":"#N/A"},{"$error":"#N/A"}]
[{"$error":"#N/A"},{"$error":"#N/A"},{"$error":"#N/A"},{"$error":"#N/A"}]
[{"$error":"#N/A"},{"$error":"#N/A"},{"$error":"#N/A"},{"$error":"#N/A"}]
[{"$error":"#N/A"},{"$error":"#N/A"},{"$error":"#N/A"},{"$error":"#N/A"}]
[{"$error":"#N/A"},{"$error":"#N/A"},{"$error":"#N/A"},{"$error":"#N/A"}]
[{"$error":"#N/A"},{"$error":"#N/A"},{"$error":"#N/A"},{"$error":"#N/A"}]
[{"$error":"#N/A"},{"$error":"#N/A"},{"$error":"#N/A"},{"$error":"#N/A"}]
[{"$error":"#N/A"},{"$error":"#N/A"},{"$error":"#N/A"},{"$error":"#N/A"}]
[{"$error":"#N/A"},{"$error":"#N/A"},{"$error":"#N/A"},{"$error":"#N/A"}]
[{"$error":"#N/A"},{"$error":"#N/A"},{"$error":"#N/A"},{"$error":"#N/A"}]
[{"$error":"#N/A"},{"$error":"#N/A"},{"$error":"#N/A"},{"$error":"#N/A"}]
[{"$error":"#N/A"},{"$error":"#N/A"},{"$error":"#N/A"},{"$error":"#N/A"}]
[{"$error":"#N/A"},{"$error":"#N/A"},{"$error":"#N/A"},{"$error":"#N/A"}]
[{"$error":"#N/A"},{"$error":"#N/A"},{"$error":"#N/A"},{"$error":"#N/A"}]
[{"$error":"#N/A"},{"$error":"#N/A"},{"$error":"#N/A"},{"$error":"#N/A"}]
[{"$error":"#N/A"},{"$error":"#N/A"},{"$error":"#N/A"},{"$error":"#N/A"}]
[{"$error":"#N/A"},{"$error":"#N/A"},{"$error":"#N/A"},{"$error":"#N/A"}]
[{"$error":"#N/A"},{"$error":"#N/A"},{"$error":"#N/A"},{"$error":"#N/A"}]
[{"$error":"#N/A"},{"$error":"#N/A"},{"$error":"#N/A"},{"$error":"#N/A"}]
[{"$error":"#N/A"},{"$error":"#N/A"},{"$error":"#N/A"},{"$error":"#N/A"}]
[{"$error":"#N/A"},{"$error":"#N/A"},{"$error":"#N/A"},{"$error":"#N/A"}]
[{"$error":"#N/A"},{"$error":"#N/A"},{"$error":"#N/A"},{"$error":"#N/A"}]
[{"$error":"#N/A"},{"$error":"#N/A"},{"$error":"#N/A"},{"$error":"#N/A"}]
[{"$error":"#N/A"},{"$error":"#N/A"},{"$error":"#N/A"},{"$error":"#N/A"}]
[{"$error":"#N/A"},{"$error":"#N/A"},{"$error":"#N/A"},{"$error":"#N/A"}]
[{"$error":"#N/A"},{"$error":"#N/A"},{"$error":"#N/A"},{"$error":"#N/A"}]
[{"$error":"#N/A"},{"$error":"#N/A"},{"$error":"#N/A"},{"$error":"#N/A"}]
[{"$error":"#N/A"},{"$error":"#N/A"},{"$error":"#N/A"},{"$error":"#N/A"}]
[{"$error":"#N/A"},{"$error":"#N/A"},{"$error":"#N/A"},{"$error":"#N/A"}]
[{"$error":"#N/A"},{"$error":"#N/A"},{"$error":"#N/A"},{"$error":"#N/A"}]
[{"$error":"#N/A"},{"$error":"#N/A"},{"$error":"#N/A"},{"$error":"#N/A"}]
[{"$error":"#N/A"},{"$error":"#N/A"},{"$error":"#N/A"},{"$error":"#N/A"}]
[{"$error":"#N/A"},{"$error":"#N/A"},{"$error":"#N/A"},{"$error":"#N/A"}]
[{"$error":"#N/A"},{"$error":"#N/A"},{"$error":"#N/A"},{"$error":"#N/A"}]
[{"$error":"#N/A"},{"$error":"#N/A"},{"$error":"#N/A"},{"$error":"#N/A"}]
[{"$error":"#N/A"},{"$error":"#N/A"},{"$error":"#N/A"},{"$error":"#N/A"}]
[{"$error":"#N/A"},{"$error":"#N/A"},{"$error":"#N/A"},{"$error":"#N/A"}]
[{"$error":"#N/A"},{"$error":"#N/A"},{"$error":"#N/A"},{"$error":"#N/A"}]
[{"$error":"#N/A"},{"$error":"#N/A"},{"$error":"#N/A"},{"$error":"#N/A"}]
[{"$error":"#N/A"},{"$error":"#N/A"},{"$error":"#N/A"},{"$error":"#N/A"}]
[{"$error":"#N/A"},{"$error":"#N/A"},{"$error":"#N/A"},{"$error":"#N/A"}]
[{"$error":"#N/A"},{"$error":"#N/A"},{"$error":"#N/A"},{"$error":"#N/A"}]
[{"$error":"#N/A"},{"$error":"#N/A"},{"$error":"#N/A"},{"$error":"#N/A"}]
[{"$error":"#N/A"},{"$error":"#N/A"},{"$error":"#N/A"},{"$error":"#N/A"}]
[{"$error":"#N/A"},{"$error":"#N/A"},{"$error":"#N/A"},{"$error":"#N/A"}]
[{"$error":"#N/A"},{"$error":"#N/A"},{"$error":"#N/A"},{"$error":"#N/A"}]
[{"$error":"#N/A"},{"$error":"#N/A"},{"$error":"#N/A"},{"$error":"#N/A"}]
[{"$error":"#N/A"},{"$error":"#N/A"},{"$error":"#N/A"},{"$error":"#N/A"}]
[{"$error":"#N/A"},{"$error":"#N/A"},{"$error":"#N/A"},{"$error":"#N/A"}]
[{"$error":"#N/A"},{"$error":"#N/A"},{"$error":"#N/A"},{"$error":"#N/A"}]
[{"$error":"#N/A"},{"$error":"#N/A"},{"$error":"#N/A"},{"$error":"#N/A"}]
[{"$error":"#N/A"},{"$error":"#N/A"},{"$error":"#N/A"},{"$error":"#N/A"}]
[{"$error":"#N/A"},{"$error":"#N/A"},{"$error":"#N/A"},{"$error":"#N/A"}]
[{"$error":"#N/A"},{"$error":"#N/A"},{"$error":"#N/A"},{"$error":"#N/A"}]
[{"$error":"#N/A"},{"$error":"#N/A"},{"$error":"#N/A"},{"$error":"#N/A"}]
[{"$error":"#N/A"},{"$error":"#N/A"},{"$error":"#N/A"},{"$error":"#N/A"}]
[{"$error":"#N/A"},{"$error":"#N/A"},{"$error":"#N/A"},{"$error":"#N/A"}]
[{"$error":"#N/A"},{"$error":"#N/A"},{"$error":"#N/A"},{"$error":"#N/A"}]
[{"$error":"#N/A"},{"$error":"#N/A"},{"$error":"#N/A"},{"$error":"#N/A"}]
[{"$error":"#N/A"},{"$error":"#N/A"},{"$error":"#N/A"},{"$error":"#N/A"}]
[{"$error":"#N/A"},{"$error":"#N/A"},{"$error":"#N/A"},{"$error":"#N/A"}]
[{"$error":"#N/A"},{"$error":"#N/A"},{"$error":"#N/A"},{"$error":"#N/A"}]
[{"$error":"#N/A"},{"$error":"#N/A"},{"$error":"#N/A"},{"$error":"#N/A"}]
[{"$error":"#N/A"},{"$error":"#N/A"},{"$error":"#N/A"},{"$error":"#N/A"}]
[{"$error":"#N/A"},{"$error":"#N/A"},{"$error":"#N/A"},{"$error":"#N/A"}]
[{"$error":"#N/A"},{"$error":"#N/A"},{"$error":"#N/A"},{"$error":"#N/A"}]
[{"$error":"#N/A"},{"$error":"#N/A"},{"$error":"#N/A"},{"$error":"#N/A"}]
[{"$error":"#N/A"},{"$error":"#N/A"},{"$error":"#N/A"},{"$error":"#N/A"}]
[{"$error":"#N/A"},{"$error":"#N/A"},{"$error":"#N/A"},{"$error":"#N/A"}]
[{"$error":"#N/A"},{"$error":"#N/A"},{"$error":"#N/A"},{"$error":"#N/A"}]
[{"$error":"#N/A"},{"$error":"#N/A"},{"$error":"#N/A"},{"$error":"#N/A"}]
[{"$error":"#N/A"},{"$error":"#N/A"},{"$error":"#N/A"},{"$error":"#N/A"}]
[{"$error":"#N/A"},{"$error":"#N/A"},{"$error":"#N/A"},{"$error":"#N/A"}]
[{"$error":"#N/A"},{"$error":"#N/A"},{"$error":"#N/A"},{"$error":"#N/A"}]
[{"$error":"#N/A"},{"$error":"#N/A"},{"$error":"#N/A"},{"$error":"#N/A"}]
[{"$error":"#N/A"},{"$error":"#N/A"},{"$error":"#N/A"},{"$error":"#N/A"}]
[{"$error":"#N/A"},{"$error":"#N/A"},{"$error":"#N/A"},{"$error":"#N/A"}]
[{"$error":"#N/A"},{"$error":"#N/A"},{"$error":"#N/A"},{"$error":"#N/A"}]
[{"$error":"#N/A"},{"$error":"#N/A"},{"$error":"#N/A"},{"$error":"#N/A"}]
[{"$error":"#N/A"},{"$error":"#N/A"},{"$error":"#N/A"},{"$error":"#N/A"}]
[{"$error":"#N/A"},{"$error":"#N/A"},{"$error":"#N/A"},{"$error":"#N/A"}]
[{"$error":"#N/A"},{"$error":"#N/A"},{"$error":"#N/A"},{"$error":"#N/A"}]
[{"$error":"#N/A"},{"$error":"#N/A"},{"$error":"#N/A"},{"$error":"#N/A"}]
[{"$error":"#N/A"},{"$error":"#N/A"},{"$error":"#N/A"},{"$error":"#N/A"}]
[{"$error":"#N/A"},{"$error":"#N/A"},{"$error":"#N/A"},{"$error":"#N/A"}]
[{"$error":"#N/A"},{"$error":"#N/A"},{"$error":"#N/A"},{"$error":"#N/A"}]
[{"$error":"#N/A"},{"$error":"#N/A"},{"$error":"#N/A"},{"$error":"#N/A"}]
[{"$error":"#N/A"},{"$error":"#N/A"},{"$error":"#N/A"},{"$error":"#N/A"}]
[{"$error":"#N/A"},{"$error":"#N/A"},{"$error":"#N/A"},{"$error":"#N/A"}]
[{"$error":"#N/A"},{"$error":"#N/A"},{"$error":"#N/A"},{"$error":"#N/A"}]
[{"$error":"#N/A"},{"$error":"#N/A"},{"$error":"#N/A"},{"$error":"#N/A"}]
[{"$error":"#N/A"},{"$error":"#N/A"},{"$error":"#N/A"},{"$error":"#N/A"}]
[{"$error":"#N/A"},{"$error":"#N/A"},{"$error":"#N/A"},{"$error":"#N/A"}]
[{"$error":"#N/A"},{"$error":"#N/A"},{"$error":"#N/A"},{"$error":"#N/A"}]
[{"$error":"#N/A"},{"$error":"#N/A"},{"$error":"#N/A"},{"$error":"#N/A"}]
[{"$error":"#N/A"},{"$error":"#N/A"},{"$error":"#N/A"},{"$error":"#N/A"}]
[{"$error":"#N/A"},{"$error":"#N/A"},{"$error":"#N/A"},{"$error":"#N/A"}]
[{"$error":"#N/A"},{"$error":"#N/A"},{"$error":"#N/A"},{"$error":"#N/A"}]
[{"$error":"#N/A"},{"$error":"#N/A"},{"$error":"#N/A"},{"$error":"#N/A"}]
[{"$error":"#N/A"},{"$error":"#N/A"},{"$error":"#N/A"},{"$error":"#N/A"}]
[{"$error":"#N/A"},{"$error":"#N/A"},{"$error":"#N/A"},{"$error":"#N/A"}]
[{"$error":"#N/A"},{"$error":"#N/A"},{"$error":"#N/A"},{"$error":"#N/A"}]
[{"$error":"#N/A"},{"$error":"#N/A"},{"$error":"#N/A"},{"$error":"#N/A"}]
[{"$error":"#N/A"},{"$error":"#N/A"},{"$error":"#N/A"},{"$error":"#N/A"}]
[{"$error":"#N/A"},{"$error":"#N/A"},{"$error":"#N/A"},{"$error":"#N/A"}]
[{"$error":"#N/A"},{"$error":"#N/A"},{"$error":"#N/A"},{"$error":"#N/A"}]
[{"$error":"#N/A"},{"$error":"#N/A"},{"$error":"#N/A"},{"$error":"#N/A"}]
[{"$error":"#N/A"},{"$error":"#N/A"},{"$error":"#N/A"},{"$error":"#N/A"}]
[{"$error":"#N/A"},{"$error":"#N/A"},{"$error":"#N/A"},{"$error":"#N/A"}]
[{"$error":"#N/A"},{"$error":"#N/A"},{"$error":"#N/A"},{"$error":"#N/A"}]
[{"$error":"#N/A"},{"$error":"#N/A"},{"$error":"#N/A"},{"$error":"#N/A"}]
[{"$error":"#N/A"},{"$error":"#N/A"},{"$error":"#N/A"},{"$error":"#N/A"}]
[{"$error":"#N/A"},{"$error":"#N/A"},{"$error":"#N/A"},{"$error":"#N/A"}]
[{"$error":"#N/A"},{"$error":"#N/A"},{"$error":"#N/A"},{"$error":"#N/A"}]
[{"$error":"#N/A"},{"$error":"#N/A"},{"$error":"#N/A"},{"$error":"#N/A"}]
[{"$error":"#N/A"},{"$error":"#N/A"},{"$error":"#N/A"},{"$error":"#N/A"}]
[{"$error":"#N/A"},{"$error":"#N/A"},{"$error":"#N/A"},{"$error":"#N/A"}]
[{"$error":"#N/A"},{"$error":"#N/A"},{"$error":"#N/A"},{"$error":"#N/A"}]
[{"$error":"#N/A"},{"$error":"#N/A"},{"$error":"#N/A"},{"$error":"#N/A"}]
[{"$error":"#N/A"},{"$error":"#N/A"},{"$error":"#N/A"},{"$error":"#N/A"}]
[{"$error":"#N/A"},{"$error":"#N/A"},{"$error":"#N/A"},{"$error":"#N/A"}]
[{"$error":"#N/A"},{"$error":"#N/A"},{"$error":"#N/A"},{"$error":"#N/A"}]
[{"$error":"#N/A"},{"$error":"#N/A"},{"$error":"#N/A"},{"$error":"#N/A"}]
[{"$error":"#N/A"},{"$error":"#N/A"},{"$error":"#N/A"},{"$error":"#N/A"}]
[{"$error":"#N/A"},{"$error":"#N/A"},{"$error":"#N/A"},{"$error":"#N/A"}]
[{"$error":"#N/A"},{"$error":"#N/A"},{"$error":"#N/A"},{"$error":"#N/A"}]
[{"$error":"#N/A"},{"$error":"#N/A"},{"$error":"#N/A"},{"$error":"#N/A"}]
[{"$error":"#N/A"},{"$error":"#N/A"},{"$error":"#N/A"},{"$error":"#N/A"}]
[{"$error":"#N/A"},{"$error":"#N/A"},{"$error":"#N/A"},{"$error":"#N/A"}]
[{"$error":"#N/A"},{"$error":"#N/A"},{"$error":"#N/A"},{"$error":"#N/A"}]
[{"$error":"#N/A"},{"$error":"#N/A"},{"$error":"#N/A"},{"$error":"#N/A"}]
[{"$error":"#N/A"},{"$error":"#N/A"},{"$error":"#N/A"},{"$error":"#N/A"}]
[{"$error":"#N/A"},{"$error":"#N/A"},{"$error":"#N/A"},{"$error":"#N/A"}]
[{"$error":"#N/A"},{"$error":"#N/A"},{"$error":"#N/A"},{"$error":"#N/A"}]
[{"$error":"#N/A"},{"$error":"#N/A"},{"$error":"#N/A"},{"$error":"#N/A"}]
[{"$error":"#N/A"},{"$error":"#N/A"},{"$error":"#N/A"},{"$error":"#N/A"}]
[{"$error":"#N/A"},{"$error":"#N/A"},{"$error":"#N/A"},{"$error":"#N/A"}]
[{"$error":"#N/A"},{"$error":"#N/A"},{"$error":"#N/A"},{"$error":"#N/A"}]
[{"$error":"#N/A"},{"$error":"#N/A"},{"$error":"#N/A"},{"$error":"#N/A"}]
[{"$error":"#N/A"},{"$error":"#N/A"},{"$error":"#N/A"},{"$error":"#N/A"}]
[{"$error":"#N/A"},{"$error":"#N/A"},{"$error":"#N/A"},{"$error":"#N/A"}]
[{"$error":"#N/A"},{"$error":"#N/A"},{"$error":"#N/A"},{"$error":"#N/A"}]
[{"$error":"#N/A"},{"$error":"#N/A"},{"$error":"#N/A"},{"$error":"#N/A"}]
[{"$error":"#N/A"},{"$error":"#N/A"},{"$error":"#N/A"},{"$error":"#N/A"}]
[{"$error":"#N/A"},{"$error":"#N/A"},{"$error":"#N/A"},{"$error":"#N/A"}]
[{"$error":"#N/A"},{"$error":"#N/A"},{"$error":"#N/A"},{"$error":"#N/A"}]
[{"$error":"#N/A"},{"$error":"#N/A"},{"$error":"#N/A"},{"$error":"#N/A"}]
[{"$error":"#N/A"},{"$error":"#N/A"},{"$error":"#N/A"},{"$error":"#N/A"}]
[{"$error":"#N/A"},{"$error":"#N/A"},{"$error":"#N/A"},{"$error":"#N/A"}]
[{"$error":"#N/A"},{"$error":"#N/A"},{"$error":"#N/A"},{"$error":"#N/A"}]
[{"$error":"#N/A"},{"$error":"#N/A"},{"$error":"#N/A"},{"$error":"#N/A"}]
[{"$error":"#N/A"},{"$error":"#N/A"},{"$error":"#N/A"},{"$error":"#N/A"}]
[{"$error":"#N/A"},{"$error":"#N/A"},{"$error":"#N/A"},{"$error":"#N/A"}]
[{"$error":"#N/A"},{"$error":"#N/A"},{"$error":"#N/A"},{"$error":"#N/A"}]
[{"$error":"#N/A"},{"$error":"#N/A"},{"$error":"#N/A"},{"$error":"#N/A"}]
[{"$error":"#N/A"},{"$error":"#N/A"},{"$error":"#N/A"},{"$error":"#N/A"}]
[{"$error":"#N/A"},{"$error":"#N/A"},{"$error":"#N/A"},{"$error":"#N/A"}]
[{"$error":"#N/A"},{"$error":"#N/A"},{"$error":"#N/A"},{"$error":"#N/A"}]
[{"$error":"#N/A"},{"$error":"#N/A"},{"$error":"#N/A"},{"$error":"#N/A"}]
[{"$error":"#N/A"},{"$error":"#N/A"},{"$error":"#N/A"},{"$error":"#N/A"}]
[{"$error":"#N/A"},{"$error":"#N/A"},{"$error":"#N/A"},{"$error":"#N/A"}]
[{"$error":"#N/A"},{"$error":"#N/A"},{"$error":"#N/A"},{"$error":"#N/A"}]
[{"$error":"#N/A"},{"$error":"#N/A"},{"$error":"#N/A"},{"$error":"#N/A"}]
[{"$error":"#N/A"},{"$error":"#N/A"},{"$error":"#N/A"},{"$error":"#N/A"}]
[{"$error":"#N/A"},{"$error":"#N/A"},{"$error":"#N/A"},{"$error":"#N/A"}]
[{"$error":"#N/A"},{"$error":"#N/A"},{"$error":"#N/A"},{"$error":"#N/A"}]
[{"$error":"#N/A"},{"$error":"#N/A"},{"$error":"#N/A"},{"$error":"#N/A"}]
[{"$error":"#N/A"},{"$error":"#N/A"},{"$error":"#N/A"},{"$error":"#N/A"}]
[{"$error":"#N/A"},{"$error":"#N/A"},{"$error":"#N/A"},{"$error":"#N/A"}]
[{"$error":"#N/A"},{"$error":"#N/A"},{"$error":"#N/A"},{"$error":"#N/A"}]
[{"$error":"#N/A"},{"$error":"#N/A"},{"$error":"#N/A"},{"$error":"#N/A"}]
[{"$error":"#N/A"},{"$error":"#N/A"},{"$error":"#N/A"},{"$error":"#N/A"}]
[{"$error":"#N/A"},{"$error":"#N/A"},{"$error":"#N/A"},{"$error":"#N/A"}]
[{"$error":"#N/A"},{"$error":"#N/A"},{"$error":"#N/A"},{"$error":"#N/A"}]
[{"$error":"#N/A"},{"$error":"#N/A"},{"$error":"#N/A"},{"$error":"#N/A"}]
[{"$error":"#N/A"},{"$error":"#N/A"},{"$error":"#N/A"},{"$error":"#N/A"}]
[{"$error":"#N/A"},{"$error":"#N/A"},{"$error":"#N/A"},{"$error":"#N/A"}]
[{"$error":"#N/A"},{"$error":"#N/A"},{"$error":"#N/A"},{"$error":"#N/A"}]
[{"$error":"#N/A"},{"$error":"#N/A"},{"$error":"#N/A"},{"$error":"#N/A"}]
[{"$error":"#N/A"},{"$error":"#N/A"},{"$error":"#N/A"},{"$error":"#N/A"}]
[{"$error":"#N/A"},{"$error":"#N/A"},{"$error":"#N/A"},{"$error":"#N/A"}]
[{"$error":"#N/A"},{"$error":"#N/A"},{"$error":"#N/A"},{"$error":"#N/A"}]
[{"$error":"#N/A"},{"$error":"#N/A"},{"$error":"#N/A"},{"$error":"#N/A"}]
[{"$error":"#N/A"},{"$error":"#N/A"},{"$error":"#N/A"},{"$error":"#N/A"}]
[{"$error":"#N/A"},{"$error":"#N/A"},{"$error":"#N/A"},{"$error":"#N/A"}]
[{"$error":"#N/A"},{"$error":"#N/A"},{"$error":"#N/A"},{"$error":"#N/A"}]
[{"$error":"#N/A"},{"$error":"#N/A"},{"$error":"#N/A"},{"$error":"#N/A"}]
[{"$error":"#N/A"},{"$error":"#N/A"},{"$error":"#N/A"},{"$error":"#N/A"}]
[{"$error":"#N/A"},{"$error":"#N/A"},{"$error":"#N/A"},{"$error":"#N/A"}]
[{"$error":"#N/A"},{"$error":"#N/A"},{"$error":"#N/A"},{"$error":"#N/A"}]
[{"$error":"#N/A"},{"$error":"#N/A"},{"$error":"#N/A"},{"$error":"#N/A"}]
[{"$error":"#N/A"},{"$error":"#N/A"},{"$error":"#N/A"},{"$error":"#N/A"}]
[{"$error":"#N/A"},{"$error":"#N/A"},{"$error":"#N/A"},{"$error":"#N/A"}]
[{"$error":"#N/A"},{"$error":"#N/A"},{"$error":"#N/A"},{"$error":"#N/A"}]
[{"$error":"#N/A"},{"$error":"#N/A"},{"$error":"#N/A"},{"$error":"#N/A"}]
[{"$error":"#N/A"},{"$error":"#N/A"},{"$error":"#N/A"},{"$error":"#N/A"}]
[{"$error":"#N/A"},{"$error":"#N/A"},{"$error":"#N/A"},{"$error":"#N/A"}]
[{"$error":"#N/A"},{"$error":"#N/A"},{"$error":"#N/A"},{"$error":"#N/A"}]
[{"$error":"#N/A"},{"$error":"#N/A"},{"$error":"#N/A"},{"$error":"#N/A"}]
[{"$error":"#N/A"},{"$error":"#N/A"},{"$error":"#N/A"},{"$error":"#N/A"}]
[{"$error":"#N/A"},{"$error":"#N/A"},{"$error":"#N/A"},{"$error":"#N/A"}]
[{"$error":"#N/A"},{"$error":"#N/A"},{"$error":"#N/A"},{"$error":"#N/A"}]
[{"$error":"#N/A"},{"$error":"#N/A"},{"$error":"#N/A"},{"$error":"#N/A"}]
[{"$error":"#N/A"},{"$error":"#N/A"},{"$error":"#N/A"},{"$error":"#N/A"}]
[{"$error":"#N/A"},{"$error":"#N/A"},{"$error":"#N/A"},{"$error":"#N/A"}]
[{"$error":"#N/A"},{"$error":"#N/A"},{"$error":"#N/A"},{"$error":"#N/A"}]
[{"$error":"#N/A"},{"$error":"#N/A"},{"$error":"#N/A"},{"$error":"#N/A"}]
[{"$error":"#N/A"},{"$error":"#N/A"},{"$error":"#N/A"},{"$error":"#N/A"}]
[{"$error":"#N/A"},{"$error":"#N/A"},{"$error":"#N/A"},{"$error":"#N/A"}]
[{"$error":"#N/A"},{"$error":"#N/A"},{"$error":"#N/A"},{"$error":"#N/A"}]
[{"$error":"#N/A"},{"$error":"#N/A"},{"$error":"#N/A"},{"$error":"#N/A"}]
[{"$error":"#N/A"},{"$error":"#N/A"},{"$error":"#N/A"},{"$error":"#N/A"}]
[{"$error":"#N/A"},{"$error":"#N/A"},{"$error":"#N/A"},{"$error":"#N/A"}]
[{"$error":"#N/A"},{"$error":"#N/A"},{"$error":"#N/A"},{"$error":"#N/A"}]
[{"$error":"#N/A"},{"$error":"#N/A"},{"$error":"#N/A"},{"$error":"#N/A"}]
[{"$error":"#N/A"},{"$error":"#N/A"},{"$error":"#N/A"},{"$error":"#N/A"}]
[{"$error":"#N/A"},{"$error":"#N/A"},{"$error":"#N/A"},{"$error":"#N/A"}]
[{"$error":"#N/A"},{"$error":"#N/A"},{"$error":"#N/A"},{"$error":"#N/A"}]
[{"$error":"#N/A"},{"$error":"#N/A"},{"$error":"#N/A"},{"$error":"#N/A"}]
[{"$error":"#N/A"},{"$error":"#N/A"},{"$error":"#N/A"},{"$error":"#N/A"}]
[{"$error":"#N/A"},{"$error":"#N/A"},{"$error":"#N/A"},{"$error":"#N/A"}]
[{"$error":"#N/A"},{"$error":"#N/A"},{"$error":"#N/A"},{"$error":"#N/A"}]
[{"$error":"#N/A"},{"$error":"#N/A"},{"$error":"#N/A"},{"$error":"#N/A"}]
[{"$error":"#N/A"},{"$error":"#N/A"},{"$error":"#N/A"},{"$error":"#N/A"}]
[{"$error":"#N/A"},{"$error":"#N/A"},{"$error":"#N/A"},{"$error":"#N/A"}]
[{"$error":"#N/A"},{"$error":"#N/A"},{"$error":"#N/A"},{"$error":"#N/A"}]
[{"$error":"#N/A"},{"$error":"#N/A"},{"$error":"#N/A"},{"$error":"#N/A"}]
[{"$error":"#N/A"},{"$error":"#N/A"},{"$error":"#N/A"},{"$error":"#N/A"}]
[{"$error":"#N/A"},{"$error":"#N/A"},{"$error":"#N/A"},{"$error":"#N/A"}]
[{"$error":"#N/A"},{"$error":"#N/A"},{"$error":"#N/A"},{"$error":"#N/A"}]
[{"$error":"#N/A"},{"$error":"#N/A"},{"$error":"#N/A"},{"$error":"#N/A"}]
[{"$error":"#N/A"},{"$error":"#N/A"},{"$error":"#N/A"},{"$error":"#N/A"}]
[{"$error":"#N/A"},{"$error":"#N/A"},{"$error":"#N/A"},{"$error":"#N/A"}]
[{"$error":"#N/A"},{"$error":"#N/A"},{"$error":"#N/A"},{"$error":"#N/A"}]
[{"$error":"#N/A"},{"$error":"#N/A"},{"$error":"#N/A"},{"$error":"#N/A"}]
[{"$error":"#N/A"},{"$error":"#N/A"},{"$error":"#N/A"},{"$error":"#N/A"}]
[{"$error":"#N/A"},{"$error":"#N/A"},{"$error":"#N/A"},{"$error":"#N/A"}]
[{"$error":"#N/A"},{"$error":"#N/A"},{"$error":"#N/A"},{"$error":"#N/A"}]
[{"$error":"#N/A"},{"$error":"#N/A"},{"$error":"#N/A"},{"$error":"#N/A"}]
[{"$error":"#N/A"},{"$error":"#N/A"},{"$error":"#N/A"},{"$error":"#N/A"}]
[{"$error":"#N/A"},{"$error":"#N/A"},{"$error":"#N/A"},{"$error":"#N/A"}]
[{"$error":"#N/A"},{"$error":"#N/A"},{"$error":"#N/A"},{"$error":"#N/A"}]
[{"$error":"#N/A"},{"$error":"#N/A"},{"$error":"#N/A"},{"$error":"#N/A"}]
[{"$error":"#N/A"},{"$error":"#N/A"},{"$error":"#N/A"},{"$error":"#N/A"}]
[{"$error":"#N/A"},{"$error":"#N/A"},{"$error":"#N/A"},{"$error":"#N/A"}]
[{"$error":"#N/A"},{"$error":"#N/A"},{"$error":"#N/A"},{"$error":"#N/A"}]
[{"$error":"#N/A"},{"$error":"#N/A"},{"$error":"#N/A"},{"$error":"#N/A"}]
[{"$error":"#N/A"},{"$error":"#N/A"},{"$error":"#N/A"},{"$error":"#N/A"}]
[{"$error":"#N/A"},{"$error":"#N/A"},{"$error":"#N/A"},{"$error":"#N/A"}]
[{"$error":"#N/A"},{"$error":"#N/A"},{"$error":"#N/A"},{"$error":"#N/A"}]
[{"$error":"#N/A"},{"$error":"#N/A"},{"$error":"#N/A"},{"$error":"#N/A"}]
[{"$error":"#N/A"},{"$error":"#N/A"},{"$error":"#N/A"},{"$error":"#N/A"}]
[{"$error":"#N/A"},{"$error":"#N/A"},{"$error":"#N/A"},{"$error":"#N/A"}]
[{"$error":"#N/A"},{"$error":"#N/A"},{"$error":"#N/A"},{"$error":"#N/A"}]
[{"$error":"#N/A"},{"$error":"#N/A"},{"$error":"#N/A"},{"$error":"#N/A"}]
[{"$error":"#N/A"},{"$error":"#N/A"},{"$error":"#N/A"},{"$error":"#N/A"}]
[{"$error":"#N/A"},{"$error":"#N/A"},{"$error":"#N/A"},{"$error":"#N/A"}]
[{"$error":"#N/A"},{"$error":"#N/A"},{"$error":"#N/A"},{"$error":"#N/A"}]
[{"$error":"#N/A"},{"$error":"#N/A"},{"$error":"#N/A"},{"$error":"#N/A"}]
[{"$error":"#N/A"},{"$error":"#N/A"},{"$error":"#N/A"},{"$error":"#N/A"}]
[{"$error":"#N/A"},{"$error":"#N/A"},{"$error":"#N/A"},{"$error":"#N/A"}]
[{"$error":"#N/A"},{"$error":"#N/A"},{"$error":"#N/A"},{"$error":"#N/A"}]
[{"$error":"#N/A"},{"$error":"#N/A"},{"$error":"#N/A"},{"$error":"#N/A"}]
[{"$error":"#N/A"},{"$error":"#N/A"},{"$error":"#N/A"},{"$error":"#N/A"}]
[{"$error":"#N/A"},{"$error":"#N/A"},{"$error":"#N/A"},{"$error":"#N/A"}]
[{"$error":"#N/A"},{"$error":"#N/A"},{"$error":"#N/A"},{"$error":"#N/A"}]
[{"$error":"#N/A"},{"$error":"#N/A"},{"$error":"#N/A"},{"$error":"#N/A"}]
[{"$error":"#N/A"},{"$error":"#N/A"},{"$error":"#N/A"},{"$error":"#N/A"}]
[{"$error":"#N/A"},{"$error":"#N/A"},{"$error":"#N/A"},{"$error":"#N/A"}]
[{"$error":"#N/A"},{"$error":"#N/A"},{"$error":"#N/A"},{"$error":"#N/A"}]
[{"$error":"#N/A"},{"$error":"#N/A"},{"$error":"#N/A"},{"$error":"#N/A"}]
[{"$error":"#N/A"},{"$error":"#N/A"},{"$error":"#N/A"},{"$error":"#N/A"}]
[{"$error":"#N/A"},{"$error":"#N/A"},{"$error":"#N/A"},{"$error":"#N/A"}]
[{"$error":"#N/A"},{"$error":"#N/A"},{"$error":"#N/A"},{"$error":"#N/A"}]
[{"$error":"#N/A"},{"$error":"#N/A"},{"$error":"#N/A"},{"$error":"#N/A"}]
[{"$error":"#N/A"},{"$error":"#N/A"},{"$error":"#N/A"},{"$error":"#N/A"}]
[{"$error":"#N/A"},{"$error":"#N/A"},{"$error":"#N/A"},{"$error":"#N/A"}]
[{"$error":"#N/A"},{"$error":"#N/A"},{"$error":"#N/A"},{"$error":"#N/A"}]
[{"$error":"#N/A"},{"$error":"#N/A"},{"$error":"#N/A"},{"$error":"#N/A"}]
[{"$error":"#N/A"},{"$error":"#N/A"},{"$error":"#N/A"},{"$error":"#N/A"}]
[{"$error":"#N/A"},{"$error":"#N/A"},{"$error":"#N/A"},{"$error":"#N/A"}]
[{"$error":"#N/A"},{"$error":"#N/A"},{"$error":"#N/A"},{"$error":"#N/A"}]
[{"$error":"#N/A"},{"$error":"#N/A"},{"$error":"#N/A"},{"$error":"#N/A"}]
[{"$error":"#N/A"},{"$error":"#N/A"},{"$error":"#N/A"},{"$error":"#N/A"}]
[{"$error":"#N/A"},{"$error":"#N/A"},{"$error":"#N/A"},{"$error":"#N/A"}]
[{"$error":"#N/A"},{"$error":"#N/A"},{"$error":"#N/A"},{"$error":"#N/A"}]
[{"$error":"#N/A"},{"$error":"#N/A"},{"$error":"#N/A"},{"$error":"#N/A"}]
[{"$error":"#N/A"},{"$error":"#N/A"},{"$error":"#N/A"},{"$error":"#N/A"}]
[{"$error":"#N/A"},{"$error":"#N/A"},{"$error":"#N/A"},{"$error":"#N/A"}]
[{"$error":"#N/A"},{"$error":"#N/A"},{"$error":"#N/A"},{"$error":"#N/A"}]
[{"$error":"#N/A"},{"$error":"#N/A"},{"$error":"#N/A"},{"$error":"#N/A"}]
[{"$error":"#N/A"},{"$error":"#N/A"},{"$error":"#N/A"},{"$error":"#N/A"}]
[{"$error":"#N/A"},{"$error":"#N/A"},{"$error":"#N/A"},{"$error":"#N/A"}]
[{"$error":"#N/A"},{"$error":"#N/A"},{"$error":"#N/A"},{"$error":"#N/A"}]
[{"$error":"#N/A"},{"$error":"#N/A"},{"$error":"#N/A"},{"$error":"#N/A"}]
[{"$error":"#N/A"},{"$error":"#N/A"},{"$error":"#N/A"},{"$error":"#N/A"}]
[{"$error":"#N/A"},{"$error":"#N/A"},{"$error":"#N/A"},{"$error":"#N/A"}]
[{"$error":"#N/A"},{"$error":"#N/A"},{"$error":"#N/A"},{"$error":"#N/A"}]
[{"$error":"#N/A"},{"$error":"#N/A"},{"$error":"#N/A"},{"$error":"#N/A"}]
[{"$error":"#N/A"},{"$error":"#N/A"},{"$error":"#N/A"},{"$error":"#N/A"}]
[{"$error":"#N/A"},{"$error":"#N/A"},{"$error":"#N/A"},{"$error":"#N/A"}]
[{"$error":"#N/A"},{"$error":"#N/A"},{"$error":"#N/A"},{"$error":"#N/A"}]
[{"$error":"#N/A"},{"$error":"#N/A"},{"$error":"#N/A"},{"$error":"#N/A"}]
[{"$error":"#N/A"},{"$error":"#N/A"},{"$error":"#N/A"},{"$error":"#N/A"}]
[{"$error":"#N/A"},{"$error":"#N/A"},{"$error":"#N/A"},{"$error":"#N/A"}]
[{"$error":"#N/A"},{"$error":"#N/A"},{"$error":"#N/A"},{"$error":"#N/A"}]
[{"$error":"#N/A"},{"$error":"#N/A"},{"$error":"#N/A"},{"$error":"#N/A"}]
[{"$error":"#N/A"},{"$error":"#N/A"},{"$error":"#N/A"},{"$error":"#N/A"}]
[{"$error":"#N/A"},{"$error":"#N/A"},{"$error":"#N/A"},{"$error":"#N/A"}]
[{"$error":"#N/A"},{"$error":"#N/A"},{"$error":"#N/A"},{"$error":"#N/A"}]
[{"$error":"#N/A"},{"$error":"#N/A"},{"$error":"#N/A"},{"$error":"#N/A"}]
[{"$error":"#N/A"},{"$error":"#N/A"},{"$error":"#N/A"},{"$error":"#N/A"}]
[{"$error":"#N/A"},{"$error":"#N/A"},{"$error":"#N/A"},{"$error":"#N/A"}]
[{"$error":"#N/A"},{"$error":"#N/A"},{"$error":"#N/A"},{"$error":"#N/A"}]
[{"$error":"#N/A"},{"$error":"#N/A"},{"$error":"#N/A"},{"$error":"#N/A"}]
[{"$error":"#N/A"},{"$error":"#N/A"},{"$error":"#N/A"},{"$error":"#N/A"}]
[{"$error":"#N/A"},{"$error":"#N/A"},{"$error":"#N/A"},{"$error":"#N/A"}]
[{"$error":"#N/A"},{"$error":"#N/A"},{"$error":"#N/A"},{"$error":"#N/A"}]
[{"$error":"#N/A"},{"$error":"#N/A"},{"$error":"#N/A"},{"$error":"#N/A"}]
[{"$error":"#N/A"},{"$error":"#N/A"},{"$error":"#N/A"},{"$error":"#N/A"}]
[{"$error":"#N/A"},{"$error":"#N/A"},{"$error":"#N/A"},{"$error":"#N/A"}]
[{"$error":"#N/A"},{"$error":"#N/A"},{"$error":"#N/A"},{"$error":"#N/A"}]
[{"$error":"#N/A"},{"$error":"#N/A"},{"$error":"#N/A"},{"$error":"#N/A"}]
[{"$error":"#N/A"},{"$error":"#N/A"},{"$error":"#N/A"},{"$error":"#N/A"}]
[{"$error":"#N/A"},{"$error":"#N/A"},{"$error":"#N/A"},{"$error":"#N/A"}]
[{"$error":"#N/A"},{"$error":"#N/A"},{"$error":"#N/A"},{"$error":"#N/A"}]
[{"$error":"#N/A"},{"$error":"#N/A"},{"$error":"#N/A"},{"$error":"#N/A"}]
[{"$error":"#N/A"},{"$error":"#N/A"},{"$error":"#N/A"},{"$error":"#N/A"}]
[{"$error":"#N/A"},{"$error":"#N/A"},{"$error":"#N/A"},{"$error":"#N/A"}]
[{"$error":"#N/A"},{"$error":"#N/A"},{"$error":"#N/A"},{"$error":"#N/A"}]
[{"$error":"#N/A"},{"$error":"#N/A"},{"$error":"#N/A"},{"$error":"#N/A"}]
[{"$error":"#N/A"},{"$error":"#N/A"},{"$error":"#N/A"},{"$error":"#N/A"}]
[{"$error":"#N/A"},{"$error":"#N/A"},{"$error":"#N/A"},{"$error":"#N/A"}]
[{"$error":"#N/A"},{"$error":"#N/A"},{"$error":"#N/A"},{"$error":"#N/A"}]
[{"$error":"#N/A"},{"$error":"#N/A"},{"$error":"#N/A"},{"$error":"#N/A"}]
[{"$error":"#N/A"},{"$error":"#N/A"},{"$error":"#N/A"},{"$error":"#N/A"}]
[{"$error":"#N/A"},{"$error":"#N/A"},{"$error":"#N/A"},{"$error":"#N/A"}]
[{"$error":"#N/A"},{"$error":"#N/A"},{"$error":"#N/A"},{"$error":"#N/A"}]
[{"$error":"#N/A"},{"$error":"#N/A"},{"$error":"#N/A"},{"$error":"#N/A"}]
[{"$error":"#N/A"},{"$error":"#N/A"},{"$error":"#N/A"},{"$error":"#N/A"}]
[{"$error":"#N/A"},{"$error":"#N/A"},{"$error":"#N/A"},{"$error":"#N/A"}]
[{"$error":"#N/A"},{"$error":"#N/A"},{"$error":"#N/A"},{"$error":"#N/A"}]
[{"$error":"#N/A"},{"$error":"#N/A"},{"$error":"#N/A"},{"$error":"#N/A"}]
[{"$error":"#N/A"},{"$error":"#N/A"},{"$error":"#N/A"},{"$error":"#N/A"}]
[{"$error":"#N/A"},{"$error":"#N/A"},{"$error":"#N/A"},{"$error":"#N/A"}]
[{"$error":"#N/A"},{"$error":"#N/A"},{"$error":"#N/A"},{"$error":"#N/A"}]
[{"$error":"#N/A"},{"$error":"#N/A"},{"$error":"#N/A"},{"$error":"#N/A"}]
[{"$error":"#N/A"},{"$error":"#N/A"},{"$error":"#N/A"},{"$error":"#N/A"}]
[{"$error":"#N/A"},{"$error":"#N/A"},{"$error":"#N/A"},{"$error":"#N/A"}]
[{"$error":"#N/A"},{"$error":"#N/A"},{"$error":"#N/A"},{"$error":"#N/A"}]
[{"$error":"#N/A"},{"$error":"#N/A"},{"$error":"#N/A"},{"$error":"#N/A"}]
[{"$error":"#N/A"},{"$error":"#N/A"},{"$error":"#N/A"},{"$error":"#N/A"}]
[{"$error":"#N/A"},{"$error":"#N/A"},{"$error":"#N/A"},{"$error":"#N/A"}]
[{"$error":"#N/A"},{"$error":"#N/A"},{"$error":"#N/A"},{"$error":"#N/A"}]
[{"$error":"#N/A"},{"$error":"#N/A"},{"$error":"#N/A"},{"$error":"#N/A"}]
[{"$error":"#N/A"},{"$error":"#N/A"},{"$error":"#N/A"},{"$error":"#N/A"}]
[{"$error":"#N/A"},{"$error":"#N/A"},{"$error":"#N/A"},{"$error":"#N/A"}]
[{"$error":"#N/A"},{"$error":"#N/A"},{"$error":"#N/A"},{"$error":"#N/A"}]
[{"$error":"#N/A"},{"$error":"#N/A"},{"$error":"#N/A"},{"$error":"#N/A"}]
[{"$error":"#N/A"},{"$error":"#N/A"},{"$error":"#N/A"},{"$error":"#N/A"}]
[{"$error":"#N/A"},{"$error":"#N/A"},{"$error":"#N/A"},{"$error":"#N/A"}]
[{"$error":"#N/A"},{"$error":"#N/A"},{"$error":"#N/A"},{"$error":"#N/A"}]
[{"$error":"#N/A"},{"$error":"#N/A"},{"$error":"#N/A"},{"$error":"#N/A"}]
[{"$error":"#N/A"},{"$error":"#N/A"},{"$error":"#N/A"},{"$error":"#N/A"}]
[{"$error":"#N/A"},{"$error":"#N/A"},{"$error":"#N/A"},{"$error":"#N/A"}]
[{"$error":"#N/A"},{"$error":"#N/A"},{"$error":"#N/A"},{"$error":"#N/A"}]
[{"$error":"#N/A"},{"$error":"#N/A"},{"$error":"#N/A"},{"$error":"#N/A"}]
[{"$error":"#N/A"},{"$error":"#N/A"},{"$error":"#N/A"},{"$error":"#N/A"}]
[{"$error":"#N/A"},{"$error":"#N/A"},{"$error":"#N/A"},{"$error":"#N/A"}]
[{"$error":"#N/A"},{"$error":"#N/A"},{"$error":"#N/A"},{"$error":"#N/A"}]
[{"$error":"#N/A"},{"$error":"#N/A"},{"$error":"#N/A"},{"$error":"#N/A"}]
[{"$error":"#N/A"},{"$error":"#N/A"},{"$error":"#N/A"},{"$error":"#N/A"}]
[{"$error":"#N/A"},{"$error":"#N/A"},{"$error":"#N/A"},{"$error":"#N/A"}]
[{"$error":"#N/A"},{"$error":"#N/A"},{"$error":"#N/A"},{"$error":"#N/A"}]
[{"$error":"#N/A"},{"$error":"#N/A"},{"$error":"#N/A"},{"$error":"#N/A"}]
[{"$error":"#N/A"},{"$error":"#N/A"},{"$error":"#N/A"},{"$error":"#N/A"}]
[{"$error":"#N/A"},{"$error":"#N/A"},{"$error":"#N/A"},{"$error":"#N/A"}]
[{"$error":"#N/A"},{"$error":"#N/A"},{"$error":"#N/A"},{"$error":"#N/A"}]
[{"$error":"#N/A"},{"$error":"#N/A"},{"$error":"#N/A"},{"$error":"#N/A"}]
[{"$error":"#N/A"},{"$error":"#N/A"},{"$error":"#N/A"},{"$error":"#N/A"}]
[{"$error":"#N/A"},{"$error":"#N/A"},{"$error":"#N/A"},{"$error":"#N/A"}]
[{"$error":"#N/A"},{"$error":"#N/A"},{"$error":"#N/A"},{"$error":"#N/A"}]
[{"$error":"#N/A"},{"$error":"#N/A"},{"$error":"#N/A"},{"$error":"#N/A"}]
[{"$error":"#N/A"},{"$error":"#N/A"},{"$error":"#N/A"},{"$error":"#N/A"}]
[{"$error":"#N/A"},{"$error":"#N/A"},{"$error":"#N/A"},{"$error":"#N/A"}]
[{"$error":"#N/A"},{"$error":"#N/A"},{"$error":"#N/A"},{"$error":"#N/A"}]
[{"$error":"#N/A"},{"$error":"#N/A"},{"$error":"#N/A"},{"$error":"#N/A"}]
[{"$error":"#N/A"},{"$error":"#N/A"},{"$error":"#N/A"},{"$error":"#N/A"}]
[{"$error":"#N/A"},{"$error":"#N/A"},{"$error":"#N/A"},{"$error":"#N/A"}]
[{"$error":"#N/A"},{"$error":"#N/A"},{"$error":"#N/A"},{"$error":"#N/A"}]
[{"$error":"#N/A"},{"$error":"#N/A"},{"$error":"#N/A"},{"$error":"#N/A"}]
[{"$error":"#N/A"},{"$error":"#N/A"},{"$error":"#N/A"},{"$error":"#N/A"}]
[{"$error":"#N/A"},{"$error":"#N/A"},{"$error":"#N/A"},{"$error":"#N/A"}]
[{"$error":"#N/A"},{"$error":"#N/A"},{"$error":"#N/A"},{"$error":"#N/A"}]
[{"$error":"#N/A"},{"$error":"#N/A"},{"$error":"#N/A"},{"$error":"#N/A"}]
[{"$error":"#N/A"},{"$error":"#N/A"},{"$error":"#N/A"},{"$error":"#N/A"}]
[{"$error":"#N/A"},{"$error":"#N/A"},{"$error":"#N/A"},{"$error":"#N/A"}]
[{"$error":"#N/A"},{"$error":"#N/A"},{"$error":"#N/A"},{"$error":"#N/A"}]
[{"$error":"#N/A"},{"$error":"#N/A"},{"$error":"#N/A"},{"$error":"#N/A"}]
[{"$error":"#N/A"},{"$error":"#N/A"},{"$error":"#N/A"},{"$error":"#N/A"}]
[{"$error":"#N/A"},{"$error":"#N/A"},{"$error":"#N/A"},{"$error":"#N/A"}]
[{"$error":"#N/A"},{"$error":"#N/A"},{"$error":"#N/A"},{"$error":"#N/A"}]
[{"$error":"#N/A"},{"$error":"#N/A"},{"$error":"#N/A"},{"$error":"#N/A"}]
[{"$error":"#N/A"},{"$error":"#N/A"},{"$error":"#N/A"},{"$error":"#N/A"}]
[{"$error":"#N/A"},{"$error":"#N/A"},{"$error":"#N/A"},{"$error":"#N/A"}]
[{"$error":"#N/A"},{"$error":"#N/A"},{"$error":"#N/A"},{"$error":"#N/A"}]
[{"$error":"#N/A"},{"$error":"#N/A"},{"$error":"#N/A"},{"$error":"#N/A"}]
[{"$error":"#N/A"},{"$error":"#N/A"},{"$error":"#N/A"},{"$error":"#N/A"}]
[{"$error":"#N/A"},{"$error":"#N/A"},{"$error":"#N/A"},{"$error":"#N/A"}]
[{"$error":"#N/A"},{"$error":"#N/A"},{"$error":"#N/A"},{"$error":"#N/A"}]
[{"$error":"#N/A"},{"$error":"#N/A"},{"$error":"#N/A"},{"$error":"#N/A"}]
[{"$error":"#N/A"},{"$error":"#N/A"},{"$error":"#N/A"},{"$error":"#N/A"}]
[{"$error":"#N/A"},{"$error":"#N/A"},{"$error":"#N/A"},{"$error":"#N/A"}]
[{"$error":"#N/A"},{"$error":"#N/A"},{"$error":"#N/A"},{"$error":"#N/A"}]
[{"$error":"#N/A"},{"$error":"#N/A"},{"$error":"#N/A"},{"$error":"#N/A"}]
[{"$error":"#N/A"},{"$error":"#N/A"},{"$error":"#N/A"},{"$error":"#N/A"}]
[{"$error":"#N/A"},{"$error":"#N/A"},{"$error":"#N/A"},{"$error":"#N/A"}]
[{"$error":"#N/A"},{"$error":"#N/A"},{"$error":"#N/A"},{"$error":"#N/A"}]
[{"$error":"#N/A"},{"$error":"#N/A"},{"$error":"#N/A"},{"$error":"#N/A"}]
[{"$error":"#N/A"},{"$error":"#N/A"},{"$error":"#N/A"},{"$error":"#N/A"}]
[{"$error":"#N/A"},{"$error":"#N/A"},{"$error":"#N/A"},{"$error":"#N/A"}]
[{"$error":"#N/A"},{"$error":"#N/A"},{"$error":"#N/A"},{"$error":"#N/A"}]
[{"$error":"#N/A"},{"$error":"#N/A"},{"$error":"#N/A"},{"$error":"#N/A"}]
[{"$error":"#N/A"},{"$error":"#N/A"},{"$error":"#N/A"},{"$error":"#N/A"}]
[{"$error":"#N/A"},{"$error":"#N/A"},{"$error":"#N/A"},{"$error":"#N/A"}]
[{"$error":"#N/A"},{"$error":"#N/A"},{"$error":"#N/A"},{"$error":"#N/A"}]
[{"$error":"#N/A"},{"$error":"#N/A"},{"$error":"#N/A"},{"$error":"#N/A"}]
[{"$error":"#N/A"},{"$error":"#N/A"},{"$error":"#N/A"},{"$error":"#N/A"}]
[{"$error":"#N/A"},{"$error":"#N/A"},{"$error":"#N/A"},{"$error":"#N/A"}]
[{"$error":"#N/A"},{"$error":"#N/A"},{"$error":"#N/A"},{"$error":"#N/A"}]
[{"$error":"#N/A"},{"$error":"#N/A"},{"$error":"#N/A"},{"$error":"#N/A"}]
[{"$error":"#N/A"},{"$error":"#N/A"},{"$error":"#N/A"},{"$error":"#N/A"}]
[{"$error":"#N/A"},{"$error":"#N/A"},{"$error":"#N/A"},{"$error":"#N/A"}]
[{"$error":"#N/A"},{"$error":"#N/A"},{"$error":"#N/A"},{"$error":"#N/A"}]
[{"$error":"#N/A"},{"$error":"#N/A"},{"$error":"#N/A"},{"$error":"#N/A"}]
[{"$error":"#N/A"},{"$error":"#N/A"},{"$error":"#N/A"},{"$error":"#N/A"}]
[{"$error":"#N/A"},{"$error":"#N/A"},{"$error":"#N/A"},{"$error":"#N/A"}]
[{"$error":"#N/A"},{"$error":"#N/A"},{"$error":"#N/A"},{"$error":"#N/A"}]
[{"$error":"#N/A"},{"$error":"#N/A"},{"$error":"#N/A"},{"$error":"#N/A"}]
[{"$error":"#N/A"},{"$error":"#N/A"},{"$error":"#N/A"},{"$error":"#N/A"}]
[{"$error":"#N/A"},{"$error":"#N/A"},{"$error":"#N/A"},{"$error":"#N/A"}]
[{"$error":"#N/A"},{"$error":"#N/A"},{"$error":"#N/A"},{"$error":"#N/A"}]
[{"$error":"#N/A"},{"$error":"#N/A"},{"$error":"#N/A"},{"$error":"#N/A"}]
[{"$error":"#N/A"},{"$error":"#N/A"},{"$error":"#N/A"},{"$error":"#N/A"}]
[{"$error":"#N/A"},{"$error":"#N/A"},{"$error":"#N/A"},{"$error":"#N/A"}]
[{"$error":"#N/A"},{"$error":"#N/A"},{"$error":"#N/A"},{"$error":"#N/A"}]
[{"$error":"#N/A"},{"$error":"#N/A"},{"$error":"#N/A"},{"$error":"#N/A"}]
[{"$error":"#N/A"},{"$error":"#N/A"},{"$error":"#N/A"},{"$error":"#N/A"}]
[{"$error":"#N/A"},{"$error":"#N/A"},{"$error":"#N/A"},{"$error":"#N/A"}]
[{"$error":"#N/A"},{"$error":"#N/A"},{"$error":"#N/A"},{"$error":"#N/A"}]
[{"$error":"#N/A"},{"$error":"#N/A"},{"$error":"#N/A"},{"$error":"#N/A"}]
[{"$error":"#N/A"},{"$error":"#N/A"},{"$error":"#N/A"},{"$error":"#N/A"}]
[{"$error":"#N/A"},{"$error":"#N/A"},{"$error":"#N/A"},{"$error":"#N/A"}]
[{"$error":"#N/A"},{"$error":"#N/A"},{"$error":"#N/A"},{"$error":"#N/A"}]
[{"$error":"#N/A"},{"$error":"#N/A"},{"$error":"#N/A"},{"$error":"#N/A"}]
[{"$error":"#N/A"},{"$error":"#N/A"},{"$error":"#N/A"},{"$error":"#N/A"}]
[{"$error":"#N/A"},{"$error":"#N/A"},{"$error":"#N/A"},{"$error":"#N/A"}]
[{"$error":"#N/A"},{"$error":"#N/A"},{"$error":"#N/A"},{"$error":"#N/A"}]
[{"$error":"#N/A"},{"$error":"#N/A"},{"$error":"#N/A"},{"$error":"#N/A"}]
[{"$error":"#N/A"},{"$error":"#N/A"},{"$error":"#N/A"},{"$error":"#N/A"}]
[{"$error":"#N/A"},{"$error":"#N/A"},{"$error":"#N/A"},{"$error":"#N/A"}]
[{"$error":"#N/A"},{"$error":"#N/A"},{"$error":"#N/A"},{"$error":"#N/A"}]
[{"$error":"#N/A"},{"$error":"#N/A"},{"$error":"#N/A"},{"$error":"#N/A"}]
[{"$error":"#N/A"},{"$error":"#N/A"},{"$error":"#N/A"},{"$error":"#N/A"}]
[{"$error":"#N/A"},{"$error":"#N/A"},{"$error":"#N/A"},{"$error":"#N/A"}]
[{"$error":"#N/A"},{"$error":"#N/A"},{"$error":"#N/A"},{"$error":"#N/A"}]
[{"$error":"#N/A"},{"$error":"#N/A"},{"$error":"#N/A"},{"$error":"#N/A"}]
[{"$error":"#N/A"},{"$error":"#N/A"},{"$error":"#N/A"},{"$error":"#N/A"}]
[{"$error":"#N/A"},{"$error":"#N/A"},{"$error":"#N/A"},{"$error":"#N/A"}]
[{"$error":"#N/A"},{"$error":"#N/A"},{"$error":"#N/A"},{"$error":"#N/A"}]
[{"$error":"#N/A"},{"$error":"#N/A"},{"$error":"#N/A"},{"$error":"#N/A"}]
[{"$error":"#N/A"},{"$error":"#N/A"},{"$error":"#N/A"},{"$error":"#N/A"}]
[{"$error":"#N/A"},{"$error":"#N/A"},{"$error":"#N/A"},{"$error":"#N/A"}]
[{"$error":"#N/A"},{"$error":"#N/A"},{"$error":"#N/A"},{"$error":"#N/A"}]
[{"$error":"#N/A"},{"$error":"#N/A"},{"$error":"#N/A"},{"$error":"#N/A"}]
[{"$error":"#N/A"},{"$error":"#N/A"},{"$error":"#N/A"},{"$error":"#N/A"}]
[{"$error":"#N/A"},{"$error":"#N/A"},{"$error":"#N/A"},{"$error":"#N/A"}]
[{"$error":"#N/A"},{"$error":"#N/A"},{"$error":"#N/A"},{"$error":"#N/A"}]
[{"$error":"#N/A"},{"$error":"#N/A"},{"$error":"#N/A"},{"$error":"#N/A"}]
[{"$error":"#N/A"},{"$error":"#N/A"},{"$error":"#N/A"},{"$error":"#N/A"}]
[{"$error":"#N/A"},{"$error":"#N/A"},{"$error":"#N/A"},{"$error":"#N/A"}]
[{"$error":"#N/A"},{"$error":"#N/A"},{"$error":"#N/A"},{"$error":"#N/A"}]
[{"$error":"#N/A"},{"$error":"#N/A"},{"$error":"#N/A"},{"$error":"#N/A"}]
[{"$error":"#N/A"},{"$error":"#N/A"},{"$error":"#N/A"},{"$error":"#N/A"}]
[{"$error":"#N/A"},{"$error":"#N/A"},{"$error":"#N/A"},{"$error":"#N/A"}]
[{"$error":"#N/A"},{"$error":"#N/A"},{"$error":"#N/A"},{"$error":"#N/A"}]
[{"$error":"#N/A"},{"$error":"#N/A"},{"$error":"#N/A"},{"$error":"#N/A"}]
[{"$error":"#N/A"},{"$error":"#N/A"},{"$error":"#N/A"},{"$error":"#N/A"}]
[{"$error":"#N/A"},{"$error":"#N/A"},{"$error":"#N/A"},{"$error":"#N/A"}]
[{"$error":"#N/A"},{"$error":"#N/A"},{"$error":"#N/A"},{"$error":"#N/A"}]
[{"$error":"#N/A"},{"$error":"#N/A"},{"$error":"#N/A"},{"$error":"#N/A"}]
[{"$error":"#N/A"},{"$error":"#N/A"},{"$error":"#N/A"},{"$error":"#N/A"}]
[{"$error":"#N/A"},{"$error":"#N/A"},{"$error":"#N/A"},{"$error":"#N/A"}]
[{"$error":"#N/A"},{"$error":"#N/A"},{"$error":"#N/A"},{"$error":"#N/A"}]
[{"$error":"#N/A"},{"$error":"#N/A"},{"$error":"#N/A"},{"$error":"#N/A"}]
[{"$error":"#N/A"},{"$error":"#N/A"},{"$error":"#N/A"},{"$error":"#N/A"}]
[{"$error":"#N/A"},{"$error":"#N/A"},{"$error":"#N/A"},{"$error":"#N/A"}]
[{"$error":"#N/A"},{"$error":"#N/A"},{"$error":"#N/A"},{"$error":"#N/A"}]
[{"$error":"#N/A"},{"$error":"#N/A"},{"$error":"#N/A"},{"$error":"#N/A"}]
[{"$error":"#N/A"},{"$error":"#N/A"},{"$error":"#N/A"},{"$error":"#N/A"}]
[{"$error":"#N/A"},{"$error":"#N/A"},{"$error":"#N/A"},{"$error":"#N/A"}]
[{"$error":"#N/A"},{"$error":"#N/A"},{"$error":"#N/A"},{"$error":"#N/A"}]
[{"$error":"#N/A"},{"$error":"#N/A"},{"$error":"#N/A"},{"$error":"#N/A"}]
[{"$error":"#N/A"},{"$error":"#N/A"},{"$error":"#N/A"},{"$error":"#N/A"}]
[{"$error":"#N/A"},{"$error":"#N/A"},{"$error":"#N/A"},{"$error":"#N/A"}]
[{"$error":"#N/A"},{"$error":"#N/A"},{"$error":"#N/A"},{"$error":"#N/A"}]
[{"$error":"#N/A"},{"$error":"#N/A"},{"$error":"#N/A"},{"$error":"#N/A"}]
[{"$error":"#N/A"},{"$error":"#N/A"},{"$error":"#N/A"},{"$error":"#N/A"}]
[{"$error":"#N/A"},{"$error":"#N/A"},{"$error":"#N/A"},{"$error":"#N/A"}]
[{"$error":"#N/A"},{"$error":"#N/A"},{"$error":"#N/A"},{"$error":"#N/A"}]
[{"$error":"#N/A"},{"$error":"#N/A"},{"$error":"#N/A"},{"$error":"#N/A"}]
[{"$error":"#N/A"},{"$error":"#N/A"},{"$error":"#N/A"},{"$error":"#N/A"}]
[{"$error":"#N/A"},{"$error":"#N/A"},{"$error":"#N/A"},{"$error":"#N/A"}]
[{"$error":"#N/A"},{"$error":"#N/A"},{"$error":"#N/A"},{"$error":"#N/A"}]
[{"$error":"#N/A"},{"$error":"#N/A"},{"$error":"#N/A"},{"$error":"#N/A"}]
[{"$error":"#N/A"},{"$error":"#N/A"},{"$error":"#N/A"},{"$error":"#N/A"}]
[{"$error":"#N/A"},{"$error":"#N/A"},{"$error":"#N/A"},{"$error":"#N/A"}]
[{"$error":"#N/A"},{"$error":"#N/A"},{"$error":"#N/A"},{"$error":"#N/A"}]
[{"$error":"#N/A"},{"$error":"#N/A"},{"$error":"#N/A"},{"$error":"#N/A"}]
[{"$error":"#N/A"},{"$error":"#N/A"},{"$error":"#N/A"},{"$error":"#N/A"}]
[{"$error":"#N/A"},{"$error":"#N/A"},{"$error":"#N/A"},{"$error":"#N/A"}]
[{"$error":"#N/A"},{"$error":"#N/A"},{"$error":"#N/A"},{"$error":"#N/A"}]
[{"$error":"#N/A"},{"$error":"#N/A"},{"$error":"#N/A"},{"$error":"#N/A"}]
[{"$error":"#N/A"},{"$error":"#N/A"},{"$error":"#N/A"},{"$error":"#N/A"}]
[{"$error":"#N/A"},{"$error":"#N/A"},{"$error":"#N/A"},{"$error":"#N/A"}]
[{"$error":"#N/A"},{"$error":"#N/A"},{"$error":"#N/A"},{"$error":"#N/A"}]
[{"$error":"#N/A"},{"$error":"#N/A"},{"$error":"#N/A"},{"$error":"#N/A"}]
[{"$error":"#N/A"},{"$error":"#N/A"},{"$error":"#N/A"},{"$error":"#N/A"}]
[{"$error":"#N/A"},{"$error":"#N/A"},{"$error":"#N/A"},{"$error":"#N/A"}]
[{"$error":"#N/A"},{"$error":"#N/A"},{"$error":"#N/A"},{"$error":"#N/A"}]
[{"$error":"#N/A"},{"$error":"#N/A"},{"$error":"#N/A"},{"$error":"#N/A"}]
[{"$error":"#N/A"},{"$error":"#N/A"},{"$error":"#N/A"},{"$error":"#N/A"}]
[{"$error":"#N/A"},{"$error":"#N/A"},{"$error":"#N/A"},{"$error":"#N/A"}]
[{"$error":"#N/A"},{"$error":"#N/A"},{"$error":"#N/A"},{"$error":"#N/A"}]
[{"$error":"#N/A"},{"$error":"#N/A"},{"$error":"#N/A"},{"$error":"#N/A"}]
[{"$error":"#N/A"},{"$error":"#N/A"},{"$error":"#N/A"},{"$error":"#N/A"}]
[{"$error":"#N/A"},{"$error":"#N/A"},{"$error":"#N/A"},{"$error":"#N/A"}]
[{"$error":"#N/A"},{"$error":"#N/A"},{"$error":"#N/A"},{"$error":"#N/A"}]
[{"$error":"#N/A"},{"$error":"#N/A"},{"$error":"#N/A"},{"$error":"#N/A"}]
[{"$error":"#N/A"},{"$error":"#N/A"},{"$error":"#N/A"},{"$error":"#N/A"}]
[{"$error":"#N/A"},{"$error":"#N/A"},{"$error":"#N/A"},{"$error":"#N/A"}]
[{"$error":"#N/A"},{"$error":"#N/A"},{"$error":"#N/A"},{"$error":"#N/A"}]
[{"$error":"#N/A"},{"$error":"#N/A"},{"$error":"#N/A"},{"$error":"#N/A"}]
[{"$error":"#N/A"},{"$error":"#N/A"},{"$error":"#N/A"},{"$error":"#N/A"}]
[{"$error":"#N/A"},{"$error":"#N/A"},{"$error":"#N/A"},{"$error":"#N/A"}]
[{"$error":"#N/A"},{"$error":"#N/A"},{"$error":"#N/A"},{"$error":"#N/A"}]
[{"$error":"#N/A"},{"$error":"#N/A"},{"$error":"#N/A"},{"$error":"#N/A"}]
[{"$error":"#N/A"},{"$error":"#N/A"},{"$error":"#N/A"},{"$error":"#N/A"}]
[{"$error":"#N/A"},{"$error":"#N/A"},{"$error":"#N/A"},{"$error":"#N/A"}]
[{"$error":"#N/A"},{"$error":"#N/A"},{"$error":"#N/A"},{"$error":"#N/A"}]
[{"$error":"#N/A"},{"$error":"#N/A"},{"$error":"#N/A"},{"$error":"#N/A"}]
[{"$error":"#N/A"},{"$error":"#N/A"},{"$error":"#N/A"},{"$error":"#N/A"}]
[{"$error":"#N/A"},{"$error":"#N/A"},{"$error":"#N/A"},{"$error":"#N/A"}]
[{"$error":"#N/A"},{"$error":"#N/A"},{"$error":"#N/A"},{"$error":"#N/A"}]
[{"$error":"#N/A"},{"$error":"#N/A"},{"$error":"#N/A"},{"$error":"#N/A"}]
[{"$error":"#N/A"},{"$error":"#N/A"},{"$error":"#N/A"},{"$error":"#N/A"}]
[{"$error":"#N/A"},{"$error":"#N/A"},{"$error":"#N/A"},{"$error":"#N/A"}]
[{"$error":"#N/A"},{"$error":"#N/A"},{"$error":"#N/A"},{"$error":"#N/A"}]
[{"$error":"#N/A"},{"$error":"#N/A"},{"$error":"#N/A"},{"$error":"#N/A"}]
[{"$error":"#N/A"},{"$error":"#N/A"},{"$error":"#N/A"},{"$error":"#N/A"}]
[{"$error":"#N/A"},{"$error":"#N/A"},{"$error":"#N/A"},{"$error":"#N/A"}]
[{"$error":"#N/A"},{"$error":"#N/A"},{"$error":"#N/A"},{"$error":"#N/A"}]
[{"$error":"#N/A"},{"$error":"#N/A"},{"$error":"#N/A"},{"$error":"#N/A"}]
[{"$error":"#N/A"},{"$error":"#N/A"},{"$error":"#N/A"},{"$error":"#N/A"}]
[{"$error":"#N/A"},{"$error":"#N/A"},{"$error":"#N/A"},{"$error":"#N/A"}]
[{"$error":"#N/A"},{"$error":"#N/A"},{"$error":"#N/A"},{"$error":"#N/A"}]
[{"$error":"#N/A"},{"$error":"#N/A"},{"$error":"#N/A"},{"$error":"#N/A"}]
[{"$error":"#N/A"},{"$error":"#N/A"},{"$error":"#N/A"},{"$error":"#N/A"}]
[{"$error":"#N/A"},{"$error":"#N/A"},{"$error":"#N/A"},{"$error":"#N/A"}]
[{"$error":"#N/A"},{"$error":"#N/A"},{"$error":"#N/A"},{"$error":"#N/A"}]
[{"$error":"#N/A"},{"$error":"#N/A"},{"$error":"#N/A"},{"$error":"#N/A"}]
[{"$error":"#N/A"},{"$error":"#N/A"},{"$error":"#N/A"},{"$error":"#N/A"}]
[{"$error":"#N/A"},{"$error":"#N/A"},{"$error":"#N/A"},{"$error":"#N/A"}]
[{"$error":"#N/A"},{"$error":"#N/A"},{"$error":"#N/A"},{"$error":"#N/A"}]
[{"$error":"#N/A"},{"$error":"#N/A"},{"$error":"#N/A"},{"$error":"#N/A"}]
[{"$error":"#N/A"},{"$error":"#N/A"},{"$error":"#N/A"},{"$error":"#N/A"}]
[{"$error":"#N/A"},{"$error":"#N/A"},{"$error":"#N/A"},{"$error":"#N/A"}]
[{"$error":"#N/A"},{"$error":"#N/A"},{"$error":"#N/A"},{"$error":"#N/A"}]
[{"$error":"#N/A"},{"$error":"#N/A"},{"$error":"#N/A"},{"$error":"#N/A"}]
[{"$error":"#N/A"},{"$error":"#N/A"},{"$error":"#N/A"},{"$error":"#N/A"}]
[{"$error":"#N/A"},{"$error":"#N/A"},{"$error":"#N/A"},{"$error":"#N/A"}]
[{"$error":"#N/A"},{"$error":"#N/A"},{"$error":"#N/A"},{"$error":"#N/A"}]
[{"$error":"#N/A"},{"$error":"#N/A"},{"$error":"#N/A"},{"$error":"#N/A"}]
[{"$error":"#N/A"},{"$error":"#N/A"},{"$error":"#N/A"},{"$error":"#N/A"}]
[{"$error":"#N/A"},{"$error":"#N/A"},{"$error":"#N/A"},{"$error":"#N/A"}]
[{"$error":"#N/A"},{"$error":"#N/A"},{"$error":"#N/A"},{"$error":"#N/A"}]
[{"$error":"#N/A"},{"$error":"#N/A"},{"$error":"#N/A"},{"$error":"#N/A"}]
[{"$error":"#N/A"},{"$error":"#N/A"},{"$error":"#N/A"},{"$error":"#N/A"}]
[{"$error":"#N/A"},{"$error":"#N/A"},{"$error":"#N/A"},{"$error":"#N/A"}]
[{"$error":"#N/A"},{"$error":"#N/A"},{"$error":"#N/A"},{"$error":"#N/A"}]
[{"$error":"#N/A"},{"$error":"#N/A"},{"$error":"#N/A"},{"$error":"#N/A"}]
[{"$error":"#N/A"},{"$error":"#N/A"},{"$error":"#N/A"},{"$error":"#N/A"}]
[{"$error":"#N/A"},{"$error":"#N/A"},{"$error":"#N/A"},{"$error":"#N/A"}]
[{"$error":"#N/A"},{"$error":"#N/A"},{"$error":"#N/A"},{"$error":"#N/A"}]
[{"$error":"#N/A"},{"$error":"#N/A"},{"$error":"#N/A"},{"$error":"#N/A"}]
[{"$error":"#N/A"},{"$error":"#N/A"},{"$error":"#N/A"},{"$error":"#N/A"}]
[{"$error":"#N/A"},{"$error":"#N/A"},{"$error":"#N/A"},{"$error":"#N/A"}]
[{"$error":"#N/A"},{"$error":"#N/A"},{"$error":"#N/A"},{"$error":"#N/A"}]
[{"$error":"#N/A"},{"$error":"#N/A"},{"$error":"#N/A"},{"$error":"#N/A"}]
[{"$error":"#N/A"},{"$error":"#N/A"},{"$error":"#N/A"},{"$error":"#N/A"}]
[{"$error":"#N/A"},{"$error":"#N/A"},{"$error":"#N/A"},{"$error":"#N/A"}]
[{"$error":"#N/A"},{"$error":"#N/A"},{"$error":"#N/A"},{"$error":"#N/A"}]
[{"$error":"#N/A"},{"$error":"#N/A"},{"$error":"#N/A"},{"$error":"#N/A"}]
[{"$error":"#N/A"},{"$error":"#N/A"},{"$error":"#N/A"},{"$error":"#N/A"}]
[{"$error":"#N/A"},{"$error":"#N/A"},{"$error":"#N/A"},{"$error":"#N/A"}]
[{"$error":"#N/A"},{"$error":"#N/A"},{"$error":"#N/A"},{"$error":"#N/A"}]
[{"$error":"#N/A"},{"$error":"#N/A"},{"$error":"#N/A"},{"$error":"#N/A"}]
[{"$error":"#N/A"},{"$error":"#N/A"},{"$error":"#N/A"},{"$error":"#N/A"}]
[{"$error":"#N/A"},{"$error":"#N/A"},{"$error":"#N/A"},{"$error":"#N/A"}]
[{"$error":"#N/A"},{"$error":"#N/A"},{"$error":"#N/A"},{"$error":"#N/A"}]
[{"$error":"#N/A"},{"$error":"#N/A"},{"$error":"#N/A"},{"$error":"#N/A"}]
[{"$error":"#N/A"},{"$error":"#N/A"},{"$error":"#N/A"},{"$error":"#N/A"}]
[{"$error":"#N/A"},{"$error":"#N/A"},{"$error":"#N/A"},{"$error":"#N/A"}]
[{"$error":"#N/A"},{"$error":"#N/A"},{"$error":"#N/A"},{"$error":"#N/A"}]
[{"$error":"#N/A"},{"$error":"#N/A"},{"$error":"#N/A"},{"$error":"#N/A"}]
[{"$error":"#N/A"},{"$error":"#N/A"},{"$error":"#N/A"},{"$error":"#N/A"}]
[{"$error":"#N/A"},{"$error":"#N/A"},{"$error":"#N/A"},{"$error":"#N/A"}]
[{"$error":"#N/A"},{"$error":"#N/A"},{"$error":"#N/A"},{"$error":"#N/A"}]
[{"$error":"#N/A"},{"$error":"#N/A"},{"$error":"#N/A"},{"$error":"#N/A"}]
[{"$error":"#N/A"},{"$error":"#N/A"},{"$error":"#N/A"},{"$error":"#N/A"}]
[{"$error":"#N/A"},{"$error":"#N/A"},{"$error":"#N/A"},{"$error":"#N/A"}]
[{"$error":"#N/A"},{"$error":"#N/A"},{"$error":"#N/A"},{"$error":"#N/A"}]
[{"$error":"#N/A"},{"$error":"#N/A"},{"$error":"#N/A"},{"$error":"#N/A"}]
[{"$error":"#N/A"},{"$error":"#N/A"},{"$error":"#N/A"},{"$error":"#N/A"}]
[{"$error":"#N/A"},{"$error":"#N/A"},{"$error":"#N/A"},{"$error":"#N/A"}]
[{"$error":"#N/A"},{"$error":"#N/A"},{"$error":"#N/A"},{"$error":"#N/A"}]
[{"$error":"#N/A"},{"$error":"#N/A"},{"$error":"#N/A"},{"$error":"#N/A"}]
[{"$error":"#N/A"},{"$error":"#N/A"},{"$error":"#N/A"},{"$error":"#N/A"}]
[{"$error":"#N/A"},{"$error":"#N/A"},{"$error":"#N/A"},{"$error":"#N/A"}]
[{"$error":"#N/A"},{"$error":"#N/A"},{"$error":"#N/A"},{"$error":"#N/A"}]
[{"$error":"#N/A"},{"$error":"#N/A"},{"$error":"#N/A"},{"$error":"#N/A"}]
[{"$error":"#N/A"},{"$error":"#N/A"},{"$error":"#N/A"},{"$error":"#N/A"}]
[{"$error":"#N/A"},{"$error":"#N/A"},{"$error":"#N/A"},{"$error":"#N/A"}]
[{"$error":"#N/A"},{"$error":"#N/A"},{"$error":"#N/A"},{"$error":"#N/A"}]
[{"$error":"#N/A"},{"$error":"#N/A"},{"$error":"#N/A"},{"$error":"#N/A"}]
[{"$error":"#N/A"},{"$error":"#N/A"},{"$error":"#N/A"},{"$error":"#N/A"}]
[{"$error":"#N/A"},{"$error":"#N/A"},{"$error":"#N/A"},{"$error":"#N/A"}]
[{"$error":"#N/A"},{"$error":"#N/A"},{"$error":"#N/A"},{"$error":"#N/A"}]
[{"$error":"#N/A"},{"$error":"#N/A"},{"$error":"#N/A"},{"$error":"#N/A"}]
[{"$error":"#N/A"},{"$error":"#N/A"},{"$error":"#N/A"},{"$error":"#N/A"}]
[{"$error":"#N/A"},{"$error":"#N/A"},{"$error":"#N/A"},{"$error":"#N/A"}]
[{"$error":"#N/A"},{"$error":"#N/A"},{"$error":"#N/A"},{"$error":"#N/A"}]
[{"$error":"#N/A"},{"$error":"#N/A"},{"$error":"#N/A"},{"$error":"#N/A"}]
[{"$error":"#N/A"},{"$error":"#N/A"},{"$error":"#N/A"},{"$error":"#N/A"}]
[{"$error":"#N/A"},{"$error":"#N/A"},{"$error":"#N/A"},{"$error":"#N/A"}]
[{"$error":"#N/A"},{"$error":"#N/A"},{"$error":"#N/A"},{"$error":"#N/A"}]
[{"$error":"#N/A"},{"$error":"#N/A"},{"$error":"#N/A"},{"$error":"#N/A"}]
[{"$error":"#N/A"},{"$error":"#N/A"},{"$error":"#N/A"},{"$error":"#N/A"}]
[{"$error":"#N/A"},{"$error":"#N/A"},{"$error":"#N/A"},{"$error":"#N/A"}]
[{"$error":"#N/A"},{"$error":"#N/A"},{"$error":"#N/A"},{"$error":"#N/A"}]
[{"$error":"#N/A"},{"$error":"#N/A"},{"$error":"#N/A"},{"$error":"#N/A"}]
[{"$error":"#N/A"},{"$error":"#N/A"},{"$error":"#N/A"},{"$error":"#N/A"}]
[{"$error":"#N/A"},{"$error":"#N/A"},{"$error":"#N/A"},{"$error":"#N/A"}]
[{"$error":"#N/A"},{"$error":"#N/A"},{"$error":"#N/A"},{"$error":"#N/A"}]
[{"$error":"#N/A"},{"$error":"#N/A"},{"$error":"#N/A"},{"$error":"#N/A"}]
[{"$error":"#N/A"},{"$error":"#N/A"},{"$error":"#N/A"},{"$error":"#N/A"}]
[{"$error":"#N/A"},{"$error":"#N/A"},{"$error":"#N/A"},{"$error":"#N/A"}]
[{"$error":"#N/A"},{"$error":"#N/A"},{"$error":"#N/A"},{"$error":"#N/A"}]
[{"$error":"#N/A"},{"$error":"#N/A"},{"$error":"#N/A"},{"$error":"#N/A"}]
[{"$error":"#N/A"},{"$error":"#N/A"},{"$error":"#N/A"},{"$error":"#N/A"}]
[{"$error":"#N/A"},{"$error":"#N/A"},{"$error":"#N/A"},{"$error":"#N/A"}]
[{"$error":"#N/A"},{"$error":"#N/A"},{"$error":"#N/A"},{"$error":"#N/A"}]
[{"$error":"#N/A"},{"$error":"#N/A"},{"$error":"#N/A"},{"$error":"#N/A"}]
[{"$error":"#N/A"},{"$error":"#N/A"},{"$error":"#N/A"},{"$error":"#N/A"}]
[{"$error":"#N/A"},{"$error":"#N/A"},{"$error":"#N/A"},{"$error":"#N/A"}]
[{"$error":"#N/A"},{"$error":"#N/A"},{"$error":"#N/A"},{"$error":"#N/A"}]
[{"$error":"#N/A"},{"$error":"#N/A"},{"$error":"#N/A"},{"$error":"#N/A"}]
[{"$error":"#N/A"},{"$error":"#N/A"},{"$error":"#N/A"},{"$error":"#N/A"}]
[{"$error":"#N/A"},{"$error":"#N/A"},{"$error":"#N/A"},{"$error":"#N/A"}]
[{"$error":"#N/A"},{"$error":"#N/A"},{"$error":"#N/A"},{"$error":"#N/A"}]
[{"$error":"#N/A"},{"$error":"#N/A"},{"$error":"#N/A"},{"$error":"#N/A"}]
[{"$error":"#N/A"},{"$error":"#N/A"},{"$error":"#N/A"},{"$error":"#N/A"}]
[{"$error":"#N/A"},{"$error":"#N/A"},{"$error":"#N/A"},{"$error":"#N/A"}]
[{"$error":"#N/A"},{"$error":"#N/A"},{"$error":"#N/A"},{"$error":"#N/A"}]
[{"$error":"#N/A"},{"$error":"#N/A"},{"$error":"#N/A"},{"$error":"#N/A"}]
[{"$error":"#N/A"},{"$error":"#N/A"},{"$error":"#N/A"},{"$error":"#N/A"}]
[{"$error":"#N/A"},{"$error":"#N/A"},{"$error":"#N/A"},{"$error":"#N/A"}]
[{"$error":"#N/A"},{"$error":"#N/A"},{"$error":"#N/A"},{"$error":"#N/A"}]
[{"$error":"#N/A"},{"$error":"#N/A"},{"$error":"#N/A"},{"$error":"#N/A"}]
[{"$error":"#N/A"},{"$error":"#N/A"},{"$error":"#N/A"},{"$error":"#N/A"}]
[{"$error":"#N/A"},{"$error":"#N/A"},{"$error":"#N/A"},{"$error":"#N/A"}]
[{"$error":"#N/A"},{"$error":"#N/A"},{"$error":"#N/A"},{"$error":"#N/A"}]
[{"$error":"#N/A"},{"$error":"#N/A"},{"$error":"#N/A"},{"$error":"#N/A"}]
[{"$error":"#N/A"},{"$error":"#N/A"},{"$error":"#N/A"},{"$error":"#N/A"}]
[{"$error":"#N/A"},{"$error":"#N/A"},{"$error":"#N/A"},{"$error":"#N/A"}]
[{"$error":"#N/A"},{"$error":"#N/A"},{"$error":"#N/A"},{"$error":"#N/A"}]
[{"$error":"#N/A"},{"$error":"#N/A"},{"$error":"#N/A"},{"$error":"#N/A"}]
[{"$error":"#N/A"},{"$error":"#N/A"},{"$error":"#N/A"},{"$error":"#N/A"}]
[{"$error":"#N/A"},{"$error":"#N/A"},{"$error":"#N/A"},{"$error":"#N/A"}]
[{"$error":"#N/A"},{"$error":"#N/A"},{"$error":"#N/A"},{"$error":"#N/A"}]
[{"$error":"#N/A"},{"$error":"#N/A"},{"$error":"#N/A"},{"$error":"#N/A"}]
[{"$error":"#N/A"},{"$error":"#N/A"},{"$error":"#N/A"},{"$error":"#N/A"}]
[{"$error":"#N/A"},{"$error":"#N/A"},{"$error":"#N/A"},{"$error":"#N/A"}]
[{"$error":"#N/A"},{"$error":"#N/A"},{"$error":"#N/A"},{"$error":"#N/A"}]
[{"$error":"#N/A"},{"$error":"#N/A"},{"$error":"#N/A"},{"$error":"#N/A"}]
[{"$error":"#N/A"},{"$error":"#N/A"},{"$error":"#N/A"},{"$error":"#N/A"}]
[{"$error":"#N/A"},{"$error":"#N/A"},{"$error":"#N/A"},{"$error":"#N/A"}]
[{"$error":"#N/A"},{"$error":"#N/A"},{"$error":"#N/A"},{"$error":"#N/A"}]
[{"$error":"#N/A"},{"$error":"#N/A"},{"$error":"#N/A"},{"$error":"#N/A"}]
[{"$error":"#N/A"},{"$error":"#N/A"},{"$error":"#N/A"},{"$error":"#N/A"}]
[{"$error":"#N/A"},{"$error":"#N/A"},{"$error":"#N/A"},{"$error":"#N/A"}]
[{"$error":"#N/A"},{"$error":"#N/A"},{"$error":"#N/A"},{"$error":"#N/A"}]
[{"$error":"#N/A"},{"$error":"#N/A"},{"$error":"#N/A"},{"$error":"#N/A"}]
[{"$error":"#N/A"},{"$error":"#N/A"},{"$error":"#N/A"},{"$error":"#N/A"}]
[{"$error":"#N/A"},{"$error":"#N/A"},{"$error":"#N/A"},{"$error":"#N/A"}]
[{"$error":"#N/A"},{"$error":"#N/A"},{"$error":"#N/A"},{"$error":"#N/A"}]
[{"$error":"#N/A"},{"$error":"#N/A"},{"$error":"#N/A"},{"$error":"#N/A"}]
[{"$error":"#N/A"},{"$error":"#N/A"},{"$error":"#N/A"},{"$error":"#N/A"}]
[{"$error":"#N/A"},{"$error":"#N/A"},{"$error":"#N/A"},{"$error":"#N/A"}]
[{"$error":"#N/A"},{"$error":"#N/A"},{"$error":"#N/A"},{"$error":"#N/A"}]
[{"$error":"#N/A"},{"$error":"#N/A"},{"$error":"#N/A"},{"$error":"#N/A"}]
[{"$error":"#N/A"},{"$error":"#N/A"},{"$error":"#N/A"},{"$error":"#N/A"}]
[{"$error":"#N/A"},{"$error":"#N/A"},{"$error":"#N/A"},{"$error":"#N/A"}]
[{"$error":"#N/A"},{"$error":"#N/A"},{"$error":"#N/A"},{"$error":"#N/A"}]
[{"$error":"#N/A"},{"$error":"#N/A"},{"$error":"#N/A"},{"$error":"#N/A"}]
[{"$error":"#N/A"},{"$error":"#N/A"},{"$error":"#N/A"},{"$error":"#N/A"}]
[{"$error":"#N/A"},{"$error":"#N/A"},{"$error":"#N/A"},{"$error":"#N/A"}]
[{"$error":"#N/A"},{"$error":"#N/A"},{"$error":"#N/A"},{"$error":"#N/A"}]
[{"$error":"#N/A"},{"$error":"#N/A"},{"$error":"#N/A"},{"$error":"#N/A"}]
[{"$error":"#N/A"},{"$error":"#N/A"},{"$error":"#N/A"},{"$error":"#N/A"}]
[{"$error":"#N/A"},{"$error":"#N/A"},{"$error":"#N/A"},{"$error":"#N/A"}]
[{"$error":"#N/A"},{"$error":"#N/A"},{"$error":"#N/A"},{"$error":"#N/A"}]
[{"$error":"#N/A"},{"$error":"#N/A"},{"$error":"#N/A"},{"$error":"#N/A"}]
[{"$error":"#N/A"},{"$error":"#N/A"},{"$error":"#N/A"},{"$error":"#N/A"}]
[{"$error":"#N/A"},{"$error":"#N/A"},{"$error":"#N/A"},{"$error":"#N/A"}]
[{"$error":"#N/A"},{"$error":"#N/A"},{"$error":"#N/A"},{"$error":"#N/A"}]
[{"$error":"#N/A"},{"$error":"#N/A"},{"$error":"#N/A"},{"$error":"#N/A"}]
[{"$error":"#N/A"},{"$error":"#N/A"},{"$error":"#N/A"},{"$error":"#N/A"}]
[{"$error":"#N/A"},{"$error":"#N/A"},{"$error":"#N/A"},{"$error":"#N/A"}]
[{"$error":"#N/A"},{"$error":"#N/A"},{"$error":"#N/A"},{"$error":"#N/A"}]
[{"$error":"#N/A"},{"$error":"#N/A"},{"$error":"#N/A"},{"$error":"#N/A"}]
[{"$error":"#N/A"},{"$error":"#N/A"},{"$error":"#N/A"},{"$error":"#N/A"}]
[{"$error":"#N/A"},{"$error":"#N/A"},{"$error":"#N/A"},{"$error":"#N/A"}]
[{"$error":"#N/A"},{"$error":"#N/A"},{"$error":"#N/A"},{"$error":"#N/A"}]
[{"$error":"#N/A"},{"$error":"#N/A"},{"$error":"#N/A"},{"$error":"#N/A"}]
[{"$error":"#N/A"},{"$error":"#N/A"},{"$error":"#N/A"},{"$error":"#N/A"}]
[{"$error":"#N/A"},{"$error":"#N/A"},{"$error":"#N/A"},{"$error":"#N/A"}]
[{"$error":"#N/A"},{"$error":"#N/A"},{"$error":"#N/A"},{"$error":"#N/A"}]
[{"$error":"#N/A"},{"$error":"#N/A"},{"$error":"#N/A"},{"$error":"#N/A"}]
[{"$error":"#N/A"},{"$error":"#N/A"},{"$error":"#N/A"},{"$error":"#N/A"}]
[{"$error":"#N/A"},{"$error":"#N/A"},{"$error":"#N/A"},{"$error":"#N/A"}]
[{"$error":"#N/A"},{"$error":"#N/A"},{"$error":"#N/A"},{"$error":"#N/A"}]
[{"$error":"#N/A"},{"$error":"#N/A"},{"$error":"#N/A"},{"$error":"#N/A"}]
[{"$error":"#N/A"},{"$error":"#N/A"},{"$error":"#N/A"},{"$error":"#N/A"}]
[{"$error":"#N/A"},{"$error":"#N/A"},{"$error":"#N/A"},{"$error":"#N/A"}]
[{"$error":"#N/A"},{"$error":"#N/A"},{"$error":"#N/A"},{"$error":"#N/A"}]
[{"$error":"#N/A"},{"$error":"#N/A"},{"$error":"#N/A"},{"$error":"#N/A"}]
[{"$error":"#N/A"},{"$error":"#N/A"},{"$error":"#N/A"},{"$error":"#N/A"}]
[{"$error":"#N/A"},{"$error":"#N/A"},{"$error":"#N/A"},{"$error":"#N/A"}]
[{"$error":"#N/A"},{"$error":"#N/A"},{"$error":"#N/A"},{"$error":"#N/A"}]
[{"$error":"#N/A"},{"$error":"#N/A"},{"$error":"#N/A"},{"$error":"#N/A"}]
[{"$error":"#N/A"},{"$error":"#N/A"},{"$error":"#N/A"},{"$error":"#N/A"}]
[{"$error":"#N/A"},{"$error":"#N/A"},{"$error":"#N/A"},{"$error":"#N/A"}]
[{"$error":"#N/A"},{"$error":"#N/A"},{"$error":"#N/A"},{"$error":"#N/A"}]
[{"$error":"#N/A"},{"$error":"#N/A"},{"$error":"#N/A"},{"$error":"#N/A"}]
[{"$error":"#N/A"},{"$error":"#N/A"},{"$error":"#N/A"},{"$error":"#N/A"}]
[{"$error":"#N/A"},{"$error":"#N/A"},{"$error":"#N/A"},{"$error":"#N/A"}]
[{"$error":"#N/A"},{"$error":"#N/A"},{"$error":"#N/A"},{"$error":"#N/A"}]
[{"$error":"#N/A"},{"$error":"#N/A"},{"$error":"#N/A"},{"$error":"#N/A"}]
[{"$error":"#N/A"},{"$error":"#N/A"},{"$error":"#N/A"},{"$error":"#N/A"}]
[{"$error":"#N/A"},{"$error":"#N/A"},{"$error":"#N/A"},{"$error":"#N/A"}]
[{"$error":"#N/A"},{"$error":"#N/A"},{"$error":"#N/A"},{"$error":"#N/A"}]
[{"$error":"#N/A"},{"$error":"#N/A"},{"$error":"#N/A"},{"$error":"#N/A"}]
[{"$error":"#N/A"},{"$error":"#N/A"},{"$error":"#N/A"},{"$error":"#N/A"}]
[{"$error":"#N/A"},{"$error":"#N/A"},{"$error":"#N/A"},{"$error":"#N/A"}]
[{"$error":"#N/A"},{"$error":"#N/A"},{"$error":"#N/A"},{"$error":"#N/A"}]
[{"$error":"#N/A"},{"$error":"#N/A"},{"$error":"#N/A"},{"$error":"#N/A"}]
[{"$error":"#N/A"},{"$error":"#N/A"},{"$error":"#N/A"},{"$error":"#N/A"}]
[{"$error":"#N/A"},{"$error":"#N/A"},{"$error":"#N/A"},{"$error":"#N/A"}]
[{"$error":"#N/A"},{"$error":"#N/A"},{"$error":"#N/A"},{"$error":"#N/A"}]
[{"$error":"#N/A"},{"$error":"#N/A"},{"$error":"#N/A"},{"$error":"#N/A"}]
[{"$error":"#N/A"},{"$error":"#N/A"},{"$error":"#N/A"},{"$error":"#N/A"}]
[{"$error":"#N/A"},{"$error":"#N/A"},{"$error":"#N/A"},{"$error":"#N/A"}]
[{"$error":"#N/A"},{"$error":"#N/A"},{"$error":"#N/A"},{"$error":"#N/A"}]
[{"$error":"#N/A"},{"$error":"#N/A"},{"$error":"#N/A"},{"$error":"#N/A"}]
[{"$error":"#N/A"},{"$error":"#N/A"},{"$error":"#N/A"},{"$error":"#N/A"}]
[{"$error":"#N/A"},{"$error":"#N/A"},{"$error":"#N/A"},{"$error":"#N/A"}]
[{"$error":"#N/A"},{"$error":"#N/A"},{"$error":"#N/A"},{"$error":"#N/A"}]
[{"$error":"#N/A"},{"$error":"#N/A"},{"$error":"#N/A"},{"$error":"#N/A"}]
[{"$error":"#N/A"},{"$error":"#N/A"},{"$error":"#N/A"},{"$error":"#N/A"}]
[{"$error":"#N/A"},{"$error":"#N/A"},{"$error":"#N/A"},{"$error":"#N/A"}]
[{"$error":"#N/A"},{"$error":"#N/A"},{"$error":"#N/A"},{"$error":"#N/A"}]
[{"$error":"#N/A"},{"$error":"#N/A"},{"$error":"#N/A"},{"$error":"#N/A"}]
[{"$error":"#N/A"},{"$error":"#N/A"},{"$error":"#N/A"},{"$error":"#N/A"}]
[{"$error":"#N/A"},{"$error":"#N/A"},{"$error":"#N/A"},{"$error":"#N/A"}]
[{"$error":"#N/A"},{"$error":"#N/A"},{"$error":"#N/A"},{"$error":"#N/A"}]
[{"$error":"#N/A"},{"$error":"#N/A"},{"$error":"#N/A"},{"$error":"#N/A"}]
[{"$error":"#N/A"},{"$error":"#N/A"},{"$error":"#N/A"},{"$error":"#N/A"}]
[{"$error":"#N/A"},{"$error":"#N/A"},{"$error":"#N/A"},{"$error":"#N/A"}]
[{"$error":"#N/A"},{"$error":"#N/A"},{"$error":"#N/A"},{"$error":"#N/A"}]
[{"$error":"#N/A"},{"$error":"#N/A"},{"$error":"#N/A"},{"$error":"#N/A"}]
[{"$error":"#N/A"},{"$error":"#N/A"},{"$error":"#N/A"},{"$error":"#N/A"}]
[{"$error":"#N/A"},{"$error":"#N/A"},{"$error":"#N/A"},{"$error":"#N/A"}]
[{"$error":"#N/A"},{"$error":"#N/A"},{"$error":"#N/A"},{"$error":"#N/A"}]
[{"$error":"#N/A"},{"$error":"#N/A"},{"$error":"#N/A"},{"$error":"#N/A"}]
[{"$error":"#N/A"},{"$error":"#N/A"},{"$error":"#N/A"},{"$error":"#N/A"}]
[{"$error":"#N/A"},{"$error":"#N/A"},{"$error":"#N/A"},{"$error":"#N/A"}]
[{"$error":"#N/A"},{"$error":"#N/A"},{"$error":"#N/A"},{"$error":"#N/A"}]
[{"$error":"#N/A"},{"$error":"#N/A"},{"$error":"#N/A"},{"$error":"#N/A"}]
[{"$error":"#N/A"},{"$error":"#N/A"},{"$error":"#N/A"},{"$error":"#N/A"}]
[{"$error":"#N/A"},{"$error":"#N/A"},{"$error":"#N/A"},{"$error":"#N/A"}]
[{"$error":"#N/A"},{"$error":"#N/A"},{"$error":"#N/A"},{"$error":"#N/A"}]
[{"$error":"#N/A"},{"$error":"#N/A"},{"$error":"#N/A"},{"$error":"#N/A"}]
[{"$error":"#N/A"},{"$error":"#N/A"},{"$error":"#N/A"},{"$error":"#N/A"}]
[{"$error":"#N/A"},{"$error":"#N/A"},{"$error":"#N/A"},{"$error":"#N/A"}]
[{"$error":"#N/A"},{"$error":"#N/A"},{"$error":"#N/A"},{"$error":"#N/A"}]
[{"$error":"#N/A"},{"$error":"#N/A"},{"$error":"#N/A"},{"$error":"#N/A"}]
[{"$error":"#N/A"},{"$error":"#N/A"},{"$error":"#N/A"},{"$error":"#N/A"}]
[{"$error":"#N/A"},{"$error":"#N/A"},{"$error":"#N/A"},{"$error":"#N/A"}]
[{"$error":"#N/A"},{"$error":"#N/A"},{"$error":"#N/A"},{"$error":"#N/A"}]
[{"$error":"#N/A"},{"$error":"#N/A"},{"$error":"#N/A"},{"$error":"#N/A"}]
[{"$error":"#N/A"},{"$error":"#N/A"},{"$error":"#N/A"},{"$error":"#N/A"}]
[{"$error":"#N/A"},{"$error":"#N/A"},{"$error":"#N/A"},{"$error":"#N/A"}]
[{"$error":"#N/A"},{"$error":"#N/A"},{"$error":"#N/A"},{"$error":"#N/A"}]
[{"$error":"#N/A"},{"$error":"#N/A"},{"$error":"#N/A"},{"$error":"#N/A"}]
[{"$error":"#N/A"},{"$error":"#N/A"},{"$error":"#N/A"},{"$error":"#N/A"}]
[{"$error":"#N/A"},{"$error":"#N/A"},{"$error":"#N/A"},{"$error":"#N/A"}]
[{"$error":"#N/A"},{"$error":"#N/A"},{"$error":"#N/A"},{"$error":"#N/A"}]
[{"$error":"#N/A"},{"$error":"#N/A"},{"$error":"#N/A"},{"$error":"#N/A"}]
[{"$error":"#N/A"},{"$error":"#N/A"},{"$error":"#N/A"},{"$error":"#N/A"}]
[{"$error":"#N/A"},{"$error":"#N/A"},{"$error":"#N/A"},{"$error":"#N/A"}]
[{"$error":"#N/A"},{"$error":"#N/A"},{"$error":"#N/A"},{"$error":"#N/A"}]
[{"$error":"#N/A"},{"$error":"#N/A"},{"$error":"#N/A"},{"$error":"#N/A"}]
[{"$error":"#N/A"},{"$error":"#N/A"},{"$error":"#N/A"},{"$error":"#N/A"}]
[{"$error":"#N/A"},{"$error":"#N/A"},{"$error":"#N/A"},{"$error":"#N/A"}]
[{"$error":"#N/A"},{"$error":"#N/A"},{"$error":"#N/A"},{"$error":"#N/A"}]
[{"$error":"#N/A"},{"$error":"#N/A"},{"$error":"#N/A"},{"$error":"#N/A"}]
[{"$error":"#N/A"},{"$error":"#N/A"},{"$error":"#N/A"},{"$error":"#N/A"}]
[{"$error":"#N/A"},{"$error":"#N/A"},{"$error":"#N/A"},{"$error":"#N/A"}]
[{"$error":"#N/A"},{"$error":"#N/A"},{"$error":"#N/A"},{"$error":"#N/A"}]
[{"$error":"#N/A"},{"$error":"#N/A"},{"$error":"#N/A"},{"$error":"#N/A"}]
[{"$error":"#N/A"},{"$error":"#N/A"},{"$error":"#N/A"},{"$error":"#N/A"}]
[{"$error":"#N/A"},{"$error":"#N/A"},{"$error":"#N/A"},{"$error":"#N/A"}]
[{"$error":"#N/A"},{"$error":"#N/A"},{"$error":"#N/A"},{"$error":"#N/A"}]
[{"$error":"#N/A"},{"$error":"#N/A"},{"$error":"#N/A"},{"$error":"#N/A"}]
[{"$error":"#N/A"},{"$error":"#N/A"},{"$error":"#N/A"},{"$error":"#N/A"}]
[{"$error":"#N/A"},{"$error":"#N/A"},{"$error":"#N/A"},{"$error":"#N/A"}]
[{"$error":"#N/A"},{"$error":"#N/A"},{"$error":"#N/A"},{"$error":"#N/A"}]
[{"$error":"#N/A"},{"$error":"#N/A"},{"$error":"#N/A"},{"$error":"#N/A"}]
[{"$error":"#N/A"},{"$error":"#N/A"},{"$error":"#N/A"},{"$error":"#N/A"}]
[{"$error":"#N/A"},{"$error":"#N/A"},{"$error":"#N/A"},{"$error":"#N/A"}]
[{"$error":"#N/A"},{"$error":"#N/A"},{"$error":"#N/A"},{"$error":"#N/A"}]
[{"$error":"#N/A"},{"$error":"#N/A"},{"$error":"#N/A"},{"$error":"#N/A"}]
[{"$error":"#N/A"},{"$error":"#N/A"},{"$error":"#N/A"},{"$error":"#N/A"}]
[{"$error":"#N/A"},{"$error":"#N/A"},{"$error":"#N/A"},{"$error":"#N/A"}]
[{"$error":"#N/A"},{"$error":"#N/A"},{"$error":"#N/A"},{"$error":"#N/A"}]
[{"$error":"#N/A"},{"$error":"#N/A"},{"$error":"#N/A"},{"$error":"#N/A"}]
[{"$error":"#N/A"},{"$error":"#N/A"},{"$error":"#N/A"},{"$error":"#N/A"}]
[{"$error":"#N/A"},{"$error":"#N/A"},{"$error":"#N/A"},{"$error":"#N/A"}]
[{"$error":"#N/A"},{"$error":"#N/A"},{"$error":"#N/A"},{"$error":"#N/A"}]
[{"$error":"#N/A"},{"$error":"#N/A"},{"$error":"#N/A"},{"$error":"#N/A"}]
[{"$error":"#N/A"},{"$error":"#N/A"},{"$error":"#N/A"},{"$error":"#N/A"}]
[{"$error":"#N/A"},{"$error":"#N/A"},{"$error":"#N/A"},{"$error":"#N/A"}]
[{"$error":"#N/A"},{"$error":"#N/A"},{"$error":"#N/A"},{"$error":"#N/A"}]
[{"$error":"#N/A"},{"$error":"#N/A"},{"$error":"#N/A"},{"$error":"#N/A"}]
[{"$error":"#N/A"},{"$error":"#N/A"},{"$error":"#N/A"},{"$error":"#N/A"}]
[{"$error":"#N/A"},{"$error":"#N/A"},{"$error":"#N/A"},{"$error":"#N/A"}]
[{"$error":"#N/A"},{"$error":"#N/A"},{"$error":"#N/A"},{"$error":"#N/A"}]
[{"$error":"#N/A"},{"$error":"#N/A"},{"$error":"#N/A"},{"$error":"#N/A"}]
[{"$error":"#N/A"},{"$error":"#N/A"},{"$error":"#N/A"},{"$error":"#N/A"}]
[{"$error":"#N/A"},{"$error":"#N/A"},{"$error":"#N/A"},{"$error":"#N/A"}]
[{"$error":"#N/A"},{"$error":"#N/A"},{"$error":"#N/A"},{"$error":"#N/A"}]
[{"$error":"#N/A"},{"$error":"#N/A"},{"$error":"#N/A"},{"$error":"#N/A"}]
[{"$error":"#N/A"},{"$error":"#N/A"},{"$error":"#N/A"},{"$error":"#N/A"}]
[{"$error":"#N/A"},{"$error":"#N/A"},{"$error":"#N/A"},{"$error":"#N/A"}]
[{"$error":"#N/A"},{"$error":"#N/A"},{"$error":"#N/A"},{"$error":"#N/A"}]
[{"$error":"#N/A"},{"$error":"#N/A"},{"$error":"#N/A"},{"$error":"#N/A"}]
[{"$error":"#N/A"},{"$error":"#N/A"},{"$error":"#N/A"},{"$error":"#N/A"}]
[{"$error":"#N/A"},{"$error":"#N/A"},{"$error":"#N/A"},{"$error":"#N/A"}]
[{"$error":"#N/A"},{"$error":"#N/A"},{"$error":"#N/A"},{"$error":"#N/A"}]
[{"$error":"#N/A"},{"$error":"#N/A"},{"$error":"#N/A"},{"$error":"#N/A"}]
[{"$error":"#N/A"},{"$error":"#N/A"},{"$error":"#N/A"},{"$error":"#N/A"}]
[{"$error":"#N/A"},{"$error":"#N/A"},{"$error":"#N/A"},{"$error":"#N/A"}]
[{"$error":"#N/A"},{"$error":"#N/A"},{"$error":"#N/A"},{"$error":"#N/A"}]
[{"$error":"#N/A"},{"$error":"#N/A"},{"$error":"#N/A"},{"$error":"#N/A"}]
[{"$error":"#N/A"},{"$error":"#N/A"},{"$error":"#N/A"},{"$error":"#N/A"}]
[{"$error":"#N/A"},{"$error":"#N/A"},{"$error":"#N/A"},{"$error":"#N/A"}]
[{"$error":"#N/A"},{"$error":"#N/A"},{"$error":"#N/A"},{"$error":"#N/A"}]
[{"$error":"#N/A"},{"$error":"#N/A"},{"$error":"#N/A"},{"$error":"#N/A"}]
[{"$error":"#N/A"},{"$error":"#N/A"},{"$error":"#N/A"},{"$error":"#N/A"}]
[{"$error":"#N/A"},{"$error":"#N/A"},{"$error":"#N/A"},{"$error":"#N/A"}]
[{"$error":"#N/A"},{"$error":"#N/A"},{"$error":"#N/A"},{"$error":"#N/A"}]
[{"$error":"#N/A"},{"$error":"#N/A"},{"$error":"#N/A"},{"$error":"#N/A"}]
[{"$error":"#N/A"},{"$error":"#N/A"},{"$error":"#N/A"},{"$error":"#N/A"}]
[{"$error":"#N/A"},{"$error":"#N/A"},{"$error":"#N/A"},{"$error":"#N/A"}]
[{"$error":"#N/A"},{"$error":"#N/A"},{"$error":"#N/A"},{"$error":"#N/A"}]
[{"$error":"#N/A"},{"$error":"#N/A"},{"$error":"#N/A"},{"$error":"#N/A"}]
[{"$error":"#N/A"},{"$error":"#N/A"},{"$error":"#N/A"},{"$error":"#N/A"}]
[{"$error":"#N/A"},{"$error":"#N/A"},{"$error":"#N/A"},{"$error":"#N/A"}]
[{"$error":"#N/A"},{"$error":"#N/A"},{"$error":"#N/A"},{"$error":"#N/A"}]
[{"$error":"#N/A"},{"$error":"#N/A"},{"$error":"#N/A"},{"$error":"#N/A"}]
[{"$error":"#N/A"},{"$error":"#N/A"},{"$error":"#N/A"},{"$error":"#N/A"}]
[{"$error":"#N/A"},{"$error":"#N/A"},{"$error":"#N/A"},{"$error":"#N/A"}]
[{"$error":"#N/A"},{"$error":"#N/A"},{"$error":"#N/A"},{"$error":"#N/A"}]
[{"$error":"#N/A"},{"$error":"#N/A"},{"$error":"#N/A"},{"$error":"#N/A"}]
[{"$error":"#N/A"},{"$error":"#N/A"},{"$error":"#N/A"},{"$error":"#N/A"}]
[{"$error":"#N/A"},{"$error":"#N/A"},{"$error":"#N/A"},{"$error":"#N/A"}]
[{"$error":"#N/A"},{"$error":"#N/A"},{"$error":"#N/A"},{"$error":"#N/A"}]
[{"$error":"#N/A"},{"$error":"#N/A"},{"$error":"#N/A"},{"$error":"#N/A"}]
[{"$error":"#N/A"},{"$error":"#N/A"},{"$error":"#N/A"},{"$error":"#N/A"}]
[{"$error":"#N/A"},{"$error":"#N/A"},{"$error":"#N/A"},{"$error":"#N/A"}]
[{"$error":"#N/A"},{"$error":"#N/A"},{"$error":"#N/A"},{"$error":"#N/A"}]
[{"$error":"#N/A"},{"$error":"#N/A"},{"$error":"#N/A"},{"$error":"#N/A"}]
[{"$error":"#N/A"},{"$error":"#N/A"},{"$error":"#N/A"},{"$error":"#N/A"}]
[{"$error":"#N/A"},{"$error":"#N/A"},{"$error":"#N/A"},{"$error":"#N/A"}]
[{"$error":"#N/A"},{"$error":"#N/A"},{"$error":"#N/A"},{"$error":"#N/A"}]
[{"$error":"#N/A"},{"$error":"#N/A"},{"$error":"#N/A"},{"$error":"#N/A"}]
[{"$error":"#N/A"},{"$error":"#N/A"},{"$error":"#N/A"},{"$error":"#N/A"}]
[{"$error":"#N/A"},{"$error":"#N/A"},{"$error":"#N/A"},{"$error":"#N/A"}]
[{"$error":"#N/A"},{"$error":"#N/A"},{"$error":"#N/A"},{"$error":"#N/A"}]
[{"$error":"#N/A"},{"$error":"#N/A"},{"$error":"#N/A"},{"$error":"#N/A"}]
[{"$error":"#N/A"},{"$error":"#N/A"},{"$error":"#N/A"},{"$error":"#N/A"}]
[{"$error":"#N/A"},{"$error":"#N/A"},{"$error":"#N/A"},{"$error":"#N/A"}]
[{"$error":"#N/A"},{"$error":"#N/A"},{"$error":"#N/A"},{"$error":"#N/A"}]
[{"$error":"#N/A"},{"$error":"#N/A"},{"$error":"#N/A"},{"$error":"#N/A"}]
[{"$error":"#N/A"},{"$error":"#N/A"},{"$error":"#N/A"},{"$error":"#N/A"}]
[{"$error":"#N/A"},{"$error":"#N/A"},{"$error":"#N/A"},{"$error":"#N/A"}]
[{"$error":"#N/A"},{"$error":"#N/A"},{"$error":"#N/A"},{"$error":"#N/A"}]
[{"$error":"#N/A"},{"$error":"#N/A"},{"$error":"#N/A"},{"$error":"#N/A"}]
[{"$error":"#N/A"},{"$error":"#N/A"},{"$error":"#N/A"},{"$error":"#N/A"}]
[{"$error":"#N/A"},{"$error":"#N/A"},{"$error":"#N/A"},{"$error":"#N/A"}]
[{"$error":"#N/A"},{"$error":"#N/A"},{"$error":"#N/A"},{"$error":"#N/A"}]
[{"$error":"#N/A"},{"$error":"#N/A"},{"$error":"#N/A"},{"$error":"#N/A"}]
[{"$error":"#N/A"},{"$error":"#N/A"},{"$error":"#N/A"},{"$error":"#N/A"}]
[{"$error":"#N/A"},{"$error":"#N/A"},{"$error":"#N/A"},{"$error":"#N/A"}]
[{"$error":"#N/A"},{"$error":"#N/A"},{"$error":"#N/A"},{"$error":"#N/A"}]
[{"$error":"#N/A"},{"$error":"#N/A"},{"$error":"#N/A"},{"$error":"#N/A"}]
[{"$error":"#N/A"},{"$error":"#N/A"},{"$error":"#N/A"},{"$error":"#N/A"}]
[{"$error":"#N/A"},{"$error":"#N/A"},{"$error":"#N/A"},{"$error":"#N/A"}]
[{"$error":"#N/A"},{"$error":"#N/A"},{"$error":"#N/A"},{"$error":"#N/A"}]
[{"$error":"#N/A"},{"$error":"#N/A"},{"$error":"#N/A"},{"$error":"#N/A"}]
[{"$error":"#N/A"},{"$error":"#N/A"},{"$error":"#N/A"},{"$error":"#N/A"}]
[{"$error":"#N/A"},{"$error":"#N/A"},{"$error":"#N/A"},{"$error":"#N/A"}]
[{"$error":"#N/A"},{"$error":"#N/A"},{"$error":"#N/A"},{"$error":"#N/A"}]
[{"$error":"#N/A"},{"$error":"#N/A"},{"$error":"#N/A"},{"$error":"#N/A"}]
[{"$error":"#N/A"},{"$error":"#N/A"},{"$error":"#N/A"},{"$error":"#N/A"}]
[{"$error":"#N/A"},{"$error":"#N/A"},{"$error":"#N/A"},{"$error":"#N/A"}]
[{"$error":"#N/A"},{"$error":"#N/A"},{"$error":"#N/A"},{"$error":"#N/A"}]
[{"$error":"#N/A"},{"$error":"#N/A"},{"$error":"#N/A"},{"$error":"#N/A"}]
[{"$error":"#N/A"},{"$error":"#N/A"},{"$error":"#N/A"},{"$error":"#N/A"}]
[{"$error":"#N/A"},{"$error":"#N/A"},{"$error":"#N/A"},{"$error":"#N/A"}]
[{"$error":"#N/A"},{"$error":"#N/A"},{"$error":"#N/A"},{"$error":"#N/A"}]
[{"$error":"#N/A"},{"$error":"#N/A"},{"$error":"#N/A"},{"$error":"#N/A"}]
[{"$error":"#N/A"},{"$error":"#N/A"},{"$error":"#N/A"},{"$error":"#N/A"}]
[{"$error":"#N/A"},{"$error":"#N/A"},{"$error":"#N/A"},{"$error":"#N/A"}]
[{"$error":"#N/A"},{"$error":"#N/A"},{"$error":"#N/A"},{"$error":"#N/A"}]
[{"$error":"#N/A"},{"$error":"#N/A"},{"$error":"#N/A"},{"$error":"#N/A"}]
[{"$error":"#N/A"},{"$error":"#N/A"},{"$error":"#N/A"},{"$error":"#N/A"}]
[{"$error":"#N/A"},{"$error":"#N/A"},{"$error":"#N/A"},{"$error":"#N/A"}]
[{"$error":"#N/A"},{"$error":"#N/A"},{"$error":"#N/A"},{"$error":"#N/A"}]
[{"$error":"#N/A"},{"$error":"#N/A"},{"$error":"#N/A"},{"$error":"#N/A"}]
[{"$error":"#N/A"},{"$error":"#N/A"},{"$error":"#N/A"},{"$error":"#N/A"}]
[{"$error":"#N/A"},{"$error":"#N/A"},{"$error":"#N/A"},{"$error":"#N/A"}]
[{"$error":"#N/A"},{"$error":"#N/A"},{"$error":"#N/A"},{"$error":"#N/A"}]
[{"$error":"#N/A"},{"$error":"#N/A"},{"$error":"#N/A"},{"$error":"#N/A"}]
[{"$error":"#N/A"},{"$error":"#N/A"},{"$error":"#N/A"},{"$error":"#N/A"}]
[{"$error":"#N/A"},{"$error":"#N/A"},{"$error":"#N/A"},{"$error":"#N/A"}]
[{"$error":"#N/A"},{"$error":"#N/A"},{"$error":"#N/A"},{"$error":"#N/A"}]
[{"$error":"#N/A"},{"$error":"#N/A"},{"$error":"#N/A"},{"$error":"#N/A"}]
[{"$error":"#N/A"},{"$error":"#N/A"},{"$error":"#N/A"},{"$error":"#N/A"}]
[{"$error":"#N/A"},{"$error":"#N/A"},{"$error":"#N/A"},{"$error":"#N/A"}]
[{"$error":"#N/A"},{"$error":"#N/A"},{"$error":"#N/A"},{"$error":"#N/A"}]
[{"$error":"#N/A"},{"$error":"#N/A"},{"$error":"#N/A"},{"$error":"#N/A"}]
[{"$error":"#N/A"},{"$error":"#N/A"},{"$error":"#N/A"},{"$error":"#N/A"}]
[{"$error":"#N/A"},{"$error":"#N/A"},{"$error":"#N/A"},{"$error":"#N/A"}]
[{"$error":"#N/A"},{"$error":"#N/A"},{"$error":"#N/A"},{"$error":"#N/A"}]
[{"$error":"#N/A"},{"$error":"#N/A"},{"$error":"#N/A"},{"$error":"#N/A"}]
[{"$error":"#N/A"},{"$error":"#N/A"},{"$error":"#N/A"},{"$error":"#N/A"}]
[{"$error":"#N/A"},{"$error":"#N/A"},{"$error":"#N/A"},{"$error":"#N/A"}]
[{"$error":"#N/A"},{"$error":"#N/A"},{"$error":"#N/A"},{"$error":"#N/A"}]
[{"$error":"#N/A"},{"$error":"#N/A"},{"$error":"#N/A"},{"$error":"#N/A"}]
[{"$error":"#N/A"},{"$error":"#N/A"},{"$error":"#N/A"},{"$error":"#N/A"}]
[{"$error":"#N/A"},{"$error":"#N/A"},{"$error":"#N/A"},{"$error":"#N/A"}]
[{"$error":"#N/A"},{"$error":"#N/A"},{"$error":"#N/A"},{"$error":"#N/A"}]
[{"$error":"#N/A"},{"$error":"#N/A"},{"$error":"#N/A"},{"$error":"#N/A"}]
[{"$error":"#N/A"},{"$error":"#N/A"},{"$error":"#N/A"},{"$error":"#N/A"}]
[{"$error":"#N/A"},{"$error":"#N/A"},{"$error":"#N/A"},{"$error":"#N/A"}]
[{"$error":"#N/A"},{"$error":"#N/A"},{"$error":"#N/A"},{"$error":"#N/A"}]
[{"$error":"#N/A"},{"$error":"#N/A"},{"$error":"#N/A"},{"$error":"#N/A"}]
[{"$error":"#N/A"},{"$error":"#N/A"},{"$error":"#N/A"},{"$error":"#N/A"}]
[{"$error":"#N/A"},{"$error":"#N/A"},{"$error":"#N/A"},{"$error":"#N/A"}]
[{"$error":"#N/A"},{"$error":"#N/A"},{"$error":"#N/A"},{"$error":"#N/A"}]
[{"$error":"#N/A"},{"$error":"#N/A"},{"$error":"#N/A"},{"$error":"#N/A"}]
[{"$error":"#N/A"},{"$error":"#N/A"},{"$error":"#N/A"},{"$error":"#N/A"}]
[{"$error":"#N/A"},{"$error":"#N/A"},{"$error":"#N/A"},{"$error":"#N/A"}]
[{"$error":"#N/A"},{"$error":"#N/A"},{"$error":"#N/A"},{"$error":"#N/A"}]
[{"$error":"#N/A"},{"$error":"#N/A"},{"$error":"#N/A"},{"$error":"#N/A"}]
[{"$error":"#N/A"},{"$error":"#N/A"},{"$error":"#N/A"},{"$error":"#N/A"}]
[{"$error":"#N/A"},{"$error":"#N/A"},{"$error":"#N/A"},{"$error":"#N/A"}]
[{"$error":"#N/A"},{"$error":"#N/A"},{"$error":"#N/A"},{"$error":"#N/A"}]
[{"$error":"#N/A"},{"$error":"#N/A"},{"$error":"#N/A"},{"$error":"#N/A"}]
[{"$error":"#N/A"},{"$error":"#N/A"},{"$error":"#N/A"},{"$error":"#N/A"}]
[{"$error":"#N/A"},{"$error":"#N/A"},{"$error":"#N/A"},{"$error":"#N/A"}]
[{"$error":"#N/A"},{"$error":"#N/A"},{"$error":"#N/A"},{"$error":"#N/A"}]
[{"$error":"#N/A"},{"$error":"#N/A"},{"$error":"#N/A"},{"$error":"#N/A"}]
[{"$error":"#N/A"},{"$error":"#N/A"},{"$error":"#N/A"},{"$error":"#N/A"}]
[{"$error":"#N/A"},{"$error":"#N/A"},{"$error":"#N/A"},{"$error":"#N/A"}]
[{"$error":"#N/A"},{"$error":"#N/A"},{"$error":"#N/A"},{"$error":"#N/A"}]
[{"$error":"#N/A"},{"$error":"#N/A"},{"$error":"#N/A"},{"$error":"#N/A"}]
[{"$error":"#N/A"},{"$error":"#N/A"},{"$error":"#N/A"},{"$error":"#N/A"}]
[{"$error":"#N/A"},{"$error":"#N/A"},{"$error":"#N/A"},{"$error":"#N/A"}]
[{"$error":"#N/A"},{"$error":"#N/A"},{"$error":"#N/A"},{"$error":"#N/A"}]
[{"$error":"#N/A"},{"$error":"#N/A"},{"$error":"#N/A"},{"$error":"#N/A"}]
[{"$error":"#N/A"},{"$error":"#N/A"},{"$error":"#N/A"},{"$error":"#N/A"}]
[{"$error":"#N/A"},{"$error":"#N/A"},{"$error":"#N/A"},{"$error":"#N/A"}]
[{"$error":"#N/A"},{"$error":"#N/A"},{"$error":"#N/A"},{"$error":"#N/A"}]
[{"$error":"#N/A"},{"$error":"#N/A"},{"$error":"#N/A"},{"$error":"#N/A"}]
[{"$error":"#N/A"},{"$error":"#N/A"},{"$error":"#N/A"},{"$error":"#N/A"}]
[{"$error":"#N/A"},{"$error":"#N/A"},{"$error":"#N/A"},{"$error":"#N/A"}]
[{"$error":"#N/A"},{"$error":"#N/A"},{"$error":"#N/A"},{"$error":"#N/A"}]
[{"$error":"#N/A"},{"$error":"#N/A"},{"$error":"#N/A"},{"$error":"#N/A"}]
[{"$error":"#N/A"},{"$error":"#N/A"},{"$error":"#N/A"},{"$error":"#N/A"}]
[{"$error":"#N/A"},{"$error":"#N/A"},{"$error":"#N/A"},{"$error":"#N/A"}]
[{"$error":"#N/A"},{"$error":"#N/A"},{"$error":"#N/A"},{"$error":"#N/A"}]
[{"$error":"#N/A"},{"$error":"#N/A"},{"$error":"#N/A"},{"$error":"#N/A"}]
[{"$error":"#N/A"},{"$error":"#N/A"},{"$error":"#N/A"},{"$error":"#N/A"}]
[{"$error":"#N/A"},{"$error":"#N/A"},{"$error":"#N/A"},{"$error":"#N/A"}]
[{"$error":"#N/A"},{"$error":"#N/A"},{"$error":"#N/A"},{"$error":"#N/A"}]
[{"$error":"#N/A"},{"$error":"#N/A"},{"$error":"#N/A"},{"$error":"#N/A"}]
[{"$error":"#N/A"},{"$error":"#N/A"},{"$error":"#N/A"},{"$error":"#N/A"}]
[{"$error":"#N/A"},{"$error":"#N/A"},{"$error":"#N/A"},{"$error":"#N/A"}]
[{"$error":"#N/A"},{"$error":"#N/A"},{"$error":"#N/A"},{"$error":"#N/A"}]
[{"$error":"#N/A"},{"$error":"#N/A"},{"$error":"#N/A"},{"$error":"#N/A"}]
[{"$error":"#N/A"},{"$error":"#N/A"},{"$error":"#N/A"},{"$error":"#N/A"}]
[{"$error":"#N/A"},{"$error":"#N/A"},{"$error":"#N/A"},{"$error":"#N/A"}]
[{"$error":"#N/A"},{"$error":"#N/A"},{"$error":"#N/A"},{"$error":"#N/A"}]
[{"$error":"#N/A"},{"$error":"#N/A"},{"$error":"#N/A"},{"$error":"#N/A"}]
[{"$error":"#N/A"},{"$error":"#N/A"},{"$error":"#N/A"},{"$error":"#N/A"}]
[{"$error":"#N/A"},{"$error":"#N/A"},{"$error":"#N/A"},{"$error":"#N/A"}]
[{"$error":"#N/A"},{"$error":"#N/A"},{"$error":"#N/A"},{"$error":"#N/A"}]
[{"$error":"#N/A"},{"$error":"#N/A"},{"$error":"#N/A"},{"$error":"#N/A"}]
[{"$error":"#N/A"},{"$error":"#N/A"},{"$error":"#N/A"},{"$error":"#N/A"}]
[{"$error":"#N/A"},{"$error":"#N/A"},{"$error":"#N/A"},{"$error":"#N/A"}]
[{"$error":"#N/A"},{"$error":"#N/A"},{"$error":"#N/A"},{"$error":"#N/A"}]
[{"$error":"#N/A"},{"$error":"#N/A"},{"$error":"#N/A"},{"$error":"#N/A"}]
[{"$error":"#N/A"},{"$error":"#N/A"},{"$error":"#N/A"},{"$error":"#N/A"}]
[{"$error":"#N/A"},{"$error":"#N/A"},{"$error":"#N/A"},{"$error":"#N/A"}]
[{"$error":"#N/A"},{"$error":"#N/A"},{"$error":"#N/A"},{"$error":"#N/A"}]
[{"$error":"#N/A"},{"$error":"#N/A"},{"$error":"#N/A"},{"$error":"#N/A"}]
[{"$error":"#N/A"},{"$error":"#N/A"},{"$error":"#N/A"},{"$error":"#N/A"}]
[{"$error":"#N/A"},{"$error":"#N/A"},{"$error":"#N/A"},{"$error":"#N/A"}]
[{"$error":"#N/A"},{"$error":"#N/A"},{"$error":"#N/A"},{"$error":"#N/A"}]
[{"$error":"#N/A"},{"$error":"#N/A"},{"$error":"#N/A"},{"$error":"#N/A"}]
[{"$error":"#N/A"},{"$error":"#N/A"},{"$error":"#N/A"},{"$error":"#N/A"}]
[{"$error":"#N/A"},{"$error":"#N/A"},{"$error":"#N/A"},{"$error":"#N/A"}]
[{"$error":"#N/A"},{"$error":"#N/A"},{"$error":"#N/A"},{"$error":"#N/A"}]
[{"$error":"#N/A"},{"$error":"#N/A"},{"$error":"#N/A"},{"$error":"#N/A"}]
[{"$error":"#N/A"},{"$error":"#N/A"},{"$error":"#N/A"},{"$error":"#N/A"}]
[{"$error":"#N/A"},{"$error":"#N/A"},{"$error":"#N/A"},{"$error":"#N/A"}]
[{"$error":"#N/A"},{"$error":"#N/A"},{"$error":"#N/A"},{"$error":"#N/A"}]
[{"$error":"#N/A"},{"$error":"#N/A"},{"$error":"#N/A"},{"$error":"#N/A"}]
[{"$error":"#N/A"},{"$error":"#N/A"},{"$error":"#N/A"},{"$error":"#N/A"}]
[{"$error":"#N/A"},{"$error":"#N/A"},{"$error":"#N/A"},{"$error":"#N/A"}]
[{"$error":"#N/A"},{"$error":"#N/A"},{"$error":"#N/A"},{"$error":"#N/A"}]
[{"$error":"#N/A"},{"$error":"#N/A"},{"$error":"#N/A"},{"$error":"#N/A"}]
[{"$error":"#N/A"},{"$error":"#N/A"},{"$error":"#N/A"},{"$error":"#N/A"}]
[{"$error":"#N/A"},{"$error":"#N/A"},{"$error":"#N/A"},{"$error":"#N/A"}]
[{"$error":"#N/A"},{"$error":"#N/A"},{"$error":"#N/A"},{"$error":"#N/A"}]
[{"$error":"#N/A"},{"$error":"#N/A"},{"$error":"#N/A"},{"$error":"#N/A"}]
[{"$error":"#N/A"},{"$error":"#N/A"},{"$error":"#N/A"},{"$error":"#N/A"}]
[{"$error":"#N/A"},{"$error":"#N/A"},{"$error":"#N/A"},{"$error":"#N/A"}]
[{"$error":"#N/A"},{"$error":"#N/A"},{"$error":"#N/A"},{"$error":"#N/A"}]
[{"$error":"#N/A"},{"$error":"#N/A"},{"$error":"#N/A"},{"$error":"#N/A"}]
[{"$error":"#N/A"},{"$error":"#N/A"},{"$error":"#N/A"},{"$error":"#N/A"}]
[{"$error":"#N/A"},{"$error":"#N/A"},{"$error":"#N/A"},{"$error":"#N/A"}]
[{"$error":"#N/A"},{"$error":"#N/A"},{"$error":"#N/A"},{"$error":"#N/A"}]
[{"$error":"#N/A"},{"$error":"#N/A"},{"$error":"#N/A"},{"$error":"#N/A"}]
[{"$error":"#N/A"},{"$error":"#N/A"},{"$error":"#N/A"},{"$error":"#N/A"}]
[{"$error":"#N/A"},{"$error":"#N/A"},{"$error":"#N/A"},{"$error":"#N/A"}]
[{"$error":"#N/A"},{"$error":"#N/A"},{"$error":"#N/A"},{"$error":"#N/A"}]
[{"$error":"#N/A"},{"$error":"#N/A"},{"$error":"#N/A"},{"$error":"#N/A"}]
[{"$error":"#N/A"},{"$error":"#N/A"},{"$error":"#N/A"},{"$error":"#N/A"}]
[{"$error":"#N/A"},{"$error":"#N/A"},{"$error":"#N/A"},{"$error":"#N/A"}]
[{"$error":"#N/A"},{"$error":"#N/A"},{"$error":"#N/A"},{"$error":"#N/A"}]
[{"$error":"#N/A"},{"$error":"#N/A"},{"$error":"#N/A"},{"$error":"#N/A"}]
[{"$error":"#N/A"},{"$error":"#N/A"},{"$error":"#N/A"},{"$error":"#N/A"}]
[{"$error":"#N/A"},{"$error":"#N/A"},{"$error":"#N/A"},{"$error":"#N/A"}]
[{"$error":"#N/A"},{"$error":"#N/A"},{"$error":"#N/A"},{"$error":"#N/A"}]
[{"$error":"#N/A"},{"$error":"#N/A"},{"$error":"#N/A"},{"$error":"#N/A"}]
[{"$error":"#N/A"},{"$error":"#N/A"},{"$error":"#N/A"},{"$error":"#N/A"}]
[{"$error":"#N/A"},{"$error":"#N/A"},{"$error":"#N/A"},{"$error":"#N/A"}]
[{"$error":"#N/A"},{"$error":"#N/A"},{"$error":"#N/A"},{"$error":"#N/A"}]
[{"$error":"#N/A"},{"$error":"#N/A"},{"$error":"#N/A"},{"$error":"#N/A"}]
[{"$error":"#N/A"},{"$error":"#N/A"},{"$error":"#N/A"},{"$error":"#N/A"}]
[{"$error":"#N/A"},{"$error":"#N/A"},{"$error":"#N/A"},{"$error":"#N/A"}]
[{"$error":"#N/A"},{"$error":"#N/A"},{"$error":"#N/A"},{"$error":"#N/A"}]
[{"$error":"#N/A"},{"$error":"#N/A"},{"$error":"#N/A"},{"$error":"#N/A"}]
[{"$error":"#N/A"},{"$error":"#N/A"},{"$error":"#N/A"},{"$error":"#N/A"}]
[{"$error":"#N/A"},{"$error":"#N/A"},{"$error":"#N/A"},{"$error":"#N/A"}]
[{"$error":"#N/A"},{"$error":"#N/A"},{"$error":"#N/A"},{"$error":"#N/A"}]
[{"$error":"#N/A"},{"$error":"#N/A"},{"$error":"#N/A"},{"$error":"#N/A"}]
[{"$error":"#N/A"},{"$error":"#N/A"},{"$error":"#N/A"},{"$error":"#N/A"}]
[{"$error":"#N/A"},{"$error":"#N/A"},{"$error":"#N/A"},{"$error":"#N/A"}]
[{"$error":"#N/A"},{"$error":"#N/A"},{"$error":"#N/A"},{"$error":"#N/A"}]
[{"$error":"#N/A"},{"$error":"#N/A"},{"$error":"#N/A"},{"$error":"#N/A"}]
[{"$error":"#N/A"},{"$error":"#N/A"},{"$error":"#N/A"},{"$error":"#N/A"}]
[{"$error":"#N/A"},{"$error":"#N/A"},{"$error":"#N/A"},{"$error":"#N/A"}]
[{"$error":"#N/A"},{"$error":"#N/A"},{"$error":"#N/A"},{"$error":"#N/A"}]
[{"$error":"#N/A"},{"$error":"#N/A"},{"$error":"#N/A"},{"$error":"#N/A"}]
[{"$error":"#N/A"},{"$error":"#N/A"},{"$error":"#N/A"},{"$error":"#N/A"}]
[{"$error":"#N/A"},{"$error":"#N/A"},{"$error":"#N/A"},{"$error":"#N/A"}]
[{"$error":"#N/A"},{"$error":"#N/A"},{"$error":"#N/A"},{"$error":"#N/A"}]
[{"$error":"#N/A"},{"$error":"#N/A"},{"$error":"#N/A"},{"$error":"#N/A"}]
[{"$error":"#N/A"},{"$error":"#N/A"},{"$error":"#N/A"},{"$error":"#N/A"}]
[{"$error":"#N/A"},{"$error":"#N/A"},{"$error":"#N/A"},{"$error":"#N/A"}]
[{"$error":"#N/A"},{"$error":"#N/A"},{"$error":"#N/A"},{"$error":"#N/A"}]
[{"$error":"#N/A"},{"$error":"#N/A"},{"$error":"#N/A"},{"$error":"#N/A"}]
[{"$error":"#N/A"},{"$error":"#N/A"},{"$error":"#N/A"},{"$error":"#N/A"}]
[{"$error":"#N/A"},{"$error":"#N/A"},{"$error":"#N/A"},{"$error":"#N/A"}]
[{"$error":"#N/A"},{"$error":"#N/A"},{"$error":"#N/A"},{"$error":"#N/A"}]
[{"$error":"#N/A"},{"$error":"#N/A"},{"$error":"#N/A"},{"$error":"#N/A"}]
[{"$error":"#N/A"},{"$error":"#N/A"},{"$error":"#N/A"},{"$error":"#N/A"}]
[{"$error":"#N/A"},{"$error":"#N/A"},{"$error":"#N/A"},{"$error":"#N/A"}]
[{"$error":"#N/A"},{"$error":"#N/A"},{"$error":"#N/A"},{"$error":"#N/A"}]
[{"$error":"#N/A"},{"$error":"#N/A"},{"$error":"#N/A"},{"$error":"#N/A"}]
[{"$error":"#N/A"},{"$error":"#N/A"},{"$error":"#N/A"},{"$error":"#N/A"}]
[{"$error":"#N/A"},{"$error":"#N/A"},{"$error":"#N/A"},{"$error":"#N/A"}]
[{"$error":"#N/A"},{"$error":"#N/A"},{"$error":"#N/A"},{"$error":"#N/A"}]
[{"$error":"#N/A"},{"$error":"#N/A"},{"$error":"#N/A"},{"$error":"#N/A"}]
[{"$error":"#N/A"},{"$error":"#N/A"},{"$error":"#N/A"},{"$error":"#N/A"}]
[{"$error":"#N/A"},{"$error":"#N/A"},{"$error":"#N/A"},{"$error":"#N/A"}]
[{"$error":"#N/A"},{"$error":"#N/A"},{"$error":"#N/A"},{"$error":"#N/A"}]
[{"$error":"#N/A"},{"$error":"#N/A"},{"$error":"#N/A"},{"$error":"#N/A"}]
[{"$error":"#N/A"},{"$error":"#N/A"},{"$error":"#N/A"},{"$error":"#N/A"}]
[{"$error":"#N/A"},{"$error":"#N/A"},{"$error":"#N/A"},{"$error":"#N/A"}]
[{"$error":"#N/A"},{"$error":"#N/A"},{"$error":"#N/A"},{"$error":"#N/A"}]
[{"$error":"#N/A"},{"$error":"#N/A"},{"$error":"#N/A"},{"$error":"#N/A"}]
[{"$error":"#N/A"},{"$error":"#N/A"},{"$error":"#N/A"},{"$error":"#N/A"}]
[{"$error":"#N/A"},{"$error":"#N/A"},{"$error":"#N/A"},{"$error":"#N/A"}]
[{"$error":"#N/A"},{"$error":"#N/A"},{"$error":"#N/A"},{"$error":"#N/A"}]
[{"$error":"#N/A"},{"$error":"#N/A"},{"$error":"#N/A"},{"$error":"#N/A"}]
[{"$error":"#N/A"},{"$error":"#N/A"},{"$error":"#N/A"},{"$error":"#N/A"}]
[{"$error":"#N/A"},{"$error":"#N/A"},{"$error":"#N/A"},{"$error":"#N/A"}]
[{"$error":"#N/A"},{"$error":"#N/A"},{"$error":"#N/A"},{"$error":"#N/A"}]
[{"$error":"#N/A"},{"$error":"#N/A"},{"$error":"#N/A"},{"$error":"#N/A"}]
[{"$error":"#N/A"},{"$error":"#N/A"},{"$error":"#N/A"},{"$error":"#N/A"}]
[{"$error":"#N/A"},{"$error":"#N/A"},{"$error":"#N/A"},{"$error":"#N/A"}]
[{"$error":"#N/A"},{"$error":"#N/A"},{"$error":"#N/A"},{"$error":"#N/A"}]
[{"$error":"#N/A"},{"$error":"#N/A"},{"$error":"#N/A"},{"$error":"#N/A"}]
[{"$error":"#N/A"},{"$error":"#N/A"},{"$error":"#N/A"},{"$error":"#N/A"}]
[{"$error":"#N/A"},{"$error":"#N/A"},{"$error":"#N/A"},{"$error":"#N/A"}]
[{"$error":"#N/A"},{"$error":"#N/A"},{"$error":"#N/A"},{"$error":"#N/A"}]
[{"$error":"#N/A"},{"$error":"#N/A"},{"$error":"#N/A"},{"$error":"#N/A"}]
[{"$error":"#N/A"},{"$error":"#N/A"},{"$error":"#N/A"},{"$error":"#N/A"}]
[{"$error":"#N/A"},{"$error":"#N/A"},{"$error":"#N/A"},{"$error":"#N/A"}]
[{"$error":"#N/A"},{"$error":"#N/A"},{"$error":"#N/A"},{"$error":"#N/A"}]
[{"$error":"#N/A"},{"$error":"#N/A"},{"$error":"#N/A"},{"$error":"#N/A"}]
[{"$error":"#N/A"},{"$error":"#N/A"},{"$error":"#N/A"},{"$error":"#N/A"}]
[{"$error":"#N/A"},{"$error":"#N/A"},{"$error":"#N/A"},{"$error":"#N/A"}]
[{"$error":"#N/A"},{"$error":"#N/A"},{"$error":"#N/A"},{"$error":"#N/A"}]
[{"$error":"#N/A"},{"$error":"#N/A"},{"$error":"#N/A"},{"$error":"#N/A"}]
[{"$error":"#N/A"},{"$error":"#N/A"},{"$error":"#N/A"},{"$error":"#N/A"}]
[{"$error":"#N/A"},{"$error":"#N/A"},{"$error":"#N/A"},{"$error":"#N/A"}]
[{"$error":"#N/A"},{"$error":"#N/A"},{"$error":"#N/A"},{"$error":"#N/A"}]
[{"$error":"#N/A"},{"$error":"#N/A"},{"$error":"#N/A"},{"$error":"#N/A"}]
[{"$error":"#N/A"},{"$error":"#N/A"},{"$error":"#N/A"},{"$error":"#N/A"}]
[{"$error":"#N/A"},{"$error":"#N/A"},{"$error":"#N/A"},{"$error":"#N/A"}]
[{"$error":"#N/A"},{"$error":"#N/A"},{"$error":"#N/A"},{"$error":"#N/A"}]
[{"$error":"#N/A"},{"$error":"#N/A"},{"$error":"#N/A"},{"$error":"#N/A"}]
[{"$error":"#N/A"},{"$error":"#N/A"},{"$error":"#N/A"},{"$error":"#N/A"}]
[{"$error":"#N/A"},{"$error":"#N/A"},{"$error":"#N/A"},{"$error":"#N/A"}]
[{"$error":"#N/A"},{"$error":"#N/A"},{"$error":"#N/A"},{"$error":"#N/A"}]
[{"$error":"#N/A"},{"$error":"#N/A"},{"$error":"#N/A"},{"$error":"#N/A"}]
[{"$error":"#N/A"},{"$error":"#N/A"},{"$error":"#N/A"},{"$error":"#N/A"}]
[{"$error":"#N/A"},{"$error":"#N/A"},{"$error":"#N/A"},{"$error":"#N/A"}]
[{"$error":"#N/A"},{"$error":"#N/A"},{"$error":"#N/A"},{"$error":"#N/A"}]
[{"$error":"#N/A"},{"$error":"#N/A"},{"$error":"#N/A"},{"$error":"#N/A"}]
[{"$error":"#N/A"},{"$error":"#N/A"},{"$error":"#N/A"},{"$error":"#N/A"}]
[{"$error":"#N/A"},{"$error":"#N/A"},{"$error":"#N/A"},{"$error":"#N/A"}]
[{"$error":"#N/A"},{"$error":"#N/A"},{"$error":"#N/A"},{"$error":"#N/A"}]
[{"$error":"#N/A"},{"$error":"#N/A"},{"$error":"#N/A"},{"$error":"#N/A"}]
[{"$error":"#N/A"},{"$error":"#N/A"},{"$error":"#N/A"},{"$error":"#N/A"}]
[{"$error":"#N/A"},{"$error":"#N/A"},{"$error":"#N/A"},{"$error":"#N/A"}]
[{"$error":"#N/A"},{"$error":"#N/A"},{"$error":"#N/A"},{"$error":"#N/A"}]
[{"$error":"#N/A"},{"$error":"#N/A"},{"$error":"#N/A"},{"$error":"#N/A"}]
[{"$error":"#N/A"},{"$error":"#N/A"},{"$error":"#N/A"},{"$error":"#N/A"}]
[{"$error":"#N/A"},{"$error":"#N/A"},{"$error":"#N/A"},{"$error":"#N/A"}]
[{"$error":"#N/A"},{"$error":"#N/A"},{"$error":"#N/A"},{"$error":"#N/A"}]
[{"$error":"#N/A"},{"$error":"#N/A"},{"$error":"#N/A"},{"$error":"#N/A"}]
[{"$error":"#N/A"},{"$error":"#N/A"},{"$error":"#N/A"},{"$error":"#N/A"}]
[{"$error":"#N/A"},{"$error":"#N/A"},{"$error":"#N/A"},{"$error":"#N/A"}]
[{"$error":"#N/A"},{"$error":"#N/A"},{"$error":"#N/A"},{"$error":"#N/A"}]
[{"$error":"#N/A"},{"$error":"#N/A"},{"$error":"#N/A"},{"$error":"#N/A"}]
[{"$error":"#N/A"},{"$error":"#N/A"},{"$error":"#N/A"},{"$error":"#N/A"}]
[{"$error":"#N/A"},{"$error":"#N/A"},{"$error":"#N/A"},{"$error":"#N/A"}]
[{"$error":"#N/A"},{"$error":"#N/A"},{"$error":"#N/A"},{"$error":"#N/A"}]
[{"$error":"#N/A"},{"$error":"#N/A"},{"$error":"#N/A"},{"$error":"#N/A"}]
[{"$error":"#N/A"},{"$error":"#N/A"},{"$error":"#N/A"},{"$error":"#N/A"}]
[{"$error":"#N/A"},{"$error":"#N/A"},{"$error":"#N/A"},{"$error":"#N/A"}]
[{"$error":"#N/A"},{"$error":"#N/A"},{"$error":"#N/A"},{"$error":"#N/A"}]
[{"$error":"#N/A"},{"$error":"#N/A"},{"$error":"#N/A"},{"$error":"#N/A"}]
[{"$error":"#N/A"},{"$error":"#N/A"},{"$error":"#N/A"},{"$error":"#N/A"}]
[{"$error":"#N/A"},{"$error":"#N/A"},{"$error":"#N/A"},{"$error":"#N/A"}]
[{"$error":"#N/A"},{"$error":"#N/A"},{"$error":"#N/A"},{"$error":"#N/A"}]
[{"$error":"#N/A"},{"$error":"#N/A"},{"$error":"#N/A"},{"$error":"#N/A"}]
[{"$error":"#N/A"},{"$error":"#N/A"},{"$error":"#N/A"},{"$error":"#N/A"}]
[{"$error":"#N/A"},{"$error":"#N/A"},{"$error":"#N/A"},{"$error":"#N/A"}]
[{"$error":"#N/A"},{"$error":"#N/A"},{"$error":"#N/A"},{"$error":"#N/A"}]
[{"$error":"#N/A"},{"$error":"#N/A"},{"$error":"#N/A"},{"$error":"#N/A"}]
[{"$error":"#N/A"},{"$error":"#N/A"},{"$error":"#N/A"},{"$error":"#N/A"}]
[{"$error":"#N/A"},{"$error":"#N/A"},{"$error":"#N/A"},{"$error":"#N/A"}]
[{"$error":"#N/A"},{"$error":"#N/A"},{"$error":"#N/A"},{"$error":"#N/A"}]
[{"$error":"#N/A"},{"$error":"#N/A"},{"$error":"#N/A"},{"$error":"#N/A"}]
[{"$error":"#N/A"},{"$error":"#N/A"},{"$error":"#N/A"},{"$error":"#N/A"}]
[{"$error":"#N/A"},{"$error":"#N/A"},{"$error":"#N/A"},{"$error":"#N/A"}]
[{"$error":"#N/A"},{"$error":"#N/A"},{"$error":"#N/A"},{"$error":"#N/A"}]
[{"$error":"#N/A"},{"$error":"#N/A"},{"$error":"#N/A"},{"$error":"#N/A"}]
[{"$error":"#N/A"},{"$error":"#N/A"},{"$error":"#N/A"},{"$error":"#N/A"}]
[{"$error":"#N/A"},{"$error":"#N/A"},{"$error":"#N/A"},{"$error":"#N/A"}]
[{"$error":"#N/A"},{"$error":"#N/A"},{"$error":"#N/A"},{"$error":"#N/A"}]
[{"$error":"#N/A"},{"$error":"#N/A"},{"$error":"#N/A"},{"$error":"#N/A"}]
[{"$error":"#N/A"},{"$error":"#N/A"},{"$error":"#N/A"},{"$error":"#N/A"}]
[{"$error":"#N/A"},{"$error":"#N/A"},{"$error":"#N/A"},{"$error":"#N/A"}]
[{"$error":"#N/A"},{"$error":"#N/A"},{"$error":"#N/A"},{"$error":"#N/A"}]
[{"$error":"#N/A"},{"$error":"#N/A"},{"$error":"#N/A"},{"$error":"#N/A"}]
[{"$error":"#N/A"},{"$error":"#N/A"},{"$error":"#N/A"},{"$error":"#N/A"}]
[{"$error":"#N/A"},{"$error":"#N/A"},{"$error":"#N/A"},{"$error":"#N/A"}]
[{"$error":"#N/A"},{"$error":"#N/A"},{"$error":"#N/A"},{"$error":"#N/A"}]
[{"$error":"#N/A"},{"$error":"#N/A"},{"$error":"#N/A"},{"$error":"#N/A"}]
[{"$error":"#N/A"},{"$error":"#N/A"},{"$error":"#N/A"},{"$error":"#N/A"}]
[{"$error":"#N/A"},{"$error":"#N/A"},{"$error":"#N/A"},{"$error":"#N/A"}]
[{"$error":"#N/A"},{"$error":"#N/A"},{"$error":"#N/A"},{"$error":"#N/A"}]
[{"$error":"#N/A"},{"$error":"#N/A"},{"$error":"#N/A"},{"$error":"#N/A"}]
[{"$error":"#N/A"},{"$error":"#N/A"},{"$error":"#N/A"},{"$error":"#N/A"}]
[{"$error":"#N/A"},{"$error":"#N/A"},{"$error":"#N/A"},{"$error":"#N/A"}]
[{"$error":"#N/A"},{"$error":"#N/A"},{"$error":"#N/A"},{"$error":"#N/A"}]
[{"$error":"#N/A"},{"$error":"#N/A"},{"$error":"#N/A"},{"$error":"#N/A"}]
[{"$error":"#N/A"},{"$error":"#N/A"},{"$error":"#N/A"},{"$error":"#N/A"}]
[{"$error":"#N/A"},{"$error":"#N/A"},{"$error":"#N/A"},{"$error":"#N/A"}]
[{"$error":"#N/A"},{"$error":"#N/A"},{"$error":"#N/A"},{"$error":"#N/A"}]
[{"$error":"#N/A"},{"$error":"#N/A"},{"$error":"#N/A"},{"$error":"#N/A"}]
[{"$error":"#N/A"},{"$error":"#N/A"},{"$error":"#N/A"},{"$error":"#N/A"}]
[{"$error":"#N/A"},{"$error":"#N/A"},{"$error":"#N/A"},{"$error":"#N/A"}]
[{"$error":"#N/A"},{"$error":"#N/A"},{"$error":"#N/A"},{"$error":"#N/A"}]
[{"$error":"#N/A"},{"$error":"#N/A"},{"$error":"#N/A"},{"$error":"#N/A"}]
[{"$error":"#N/A"},{"$error":"#N/A"},{"$error":"#N/A"},{"$error":"#N/A"}]
[{"$error":"#N/A"},{"$error":"#N/A"},{"$error":"#N/A"},{"$error":"#N/A"}]
[{"$error":"#N/A"},{"$error":"#N/A"},{"$error":"#N/A"},{"$error":"#N/A"}]
[{"$error":"#N/A"},{"$error":"#N/A"},{"$error":"#N/A"},{"$error":"#N/A"}]
[{"$error":"#N/A"},{"$error":"#N/A"},{"$error":"#N/A"},{"$error":"#N/A"}]
[{"$error":"#N/A"},{"$error":"#N/A"},{"$error":"#N/A"},{"$error":"#N/A"}]
[{"$error":"#N/A"},{"$error":"#N/A"},{"$error":"#N/A"},{"$error":"#N/A"}]
[{"$error":"#N/A"},{"$error":"#N/A"},{"$error":"#N/A"},{"$error":"#N/A"}]
[{"$error":"#N/A"},{"$error":"#N/A"},{"$error":"#N/A"},{"$error":"#N/A"}]
[{"$error":"#N/A"},{"$error":"#N/A"},{"$error":"#N/A"},{"$error":"#N/A"}]
[{"$error":"#N/A"},{"$error":"#N/A"},{"$error":"#N/A"},{"$error":"#N/A"}]
[{"$error":"#N/A"},{"$error":"#N/A"},{"$error":"#N/A"},{"$error":"#N/A"}]
[{"$error":"#N/A"},{"$error":"#N/A"},{"$error":"#N/A"},{"$error":"#N/A"}]
[{"$error":"#N/A"},{"$error":"#N/A"},{"$error":"#N/A"},{"$error":"#N/A"}]
[{"$error":"#N/A"},{"$error":"#N/A"},{"$error":"#N/A"},{"$error":"#N/A"}]
[{"$error":"#N/A"},{"$error":"#N/A"},{"$error":"#N/A"},{"$error":"#N/A"}]
[{"$error":"#N/A"},{"$error":"#N/A"},{"$error":"#N/A"},{"$error":"#N/A"}]
[{"$error":"#N/A"},{"$error":"#N/A"},{"$error":"#N/A"},{"$error":"#N/A"}]
[{"$error":"#N/A"},{"$error":"#N/A"},{"$error":"#N/A"},{"$error":"#N/A"}]
[{"$error":"#N/A"},{"$error":"#N/A"},{"$error":"#N/A"},{"$error":"#N/A"}]
[{"$error":"#N/A"},{"$error":"#N/A"},{"$error":"#N/A"},{"$error":"#N/A"}]
[{"$error":"#N/A"},{"$error":"#N/A"},{"$error":"#N/A"},{"$error":"#N/A"}]
[{"$error":"#N/A"},{"$error":"#N/A"},{"$error":"#N/A"},{"$error":"#N/A"}]
[{"$error":"#N/A"},{"$error":"#N/A"},{"$error":"#N/A"},{"$error":"#N/A"}]
[{"$error":"#N/A"},{"$error":"#N/A"},{"$error":"#N/A"},{"$error":"#N/A"}]
[{"$error":"#N/A"},{"$error":"#N/A"},{"$error":"#N/A"},{"$error":"#N/A"}]
[{"$error":"#N/A"},{"$error":"#N/A"},{"$error":"#N/A"},{"$error":"#N/A"}]
[{"$error":"#N/A"},{"$error":"#N/A"},{"$error":"#N/A"},{"$error":"#N/A"}]
[{"$error":"#N/A"},{"$error":"#N/A"},{"$error":"#N/A"},{"$error":"#N/A"}]
[{"$error":"#N/A"},{"$error":"#N/A"},{"$error":"#N/A"},{"$error":"#N/A"}]
[{"$error":"#N/A"},{"$error":"#N/A"},{"$error":"#N/A"},{"$error":"#N/A"}]
[{"$error":"#N/A"},{"$error":"#N/A"},{"$error":"#N/A"},{"$error":"#N/A"}]
[{"$error":"#N/A"},{"$error":"#N/A"},{"$error":"#N/A"},{"$error":"#N/A"}]
[{"$error":"#N/A"},{"$error":"#N/A"},{"$error":"#N/A"},{"$error":"#N/A"}]
[{"$error":"#N/A"},{"$error":"#N/A"},{"$error":"#N/A"},{"$error":"#N/A"}]
[{"$error":"#N/A"},{"$error":"#N/A"},{"$error":"#N/A"},{"$error":"#N/A"}]
[{"$error":"#N/A"},{"$error":"#N/A"},{"$error":"#N/A"},{"$error":"#N/A"}]
[{"$error":"#N/A"},{"$error":"#N/A"},{"$error":"#N/A"},{"$error":"#N/A"}]
[{"$error":"#N/A"},{"$error":"#N/A"},{"$error":"#N/A"},{"$error":"#N/A"}]
[{"$error":"#N/A"},{"$error":"#N/A"},{"$error":"#N/A"},{"$error":"#N/A"}]
[{"$error":"#N/A"},{"$error":"#N/A"},{"$error":"#N/A"},{"$error":"#N/A"}]
[{"$error":"#N/A"},{"$error":"#N/A"},{"$error":"#N/A"},{"$error":"#N/A"}]
[{"$error":"#N/A"},{"$error":"#N/A"},{"$error":"#N/A"},{"$error":"#N/A"}]
[{"$error":"#N/A"},{"$error":"#N/A"},{"$error":"#N/A"},{"$error":"#N/A"}]
[{"$error":"#N/A"},{"$error":"#N/A"},{"$error":"#N/A"},{"$error":"#N/A"}]
[{"$error":"#N/A"},{"$error":"#N/A"},{"$error":"#N/A"},{"$error":"#N/A"}]
[{"$error":"#N/A"},{"$error":"#N/A"},{"$error":"#N/A"},{"$error":"#N/A"}]
[{"$error":"#N/A"},{"$error":"#N/A"},{"$error":"#N/A"},{"$error":"#N/A"}]
[{"$error":"#N/A"},{"$error":"#N/A"},{"$error":"#N/A"},{"$error":"#N/A"}]
[{"$error":"#N/A"},{"$error":"#N/A"},{"$error":"#N/A"},{"$error":"#N/A"}]
[{"$error":"#N/A"},{"$error":"#N/A"},{"$error":"#N/A"},{"$error":"#N/A"}]
[{"$error":"#N/A"},{"$error":"#N/A"},{"$error":"#N/A"},{"$error":"#N/A"}]
[{"$error":"#N/A"},{"$error":"#N/A"},{"$error":"#N/A"},{"$error":"#N/A"}]
[{"$error":"#N/A"},{"$error":"#N/A"},{"$error":"#N/A"},{"$error":"#N/A"}]
[{"$error":"#N/A"},{"$error":"#N/A"},{"$error":"#N/A"},{"$error":"#N/A"}]
[{"$error":"#N/A"},{"$error":"#N/A"},{"$error":"#N/A"},{"$error":"#N/A"}]
[{"$error":"#N/A"},{"$error":"#N/A"},{"$error":"#N/A"},{"$error":"#N/A"}]
[{"$error":"#N/A"},{"$error":"#N/A"},{"$error":"#N/A"},{"$error":"#N/A"}]
[{"$error":"#N/A"},{"$error":"#N/A"},{"$error":"#N/A"},{"$error":"#N/A"}]
[{"$error":"#N/A"},{"$error":"#N/A"},{"$error":"#N/A"},{"$error":"#N/A"}]
[{"$error":"#N/A"},{"$error":"#N/A"},{"$error":"#N/A"},{"$error":"#N/A"}]
[{"$error":"#N/A"},{"$error":"#N/A"},{"$error":"#N/A"},{"$error":"#N/A"}]
[{"$error":"#N/A"},{"$error":"#N/A"},{"$error":"#N/A"},{"$error":"#N/A"}]
[{"$error":"#N/A"},{"$error":"#N/A"},{"$error":"#N/A"},{"$error":"#N/A"}]
[{"$error":"#N/A"},{"$error":"#N/A"},{"$error":"#N/A"},{"$error":"#N/A"}]
[{"$error":"#N/A"},{"$error":"#N/A"},{"$error":"#N/A"},{"$error":"#N/A"}]
[{"$error":"#N/A"},{"$error":"#N/A"},{"$error":"#N/A"},{"$error":"#N/A"}]
[{"$error":"#N/A"},{"$error":"#N/A"},{"$error":"#N/A"},{"$error":"#N/A"}]
[{"$error":"#N/A"},{"$error":"#N/A"},{"$error":"#N/A"},{"$error":"#N/A"}]
[{"$error":"#N/A"},{"$error":"#N/A"},{"$error":"#N/A"},{"$error":"#N/A"}]
[{"$error":"#N/A"},{"$error":"#N/A"},{"$error":"#N/A"},{"$error":"#N/A"}]
[{"$error":"#N/A"},{"$error":"#N/A"},{"$error":"#N/A"},{"$error":"#N/A"}]
[{"$error":"#N/A"},{"$error":"#N/A"},{"$error":"#N/A"},{"$error":"#N/A"}]
[{"$error":"#N/A"},{"$error":"#N/A"},{"$error":"#N/A"},{"$error":"#N/A"}]
[{"$error":"#N/A"},{"$error":"#N/A"},{"$error":"#N/A"},{"$error":"#N/A"}]
[{"$error":"#N/A"},{"$error":"#N/A"},{"$error":"#N/A"},{"$error":"#N/A"}]
[{"$error":"#N/A"},{"$error":"#N/A"},{"$error":"#N/A"},{"$error":"#N/A"}]
[{"$error":"#N/A"},{"$error":"#N/A"},{"$error":"#N/A"},{"$error":"#N/A"}]
[{"$error":"#N/A"},{"$error":"#N/A"},{"$error":"#N/A"},{"$error":"#N/A"}]
[{"$error":"#N/A"},{"$error":"#N/A"},{"$error":"#N/A"},{"$error":"#N/A"}]
[{"$error":"#N/A"},{"$error":"#N/A"},{"$error":"#N/A"},{"$error":"#N/A"}]
[{"$error":"#N/A"},{"$error":"#N/A"},{"$error":"#N/A"},{"$error":"#N/A"}]
[{"$error":"#N/A"},{"$error":"#N/A"},{"$error":"#N/A"},{"$error":"#N/A"}]
[{"$error":"#N/A"},{"$error":"#N/A"},{"$error":"#N/A"},{"$error":"#N/A"}]
[{"$error":"#N/A"},{"$error":"#N/A"},{"$error":"#N/A"},{"$error":"#N/A"}]
[{"$error":"#N/A"},{"$error":"#N/A"},{"$error":"#N/A"},{"$error":"#N/A"}]
[{"$error":"#N/A"},{"$error":"#N/A"},{"$error":"#N/A"},{"$error":"#N/A"}]
[{"$error":"#N/A"},{"$error":"#N/A"},{"$error":"#N/A"},{"$error":"#N/A"}]
[{"$error":"#N/A"},{"$error":"#N/A"},{"$error":"#N/A"},{"$error":"#N/A"}]
[{"$error":"#N/A"},{"$error":"#N/A"},{"$error":"#N/A"},{"$error":"#N/A"}]
[{"$error":"#N/A"},{"$error":"#N/A"},{"$error":"#N/A"},{"$error":"#N/A"}]
[{"$error":"#N/A"},{"$error":"#N/A"},{"$error":"#N/A"},{"$error":"#N/A"}]
[{"$error":"#N/A"},{"$error":"#N/A"},{"$error":"#N/A"},{"$error":"#N/A"}]
[{"$error":"#N/A"},{"$error":"#N/A"},{"$error":"#N/A"},{"$error":"#N/A"}]
[{"$error":"#N/A"},{"$error":"#N/A"},{"$error":"#N/A"},{"$error":"#N/A"}]
[{"$error":"#N/A"},{"$error":"#N/A"},{"$error":"#N/A"},{"$error":"#N/A"}]
[{"$error":"#N/A"},{"$error":"#N/A"},{"$error":"#N/A"},{"$error":"#N/A"}]
[{"$error":"#N/A"},{"$error":"#N/A"},{"$error":"#N/A"},{"$error":"#N/A"}]
[{"$error":"#N/A"},{"$error":"#N/A"},{"$error":"#N/A"},{"$error":"#N/A"}]
[{"$error":"#N/A"},{"$error":"#N/A"},{"$error":"#N/A"},{"$error":"#N/A"}]
[{"$error":"#N/A"},{"$error":"#N/A"},{"$error":"#N/A"},{"$error":"#N/A"}]
[{"$error":"#N/A"},{"$error":"#N/A"},{"$error":"#N/A"},{"$error":"#N/A"}]
[{"$error":"#N/A"},{"$error":"#N/A"},{"$error":"#N/A"},{"$error":"#N/A"}]
[{"$error":"#N/A"},{"$error":"#N/A"},{"$error":"#N/A"},{"$error":"#N/A"}]
[{"$error":"#N/A"},{"$error":"#N/A"},{"$error":"#N/A"},{"$error":"#N/A"}]
[{"$error":"#N/A"},{"$error":"#N/A"},{"$error":"#N/A"},{"$error":"#N/A"}]
[{"$error":"#N/A"},{"$error":"#N/A"},{"$error":"#N/A"},{"$error":"#N/A"}]
[{"$error":"#N/A"},{"$error":"#N/A"},{"$error":"#N/A"},{"$error":"#N/A"}]
[{"$error":"#N/A"},{"$error":"#N/A"},{"$error":"#N/A"},{"$error":"#N/A"}]
[{"$error":"#N/A"},{"$error":"#N/A"},{"$error":"#N/A"},{"$error":"#N/A"}]
[{"$error":"#N/A"},{"$error":"#N/A"},{"$error":"#N/A"},{"$error":"#N/A"}]
[{"$error":"#N/A"},{"$error":"#N/A"},{"$error":"#N/A"},{"$error":"#N/A"}]
[{"$error":"#N/A"},{"$error":"#N/A"},{"$error":"#N/A"},{"$error":"#N/A"}]
[{"$error":"#N/A"},{"$error":"#N/A"},{"$error":"#N/A"},{"$error":"#N/A"}]
[{"$error":"#N/A"},{"$error":"#N/A"},{"$error":"#N/A"},{"$error":"#N/A"}]
[{"$error":"#N/A"},{"$error":"#N/A"},{"$error":"#N/A"},{"$error":"#N/A"}]
[{"$error":"#N/A"},{"$error":"#N/A"},{"$error":"#N/A"},{"$error":"#N/A"}]
[{"$error":"#N/A"},{"$error":"#N/A"},{"$error":"#N/A"},{"$error":"#N/A"}]
[{"$error":"#N/A"},{"$error":"#N/A"},{"$error":"#N/A"},{"$error":"#N/A"}]
[{"$error":"#N/A"},{"$error":"#N/A"},{"$error":"#N/A"},{"$error":"#N/A"}]
[{"$error":"#N/A"},{"$error":"#N/A"},{"$error":"#N/A"},{"$error":"#N/A"}]
[{"$error":"#N/A"},{"$error":"#N/A"},{"$error":"#N/A"},{"$error":"#N/A"}]
[{"$error":"#N/A"},{"$error":"#N/A"},{"$error":"#N/A"},{"$error":"#N/A"}]
[{"$error":"#N/A"},{"$error":"#N/A"},{"$error":"#N/A"},{"$error":"#N/A"}]
[{"$error":"#N/A"},{"$error":"#N/A"},{"$error":"#N/A"},{"$error":"#N/A"}]
[{"$error":"#N/A"},{"$error":"#N/A"},{"$error":"#N/A"},{"$error":"#N/A"}]
[{"$error":"#N/A"},{"$error":"#N/A"},{"$error":"#N/A"},{"$error":"#N/A"}]
[{"$error":"#N/A"},{"$error":"#N/A"},{"$error":"#N/A"},{"$error":"#N/A"}]
[{"$error":"#N/A"},{"$error":"#N/A"},{"$error":"#N/A"},{"$error":"#N/A"}]
[{"$error":"#N/A"},{"$error":"#N/A"},{"$error":"#N/A"},{"$error":"#N/A"}]
[{"$error":"#N/A"},{"$error":"#N/A"},{"$error":"#N/A"},{"$error":"#N/A"}]
[{"$error":"#N/A"},{"$error":"#N/A"},{"$error":"#N/A"},{"$error":"#N/A"}]
[{"$error":"#N/A"},{"$error":"#N/A"},{"$error":"#N/A"},{"$error":"#N/A"}]
[{"$error":"#N/A"},{"$error":"#N/A"},{"$error":"#N/A"},{"$error":"#N/A"}]
[{"$error":"#N/A"},{"$error":"#N/A"},{"$error":"#N/A"},{"$error":"#N/A"}]
[{"$error":"#N/A"},{"$error":"#N/A"},{"$error":"#N/A"},{"$error":"#N/A"}]
[{"$error":"#N/A"},{"$error":"#N/A"},{"$error":"#N/A"},{"$error":"#N/A"}]
[{"$error":"#N/A"},{"$error":"#N/A"},{"$error":"#N/A"},{"$error":"#N/A"}]
[{"$error":"#N/A"},{"$error":"#N/A"},{"$error":"#N/A"},{"$error":"#N/A"}]
[{"$error":"#N/A"},{"$error":"#N/A"},{"$error":"#N/A"},{"$error":"#N/A"}]
[{"$error":"#N/A"},{"$error":"#N/A"},{"$error":"#N/A"},{"$error":"#N/A"}]
[{"$error":"#N/A"},{"$error":"#N/A"},{"$error":"#N/A"},{"$error":"#N/A"}]
[{"$error":"#N/A"},{"$error":"#N/A"},{"$error":"#N/A"},{"$error":"#N/A"}]
[{"$error":"#N/A"},{"$error":"#N/A"},{"$error":"#N/A"},{"$error":"#N/A"}]
[{"$error":"#N/A"},{"$error":"#N/A"},{"$error":"#N/A"},{"$error":"#N/A"}]
[{"$error":"#N/A"},{"$error":"#N/A"},{"$error":"#N/A"},{"$error":"#N/A"}]
[{"$error":"#N/A"},{"$error":"#N/A"},{"$error":"#N/A"},{"$error":"#N/A"}]
[{"$error":"#N/A"},{"$error":"#N/A"},{"$error":"#N/A"},{"$error":"#N/A"}]
[{"$error":"#N/A"},{"$error":"#N/A"},{"$error":"#N/A"},{"$error":"#N/A"}]
[{"$error":"#N/A"},{"$error":"#N/A"},{"$error":"#N/A"},{"$error":"#N/A"}]
[{"$error":"#N/A"},{"$error":"#N/A"},{"$error":"#N/A"},{"$error":"#N/A"}]
[{"$error":"#N/A"},{"$error":"#N/A"},{"$error":"#N/A"},{"$error":"#N/A"}]
[{"$error":"#N/A"},{"$error":"#N/A"},{"$error":"#N/A"},{"$error":"#N/A"}]
[{"$error":"#N/A"},{"$error":"#N/A"},{"$error":"#N/A"},{"$error":"#N/A"}]
[{"$error":"#N/A"},{"$error":"#N/A"},{"$error":"#N/A"},{"$error":"#N/A"}]
[{"$error":"#N/A"},{"$error":"#N/A"},{"$error":"#N/A"},{"$error":"#N/A"}]
[{"$error":"#N/A"},{"$error":"#N/A"},{"$error":"#N/A"},{"$error":"#N/A"}]
[{"$error":"#N/A"},{"$error":"#N/A"},{"$error":"#N/A"},{"$error":"#N/A"}]
[{"$error":"#N/A"},{"$error":"#N/A"},{"$error":"#N/A"},{"$error":"#N/A"}]
[{"$error":"#N/A"},{"$error":"#N/A"},{"$error":"#N/A"},{"$error":"#N/A"}]
[{"$error":"#N/A"},{"$error":"#N/A"},{"$error":"#N/A"},{"$error":"#N/A"}]
[{"$error":"#N/A"},{"$error":"#N/A"},{"$error":"#N/A"},{"$error":"#N/A"}]
[{"$error":"#N/A"},{"$error":"#N/A"},{"$error":"#N/A"},{"$error":"#N/A"}]
[{"$error":"#N/A"},{"$error":"#N/A"},{"$error":"#N/A"},{"$error":"#N/A"}]
[{"$error":"#N/A"},{"$error":"#N/A"},{"$error":"#N/A"},{"$error":"#N/A"}]
[{"$error":"#N/A"},{"$error":"#N/A"},{"$error":"#N/A"},{"$error":"#N/A"}]
[{"$error":"#N/A"},{"$error":"#N/A"},{"$error":"#N/A"},{"$error":"#N/A"}]
[{"$error":"#N/A"},{"$error":"#N/A"},{"$error":"#N/A"},{"$error":"#N/A"}]
[{"$error":"#N/A"},{"$error":"#N/A"},{"$error":"#N/A"},{"$error":"#N/A"}]
[{"$error":"#N/A"},{"$error":"#N/A"},{"$error":"#N/A"},{"$error":"#N/A"}]
[{"$error":"#N/A"},{"$error":"#N/A"},{"$error":"#N/A"},{"$error":"#N/A"}]
[{"$error":"#N/A"},{"$error":"#N/A"},{"$error":"#N/A"},{"$error":"#N/A"}]
[{"$error":"#N/A"},{"$error":"#N/A"},{"$error":"#N/A"},{"$error":"#N/A"}]
[{"$error":"#N/A"},{"$error":"#N/A"},{"$error":"#N/A"},{"$error":"#N/A"}]
[{"$error":"#N/A"},{"$error":"#N/A"},{"$error":"#N/A"},{"$error":"#N/A"}]
[{"$error":"#N/A"},{"$error":"#N/A"},{"$error":"#N/A"},{"$error":"#N/A"}]
[{"$error":"#N/A"},{"$error":"#N/A"},{"$error":"#N/A"},{"$error":"#N/A"}]
[{"$error":"#N/A"},{"$error":"#N/A"},{"$error":"#N/A"},{"$error":"#N/A"}]
[{"$error":"#N/A"},{"$error":"#N/A"},{"$error":"#N/A"},{"$error":"#N/A"}]
[{"$error":"#N/A"},{"$error":"#N/A"},{"$error":"#N/A"},{"$error":"#N/A"}]
[{"$error":"#N/A"},{"$error":"#N/A"},{"$error":"#N/A"},{"$error":"#N/A"}]
[{"$error":"#N/A"},{"$error":"#N/A"},{"$error":"#N/A"},{"$error":"#N/A"}]
[{"$error":"#N/A"},{"$error":"#N/A"},{"$error":"#N/A"},{"$error":"#N/A"}]
[{"$error":"#N/A"},{"$error":"#N/A"},{"$error":"#N/A"},{"$error":"#N/A"}]
[{"$error":"#N/A"},{"$error":"#N/A"},{"$error":"#N/A"},{"$error":"#N/A"}]
[{"$error":"#N/A"},{"$error":"#N/A"},{"$error":"#N/A"},{"$error":"#N/A"}]
[{"$error":"#N/A"},{"$error":"#N/A"},{"$error":"#N/A"},{"$error":"#N/A"}]
[{"$error":"#N/A"},{"$error":"#N/A"},{"$error":"#N/A"},{"$error":"#N/A"}]
[{"$error":"#N/A"},{"$error":"#N/A"},{"$error":"#N/A"},{"$error":"#N/A"}]
[{"$error":"#N/A"},{"$error":"#N/A"},{"$error":"#N/A"},{"$error":"#N/A"}]
[{"$error":"#N/A"},{"$error":"#N/A"},{"$error":"#N/A"},{"$error":"#N/A"}]
[{"$error":"#N/A"},{"$error":"#N/A"},{"$error":"#N/A"},{"$error":"#N/A"}]
[{"$error":"#N/A"},{"$error":"#N/A"},{"$error":"#N/A"},{"$error":"#N/A"}]
[{"$error":"#N/A"},{"$error":"#N/A"},{"$error":"#N/A"},{"$error":"#N/A"}]
[{"$error":"#N/A"},{"$error":"#N/A"},{"$error":"#N/A"},{"$error":"#N/A"}]
[{"$error":"#N/A"},{"$error":"#N/A"},{"$error":"#N/A"},{"$error":"#N/A"}]
[{"$error":"#N/A"},{"$error":"#N/A"},{"$error":"#N/A"},{"$error":"#N/A"}]
[{"$error":"#N/A"},{"$error":"#N/A"},{"$error":"#N/A"},{"$error":"#N/A"}]
[{"$error":"#N/A"},{"$error":"#N/A"},{"$error":"#N/A"},{"$error":"#N/A"}]
[{"$error":"#N/A"},{"$error":"#N/A"},{"$error":"#N/A"},{"$error":"#N/A"}]
[{"$error":"#N/A"},{"$error":"#N/A"},{"$error":"#N/A"},{"$error":"#N/A"}]
[{"$error":"#N/A"},{"$error":"#N/A"},{"$error":"#N/A"},{"$error":"#N/A"}]
[{"$error":"#N/A"},{"$error":"#N/A"},{"$error":"#N/A"},{"$error":"#N/A"}]
[{"$error":"#N/A"},{"$error":"#N/A"},{"$error":"#N/A"},{"$error":"#N/A"}]
[{"$error":"#N/A"},{"$error":"#N/A"},{"$error":"#N/A"},{"$error":"#N/A"}]
[{"$error":"#N/A"},{"$error":"#N/A"},{"$error":"#N/A"},{"$error":"#N/A"}]
[{"$error":"#N/A"},{"$error":"#N/A"},{"$error":"#N/A"},{"$error":"#N/A"}]
[{"$error":"#N/A"},{"$error":"#N/A"},{"$error":"#N/A"},{"$error":"#N/A"}]
[{"$error":"#N/A"},{"$error":"#N/A"},{"$error":"#N/A"},{"$error":"#N/A"}]
[{"$error":"#N/A"},{"$error":"#N/A"},{"$error":"#N/A"},{"$error":"#N/A"}]
[{"$error":"#N/A"},{"$error":"#N/A"},{"$error":"#N/A"},{"$error":"#N/A"}]
[{"$error":"#N/A"},{"$error":"#N/A"},{"$error":"#N/A"},{"$error":"#N/A"}]
[{"$error":"#N/A"},{"$error":"#N/A"},{"$error":"#N/A"},{"$error":"#N/A"}]
[{"$error":"#N/A"},{"$error":"#N/A"},{"$error":"#N/A"},{"$error":"#N/A"}]
[{"$error":"#N/A"},{"$error":"#N/A"},{"$error":"#N/A"},{"$error":"#N/A"}]
[{"$error":"#N/A"},{"$error":"#N/A"},{"$error":"#N/A"},{"$error":"#N/A"}]
[{"$error":"#N/A"},{"$error":"#N/A"},{"$error":"#N/A"},{"$error":"#N/A"}]
[{"$error":"#N/A"},{"$error":"#N/A"},{"$error":"#N/A"},{"$error":"#N/A"}]
[{"$error":"#N/A"},{"$error":"#N/A"},{"$error":"#N/A"},{"$error":"#N/A"}]
[{"$error":"#N/A"},{"$error":"#N/A"},{"$error":"#N/A"},{"$error":"#N/A"}]
[{"$error":"#N/A"},{"$error":"#N/A"},{"$error":"#N/A"},{"$error":"#N/A"}]
[{"$error":"#N/A"},{"$error":"#N/A"},{"$error":"#N/A"},{"$error":"#N/A"}]
[{"$error":"#N/A"},{"$error":"#N/A"},{"$error":"#N/A"},{"$error":"#N/A"}]
[{"$error":"#N/A"},{"$error":"#N/A"},{"$error":"#N/A"},{"$error":"#N/A"}]
[{"$error":"#N/A"},{"$error":"#N/A"},{"$error":"#N/A"},{"$error":"#N/A"}]
[{"$error":"#N/A"},{"$error":"#N/A"},{"$error":"#N/A"},{"$error":"#N/A"}]
[{"$error":"#N/A"},{"$error":"#N/A"},{"$error":"#N/A"},{"$error":"#N/A"}]
[{"$error":"#N/A"},{"$error":"#N/A"},{"$error":"#N/A"},{"$error":"#N/A"}]
[{"$error":"#N/A"},{"$error":"#N/A"},{"$error":"#N/A"},{"$error":"#N/A"}]
[{"$error":"#N/A"},{"$error":"#N/A"},{"$error":"#N/A"},{"$error":"#N/A"}]
[{"$error":"#N/A"},{"$error":"#N/A"},{"$error":"#N/A"},{"$error":"#N/A"}]
[{"$error":"#N/A"},{"$error":"#N/A"},{"$error":"#N/A"},{"$error":"#N/A"}]
[{"$error":"#N/A"},{"$error":"#N/A"},{"$error":"#N/A"},{"$error":"#N/A"}]
[{"$error":"#N/A"},{"$error":"#N/A"},{"$error":"#N/A"},{"$error":"#N/A"}]
[{"$error":"#N/A"},{"$error":"#N/A"},{"$error":"#N/A"},{"$error":"#N/A"}]
[{"$error":"#N/A"},{"$error":"#N/A"},{"$error":"#N/A"},{"$error":"#N/A"}]
[{"$error":"#N/A"},{"$error":"#N/A"},{"$error":"#N/A"},{"$error":"#N/A"}]
[{"$error":"#N/A"},{"$error":"#N/A"},{"$error":"#N/A"},{"$error":"#N/A"}]
[{"$error":"#N/A"},{"$error":"#N/A"},{"$error":"#N/A"},{"$error":"#N/A"}]
[{"$error":"#N/A"},{"$error":"#N/A"},{"$error":"#N/A"},{"$error":"#N/A"}]
[{"$error":"#N/A"},{"$error":"#N/A"},{"$error":"#N/A"},{"$error":"#N/A"}]
[{"$error":"#N/A"},{"$error":"#N/A"},{"$error":"#N/A"},{"$error":"#N/A"}]
[{"$error":"#N/A"},{"$error":"#N/A"},{"$error":"#N/A"},{"$error":"#N/A"}]
[{"$error":"#N/A"},{"$error":"#N/A"},{"$error":"#N/A"},{"$error":"#N/A"}]
[{"$error":"#N/A"},{"$error":"#N/A"},{"$error":"#N/A"},{"$error":"#N/A"}]
[{"$error":"#N/A"},{"$error":"#N/A"},{"$error":"#N/A"},{"$error":"#N/A"}]
[{"$error":"#N/A"},{"$error":"#N/A"},{"$error":"#N/A"},{"$error":"#N/A"}]
[{"$error":"#N/A"},{"$error":"#N/A"},{"$error":"#N/A"},{"$error":"#N/A"}]
[{"$error":"#N/A"},{"$error":"#N/A"},{"$error":"#N/A"},{"$error":"#N/A"}]
[{"$error":"#N/A"},{"$error":"#N/A"},{"$error":"#N/A"},{"$error":"#N/A"}]
[{"$error":"#N/A"},{"$error":"#N/A"},{"$error":"#N/A"},{"$error":"#N/A"}]
[{"$error":"#N/A"},{"$error":"#N/A"},{"$error":"#N/A"},{"$error":"#N/A"}]
[{"$error":"#N/A"},{"$error":"#N/A"},{"$error":"#N/A"},{"$error":"#N/A"}]
[{"$error":"#N/A"},{"$error":"#N/A"},{"$error":"#N/A"},{"$error":"#N/A"}]
[{"$error":"#N/A"},{"$error":"#N/A"},{"$error":"#N/A"},{"$error":"#N/A"}]
[{"$error":"#N/A"},{"$error":"#N/A"},{"$error":"#N/A"},{"$error":"#N/A"}]
[{"$error":"#N/A"},{"$error":"#N/A"},{"$error":"#N/A"},{"$error":"#N/A"}]
[{"$error":"#N/A"},{"$error":"#N/A"},{"$error":"#N/A"},{"$error":"#N/A"}]
[{"$error":"#N/A"},{"$error":"#N/A"},{"$error":"#N/A"},{"$error":"#N/A"}]
[{"$error":"#N/A"},{"$error":"#N/A"},{"$error":"#N/A"},{"$error":"#N/A"}]
[{"$error":"#N/A"},{"$error":"#N/A"},{"$error":"#N/A"},{"$error":"#N/A"}]
[{"$error":"#N/A"},{"$error":"#N/A"},{"$error":"#N/A"},{"$error":"#N/A"}]
[{"$error":"#N/A"},{"$error":"#N/A"},{"$error":"#N/A"},{"$error":"#N/A"}]
[{"$error":"#N/A"},{"$error":"#N/A"},{"$error":"#N/A"},{"$error":"#N/A"}]
[{"$error":"#N/A"},{"$error":"#N/A"},{"$error":"#N/A"},{"$error":"#N/A"}]
[{"$error":"#N/A"},{"$error":"#N/A"},{"$error":"#N/A"},{"$error":"#N/A"}]
[{"$error":"#N/A"},{"$error":"#N/A"},{"$error":"#N/A"},{"$error":"#N/A"}]
[{"$error":"#N/A"},{"$error":"#N/A"},{"$error":"#N/A"},{"$error":"#N/A"}]
[{"$error":"#N/A"},{"$error":"#N/A"},{"$error":"#N/A"},{"$error":"#N/A"}]
[{"$error":"#N/A"},{"$error":"#N/A"},{"$error":"#N/A"},{"$error":"#N/A"}]
[{"$error":"#N/A"},{"$error":"#N/A"},{"$error":"#N/A"},{"$error":"#N/A"}]
[{"$error":"#N/A"},{"$error":"#N/A"},{"$error":"#N/A"},{"$error":"#N/A"}]
[{"$error":"#N/A"},{"$error":"#N/A"},{"$error":"#N/A"},{"$error":"#N/A"}]
[{"$error":"#N/A"},{"$error":"#N/A"},{"$error":"#N/A"},{"$error":"#N/A"}]
[{"$error":"#N/A"},{"$error":"#N/A"},{"$error":"#N/A"},{"$error":"#N/A"}]
[{"$error":"#N/A"},{"$error":"#N/A"},{"$error":"#N/A"},{"$error":"#N/A"}]
[{"$error":"#N/A"},{"$error":"#N/A"},{"$error":"#N/A"},{"$error":"#N/A"}]
[{"$error":"#N/A"},{"$error":"#N/A"},{"$error":"#N/A"},{"$error":"#N/A"}]
[{"$error":"#N/A"},{"$error":"#N/A"},{"$error":"#N/A"},{"$error":"#N/A"}]
[{"$error":"#N/A"},{"$error":"#N/A"},{"$error":"#N/A"},{"$error":"#N/A"}]
[{"$error":"#N/A"},{"$error":"#N/A"},{"$error":"#N/A"},{"$error":"#N/A"}]
[{"$error":"#N/A"},{"$error":"#N/A"},{"$error":"#N/A"},{"$error":"#N/A"}]
[{"$error":"#N/A"},{"$error":"#N/A"},{"$error":"#N/A"},{"$error":"#N/A"}]
[{"$error":"#N/A"},{"$error":"#N/A"},{"$error":"#N/A"},{"$error":"#N/A"}]
[{"$error":"#N/A"},{"$error":"#N/A"},{"$error":"#N/A"},{"$error":"#N/A"}]
[{"$error":"#N/A"},{"$error":"#N/A"},{"$error":"#N/A"},{"$error":"#N/A"}]
[{"$error":"#N/A"},{"$error":"#N/A"},{"$error":"#N/A"},{"$error":"#N/A"}]
[{"$error":"#N/A"},{"$error":"#N/A"},{"$error":"#N/A"},{"$error":"#N/A"}]
[{"$error":"#N/A"},{"$error":"#N/A"},{"$error":"#N/A"},{"$error":"#N/A"}]
[{"$error":"#N/A"},{"$error":"#N/A"},{"$error":"#N/A"},{"$error":"#N/A"}]
[{"$error":"#N/A"},{"$error":"#N/A"},{"$error":"#N/A"},{"$error":"#N/A"}]
[{"$error":"#N/A"},{"$error":"#N/A"},{"$error":"#N/A"},{"$error":"#N/A"}]
[{"$error":"#N/A"},{"$error":"#N/A"},{"$error":"#N/A"},{"$error":"#N/A"}]
[{"$error":"#N/A"},{"$error":"#N/A"},{"$error":"#N/A"},{"$error":"#N/A"}]
[{"$error":"#N/A"},{"$error":"#N/A"},{"$error":"#N/A"},{"$error":"#N/A"}]
[{"$error":"#N/A"},{"$error":"#N/A"},{"$error":"#N/A"},{"$error":"#N/A"}]
[{"$error":"#N/A"},{"$error":"#N/A"},{"$error":"#N/A"},{"$error":"#N/A"}]
[{"$error":"#N/A"},{"$error":"#N/A"},{"$error":"#N/A"},{"$error":"#N/A"}]
[{"$error":"#N/A"},{"$error":"#N/A"},{"$error":"#N/A"},{"$error":"#N/A"}]
[{"$error":"#N/A"},{"$error":"#N/A"},{"$error":"#N/A"},{"$error":"#N/A"}]
[{"$error":"#N/A"},{"$error":"#N/A"},{"$error":"#N/A"},{"$error":"#N/A"}]
[{"$error":"#N/A"},{"$error":"#N/A"},{"$error":"#N/A"},{"$error":"#N/A"}]
[{"$error":"#N/A"},{"$error":"#N/A"},{"$error":"#N/A"},{"$error":"#N/A"}]
[{"$error":"#N/A"},{"$error":"#N/A"},{"$error":"#N/A"},{"$error":"#N/A"}]
[{"$error":"#N/A"},{"$error":"#N/A"},{"$error":"#N/A"},{"$error":"#N/A"}]
[{"$error":"#N/A"},{"$error":"#N/A"},{"$error":"#N/A"},{"$error":"#N/A"}]
[{"$error":"#N/A"},{"$error":"#N/A"},{"$error":"#N/A"},{"$error":"#N/A"}]
[{"$error":"#N/A"},{"$error":"#N/A"},{"$error":"#N/A"},{"$error":"#N/A"}]
[{"$error":"#N/A"},{"$error":"#N/A"},{"$error":"#N/A"},{"$error":"#N/A"}]
[{"$error":"#N/A"},{"$error":"#N/A"},{"$error":"#N/A"},{"$error":"#N/A"}]
[{"$error":"#N/A"},{"$error":"#N/A"},{"$error":"#N/A"},{"$error":"#N/A"}]
[{"$error":"#N/A"},{"$error":"#N/A"},{"$error":"#N/A"},{"$error":"#N/A"}]
[{"$error":"#N/A"},{"$error":"#N/A"},{"$error":"#N/A"},{"$error":"#N/A"}]
[{"$error":"#N/A"},{"$error":"#N/A"},{"$error":"#N/A"},{"$error":"#N/A"}]
[{"$error":"#N/A"},{"$error":"#N/A"},{"$error":"#N/A"},{"$error":"#N/A"}]
[{"$error":"#N/A"},{"$error":"#N/A"},{"$error":"#N/A"},{"$error":"#N/A"}]
[{"$error":"#N/A"},{"$error":"#N/A"},{"$error":"#N/A"},{"$error":"#N/A"}]
[{"$error":"#N/A"},{"$error":"#N/A"},{"$error":"#N/A"},{"$error":"#N/A"}]
[{"$error":"#N/A"},{"$error":"#N/A"},{"$error":"#N/A"},{"$error":"#N/A"}]
[{"$error":"#N/A"},{"$error":"#N/A"},{"$error":"#N/A"},{"$error":"#N/A"}]
[{"$error":"#N/A"},{"$error":"#N/A"},{"$error":"#N/A"},{"$error":"#N/A"}]
[{"$error":"#N/A"},{"$error":"#N/A"},{"$error":"#N/A"},{"$error":"#N/A"}]
[{"$error":"#N/A"},{"$error":"#N/A"},{"$error":"#N/A"},{"$error":"#N/A"}]
[{"$error":"#N/A"},{"$error":"#N/A"},{"$error":"#N/A"},{"$error":"#N/A"}]
[{"$error":"#N/A"},{"$error":"#N/A"},{"$error":"#N/A"},{"$error":"#N/A"}]
[{"$error":"#N/A"},{"$error":"#N/A"},{"$error":"#N/A"},{"$error":"#N/A"}]
[{"$error":"#N/A"},{"$error":"#N/A"},{"$error":"#N/A"},{"$error":"#N/A"}]
[{"$error":"#N/A"},{"$error":"#N/A"},{"$error":"#N/A"},{"$error":"#N/A"}]
[{"$error":"#N/A"},{"$error":"#N/A"},{"$error":"#N/A"},{"$error":"#N/A"}]
[{"$error":"#N/A"},{"$error":"#N/A"},{"$error":"#N/A"},{"$error":"#N/A"}]
[{"$error":"#N/A"},{"$error":"#N/A"},{"$error":"#N/A"},{"$error":"#N/A"}]
[{"$error":"#N/A"},{"$error":"#N/A"},{"$error":"#N/A"},{"$error":"#N/A"}]
[{"$error":"#N/A"},{"$error":"#N/A"},{"$error":"#N/A"},{"$error":"#N/A"}]
[{"$error":"#N/A"},{"$error":"#N/A"},{"$error":"#N/A"},{"$error":"#N/A"}]
[{"$error":"#N/A"},{"$error":"#N/A"},{"$error":"#N/A"},{"$error":"#N/A"}]
[{"$error":"#N/A"},{"$error":"#N/A"},{"$error":"#N/A"},{"$error":"#N/A"}]
[{"$error":"#N/A"},{"$error":"#N/A"},{"$error":"#N/A"},{"$error":"#N/A"}]
[{"$error":"#N/A"},{"$error":"#N/A"},{"$error":"#N/A"},{"$error":"#N/A"}]
[{"$error":"#N/A"},{"$error":"#N/A"},{"$error":"#N/A"},{"$error":"#N/A"}]
[{"$error":"#N/A"},{"$error":"#N/A"},{"$error":"#N/A"},{"$error":"#N/A"}]
[{"$error":"#N/A"},{"$error":"#N/A"},{"$error":"#N/A"},{"$error":"#N/A"}]
[{"$error":"#N/A"},{"$error":"#N/A"},{"$error":"#N/A"},{"$error":"#N/A"}]
[{"$error":"#N/A"},{"$error":"#N/A"},{"$error":"#N/A"},{"$error":"#N/A"}]
[{"$error":"#N/A"},{"$error":"#N/A"},{"$error":"#N/A"},{"$error":"#N/A"}]
[{"$error":"#N/A"},{"$error":"#N/A"},{"$error":"#N/A"},{"$error":"#N/A"}]
[{"$error":"#N/A"},{"$error":"#N/A"},{"$error":"#N/A"},{"$error":"#N/A"}]
[{"$error":"#N/A"},{"$error":"#N/A"},{"$error":"#N/A"},{"$error":"#N/A"}]
[{"$error":"#N/A"},{"$error":"#N/A"},{"$error":"#N/A"},{"$error":"#N/A"}]
[{"$error":"#N/A"},{"$error":"#N/A"},{"$error":"#N/A"},{"$error":"#N/A"}]
[{"$error":"#N/A"},{"$error":"#N/A"},{"$error":"#N/A"},{"$error":"#N/A"}]
[{"$error":"#N/A"},{"$error":"#N/A"},{"$error":"#N/A"},{"$error":"#N/A"}]
[{"$error":"#N/A"},{"$error":"#N/A"},{"$error":"#N/A"},{"$error":"#N/A"}]
[{"$error":"#N/A"},{"$error":"#N/A"},{"$error":"#N/A"},{"$error":"#N/A"}]
[{"$error":"#N/A"},{"$error":"#N/A"},{"$error":"#N/A"},{"$error":"#N/A"}]
[{"$error":"#N/A"},{"$error":"#N/A"},{"$error":"#N/A"},{"$error":"#N/A"}]
[{"$error":"#N/A"},{"$error":"#N/A"},{"$error":"#N/A"},{"$error":"#N/A"}]
[{"$error":"#N/A"},{"$error":"#N/A"},{"$error":"#N/A"},{"$error":"#N/A"}]
[{"$error":"#N/A"},{"$error":"#N/A"},{"$error":"#N/A"},{"$error":"#N/A"}]
[{"$error":"#N/A"},{"$error":"#N/A"},{"$error":"#N/A"},{"$error":"#N/A"}]
[{"$error":"#N/A"},{"$error":"#N/A"},{"$error":"#N/A"},{"$error":"#N/A"}]
[{"$error":"#N/A"},{"$error":"#N/A"},{"$error":"#N/A"},{"$error":"#N/A"}]
[{"$error":"#N/A"},{"$error":"#N/A"},{"$error":"#N/A"},{"$error":"#N/A"}]
[{"$error":"#N/A"},{"$error":"#N/A"},{"$error":"#N/A"},{"$error":"#N/A"}]
[{"$error":"#N/A"},{"$error":"#N/A"},{"$error":"#N/A"},{"$error":"#N/A"}]
[{"$error":"#N/A"},{"$error":"#N/A"},{"$error":"#N/A"},{"$error":"#N/A"}]
[{"$error":"#N/A"},{"$error":"#N/A"},{"$error":"#N/A"},{"$error":"#N/A"}]
[{"$error":"#N/A"},{"$error":"#N/A"},{"$error":"#N/A"},{"$error":"#N/A"}]
[{"$error":"#N/A"},{"$error":"#N/A"},{"$error":"#N/A"},{"$error":"#N/A"}]
[{"$error":"#N/A"},{"$error":"#N/A"},{"$error":"#N/A"},{"$error":"#N/A"}]
[{"$error":"#N/A"},{"$error":"#N/A"},{"$error":"#N/A"},{"$error":"#N/A"}]
[{"$error":"#N/A"},{"$error":"#N/A"},{"$error":"#N/A"},{"$error":"#N/A"}]
[{"$error":"#N/A"},{"$error":"#N/A"},{"$error":"#N/A"},{"$error":"#N/A"}]
[{"$error":"#N/A"},{"$error":"#N/A"},{"$error":"#N/A"},{"$error":"#N/A"}]
[{"$error":"#N/A"},{"$error":"#N/A"},{"$error":"#N/A"},{"$error":"#N/A"}]
[{"$error":"#N/A"},{"$error":"#N/A"},{"$error":"#N/A"},{"$error":"#N/A"}]
[{"$error":"#N/A"},{"$error":"#N/A"},{"$error":"#N/A"},{"$error":"#N/A"}]
[{"$error":"#N/A"},{"$error":"#N/A"},{"$error":"#N/A"},{"$error":"#N/A"}]
[{"$error":"#N/A"},{"$error":"#N/A"},{"$error":"#N/A"},{"$error":"#N/A"}]
[{"$error":"#N/A"},{"$error":"#N/A"},{"$error":"#N/A"},{"$error":"#N/A"}]
[{"$error":"#N/A"},{"$error":"#N/A"},{"$error":"#N/A"},{"$error":"#N/A"}]
[{"$error":"#N/A"},{"$error":"#N/A"},{"$error":"#N/A"},{"$error":"#N/A"}]
[{"$error":"#N/A"},{"$error":"#N/A"},{"$error":"#N/A"},{"$error":"#N/A"}]
[{"$error":"#N/A"},{"$error":"#N/A"},{"$error":"#N/A"},{"$error":"#N/A"}]
[{"$error":"#N/A"},{"$error":"#N/A"},{"$error":"#N/A"},{"$error":"#N/A"}]
[{"$error":"#N/A"},{"$error":"#N/A"},{"$error":"#N/A"},{"$error":"#N/A"}]
[{"$error":"#N/A"},{"$error":"#N/A"},{"$error":"#N/A"},{"$error":"#N/A"}]
[{"$error":"#N/A"},{"$error":"#N/A"},{"$error":"#N/A"},{"$error":"#N/A"}]
[{"$error":"#N/A"},{"$error":"#N/A"},{"$error":"#N/A"},{"$error":"#N/A"}]
[{"$error":"#N/A"},{"$error":"#N/A"},{"$error":"#N/A"},{"$error":"#N/A"}]
[{"$error":"#N/A"},{"$error":"#N/A"},{"$error":"#N/A"},{"$error":"#N/A"}]
[{"$error":"#N/A"},{"$error":"#N/A"},{"$error":"#N/A"},{"$error":"#N/A"}]
[{"$error":"#N/A"},{"$error":"#N/A"},{"$error":"#N/A"},{"$error":"#N/A"}]
[{"$error":"#N/A"},{"$error":"#N/A"},{"$error":"#N/A"},{"$error":"#N/A"}]
[{"$error":"#N/A"},{"$error":"#N/A"},{"$error":"#N/A"},{"$error":"#N/A"}]
[{"$error":"#N/A"},{"$error":"#N/A"},{"$error":"#N/A"},{"$error":"#N/A"}]
[{"$error":"#N/A"},{"$error":"#N/A"},{"$error":"#N/A"},{"$error":"#N/A"}]
[{"$error":"#N/A"},{"$error":"#N/A"},{"$error":"#N/A"},{"$error":"#N/A"}]
[{"$error":"#N/A"},{"$error":"#N/A"},{"$error":"#N/A"},{"$error":"#N/A"}]
[{"$error":"#N/A"},{"$error":"#N/A"},{"$error":"#N/A"},{"$error":"#N/A"}]
[{"$error":"#N/A"},{"$error":"#N/A"},{"$error":"#N/A"},{"$error":"#N/A"}]
[{"$error":"#N/A"},{"$error":"#N/A"},{"$error":"#N/A"},{"$error":"#N/A"}]
[{"$error":"#N/A"},{"$error":"#N/A"},{"$error":"#N/A"},{"$error":"#N/A"}]
[{"$error":"#N/A"},{"$error":"#N/A"},{"$error":"#N/A"},{"$error":"#N/A"}]
[{"$error":"#N/A"},{"$error":"#N/A"},{"$error":"#N/A"},{"$error":"#N/A"}]
[{"$error":"#N/A"},{"$error":"#N/A"},{"$error":"#N/A"},{"$error":"#N/A"}]
[{"$error":"#N/A"},{"$error":"#N/A"},{"$error":"#N/A"},{"$error":"#N/A"}]
[{"$error":"#N/A"},{"$error":"#N/A"},{"$error":"#N/A"},{"$error":"#N/A"}]
[{"$error":"#N/A"},{"$error":"#N/A"},{"$error":"#N/A"},{"$error":"#N/A"}]
[{"$error":"#N/A"},{"$error":"#N/A"},{"$error":"#N/A"},{"$error":"#N/A"}]
[{"$error":"#N/A"},{"$error":"#N/A"},{"$error":"#N/A"},{"$error":"#N/A"}]
[{"$error":"#N/A"},{"$error":"#N/A"},{"$error":"#N/A"},{"$error":"#N/A"}]
[{"$error":"#N/A"},{"$error":"#N/A"},{"$error":"#N/A"},{"$error":"#N/A"}]
[{"$error":"#N/A"},{"$error":"#N/A"},{"$error":"#N/A"},{"$error":"#N/A"}]
[{"$error":"#N/A"},{"$error":"#N/A"},{"$error":"#N/A"},{"$error":"#N/A"}]
[{"$error":"#N/A"},{"$error":"#N/A"},{"$error":"#N/A"},{"$error":"#N/A"}]
[{"$error":"#N/A"},{"$error":"#N/A"},{"$error":"#N/A"},{"$error":"#N/A"}]
[{"$error":"#N/A"},{"$error":"#N/A"},{"$error":"#N/A"},{"$error":"#N/A"}]
[{"$error":"#N/A"},{"$error":"#N/A"},{"$error":"#N/A"},{"$error":"#N/A"}]
[{"$error":"#N/A"},{"$error":"#N/A"},{"$error":"#N/A"},{"$error":"#N/A"}]
[{"$error":"#N/A"},{"$error":"#N/A"},{"$error":"#N/A"},{"$error":"#N/A"}]
[{"$error":"#N/A"},{"$error":"#N/A"},{"$error":"#N/A"},{"$error":"#N/A"}]
[{"$error":"#N/A"},{"$error":"#N/A"},{"$error":"#N/A"},{"$error":"#N/A"}]
[{"$error":"#N/A"},{"$error":"#N/A"},{"$error":"#N/A"},{"$error":"#N/A"}]
[{"$error":"#N/A"},{"$error":"#N/A"},{"$error":"#N/A"},{"$error":"#N/A"}]
[{"$error":"#N/A"},{"$error":"#N/A"},{"$error":"#N/A"},{"$error":"#N/A"}]
[{"$error":"#N/A"},{"$error":"#N/A"},{"$error":"#N/A"},{"$error":"#N/A"}]
[{"$error":"#N/A"},{"$error":"#N/A"},{"$error":"#N/A"},{"$error":"#N/A"}]
[{"$error":"#N/A"},{"$error":"#N/A"},{"$error":"#N/A"},{"$error":"#N/A"}]
[{"$error":"#N/A"},{"$error":"#N/A"},{"$error":"#N/A"},{"$error":"#N/A"}]
[{"$error":"#N/A"},{"$error":"#N/A"},{"$error":"#N/A"},{"$error":"#N/A"}]
[{"$error":"#N/A"},{"$error":"#N/A"},{"$error":"#N/A"},{"$error":"#N/A"}]
[{"$error":"#N/A"},{"$error":"#N/A"},{"$error":"#N/A"},{"$error":"#N/A"}]
[{"$error":"#N/A"},{"$error":"#N/A"},{"$error":"#N/A"},{"$error":"#N/A"}]
[{"$error":"#N/A"},{"$error":"#N/A"},{"$error":"#N/A"},{"$error":"#N/A"}]
[{"$error":"#N/A"},{"$error":"#N/A"},{"$error":"#N/A"},{"$error":"#N/A"}]
[{"$error":"#N/A"},{"$error":"#N/A"},{"$error":"#N/A"},{"$error":"#N/A"}]
[{"$error":"#N/A"},{"$error":"#N/A"},{"$error":"#N/A"},{"$error":"#N/A"}]
[{"$error":"#N/A"},{"$error":"#N/A"},{"$error":"#N/A"},{"$error":"#N/A"}]
[{"$error":"#N/A"},{"$error":"#N/A"},{"$error":"#N/A"},{"$error":"#N/A"}]
[{"$error":"#N/A"},{"$error":"#N/A"},{"$error":"#N/A"},{"$error":"#N/A"}]
[{"$error":"#N/A"},{"$error":"#N/A"},{"$error":"#N/A"},{"$error":"#N/A"}]
[{"$error":"#N/A"},{"$error":"#N/A"},{"$error":"#N/A"},{"$error":"#N/A"}]
[{"$error":"#N/A"},{"$error":"#N/A"},{"$error":"#N/A"},{"$error":"#N/A"}]
[{"$error":"#N/A"},{"$error":"#N/A"},{"$error":"#N/A"},{"$error":"#N/A"}]
[{"$error":"#N/A"},{"$error":"#N/A"},{"$error":"#N/A"},{"$error":"#N/A"}]
[{"$error":"#N/A"},{"$error":"#N/A"},{"$error":"#N/A"},{"$error":"#N/A"}]
[{"$error":"#N/A"},{"$error":"#N/A"},{"$error":"#N/A"},{"$error":"#N/A"}]
[{"$error":"#N/A"},{"$error":"#N/A"},{"$error":"#N/A"},{"$error":"#N/A"}]
[{"$error":"#N/A"},{"$error":"#N/A"},{"$error":"#N/A"},{"$error":"#N/A"}]
[{"$error":"#N/A"},{"$error":"#N/A"},{"$error":"#N/A"},{"$error":"#N/A"}]
[{"$error":"#N/A"},{"$error":"#N/A"},{"$error":"#N/A"},{"$error":"#N/A"}]
[{"$error":"#N/A"},{"$error":"#N/A"},{"$error":"#N/A"},{"$error":"#N/A"}]
[{"$error":"#N/A"},{"$error":"#N/A"},{"$error":"#N/A"},{"$error":"#N/A"}]
[{"$error":"#N/A"},{"$error":"#N/A"},{"$error":"#N/A"},{"$error":"#N/A"}]
[{"$error":"#N/A"},{"$error":"#N/A"},{"$error":"#N/A"},{"$error":"#N/A"}]
[{"$error":"#N/A"},{"$error":"#N/A"},{"$error":"#N/A"},{"$error":"#N/A"}]
[{"$error":"#N/A"},{"$error":"#N/A"},{"$error":"#N/A"},{"$error":"#N/A"}]
[{"$error":"#N/A"},{"$error":"#N/A"},{"$error":"#N/A"},{"$error":"#N/A"}]
[{"$error":"#N/A"},{"$error":"#N/A"},{"$error":"#N/A"},{"$error":"#N/A"}]
[{"$error":"#N/A"},{"$error":"#N/A"},{"$error":"#N/A"},{"$error":"#N/A"}]
[{"$error":"#N/A"},{"$error":"#N/A"},{"$error":"#N/A"},{"$error":"#N/A"}]
[{"$error":"#N/A"},{"$error":"#N/A"},{"$error":"#N/A"},{"$error":"#N/A"}]
[{"$error":"#N/A"},{"$error":"#N/A"},{"$error":"#N/A"},{"$error":"#N/A"}]
[{"$error":"#N/A"},{"$error":"#N/A"},{"$error":"#N/A"},{"$error":"#N/A"}]
[{"$error":"#N/A"},{"$error":"#N/A"},{"$error":"#N/A"},{"$error":"#N/A"}]
[{"$error":"#N/A"},{"$error":"#N/A"},{"$error":"#N/A"},{"$error":"#N/A"}]
[{"$error":"#N/A"},{"$error":"#N/A"},{"$error":"#N/A"},{"$error":"#N/A"}]
[{"$error":"#N/A"},{"$error":"#N/A"},{"$error":"#N/A"},{"$error":"#N/A"}]
[{"$error":"#N/A"},{"$error":"#N/A"},{"$error":"#N/A"},{"$error":"#N/A"}]
[{"$error":"#N/A"},{"$error":"#N/A"},{"$error":"#N/A"},{"$error":"#N/A"}]
[{"$error":"#N/A"},{"$error":"#N/A"},{"$error":"#N/A"},{"$error":"#N/A"}]
[{"$error":"#N/A"},{"$error":"#N/A"},{"$error":"#N/A"},{"$error":"#N/A"}]
[{"$error":"#N/A"},{"$error":"#N/A"},{"$error":"#N/A"},{"$error":"#N/A"}]
[{"$error":"#N/A"},{"$error":"#N/A"},{"$error":"#N/A"},{"$error":"#N/A"}]
[{"$error":"#N/A"},{"$error":"#N/A"},{"$error":"#N/A"},{"$error":"#N/A"}]
[{"$error":"#N/A"},{"$error":"#N/A"},{"$error":"#N/A"},{"$error":"#N/A"}]
[{"$error":"#N/A"},{"$error":"#N/A"},{"$error":"#N/A"},{"$error":"#N/A"}]
[{"$error":"#N/A"},{"$error":"#N/A"},{"$error":"#N/A"},{"$error":"#N/A"}]
[{"$error":"#N/A"},{"$error":"#N/A"},{"$error":"#N/A"},{"$error":"#N/A"}]
[{"$error":"#N/A"},{"$error":"#N/A"},{"$error":"#N/A"},{"$error":"#N/A"}]
[{"$error":"#N/A"},{"$error":"#N/A"},{"$error":"#N/A"},{"$error":"#N/A"}]
[{"$error":"#N/A"},{"$error":"#N/A"},{"$error":"#N/A"},{"$error":"#N/A"}]
[{"$error":"#N/A"},{"$error":"#N/A"},{"$error":"#N/A"},{"$error":"#N/A"}]
[{"$error":"#N/A"},{"$error":"#N/A"},{"$error":"#N/A"},{"$error":"#N/A"}]
[{"$error":"#N/A"},{"$error":"#N/A"},{"$error":"#N/A"},{"$error":"#N/A"}]
[{"$error":"#N/A"},{"$error":"#N/A"},{"$error":"#N/A"},{"$error":"#N/A"}]
[{"$error":"#N/A"},{"$error":"#N/A"},{"$error":"#N/A"},{"$error":"#N/A"}]
[{"$error":"#N/A"},{"$error":"#N/A"},{"$error":"#N/A"},{"$error":"#N/A"}]
[{"$error":"#N/A"},{"$error":"#N/A"},{"$error":"#N/A"},{"$error":"#N/A"}]
[{"$error":"#N/A"},{"$error":"#N/A"},{"$error":"#N/A"},{"$error":"#N/A"}]
[{"$error":"#N/A"},{"$error":"#N/A"},{"$error":"#N/A"},{"$error":"#N/A"}]
[{"$error":"#N/A"},{"$error":"#N/A"},{"$error":"#N/A"},{"$error":"#N/A"}]
[{"$error":"#N/A"},{"$error":"#N/A"},{"$error":"#N/A"},{"$error":"#N/A"}]
[{"$error":"#N/A"},{"$error":"#N/A"},{"$error":"#N/A"},{"$error":"#N/A"}]
[{"$error":"#N/A"},{"$error":"#N/A"},{"$error":"#N/A"},{"$error":"#N/A"}]
[{"$error":"#N/A"},{"$error":"#N/A"},{"$error":"#N/A"},{"$error":"#N/A"}]
[{"$error":"#N/A"},{"$error":"#N/A"},{"$error":"#N/A"},{"$error":"#N/A"}]
[{"$error":"#N/A"},{"$error":"#N/A"},{"$error":"#N/A"},{"$error":"#N/A"}]
[{"$error":"#N/A"},{"$error":"#N/A"},{"$error":"#N/A"},{"$error":"#N/A"}]
[{"$error":"#N/A"},{"$error":"#N/A"},{"$error":"#N/A"},{"$error":"#N/A"}]
[{"$error":"#N/A"},{"$error":"#N/A"},{"$error":"#N/A"},{"$error":"#N/A"}]
[{"$error":"#N/A"},{"$error":"#N/A"},{"$error":"#N/A"},{"$error":"#N/A"}]
[{"$error":"#N/A"},{"$error":"#N/A"},{"$error":"#N/A"},{"$error":"#N/A"}]
[{"$error":"#N/A"},{"$error":"#N/A"},{"$error":"#N/A"},{"$error":"#N/A"}]
[{"$error":"#N/A"},{"$error":"#N/A"},{"$error":"#N/A"},{"$error":"#N/A"}]
[{"$error":"#N/A"},{"$error":"#N/A"},{"$error":"#N/A"},{"$error":"#N/A"}]
[{"$error":"#N/A"},{"$error":"#N/A"},{"$error":"#N/A"},{"$error":"#N/A"}]
[{"$error":"#N/A"},{"$error":"#N/A"},{"$error":"#N/A"},{"$error":"#N/A"}]
[{"$error":"#N/A"},{"$error":"#N/A"},{"$error":"#N/A"},{"$error":"#N/A"}]
[{"$error":"#N/A"},{"$error":"#N/A"},{"$error":"#N/A"},{"$error":"#N/A"}]
[{"$error":"#N/A"},{"$error":"#N/A"},{"$error":"#N/A"},{"$error":"#N/A"}]
[{"$error":"#N/A"},{"$error":"#N/A"},{"$error":"#N/A"},{"$error":"#N/A"}]
[{"$error":"#N/A"},{"$error":"#N/A"},{"$error":"#N/A"},{"$error":"#N/A"}]
[{"$error":"#N/A"},{"$error":"#N/A"},{"$error":"#N/A"},{"$error":"#N/A"}]
[{"$error":"#N/A"},{"$error":"#N/A"},{"$error":"#N/A"},{"$error":"#N/A"}]
[{"$error":"#N/A"},{"$error":"#N/A"},{"$error":"#N/A"},{"$error":"#N/A"}]
[{"$error":"#N/A"},{"$error":"#N/A"},{"$error":"#N/A"},{"$error":"#N/A"}]
[{"$error":"#N/A"},{"$error":"#N/A"},{"$error":"#N/A"},{"$error":"#N/A"}]
[{"$error":"#N/A"},{"$error":"#N/A"},{"$error":"#N/A"},{"$error":"#N/A"}]
[{"$error":"#N/A"},{"$error":"#N/A"},{"$error":"#N/A"},{"$error":"#N/A"}]
[{"$error":"#N/A"},{"$error":"#N/A"},{"$error":"#N/A"},{"$error":"#N/A"}]
[{"$error":"#N/A"},{"$error":"#N/A"},{"$error":"#N/A"},{"$error":"#N/A"}]
[{"$error":"#N/A"},{"$error":"#N/A"},{"$error":"#N/A"},{"$error":"#N/A"}]
[{"$error":"#N/A"},{"$error":"#N/A"},{"$error":"#N/A"},{"$error":"#N/A"}]
[{"$error":"#N/A"},{"$error":"#N/A"},{"$error":"#N/A"},{"$error":"#N/A"}]
[{"$error":"#N/A"},{"$error":"#N/A"},{"$error":"#N/A"},{"$error":"#N/A"}]
[{"$error":"#N/A"},{"$error":"#N/A"},{"$error":"#N/A"},{"$error":"#N/A"}]
[{"$error":"#N/A"},{"$error":"#N/A"},{"$error":"#N/A"},{"$error":"#N/A"}]
[{"$error":"#N/A"},{"$error":"#N/A"},{"$error":"#N/A"},{"$error":"#N/A"}]
[{"$error":"#N/A"},{"$error":"#N/A"},{"$error":"#N/A"},{"$error":"#N/A"}]
[{"$error":"#N/A"},{"$error":"#N/A"},{"$error":"#N/A"},{"$error":"#N/A"}]
[{"$error":"#N/A"},{"$error":"#N/A"},{"$error":"#N/A"},{"$error":"#N/A"}]
[{"$error":"#N/A"},{"$error":"#N/A"},{"$error":"#N/A"},{"$error":"#N/A"}]
[{"$error":"#N/A"},{"$error":"#N/A"},{"$error":"#N/A"},{"$error":"#N/A"}]
[{"$error":"#N/A"},{"$error":"#N/A"},{"$error":"#N/A"},{"$error":"#N/A"}]
[{"$error":"#N/A"},{"$error":"#N/A"},{"$error":"#N/A"},{"$error":"#N/A"}]
[{"$error":"#N/A"},{"$error":"#N/A"},{"$error":"#N/A"},{"$error":"#N/A"}]
[{"$error":"#N/A"},{"$error":"#N/A"},{"$error":"#N/A"},{"$error":"#N/A"}]
[{"$error":"#N/A"},{"$error":"#N/A"},{"$error":"#N/A"},{"$error":"#N/A"}]
[{"$error":"#N/A"},{"$error":"#N/A"},{"$error":"#N/A"},{"$error":"#N/A"}]
[{"$error":"#N/A"},{"$error":"#N/A"},{"$error":"#N/A"},{"$error":"#N/A"}]
[{"$error":"#N/A"},{"$error":"#N/A"},{"$error":"#N/A"},{"$error":"#N/A"}]
[{"$error":"#N/A"},{"$error":"#N/A"},{"$error":"#N/A"},{"$error":"#N/A"}]
[{"$error":"#N/A"},{"$error":"#N/A"},{"$error":"#N/A"},{"$error":"#N/A"}]
[{"$error":"#N/A"},{"$error":"#N/A"},{"$error":"#N/A"},{"$error":"#N/A"}]
[{"$error":"#N/A"},{"$error":"#N/A"},{"$error":"#N/A"},{"$error":"#N/A"}]
[{"$error":"#N/A"},{"$error":"#N/A"},{"$error":"#N/A"},{"$error":"#N/A"}]
[{"$error":"#N/A"},{"$error":"#N/A"},{"$error":"#N/A"},{"$error":"#N/A"}]
[{"$error":"#N/A"},{"$error":"#N/A"},{"$error":"#N/A"},{"$error":"#N/A"}]
[{"$error":"#N/A"},{"$error":"#N/A"},{"$error":"#N/A"},{"$error":"#N/A"}]
[{"$error":"#N/A"},{"$error":"#N/A"},{"$error":"#N/A"},{"$error":"#N/A"}]
[{"$error":"#N/A"},{"$error":"#N/A"},{"$error":"#N/A"},{"$error":"#N/A"}]
[{"$error":"#N/A"},{"$error":"#N/A"},{"$error":"#N/A"},{"$error":"#N/A"}]
[{"$error":"#N/A"},{"$error":"#N/A"},{"$error":"#N/A"},{"$error":"#N/A"}]
[{"$error":"#N/A"},{"$error":"#N/A"},{"$error":"#N/A"},{"$error":"#N/A"}]
[{"$error":"#N/A"},{"$error":"#N/A"},{"$error":"#N/A"},{"$error":"#N/A"}]
[{"$error":"#N/A"},{"$error":"#N/A"},{"$error":"#N/A"},{"$error":"#N/A"}]
[{"$error":"#N/A"},{"$error":"#N/A"},{"$error":"#N/A"},{"$error":"#N/A"}]
[{"$error":"#N/A"},{"$error":"#N/A"},{"$error":"#N/A"},{"$error":"#N/A"}]
[{"$error":"#N/A"},{"$error":"#N/A"},{"$error":"#N/A"},{"$error":"#N/A"}]
[{"$error":"#N/A"},{"$error":"#N/A"},{"$error":"#N/A"},{"$error":"#N/A"}]
[{"$error":"#N/A"},{"$error":"#N/A"},{"$error":"#N/A"},{"$error":"#N/A"}]
[{"$error":"#N/A"},{"$error":"#N/A"},{"$error":"#N/A"},{"$error":"#N/A"}]
[{"$error":"#N/A"},{"$error":"#N/A"},{"$error":"#N/A"},{"$error":"#N/A"}]
[{"$error":"#N/A"},{"$error":"#N/A"},{"$error":"#N/A"},{"$error":"#N/A"}]
[{"$error":"#N/A"},{"$error":"#N/A"},{"$error":"#N/A"},{"$error":"#N/A"}]
[{"$error":"#N/A"},{"$error":"#N/A"},{"$error":"#N/A"},{"$error":"#N/A"}]
[{"$error":"#N/A"},{"$error":"#N/A"},{"$error":"#N/A"},{"$error":"#N/A"}]
[{"$error":"#N/A"},{"$error":"#N/A"},{"$error":"#N/A"},{"$error":"#N/A"}]
[{"$error":"#N/A"},{"$error":"#N/A"},{"$error":"#N/A"},{"$error":"#N/A"}]
[{"$error":"#N/A"},{"$error":"#N/A"},{"$error":"#N/A"},{"$error":"#N/A"}]
[{"$error":"#N/A"},{"$error":"#N/A"},{"$error":"#N/A"},{"$error":"#N/A"}]
[{"$error":"#N/A"},{"$error":"#N/A"},{"$error":"#N/A"},{"$error":"#N/A"}]
[{"$error":"#N/A"},{"$error":"#N/A"},{"$error":"#N/A"},{"$error":"#N/A"}]
[{"$error":"#N/A"},{"$error":"#N/A"},{"$error":"#N/A"},{"$error":"#N/A"}]
[{"$error":"#N/A"},{"$error":"#N/A"},{"$error":"#N/A"},{"$error":"#N/A"}]
[{"$error":"#N/A"},{"$error":"#N/A"},{"$error":"#N/A"},{"$error":"#N/A"}]
[{"$error":"#N/A"},{"$error":"#N/A"},{"$error":"#N/A"},{"$error":"#N/A"}]
[{"$error":"#N/A"},{"$error":"#N/A"},{"$error":"#N/A"},{"$error":"#N/A"}]
[{"$error":"#N/A"},{"$error":"#N/A"},{"$error":"#N/A"},{"$error":"#N/A"}]
[{"$error":"#N/A"},{"$error":"#N/A"},{"$error":"#N/A"},{"$error":"#N/A"}]
[{"$error":"#N/A"},{"$error":"#N/A"},{"$error":"#N/A"},{"$error":"#N/A"}]
[{"$error":"#N/A"},{"$error":"#N/A"},{"$error":"#N/A"},{"$error":"#N/A"}]
[{"$error":"#N/A"},{"$error":"#N/A"},{"$error":"#N/A"},{"$error":"#N/A"}]
[{"$error":"#N/A"},{"$error":"#N/A"},{"$error":"#N/A"},{"$error":"#N/A"}]
[{"$error":"#N/A"},{"$error":"#N/A"},{"$error":"#N/A"},{"$error":"#N/A"}]
[{"$error":"#N/A"},{"$error":"#N/A"},{"$error":"#N/A"},{"$error":"#N/A"}]
[{"$error":"#N/A"},{"$error":"#N/A"},{"$error":"#N/A"},{"$error":"#N/A"}]
[{"$error":"#N/A"},{"$error":"#N/A"},{"$error":"#N/A"},{"$error":"#N/A"}]
[{"$error":"#N/A"},{"$error":"#N/A"},{"$error":"#N/A"},{"$error":"#N/A"}]
[{"$error":"#N/A"},{"$error":"#N/A"},{"$error":"#N/A"},{"$error":"#N/A"}]
[{"$error":"#N/A"},{"$error":"#N/A"},{"$error":"#N/A"},{"$error":"#N/A"}]
[{"$error":"#N/A"},{"$error":"#N/A"},{"$error":"#N/A"},{"$error":"#N/A"}]
[{"$error":"#N/A"},{"$error":"#N/A"},{"$error":"#N/A"},{"$error":"#N/A"}]
[{"$error":"#N/A"},{"$error":"#N/A"},{"$error":"#N/A"},{"$error":"#N/A"}]
[{"$error":"#N/A"},{"$error":"#N/A"},{"$error":"#N/A"},{"$error":"#N/A"}]
[{"$error":"#N/A"},{"$error":"#N/A"},{"$error":"#N/A"},{"$error":"#N/A"}]
[{"$error":"#N/A"},{"$error":"#N/A"},{"$error":"#N/A"},{"$error":"#N/A"}]
[{"$error":"#N/A"},{"$error":"#N/A"},{"$error":"#N/A"},{"$error":"#N/A"}]
[{"$error":"#N/A"},{"$error":"#N/A"},{"$error":"#N/A"},{"$error":"#N/A"}]
[{"$error":"#N/A"},{"$error":"#N/A"},{"$error":"#N/A"},{"$error":"#N/A"}]
[{"$error":"#N/A"},{"$error":"#N/A"},{"$error":"#N/A"},{"$error":"#N/A"}]
[{"$error":"#N/A"},{"$error":"#N/A"},{"$error":"#N/A"},{"$error":"#N/A"}]
[{"$error":"#N/A"},{"$error":"#N/A"},{"$error":"#N/A"},{"$error":"#N/A"}]
[{"$error":"#N/A"},{"$error":"#N/A"},{"$error":"#N/A"},{"$error":"#N/A"}]
[{"$error":"#N/A"},{"$error":"#N/A"},{"$error":"#N/A"},{"$error":"#N/A"}]
[{"$error":"#N/A"},{"$error":"#N/A"},{"$error":"#N/A"},{"$error":"#N/A"}]
[{"$error":"#N/A"},{"$error":"#N/A"},{"$error":"#N/A"},{"$error":"#N/A"}]
[{"$error":"#N/A"},{"$error":"#N/A"},{"$error":"#N/A"},{"$error":"#N/A"}]
[{"$error":"#N/A"},{"$error":"#N/A"},{"$error":"#N/A"},{"$error":"#N/A"}]
[{"$error":"#N/A"},{"$error":"#N/A"},{"$error":"#N/A"},{"$error":"#N/A"}]
[{"$error":"#N/A"},{"$error":"#N/A"},{"$error":"#N/A"},{"$error":"#N/A"}]
[{"$error":"#N/A"},{"$error":"#N/A"},{"$error":"#N/A"},{"$error":"#N/A"}]
[{"$error":"#N/A"},{"$error":"#N/A"},{"$error":"#N/A"},{"$error":"#N/A"}]
[{"$error":"#N/A"},{"$error":"#N/A"},{"$error":"#N/A"},{"$error":"#N/A"}]
[{"$error":"#N/A"},{"$error":"#N/A"},{"$error":"#N/A"},{"$error":"#N/A"}]
[{"$error":"#N/A"},{"$error":"#N/A"},{"$error":"#N/A"},{"$error":"#N/A"}]
[{"$error":"#N/A"},{"$error":"#N/A"},{"$error":"#N/A"},{"$error":"#N/A"}]
[{"$error":"#N/A"},{"$error":"#N/A"},{"$error":"#N/A"},{"$error":"#N/A"}]
[{"$error":"#N/A"},{"$error":"#N/A"},{"$error":"#N/A"},{"$error":"#N/A"}]
[{"$error":"#N/A"},{"$error":"#N/A"},{"$error":"#N/A"},{"$error":"#N/A"}]
[{"$error":"#N/A"},{"$error":"#N/A"},{"$error":"#N/A"},{"$error":"#N/A"}]
[{"$error":"#N/A"},{"$error":"#N/A"},{"$error":"#N/A"},{"$error":"#N/A"}]
[{"$error":"#N/A"},{"$error":"#N/A"},{"$error":"#N/A"},{"$error":"#N/A"}]
[{"$error":"#N/A"},{"$error":"#N/A"},{"$error":"#N/A"},{"$error":"#N/A"}]
[{"$error":"#N/A"},{"$error":"#N/A"},{"$error":"#N/A"},{"$error":"#N/A"}]
[{"$error":"#N/A"},{"$error":"#N/A"},{"$error":"#N/A"},{"$error":"#N/A"}]
[{"$error":"#N/A"},{"$error":"#N/A"},{"$error":"#N/A"},{"$error":"#N/A"}]
[{"$error":"#N/A"},{"$error":"#N/A"},{"$error":"#N/A"},{"$error":"#N/A"}]
[{"$error":"#N/A"},{"$error":"#N/A"},{"$error":"#N/A"},{"$error":"#N/A"}]
[{"$error":"#N/A"},{"$error":"#N/A"},{"$error":"#N/A"},{"$error":"#N/A"}]
[{"$error":"#N/A"},{"$error":"#N/A"},{"$error":"#N/A"},{"$error":"#N/A"}]
[{"$error":"#N/A"},{"$error":"#N/A"},{"$error":"#N/A"},{"$error":"#N/A"}]
[{"$error":"#N/A"},{"$error":"#N/A"},{"$error":"#N/A"},{"$error":"#N/A"}]
[{"$error":"#N/A"},{"$error":"#N/A"},{"$error":"#N/A"},{"$error":"#N/A"}]
[{"$error":"#N/A"},{"$error":"#N/A"},{"$error":"#N/A"},{"$error":"#N/A"}]
[{"$error":"#N/A"},{"$error":"#N/A"},{"$error":"#N/A"},{"$error":"#N/A"}]
[{"$error":"#N/A"},{"$error":"#N/A"},{"$error":"#N/A"},{"$error":"#N/A"}]
[{"$error":"#N/A"},{"$error":"#N/A"},{"$error":"#N/A"},{"$error":"#N/A"}]
[{"$error":"#N/A"},{"$error":"#N/A"},{"$error":"#N/A"},{"$error":"#N/A"}]
[{"$error":"#N/A"},{"$error":"#N/A"},{"$error":"#N/A"},{"$error":"#N/A"}]
[{"$error":"#N/A"},{"$error":"#N/A"},{"$error":"#N/A"},{"$error":"#N/A"}]
[{"$error":"#N/A"},{"$error":"#N/A"},{"$error":"#N/A"},{"$error":"#N/A"}]
[{"$error":"#N/A"},{"$error":"#N/A"},{"$error":"#N/A"},{"$error":"#N/A"}]
[{"$error":"#N/A"},{"$error":"#N/A"},{"$error":"#N/A"},{"$error":"#N/A"}]
[{"$error":"#N/A"},{"$error":"#N/A"},{"$error":"#N/A"},{"$error":"#N/A"}]
[{"$error":"#N/A"},{"$error":"#N/A"},{"$error":"#N/A"},{"$error":"#N/A"}]
[{"$error":"#N/A"},{"$error":"#N/A"},{"$error":"#N/A"},{"$error":"#N/A"}]
[{"$error":"#N/A"},{"$error":"#N/A"},{"$error":"#N/A"},{"$error":"#N/A"}]
[{"$error":"#N/A"},{"$error":"#N/A"},{"$error":"#N/A"},{"$error":"#N/A"}]
[{"$error":"#N/A"},{"$error":"#N/A"},{"$error":"#N/A"},{"$error":"#N/A"}]
[{"$error":"#N/A"},{"$error":"#N/A"},{"$error":"#N/A"},{"$error":"#N/A"}]
[{"$error":"#N/A"},{"$error":"#N/A"},{"$error":"#N/A"},{"$error":"#N/A"}]
[{"$error":"#N/A"},{"$error":"#N/A"},{"$error":"#N/A"},{"$error":"#N/A"}]
[{"$error":"#N/A"},{"$error":"#N/A"},{"$error":"#N/A"},{"$error":"#N/A"}]
[{"$error":"#N/A"},{"$error":"#N/A"},{"$error":"#N/A"},{"$error":"#N/A"}]
[{"$error":"#N/A"},{"$error":"#N/A"},{"$error":"#N/A"},{"$error":"#N/A"}]
[{"$error":"#N/A"},{"$error":"#N/A"},{"$error":"#N/A"},{"$error":"#N/A"}]
[{"$error":"#N/A"},{"$error":"#N/A"},{"$error":"#N/A"},{"$error":"#N/A"}]
[{"$error":"#N/A"},{"$error":"#N/A"},{"$error":"#N/A"},{"$error":"#N/A"}]
[{"$error":"#N/A"},{"$error":"#N/A"},{"$error":"#N/A"},{"$error":"#N/A"}]
[{"$error":"#N/A"},{"$error":"#N/A"},{"$error":"#N/A"},{"$error":"#N/A"}]
[{"$error":"#N/A"},{"$error":"#N/A"},{"$error":"#N/A"},{"$error":"#N/A"}]
[{"$error":"#N/A"},{"$error":"#N/A"},{"$error":"#N/A"},{"$error":"#N/A"}]
[{"$error":"#N/A"},{"$error":"#N/A"},{"$error":"#N/A"},{"$error":"#N/A"}]
[{"$error":"#N/A"},{"$error":"#N/A"},{"$error":"#N/A"},{"$error":"#N/A"}]
[{"$error":"#N/A"},{"$error":"#N/A"},{"$error":"#N/A"},{"$error":"#N/A"}]
[{"$error":"#N/A"},{"$error":"#N/A"},{"$error":"#N/A"},{"$error":"#N/A"}]
[{"$error":"#N/A"},{"$error":"#N/A"},{"$error":"#N/A"},{"$error":"#N/A"}]
[{"$error":"#N/A"},{"$error":"#N/A"},{"$error":"#N/A"},{"$error":"#N/A"}]
[{"$error":"#N/A"},{"$error":"#N/A"},{"$error":"#N/A"},{"$error":"#N/A"}]
[{"$error":"#N/A"},{"$error":"#N/A"},{"$error":"#N/A"},{"$error":"#N/A"}]
[{"$error":"#N/A"},{"$error":"#N/A"},{"$error":"#N/A"},{"$error":"#N/A"}]
[{"$error":"#N/A"},{"$error":"#N/A"},{"$error":"#N/A"},{"$error":"#N/A"}]
[{"$error":"#N/A"},{"$error":"#N/A"},{"$error":"#N/A"},{"$error":"#N/A"}]
[{"$error":"#N/A"},{"$error":"#N/A"},{"$error":"#N/A"},{"$error":"#N/A"}]
[{"$error":"#N/A"},{"$error":"#N/A"},{"$error":"#N/A"},{"$error":"#N/A"}]
[{"$error":"#N/A"},{"$error":"#N/A"},{"$error":"#N/A"},{"$error":"#N/A"}]
[{"$error":"#N/A"},{"$error":"#N/A"},{"$error":"#N/A"},{"$error":"#N/A"}]
[{"$error":"#N/A"},{"$error":"#N/A"},{"$error":"#N/A"},{"$error":"#N/A"}]
[{"$error":"#N/A"},{"$error":"#N/A"},{"$error":"#N/A"},{"$error":"#N/A"}]
[{"$error":"#N/A"},{"$error":"#N/A"},{"$error":"#N/A"},{"$error":"#N/A"}]
[{"$error":"#N/A"},{"$error":"#N/A"},{"$error":"#N/A"},{"$error":"#N/A"}]
[{"$error":"#N/A"},{"$error":"#N/A"},{"$error":"#N/A"},{"$error":"#N/A"}]
[{"$error":"#N/A"},{"$error":"#N/A"},{"$error":"#N/A"},{"$error":"#N/A"}]
[{"$error":"#N/A"},{"$error":"#N/A"},{"$error":"#N/A"},{"$error":"#N/A"}]
[{"$error":"#N/A"},{"$error":"#N/A"},{"$error":"#N/A"},{"$error":"#N/A"}]
[{"$error":"#N/A"},{"$error":"#N/A"},{"$error":"#N/A"},{"$error":"#N/A"}]
[{"$error":"#N/A"},{"$error":"#N/A"},{"$error":"#N/A"},{"$error":"#N/A"}]
[{"$error":"#N/A"},{"$error":"#N/A"},{"$error":"#N/A"},{"$error":"#N/A"}]
[{"$error":"#N/A"},{"$error":"#N/A"},{"$error":"#N/A"},{"$error":"#N/A"}]
[{"$error":"#N/A"},{"$error":"#N/A"},{"$error":"#N/A"},{"$error":"#N/A"}]
[{"$error":"#N/A"},{"$error":"#N/A"},{"$error":"#N/A"},{"$error":"#N/A"}]
[{"$error":"#N/A"},{"$error":"#N/A"},{"$error":"#N/A"},{"$error":"#N/A"}]
[{"$error":"#N/A"},{"$error":"#N/A"},{"$error":"#N/A"},{"$error":"#N/A"}]
[{"$error":"#N/A"},{"$error":"#N/A"},{"$error":"#N/A"},{"$error":"#N/A"}]
[{"$error":"#N/A"},{"$error":"#N/A"},{"$error":"#N/A"},{"$error":"#N/A"}]
[{"$error":"#N/A"},{"$error":"#N/A"},{"$error":"#N/A"},{"$error":"#N/A"}]
[{"$error":"#N/A"},{"$error":"#N/A"},{"$error":"#N/A"},{"$error":"#N/A"}]
[{"$error":"#N/A"},{"$error":"#N/A"},{"$error":"#N/A"},{"$error":"#N/A"}]
[{"$error":"#N/A"},{"$error":"#N/A"},{"$error":"#N/A"},{"$error":"#N/A"}]
[{"$error":"#N/A"},{"$error":"#N/A"},{"$error":"#N/A"},{"$error":"#N/A"}]
[{"$error":"#N/A"},{"$error":"#N/A"},{"$error":"#N/A"},{"$error":"#N/A"}]
[{"$error":"#N/A"},{"$error":"#N/A"},{"$error":"#N/A"},{"$error":"#N/A"}]
[{"$error":"#N/A"},{"$error":"#N/A"},{"$error":"#N/A"},{"$error":"#N/A"}]
[{"$error":"#N/A"},{"$error":"#N/A"},{"$error":"#N/A"},{"$error":"#N/A"}]
[{"$error":"#N/A"},{"$error":"#N/A"},{"$error":"#N/A"},{"$error":"#N/A"}]
[{"$error":"#N/A"},{"$error":"#N/A"},{"$error":"#N/A"},{"$error":"#N/A"}]
[{"$error":"#N/A"},{"$error":"#N/A"},{"$error":"#N/A"},{"$error":"#N/A"}]
[{"$error":"#N/A"},{"$error":"#N/A"},{"$error":"#N/A"},{"$error":"#N/A"}]
[{"$error":"#N/A"},{"$error":"#N/A"},{"$error":"#N/A"},{"$error":"#N/A"}]
[{"$error":"#N/A"},{"$error":"#N/A"},{"$error":"#N/A"},{"$error":"#N/A"}]
[{"$error":"#N/A"},{"$error":"#N/A"},{"$error":"#N/A"},{"$error":"#N/A"}]
[{"$error":"#N/A"},{"$error":"#N/A"},{"$error":"#N/A"},{"$error":"#N/A"}]
[{"$error":"#N/A"},{"$error":"#N/A"},{"$error":"#N/A"},{"$error":"#N/A"}]
[{"$error":"#N/A"},{"$error":"#N/A"},{"$error":"#N/A"},{"$error":"#N/A"}]
[{"$error":"#N/A"},{"$error":"#N/A"},{"$error":"#N/A"},{"$error":"#N/A"}]
[{"$error":"#N/A"},{"$error":"#N/A"},{"$error":"#N/A"},{"$error":"#N/A"}]
[{"$error":"#N/A"},{"$error":"#N/A"},{"$error":"#N/A"},{"$error":"#N/A"}]
[{"$error":"#N/A"},{"$error":"#N/A"},{"$error":"#N/A"},{"$error":"#N/A"}]
[{"$error":"#N/A"},{"$error":"#N/A"},{"$error":"#N/A"},{"$error":"#N/A"}]
[{"$error":"#N/A"},{"$error":"#N/A"},{"$error":"#N/A"},{"$error":"#N/A"}]
[{"$error":"#N/A"},{"$error":"#N/A"},{"$error":"#N/A"},{"$error":"#N/A"}]
[{"$error":"#N/A"},{"$error":"#N/A"},{"$error":"#N/A"},{"$error":"#N/A"}]
[{"$error":"#N/A"},{"$error":"#N/A"},{"$error":"#N/A"},{"$error":"#N/A"}]
[{"$error":"#N/A"},{"$error":"#N/A"},{"$error":"#N/A"},{"$error":"#N/A"}]
[{"$error":"#N/A"},{"$error":"#N/A"},{"$error":"#N/A"},{"$error":"#N/A"}]
[{"$error":"#N/A"},{"$error":"#N/A"},{"$error":"#N/A"},{"$error":"#N/A"}]
[{"$error":"#N/A"},{"$error":"#N/A"},{"$error":"#N/A"},{"$error":"#N/A"}]
[{"$error":"#N/A"},{"$error":"#N/A"},{"$error":"#N/A"},{"$error":"#N/A"}]
[{"$error":"#N/A"},{"$error":"#N/A"},{"$error":"#N/A"},{"$error":"#N/A"}]
[{"$error":"#N/A"},{"$error":"#N/A"},{"$error":"#N/A"},{"$error":"#N/A"}]
[{"$error":"#N/A"},{"$error":"#N/A"},{"$error":"#N/A"},{"$error":"#N/A"}]
[{"$error":"#N/A"},{"$error":"#N/A"},{"$error":"#N/A"},{"$error":"#N/A"}]
[{"$error":"#N/A"},{"$error":"#N/A"},{"$error":"#N/A"},{"$error":"#N/A"}]
[{"$error":"#N/A"},{"$error":"#N/A"},{"$error":"#N/A"},{"$error":"#N/A"}]
[{"$error":"#N/A"},{"$error":"#N/A"},{"$error":"#N/A"},{"$error":"#N/A"}]
[{"$error":"#N/A"},{"$error":"#N/A"},{"$error":"#N/A"},{"$error":"#N/A"}]
[{"$error":"#N/A"},{"$error":"#N/A"},{"$error":"#N/A"},{"$error":"#N/A"}]
[{"$error":"#N/A"},{"$error":"#N/A"},{"$error":"#N/A"},{"$error":"#N/A"}]
[{"$error":"#N/A"},{"$error":"#N/A"},{"$error":"#N/A"},{"$error":"#N/A"}]
[{"$error":"#N/A"},{"$error":"#N/A"},{"$error":"#N/A"},{"$error":"#N/A"}]
[{"$error":"#N/A"},{"$error":"#N/A"},{"$error":"#N/A"},{"$error":"#N/A"}]
[{"$error":"#N/A"},{"$error":"#N/A"},{"$error":"#N/A"},{"$error":"#N/A"}]
[{"$error":"#N/A"},{"$error":"#N/A"},{"$error":"#N/A"},{"$error":"#N/A"}]
[{"$error":"#N/A"},{"$error":"#N/A"},{"$error":"#N/A"},{"$error":"#N/A"}]
[{"$error":"#N/A"},{"$error":"#N/A"},{"$error":"#N/A"},{"$error":"#N/A"}]
[{"$error":"#N/A"},{"$error":"#N/A"},{"$error":"#N/A"},{"$error":"#N/A"}]
[{"$error":"#N/A"},{"$error":"#N/A"},{"$error":"#N/A"},{"$error":"#N/A"}]
[{"$error":"#N/A"},{"$error":"#N/A"},{"$error":"#N/A"},{"$error":"#N/A"}]
[{"$error":"#N/A"},{"$error":"#N/A"},{"$error":"#N/A"},{"$error":"#N/A"}]
[{"$error":"#N/A"},{"$error":"#N/A"},{"$error":"#N/A"},{"$error":"#N/A"}]
[{"$error":"#N/A"},{"$error":"#N/A"},{"$error":"#N/A"},{"$error":"#N/A"}]
[{"$error":"#N/A"},{"$error":"#N/A"},{"$error":"#N/A"},{"$error":"#N/A"}]
[{"$error":"#N/A"},{"$error":"#N/A"},{"$error":"#N/A"},{"$error":"#N/A"}]
[{"$error":"#N/A"},{"$error":"#N/A"},{"$error":"#N/A"},{"$error":"#N/A"}]
[{"$error":"#N/A"},{"$error":"#N/A"},{"$error":"#N/A"},{"$error":"#N/A"}]
[{"$error":"#N/A"},{"$error":"#N/A"},{"$error":"#N/A"},{"$error":"#N/A"}]
[{"$error":"#N/A"},{"$error":"#N/A"},{"$error":"#N/A"},{"$error":"#N/A"}]
[{"$error":"#N/A"},{"$error":"#N/A"},{"$error":"#N/A"},{"$error":"#N/A"}]
[{"$error":"#N/A"},{"$error":"#N/A"},{"$error":"#N/A"},{"$error":"#N/A"}]
[{"$error":"#N/A"},{"$error":"#N/A"},{"$error":"#N/A"},{"$error":"#N/A"}]
[{"$error":"#N/A"},{"$error":"#N/A"},{"$error":"#N/A"},{"$error":"#N/A"}]
[{"$error":"#N/A"},{"$error":"#N/A"},{"$error":"#N/A"},{"$error":"#N/A"}]
[{"$error":"#N/A"},{"$error":"#N/A"},{"$error":"#N/A"},{"$error":"#N/A"}]
[{"$error":"#N/A"},{"$error":"#N/A"},{"$error":"#N/A"},{"$error":"#N/A"}]
[{"$error":"#N/A"},{"$error":"#N/A"},{"$error":"#N/A"},{"$error":"#N/A"}]
[{"$error":"#N/A"},{"$error":"#N/A"},{"$error":"#N/A"},{"$error":"#N/A"}]
[{"$error":"#N/A"},{"$error":"#N/A"},{"$error":"#N/A"},{"$error":"#N/A"}]
[{"$error":"#N/A"},{"$error":"#N/A"},{"$error":"#N/A"},{"$error":"#N/A"}]
[{"$error":"#N/A"},{"$error":"#N/A"},{"$error":"#N/A"},{"$error":"#N/A"}]
[{"$error":"#N/A"},{"$error":"#N/A"},{"$error":"#N/A"},{"$error":"#N/A"}]
[{"$error":"#N/A"},{"$error":"#N/A"},{"$error":"#N/A"},{"$error":"#N/A"}]
[{"$error":"#N/A"},{"$error":"#N/A"},{"$error":"#N/A"},{"$error":"#N/A"}]
[{"$error":"#N/A"},{"$error":"#N/A"},{"$error":"#N/A"},{"$error":"#N/A"}]
[{"$error":"#N/A"},{"$error":"#N/A"},{"$error":"#N/A"},{"$error":"#N/A"}]
[{"$error":"#N/A"},{"$error":"#N/A"},{"$error":"#N/A"},{"$error":"#N/A"}]
[{"$error":"#N/A"},{"$error":"#N/A"},{"$error":"#N/A"},{"$error":"#N/A"}]
[{"$error":"#N/A"},{"$error":"#N/A"},{"$error":"#N/A"},{"$error":"#N/A"}]
[{"$error":"#N/A"},{"$error":"#N/A"},{"$error":"#N/A"},{"$error":"#N/A"}]
[{"$error":"#N/A"},{"$error":"#N/A"},{"$error":"#N/A"},{"$error":"#N/A"}]
[{"$error":"#N/A"},{"$error":"#N/A"},{"$error":"#N/A"},{"$error":"#N/A"}]
[{"$error":"#N/A"},{"$error":"#N/A"},{"$error":"#N/A"},{"$error":"#N/A"}]
[{"$error":"#N/A"},{"$error":"#N/A"},{"$error":"#N/A"},{"$error":"#N/A"}]
[{"$error":"#N/A"},{"$error":"#N/A"},{"$error":"#N/A"},{"$error":"#N/A"}]
[{"$error":"#N/A"},{"$error":"#N/A"},{"$error":"#N/A"},{"$error":"#N/A"}]
[{"$error":"#N/A"},{"$error":"#N/A"},{"$error":"#N/A"},{"$error":"#N/A"}]
[{"$error":"#N/A"},{"$error":"#N/A"},{"$error":"#N/A"},{"$error":"#N/A"}]
[{"$error":"#N/A"},{"$error":"#N/A"},{"$error":"#N/A"},{"$error":"#N/A"}]
[{"$error":"#N/A"},{"$error":"#N/A"},{"$error":"#N/A"},{"$error":"#N/A"}]
[{"$error":"#N/A"},{"$error":"#N/A"},{"$error":"#N/A"},{"$error":"#N/A"}]
[{"$error":"#N/A"},{"$error":"#N/A"},{"$error":"#N/A"},{"$error":"#N/A"}]
[{"$error":"#N/A"},{"$error":"#N/A"},{"$error":"#N/A"},{"$error":"#N/A"}]
[{"$error":"#N/A"},{"$error":"#N/A"},{"$error":"#N/A"},{"$error":"#N/A"}]
[{"$error":"#N/A"},{"$error":"#N/A"},{"$error":"#N/A"},{"$error":"#N/A"}]
[{"$error":"#N/A"},{"$error":"#N/A"},{"$error":"#N/A"},{"$error":"#N/A"}]
[{"$error":"#N/A"},{"$error":"#N/A"},{"$error":"#N/A"},{"$error":"#N/A"}]
[{"$error":"#N/A"},{"$error":"#N/A"},{"$error":"#N/A"},{"$error":"#N/A"}]
[{"$error":"#N/A"},{"$error":"#N/A"},{"$error":"#N/A"},{"$error":"#N/A"}]
[{"$error":"#N/A"},{"$error":"#N/A"},{"$error":"#N/A"},{"$error":"#N/A"}]
[{"$error":"#N/A"},{"$error":"#N/A"},{"$error":"#N/A"},{"$error":"#N/A"}]
[{"$error":"#N/A"},{"$error":"#N/A"},{"$error":"#N/A"},{"$error":"#N/A"}]
[{"$error":"#N/A"},{"$error":"#N/A"},{"$error":"#N/A"},{"$error":"#N/A"}]
[{"$error":"#N/A"},{"$error":"#N/A"},{"$error":"#N/A"},{"$error":"#N/A"}]
[{"$error":"#N/A"},{"$error":"#N/A"},{"$error":"#N/A"},{"$error":"#N/A"}]
[{"$error":"#N/A"},{"$error":"#N/A"},{"$error":"#N/A"},{"$error":"#N/A"}]
[{"$error":"#N/A"},{"$error":"#N/A"},{"$error":"#N/A"},{"$error":"#N/A"}]
[{"$error":"#N/A"},{"$error":"#N/A"},{"$error":"#N/A"},{"$error":"#N/A"}]
[{"$error":"#N/A"},{"$error":"#N/A"},{"$error":"#N/A"},{"$error":"#N/A"}]
[{"$error":"#N/A"},{"$error":"#N/A"},{"$error":"#N/A"},{"$error":"#N/A"}]
[{"$error":"#N/A"},{"$error":"#N/A"},{"$error":"#N/A"},{"$error":"#N/A"}]
[{"$error":"#N/A"},{"$error":"#N/A"},{"$error":"#N/A"},{"$error":"#N/A"}]
[{"$error":"#N/A"},{"$error":"#N/A"},{"$error":"#N/A"},{"$error":"#N/A"}]
[{"$error":"#N/A"},{"$error":"#N/A"},{"$error":"#N/A"},{"$error":"#N/A"}]
[{"$error":"#N/A"},{"$error":"#N/A"},{"$error":"#N/A"},{"$error":"#N/A"}]
[{"$error":"#N/A"},{"$error":"#N/A"},{"$error":"#N/A"},{"$error":"#N/A"}]
[{"$error":"#N/A"},{"$error":"#N/A"},{"$error":"#N/A"},{"$error":"#N/A"}]
[{"$error":"#N/A"},{"$error":"#N/A"},{"$error":"#N/A"},{"$error":"#N/A"}]
[{"$error":"#N/A"},{"$error":"#N/A"},{"$error":"#N/A"},{"$error":"#N/A"}]
[{"$error":"#N/A"},{"$error":"#N/A"},{"$error":"#N/A"},{"$error":"#N/A"}]
[{"$error":"#N/A"},{"$error":"#N/A"},{"$error":"#N/A"},{"$error":"#N/A"}]
[{"$error":"#N/A"},{"$error":"#N/A"},{"$error":"#N/A"},{"$error":"#N/A"}]
[{"$error":"#N/A"},{"$error":"#N/A"},{"$error":"#N/A"},{"$error":"#N/A"}]
[{"$error":"#N/A"},{"$error":"#N/A"},{"$error":"#N/A"},{"$error":"#N/A"}]
[{"$error":"#N/A"},{"$error":"#N/A"},{"$error":"#N/A"},{"$error":"#N/A"}]
[{"$error":"#N/A"},{"$error":"#N/A"},{"$error":"#N/A"},{"$error":"#N/A"}]
[{"$error":"#N/A"},{"$error":"#N/A"},{"$error":"#N/A"},{"$error":"#N/A"}]
[{"$error":"#N/A"},{"$error":"#N/A"},{"$error":"#N/A"},{"$error":"#N/A"}]
[{"$error":"#N/A"},{"$error":"#N/A"},{"$error":"#N/A"},{"$error":"#N/A"}]
[{"$error":"#N/A"},{"$error":"#N/A"},{"$error":"#N/A"},{"$error":"#N/A"}]
[{"$error":"#N/A"},{"$error":"#N/A"},{"$error":"#N/A"},{"$error":"#N/A"}]
[{"$error":"#N/A"},{"$error":"#N/A"},{"$error":"#N/A"},{"$error":"#N/A"}]
[{"$error":"#N/A"},{"$error":"#N/A"},{"$error":"#N/A"},{"$error":"#N/A"}]
[{"$error":"#N/A"},{"$error":"#N/A"},{"$error":"#N/A"},{"$error":"#N/A"}]
[{"$error":"#N/A"},{"$error":"#N/A"},{"$error":"#N/A"},{"$error":"#N/A"}]
[{"$error":"#N/A"},{"$error":"#N/A"},{"$error":"#N/A"},{"$error":"#N/A"}]
[{"$error":"#N/A"},{"$error":"#N/A"},{"$error":"#N/A"},{"$error":"#N/A"}]
[{"$error":"#N/A"},{"$error":"#N/A"},{"$error":"#N/A"},{"$error":"#N/A"}]
[{"$error":"#N/A"},{"$error":"#N/A"},{"$error":"#N/A"},{"$error":"#N/A"}]
[{"$error":"#N/A"},{"$error":"#N/A"},{"$error":"#N/A"},{"$error":"#N/A"}]
[{"$error":"#N/A"},{"$error":"#N/A"},{"$error":"#N/A"},{"$error":"#N/A"}]
[{"$error":"#N/A"},{"$error":"#N/A"},{"$error":"#N/A"},{"$error":"#N/A"}]
[{"$error":"#N/A"},{"$error":"#N/A"},{"$error":"#N/A"},{"$error":"#N/A"}]
[{"$error":"#N/A"},{"$error":"#N/A"},{"$error":"#N/A"},{"$error":"#N/A"}]
[{"$error":"#N/A"},{"$error":"#N/A"},{"$error":"#N/A"},{"$error":"#N/A"}]
[{"$error":"#N/A"},{"$error":"#N/A"},{"$error":"#N/A"},{"$error":"#N/A"}]
[{"$error":"#N/A"},{"$error":"#N/A"},{"$error":"#N/A"},{"$error":"#N/A"}]
[{"$error":"#N/A"},{"$error":"#N/A"},{"$error":"#N/A"},{"$error":"#N/A"}]
[{"$error":"#N/A"},{"$error":"#N/A"},{"$error":"#N/A"},{"$error":"#N/A"}]
[{"$error":"#N/A"},{"$error":"#N/A"},{"$error":"#N/A"},{"$error":"#N/A"}]
[{"$error":"#N/A"},{"$error":"#N/A"},{"$error":"#N/A"},{"$error":"#N/A"}]
[{"$error":"#N/A"},{"$error":"#N/A"},{"$error":"#N/A"},{"$error":"#N/A"}]
[{"$error":"#N/A"},{"$error":"#N/A"},{"$error":"#N/A"},{"$error":"#N/A"}]
[{"$error":"#N/A"},{"$error":"#N/A"},{"$error":"#N/A"},{"$error":"#N/A"}]
[{"$error":"#N/A"},{"$error":"#N/A"},{"$error":"#N/A"},{"$error":"#N/A"}]
[{"$error":"#N/A"},{"$error":"#N/A"},{"$error":"#N/A"},{"$error":"#N/A"}]
[{"$error":"#N/A"},{"$error":"#N/A"},{"$error":"#N/A"},{"$error":"#N/A"}]
[{"$error":"#N/A"},{"$error":"#N/A"},{"$error":"#N/A"},{"$error":"#N/A"}]
[{"$error":"#N/A"},{"$error":"#N/A"},{"$error":"#N/A"},{"$error":"#N/A"}]
[{"$error":"#N/A"},{"$error":"#N/A"},{"$error":"#N/A"},{"$error":"#N/A"}]
[{"$error":"#N/A"},{"$error":"#N/A"},{"$error":"#N/A"},{"$error":"#N/A"}]
[{"$error":"#N/A"},{"$error":"#N/A"},{"$error":"#N/A"},{"$error":"#N/A"}]
[{"$error":"#N/A"},{"$error":"#N/A"},{"$error":"#N/A"},{"$error":"#N/A"}]
[{"$error":"#N/A"},{"$error":"#N/A"},{"$error":"#N/A"},{"$error":"#N/A"}]
[{"$error":"#N/A"},{"$error":"#N/A"},{"$error":"#N/A"},{"$error":"#N/A"}]
[{"$error":"#N/A"},{"$error":"#N/A"},{"$error":"#N/A"},{"$error":"#N/A"}]
[{"$error":"#N/A"},{"$error":"#N/A"},{"$error":"#N/A"},{"$error":"#N/A"}]
[{"$error":"#N/A"},{"$error":"#N/A"},{"$error":"#N/A"},{"$error":"#N/A"}]
[{"$error":"#N/A"},{"$error":"#N/A"},{"$error":"#N/A"},{"$error":"#N/A"}]
[{"$error":"#N/A"},{"$error":"#N/A"},{"$error":"#N/A"},{"$error":"#N/A"}]
[{"$error":"#N/A"},{"$error":"#N/A"},{"$error":"#N/A"},{"$error":"#N/A"}]
[{"$error":"#N/A"},{"$error":"#N/A"},{"$error":"#N/A"},{"$error":"#N/A"}]
[{"$error":"#N/A"},{"$error":"#N/A"},{"$error":"#N/A"},{"$error":"#N/A"}]
[{"$error":"#N/A"},{"$error":"#N/A"},{"$error":"#N/A"},{"$error":"#N/A"}]
[{"$error":"#N/A"},{"$error":"#N/A"},{"$error":"#N/A"},{"$error":"#N/A"}]
[{"$error":"#N/A"},{"$error":"#N/A"},{"$error":"#N/A"},{"$error":"#N/A"}]
[{"$error":"#N/A"},{"$error":"#N/A"},{"$error":"#N/A"},{"$error":"#N/A"}]
[{"$error":"#N/A"},{"$error":"#N/A"},{"$error":"#N/A"},{"$error":"#N/A"}]
[{"$error":"#N/A"},{"$error":"#N/A"},{"$error":"#N/A"},{"$error":"#N/A"}]
[{"$error":"#N/A"},{"$error":"#N/A"},{"$error":"#N/A"},{"$error":"#N/A"}]
[{"$error":"#N/A"},{"$error":"#N/A"},{"$error":"#N/A"},{"$error":"#N/A"}]
[{"$error":"#N/A"},{"$error":"#N/A"},{"$error":"#N/A"},{"$error":"#N/A"}]
[{"$error":"#N/A"},{"$error":"#N/A"},{"$error":"#N/A"},{"$error":"#N/A"}]
[{"$error":"#N/A"},{"$error":"#N/A"},{"$error":"#N/A"},{"$error":"#N/A"}]
[{"$error":"#N/A"},{"$error":"#N/A"},{"$error":"#N/A"},{"$error":"#N/A"}]
[{"$error":"#N/A"},{"$error":"#N/A"},{"$error":"#N/A"},{"$error":"#N/A"}]
[{"$error":"#N/A"},{"$error":"#N/A"},{"$error":"#N/A"},{"$error":"#N/A"}]
[{"$error":"#N/A"},{"$error":"#N/A"},{"$error":"#N/A"},{"$error":"#N/A"}]
[{"$error":"#N/A"},{"$error":"#N/A"},{"$error":"#N/A"},{"$error":"#N/A"}]
[{"$error":"#N/A"},{"$error":"#N/A"},{"$error":"#N/A"},{"$error":"#N/A"}]
[{"$error":"#N/A"},{"$error":"#N/A"},{"$error":"#N/A"},{"$error":"#N/A"}]
[{"$error":"#N/A"},{"$error":"#N/A"},{"$error":"#N/A"},{"$error":"#N/A"}]
[{"$error":"#N/A"},{"$error":"#N/A"},{"$error":"#N/A"},{"$error":"#N/A"}]
[{"$error":"#N/A"},{"$error":"#N/A"},{"$error":"#N/A"},{"$error":"#N/A"}]
[{"$error":"#N/A"},{"$error":"#N/A"},{"$error":"#N/A"},{"$error":"#N/A"}]
[{"$error":"#N/A"},{"$error":"#N/A"},{"$error":"#N/A"},{"$error":"#N/A"}]

{"sheet":"Fisch Holding","index":5,"n_rows":3146,"n_cols":5,"rows_kept":3146,"cut":false,"hidden":false,"merged":[]}
[{"$f":"[2]!FT(\"getopos/?_view_config=InstrumentAccountVOerview\")","v":"Account"},"None",0,0,0]
["Valuation Date","2015-01-14",0,0,0]
[0,0,0,0,0]
["ISIN","INSTRUMENT","POSITION SIZE","CLIENT ACCOUNT TYPE","CLIENT ACCOUNT"]
["AT0000A0WMQ5","CONWERT IMMO INV/4.5%/06.09.2018",800000,"Mandate","WaiblingenKSK_Helaba"]
["BE0002176429","COFINIMMO/3.125%/28.04.2016",10181845.6,"Fund,Mandate","BayernInvestConvert,BPK-UI,CB_Sustainable,FreiburgED,Mecklenb1_MEL-DeAM,Mecklenb2_MEIII-DeAM,SIMJL_Daiwa_Global_I,SpkHannover,VSW_RANRW_INKA,VWINKA"]
["BE6258355120","SAGERPAR(GBL)/0.375%/09.10.2018",85600000,"Fund,Mandate","BAEK_INKA,BayernInvestConvert,BAYVK-UI,BLVK_CS,Bond_CHF,BPK-UI,ERK_MI,FreiburgED,HybridInt,ICEF,Mecklenb1_MEL-DeAM,Mecklenb2_MEIII-DeAM,PSVaG_UI,StuttgLV-BI,VGV_INKA,VSW_RANRW_INKA,WaiblingenKSK_Helaba,WIN4"]
["CH0107130822","BALOISE HOLDING/1.5%/17.11.2016",6500000,"Fund,Mandate","BAEK_INKA,BAYVK-UI,BLVK_CS,ERK_MI,HybridInt,PSVaG_UI,VGV_INKA"]
["CH0205276790","SCHINDLER (ALSO)/0.375%/05.06.2017",7500000,"Fund,Mandate","CB_Sustainable,WIN4"]
["CH0227342232","SWISS LIFE HOLD/0%/02.12.2020",34710000,"Fund,Mandate","BAEK_INKA,BayernInvestConvert,BAYVK-UI,BLVK_CS,BPK-UI,CB_Sustainable,ERK_MI,FreiburgED,ICEF,Mecklenb1_MEL-DeAM,Mecklenb2_MEIII-DeAM,PSVaG_UI,SpkHannover,VGV_INKA,VSW_RANRW_INKA,VWINKA,WaiblingenKSK_Helaba"]
["DE000A11QGV1","RAG STIFTUNG (EVONIK)/0%/31.12.2018",33400000,"Fund,Mandate","BayernInvestConvert,Bond_CHF,BPK-UI,FreiburgED,ICEF,Mecklenb1_MEL-DeAM,Mecklenb2_MEIII-DeAM,SpkHannover,StuttgLV-BI,VSW_RANRW_INKA,VWINKA,WaiblingenKSK_Helaba"]
["DE000A12UDH7","DEUTSCHE WOHNEN/0.875%/08.09.2021",28100000,"Fund,Mandate","BAEK_INKA,BAYVK-UI,BLVK_CS,Bond_Global_HY,ERK_MI,HybridInt,PSVaG_UI,VGV_INKA,WIN4"]
["DE000A13R491","FRESENIUS MEDICA/1.125%/31.01.2020",26600000,"Fund,Mandate","BayernInvestConvert,BLVK_CS,BPK-UI,CB_Sustainable,ERK_MI,FreiburgED,HybridInt,ICEF,Mecklenb1_MEL-DeAM,Mecklenb2_MEIII-DeAM,PSVaG_UI,SpkHannover,StuttgLV-BI,VSW_RANRW_INKA,VWINKA,WaiblingenKSK_Helaba"]
["DE000A1AYDS2","SALZGITTER (AURUBIS)/2%/08.11.2017",36850000,"Fund,Mandate","BAEK_INKA,BAYVK-UI,BLVK_CS,ERK_MI,HybridInt,Mecklenb1_MEL-DeAM,Mecklenb2_MEIII-DeAM,PSVaG_UI,SpkHannover,VGV_INKA,VWINKA,WaiblingenKSK_Helaba,WIN4"]
["DE000A1G0WA1","SIEMENS FINAN/1.05%/16.08.2017",65750000,"Fund,Mandate","BAEK_INKA,CB_Sustainable,ICEF,Mecklenb1_MEL-DeAM,Mecklenb2_MEIII-DeAM,SpkHannover,VGV_INKA,VSW_RANRW_INKA,VWINKA,WaiblingenKSK_Helaba,WIN4"]
["DE000A1G0WC7","SIEMENS FINAN/1.65%/16.08.2019",131750000,"Fund,Mandate","BAEK_INKA,BayernInvestConvert,BAYVK-UI,BLVK_CS,Bond_CHF,BPK-UI,CB_Sustainable,ERK_MI,FreiburgED,HybridInt,ICEF,Mecklenb1_MEL-DeAM,Mecklenb2_MEIII-DeAM,PSVaG_UI,SpkHannover,StuttgLV-BI,VGV_INKA,VSW_RANRW_INKA,VWINKA,WaiblingenKSK_Helaba,WIN4"]
["DE000A1GKFA1","KLOECKNER & CO/2.5%/22.12.2017",2400000,"Fund","SIMJL_Daiwa_Global_I"]
["DE000A1ML0D9","ADIDAS AG/0.25%/14.06.2019",32400000,"Fund,Mandate","BAEK_INKA,BAYVK-UI,BLVK_CS,ERK_MI,HybridInt,PSVaG_UI,VGV_INKA,WIN4"]
["DE000A1R0VM5","DEUTSCHE POST AG/0.6%/06.12.2019",72600000,"Fund,Mandate","BAEK_INKA,BayernInvestConvert,BAYVK-UI,BLVK_CS,BPK-UI,CB_Sustainable,ERK_MI,FreiburgED,HybridInt,ICEF,PSVaG_UI,SpkHannover,StuttgLV-BI,VGV_INKA,VWINKA,WIN4"]
["DE000A1YC3T6","FRESENIUS SE/0%/24.09.2019",5400000,"Fund,Mandate","CB_Sustainable,PSVaG_UI"]
["DE000A1YCR02","DEUTSCHE WOHNEN/0.5%/22.11.2020",4600000,"Fund,Mandate","BLVK_CS,ERK_MI,HybridInt,VSW_RANRW_INKA"]
["DE000LEG1CB5","LEG IMMOBILIEN/0.5%/01.07.2021",11500000,"Fund,Mandate","BAEK_INKA,BAYVK-UI,BLVK_CS,ERK_MI,HybridInt,PSVaG_UI,StuttgLV-BI,VGV_INKA"]
["FR0000180994","AXA SA/3.75%/01.01.2017",160600,"Fund,Mandate","BayernInvestConvert,Bond_CHF,BPK-UI,CB_Sustainable,FreiburgED,ICEF,Mecklenb1_MEL-DeAM,Mecklenb2_MEIII-DeAM,VSW_RANRW_INKA,VWINKA"]
["FR0010449264","MICHELIN CGDE/0%/01.01.2017",295500,"Fund,Mandate","BayernInvestConvert,BPK-UI,FreiburgED,ICEF,Mecklenb1_MEL-DeAM,Mecklenb2_MEIII-DeAM,SpkHannover,VSW_RANRW_INKA,VWINKA,WaiblingenKSK_Helaba"]
["FR0011163864","TECHNIP/0.25%/01.01.2017",18000,"Mandate","Mecklenb1_MEL-DeAM,SpkHannover,VWINKA,WaiblingenKSK_Helaba"]
["FR0011321330","UNIBAIL-RODAMCO/0.75%/01.01.2018",171000,"Fund,Mandate","BAEK_INKA,BAYVK-UI,CB_Sustainable,HybridInt,Mecklenb1_MEL-DeAM,Mecklenb2_MEIII-DeAM,PSVaG_UI,SpkHannover,VGV_INKA,VWINKA,WaiblingenKSK_Helaba,WIN4"]
["FR0011521673","UNIBAIL-RODAMCO/0%/01.07.2021",160428,"Fund,Mandate","BAEK_INKA,BAYVK-UI,BLVK_CS,Bond_CHF,BPK-UI,CB_Sustainable,ERK_MI,FreiburgED,ICEF,Mecklenb1_MEL-DeAM,Mecklenb2_MEIII-DeAM,SpkHannover,VGV_INKA,VSW_RANRW_INKA,VWINKA,WaiblingenKSK_Helaba,WIN4"]
["FR0011567908","RALLYE SA (CASINO)/1%/02.10.2020",2300,"Mandate","StuttgLV-BI"]
["FR0011600352","CAP GEMINI SOGET/0%/01.01.2019",1000500,"Fund,Mandate","BAEK_INKA,BayernInvestConvert,BAYVK-UI,BLVK_CS,BPK-UI,ERK_MI,FreiburgED,HybridInt,ICEF,Mecklenb1_MEL-DeAM,Mecklenb2_MEIII-DeAM,PSVaG_UI,SpkHannover,StuttgLV-BI,VGV_INKA,VSW_RANRW_INKA,VWINKA,WaiblingenKSK_Helaba,WIN4"]
["FR0011629344","FONCIERE REGIONS/0.875%/01.04.2019",221800,"Fund,Mandate","BAEK_INKA,BAYVK-UI,BLVK_CS,CB_Sustainable,ERK_MI,HybridInt,Mecklenb1_MEL-DeAM,Mecklenb2_MEIII-DeAM,PSVaG_UI,StuttgLV-BI,VGV_INKA,VSW_RANRW_INKA,WIN4"]
["FR0011641034","CREDIT AGRICOLE (EURAZEO)/06.12.2016",252000,"Fund,Mandate","BAEK_INKA,BAYVK-UI,BLVK_CS,CB_Sustainable,ERK_MI,HybridInt,PSVaG_UI,VGV_INKA,WIN4"]
["FR0011766120","SUEZ ENVIRON/0%/27.02.2020",4556240,"Fund,Mandate","BAEK_INKA,BayernInvestConvert,BAYVK-UI,BLVK_CS,BPK-UI,ERK_MI,FreiburgED,HybridInt,ICEF,Mecklenb1_MEL-DeAM,Mecklenb2_MEIII-DeAM,PSVaG_UI,SpkHannover,VGV_INKA,VSW_RANRW_INKA,VWINKA,WaiblingenKSK_Helaba,WIN4"]
["FR0011948314","ALCATEL-LUCENT/0.125%/30.01.2020",2300000,"Fund","Bond_Global_HY,CB_Sustainable,HybridInt"]
["JP316640PDC4","EHIME BANK/0.15%/31.03.2021",160000000,"Fund","HybridInt"]
["JP325390PDC5","KYORITSU MAINTEN/0%/28.12.2018",1660000000,"Fund,Mandate","BAEK_INKA,BAYVK-UI,BLVK_CS,ERK_MI,HybridInt,PSVaG_UI,SpkHannover,StuttgLV-BI,VGV_INKA,VWINKA,WIN4"]
["JP348340PE15","DAISAN BANK/0%/30.04.2019",240000000,"Fund,Mandate","ERK_MI,HybridInt,PSVaG_UI"]
["JP354767PD91","TEMP HOLDINGS CO/0%/19.09.2018",1000000000,"Mandate","WIN4"]
["JP364830PE35","NAGANO BANK/0%/30.04.2021",151000000,"Fund","HybridInt"]
["JP384700PC99","HOKKAIDO GAS CO/0.15%/25.09.2017",160000000,"Fund","HybridInt"]
["JP388800PDC7","MICHINOKU BANK/0%/31.01.2019",850000000,"Fund,Mandate","BAEK_INKA,BAYVK-UI,ERK_MI,HybridInt,PSVaG_UI,VGV_INKA"]
["JP395700PD78","YOKOHAMA REITO/0%/17.07.2018",537000000,"Mandate","Mecklenb1_MEL-DeAM,Mecklenb2_MEIII-DeAM,SpkHannover,VSW_RANRW_INKA,VWINKA,WaiblingenKSK_Helaba"]
["NO0010710395","MARINE HARVEST/0.875%/06.05.2019",6500000,"Fund,Mandate","BLVK_CS,ERK_MI,HybridInt,PSVaG_UI"]
["SE0004548030","ELEKTA AB/2.75%/25.04.2017",26000000,"Fund","CB_Sustainable"]
["US00184XAA37","AOL/144A/0.75%/01.09.2019",8700000,"Fund,Mandate","BLVK_CS,ERK_MI,HybridInt,PSVaG_UI"]
["US00484MAA45","ACORDA THE/REG/1.75%/15.06.2021",1400000,"Fund","HybridInt"]
["US00971TAF84","AKAMAI TECH/0%/15.02.2019",2000000,"Fund","HybridInt"]
["US04010LAB99","ARES CAPITAL COR/5.75%/01.02.2016",2000000,"Fund","SIMJL_Daiwa_Global_I"]
["US04010LAM54","ARES CAPITAL COR/REG/4.375%/15.01.2019",37500000,"Fund,Mandate","BayernInvestConvert,Bond_CHF,BPK-UI,FreiburgED,ICEF,Mecklenb1_MEL-DeAM,Mecklenb2_MEIII-DeAM,SpkHannover,VSW_RANRW_INKA,VWINKA,WaiblingenKSK_Helaba"]
["US09061GAE17","BIOMARIN PHARM/0.75%/15.10.2018",3300000,"Fund,Mandate","BLVK_CS,ERK_MI,HybridInt,PSVaG_UI"]
["US09061GAF81","BIOMARIN PHARM/1.5%/15.10.2020",3000000,"Fund","CB_Sustainable"]
["US111621AP39","BROCADE COM SYS/144A/1.375%/01.01.2020",14500000,"Fund,Mandate","BayernInvestConvert,BLVK_CS,BPK-UI,ERK_MI,FreiburgED,HybridInt,ICEF,PSVaG_UI,StuttgLV-BI"]
["US15670RAB33","CEPHEID INC/1.25%/01.02.2021",10100000,"Fund,Mandate","BLVK_CS,CB_Sustainable,ERK_MI,HybridInt,PSVaG_UI"]
["US165167BW68","CHESAPEAKE ENRGY/2.75%/15.11.2035",1500000,"Fund","SIMJL_Daiwa_Global_I"]
["US165167BZ99","CHESAPEAKE/2.5%/15.05.2037",400000,"Mandate","StuttgLV-BI"]
["US177376AC40","CITRIX SYSTEMS/144A/0.5%/15.04.2019",131800000,"Fund,Mandate","BAEK_INKA,BayernInvestConvert,BAYVK-UI,BLVK_CS,Bond_CHF,BPK-UI,CB_Sustainable,FreiburgED,ICEF,Mecklenb1_MEL-DeAM,Mecklenb2_MEIII-DeAM,PSVaG_UI,SpkHannover,StuttgLV-BI,VGV_INKA,VSW_RANRW_INKA,VWINKA,WaiblingenKSK_Helaba,WIN4"]
["US249908AA20","DEPOMED INC/2.5%/01.09.2021",7200000,"Fund,Mandate","BLVK_CS,ERK_MI,HybridInt,Mecklenb1_MEL-DeAM,Mecklenb2_MEIII-DeAM,PSVaG_UI,StuttgLV-BI,VSW_RANRW_INKA,WaiblingenKSK_Helaba"]
["US285512AA71","ELECTRONIC ARTS/0.75%/15.07.2016",7000000,"Mandate","WIN4"]
["US29089QAA31","EMERGENT BIOSOLU/2.875%/15.01.2021",1500000,"Fund","HybridInt"]
["US298736AG45","EURONET WORLDWID/144A/1.5%/01.10.2044",9100000,"Fund,Mandate","BLVK_CS,BPK-UI,ERK_MI,FreiburgED,HybridInt,PSVaG_UI,SpkHannover,StuttgLV-BI,VSW_RANRW_INKA,VWINKA"]
["US30225VAC19","EXTRA SPACE STOR/2.375%/01.07.2033",16000000,"Fund,Mandate","BAEK_INKA,BAYVK-UI,BLVK_CS,CB_Sustainable,ERK_MI,HybridInt,MA_MantaPlus,PSVaG_UI,StuttgLV-BI,VGV_INKA"]
["US316827AA25","51JOB INC/144A/3.25%/15.04.2019",1500000,"Fund","Nomura_Asian_CB"]
["US31787AAM36","FINISAR CORP/0.5%/15.12.2033",500000,"Mandate","ERK_MI"]
["US421924BL47","HEALTHSOUTH CORP/2%/01.12.2043",8500000,"Fund,Mandate","BLVK_CS,CB_Sustainable,ERK_MI,HybridInt,PSVaG_UI,StuttgLV-BI"]
["US422245AB65","HEALTHWAYS INC/1.5%/01.07.2018",7000000,"Fund,Mandate","CB_Sustainable,ERK_MI,HybridInt,PSVaG_UI"]
["US436440AC59","HOLOGIC INC/FRN-STEP/01.03.2042",6500000,"Fund,Mandate","BLVK_CS,ERK_MI,HybridInt,PSVaG_UI"]
["US452327AE94","ILLUMINA/144A/0.0%/15.06.2019",16000000,"Mandate","WIN4"]
["US452327AG43","ILLUMINA INC/0.5%/15.06.2021",92900000,"Fund,Mandate","BAEK_INKA,BayernInvestConvert,BAYVK-UI,BLVK_CS,Bond_CHF,BPK-UI,ERK_MI,FreiburgED,HybridInt,ICEF,PSVaG_UI,StuttgLV-BI,VGV_INKA,VSW_RANRW_INKA,WIN4"]
["US457985AK56","INTEGRA LIFESCIE/1.625%/15.12.2016",7700000,"Fund,Mandate","BLVK_CS,ERK_MI,HybridInt,PSVaG_UI"]
["US458140AD22","INTEL CORP/2.95%/15.12.2035",102050000,"Fund,Mandate","BAEK_INKA,BayernInvestConvert,BAYVK-UI,BLVK_CS,Bond_CHF,BPK-UI,CB_Sustainable,FreiburgED,HybridInt,ICEF,Mecklenb1_MEL-DeAM,Mecklenb2_MEIII-DeAM,PSVaG_UI,StuttgLV-BI,VGV_INKA,VSW_RANRW_INKA,VWINKA,WIN4"]
["US458140AF79","INTEL CORP/144A/3.25%/01.08.2039",23300000,"Mandate","BAEK_INKA,BAYVK-UI,ERK_MI,PSVaG_UI,VGV_INKA,WIN4"]
["US464337AH78","ISIS PHARMACEUTI/144A/1%/15.11.2021",7800000,"Fund,Mandate","BLVK_CS,CB_Sustainable,ERK_MI,HybridInt,PSVaG_UI,StuttgLV-BI"]
["US46612JAF84","JDS UNIPHASE/0.625%/15.08.2033",1300000,"Mandate","ERK_MI,PSVaG_UI"]
["US471109AK41","JARDEN CORP/1.125%/15.03.2034",23700000,"Fund,Mandate","BayernInvestConvert,BLVK_CS,BPK-UI,CB_Sustainable,ERK_MI,FreiburgED,HybridInt,ICEF,PSVaG_UI,StuttgLV-BI,VSW_RANRW_INKA"]
["US472145AA96","JAZZ INVT I LTD/144A/1.875%/15.08.2021",5100000,"Fund,Mandate","BLVK_CS,ERK_MI,HybridInt,PSVaG_UI"]
["US48123VAC63","J2 GLOBAL COMM/3.25%/15.06.2029",4100000,"Fund,Mandate","BLVK_CS,ERK_MI,HybridInt,PSVaG_UI"]
["US48666KAS87","KB HOME/1.375%/01.02.2019",2800000,"Fund,Mandate","BLVK_CS,HybridInt"]
["US512807AL20","LAM RESEAR/1.25%/15.05.2018",24600000,"Mandate","BAEK_INKA,BAYVK-UI,SpkHannover,VGV_INKA,VWINKA,WIN4"]
["US530610AB05","LIBERTY INTER (HSN) /1%/30.09.2043",8100000,"Fund,Mandate","BLVK_CS,ERK_MI,HybridInt,Mecklenb1_MEL-DeAM,Mecklenb2_MEIII-DeAM,PSVaG_UI,VSW_RANRW_INKA,WaiblingenKSK_Helaba"]
["US53578AAA60","LINKEDIN CORP/144A/0.5%/01.11.2019",31400000,"Fund,Mandate","BAEK_INKA,BAYVK-UI,BLVK_CS,CB_Sustainable,ERK_MI,HybridInt,PSVaG_UI,VGV_INKA,VSW_RANRW_INKA,WIN4"]
["US538034AH26","LIVE NATION ENT/144A/2.5%/15.05.2019",2300000,"Fund,Mandate","HybridInt,PSVaG_UI"]
["US55608BAA35","MACQUARIE INFRAS/2.875%/15.07.2019",39300000,"Fund,Mandate","BAEK_INKA,BayernInvestConvert,BAYVK-UI,BLVK_CS,Bond_CHF,BPK-UI,ERK_MI,FreiburgED,ICEF,PSVaG_UI,StuttgLV-BI,VGV_INKA,VSW_RANRW_INKA,WIN4"]
["US584688AD72","MEDICINES COMP/144A/2.5%/15.01.2022",5700000,"Fund,Mandate","BLVK_CS,CB_Sustainable,ERK_MI,HybridInt"]
["US58471AAB17","MEDIDATA SOLUTIO/REG/1%/01.08.2018",5000000,"Fund","CB_Sustainable"]
["US60855RAC43","MOLINA HEALTHCAR/1.125%/15.01.2020",2950000,"Fund,Mandate","BLVK_CS,ERK_MI,HybridInt,PSVaG_UI,StuttgLV-BI"]
["US60855RAD26","MOLINA HEALTHCAR/1.625%/15.08.2044",2000000,"Fund","HybridInt"]
["US62952QAA85","NXP SEMICOND/144A/1%/01.12.2019",21500000,"Fund,Mandate","BayernInvestConvert,BLVK_CS,BPK-UI,ERK_MI,FreiburgED,HybridInt,ICEF,PSVaG_UI,StuttgLV-BI,VSW_RANRW_INKA,WaiblingenKSK_Helaba"]
["US63633DAE40","NATIONAL HEALTH/3.25%/01.04.2021",5500000,"Fund,Mandate","BAEK_INKA,BAYVK-UI,MA_MantaPlus,VGV_INKA"]
["US651639AJ57","NEWMONT MINING/1.625%/15.07.2017",1000000,"Mandate","SpkHannover,VWINKA"]
["US67066GAC87","NVIDIA CORP/1%/01.12.2018",21300000,"Fund,Mandate","BLVK_CS,BPK-UI,CB_Sustainable,ERK_MI,FreiburgED,HybridInt,PSVaG_UI,StuttgLV-BI,WIN4"]
["US670704AC96","NUVASIVE INC/2.75%/01.07.2017",6200000,"Fund,Mandate","CB_Sustainable,ERK_MI,HybridInt,PSVaG_UI"]
["US681904AQ12","OMNICARE INC/3.5%/15.02.2044",8100000,"Fund,Mandate","BLVK_CS,ERK_MI,HybridInt,PSVaG_UI,StuttgLV-BI"]
["US681904AR94","OMNICARE INC/3.25%/15.12.2035/1",3000000,"Fund,Mandate","BLVK_CS,HybridInt"]
["US697435AA30","PALO ALTO NET/144A/0%/01.07.2019",5350000,"Fund,Mandate","BLVK_CS,ERK_MI,HybridInt,PSVaG_UI,StuttgLV-BI"]
["US741503AS58","PRICELINE.COM/REG/0.35%/15.06.2020",50350000,"Mandate","BAEK_INKA,BAYVK-UI,BLVK_CS,Mecklenb1_MEL-DeAM,Mecklenb2_MEIII-DeAM,PSVaG_UI,SpkHannover,VGV_INKA,VWINKA,WaiblingenKSK_Helaba,WIN4"]
["US741503AT32","PRICELINE GROUP/144A/0.9%/15.09.2021",83800000,"Fund,Mandate","BayernInvestConvert,Bond_CHF,BPK-UI,FreiburgED,ICEF,Mecklenb1_MEL-DeAM,Mecklenb2_MEIII-DeAM,SpkHannover,StuttgLV-BI,VSW_RANRW_INKA,VWINKA,WaiblingenKSK_Helaba,WIN4"]
["US74340XAT81","PROLOGIS INC/3.25%/15.03.2015",7000000,"Mandate","WIN4"]
["US749685AT01","RPM INTL INC/2.25%/15.12.2020",28800000,"Fund,Mandate","BAEK_INKA,BAYVK-UI,BLVK_CS,ERK_MI,HybridInt,PSVaG_UI,StuttgLV-BI,VGV_INKA,WIN4"]
["US756577AC63","RED HAT INC/144A/0.25%/01.10.2019",103900000,"Fund,Mandate","BAEK_INKA,BayernInvestConvert,BAYVK-UI,BLVK_CS,BPK-UI,ERK_MI,FreiburgED,HybridInt,ICEF,Mecklenb1_MEL-DeAM,Mecklenb2_MEIII-DeAM,PSVaG_UI,SpkHannover,StuttgLV-BI,VGV_INKA,VSW_RANRW_INKA,VWINKA,WaiblingenKSK_Helaba,WIN4"]
["US761283AA86","RESTORATION HARD/144A/0%/15.06.2019",3800000,"Fund,Mandate","ERK_MI,HybridInt,PSVaG_UI"]
["US780287AA66","ROYAL GOLD INC/2.875%/15.06.2019",900000,"Mandate","Mecklenb1_MEL-DeAM,Mecklenb2_MEIII-DeAM,WaiblingenKSK_Helaba"]
["US783764AS21","RYLAND GROUP/0.25%/01.06.2019",500000,"Mandate","WaiblingenKSK_Helaba"]
["US79466LAD64","SALESFORCE.COM/0.25%/01.04.2018",38150000,"Fund,Mandate","BAEK_INKA,BAYVK-UI,BLVK_CS,CB_Sustainable,ERK_MI,HybridInt,Mecklenb1_MEL-DeAM,Mecklenb2_MEIII-DeAM,PSVaG_UI,StuttgLV-BI,VGV_INKA,VSW_RANRW_INKA,WaiblingenKSK_Helaba,WIN4"]
["US80004CAF86","SANDISK CORP/0.5%/15.10.2020",27700000,"Fund,Mandate","BLVK_CS,CB_Sustainable,ERK_MI,HybridInt,Mecklenb1_MEL-DeAM,Mecklenb2_MEIII-DeAM,PSVaG_UI,VSW_RANRW_INKA,WaiblingenKSK_Helaba,WIN4"]
["US81762PAB85","SERVICENOW INC/0%/01.11.2018",4900000,"Fund,Mandate","ERK_MI,HybridInt,PSVaG_UI,StuttgLV-BI"]
["US86732YAE95","SUNEDISON INC/0.25%/15.01.2020",9000000,"Fund","CB_Sustainable"]
["US867652AH20","SUNPOWER CORP/144A/0.875%/01.06.2021",3790000,"Fund","CB_Sustainable"]
["US874054AD16","TAKE-TWO INTERAC/1%/01.07.2018",300000,"Mandate","PSVaG_UI"]
["US88160RAB78","TESLA MOTORS INC/0.25%/01.03.2019",5000000,"Fund","CB_Sustainable"]
["US88160RAC51","TESLA MOTORS INC/1.25%/01.03.2021",11650000,"Fund,Mandate","BPK-UI,CB_Sustainable,Mecklenb1_MEL-DeAM,Mecklenb2_MEIII-DeAM,VSW_RANRW_INKA,VWINKA,WaiblingenKSK_Helaba"]
["US88163VAE92","TEVA PHARM/0.25%/01.02.2026",44000000,"Fund,Mandate","BAEK_INKA,BayernInvestConvert,BAYVK-UI,BLVK_CS,BPK-UI,FreiburgED,ICEF,PSVaG_UI,SpkHannover,StuttgLV-BI,VGV_INKA,VWINKA,WIN4"]
["US89628EAD67","TRINA SOLAR LTD/144A/4%/15.10.2019",3750000,"Fund","CB_Sustainable"]
["US90184LAC63","TWITTER INC/144A/1%/15.09.2021",2100000,"Mandate","Mecklenb1_MEL-DeAM,Mecklenb2_MEIII-DeAM,VWINKA,WaiblingenKSK_Helaba"]
["US92343XAA81","VERINT SYS/REG/1.5%/01.06.2021",4100000,"Fund,Mandate","BLVK_CS,ERK_MI,HybridInt,PSVaG_UI"]
["US98426TAA43","YY INC/2.25%/01.04.2019",1600000,"Fund","Nomura_Asian_CB"]
["US984332AF31","YAHOO INC/0%/01.12.2018",8100000,"Fund,Mandate","BLVK_CS,ERK_MI,HybridInt,PSVaG_UI,WIN4"]
["USG73030AC58","QIHOO 360 TECH/1.75%/15.08.2021",1400000,"Fund","Nomura_Asian_CB"]
["XS0303539786","CAPITALAND LTD/2.95%/20.06.2022",1000000,"Fund","Nomura_Asian_CB"]
["XS0345271489","CAPITALAND LTD/3.125%/05.03.2018",3000000,"Fund","SIMJL_Daiwa_Global_I"]
["XS0349621119","YAMADA DENKI CO/0%/31.03.2015",100000000,"Fund","MAV_MANTA_CHF"]
["XS0450423321","OLAM INTL LTD/6%/15.10.2016",2500000,"Fund","Nomura_Asian_CB"]
["XS0468958433","SQUARE ENIX HOLD/0%/04.02.2015",885000000,"Fund,Mandate","MA_MantaPlus,PSVaG_UI,WIN4"]
["XS0493723968","PB ISSUER (PACIFIC BASIN)/1.75%/12.04.2016",2200000,"Fund","Nomura_Asian_CB,SIMJL_Daiwa_Global_I"]
["XS0495834607","YTL CORP FINANCE/1.875%/18.03.2015",14800000,"Mandate","SpkHannover,VWINKA,WaiblingenKSK_Helaba,WIN4"]
["XS0496240184","RUBY ASSETS (ASCENDAS REIT)/1.6%/01.02.2017",25250000,"Mandate","WIN4"]
["XS0503743949","TUI TRAVEL PLC/4.9%/27.04.2017",1800000,"Fund","HybridInt"]
["XS0503773698","BENI STABILI/3.875%/23.04.2015",1000000,"Fund","SIMJL_Daiwa_Global_I"]
["XS0511612623","NIDEC CORP/0%/18.09.2015",1020000000,"Mandate","BLVK_CS,PSVaG_UI,WIN4"]
["XS0528416315","ACER INC/0%/10.08.2017",4000000,"Fund","Nomura_Asian_CB,SIMJL_Daiwa_Global_I"]
["XS0530879492","AU OPTRONICS/0%/13.10.2015",2200000,"Fund","Nomura_Asian_CB"]
["XS0546152645","BILLION EXPRESS (CHINA UNICOM)/0.75%/18.10.2015",38700000,"Fund,Mandate","BAEK_INKA,BAYVK-UI,BLVK_CS,ERK_MI,Nomura_Asian_CB,SIMJL_Daiwa_Global_I,VGV_INKA,WIN4"]
["XS0550864192","WERELDHAVE NV/2.875%/18.11.2015",4200000,"Fund,Mandate","MAV_MANTA_CHF,Mecklenb1_MEL-DeAM,Mecklenb2_MEIII-DeAM,SIMJL_Daiwa_Global_I"]
["XS0553317156","KEPPEL LAND LTD/1.875%/29.11.2015",7700000,"Fund","Bond_CHF,Nomura_Asian_CB,SIMJL_Daiwa_Global_I"]
["XS0563898062","LUKOIL INTL FINANCE BV/2.625%/16.06.2015",7200000,"Fund,Mandate","Mecklenb1_MEL-DeAM,Mecklenb2_MEIII-DeAM,SIMJL_Daiwa_Global_I,SpkHannover,VSW_RANRW_INKA,VWINKA,WaiblingenKSK_Helaba"]
["XS0579438663","INDUSTRIVARDEN/1.875%/27.02.2017",48000000,"Fund,Mandate","BAEK_INKA,BAYVK-UI,BLVK_CS,HybridInt,Mecklenb1_MEL-DeAM,Mecklenb2_MEIII-DeAM,SpkHannover,VGV_INKA,VSW_RANRW_INKA,VWINKA,WaiblingenKSK_Helaba,WIN4"]
["XS0593734980","YAMATO HOLDINGS/0%/07.03.2016",900000000,"Mandate","WIN4"]
["XS0616495148","NEWFORD (SHANGRI-LA)/0%/12.05.2016",5700000,"Fund","Nomura_Asian_CB,SIMJL_Daiwa_Global_I"]
["XS0630591377","SEKISUI HOUSE CO/0%/05.07.2016",500000000,"Mandate","WIN4"]
["XS0632138961","AABAR (DAIMLER)/4%/27.05.2016",38800000,"Fund,Mandate","BAEK_INKA,BayernInvestConvert,BAYVK-UI,BLVK_CS,ERK_MI,FreiburgED,HybridInt,ICEF,PSVaG_UI,StuttgLV-BI,VGV_INKA,WIN4"]
["XS0634907769","ASIA CEMENT/0%/07.06.2016",30000000,"Mandate","WIN4"]
["XS0640924998","LOTTE SHOPPING/JPY/0%/05.07.2016",60000000,"Fund","MAV_MANTA_CHF"]
["XS0641119812","NOVION PROPERTY/5.75%/04.07.2016",47200000,"Fund,Mandate","BayernInvestConvert,Bond_CHF,BPK-UI,CB_Sustainable,FreiburgED,ICEF,Mecklenb1_MEL-DeAM,Mecklenb2_MEIII-DeAM,SpkHannover,VSW_RANRW_INKA,VWINKA,WaiblingenKSK_Helaba"]
["XS0658274252","FAR EASTERN INTL/0%/07.02.2018",7000000,"Fund,Mandate","Mecklenb1_MEL-DeAM,Mecklenb2_MEIII-DeAM,SIMJL_Daiwa_Global_I,VSW_RANRW_INKA,WaiblingenKSK_Helaba"]
["XS0673557764","MAKINO MILLING/0%/19.03.2018",2150000000,"Fund,Mandate","BAEK_INKA,BAYVK-UI,ERK_MI,HybridInt,PSVaG_UI,VGV_INKA,WIN4"]
["XS0752753581","YASKAWA ELECTRIC CORP/0%/16.03.2017",200000000,"Fund","HybridInt"]
["XS0755481339","FUKUYAMA TRANS/0%/22.03.2017",1370000000,"Fund,Mandate","HybridInt,WIN4"]
["XS0758719024","OSG CORPORATION/0%/04.04.2022",1840000000,"Fund,Mandate","BLVK_CS,CB_Sustainable,HybridInt,VWINKA,WIN4"]
["XS0759818643","CHINA OVER GRAND OCEAN/FRN-STEP/21.03.2017",22000000,"Fund","MAV_MANTA_CHF,SIMJL_Daiwa_Global_I"]
["XS0759986432","PULAI CAPITAL (PARKSON RETAIL)/0%/22.03.2019",800000,"Fund","MAV_MANTA_CHF"]
["XS0761797868","SOLIDIUM (TELIASONERA)/0.5%/29.09.2015",900000,"Fund","MAV_MANTA_CHF"]
["XS0764303813","CHINA HONGQIAO GROUP/6.5%/10.04.2017",5000000,"Fund,Mandate","ERK_MI,Nomura_Asian_CB,PSVaG_UI,SIMJL_Daiwa_Global_I"]
["XS0802936319","OSAKI ELEC CO/0%/26.07.2017",260000000,"Fund,Mandate","ERK_MI,HybridInt,PSVaG_UI"]
["XS0818638909","CAPITACOMMERCIAL/2.5%/12.09.2017",17000000,"Fund,Mandate","HybridInt,WIN4"]
["XS0827518159","GOLDEN AGRI LTD/2.5%/04.10.2017",3400000,"Fund","Nomura_Asian_CB,SIMJL_Daiwa_Global_I"]
["XS0827556241","SOFINA (GDF SUEZ)/1%/19.09.2016",19500000,"Fund,Mandate","BAEK_INKA,BayernInvestConvert,BAYVK-UI,Bond_CHF,BPK-UI,ICEF,StuttgLV-BI,VGV_INKA"]
["XS0827594762","BRITISH LAND CO/1.5%/10.09.2017",40100000,"Fund,Mandate","BAEK_INKA,BAYVK-UI,BLVK_CS,CB_Sustainable,ERK_MI,HybridInt,Mecklenb1_MEL-DeAM,Mecklenb2_MEIII-DeAM,PSVaG_UI,SpkHannover,VGV_INKA,VSW_RANRW_INKA,VWINKA,WaiblingenKSK_Helaba,WIN4"]
["XS0832723927","CHINA MERCHANTS/1.25%/06.11.2017",258000000,"Mandate","BAEK_INKA,BAYVK-UI,VGV_INKA,WaiblingenKSK_Helaba,WIN4"]
["XS0834486796","INTU PROPERTIES/2.5%/04.10.2018",9200000,"Fund,Mandate","BAEK_INKA,BAYVK-UI,BLVK_CS,CB_Sustainable,ERK_MI,HybridInt,PSVaG_UI,VGV_INKA"]
["XS0834718594","PB ISSUER 3 (PACIFIC BASIN)/1.875%/22.10.2018",400000,"Fund","Nomura_Asian_CB"]
["XS0836237213","HK EXCHANGES/0.5%/23.10.2017",35500000,"Fund,Mandate","CB_Sustainable,WIN4"]
["XS0856648679","KUREHA CORP/0%/14.03.2018",1480000000,"Mandate","WIN4"]
["XS0859959446","FOSTER ELECTRIC/0%/15.12.2017",250000000,"Fund,Mandate","ERK_MI,HybridInt"]
["XS0860994200","ENI SPA (GALP)/0.25%/30.11.2015",3500000,"Fund,Mandate","MAV_MANTA_CHF,Mecklenb1_MEL-DeAM,Mecklenb2_MEIII-DeAM,VSW_RANRW_INKA,WaiblingenKSK_Helaba"]
["XS0876187815","ABC MART/0%/05.02.2018",1000000000,"Mandate","WIN4"]
["XS0877756071","ASIA CEMENT/0%/13.05.2018",10570000,"Mandate","BAEK_INKA,BAYVK-UI,PSVaG_UI,SpkHannover,VGV_INKA,VSW_RANRW_INKA,VWINKA,WIN4"]
["XS0877820422","ENI SPA (SNAM)/0.625%/18.01.2016",84100000,"Fund,Mandate","BAEK_INKA,BayernInvestConvert,BAYVK-UI,BLVK_CS,BPK-UI,ERK_MI,FreiburgED,HybridInt,ICEF,Mecklenb1_MEL-DeAM,Mecklenb2_MEIII-DeAM,PSVaG_UI,SIMJL_Daiwa_Global_I,SpkHannover,StuttgLV-BI,VGV_INKA,VSW_RANRW_INKA,VWINKA,WaiblingenKSK_Helaba,WIN4"]
["XS0878021913","TONG JIE (SHANGHAI IND)/0%/18.02.2018",175000000,"Fund,Mandate","Mecklenb1_MEL-DeAM,Mecklenb2_MEIII-DeAM,Nomura_Asian_CB,SIMJL_Daiwa_Global_I,SpkHannover,VSW_RANRW_INKA,VWINKA,WaiblingenKSK_Helaba,WIN4"]
["XS0882243453","GRP BRUXELLES (GDF SUEZ)/1.25%/07.02.2017",18100000,"Fund,Mandate","BAEK_INKA,BAYVK-UI,BLVK_CS,ERK_MI,HybridInt,PSVaG_UI,VGV_INKA,WIN4"]
["XS0884410019","ENN ENERGY HLDG/0%/26.02.2018",30750000,"Mandate","BAEK_INKA,BAYVK-UI,ERK_MI,PSVaG_UI,SpkHannover,VGV_INKA,VWINKA,WIN4"]
["XS0894197606","SUNTEC REIT/1.4%/18.03.2018",40000000,"Fund,Mandate","MAV_MANTA_CHF,Nomura_Asian_CB,SIMJL_Daiwa_Global_I,WIN4"]
["XS0901332337","PRYSMIAN SPA/1.25%/08.03.2018",800000,"Mandate","ERK_MI,PSVaG_UI"]
["XS0906876114","BNP PARIBAS (PARGESA) /0.25%/27.09.2016",30500000,"Fund,Mandate","BAEK_INKA,BAYVK-UI,CB_Sustainable,ERK_MI,HybridInt,PSVaG_UI,VGV_INKA,VSW_RANRW_INKA,WIN4"]
["XS0914319552","NIPPON CERAMIC/0%/24.04.2018",80000000,"Fund,Mandate","BayernInvestConvert,WaiblingenKSK_Helaba"]
["XS0914326417","SHIZUOKA BANK/0%/25.04.2018",16300000,"Mandate","SpkHannover,VWINKA,WIN4"]
["XS0916265787","PARK24 CO LTD/0%/26.04.2018",400000000,"Mandate","Mecklenb1_MEL-DeAM,Mecklenb2_MEIII-DeAM,SpkHannover,VSW_RANRW_INKA,VWINKA,WaiblingenKSK_Helaba"]
["XS0935605401","CAPITALAND LTD/1.85%/19.06.2020",68000000,"Fund,Mandate","BayernInvestConvert,Bond_CHF,BPK-UI,CB_Sustainable,FreiburgED,ICEF,Mecklenb1_MEL-DeAM,Mecklenb2_MEIII-DeAM,Nomura_Asian_CB,VSW_RANRW_INKA,WaiblingenKSK_Helaba"]
["XS0936737195","HENGAN INTL/0%/27.06.2018",33000000,"Fund,Mandate","Mecklenb1_MEL-DeAM,Mecklenb2_MEIII-DeAM,Nomura_Asian_CB,WaiblingenKSK_Helaba"]
["XS0938970562","NAT BK ABU DHABI/1%/12.03.2018",85800000,"Fund,Mandate","BAEK_INKA,BAYVK-UI,BLVK_CS,CB_Sustainable,ERK_MI,FreiburgED,HybridInt,ICEF,Mecklenb1_MEL-DeAM,Mecklenb2_MEIII-DeAM,PSVaG_UI,SpkHannover,StuttgLV-BI,VGV_INKA,VSW_RANRW_INKA,VWINKA,WaiblingenKSK_Helaba,WIN4"]
["XS0939672670","NIHON UNISYS LTD/0%/20.06.2016",1570000000,"Mandate","Mecklenb1_MEL-DeAM,Mecklenb2_MEIII-DeAM,WaiblingenKSK_Helaba,WIN4"]
["XS0951414043","BANK OF IWATE/0%/25.07.2018",9400000,"Mandate","Mecklenb1_MEL-DeAM,Mecklenb2_MEIII-DeAM,SpkHannover,VWINKA,WaiblingenKSK_Helaba,WIN4"]
["XS0951513455","PARAMOUNT BED HD/0%/26.07.2018",990000000,"Fund,Mandate","Bond_Global_HY,ERK_MI,Mecklenb1_MEL-DeAM,Mecklenb2_MEIII-DeAM,PSVaG_UI,WaiblingenKSK_Helaba,WIN4"]
["XS0952552486","NIKKISO/0%/02.08.2018",1475000000,"Mandate","StuttgLV-BI,VSW_RANRW_INKA,WaiblingenKSK_Helaba,WIN4"]
["XS0952944568","HAITONG INTERNAT/1.25%/18.07.2018",42000000,"Fund,Mandate","BLVK_CS,ERK_MI,HybridInt,Nomura_Asian_CB"]
["XS0954745351","DERWENT/1.125%/24.07.2019",27900000,"Fund,Mandate","BAEK_INKA,BAYVK-UI,BLVK_CS,CB_Sustainable,ERK_MI,HybridInt,Mecklenb1_MEL-DeAM,Mecklenb2_MEIII-DeAM,PSVaG_UI,SpkHannover,VGV_INKA,VSW_RANRW_INKA,VWINKA,WaiblingenKSK_Helaba,WIN4"]
["XS0957543506","EPISTAR CORP/0%/07.08.2018",900000,"Mandate","ERK_MI,PSVaG_UI"]
["XS0965095887","DAIFUKU CO/0%/02.10.2017",1675000000,"Fund,Mandate","BLVK_CS,CB_Sustainable,WIN4"]
["XS0965427981","MAEDA CORP/0%/13.09.2018",900000000,"Mandate","WIN4"]
["XS0967009381","KAWASAKI KISEN/0%/26.09.2018",1720000000,"Fund,Mandate","BAEK_INKA,BAYVK-UI,BLVK_CS,ERK_MI,HybridInt,PSVaG_UI,SpkHannover,VGV_INKA,VWINKA,WIN4"]
["XS0968252006","ADVANCED SEMICON/0%/05.09.2018",20000000,"Fund,Mandate","CB_Sustainable,WIN4"]
["XS0969485068","GREAT PORTLAND/1%/10.09.2018",10100000,"Fund,Mandate","BAEK_INKA,BAYVK-UI,CB_Sustainable,PSVaG_UI,VGV_INKA,WIN4"]
["XS0969810745","SEINO HOLDINGS/0%/01.10.2018",170000000,"Fund","HybridInt,MA_MantaPlus"]
["XS0971995237","NAGOYA RAILROAD/0%/03.10.2023",600000000,"Mandate","WIN4"]
["XS0974088402","CAPITALAND LTD/1.95%/17.10.2023",81750000,"Fund,Mandate","BAEK_INKA,BAYVK-UI,BLVK_CS,Bond_Global_HY,Bond_Value_IG,CB_Sustainable,ERK_MI,HybridInt,Nomura_Asian_CB,PSVaG_UI,StuttgLV-BI,VGV_INKA,WIN4"]
["XS0974154550","OCI NV/3.875%/30.09.2018",1600000,"Fund,Mandate","HybridInt,PSVaG_UI"]
["XS0974286030","SENKO CO LTD/0%/15.10.2018",190000000,"Fund,Mandate","HybridInt,VSW_RANRW_INKA"]
["XS0976007327","MISUMI CORP/0%/22.10.2018",12000000,"Fund,Mandate","BLVK_CS,HybridInt,WIN4"]
["XS0977748978","UNITE JERSEY/2.5%/10.10.2018",6900000,"Fund,Mandate","CB_Sustainable,ERK_MI,HybridInt,PSVaG_UI"]
["XS0980205271","SBI HOLDINGS INC/0%/02.11.2017",6910000000,"Fund,Mandate","BAEK_INKA,BayernInvestConvert,BAYVK-UI,BLVK_CS,BPK-UI,CB_Sustainable,ERK_MI,FreiburgED,HybridInt,ICEF,Mecklenb1_MEL-DeAM,Mecklenb2_MEIII-DeAM,PSVaG_UI,SpkHannover,VGV_INKA,VSW_RANRW_INKA,VWINKA,WaiblingenKSK_Helaba,WIN4"]
["XS0985326411","INDAH CAP (IHH)/0%/24.10.2018",43800000,"Fund,Mandate","Bond_Global_HY,Bond_Value_IG,BPK-UI,FreiburgED,HybridInt,Nomura_Asian_CB,WIN4"]
["XS0987076899","SEMICONDUCTOR MA/0%/07.11.2018",34500000,"Fund,Mandate","BAEK_INKA,BAYVK-UI,BLVK_CS,ERK_MI,Mecklenb1_MEL-DeAM,Mecklenb2_MEIII-DeAM,Nomura_Asian_CB,PSVaG_UI,VGV_INKA,WaiblingenKSK_Helaba,WIN4"]
["XS0989029706","GS YUASA CORP/0%/13.03.2019",1000000000,"Mandate","WIN4"]
["XS0989390249","NH HOTELES SA/4%/08.11.2018",2000000,"Fund","CB_Sustainable"]
["XS0992613157","AMPLITER NV/2.875%/14.11.2018",3700000,"Fund,Mandate","BLVK_CS,ERK_MI,HybridInt,PSVaG_UI"]
["XS0993227213","LOGO STAR (FOSUN)/1.5%/22.11.2018",45000000,"Fund,Mandate","ERK_MI,HybridInt,Nomura_Asian_CB,PSVaG_UI"]
["XS0994599990","NIPPON LIGHT MTL/0%/10.12.2018",2760000000,"Fund,Mandate","BAEK_INKA,BAYVK-UI,BLVK_CS,ERK_MI,HybridInt,PSVaG_UI,SpkHannover,VGV_INKA,VSW_RANRW_INKA,VWINKA,WIN4"]
["XS0996455803","TAKASHIMAYA CO/0%/11.12.2018",660000000,"Fund,Mandate","HybridInt,MA_MantaPlus,Mecklenb1_MEL-DeAM,Mecklenb2_MEIII-DeAM,VSW_RANRW_INKA,WaiblingenKSK_Helaba"]
["XS0996456520","TAKASHIMAYA CO/0%/11.12.2020",3160000000,"Fund,Mandate","BAEK_INKA,BayernInvestConvert,BAYVK-UI,BLVK_CS,Bond_CHF,BPK-UI,ERK_MI,FreiburgED,HybridInt,ICEF,PSVaG_UI,SpkHannover,StuttgLV-BI,VGV_INKA,VSW_RANRW_INKA,VWINKA,WIN4"]
["XS0996928122","MUSASHI SEIMITSU/0%/06.12.2018",350000000,"Fund,Mandate","Bond_Global_HY,WIN4"]
["XS0997588727","YAMAGUCHI FIN GP/0%/20.12.2018",22900000,"Fund,Mandate","BAEK_INKA,BAYVK-UI,BLVK_CS,CB_Sustainable,ERK_MI,HybridInt,StuttgLV-BI,VGV_INKA,WIN4"]
["XS1000862398","TOPPAN PRINTING/0%/19.12.2016",710000000,"Fund,Mandate","MA_MantaPlus,SpkHannover,VWINKA,WIN4"]
["XS1000908993","TOPPAN PRINTING/0%/19.12.2019",2040000000,"Mandate","BAEK_INKA,BAYVK-UI,PSVaG_UI,VGV_INKA,VSW_RANRW_INKA,WIN4"]
["XS1008564848","TAIYO YUDEN CO/0%/27.01.2021",2590000000,"Fund,Mandate","BAEK_INKA,BAYVK-UI,BLVK_CS,CB_Sustainable,ERK_MI,HybridInt,PSVaG_UI,VGV_INKA,WIN4"]
["XS1013691024","CHINA OVRS FIN 4/0%/04.02.2021",67600000,"Fund,Mandate","BAEK_INKA,BayernInvestConvert,BAYVK-UI,BLVK_CS,Bond_CHF,BPK-UI,ERK_MI,HybridInt,ICEF,Mecklenb1_MEL-DeAM,Mecklenb2_MEIII-DeAM,Nomura_Asian_CB,PSVaG_UI,SpkHannover,StuttgLV-BI,VGV_INKA,VSW_RANRW_INKA,VWINKA,WaiblingenKSK_Helaba,WIN4"]
["XS1015788448","HAITIAN INTL HOL/2%/13.02.2019",2000000,"Fund","Nomura_Asian_CB"]
["XS1020736069","ACCIONA S.A./3%/30.01.2019",7700000,"Fund,Mandate","CB_Sustainable,PSVaG_UI"]
["XS1023684282","STEINHOFF FINANC/4%/30.01.2021",13000000,"Fund,Mandate","BPK-UI,ERK_MI,FreiburgED,HybridInt,ICEF,Mecklenb1_MEL-DeAM,Mecklenb2_MEIII-DeAM,PSVaG_UI,SpkHannover,StuttgLV-BI,VSW_RANRW_INKA,VWINKA,WaiblingenKSK_Helaba"]
["XS1027633434","CEZ MH BV(MOL)/0%/04.08.2017",2600000,"Mandate","Mecklenb1_MEL-DeAM,Mecklenb2_MEIII-DeAM,SpkHannover,VWINKA,WaiblingenKSK_Helaba"]
["XS1030986613","ASICS CORP/0%/01.03.2019",970000000,"Mandate","StuttgLV-BI,WIN4"]
["XS1034964111","ADVANTEST CORP/0%/14.03.2019",5320000000,"Fund,Mandate","BAEK_INKA,BayernInvestConvert,BAYVK-UI,BLVK_CS,BPK-UI,CB_Sustainable,ERK_MI,FreiburgED,ICEF,Mecklenb1_MEL-DeAM,Mecklenb2_MEIII-DeAM,PSVaG_UI,SpkHannover,StuttgLV-BI,VGV_INKA,VSW_RANRW_INKA,VWINKA,WaiblingenKSK_Helaba,WIN4"]
["XS1036325527","GRAND CITY PROP/1.5%/24.02.2019",2100000,"Fund,Mandate","BLVK_CS,ERK_MI,HybridInt"]
["XS1040531904","SOLIDIUM (SAMPO)/0%/04.09.2018",31100000,"Fund,Mandate","BAEK_INKA,BayernInvestConvert,BAYVK-UI,BLVK_CS,BPK-UI,CB_Sustainable,ERK_MI,FreiburgED,HybridInt,ICEF,PSVaG_UI,StuttgLV-BI,VGV_INKA,VSW_RANRW_INKA"]
["XS1040998749","ST MODWEN PROP/2.875%/06.03.2019",200000,"Mandate","PSVaG_UI"]
["XS1042273927","NH FOODS LTD/0%/26.09.2018",1980000000,"Fund,Mandate","BAEK_INKA,BAYVK-UI,BLVK_CS,ERK_MI,HybridInt,PSVaG_UI,StuttgLV-BI,VGV_INKA,WIN4"]
["XS1042530326","ALPS ELECTRIC CO/0%/25.03.2019",1910000000,"Fund,Mandate","BAEK_INKA,BAYVK-UI,BLVK_CS,ERK_MI,HybridInt,PSVaG_UI,VGV_INKA,WIN4"]
["XS1042925005","JOHNSON ELEC HLD/1%/02.04.2021",3250000,"Fund","Nomura_Asian_CB"]
["XS1046477581","QIAGEN NV/0.875%/19.03.2021",20800000,"Fund,Mandate","BayernInvestConvert,CB_Sustainable,FreiburgED,ICEF,StuttgLV-BI"]
["XS1051776158","YAMAGATA BANK/0%/22.04.2019",2800000,"Mandate","FreiburgED,SpkHannover,VWINKA,WaiblingenKSK_Helaba"]
["XS1054643983","VASTNED RETAIL/1.875%/10.04.2019",5800000,"Fund,Mandate","BLVK_CS,CB_Sustainable,ERK_MI,PSVaG_UI"]
["XS1055003435","MITSUI OSK LINES/0%/24.04.2020",21300000,"Fund,Mandate","CB_Sustainable,FreiburgED,ICEF,Mecklenb1_MEL-DeAM,Mecklenb2_MEIII-DeAM,SpkHannover,VWINKA,WaiblingenKSK_Helaba"]
["XS1055030917","JOYO BANK LTD/0%/24.04.2019",5000000,"Fund","CB_Sustainable"]
["XS1056384420","AYC FINANCE LTD/0.5%/02.05.2019",1250000,"Mandate","ERK_MI,PSVaG_UI"]
["XS1064689075","YAMADA DENKI CO/0%/28.06.2019",650000000,"Mandate","Mecklenb1_MEL-DeAM,Mecklenb2_MEIII-DeAM,SpkHannover,VSW_RANRW_INKA,VWINKA,WaiblingenKSK_Helaba"]
["XS1067081692","INDUSTRIVARDEN (ICA GRUPPEN)/0%/15.05.2019",761000000,"Fund,Mandate","BAEK_INKA,BayernInvestConvert,BAYVK-UI,BLVK_CS,Bond_CHF,BPK-UI,ERK_MI,FreiburgED,HybridInt,ICEF,PSVaG_UI,SpkHannover,StuttgLV-BI,VGV_INKA,VSW_RANRW_INKA,WIN4"]
["XS1069846381","WERELDHAVE NV/1%/22.05.2019",35600000,"Fund,Mandate","BayernInvestConvert,Bond_CHF,BPK-UI,CB_Sustainable,FreiburgED,ICEF,VSW_RANRW_INKA"]
["XS1069938741","TORAY INDUSTRIES/0%/30.08.2019",3240000000,"Fund,Mandate","BAEK_INKA,BAYVK-UI,BLVK_CS,ERK_MI,HybridInt,ICEF,MA_MantaPlus,PSVaG_UI,VGV_INKA,WIN4"]
["XS1069939392","TORAY INDUSTRIES/0%/31.08.2021",2540000000,"Fund,Mandate","BAEK_INKA,BAYVK-UI,ICEF,StuttgLV-BI,VGV_INKA,WIN4"]
["XS1072637645","SHENZHOU INTERNA/0.5%/18.06.2019",20000000,"Fund","Nomura_Asian_CB"]
["XS1076088340","BIC CAMERA INC/0%/28.06.2021",2060000000,"Fund,Mandate","BAEK_INKA,BAYVK-UI,BLVK_CS,ERK_MI,HybridInt,PSVaG_UI,VGV_INKA,WIN4"]
["XS1077058722","ZHEN DING TECH/0%/26.06.2019",2300000,"Fund","Nomura_Asian_CB"]
["XS1077992904","SHINE POWER (BEIJING ENTERPR)/0%/28.07.2019",10000000,"Fund","Nomura_Asian_CB"]
["XS1078764302","DP WORLD LTD/1.75%/19.06.2024",109200000,"Fund,Mandate","BAEK_INKA,BayernInvestConvert,BAYVK-UI,BLVK_CS,Bond_CHF,Bond_Global_HY,Bond_Value_IG,BPK-UI,ERK_MI,FreiburgED,HybridInt,ICEF,Mecklenb1_MEL-DeAM,Mecklenb2_MEIII-DeAM,PSVaG_UI,SpkHannover,StuttgLV-BI,VGV_INKA,VSW_RANRW_INKA,VWINKA,WaiblingenKSK_Helaba,WIN4"]
["XS1083956307","STMICROELECTRON/0%/03.07.2019",14000000,"Mandate","BLVK_CS,Mecklenb1_MEL-DeAM,Mecklenb2_MEIII-DeAM,SpkHannover,StuttgLV-BI,VSW_RANRW_INKA,VWINKA,WaiblingenKSK_Helaba,WIN4"]
["XS1083957024","STMICROELECTRON/1%/03.07.2021",67400000,"Fund,Mandate","BAEK_INKA,BayernInvestConvert,BAYVK-UI,Bond_CHF,BPK-UI,CB_Sustainable,FreiburgED,ICEF,StuttgLV-BI,VGV_INKA,WIN4"]
["XS1084287322","APERAM/0.625%/08.07.2021",5400000,"Fund,Mandate","BLVK_CS,ERK_MI,HybridInt,PSVaG_UI"]
["XS1089786195","CHINA SINGYES SO/5%/08.08.2019",5000000,"Fund","Nomura_Asian_CB"]
["XS1090241040","ASIA VIEW (YUE XIU)/1.5%/08.08.2019",1500000,"Fund","Nomura_Asian_CB"]
["XS1090758688","HIS CO LTD/0%/30.08.2019",1570000000,"Fund,Mandate","BAEK_INKA,BAYVK-UI,BLVK_CS,ERK_MI,HybridInt,PSVaG_UI,VGV_INKA,WIN4"]
["XS1103850993","OSIM INTL LTD/0%/18.09.2019",700000,"Fund","Nomura_Asian_CB"]
["XS1105762857","EDION CORP/0%/01.10.2021",2970000000,"Fund,Mandate","BAEK_INKA,BAYVK-UI,BLVK_CS,BPK-UI,ERK_MI,HybridInt,MA_MantaPlus,Mecklenb1_MEL-DeAM,Mecklenb2_MEIII-DeAM,PSVaG_UI,SpkHannover,VGV_INKA,VSW_RANRW_INKA,VWINKA,WaiblingenKSK_Helaba,WIN4"]
["XS1107647155","CAHAYA CAPITAL (Tenaga)/0%/18.09.2021",34800000,"Fund,Mandate","Bond_Global_Corp,Bond_Global_HY,Bond_Value_IG,HybridInt,Nomura_Asian_CB,WIN4"]
["XS1108673440","BANGKOK DUSIT MD/0%/18.09.2019",180000000,"Fund,Mandate","BLVK_CS,ERK_MI,HybridInt"]
["XS1113032319","GUNMA BANK LTD/0%/11.10.2019",5000000,"Mandate","WIN4"]
["XS1115151828","LARSEN & TOUBRO/0.675%/22.10.2019",4300000,"Fund,Mandate","BLVK_CS,HybridInt,Nomura_Asian_CB,PSVaG_UI"]
["XS1116833796","SILICONWARE PRE/0%/31.10.2019",20000000,"Fund,Mandate","BAEK_INKA,BAYVK-UI,BLVK_CS,CB_Sustainable,ERK_MI,HybridInt,Nomura_Asian_CB,PSVaG_UI,VGV_INKA,WIN4"]
["XS1132108934","HAITONG INTERNAT/1.25%/04.11.2019",320000000,"Fund,Mandate","BAEK_INKA,BayernInvestConvert,BAYVK-UI,BLVK_CS,Bond_CHF,BPK-UI,CB_Sustainable,ERK_MI,FreiburgED,HybridInt,ICEF,Mecklenb1_MEL-DeAM,Mecklenb2_MEIII-DeAM,Nomura_Asian_CB,PSVaG_UI,SpkHannover,VGV_INKA,VSW_RANRW_INKA,VWINKA,WaiblingenKSK_Helaba,WIN4"]
["XS1136394159","RESORTTRUST INC/0%/01.12.2021",3180000000,"Fund,Mandate","BAEK_INKA,BAYVK-UI,BLVK_CS,ERK_MI,FreiburgED,HybridInt,PSVaG_UI,VGV_INKA,VSW_RANRW_INKA,WIN4"]
["XS1138495509","NAGOYA RAILROAD/0%/11.12.2024",3620000000,"Fund,Mandate","BayernInvestConvert,BLVK_CS,Bond_CHF,Bond_Global_HY,BPK-UI,ERK_MI,FreiburgED,HybridInt,ICEF,Mecklenb1_MEL-DeAM,Mecklenb2_MEIII-DeAM,PSVaG_UI,StuttgLV-BI,VSW_RANRW_INKA,WaiblingenKSK_Helaba,WIN4"]
["XS1139087933","J SAINSBURY PLC/1.25%/21.11.2019",20000000,"Fund,Mandate","BayernInvestConvert,Bond_CHF,BPK-UI,CB_Sustainable,FreiburgED,ICEF,StuttgLV-BI,VSW_RANRW_INKA,WaiblingenKSK_Helaba"]
["XS1139279415","TERUMO CORP/0%/04.12.2019",1400000000,"Fund,Mandate","ICEF,WIN4"]
["XS1139279845","TERUMO CORP/0%/06.12.2021",3070000000,"Fund,Mandate","BAEK_INKA,BayernInvestConvert,BAYVK-UI,BLVK_CS,Bond_CHF,Bond_Global_HY,BPK-UI,CB_Sustainable,ERK_MI,FreiburgED,HybridInt,ICEF,Mecklenb1_MEL-DeAM,Mecklenb2_MEIII-DeAM,PSVaG_UI,StuttgLV-BI,VGV_INKA,VSW_RANRW_INKA,WaiblingenKSK_Helaba"]
["XS1140296614","CARILLION FNCE/2.5%/19.12.2019",500000,"Mandate","StuttgLV-BI"]
["XS1142234506","TEIJIN LTD/0%/10.12.2021",1070000000,"Fund,Mandate","BAEK_INKA,BAYVK-UI,BLVK_CS,Bond_Global_HY,ERK_MI,HybridInt,PSVaG_UI,VGV_INKA"]
["XS1143019229","SHIONOGI & CO/0%/17.12.2019",2680000000,"Fund,Mandate","BAEK_INKA,BAYVK-UI,BLVK_CS,Bond_Global_HY,BPK-UI,ERK_MI,HybridInt,Mecklenb1_MEL-DeAM,Mecklenb2_MEIII-DeAM,PSVaG_UI,VGV_INKA,WaiblingenKSK_Helaba,WIN4"]
["XS1148851857","TOHO HOLDINGS/0%/30.12.2019",1000000000,"Mandate","BAEK_INKA,BAYVK-UI,BLVK_CS,ERK_MI,PSVaG_UI,VGV_INKA,WIN4"]
["XS1148854877","KATO DENKI CO/0%/20.12.2019",650000000,"Mandate","BAEK_INKA,BAYVK-UI,BPK-UI,ERK_MI,SpkHannover,VGV_INKA,VSW_RANRW_INKA,VWINKA"]
["Total",0,91915040213.600006,0,0]
[{"$error":"#N/A"},{"$error":"#N/A"},{"$error":"#N/A"},{"$error":"#N/A"},{"$error":"#N/A"}]
[{"$error":"#N/A"},{"$error":"#N/A"},{"$error":"#N/A"},{"$error":"#N/A"},{"$error":"#N/A"}]
[{"$error":"#N/A"},{"$error":"#N/A"},{"$error":"#N/A"},{"$error":"#N/A"},{"$error":"#N/A"}]
[{"$error":"#N/A"},{"$error":"#N/A"},{"$error":"#N/A"},{"$error":"#N/A"},{"$error":"#N/A"}]
[{"$error":"#N/A"},{"$error":"#N/A"},{"$error":"#N/A"},{"$error":"#N/A"},{"$error":"#N/A"}]
[{"$error":"#N/A"},{"$error":"#N/A"},{"$error":"#N/A"},{"$error":"#N/A"},{"$error":"#N/A"}]
[{"$error":"#N/A"},{"$error":"#N/A"},{"$error":"#N/A"},{"$error":"#N/A"},{"$error":"#N/A"}]
[{"$error":"#N/A"},{"$error":"#N/A"},{"$error":"#N/A"},{"$error":"#N/A"},{"$error":"#N/A"}]
[{"$error":"#N/A"},{"$error":"#N/A"},{"$error":"#N/A"},{"$error":"#N/A"},{"$error":"#N/A"}]
[{"$error":"#N/A"},{"$error":"#N/A"},{"$error":"#N/A"},{"$error":"#N/A"},{"$error":"#N/A"}]
[{"$error":"#N/A"},{"$error":"#N/A"},{"$error":"#N/A"},{"$error":"#N/A"},{"$error":"#N/A"}]
[{"$error":"#N/A"},{"$error":"#N/A"},{"$error":"#N/A"},{"$error":"#N/A"},{"$error":"#N/A"}]
[{"$error":"#N/A"},{"$error":"#N/A"},{"$error":"#N/A"},{"$error":"#N/A"},{"$error":"#N/A"}]
[{"$error":"#N/A"},{"$error":"#N/A"},{"$error":"#N/A"},{"$error":"#N/A"},{"$error":"#N/A"}]
[{"$error":"#N/A"},{"$error":"#N/A"},{"$error":"#N/A"},{"$error":"#N/A"},{"$error":"#N/A"}]
[{"$error":"#N/A"},{"$error":"#N/A"},{"$error":"#N/A"},{"$error":"#N/A"},{"$error":"#N/A"}]
[{"$error":"#N/A"},{"$error":"#N/A"},{"$error":"#N/A"},{"$error":"#N/A"},{"$error":"#N/A"}]
[{"$error":"#N/A"},{"$error":"#N/A"},{"$error":"#N/A"},{"$error":"#N/A"},{"$error":"#N/A"}]
[{"$error":"#N/A"},{"$error":"#N/A"},{"$error":"#N/A"},{"$error":"#N/A"},{"$error":"#N/A"}]
[{"$error":"#N/A"},{"$error":"#N/A"},{"$error":"#N/A"},{"$error":"#N/A"},{"$error":"#N/A"}]
[{"$error":"#N/A"},{"$error":"#N/A"},{"$error":"#N/A"},{"$error":"#N/A"},{"$error":"#N/A"}]
[{"$error":"#N/A"},{"$error":"#N/A"},{"$error":"#N/A"},{"$error":"#N/A"},{"$error":"#N/A"}]
[{"$error":"#N/A"},{"$error":"#N/A"},{"$error":"#N/A"},{"$error":"#N/A"},{"$error":"#N/A"}]
[{"$error":"#N/A"},{"$error":"#N/A"},{"$error":"#N/A"},{"$error":"#N/A"},{"$error":"#N/A"}]
[{"$error":"#N/A"},{"$error":"#N/A"},{"$error":"#N/A"},{"$error":"#N/A"},{"$error":"#N/A"}]
[{"$error":"#N/A"},{"$error":"#N/A"},{"$error":"#N/A"},{"$error":"#N/A"},{"$error":"#N/A"}]
[{"$error":"#N/A"},{"$error":"#N/A"},{"$error":"#N/A"},{"$error":"#N/A"},{"$error":"#N/A"}]
[{"$error":"#N/A"},{"$error":"#N/A"},{"$error":"#N/A"},{"$error":"#N/A"},{"$error":"#N/A"}]
[{"$error":"#N/A"},{"$error":"#N/A"},{"$error":"#N/A"},{"$error":"#N/A"},{"$error":"#N/A"}]
[{"$error":"#N/A"},{"$error":"#N/A"},{"$error":"#N/A"},{"$error":"#N/A"},{"$error":"#N/A"}]
[{"$error":"#N/A"},{"$error":"#N/A"},{"$error":"#N/A"},{"$error":"#N/A"},{"$error":"#N/A"}]
[{"$error":"#N/A"},{"$error":"#N/A"},{"$error":"#N/A"},{"$error":"#N/A"},{"$error":"#N/A"}]
[{"$error":"#N/A"},{"$error":"#N/A"},{"$error":"#N/A"},{"$error":"#N/A"},{"$error":"#N/A"}]
[{"$error":"#N/A"},{"$error":"#N/A"},{"$error":"#N/A"},{"$error":"#N/A"},{"$error":"#N/A"}]
[{"$error":"#N/A"},{"$error":"#N/A"},{"$error":"#N/A"},{"$error":"#N/A"},{"$error":"#N/A"}]
[{"$error":"#N/A"},{"$error":"#N/A"},{"$error":"#N/A"},{"$error":"#N/A"},{"$error":"#N/A"}]
[{"$error":"#N/A"},{"$error":"#N/A"},{"$error":"#N/A"},{"$error":"#N/A"},{"$error":"#N/A"}]
[{"$error":"#N/A"},{"$error":"#N/A"},{"$error":"#N/A"},{"$error":"#N/A"},{"$error":"#N/A"}]
[{"$error":"#N/A"},{"$error":"#N/A"},{"$error":"#N/A"},{"$error":"#N/A"},{"$error":"#N/A"}]
[{"$error":"#N/A"},{"$error":"#N/A"},{"$error":"#N/A"},{"$error":"#N/A"},{"$error":"#N/A"}]
[{"$error":"#N/A"},{"$error":"#N/A"},{"$error":"#N/A"},{"$error":"#N/A"},{"$error":"#N/A"}]
[{"$error":"#N/A"},{"$error":"#N/A"},{"$error":"#N/A"},{"$error":"#N/A"},{"$error":"#N/A"}]
[{"$error":"#N/A"},{"$error":"#N/A"},{"$error":"#N/A"},{"$error":"#N/A"},{"$error":"#N/A"}]
[{"$error":"#N/A"},{"$error":"#N/A"},{"$error":"#N/A"},{"$error":"#N/A"},{"$error":"#N/A"}]
[{"$error":"#N/A"},{"$error":"#N/A"},{"$error":"#N/A"},{"$error":"#N/A"},{"$error":"#N/A"}]
[{"$error":"#N/A"},{"$error":"#N/A"},{"$error":"#N/A"},{"$error":"#N/A"},{"$error":"#N/A"}]
[{"$error":"#N/A"},{"$error":"#N/A"},{"$error":"#N/A"},{"$error":"#N/A"},{"$error":"#N/A"}]
[{"$error":"#N/A"},{"$error":"#N/A"},{"$error":"#N/A"},{"$error":"#N/A"},{"$error":"#N/A"}]
[{"$error":"#N/A"},{"$error":"#N/A"},{"$error":"#N/A"},{"$error":"#N/A"},{"$error":"#N/A"}]
[{"$error":"#N/A"},{"$error":"#N/A"},{"$error":"#N/A"},{"$error":"#N/A"},{"$error":"#N/A"}]
[{"$error":"#N/A"},{"$error":"#N/A"},{"$error":"#N/A"},{"$error":"#N/A"},{"$error":"#N/A"}]
[{"$error":"#N/A"},{"$error":"#N/A"},{"$error":"#N/A"},{"$error":"#N/A"},{"$error":"#N/A"}]
[{"$error":"#N/A"},{"$error":"#N/A"},{"$error":"#N/A"},{"$error":"#N/A"},{"$error":"#N/A"}]
[{"$error":"#N/A"},{"$error":"#N/A"},{"$error":"#N/A"},{"$error":"#N/A"},{"$error":"#N/A"}]
[{"$error":"#N/A"},{"$error":"#N/A"},{"$error":"#N/A"},{"$error":"#N/A"},{"$error":"#N/A"}]
[{"$error":"#N/A"},{"$error":"#N/A"},{"$error":"#N/A"},{"$error":"#N/A"},{"$error":"#N/A"}]
[{"$error":"#N/A"},{"$error":"#N/A"},{"$error":"#N/A"},{"$error":"#N/A"},{"$error":"#N/A"}]
[{"$error":"#N/A"},{"$error":"#N/A"},{"$error":"#N/A"},{"$error":"#N/A"},{"$error":"#N/A"}]
[{"$error":"#N/A"},{"$error":"#N/A"},{"$error":"#N/A"},{"$error":"#N/A"},{"$error":"#N/A"}]
[{"$error":"#N/A"},{"$error":"#N/A"},{"$error":"#N/A"},{"$error":"#N/A"},{"$error":"#N/A"}]
[{"$error":"#N/A"},{"$error":"#N/A"},{"$error":"#N/A"},{"$error":"#N/A"},{"$error":"#N/A"}]
[{"$error":"#N/A"},{"$error":"#N/A"},{"$error":"#N/A"},{"$error":"#N/A"},{"$error":"#N/A"}]
[{"$error":"#N/A"},{"$error":"#N/A"},{"$error":"#N/A"},{"$error":"#N/A"},{"$error":"#N/A"}]
[{"$error":"#N/A"},{"$error":"#N/A"},{"$error":"#N/A"},{"$error":"#N/A"},{"$error":"#N/A"}]
[{"$error":"#N/A"},{"$error":"#N/A"},{"$error":"#N/A"},{"$error":"#N/A"},{"$error":"#N/A"}]
[{"$error":"#N/A"},{"$error":"#N/A"},{"$error":"#N/A"},{"$error":"#N/A"},{"$error":"#N/A"}]
[{"$error":"#N/A"},{"$error":"#N/A"},{"$error":"#N/A"},{"$error":"#N/A"},{"$error":"#N/A"}]
[{"$error":"#N/A"},{"$error":"#N/A"},{"$error":"#N/A"},{"$error":"#N/A"},{"$error":"#N/A"}]
[{"$error":"#N/A"},{"$error":"#N/A"},{"$error":"#N/A"},{"$error":"#N/A"},{"$error":"#N/A"}]
[{"$error":"#N/A"},{"$error":"#N/A"},{"$error":"#N/A"},{"$error":"#N/A"},{"$error":"#N/A"}]
[{"$error":"#N/A"},{"$error":"#N/A"},{"$error":"#N/A"},{"$error":"#N/A"},{"$error":"#N/A"}]
[{"$error":"#N/A"},{"$error":"#N/A"},{"$error":"#N/A"},{"$error":"#N/A"},{"$error":"#N/A"}]
[{"$error":"#N/A"},{"$error":"#N/A"},{"$error":"#N/A"},{"$error":"#N/A"},{"$error":"#N/A"}]
[{"$error":"#N/A"},{"$error":"#N/A"},{"$error":"#N/A"},{"$error":"#N/A"},{"$error":"#N/A"}]
[{"$error":"#N/A"},{"$error":"#N/A"},{"$error":"#N/A"},{"$error":"#N/A"},{"$error":"#N/A"}]
[{"$error":"#N/A"},{"$error":"#N/A"},{"$error":"#N/A"},{"$error":"#N/A"},{"$error":"#N/A"}]
[{"$error":"#N/A"},{"$error":"#N/A"},{"$error":"#N/A"},{"$error":"#N/A"},{"$error":"#N/A"}]
[{"$error":"#N/A"},{"$error":"#N/A"},{"$error":"#N/A"},{"$error":"#N/A"},{"$error":"#N/A"}]
[{"$error":"#N/A"},{"$error":"#N/A"},{"$error":"#N/A"},{"$error":"#N/A"},{"$error":"#N/A"}]
[{"$error":"#N/A"},{"$error":"#N/A"},{"$error":"#N/A"},{"$error":"#N/A"},{"$error":"#N/A"}]
[{"$error":"#N/A"},{"$error":"#N/A"},{"$error":"#N/A"},{"$error":"#N/A"},{"$error":"#N/A"}]
[{"$error":"#N/A"},{"$error":"#N/A"},{"$error":"#N/A"},{"$error":"#N/A"},{"$error":"#N/A"}]
[{"$error":"#N/A"},{"$error":"#N/A"},{"$error":"#N/A"},{"$error":"#N/A"},{"$error":"#N/A"}]
[{"$error":"#N/A"},{"$error":"#N/A"},{"$error":"#N/A"},{"$error":"#N/A"},{"$error":"#N/A"}]
[{"$error":"#N/A"},{"$error":"#N/A"},{"$error":"#N/A"},{"$error":"#N/A"},{"$error":"#N/A"}]
[{"$error":"#N/A"},{"$error":"#N/A"},{"$error":"#N/A"},{"$error":"#N/A"},{"$error":"#N/A"}]
[{"$error":"#N/A"},{"$error":"#N/A"},{"$error":"#N/A"},{"$error":"#N/A"},{"$error":"#N/A"}]
[{"$error":"#N/A"},{"$error":"#N/A"},{"$error":"#N/A"},{"$error":"#N/A"},{"$error":"#N/A"}]
[{"$error":"#N/A"},{"$error":"#N/A"},{"$error":"#N/A"},{"$error":"#N/A"},{"$error":"#N/A"}]
[{"$error":"#N/A"},{"$error":"#N/A"},{"$error":"#N/A"},{"$error":"#N/A"},{"$error":"#N/A"}]
[{"$error":"#N/A"},{"$error":"#N/A"},{"$error":"#N/A"},{"$error":"#N/A"},{"$error":"#N/A"}]
[{"$error":"#N/A"},{"$error":"#N/A"},{"$error":"#N/A"},{"$error":"#N/A"},{"$error":"#N/A"}]
[{"$error":"#N/A"},{"$error":"#N/A"},{"$error":"#N/A"},{"$error":"#N/A"},{"$error":"#N/A"}]
[{"$error":"#N/A"},{"$error":"#N/A"},{"$error":"#N/A"},{"$error":"#N/A"},{"$error":"#N/A"}]
[{"$error":"#N/A"},{"$error":"#N/A"},{"$error":"#N/A"},{"$error":"#N/A"},{"$error":"#N/A"}]
[{"$error":"#N/A"},{"$error":"#N/A"},{"$error":"#N/A"},{"$error":"#N/A"},{"$error":"#N/A"}]
[{"$error":"#N/A"},{"$error":"#N/A"},{"$error":"#N/A"},{"$error":"#N/A"},{"$error":"#N/A"}]
[{"$error":"#N/A"},{"$error":"#N/A"},{"$error":"#N/A"},{"$error":"#N/A"},{"$error":"#N/A"}]
[{"$error":"#N/A"},{"$error":"#N/A"},{"$error":"#N/A"},{"$error":"#N/A"},{"$error":"#N/A"}]
[{"$error":"#N/A"},{"$error":"#N/A"},{"$error":"#N/A"},{"$error":"#N/A"},{"$error":"#N/A"}]
[{"$error":"#N/A"},{"$error":"#N/A"},{"$error":"#N/A"},{"$error":"#N/A"},{"$error":"#N/A"}]
[{"$error":"#N/A"},{"$error":"#N/A"},{"$error":"#N/A"},{"$error":"#N/A"},{"$error":"#N/A"}]
[{"$error":"#N/A"},{"$error":"#N/A"},{"$error":"#N/A"},{"$error":"#N/A"},{"$error":"#N/A"}]
[{"$error":"#N/A"},{"$error":"#N/A"},{"$error":"#N/A"},{"$error":"#N/A"},{"$error":"#N/A"}]
[{"$error":"#N/A"},{"$error":"#N/A"},{"$error":"#N/A"},{"$error":"#N/A"},{"$error":"#N/A"}]
[{"$error":"#N/A"},{"$error":"#N/A"},{"$error":"#N/A"},{"$error":"#N/A"},{"$error":"#N/A"}]
[{"$error":"#N/A"},{"$error":"#N/A"},{"$error":"#N/A"},{"$error":"#N/A"},{"$error":"#N/A"}]
[{"$error":"#N/A"},{"$error":"#N/A"},{"$error":"#N/A"},{"$error":"#N/A"},{"$error":"#N/A"}]
[{"$error":"#N/A"},{"$error":"#N/A"},{"$error":"#N/A"},{"$error":"#N/A"},{"$error":"#N/A"}]
[{"$error":"#N/A"},{"$error":"#N/A"},{"$error":"#N/A"},{"$error":"#N/A"},{"$error":"#N/A"}]
[{"$error":"#N/A"},{"$error":"#N/A"},{"$error":"#N/A"},{"$error":"#N/A"},{"$error":"#N/A"}]
[{"$error":"#N/A"},{"$error":"#N/A"},{"$error":"#N/A"},{"$error":"#N/A"},{"$error":"#N/A"}]
[{"$error":"#N/A"},{"$error":"#N/A"},{"$error":"#N/A"},{"$error":"#N/A"},{"$error":"#N/A"}]
[{"$error":"#N/A"},{"$error":"#N/A"},{"$error":"#N/A"},{"$error":"#N/A"},{"$error":"#N/A"}]
[{"$error":"#N/A"},{"$error":"#N/A"},{"$error":"#N/A"},{"$error":"#N/A"},{"$error":"#N/A"}]
[{"$error":"#N/A"},{"$error":"#N/A"},{"$error":"#N/A"},{"$error":"#N/A"},{"$error":"#N/A"}]
[{"$error":"#N/A"},{"$error":"#N/A"},{"$error":"#N/A"},{"$error":"#N/A"},{"$error":"#N/A"}]
[{"$error":"#N/A"},{"$error":"#N/A"},{"$error":"#N/A"},{"$error":"#N/A"},{"$error":"#N/A"}]
[{"$error":"#N/A"},{"$error":"#N/A"},{"$error":"#N/A"},{"$error":"#N/A"},{"$error":"#N/A"}]
[{"$error":"#N/A"},{"$error":"#N/A"},{"$error":"#N/A"},{"$error":"#N/A"},{"$error":"#N/A"}]
[{"$error":"#N/A"},{"$error":"#N/A"},{"$error":"#N/A"},{"$error":"#N/A"},{"$error":"#N/A"}]
[{"$error":"#N/A"},{"$error":"#N/A"},{"$error":"#N/A"},{"$error":"#N/A"},{"$error":"#N/A"}]
[{"$error":"#N/A"},{"$error":"#N/A"},{"$error":"#N/A"},{"$error":"#N/A"},{"$error":"#N/A"}]
[{"$error":"#N/A"},{"$error":"#N/A"},{"$error":"#N/A"},{"$error":"#N/A"},{"$error":"#N/A"}]
[{"$error":"#N/A"},{"$error":"#N/A"},{"$error":"#N/A"},{"$error":"#N/A"},{"$error":"#N/A"}]
[{"$error":"#N/A"},{"$error":"#N/A"},{"$error":"#N/A"},{"$error":"#N/A"},{"$error":"#N/A"}]
[{"$error":"#N/A"},{"$error":"#N/A"},{"$error":"#N/A"},{"$error":"#N/A"},{"$error":"#N/A"}]
[{"$error":"#N/A"},{"$error":"#N/A"},{"$error":"#N/A"},{"$error":"#N/A"},{"$error":"#N/A"}]
[{"$error":"#N/A"},{"$error":"#N/A"},{"$error":"#N/A"},{"$error":"#N/A"},{"$error":"#N/A"}]
[{"$error":"#N/A"},{"$error":"#N/A"},{"$error":"#N/A"},{"$error":"#N/A"},{"$error":"#N/A"}]
[{"$error":"#N/A"},{"$error":"#N/A"},{"$error":"#N/A"},{"$error":"#N/A"},{"$error":"#N/A"}]
[{"$error":"#N/A"},{"$error":"#N/A"},{"$error":"#N/A"},{"$error":"#N/A"},{"$error":"#N/A"}]
[{"$error":"#N/A"},{"$error":"#N/A"},{"$error":"#N/A"},{"$error":"#N/A"},{"$error":"#N/A"}]
[{"$error":"#N/A"},{"$error":"#N/A"},{"$error":"#N/A"},{"$error":"#N/A"},{"$error":"#N/A"}]
[{"$error":"#N/A"},{"$error":"#N/A"},{"$error":"#N/A"},{"$error":"#N/A"},{"$error":"#N/A"}]
[{"$error":"#N/A"},{"$error":"#N/A"},{"$error":"#N/A"},{"$error":"#N/A"},{"$error":"#N/A"}]
[{"$error":"#N/A"},{"$error":"#N/A"},{"$error":"#N/A"},{"$error":"#N/A"},{"$error":"#N/A"}]
[{"$error":"#N/A"},{"$error":"#N/A"},{"$error":"#N/A"},{"$error":"#N/A"},{"$error":"#N/A"}]
[{"$error":"#N/A"},{"$error":"#N/A"},{"$error":"#N/A"},{"$error":"#N/A"},{"$error":"#N/A"}]
[{"$error":"#N/A"},{"$error":"#N/A"},{"$error":"#N/A"},{"$error":"#N/A"},{"$error":"#N/A"}]
[{"$error":"#N/A"},{"$error":"#N/A"},{"$error":"#N/A"},{"$error":"#N/A"},{"$error":"#N/A"}]
[{"$error":"#N/A"},{"$error":"#N/A"},{"$error":"#N/A"},{"$error":"#N/A"},{"$error":"#N/A"}]
[{"$error":"#N/A"},{"$error":"#N/A"},{"$error":"#N/A"},{"$error":"#N/A"},{"$error":"#N/A"}]
[{"$error":"#N/A"},{"$error":"#N/A"},{"$error":"#N/A"},{"$error":"#N/A"},{"$error":"#N/A"}]
[{"$error":"#N/A"},{"$error":"#N/A"},{"$error":"#N/A"},{"$error":"#N/A"},{"$error":"#N/A"}]
[{"$error":"#N/A"},{"$error":"#N/A"},{"$error":"#N/A"},{"$error":"#N/A"},{"$error":"#N/A"}]
[{"$error":"#N/A"},{"$error":"#N/A"},{"$error":"#N/A"},{"$error":"#N/A"},{"$error":"#N/A"}]
[{"$error":"#N/A"},{"$error":"#N/A"},{"$error":"#N/A"},{"$error":"#N/A"},{"$error":"#N/A"}]
[{"$error":"#N/A"},{"$error":"#N/A"},{"$error":"#N/A"},{"$error":"#N/A"},{"$error":"#N/A"}]
[{"$error":"#N/A"},{"$error":"#N/A"},{"$error":"#N/A"},{"$error":"#N/A"},{"$error":"#N/A"}]
[{"$error":"#N/A"},{"$error":"#N/A"},{"$error":"#N/A"},{"$error":"#N/A"},{"$error":"#N/A"}]
[{"$error":"#N/A"},{"$error":"#N/A"},{"$error":"#N/A"},{"$error":"#N/A"},{"$error":"#N/A"}]
[{"$error":"#N/A"},{"$error":"#N/A"},{"$error":"#N/A"},{"$error":"#N/A"},{"$error":"#N/A"}]
[{"$error":"#N/A"},{"$error":"#N/A"},{"$error":"#N/A"},{"$error":"#N/A"},{"$error":"#N/A"}]
[{"$error":"#N/A"},{"$error":"#N/A"},{"$error":"#N/A"},{"$error":"#N/A"},{"$error":"#N/A"}]
[{"$error":"#N/A"},{"$error":"#N/A"},{"$error":"#N/A"},{"$error":"#N/A"},{"$error":"#N/A"}]
[{"$error":"#N/A"},{"$error":"#N/A"},{"$error":"#N/A"},{"$error":"#N/A"},{"$error":"#N/A"}]
[{"$error":"#N/A"},{"$error":"#N/A"},{"$error":"#N/A"},{"$error":"#N/A"},{"$error":"#N/A"}]
[{"$error":"#N/A"},{"$error":"#N/A"},{"$error":"#N/A"},{"$error":"#N/A"},{"$error":"#N/A"}]
[{"$error":"#N/A"},{"$error":"#N/A"},{"$error":"#N/A"},{"$error":"#N/A"},{"$error":"#N/A"}]
[{"$error":"#N/A"},{"$error":"#N/A"},{"$error":"#N/A"},{"$error":"#N/A"},{"$error":"#N/A"}]
[{"$error":"#N/A"},{"$error":"#N/A"},{"$error":"#N/A"},{"$error":"#N/A"},{"$error":"#N/A"}]
[{"$error":"#N/A"},{"$error":"#N/A"},{"$error":"#N/A"},{"$error":"#N/A"},{"$error":"#N/A"}]
[{"$error":"#N/A"},{"$error":"#N/A"},{"$error":"#N/A"},{"$error":"#N/A"},{"$error":"#N/A"}]
[{"$error":"#N/A"},{"$error":"#N/A"},{"$error":"#N/A"},{"$error":"#N/A"},{"$error":"#N/A"}]
[{"$error":"#N/A"},{"$error":"#N/A"},{"$error":"#N/A"},{"$error":"#N/A"},{"$error":"#N/A"}]
[{"$error":"#N/A"},{"$error":"#N/A"},{"$error":"#N/A"},{"$error":"#N/A"},{"$error":"#N/A"}]
[{"$error":"#N/A"},{"$error":"#N/A"},{"$error":"#N/A"},{"$error":"#N/A"},{"$error":"#N/A"}]
[{"$error":"#N/A"},{"$error":"#N/A"},{"$error":"#N/A"},{"$error":"#N/A"},{"$error":"#N/A"}]
[{"$error":"#N/A"},{"$error":"#N/A"},{"$error":"#N/A"},{"$error":"#N/A"},{"$error":"#N/A"}]
[{"$error":"#N/A"},{"$error":"#N/A"},{"$error":"#N/A"},{"$error":"#N/A"},{"$error":"#N/A"}]
[{"$error":"#N/A"},{"$error":"#N/A"},{"$error":"#N/A"},{"$error":"#N/A"},{"$error":"#N/A"}]
[{"$error":"#N/A"},{"$error":"#N/A"},{"$error":"#N/A"},{"$error":"#N/A"},{"$error":"#N/A"}]
[{"$error":"#N/A"},{"$error":"#N/A"},{"$error":"#N/A"},{"$error":"#N/A"},{"$error":"#N/A"}]
[{"$error":"#N/A"},{"$error":"#N/A"},{"$error":"#N/A"},{"$error":"#N/A"},{"$error":"#N/A"}]
[{"$error":"#N/A"},{"$error":"#N/A"},{"$error":"#N/A"},{"$error":"#N/A"},{"$error":"#N/A"}]
[{"$error":"#N/A"},{"$error":"#N/A"},{"$error":"#N/A"},{"$error":"#N/A"},{"$error":"#N/A"}]
[{"$error":"#N/A"},{"$error":"#N/A"},{"$error":"#N/A"},{"$error":"#N/A"},{"$error":"#N/A"}]
[{"$error":"#N/A"},{"$error":"#N/A"},{"$error":"#N/A"},{"$error":"#N/A"},{"$error":"#N/A"}]
[{"$error":"#N/A"},{"$error":"#N/A"},{"$error":"#N/A"},{"$error":"#N/A"},{"$error":"#N/A"}]
[{"$error":"#N/A"},{"$error":"#N/A"},{"$error":"#N/A"},{"$error":"#N/A"},{"$error":"#N/A"}]
[{"$error":"#N/A"},{"$error":"#N/A"},{"$error":"#N/A"},{"$error":"#N/A"},{"$error":"#N/A"}]
[{"$error":"#N/A"},{"$error":"#N/A"},{"$error":"#N/A"},{"$error":"#N/A"},{"$error":"#N/A"}]
[{"$error":"#N/A"},{"$error":"#N/A"},{"$error":"#N/A"},{"$error":"#N/A"},{"$error":"#N/A"}]
[{"$error":"#N/A"},{"$error":"#N/A"},{"$error":"#N/A"},{"$error":"#N/A"},{"$error":"#N/A"}]
[{"$error":"#N/A"},{"$error":"#N/A"},{"$error":"#N/A"},{"$error":"#N/A"},{"$error":"#N/A"}]
[{"$error":"#N/A"},{"$error":"#N/A"},{"$error":"#N/A"},{"$error":"#N/A"},{"$error":"#N/A"}]
[{"$error":"#N/A"},{"$error":"#N/A"},{"$error":"#N/A"},{"$error":"#N/A"},{"$error":"#N/A"}]
[{"$error":"#N/A"},{"$error":"#N/A"},{"$error":"#N/A"},{"$error":"#N/A"},{"$error":"#N/A"}]
[{"$error":"#N/A"},{"$error":"#N/A"},{"$error":"#N/A"},{"$error":"#N/A"},{"$error":"#N/A"}]
[{"$error":"#N/A"},{"$error":"#N/A"},{"$error":"#N/A"},{"$error":"#N/A"},{"$error":"#N/A"}]
[{"$error":"#N/A"},{"$error":"#N/A"},{"$error":"#N/A"},{"$error":"#N/A"},{"$error":"#N/A"}]
[{"$error":"#N/A"},{"$error":"#N/A"},{"$error":"#N/A"},{"$error":"#N/A"},{"$error":"#N/A"}]
[{"$error":"#N/A"},{"$error":"#N/A"},{"$error":"#N/A"},{"$error":"#N/A"},{"$error":"#N/A"}]
[{"$error":"#N/A"},{"$error":"#N/A"},{"$error":"#N/A"},{"$error":"#N/A"},{"$error":"#N/A"}]
[{"$error":"#N/A"},{"$error":"#N/A"},{"$error":"#N/A"},{"$error":"#N/A"},{"$error":"#N/A"}]
[{"$error":"#N/A"},{"$error":"#N/A"},{"$error":"#N/A"},{"$error":"#N/A"},{"$error":"#N/A"}]
[{"$error":"#N/A"},{"$error":"#N/A"},{"$error":"#N/A"},{"$error":"#N/A"},{"$error":"#N/A"}]
[{"$error":"#N/A"},{"$error":"#N/A"},{"$error":"#N/A"},{"$error":"#N/A"},{"$error":"#N/A"}]
[{"$error":"#N/A"},{"$error":"#N/A"},{"$error":"#N/A"},{"$error":"#N/A"},{"$error":"#N/A"}]
[{"$error":"#N/A"},{"$error":"#N/A"},{"$error":"#N/A"},{"$error":"#N/A"},{"$error":"#N/A"}]
[{"$error":"#N/A"},{"$error":"#N/A"},{"$error":"#N/A"},{"$error":"#N/A"},{"$error":"#N/A"}]
[{"$error":"#N/A"},{"$error":"#N/A"},{"$error":"#N/A"},{"$error":"#N/A"},{"$error":"#N/A"}]
[{"$error":"#N/A"},{"$error":"#N/A"},{"$error":"#N/A"},{"$error":"#N/A"},{"$error":"#N/A"}]
[{"$error":"#N/A"},{"$error":"#N/A"},{"$error":"#N/A"},{"$error":"#N/A"},{"$error":"#N/A"}]
[{"$error":"#N/A"},{"$error":"#N/A"},{"$error":"#N/A"},{"$error":"#N/A"},{"$error":"#N/A"}]
[{"$error":"#N/A"},{"$error":"#N/A"},{"$error":"#N/A"},{"$error":"#N/A"},{"$error":"#N/A"}]
[{"$error":"#N/A"},{"$error":"#N/A"},{"$error":"#N/A"},{"$error":"#N/A"},{"$error":"#N/A"}]
[{"$error":"#N/A"},{"$error":"#N/A"},{"$error":"#N/A"},{"$error":"#N/A"},{"$error":"#N/A"}]
[{"$error":"#N/A"},{"$error":"#N/A"},{"$error":"#N/A"},{"$error":"#N/A"},{"$error":"#N/A"}]
[{"$error":"#N/A"},{"$error":"#N/A"},{"$error":"#N/A"},{"$error":"#N/A"},{"$error":"#N/A"}]
[{"$error":"#N/A"},{"$error":"#N/A"},{"$error":"#N/A"},{"$error":"#N/A"},{"$error":"#N/A"}]
[{"$error":"#N/A"},{"$error":"#N/A"},{"$error":"#N/A"},{"$error":"#N/A"},{"$error":"#N/A"}]
[{"$error":"#N/A"},{"$error":"#N/A"},{"$error":"#N/A"},{"$error":"#N/A"},{"$error":"#N/A"}]
[{"$error":"#N/A"},{"$error":"#N/A"},{"$error":"#N/A"},{"$error":"#N/A"},{"$error":"#N/A"}]
[{"$error":"#N/A"},{"$error":"#N/A"},{"$error":"#N/A"},{"$error":"#N/A"},{"$error":"#N/A"}]
[{"$error":"#N/A"},{"$error":"#N/A"},{"$error":"#N/A"},{"$error":"#N/A"},{"$error":"#N/A"}]
[{"$error":"#N/A"},{"$error":"#N/A"},{"$error":"#N/A"},{"$error":"#N/A"},{"$error":"#N/A"}]
[{"$error":"#N/A"},{"$error":"#N/A"},{"$error":"#N/A"},{"$error":"#N/A"},{"$error":"#N/A"}]
[{"$error":"#N/A"},{"$error":"#N/A"},{"$error":"#N/A"},{"$error":"#N/A"},{"$error":"#N/A"}]
[{"$error":"#N/A"},{"$error":"#N/A"},{"$error":"#N/A"},{"$error":"#N/A"},{"$error":"#N/A"}]
[{"$error":"#N/A"},{"$error":"#N/A"},{"$error":"#N/A"},{"$error":"#N/A"},{"$error":"#N/A"}]
[{"$error":"#N/A"},{"$error":"#N/A"},{"$error":"#N/A"},{"$error":"#N/A"},{"$error":"#N/A"}]
[{"$error":"#N/A"},{"$error":"#N/A"},{"$error":"#N/A"},{"$error":"#N/A"},{"$error":"#N/A"}]
[{"$error":"#N/A"},{"$error":"#N/A"},{"$error":"#N/A"},{"$error":"#N/A"},{"$error":"#N/A"}]
[{"$error":"#N/A"},{"$error":"#N/A"},{"$error":"#N/A"},{"$error":"#N/A"},{"$error":"#N/A"}]
[{"$error":"#N/A"},{"$error":"#N/A"},{"$error":"#N/A"},{"$error":"#N/A"},{"$error":"#N/A"}]
[{"$error":"#N/A"},{"$error":"#N/A"},{"$error":"#N/A"},{"$error":"#N/A"},{"$error":"#N/A"}]
[{"$error":"#N/A"},{"$error":"#N/A"},{"$error":"#N/A"},{"$error":"#N/A"},{"$error":"#N/A"}]
[{"$error":"#N/A"},{"$error":"#N/A"},{"$error":"#N/A"},{"$error":"#N/A"},{"$error":"#N/A"}]
[{"$error":"#N/A"},{"$error":"#N/A"},{"$error":"#N/A"},{"$error":"#N/A"},{"$error":"#N/A"}]
[{"$error":"#N/A"},{"$error":"#N/A"},{"$error":"#N/A"},{"$error":"#N/A"},{"$error":"#N/A"}]
[{"$error":"#N/A"},{"$error":"#N/A"},{"$error":"#N/A"},{"$error":"#N/A"},{"$error":"#N/A"}]
[{"$error":"#N/A"},{"$error":"#N/A"},{"$error":"#N/A"},{"$error":"#N/A"},{"$error":"#N/A"}]
[{"$error":"#N/A"},{"$error":"#N/A"},{"$error":"#N/A"},{"$error":"#N/A"},{"$error":"#N/A"}]
[{"$error":"#N/A"},{"$error":"#N/A"},{"$error":"#N/A"},{"$error":"#N/A"},{"$error":"#N/A"}]
[{"$error":"#N/A"},{"$error":"#N/A"},{"$error":"#N/A"},{"$error":"#N/A"},{"$error":"#N/A"}]
[{"$error":"#N/A"},{"$error":"#N/A"},{"$error":"#N/A"},{"$error":"#N/A"},{"$error":"#N/A"}]
[{"$error":"#N/A"},{"$error":"#N/A"},{"$error":"#N/A"},{"$error":"#N/A"},{"$error":"#N/A"}]
[{"$error":"#N/A"},{"$error":"#N/A"},{"$error":"#N/A"},{"$error":"#N/A"},{"$error":"#N/A"}]
[{"$error":"#N/A"},{"$error":"#N/A"},{"$error":"#N/A"},{"$error":"#N/A"},{"$error":"#N/A"}]
[{"$error":"#N/A"},{"$error":"#N/A"},{"$error":"#N/A"},{"$error":"#N/A"},{"$error":"#N/A"}]
[{"$error":"#N/A"},{"$error":"#N/A"},{"$error":"#N/A"},{"$error":"#N/A"},{"$error":"#N/A"}]
[{"$error":"#N/A"},{"$error":"#N/A"},{"$error":"#N/A"},{"$error":"#N/A"},{"$error":"#N/A"}]
[{"$error":"#N/A"},{"$error":"#N/A"},{"$error":"#N/A"},{"$error":"#N/A"},{"$error":"#N/A"}]
[{"$error":"#N/A"},{"$error":"#N/A"},{"$error":"#N/A"},{"$error":"#N/A"},{"$error":"#N/A"}]
[{"$error":"#N/A"},{"$error":"#N/A"},{"$error":"#N/A"},{"$error":"#N/A"},{"$error":"#N/A"}]
[{"$error":"#N/A"},{"$error":"#N/A"},{"$error":"#N/A"},{"$error":"#N/A"},{"$error":"#N/A"}]
[{"$error":"#N/A"},{"$error":"#N/A"},{"$error":"#N/A"},{"$error":"#N/A"},{"$error":"#N/A"}]
[{"$error":"#N/A"},{"$error":"#N/A"},{"$error":"#N/A"},{"$error":"#N/A"},{"$error":"#N/A"}]
[{"$error":"#N/A"},{"$error":"#N/A"},{"$error":"#N/A"},{"$error":"#N/A"},{"$error":"#N/A"}]
[{"$error":"#N/A"},{"$error":"#N/A"},{"$error":"#N/A"},{"$error":"#N/A"},{"$error":"#N/A"}]
[{"$error":"#N/A"},{"$error":"#N/A"},{"$error":"#N/A"},{"$error":"#N/A"},{"$error":"#N/A"}]
[{"$error":"#N/A"},{"$error":"#N/A"},{"$error":"#N/A"},{"$error":"#N/A"},{"$error":"#N/A"}]
[{"$error":"#N/A"},{"$error":"#N/A"},{"$error":"#N/A"},{"$error":"#N/A"},{"$error":"#N/A"}]
[{"$error":"#N/A"},{"$error":"#N/A"},{"$error":"#N/A"},{"$error":"#N/A"},{"$error":"#N/A"}]
[{"$error":"#N/A"},{"$error":"#N/A"},{"$error":"#N/A"},{"$error":"#N/A"},{"$error":"#N/A"}]
[{"$error":"#N/A"},{"$error":"#N/A"},{"$error":"#N/A"},{"$error":"#N/A"},{"$error":"#N/A"}]
[{"$error":"#N/A"},{"$error":"#N/A"},{"$error":"#N/A"},{"$error":"#N/A"},{"$error":"#N/A"}]
[{"$error":"#N/A"},{"$error":"#N/A"},{"$error":"#N/A"},{"$error":"#N/A"},{"$error":"#N/A"}]
[{"$error":"#N/A"},{"$error":"#N/A"},{"$error":"#N/A"},{"$error":"#N/A"},{"$error":"#N/A"}]
[{"$error":"#N/A"},{"$error":"#N/A"},{"$error":"#N/A"},{"$error":"#N/A"},{"$error":"#N/A"}]
[{"$error":"#N/A"},{"$error":"#N/A"},{"$error":"#N/A"},{"$error":"#N/A"},{"$error":"#N/A"}]
[{"$error":"#N/A"},{"$error":"#N/A"},{"$error":"#N/A"},{"$error":"#N/A"},{"$error":"#N/A"}]
[{"$error":"#N/A"},{"$error":"#N/A"},{"$error":"#N/A"},{"$error":"#N/A"},{"$error":"#N/A"}]
[{"$error":"#N/A"},{"$error":"#N/A"},{"$error":"#N/A"},{"$error":"#N/A"},{"$error":"#N/A"}]
[{"$error":"#N/A"},{"$error":"#N/A"},{"$error":"#N/A"},{"$error":"#N/A"},{"$error":"#N/A"}]
[{"$error":"#N/A"},{"$error":"#N/A"},{"$error":"#N/A"},{"$error":"#N/A"},{"$error":"#N/A"}]
[{"$error":"#N/A"},{"$error":"#N/A"},{"$error":"#N/A"},{"$error":"#N/A"},{"$error":"#N/A"}]
[{"$error":"#N/A"},{"$error":"#N/A"},{"$error":"#N/A"},{"$error":"#N/A"},{"$error":"#N/A"}]
[{"$error":"#N/A"},{"$error":"#N/A"},{"$error":"#N/A"},{"$error":"#N/A"},{"$error":"#N/A"}]
[{"$error":"#N/A"},{"$error":"#N/A"},{"$error":"#N/A"},{"$error":"#N/A"},{"$error":"#N/A"}]
[{"$error":"#N/A"},{"$error":"#N/A"},{"$error":"#N/A"},{"$error":"#N/A"},{"$error":"#N/A"}]
[{"$error":"#N/A"},{"$error":"#N/A"},{"$error":"#N/A"},{"$error":"#N/A"},{"$error":"#N/A"}]
[{"$error":"#N/A"},{"$error":"#N/A"},{"$error":"#N/A"},{"$error":"#N/A"},{"$error":"#N/A"}]
[{"$error":"#N/A"},{"$error":"#N/A"},{"$error":"#N/A"},{"$error":"#N/A"},{"$error":"#N/A"}]
[{"$error":"#N/A"},{"$error":"#N/A"},{"$error":"#N/A"},{"$error":"#N/A"},{"$error":"#N/A"}]
[{"$error":"#N/A"},{"$error":"#N/A"},{"$error":"#N/A"},{"$error":"#N/A"},{"$error":"#N/A"}]
[{"$error":"#N/A"},{"$error":"#N/A"},{"$error":"#N/A"},{"$error":"#N/A"},{"$error":"#N/A"}]
[{"$error":"#N/A"},{"$error":"#N/A"},{"$error":"#N/A"},{"$error":"#N/A"},{"$error":"#N/A"}]
[{"$error":"#N/A"},{"$error":"#N/A"},{"$error":"#N/A"},{"$error":"#N/A"},{"$error":"#N/A"}]
[{"$error":"#N/A"},{"$error":"#N/A"},{"$error":"#N/A"},{"$error":"#N/A"},{"$error":"#N/A"}]
[{"$error":"#N/A"},{"$error":"#N/A"},{"$error":"#N/A"},{"$error":"#N/A"},{"$error":"#N/A"}]
[{"$error":"#N/A"},{"$error":"#N/A"},{"$error":"#N/A"},{"$error":"#N/A"},{"$error":"#N/A"}]
[{"$error":"#N/A"},{"$error":"#N/A"},{"$error":"#N/A"},{"$error":"#N/A"},{"$error":"#N/A"}]
[{"$error":"#N/A"},{"$error":"#N/A"},{"$error":"#N/A"},{"$error":"#N/A"},{"$error":"#N/A"}]
[{"$error":"#N/A"},{"$error":"#N/A"},{"$error":"#N/A"},{"$error":"#N/A"},{"$error":"#N/A"}]
[{"$error":"#N/A"},{"$error":"#N/A"},{"$error":"#N/A"},{"$error":"#N/A"},{"$error":"#N/A"}]
[{"$error":"#N/A"},{"$error":"#N/A"},{"$error":"#N/A"},{"$error":"#N/A"},{"$error":"#N/A"}]
[{"$error":"#N/A"},{"$error":"#N/A"},{"$error":"#N/A"},{"$error":"#N/A"},{"$error":"#N/A"}]
[{"$error":"#N/A"},{"$error":"#N/A"},{"$error":"#N/A"},{"$error":"#N/A"},{"$error":"#N/A"}]
[{"$error":"#N/A"},{"$error":"#N/A"},{"$error":"#N/A"},{"$error":"#N/A"},{"$error":"#N/A"}]
[{"$error":"#N/A"},{"$error":"#N/A"},{"$error":"#N/A"},{"$error":"#N/A"},{"$error":"#N/A"}]
[{"$error":"#N/A"},{"$error":"#N/A"},{"$error":"#N/A"},{"$error":"#N/A"},{"$error":"#N/A"}]
[{"$error":"#N/A"},{"$error":"#N/A"},{"$error":"#N/A"},{"$error":"#N/A"},{"$error":"#N/A"}]
[{"$error":"#N/A"},{"$error":"#N/A"},{"$error":"#N/A"},{"$error":"#N/A"},{"$error":"#N/A"}]
[{"$error":"#N/A"},{"$error":"#N/A"},{"$error":"#N/A"},{"$error":"#N/A"},{"$error":"#N/A"}]
[{"$error":"#N/A"},{"$error":"#N/A"},{"$error":"#N/A"},{"$error":"#N/A"},{"$error":"#N/A"}]
[{"$error":"#N/A"},{"$error":"#N/A"},{"$error":"#N/A"},{"$error":"#N/A"},{"$error":"#N/A"}]
[{"$error":"#N/A"},{"$error":"#N/A"},{"$error":"#N/A"},{"$error":"#N/A"},{"$error":"#N/A"}]
[{"$error":"#N/A"},{"$error":"#N/A"},{"$error":"#N/A"},{"$error":"#N/A"},{"$error":"#N/A"}]
[{"$error":"#N/A"},{"$error":"#N/A"},{"$error":"#N/A"},{"$error":"#N/A"},{"$error":"#N/A"}]
[{"$error":"#N/A"},{"$error":"#N/A"},{"$error":"#N/A"},{"$error":"#N/A"},{"$error":"#N/A"}]
[{"$error":"#N/A"},{"$error":"#N/A"},{"$error":"#N/A"},{"$error":"#N/A"},{"$error":"#N/A"}]
[{"$error":"#N/A"},{"$error":"#N/A"},{"$error":"#N/A"},{"$error":"#N/A"},{"$error":"#N/A"}]
[{"$error":"#N/A"},{"$error":"#N/A"},{"$error":"#N/A"},{"$error":"#N/A"},{"$error":"#N/A"}]
[{"$error":"#N/A"},{"$error":"#N/A"},{"$error":"#N/A"},{"$error":"#N/A"},{"$error":"#N/A"}]
[{"$error":"#N/A"},{"$error":"#N/A"},{"$error":"#N/A"},{"$error":"#N/A"},{"$error":"#N/A"}]
[{"$error":"#N/A"},{"$error":"#N/A"},{"$error":"#N/A"},{"$error":"#N/A"},{"$error":"#N/A"}]
[{"$error":"#N/A"},{"$error":"#N/A"},{"$error":"#N/A"},{"$error":"#N/A"},{"$error":"#N/A"}]
[{"$error":"#N/A"},{"$error":"#N/A"},{"$error":"#N/A"},{"$error":"#N/A"},{"$error":"#N/A"}]
[{"$error":"#N/A"},{"$error":"#N/A"},{"$error":"#N/A"},{"$error":"#N/A"},{"$error":"#N/A"}]
[{"$error":"#N/A"},{"$error":"#N/A"},{"$error":"#N/A"},{"$error":"#N/A"},{"$error":"#N/A"}]
[{"$error":"#N/A"},{"$error":"#N/A"},{"$error":"#N/A"},{"$error":"#N/A"},{"$error":"#N/A"}]
[{"$error":"#N/A"},{"$error":"#N/A"},{"$error":"#N/A"},{"$error":"#N/A"},{"$error":"#N/A"}]
[{"$error":"#N/A"},{"$error":"#N/A"},{"$error":"#N/A"},{"$error":"#N/A"},{"$error":"#N/A"}]
[{"$error":"#N/A"},{"$error":"#N/A"},{"$error":"#N/A"},{"$error":"#N/A"},{"$error":"#N/A"}]
[{"$error":"#N/A"},{"$error":"#N/A"},{"$error":"#N/A"},{"$error":"#N/A"},{"$error":"#N/A"}]
[{"$error":"#N/A"},{"$error":"#N/A"},{"$error":"#N/A"},{"$error":"#N/A"},{"$error":"#N/A"}]
[{"$error":"#N/A"},{"$error":"#N/A"},{"$error":"#N/A"},{"$error":"#N/A"},{"$error":"#N/A"}]
[{"$error":"#N/A"},{"$error":"#N/A"},{"$error":"#N/A"},{"$error":"#N/A"},{"$error":"#N/A"}]
[{"$error":"#N/A"},{"$error":"#N/A"},{"$error":"#N/A"},{"$error":"#N/A"},{"$error":"#N/A"}]
[{"$error":"#N/A"},{"$error":"#N/A"},{"$error":"#N/A"},{"$error":"#N/A"},{"$error":"#N/A"}]
[{"$error":"#N/A"},{"$error":"#N/A"},{"$error":"#N/A"},{"$error":"#N/A"},{"$error":"#N/A"}]
[{"$error":"#N/A"},{"$error":"#N/A"},{"$error":"#N/A"},{"$error":"#N/A"},{"$error":"#N/A"}]
[{"$error":"#N/A"},{"$error":"#N/A"},{"$error":"#N/A"},{"$error":"#N/A"},{"$error":"#N/A"}]
[{"$error":"#N/A"},{"$error":"#N/A"},{"$error":"#N/A"},{"$error":"#N/A"},{"$error":"#N/A"}]
[{"$error":"#N/A"},{"$error":"#N/A"},{"$error":"#N/A"},{"$error":"#N/A"},{"$error":"#N/A"}]
[{"$error":"#N/A"},{"$error":"#N/A"},{"$error":"#N/A"},{"$error":"#N/A"},{"$error":"#N/A"}]
[{"$error":"#N/A"},{"$error":"#N/A"},{"$error":"#N/A"},{"$error":"#N/A"},{"$error":"#N/A"}]
[{"$error":"#N/A"},{"$error":"#N/A"},{"$error":"#N/A"},{"$error":"#N/A"},{"$error":"#N/A"}]
[{"$error":"#N/A"},{"$error":"#N/A"},{"$error":"#N/A"},{"$error":"#N/A"},{"$error":"#N/A"}]
[{"$error":"#N/A"},{"$error":"#N/A"},{"$error":"#N/A"},{"$error":"#N/A"},{"$error":"#N/A"}]
[{"$error":"#N/A"},{"$error":"#N/A"},{"$error":"#N/A"},{"$error":"#N/A"},{"$error":"#N/A"}]
[{"$error":"#N/A"},{"$error":"#N/A"},{"$error":"#N/A"},{"$error":"#N/A"},{"$error":"#N/A"}]
[{"$error":"#N/A"},{"$error":"#N/A"},{"$error":"#N/A"},{"$error":"#N/A"},{"$error":"#N/A"}]
[{"$error":"#N/A"},{"$error":"#N/A"},{"$error":"#N/A"},{"$error":"#N/A"},{"$error":"#N/A"}]
[{"$error":"#N/A"},{"$error":"#N/A"},{"$error":"#N/A"},{"$error":"#N/A"},{"$error":"#N/A"}]
[{"$error":"#N/A"},{"$error":"#N/A"},{"$error":"#N/A"},{"$error":"#N/A"},{"$error":"#N/A"}]
[{"$error":"#N/A"},{"$error":"#N/A"},{"$error":"#N/A"},{"$error":"#N/A"},{"$error":"#N/A"}]
[{"$error":"#N/A"},{"$error":"#N/A"},{"$error":"#N/A"},{"$error":"#N/A"},{"$error":"#N/A"}]
[{"$error":"#N/A"},{"$error":"#N/A"},{"$error":"#N/A"},{"$error":"#N/A"},{"$error":"#N/A"}]
[{"$error":"#N/A"},{"$error":"#N/A"},{"$error":"#N/A"},{"$error":"#N/A"},{"$error":"#N/A"}]
[{"$error":"#N/A"},{"$error":"#N/A"},{"$error":"#N/A"},{"$error":"#N/A"},{"$error":"#N/A"}]
[{"$error":"#N/A"},{"$error":"#N/A"},{"$error":"#N/A"},{"$error":"#N/A"},{"$error":"#N/A"}]
[{"$error":"#N/A"},{"$error":"#N/A"},{"$error":"#N/A"},{"$error":"#N/A"},{"$error":"#N/A"}]
[{"$error":"#N/A"},{"$error":"#N/A"},{"$error":"#N/A"},{"$error":"#N/A"},{"$error":"#N/A"}]
[{"$error":"#N/A"},{"$error":"#N/A"},{"$error":"#N/A"},{"$error":"#N/A"},{"$error":"#N/A"}]
[{"$error":"#N/A"},{"$error":"#N/A"},{"$error":"#N/A"},{"$error":"#N/A"},{"$error":"#N/A"}]
[{"$error":"#N/A"},{"$error":"#N/A"},{"$error":"#N/A"},{"$error":"#N/A"},{"$error":"#N/A"}]
[{"$error":"#N/A"},{"$error":"#N/A"},{"$error":"#N/A"},{"$error":"#N/A"},{"$error":"#N/A"}]
[{"$error":"#N/A"},{"$error":"#N/A"},{"$error":"#N/A"},{"$error":"#N/A"},{"$error":"#N/A"}]
[{"$error":"#N/A"},{"$error":"#N/A"},{"$error":"#N/A"},{"$error":"#N/A"},{"$error":"#N/A"}]
[{"$error":"#N/A"},{"$error":"#N/A"},{"$error":"#N/A"},{"$error":"#N/A"},{"$error":"#N/A"}]
[{"$error":"#N/A"},{"$error":"#N/A"},{"$error":"#N/A"},{"$error":"#N/A"},{"$error":"#N/A"}]
[{"$error":"#N/A"},{"$error":"#N/A"},{"$error":"#N/A"},{"$error":"#N/A"},{"$error":"#N/A"}]
[{"$error":"#N/A"},{"$error":"#N/A"},{"$error":"#N/A"},{"$error":"#N/A"},{"$error":"#N/A"}]
[{"$error":"#N/A"},{"$error":"#N/A"},{"$error":"#N/A"},{"$error":"#N/A"},{"$error":"#N/A"}]
[{"$error":"#N/A"},{"$error":"#N/A"},{"$error":"#N/A"},{"$error":"#N/A"},{"$error":"#N/A"}]
[{"$error":"#N/A"},{"$error":"#N/A"},{"$error":"#N/A"},{"$error":"#N/A"},{"$error":"#N/A"}]
[{"$error":"#N/A"},{"$error":"#N/A"},{"$error":"#N/A"},{"$error":"#N/A"},{"$error":"#N/A"}]
[{"$error":"#N/A"},{"$error":"#N/A"},{"$error":"#N/A"},{"$error":"#N/A"},{"$error":"#N/A"}]
[{"$error":"#N/A"},{"$error":"#N/A"},{"$error":"#N/A"},{"$error":"#N/A"},{"$error":"#N/A"}]
[{"$error":"#N/A"},{"$error":"#N/A"},{"$error":"#N/A"},{"$error":"#N/A"},{"$error":"#N/A"}]
[{"$error":"#N/A"},{"$error":"#N/A"},{"$error":"#N/A"},{"$error":"#N/A"},{"$error":"#N/A"}]
[{"$error":"#N/A"},{"$error":"#N/A"},{"$error":"#N/A"},{"$error":"#N/A"},{"$error":"#N/A"}]
[{"$error":"#N/A"},{"$error":"#N/A"},{"$error":"#N/A"},{"$error":"#N/A"},{"$error":"#N/A"}]
[{"$error":"#N/A"},{"$error":"#N/A"},{"$error":"#N/A"},{"$error":"#N/A"},{"$error":"#N/A"}]
[{"$error":"#N/A"},{"$error":"#N/A"},{"$error":"#N/A"},{"$error":"#N/A"},{"$error":"#N/A"}]
[{"$error":"#N/A"},{"$error":"#N/A"},{"$error":"#N/A"},{"$error":"#N/A"},{"$error":"#N/A"}]
[{"$error":"#N/A"},{"$error":"#N/A"},{"$error":"#N/A"},{"$error":"#N/A"},{"$error":"#N/A"}]
[{"$error":"#N/A"},{"$error":"#N/A"},{"$error":"#N/A"},{"$error":"#N/A"},{"$error":"#N/A"}]
[{"$error":"#N/A"},{"$error":"#N/A"},{"$error":"#N/A"},{"$error":"#N/A"},{"$error":"#N/A"}]
[{"$error":"#N/A"},{"$error":"#N/A"},{"$error":"#N/A"},{"$error":"#N/A"},{"$error":"#N/A"}]
[{"$error":"#N/A"},{"$error":"#N/A"},{"$error":"#N/A"},{"$error":"#N/A"},{"$error":"#N/A"}]
[{"$error":"#N/A"},{"$error":"#N/A"},{"$error":"#N/A"},{"$error":"#N/A"},{"$error":"#N/A"}]
[{"$error":"#N/A"},{"$error":"#N/A"},{"$error":"#N/A"},{"$error":"#N/A"},{"$error":"#N/A"}]
[{"$error":"#N/A"},{"$error":"#N/A"},{"$error":"#N/A"},{"$error":"#N/A"},{"$error":"#N/A"}]
[{"$error":"#N/A"},{"$error":"#N/A"},{"$error":"#N/A"},{"$error":"#N/A"},{"$error":"#N/A"}]
[{"$error":"#N/A"},{"$error":"#N/A"},{"$error":"#N/A"},{"$error":"#N/A"},{"$error":"#N/A"}]
[{"$error":"#N/A"},{"$error":"#N/A"},{"$error":"#N/A"},{"$error":"#N/A"},{"$error":"#N/A"}]
[{"$error":"#N/A"},{"$error":"#N/A"},{"$error":"#N/A"},{"$error":"#N/A"},{"$error":"#N/A"}]
[{"$error":"#N/A"},{"$error":"#N/A"},{"$error":"#N/A"},{"$error":"#N/A"},{"$error":"#N/A"}]
[{"$error":"#N/A"},{"$error":"#N/A"},{"$error":"#N/A"},{"$error":"#N/A"},{"$error":"#N/A"}]
[{"$error":"#N/A"},{"$error":"#N/A"},{"$error":"#N/A"},{"$error":"#N/A"},{"$error":"#N/A"}]
[{"$error":"#N/A"},{"$error":"#N/A"},{"$error":"#N/A"},{"$error":"#N/A"},{"$error":"#N/A"}]
[{"$error":"#N/A"},{"$error":"#N/A"},{"$error":"#N/A"},{"$error":"#N/A"},{"$error":"#N/A"}]
[{"$error":"#N/A"},{"$error":"#N/A"},{"$error":"#N/A"},{"$error":"#N/A"},{"$error":"#N/A"}]
[{"$error":"#N/A"},{"$error":"#N/A"},{"$error":"#N/A"},{"$error":"#N/A"},{"$error":"#N/A"}]
[{"$error":"#N/A"},{"$error":"#N/A"},{"$error":"#N/A"},{"$error":"#N/A"},{"$error":"#N/A"}]
[{"$error":"#N/A"},{"$error":"#N/A"},{"$error":"#N/A"},{"$error":"#N/A"},{"$error":"#N/A"}]
[{"$error":"#N/A"},{"$error":"#N/A"},{"$error":"#N/A"},{"$error":"#N/A"},{"$error":"#N/A"}]
[{"$error":"#N/A"},{"$error":"#N/A"},{"$error":"#N/A"},{"$error":"#N/A"},{"$error":"#N/A"}]
[{"$error":"#N/A"},{"$error":"#N/A"},{"$error":"#N/A"},{"$error":"#N/A"},{"$error":"#N/A"}]
[{"$error":"#N/A"},{"$error":"#N/A"},{"$error":"#N/A"},{"$error":"#N/A"},{"$error":"#N/A"}]
[{"$error":"#N/A"},{"$error":"#N/A"},{"$error":"#N/A"},{"$error":"#N/A"},{"$error":"#N/A"}]
[{"$error":"#N/A"},{"$error":"#N/A"},{"$error":"#N/A"},{"$error":"#N/A"},{"$error":"#N/A"}]
[{"$error":"#N/A"},{"$error":"#N/A"},{"$error":"#N/A"},{"$error":"#N/A"},{"$error":"#N/A"}]
[{"$error":"#N/A"},{"$error":"#N/A"},{"$error":"#N/A"},{"$error":"#N/A"},{"$error":"#N/A"}]
[{"$error":"#N/A"},{"$error":"#N/A"},{"$error":"#N/A"},{"$error":"#N/A"},{"$error":"#N/A"}]
[{"$error":"#N/A"},{"$error":"#N/A"},{"$error":"#N/A"},{"$error":"#N/A"},{"$error":"#N/A"}]
[{"$error":"#N/A"},{"$error":"#N/A"},{"$error":"#N/A"},{"$error":"#N/A"},{"$error":"#N/A"}]
[{"$error":"#N/A"},{"$error":"#N/A"},{"$error":"#N/A"},{"$error":"#N/A"},{"$error":"#N/A"}]
[{"$error":"#N/A"},{"$error":"#N/A"},{"$error":"#N/A"},{"$error":"#N/A"},{"$error":"#N/A"}]
[{"$error":"#N/A"},{"$error":"#N/A"},{"$error":"#N/A"},{"$error":"#N/A"},{"$error":"#N/A"}]
[{"$error":"#N/A"},{"$error":"#N/A"},{"$error":"#N/A"},{"$error":"#N/A"},{"$error":"#N/A"}]
[{"$error":"#N/A"},{"$error":"#N/A"},{"$error":"#N/A"},{"$error":"#N/A"},{"$error":"#N/A"}]
[{"$error":"#N/A"},{"$error":"#N/A"},{"$error":"#N/A"},{"$error":"#N/A"},{"$error":"#N/A"}]
[{"$error":"#N/A"},{"$error":"#N/A"},{"$error":"#N/A"},{"$error":"#N/A"},{"$error":"#N/A"}]
[{"$error":"#N/A"},{"$error":"#N/A"},{"$error":"#N/A"},{"$error":"#N/A"},{"$error":"#N/A"}]
[{"$error":"#N/A"},{"$error":"#N/A"},{"$error":"#N/A"},{"$error":"#N/A"},{"$error":"#N/A"}]
[{"$error":"#N/A"},{"$error":"#N/A"},{"$error":"#N/A"},{"$error":"#N/A"},{"$error":"#N/A"}]
[{"$error":"#N/A"},{"$error":"#N/A"},{"$error":"#N/A"},{"$error":"#N/A"},{"$error":"#N/A"}]
[{"$error":"#N/A"},{"$error":"#N/A"},{"$error":"#N/A"},{"$error":"#N/A"},{"$error":"#N/A"}]
[{"$error":"#N/A"},{"$error":"#N/A"},{"$error":"#N/A"},{"$error":"#N/A"},{"$error":"#N/A"}]
[{"$error":"#N/A"},{"$error":"#N/A"},{"$error":"#N/A"},{"$error":"#N/A"},{"$error":"#N/A"}]
[{"$error":"#N/A"},{"$error":"#N/A"},{"$error":"#N/A"},{"$error":"#N/A"},{"$error":"#N/A"}]
[{"$error":"#N/A"},{"$error":"#N/A"},{"$error":"#N/A"},{"$error":"#N/A"},{"$error":"#N/A"}]
[{"$error":"#N/A"},{"$error":"#N/A"},{"$error":"#N/A"},{"$error":"#N/A"},{"$error":"#N/A"}]
[{"$error":"#N/A"},{"$error":"#N/A"},{"$error":"#N/A"},{"$error":"#N/A"},{"$error":"#N/A"}]
[{"$error":"#N/A"},{"$error":"#N/A"},{"$error":"#N/A"},{"$error":"#N/A"},{"$error":"#N/A"}]
[{"$error":"#N/A"},{"$error":"#N/A"},{"$error":"#N/A"},{"$error":"#N/A"},{"$error":"#N/A"}]
[{"$error":"#N/A"},{"$error":"#N/A"},{"$error":"#N/A"},{"$error":"#N/A"},{"$error":"#N/A"}]
[{"$error":"#N/A"},{"$error":"#N/A"},{"$error":"#N/A"},{"$error":"#N/A"},{"$error":"#N/A"}]
[{"$error":"#N/A"},{"$error":"#N/A"},{"$error":"#N/A"},{"$error":"#N/A"},{"$error":"#N/A"}]
[{"$error":"#N/A"},{"$error":"#N/A"},{"$error":"#N/A"},{"$error":"#N/A"},{"$error":"#N/A"}]
[{"$error":"#N/A"},{"$error":"#N/A"},{"$error":"#N/A"},{"$error":"#N/A"},{"$error":"#N/A"}]
[{"$error":"#N/A"},{"$error":"#N/A"},{"$error":"#N/A"},{"$error":"#N/A"},{"$error":"#N/A"}]
[{"$error":"#N/A"},{"$error":"#N/A"},{"$error":"#N/A"},{"$error":"#N/A"},{"$error":"#N/A"}]
[{"$error":"#N/A"},{"$error":"#N/A"},{"$error":"#N/A"},{"$error":"#N/A"},{"$error":"#N/A"}]
[{"$error":"#N/A"},{"$error":"#N/A"},{"$error":"#N/A"},{"$error":"#N/A"},{"$error":"#N/A"}]
[{"$error":"#N/A"},{"$error":"#N/A"},{"$error":"#N/A"},{"$error":"#N/A"},{"$error":"#N/A"}]
[{"$error":"#N/A"},{"$error":"#N/A"},{"$error":"#N/A"},{"$error":"#N/A"},{"$error":"#N/A"}]
[{"$error":"#N/A"},{"$error":"#N/A"},{"$error":"#N/A"},{"$error":"#N/A"},{"$error":"#N/A"}]
[{"$error":"#N/A"},{"$error":"#N/A"},{"$error":"#N/A"},{"$error":"#N/A"},{"$error":"#N/A"}]
[{"$error":"#N/A"},{"$error":"#N/A"},{"$error":"#N/A"},{"$error":"#N/A"},{"$error":"#N/A"}]
[{"$error":"#N/A"},{"$error":"#N/A"},{"$error":"#N/A"},{"$error":"#N/A"},{"$error":"#N/A"}]
[{"$error":"#N/A"},{"$error":"#N/A"},{"$error":"#N/A"},{"$error":"#N/A"},{"$error":"#N/A"}]
[{"$error":"#N/A"},{"$error":"#N/A"},{"$error":"#N/A"},{"$error":"#N/A"},{"$error":"#N/A"}]
[{"$error":"#N/A"},{"$error":"#N/A"},{"$error":"#N/A"},{"$error":"#N/A"},{"$error":"#N/A"}]
[{"$error":"#N/A"},{"$error":"#N/A"},{"$error":"#N/A"},{"$error":"#N/A"},{"$error":"#N/A"}]
[{"$error":"#N/A"},{"$error":"#N/A"},{"$error":"#N/A"},{"$error":"#N/A"},{"$error":"#N/A"}]
[{"$error":"#N/A"},{"$error":"#N/A"},{"$error":"#N/A"},{"$error":"#N/A"},{"$error":"#N/A"}]
[{"$error":"#N/A"},{"$error":"#N/A"},{"$error":"#N/A"},{"$error":"#N/A"},{"$error":"#N/A"}]
[{"$error":"#N/A"},{"$error":"#N/A"},{"$error":"#N/A"},{"$error":"#N/A"},{"$error":"#N/A"}]
[{"$error":"#N/A"},{"$error":"#N/A"},{"$error":"#N/A"},{"$error":"#N/A"},{"$error":"#N/A"}]
[{"$error":"#N/A"},{"$error":"#N/A"},{"$error":"#N/A"},{"$error":"#N/A"},{"$error":"#N/A"}]
[{"$error":"#N/A"},{"$error":"#N/A"},{"$error":"#N/A"},{"$error":"#N/A"},{"$error":"#N/A"}]
[{"$error":"#N/A"},{"$error":"#N/A"},{"$error":"#N/A"},{"$error":"#N/A"},{"$error":"#N/A"}]
[{"$error":"#N/A"},{"$error":"#N/A"},{"$error":"#N/A"},{"$error":"#N/A"},{"$error":"#N/A"}]
[{"$error":"#N/A"},{"$error":"#N/A"},{"$error":"#N/A"},{"$error":"#N/A"},{"$error":"#N/A"}]
[{"$error":"#N/A"},{"$error":"#N/A"},{"$error":"#N/A"},{"$error":"#N/A"},{"$error":"#N/A"}]
[{"$error":"#N/A"},{"$error":"#N/A"},{"$error":"#N/A"},{"$error":"#N/A"},{"$error":"#N/A"}]
[{"$error":"#N/A"},{"$error":"#N/A"},{"$error":"#N/A"},{"$error":"#N/A"},{"$error":"#N/A"}]
[{"$error":"#N/A"},{"$error":"#N/A"},{"$error":"#N/A"},{"$error":"#N/A"},{"$error":"#N/A"}]
[{"$error":"#N/A"},{"$error":"#N/A"},{"$error":"#N/A"},{"$error":"#N/A"},{"$error":"#N/A"}]
[{"$error":"#N/A"},{"$error":"#N/A"},{"$error":"#N/A"},{"$error":"#N/A"},{"$error":"#N/A"}]
[{"$error":"#N/A"},{"$error":"#N/A"},{"$error":"#N/A"},{"$error":"#N/A"},{"$error":"#N/A"}]
[{"$error":"#N/A"},{"$error":"#N/A"},{"$error":"#N/A"},{"$error":"#N/A"},{"$error":"#N/A"}]
[{"$error":"#N/A"},{"$error":"#N/A"},{"$error":"#N/A"},{"$error":"#N/A"},{"$error":"#N/A"}]
[{"$error":"#N/A"},{"$error":"#N/A"},{"$error":"#N/A"},{"$error":"#N/A"},{"$error":"#N/A"}]
[{"$error":"#N/A"},{"$error":"#N/A"},{"$error":"#N/A"},{"$error":"#N/A"},{"$error":"#N/A"}]
[{"$error":"#N/A"},{"$error":"#N/A"},{"$error":"#N/A"},{"$error":"#N/A"},{"$error":"#N/A"}]
[{"$error":"#N/A"},{"$error":"#N/A"},{"$error":"#N/A"},{"$error":"#N/A"},{"$error":"#N/A"}]
[{"$error":"#N/A"},{"$error":"#N/A"},{"$error":"#N/A"},{"$error":"#N/A"},{"$error":"#N/A"}]
[{"$error":"#N/A"},{"$error":"#N/A"},{"$error":"#N/A"},{"$error":"#N/A"},{"$error":"#N/A"}]
[{"$error":"#N/A"},{"$error":"#N/A"},{"$error":"#N/A"},{"$error":"#N/A"},{"$error":"#N/A"}]
[{"$error":"#N/A"},{"$error":"#N/A"},{"$error":"#N/A"},{"$error":"#N/A"},{"$error":"#N/A"}]
[{"$error":"#N/A"},{"$error":"#N/A"},{"$error":"#N/A"},{"$error":"#N/A"},{"$error":"#N/A"}]
[{"$error":"#N/A"},{"$error":"#N/A"},{"$error":"#N/A"},{"$error":"#N/A"},{"$error":"#N/A"}]
[{"$error":"#N/A"},{"$error":"#N/A"},{"$error":"#N/A"},{"$error":"#N/A"},{"$error":"#N/A"}]
[{"$error":"#N/A"},{"$error":"#N/A"},{"$error":"#N/A"},{"$error":"#N/A"},{"$error":"#N/A"}]
[{"$error":"#N/A"},{"$error":"#N/A"},{"$error":"#N/A"},{"$error":"#N/A"},{"$error":"#N/A"}]
[{"$error":"#N/A"},{"$error":"#N/A"},{"$error":"#N/A"},{"$error":"#N/A"},{"$error":"#N/A"}]
[{"$error":"#N/A"},{"$error":"#N/A"},{"$error":"#N/A"},{"$error":"#N/A"},{"$error":"#N/A"}]
[{"$error":"#N/A"},{"$error":"#N/A"},{"$error":"#N/A"},{"$error":"#N/A"},{"$error":"#N/A"}]
[{"$error":"#N/A"},{"$error":"#N/A"},{"$error":"#N/A"},{"$error":"#N/A"},{"$error":"#N/A"}]
[{"$error":"#N/A"},{"$error":"#N/A"},{"$error":"#N/A"},{"$error":"#N/A"},{"$error":"#N/A"}]
[{"$error":"#N/A"},{"$error":"#N/A"},{"$error":"#N/A"},{"$error":"#N/A"},{"$error":"#N/A"}]
[{"$error":"#N/A"},{"$error":"#N/A"},{"$error":"#N/A"},{"$error":"#N/A"},{"$error":"#N/A"}]
[{"$error":"#N/A"},{"$error":"#N/A"},{"$error":"#N/A"},{"$error":"#N/A"},{"$error":"#N/A"}]
[{"$error":"#N/A"},{"$error":"#N/A"},{"$error":"#N/A"},{"$error":"#N/A"},{"$error":"#N/A"}]
[{"$error":"#N/A"},{"$error":"#N/A"},{"$error":"#N/A"},{"$error":"#N/A"},{"$error":"#N/A"}]
[{"$error":"#N/A"},{"$error":"#N/A"},{"$error":"#N/A"},{"$error":"#N/A"},{"$error":"#N/A"}]
[{"$error":"#N/A"},{"$error":"#N/A"},{"$error":"#N/A"},{"$error":"#N/A"},{"$error":"#N/A"}]
[{"$error":"#N/A"},{"$error":"#N/A"},{"$error":"#N/A"},{"$error":"#N/A"},{"$error":"#N/A"}]
[{"$error":"#N/A"},{"$error":"#N/A"},{"$error":"#N/A"},{"$error":"#N/A"},{"$error":"#N/A"}]
[{"$error":"#N/A"},{"$error":"#N/A"},{"$error":"#N/A"},{"$error":"#N/A"},{"$error":"#N/A"}]
[{"$error":"#N/A"},{"$error":"#N/A"},{"$error":"#N/A"},{"$error":"#N/A"},{"$error":"#N/A"}]
[{"$error":"#N/A"},{"$error":"#N/A"},{"$error":"#N/A"},{"$error":"#N/A"},{"$error":"#N/A"}]
[{"$error":"#N/A"},{"$error":"#N/A"},{"$error":"#N/A"},{"$error":"#N/A"},{"$error":"#N/A"}]
[{"$error":"#N/A"},{"$error":"#N/A"},{"$error":"#N/A"},{"$error":"#N/A"},{"$error":"#N/A"}]
[{"$error":"#N/A"},{"$error":"#N/A"},{"$error":"#N/A"},{"$error":"#N/A"},{"$error":"#N/A"}]
[{"$error":"#N/A"},{"$error":"#N/A"},{"$error":"#N/A"},{"$error":"#N/A"},{"$error":"#N/A"}]
[{"$error":"#N/A"},{"$error":"#N/A"},{"$error":"#N/A"},{"$error":"#N/A"},{"$error":"#N/A"}]
[{"$error":"#N/A"},{"$error":"#N/A"},{"$error":"#N/A"},{"$error":"#N/A"},{"$error":"#N/A"}]
[{"$error":"#N/A"},{"$error":"#N/A"},{"$error":"#N/A"},{"$error":"#N/A"},{"$error":"#N/A"}]
[{"$error":"#N/A"},{"$error":"#N/A"},{"$error":"#N/A"},{"$error":"#N/A"},{"$error":"#N/A"}]
[{"$error":"#N/A"},{"$error":"#N/A"},{"$error":"#N/A"},{"$error":"#N/A"},{"$error":"#N/A"}]
[{"$error":"#N/A"},{"$error":"#N/A"},{"$error":"#N/A"},{"$error":"#N/A"},{"$error":"#N/A"}]
[{"$error":"#N/A"},{"$error":"#N/A"},{"$error":"#N/A"},{"$error":"#N/A"},{"$error":"#N/A"}]
[{"$error":"#N/A"},{"$error":"#N/A"},{"$error":"#N/A"},{"$error":"#N/A"},{"$error":"#N/A"}]
[{"$error":"#N/A"},{"$error":"#N/A"},{"$error":"#N/A"},{"$error":"#N/A"},{"$error":"#N/A"}]
[{"$error":"#N/A"},{"$error":"#N/A"},{"$error":"#N/A"},{"$error":"#N/A"},{"$error":"#N/A"}]
[{"$error":"#N/A"},{"$error":"#N/A"},{"$error":"#N/A"},{"$error":"#N/A"},{"$error":"#N/A"}]
[{"$error":"#N/A"},{"$error":"#N/A"},{"$error":"#N/A"},{"$error":"#N/A"},{"$error":"#N/A"}]
[{"$error":"#N/A"},{"$error":"#N/A"},{"$error":"#N/A"},{"$error":"#N/A"},{"$error":"#N/A"}]
[{"$error":"#N/A"},{"$error":"#N/A"},{"$error":"#N/A"},{"$error":"#N/A"},{"$error":"#N/A"}]
[{"$error":"#N/A"},{"$error":"#N/A"},{"$error":"#N/A"},{"$error":"#N/A"},{"$error":"#N/A"}]
[{"$error":"#N/A"},{"$error":"#N/A"},{"$error":"#N/A"},{"$error":"#N/A"},{"$error":"#N/A"}]
[{"$error":"#N/A"},{"$error":"#N/A"},{"$error":"#N/A"},{"$error":"#N/A"},{"$error":"#N/A"}]
[{"$error":"#N/A"},{"$error":"#N/A"},{"$error":"#N/A"},{"$error":"#N/A"},{"$error":"#N/A"}]
[{"$error":"#N/A"},{"$error":"#N/A"},{"$error":"#N/A"},{"$error":"#N/A"},{"$error":"#N/A"}]
[{"$error":"#N/A"},{"$error":"#N/A"},{"$error":"#N/A"},{"$error":"#N/A"},{"$error":"#N/A"}]
[{"$error":"#N/A"},{"$error":"#N/A"},{"$error":"#N/A"},{"$error":"#N/A"},{"$error":"#N/A"}]
[{"$error":"#N/A"},{"$error":"#N/A"},{"$error":"#N/A"},{"$error":"#N/A"},{"$error":"#N/A"}]
[{"$error":"#N/A"},{"$error":"#N/A"},{"$error":"#N/A"},{"$error":"#N/A"},{"$error":"#N/A"}]
[{"$error":"#N/A"},{"$error":"#N/A"},{"$error":"#N/A"},{"$error":"#N/A"},{"$error":"#N/A"}]
[{"$error":"#N/A"},{"$error":"#N/A"},{"$error":"#N/A"},{"$error":"#N/A"},{"$error":"#N/A"}]
[{"$error":"#N/A"},{"$error":"#N/A"},{"$error":"#N/A"},{"$error":"#N/A"},{"$error":"#N/A"}]
[{"$error":"#N/A"},{"$error":"#N/A"},{"$error":"#N/A"},{"$error":"#N/A"},{"$error":"#N/A"}]
[{"$error":"#N/A"},{"$error":"#N/A"},{"$error":"#N/A"},{"$error":"#N/A"},{"$error":"#N/A"}]
[{"$error":"#N/A"},{"$error":"#N/A"},{"$error":"#N/A"},{"$error":"#N/A"},{"$error":"#N/A"}]
[{"$error":"#N/A"},{"$error":"#N/A"},{"$error":"#N/A"},{"$error":"#N/A"},{"$error":"#N/A"}]
[{"$error":"#N/A"},{"$error":"#N/A"},{"$error":"#N/A"},{"$error":"#N/A"},{"$error":"#N/A"}]
[{"$error":"#N/A"},{"$error":"#N/A"},{"$error":"#N/A"},{"$error":"#N/A"},{"$error":"#N/A"}]
[{"$error":"#N/A"},{"$error":"#N/A"},{"$error":"#N/A"},{"$error":"#N/A"},{"$error":"#N/A"}]
[{"$error":"#N/A"},{"$error":"#N/A"},{"$error":"#N/A"},{"$error":"#N/A"},{"$error":"#N/A"}]
[{"$error":"#N/A"},{"$error":"#N/A"},{"$error":"#N/A"},{"$error":"#N/A"},{"$error":"#N/A"}]
[{"$error":"#N/A"},{"$error":"#N/A"},{"$error":"#N/A"},{"$error":"#N/A"},{"$error":"#N/A"}]
[{"$error":"#N/A"},{"$error":"#N/A"},{"$error":"#N/A"},{"$error":"#N/A"},{"$error":"#N/A"}]
[{"$error":"#N/A"},{"$error":"#N/A"},{"$error":"#N/A"},{"$error":"#N/A"},{"$error":"#N/A"}]
[{"$error":"#N/A"},{"$error":"#N/A"},{"$error":"#N/A"},{"$error":"#N/A"},{"$error":"#N/A"}]
[{"$error":"#N/A"},{"$error":"#N/A"},{"$error":"#N/A"},{"$error":"#N/A"},{"$error":"#N/A"}]
[{"$error":"#N/A"},{"$error":"#N/A"},{"$error":"#N/A"},{"$error":"#N/A"},{"$error":"#N/A"}]
[{"$error":"#N/A"},{"$error":"#N/A"},{"$error":"#N/A"},{"$error":"#N/A"},{"$error":"#N/A"}]
[{"$error":"#N/A"},{"$error":"#N/A"},{"$error":"#N/A"},{"$error":"#N/A"},{"$error":"#N/A"}]
[{"$error":"#N/A"},{"$error":"#N/A"},{"$error":"#N/A"},{"$error":"#N/A"},{"$error":"#N/A"}]
[{"$error":"#N/A"},{"$error":"#N/A"},{"$error":"#N/A"},{"$error":"#N/A"},{"$error":"#N/A"}]
[{"$error":"#N/A"},{"$error":"#N/A"},{"$error":"#N/A"},{"$error":"#N/A"},{"$error":"#N/A"}]
[{"$error":"#N/A"},{"$error":"#N/A"},{"$error":"#N/A"},{"$error":"#N/A"},{"$error":"#N/A"}]
[{"$error":"#N/A"},{"$error":"#N/A"},{"$error":"#N/A"},{"$error":"#N/A"},{"$error":"#N/A"}]
[{"$error":"#N/A"},{"$error":"#N/A"},{"$error":"#N/A"},{"$error":"#N/A"},{"$error":"#N/A"}]
[{"$error":"#N/A"},{"$error":"#N/A"},{"$error":"#N/A"},{"$error":"#N/A"},{"$error":"#N/A"}]
[{"$error":"#N/A"},{"$error":"#N/A"},{"$error":"#N/A"},{"$error":"#N/A"},{"$error":"#N/A"}]
[{"$error":"#N/A"},{"$error":"#N/A"},{"$error":"#N/A"},{"$error":"#N/A"},{"$error":"#N/A"}]
[{"$error":"#N/A"},{"$error":"#N/A"},{"$error":"#N/A"},{"$error":"#N/A"},{"$error":"#N/A"}]
[{"$error":"#N/A"},{"$error":"#N/A"},{"$error":"#N/A"},{"$error":"#N/A"},{"$error":"#N/A"}]
[{"$error":"#N/A"},{"$error":"#N/A"},{"$error":"#N/A"},{"$error":"#N/A"},{"$error":"#N/A"}]
[{"$error":"#N/A"},{"$error":"#N/A"},{"$error":"#N/A"},{"$error":"#N/A"},{"$error":"#N/A"}]
[{"$error":"#N/A"},{"$error":"#N/A"},{"$error":"#N/A"},{"$error":"#N/A"},{"$error":"#N/A"}]
[{"$error":"#N/A"},{"$error":"#N/A"},{"$error":"#N/A"},{"$error":"#N/A"},{"$error":"#N/A"}]
[{"$error":"#N/A"},{"$error":"#N/A"},{"$error":"#N/A"},{"$error":"#N/A"},{"$error":"#N/A"}]
[{"$error":"#N/A"},{"$error":"#N/A"},{"$error":"#N/A"},{"$error":"#N/A"},{"$error":"#N/A"}]
[{"$error":"#N/A"},{"$error":"#N/A"},{"$error":"#N/A"},{"$error":"#N/A"},{"$error":"#N/A"}]
[{"$error":"#N/A"},{"$error":"#N/A"},{"$error":"#N/A"},{"$error":"#N/A"},{"$error":"#N/A"}]
[{"$error":"#N/A"},{"$error":"#N/A"},{"$error":"#N/A"},{"$error":"#N/A"},{"$error":"#N/A"}]
[{"$error":"#N/A"},{"$error":"#N/A"},{"$error":"#N/A"},{"$error":"#N/A"},{"$error":"#N/A"}]
[{"$error":"#N/A"},{"$error":"#N/A"},{"$error":"#N/A"},{"$error":"#N/A"},{"$error":"#N/A"}]
[{"$error":"#N/A"},{"$error":"#N/A"},{"$error":"#N/A"},{"$error":"#N/A"},{"$error":"#N/A"}]
[{"$error":"#N/A"},{"$error":"#N/A"},{"$error":"#N/A"},{"$error":"#N/A"},{"$error":"#N/A"}]
[{"$error":"#N/A"},{"$error":"#N/A"},{"$error":"#N/A"},{"$error":"#N/A"},{"$error":"#N/A"}]
[{"$error":"#N/A"},{"$error":"#N/A"},{"$error":"#N/A"},{"$error":"#N/A"},{"$error":"#N/A"}]
[{"$error":"#N/A"},{"$error":"#N/A"},{"$error":"#N/A"},{"$error":"#N/A"},{"$error":"#N/A"}]
[{"$error":"#N/A"},{"$error":"#N/A"},{"$error":"#N/A"},{"$error":"#N/A"},{"$error":"#N/A"}]
[{"$error":"#N/A"},{"$error":"#N/A"},{"$error":"#N/A"},{"$error":"#N/A"},{"$error":"#N/A"}]
[{"$error":"#N/A"},{"$error":"#N/A"},{"$error":"#N/A"},{"$error":"#N/A"},{"$error":"#N/A"}]
[{"$error":"#N/A"},{"$error":"#N/A"},{"$error":"#N/A"},{"$error":"#N/A"},{"$error":"#N/A"}]
[{"$error":"#N/A"},{"$error":"#N/A"},{"$error":"#N/A"},{"$error":"#N/A"},{"$error":"#N/A"}]
[{"$error":"#N/A"},{"$error":"#N/A"},{"$error":"#N/A"},{"$error":"#N/A"},{"$error":"#N/A"}]
[{"$error":"#N/A"},{"$error":"#N/A"},{"$error":"#N/A"},{"$error":"#N/A"},{"$error":"#N/A"}]
[{"$error":"#N/A"},{"$error":"#N/A"},{"$error":"#N/A"},{"$error":"#N/A"},{"$error":"#N/A"}]
[{"$error":"#N/A"},{"$error":"#N/A"},{"$error":"#N/A"},{"$error":"#N/A"},{"$error":"#N/A"}]
[{"$error":"#N/A"},{"$error":"#N/A"},{"$error":"#N/A"},{"$error":"#N/A"},{"$error":"#N/A"}]
[{"$error":"#N/A"},{"$error":"#N/A"},{"$error":"#N/A"},{"$error":"#N/A"},{"$error":"#N/A"}]
[{"$error":"#N/A"},{"$error":"#N/A"},{"$error":"#N/A"},{"$error":"#N/A"},{"$error":"#N/A"}]
[{"$error":"#N/A"},{"$error":"#N/A"},{"$error":"#N/A"},{"$error":"#N/A"},{"$error":"#N/A"}]
[{"$error":"#N/A"},{"$error":"#N/A"},{"$error":"#N/A"},{"$error":"#N/A"},{"$error":"#N/A"}]
[{"$error":"#N/A"},{"$error":"#N/A"},{"$error":"#N/A"},{"$error":"#N/A"},{"$error":"#N/A"}]
[{"$error":"#N/A"},{"$error":"#N/A"},{"$error":"#N/A"},{"$error":"#N/A"},{"$error":"#N/A"}]
[{"$error":"#N/A"},{"$error":"#N/A"},{"$error":"#N/A"},{"$error":"#N/A"},{"$error":"#N/A"}]
[{"$error":"#N/A"},{"$error":"#N/A"},{"$error":"#N/A"},{"$error":"#N/A"},{"$error":"#N/A"}]
[{"$error":"#N/A"},{"$error":"#N/A"},{"$error":"#N/A"},{"$error":"#N/A"},{"$error":"#N/A"}]
[{"$error":"#N/A"},{"$error":"#N/A"},{"$error":"#N/A"},{"$error":"#N/A"},{"$error":"#N/A"}]
[{"$error":"#N/A"},{"$error":"#N/A"},{"$error":"#N/A"},{"$error":"#N/A"},{"$error":"#N/A"}]
[{"$error":"#N/A"},{"$error":"#N/A"},{"$error":"#N/A"},{"$error":"#N/A"},{"$error":"#N/A"}]
[{"$error":"#N/A"},{"$error":"#N/A"},{"$error":"#N/A"},{"$error":"#N/A"},{"$error":"#N/A"}]
[{"$error":"#N/A"},{"$error":"#N/A"},{"$error":"#N/A"},{"$error":"#N/A"},{"$error":"#N/A"}]
[{"$error":"#N/A"},{"$error":"#N/A"},{"$error":"#N/A"},{"$error":"#N/A"},{"$error":"#N/A"}]
[{"$error":"#N/A"},{"$error":"#N/A"},{"$error":"#N/A"},{"$error":"#N/A"},{"$error":"#N/A"}]
[{"$error":"#N/A"},{"$error":"#N/A"},{"$error":"#N/A"},{"$error":"#N/A"},{"$error":"#N/A"}]
[{"$error":"#N/A"},{"$error":"#N/A"},{"$error":"#N/A"},{"$error":"#N/A"},{"$error":"#N/A"}]
[{"$error":"#N/A"},{"$error":"#N/A"},{"$error":"#N/A"},{"$error":"#N/A"},{"$error":"#N/A"}]
[{"$error":"#N/A"},{"$error":"#N/A"},{"$error":"#N/A"},{"$error":"#N/A"},{"$error":"#N/A"}]
[{"$error":"#N/A"},{"$error":"#N/A"},{"$error":"#N/A"},{"$error":"#N/A"},{"$error":"#N/A"}]
[{"$error":"#N/A"},{"$error":"#N/A"},{"$error":"#N/A"},{"$error":"#N/A"},{"$error":"#N/A"}]
[{"$error":"#N/A"},{"$error":"#N/A"},{"$error":"#N/A"},{"$error":"#N/A"},{"$error":"#N/A"}]
[{"$error":"#N/A"},{"$error":"#N/A"},{"$error":"#N/A"},{"$error":"#N/A"},{"$error":"#N/A"}]
[{"$error":"#N/A"},{"$error":"#N/A"},{"$error":"#N/A"},{"$error":"#N/A"},{"$error":"#N/A"}]
[{"$error":"#N/A"},{"$error":"#N/A"},{"$error":"#N/A"},{"$error":"#N/A"},{"$error":"#N/A"}]
[{"$error":"#N/A"},{"$error":"#N/A"},{"$error":"#N/A"},{"$error":"#N/A"},{"$error":"#N/A"}]
[{"$error":"#N/A"},{"$error":"#N/A"},{"$error":"#N/A"},{"$error":"#N/A"},{"$error":"#N/A"}]
[{"$error":"#N/A"},{"$error":"#N/A"},{"$error":"#N/A"},{"$error":"#N/A"},{"$error":"#N/A"}]
[{"$error":"#N/A"},{"$error":"#N/A"},{"$error":"#N/A"},{"$error":"#N/A"},{"$error":"#N/A"}]
[{"$error":"#N/A"},{"$error":"#N/A"},{"$error":"#N/A"},{"$error":"#N/A"},{"$error":"#N/A"}]
[{"$error":"#N/A"},{"$error":"#N/A"},{"$error":"#N/A"},{"$error":"#N/A"},{"$error":"#N/A"}]
[{"$error":"#N/A"},{"$error":"#N/A"},{"$error":"#N/A"},{"$error":"#N/A"},{"$error":"#N/A"}]
[{"$error":"#N/A"},{"$error":"#N/A"},{"$error":"#N/A"},{"$error":"#N/A"},{"$error":"#N/A"}]
[{"$error":"#N/A"},{"$error":"#N/A"},{"$error":"#N/A"},{"$error":"#N/A"},{"$error":"#N/A"}]
[{"$error":"#N/A"},{"$error":"#N/A"},{"$error":"#N/A"},{"$error":"#N/A"},{"$error":"#N/A"}]
[{"$error":"#N/A"},{"$error":"#N/A"},{"$error":"#N/A"},{"$error":"#N/A"},{"$error":"#N/A"}]
[{"$error":"#N/A"},{"$error":"#N/A"},{"$error":"#N/A"},{"$error":"#N/A"},{"$error":"#N/A"}]
[{"$error":"#N/A"},{"$error":"#N/A"},{"$error":"#N/A"},{"$error":"#N/A"},{"$error":"#N/A"}]
[{"$error":"#N/A"},{"$error":"#N/A"},{"$error":"#N/A"},{"$error":"#N/A"},{"$error":"#N/A"}]
[{"$error":"#N/A"},{"$error":"#N/A"},{"$error":"#N/A"},{"$error":"#N/A"},{"$error":"#N/A"}]
[{"$error":"#N/A"},{"$error":"#N/A"},{"$error":"#N/A"},{"$error":"#N/A"},{"$error":"#N/A"}]
[{"$error":"#N/A"},{"$error":"#N/A"},{"$error":"#N/A"},{"$error":"#N/A"},{"$error":"#N/A"}]
[{"$error":"#N/A"},{"$error":"#N/A"},{"$error":"#N/A"},{"$error":"#N/A"},{"$error":"#N/A"}]
[{"$error":"#N/A"},{"$error":"#N/A"},{"$error":"#N/A"},{"$error":"#N/A"},{"$error":"#N/A"}]
[{"$error":"#N/A"},{"$error":"#N/A"},{"$error":"#N/A"},{"$error":"#N/A"},{"$error":"#N/A"}]
[{"$error":"#N/A"},{"$error":"#N/A"},{"$error":"#N/A"},{"$error":"#N/A"},{"$error":"#N/A"}]
[{"$error":"#N/A"},{"$error":"#N/A"},{"$error":"#N/A"},{"$error":"#N/A"},{"$error":"#N/A"}]
[{"$error":"#N/A"},{"$error":"#N/A"},{"$error":"#N/A"},{"$error":"#N/A"},{"$error":"#N/A"}]
[{"$error":"#N/A"},{"$error":"#N/A"},{"$error":"#N/A"},{"$error":"#N/A"},{"$error":"#N/A"}]
[{"$error":"#N/A"},{"$error":"#N/A"},{"$error":"#N/A"},{"$error":"#N/A"},{"$error":"#N/A"}]
[{"$error":"#N/A"},{"$error":"#N/A"},{"$error":"#N/A"},{"$error":"#N/A"},{"$error":"#N/A"}]
[{"$error":"#N/A"},{"$error":"#N/A"},{"$error":"#N/A"},{"$error":"#N/A"},{"$error":"#N/A"}]
[{"$error":"#N/A"},{"$error":"#N/A"},{"$error":"#N/A"},{"$error":"#N/A"},{"$error":"#N/A"}]
[{"$error":"#N/A"},{"$error":"#N/A"},{"$error":"#N/A"},{"$error":"#N/A"},{"$error":"#N/A"}]
[{"$error":"#N/A"},{"$error":"#N/A"},{"$error":"#N/A"},{"$error":"#N/A"},{"$error":"#N/A"}]
[{"$error":"#N/A"},{"$error":"#N/A"},{"$error":"#N/A"},{"$error":"#N/A"},{"$error":"#N/A"}]
[{"$error":"#N/A"},{"$error":"#N/A"},{"$error":"#N/A"},{"$error":"#N/A"},{"$error":"#N/A"}]
[{"$error":"#N/A"},{"$error":"#N/A"},{"$error":"#N/A"},{"$error":"#N/A"},{"$error":"#N/A"}]
[{"$error":"#N/A"},{"$error":"#N/A"},{"$error":"#N/A"},{"$error":"#N/A"},{"$error":"#N/A"}]
[{"$error":"#N/A"},{"$error":"#N/A"},{"$error":"#N/A"},{"$error":"#N/A"},{"$error":"#N/A"}]
[{"$error":"#N/A"},{"$error":"#N/A"},{"$error":"#N/A"},{"$error":"#N/A"},{"$error":"#N/A"}]
[{"$error":"#N/A"},{"$error":"#N/A"},{"$error":"#N/A"},{"$error":"#N/A"},{"$error":"#N/A"}]
[{"$error":"#N/A"},{"$error":"#N/A"},{"$error":"#N/A"},{"$error":"#N/A"},{"$error":"#N/A"}]
[{"$error":"#N/A"},{"$error":"#N/A"},{"$error":"#N/A"},{"$error":"#N/A"},{"$error":"#N/A"}]
[{"$error":"#N/A"},{"$error":"#N/A"},{"$error":"#N/A"},{"$error":"#N/A"},{"$error":"#N/A"}]
[{"$error":"#N/A"},{"$error":"#N/A"},{"$error":"#N/A"},{"$error":"#N/A"},{"$error":"#N/A"}]
[{"$error":"#N/A"},{"$error":"#N/A"},{"$error":"#N/A"},{"$error":"#N/A"},{"$error":"#N/A"}]
[{"$error":"#N/A"},{"$error":"#N/A"},{"$error":"#N/A"},{"$error":"#N/A"},{"$error":"#N/A"}]
[{"$error":"#N/A"},{"$error":"#N/A"},{"$error":"#N/A"},{"$error":"#N/A"},{"$error":"#N/A"}]
[{"$error":"#N/A"},{"$error":"#N/A"},{"$error":"#N/A"},{"$error":"#N/A"},{"$error":"#N/A"}]
[{"$error":"#N/A"},{"$error":"#N/A"},{"$error":"#N/A"},{"$error":"#N/A"},{"$error":"#N/A"}]
[{"$error":"#N/A"},{"$error":"#N/A"},{"$error":"#N/A"},{"$error":"#N/A"},{"$error":"#N/A"}]
[{"$error":"#N/A"},{"$error":"#N/A"},{"$error":"#N/A"},{"$error":"#N/A"},{"$error":"#N/A"}]
[{"$error":"#N/A"},{"$error":"#N/A"},{"$error":"#N/A"},{"$error":"#N/A"},{"$error":"#N/A"}]
[{"$error":"#N/A"},{"$error":"#N/A"},{"$error":"#N/A"},{"$error":"#N/A"},{"$error":"#N/A"}]
[{"$error":"#N/A"},{"$error":"#N/A"},{"$error":"#N/A"},{"$error":"#N/A"},{"$error":"#N/A"}]
[{"$error":"#N/A"},{"$error":"#N/A"},{"$error":"#N/A"},{"$error":"#N/A"},{"$error":"#N/A"}]
[{"$error":"#N/A"},{"$error":"#N/A"},{"$error":"#N/A"},{"$error":"#N/A"},{"$error":"#N/A"}]
[{"$error":"#N/A"},{"$error":"#N/A"},{"$error":"#N/A"},{"$error":"#N/A"},{"$error":"#N/A"}]
[{"$error":"#N/A"},{"$error":"#N/A"},{"$error":"#N/A"},{"$error":"#N/A"},{"$error":"#N/A"}]
[{"$error":"#N/A"},{"$error":"#N/A"},{"$error":"#N/A"},{"$error":"#N/A"},{"$error":"#N/A"}]
[{"$error":"#N/A"},{"$error":"#N/A"},{"$error":"#N/A"},{"$error":"#N/A"},{"$error":"#N/A"}]
[{"$error":"#N/A"},{"$error":"#N/A"},{"$error":"#N/A"},{"$error":"#N/A"},{"$error":"#N/A"}]
[{"$error":"#N/A"},{"$error":"#N/A"},{"$error":"#N/A"},{"$error":"#N/A"},{"$error":"#N/A"}]
[{"$error":"#N/A"},{"$error":"#N/A"},{"$error":"#N/A"},{"$error":"#N/A"},{"$error":"#N/A"}]
[{"$error":"#N/A"},{"$error":"#N/A"},{"$error":"#N/A"},{"$error":"#N/A"},{"$error":"#N/A"}]
[{"$error":"#N/A"},{"$error":"#N/A"},{"$error":"#N/A"},{"$error":"#N/A"},{"$error":"#N/A"}]
[{"$error":"#N/A"},{"$error":"#N/A"},{"$error":"#N/A"},{"$error":"#N/A"},{"$error":"#N/A"}]
[{"$error":"#N/A"},{"$error":"#N/A"},{"$error":"#N/A"},{"$error":"#N/A"},{"$error":"#N/A"}]
[{"$error":"#N/A"},{"$error":"#N/A"},{"$error":"#N/A"},{"$error":"#N/A"},{"$error":"#N/A"}]
[{"$error":"#N/A"},{"$error":"#N/A"},{"$error":"#N/A"},{"$error":"#N/A"},{"$error":"#N/A"}]
[{"$error":"#N/A"},{"$error":"#N/A"},{"$error":"#N/A"},{"$error":"#N/A"},{"$error":"#N/A"}]
[{"$error":"#N/A"},{"$error":"#N/A"},{"$error":"#N/A"},{"$error":"#N/A"},{"$error":"#N/A"}]
[{"$error":"#N/A"},{"$error":"#N/A"},{"$error":"#N/A"},{"$error":"#N/A"},{"$error":"#N/A"}]
[{"$error":"#N/A"},{"$error":"#N/A"},{"$error":"#N/A"},{"$error":"#N/A"},{"$error":"#N/A"}]
[{"$error":"#N/A"},{"$error":"#N/A"},{"$error":"#N/A"},{"$error":"#N/A"},{"$error":"#N/A"}]
[{"$error":"#N/A"},{"$error":"#N/A"},{"$error":"#N/A"},{"$error":"#N/A"},{"$error":"#N/A"}]
[{"$error":"#N/A"},{"$error":"#N/A"},{"$error":"#N/A"},{"$error":"#N/A"},{"$error":"#N/A"}]
[{"$error":"#N/A"},{"$error":"#N/A"},{"$error":"#N/A"},{"$error":"#N/A"},{"$error":"#N/A"}]
[{"$error":"#N/A"},{"$error":"#N/A"},{"$error":"#N/A"},{"$error":"#N/A"},{"$error":"#N/A"}]
[{"$error":"#N/A"},{"$error":"#N/A"},{"$error":"#N/A"},{"$error":"#N/A"},{"$error":"#N/A"}]
[{"$error":"#N/A"},{"$error":"#N/A"},{"$error":"#N/A"},{"$error":"#N/A"},{"$error":"#N/A"}]
[{"$error":"#N/A"},{"$error":"#N/A"},{"$error":"#N/A"},{"$error":"#N/A"},{"$error":"#N/A"}]
[{"$error":"#N/A"},{"$error":"#N/A"},{"$error":"#N/A"},{"$error":"#N/A"},{"$error":"#N/A"}]
[{"$error":"#N/A"},{"$error":"#N/A"},{"$error":"#N/A"},{"$error":"#N/A"},{"$error":"#N/A"}]
[{"$error":"#N/A"},{"$error":"#N/A"},{"$error":"#N/A"},{"$error":"#N/A"},{"$error":"#N/A"}]
[{"$error":"#N/A"},{"$error":"#N/A"},{"$error":"#N/A"},{"$error":"#N/A"},{"$error":"#N/A"}]
[{"$error":"#N/A"},{"$error":"#N/A"},{"$error":"#N/A"},{"$error":"#N/A"},{"$error":"#N/A"}]
[{"$error":"#N/A"},{"$error":"#N/A"},{"$error":"#N/A"},{"$error":"#N/A"},{"$error":"#N/A"}]
[{"$error":"#N/A"},{"$error":"#N/A"},{"$error":"#N/A"},{"$error":"#N/A"},{"$error":"#N/A"}]
[{"$error":"#N/A"},{"$error":"#N/A"},{"$error":"#N/A"},{"$error":"#N/A"},{"$error":"#N/A"}]
[{"$error":"#N/A"},{"$error":"#N/A"},{"$error":"#N/A"},{"$error":"#N/A"},{"$error":"#N/A"}]
[{"$error":"#N/A"},{"$error":"#N/A"},{"$error":"#N/A"},{"$error":"#N/A"},{"$error":"#N/A"}]
[{"$error":"#N/A"},{"$error":"#N/A"},{"$error":"#N/A"},{"$error":"#N/A"},{"$error":"#N/A"}]
[{"$error":"#N/A"},{"$error":"#N/A"},{"$error":"#N/A"},{"$error":"#N/A"},{"$error":"#N/A"}]
[{"$error":"#N/A"},{"$error":"#N/A"},{"$error":"#N/A"},{"$error":"#N/A"},{"$error":"#N/A"}]
[{"$error":"#N/A"},{"$error":"#N/A"},{"$error":"#N/A"},{"$error":"#N/A"},{"$error":"#N/A"}]
[{"$error":"#N/A"},{"$error":"#N/A"},{"$error":"#N/A"},{"$error":"#N/A"},{"$error":"#N/A"}]
[{"$error":"#N/A"},{"$error":"#N/A"},{"$error":"#N/A"},{"$error":"#N/A"},{"$error":"#N/A"}]
[{"$error":"#N/A"},{"$error":"#N/A"},{"$error":"#N/A"},{"$error":"#N/A"},{"$error":"#N/A"}]
[{"$error":"#N/A"},{"$error":"#N/A"},{"$error":"#N/A"},{"$error":"#N/A"},{"$error":"#N/A"}]
[{"$error":"#N/A"},{"$error":"#N/A"},{"$error":"#N/A"},{"$error":"#N/A"},{"$error":"#N/A"}]
[{"$error":"#N/A"},{"$error":"#N/A"},{"$error":"#N/A"},{"$error":"#N/A"},{"$error":"#N/A"}]
[{"$error":"#N/A"},{"$error":"#N/A"},{"$error":"#N/A"},{"$error":"#N/A"},{"$error":"#N/A"}]
[{"$error":"#N/A"},{"$error":"#N/A"},{"$error":"#N/A"},{"$error":"#N/A"},{"$error":"#N/A"}]
[{"$error":"#N/A"},{"$error":"#N/A"},{"$error":"#N/A"},{"$error":"#N/A"},{"$error":"#N/A"}]
[{"$error":"#N/A"},{"$error":"#N/A"},{"$error":"#N/A"},{"$error":"#N/A"},{"$error":"#N/A"}]
[{"$error":"#N/A"},{"$error":"#N/A"},{"$error":"#N/A"},{"$error":"#N/A"},{"$error":"#N/A"}]
[{"$error":"#N/A"},{"$error":"#N/A"},{"$error":"#N/A"},{"$error":"#N/A"},{"$error":"#N/A"}]
[{"$error":"#N/A"},{"$error":"#N/A"},{"$error":"#N/A"},{"$error":"#N/A"},{"$error":"#N/A"}]
[{"$error":"#N/A"},{"$error":"#N/A"},{"$error":"#N/A"},{"$error":"#N/A"},{"$error":"#N/A"}]
[{"$error":"#N/A"},{"$error":"#N/A"},{"$error":"#N/A"},{"$error":"#N/A"},{"$error":"#N/A"}]
[{"$error":"#N/A"},{"$error":"#N/A"},{"$error":"#N/A"},{"$error":"#N/A"},{"$error":"#N/A"}]
[{"$error":"#N/A"},{"$error":"#N/A"},{"$error":"#N/A"},{"$error":"#N/A"},{"$error":"#N/A"}]
[{"$error":"#N/A"},{"$error":"#N/A"},{"$error":"#N/A"},{"$error":"#N/A"},{"$error":"#N/A"}]
[{"$error":"#N/A"},{"$error":"#N/A"},{"$error":"#N/A"},{"$error":"#N/A"},{"$error":"#N/A"}]
[{"$error":"#N/A"},{"$error":"#N/A"},{"$error":"#N/A"},{"$error":"#N/A"},{"$error":"#N/A"}]
[{"$error":"#N/A"},{"$error":"#N/A"},{"$error":"#N/A"},{"$error":"#N/A"},{"$error":"#N/A"}]
[{"$error":"#N/A"},{"$error":"#N/A"},{"$error":"#N/A"},{"$error":"#N/A"},{"$error":"#N/A"}]
[{"$error":"#N/A"},{"$error":"#N/A"},{"$error":"#N/A"},{"$error":"#N/A"},{"$error":"#N/A"}]
[{"$error":"#N/A"},{"$error":"#N/A"},{"$error":"#N/A"},{"$error":"#N/A"},{"$error":"#N/A"}]
[{"$error":"#N/A"},{"$error":"#N/A"},{"$error":"#N/A"},{"$error":"#N/A"},{"$error":"#N/A"}]
[{"$error":"#N/A"},{"$error":"#N/A"},{"$error":"#N/A"},{"$error":"#N/A"},{"$error":"#N/A"}]
[{"$error":"#N/A"},{"$error":"#N/A"},{"$error":"#N/A"},{"$error":"#N/A"},{"$error":"#N/A"}]
[{"$error":"#N/A"},{"$error":"#N/A"},{"$error":"#N/A"},{"$error":"#N/A"},{"$error":"#N/A"}]
[{"$error":"#N/A"},{"$error":"#N/A"},{"$error":"#N/A"},{"$error":"#N/A"},{"$error":"#N/A"}]
[{"$error":"#N/A"},{"$error":"#N/A"},{"$error":"#N/A"},{"$error":"#N/A"},{"$error":"#N/A"}]
[{"$error":"#N/A"},{"$error":"#N/A"},{"$error":"#N/A"},{"$error":"#N/A"},{"$error":"#N/A"}]
[{"$error":"#N/A"},{"$error":"#N/A"},{"$error":"#N/A"},{"$error":"#N/A"},{"$error":"#N/A"}]
[{"$error":"#N/A"},{"$error":"#N/A"},{"$error":"#N/A"},{"$error":"#N/A"},{"$error":"#N/A"}]
[{"$error":"#N/A"},{"$error":"#N/A"},{"$error":"#N/A"},{"$error":"#N/A"},{"$error":"#N/A"}]
[{"$error":"#N/A"},{"$error":"#N/A"},{"$error":"#N/A"},{"$error":"#N/A"},{"$error":"#N/A"}]
[{"$error":"#N/A"},{"$error":"#N/A"},{"$error":"#N/A"},{"$error":"#N/A"},{"$error":"#N/A"}]
[{"$error":"#N/A"},{"$error":"#N/A"},{"$error":"#N/A"},{"$error":"#N/A"},{"$error":"#N/A"}]
[{"$error":"#N/A"},{"$error":"#N/A"},{"$error":"#N/A"},{"$error":"#N/A"},{"$error":"#N/A"}]
[{"$error":"#N/A"},{"$error":"#N/A"},{"$error":"#N/A"},{"$error":"#N/A"},{"$error":"#N/A"}]
[{"$error":"#N/A"},{"$error":"#N/A"},{"$error":"#N/A"},{"$error":"#N/A"},{"$error":"#N/A"}]
[{"$error":"#N/A"},{"$error":"#N/A"},{"$error":"#N/A"},{"$error":"#N/A"},{"$error":"#N/A"}]
[{"$error":"#N/A"},{"$error":"#N/A"},{"$error":"#N/A"},{"$error":"#N/A"},{"$error":"#N/A"}]
[{"$error":"#N/A"},{"$error":"#N/A"},{"$error":"#N/A"},{"$error":"#N/A"},{"$error":"#N/A"}]
[{"$error":"#N/A"},{"$error":"#N/A"},{"$error":"#N/A"},{"$error":"#N/A"},{"$error":"#N/A"}]
[{"$error":"#N/A"},{"$error":"#N/A"},{"$error":"#N/A"},{"$error":"#N/A"},{"$error":"#N/A"}]
[{"$error":"#N/A"},{"$error":"#N/A"},{"$error":"#N/A"},{"$error":"#N/A"},{"$error":"#N/A"}]
[{"$error":"#N/A"},{"$error":"#N/A"},{"$error":"#N/A"},{"$error":"#N/A"},{"$error":"#N/A"}]
[{"$error":"#N/A"},{"$error":"#N/A"},{"$error":"#N/A"},{"$error":"#N/A"},{"$error":"#N/A"}]
[{"$error":"#N/A"},{"$error":"#N/A"},{"$error":"#N/A"},{"$error":"#N/A"},{"$error":"#N/A"}]
[{"$error":"#N/A"},{"$error":"#N/A"},{"$error":"#N/A"},{"$error":"#N/A"},{"$error":"#N/A"}]
[{"$error":"#N/A"},{"$error":"#N/A"},{"$error":"#N/A"},{"$error":"#N/A"},{"$error":"#N/A"}]
[{"$error":"#N/A"},{"$error":"#N/A"},{"$error":"#N/A"},{"$error":"#N/A"},{"$error":"#N/A"}]
[{"$error":"#N/A"},{"$error":"#N/A"},{"$error":"#N/A"},{"$error":"#N/A"},{"$error":"#N/A"}]
[{"$error":"#N/A"},{"$error":"#N/A"},{"$error":"#N/A"},{"$error":"#N/A"},{"$error":"#N/A"}]
[{"$error":"#N/A"},{"$error":"#N/A"},{"$error":"#N/A"},{"$error":"#N/A"},{"$error":"#N/A"}]
[{"$error":"#N/A"},{"$error":"#N/A"},{"$error":"#N/A"},{"$error":"#N/A"},{"$error":"#N/A"}]
[{"$error":"#N/A"},{"$error":"#N/A"},{"$error":"#N/A"},{"$error":"#N/A"},{"$error":"#N/A"}]
[{"$error":"#N/A"},{"$error":"#N/A"},{"$error":"#N/A"},{"$error":"#N/A"},{"$error":"#N/A"}]
[{"$error":"#N/A"},{"$error":"#N/A"},{"$error":"#N/A"},{"$error":"#N/A"},{"$error":"#N/A"}]
[{"$error":"#N/A"},{"$error":"#N/A"},{"$error":"#N/A"},{"$error":"#N/A"},{"$error":"#N/A"}]
[{"$error":"#N/A"},{"$error":"#N/A"},{"$error":"#N/A"},{"$error":"#N/A"},{"$error":"#N/A"}]
[{"$error":"#N/A"},{"$error":"#N/A"},{"$error":"#N/A"},{"$error":"#N/A"},{"$error":"#N/A"}]
[{"$error":"#N/A"},{"$error":"#N/A"},{"$error":"#N/A"},{"$error":"#N/A"},{"$error":"#N/A"}]
[{"$error":"#N/A"},{"$error":"#N/A"},{"$error":"#N/A"},{"$error":"#N/A"},{"$error":"#N/A"}]
[{"$error":"#N/A"},{"$error":"#N/A"},{"$error":"#N/A"},{"$error":"#N/A"},{"$error":"#N/A"}]
[{"$error":"#N/A"},{"$error":"#N/A"},{"$error":"#N/A"},{"$error":"#N/A"},{"$error":"#N/A"}]
[{"$error":"#N/A"},{"$error":"#N/A"},{"$error":"#N/A"},{"$error":"#N/A"},{"$error":"#N/A"}]
[{"$error":"#N/A"},{"$error":"#N/A"},{"$error":"#N/A"},{"$error":"#N/A"},{"$error":"#N/A"}]
[{"$error":"#N/A"},{"$error":"#N/A"},{"$error":"#N/A"},{"$error":"#N/A"},{"$error":"#N/A"}]
[{"$error":"#N/A"},{"$error":"#N/A"},{"$error":"#N/A"},{"$error":"#N/A"},{"$error":"#N/A"}]
[{"$error":"#N/A"},{"$error":"#N/A"},{"$error":"#N/A"},{"$error":"#N/A"},{"$error":"#N/A"}]
[{"$error":"#N/A"},{"$error":"#N/A"},{"$error":"#N/A"},{"$error":"#N/A"},{"$error":"#N/A"}]
[{"$error":"#N/A"},{"$error":"#N/A"},{"$error":"#N/A"},{"$error":"#N/A"},{"$error":"#N/A"}]
[{"$error":"#N/A"},{"$error":"#N/A"},{"$error":"#N/A"},{"$error":"#N/A"},{"$error":"#N/A"}]
[{"$error":"#N/A"},{"$error":"#N/A"},{"$error":"#N/A"},{"$error":"#N/A"},{"$error":"#N/A"}]
[{"$error":"#N/A"},{"$error":"#N/A"},{"$error":"#N/A"},{"$error":"#N/A"},{"$error":"#N/A"}]
[{"$error":"#N/A"},{"$error":"#N/A"},{"$error":"#N/A"},{"$error":"#N/A"},{"$error":"#N/A"}]
[{"$error":"#N/A"},{"$error":"#N/A"},{"$error":"#N/A"},{"$error":"#N/A"},{"$error":"#N/A"}]
[{"$error":"#N/A"},{"$error":"#N/A"},{"$error":"#N/A"},{"$error":"#N/A"},{"$error":"#N/A"}]
[{"$error":"#N/A"},{"$error":"#N/A"},{"$error":"#N/A"},{"$error":"#N/A"},{"$error":"#N/A"}]
[{"$error":"#N/A"},{"$error":"#N/A"},{"$error":"#N/A"},{"$error":"#N/A"},{"$error":"#N/A"}]
[{"$error":"#N/A"},{"$error":"#N/A"},{"$error":"#N/A"},{"$error":"#N/A"},{"$error":"#N/A"}]
[{"$error":"#N/A"},{"$error":"#N/A"},{"$error":"#N/A"},{"$error":"#N/A"},{"$error":"#N/A"}]
[{"$error":"#N/A"},{"$error":"#N/A"},{"$error":"#N/A"},{"$error":"#N/A"},{"$error":"#N/A"}]
[{"$error":"#N/A"},{"$error":"#N/A"},{"$error":"#N/A"},{"$error":"#N/A"},{"$error":"#N/A"}]
[{"$error":"#N/A"},{"$error":"#N/A"},{"$error":"#N/A"},{"$error":"#N/A"},{"$error":"#N/A"}]
[{"$error":"#N/A"},{"$error":"#N/A"},{"$error":"#N/A"},{"$error":"#N/A"},{"$error":"#N/A"}]
[{"$error":"#N/A"},{"$error":"#N/A"},{"$error":"#N/A"},{"$error":"#N/A"},{"$error":"#N/A"}]
[{"$error":"#N/A"},{"$error":"#N/A"},{"$error":"#N/A"},{"$error":"#N/A"},{"$error":"#N/A"}]
[{"$error":"#N/A"},{"$error":"#N/A"},{"$error":"#N/A"},{"$error":"#N/A"},{"$error":"#N/A"}]
[{"$error":"#N/A"},{"$error":"#N/A"},{"$error":"#N/A"},{"$error":"#N/A"},{"$error":"#N/A"}]
[{"$error":"#N/A"},{"$error":"#N/A"},{"$error":"#N/A"},{"$error":"#N/A"},{"$error":"#N/A"}]
[{"$error":"#N/A"},{"$error":"#N/A"},{"$error":"#N/A"},{"$error":"#N/A"},{"$error":"#N/A"}]
[{"$error":"#N/A"},{"$error":"#N/A"},{"$error":"#N/A"},{"$error":"#N/A"},{"$error":"#N/A"}]
[{"$error":"#N/A"},{"$error":"#N/A"},{"$error":"#N/A"},{"$error":"#N/A"},{"$error":"#N/A"}]
[{"$error":"#N/A"},{"$error":"#N/A"},{"$error":"#N/A"},{"$error":"#N/A"},{"$error":"#N/A"}]
[{"$error":"#N/A"},{"$error":"#N/A"},{"$error":"#N/A"},{"$error":"#N/A"},{"$error":"#N/A"}]
[{"$error":"#N/A"},{"$error":"#N/A"},{"$error":"#N/A"},{"$error":"#N/A"},{"$error":"#N/A"}]
[{"$error":"#N/A"},{"$error":"#N/A"},{"$error":"#N/A"},{"$error":"#N/A"},{"$error":"#N/A"}]
[{"$error":"#N/A"},{"$error":"#N/A"},{"$error":"#N/A"},{"$error":"#N/A"},{"$error":"#N/A"}]
[{"$error":"#N/A"},{"$error":"#N/A"},{"$error":"#N/A"},{"$error":"#N/A"},{"$error":"#N/A"}]
[{"$error":"#N/A"},{"$error":"#N/A"},{"$error":"#N/A"},{"$error":"#N/A"},{"$error":"#N/A"}]
[{"$error":"#N/A"},{"$error":"#N/A"},{"$error":"#N/A"},{"$error":"#N/A"},{"$error":"#N/A"}]
[{"$error":"#N/A"},{"$error":"#N/A"},{"$error":"#N/A"},{"$error":"#N/A"},{"$error":"#N/A"}]
[{"$error":"#N/A"},{"$error":"#N/A"},{"$error":"#N/A"},{"$error":"#N/A"},{"$error":"#N/A"}]
[{"$error":"#N/A"},{"$error":"#N/A"},{"$error":"#N/A"},{"$error":"#N/A"},{"$error":"#N/A"}]
[{"$error":"#N/A"},{"$error":"#N/A"},{"$error":"#N/A"},{"$error":"#N/A"},{"$error":"#N/A"}]
[{"$error":"#N/A"},{"$error":"#N/A"},{"$error":"#N/A"},{"$error":"#N/A"},{"$error":"#N/A"}]
[{"$error":"#N/A"},{"$error":"#N/A"},{"$error":"#N/A"},{"$error":"#N/A"},{"$error":"#N/A"}]
[{"$error":"#N/A"},{"$error":"#N/A"},{"$error":"#N/A"},{"$error":"#N/A"},{"$error":"#N/A"}]
[{"$error":"#N/A"},{"$error":"#N/A"},{"$error":"#N/A"},{"$error":"#N/A"},{"$error":"#N/A"}]
[{"$error":"#N/A"},{"$error":"#N/A"},{"$error":"#N/A"},{"$error":"#N/A"},{"$error":"#N/A"}]
[{"$error":"#N/A"},{"$error":"#N/A"},{"$error":"#N/A"},{"$error":"#N/A"},{"$error":"#N/A"}]
[{"$error":"#N/A"},{"$error":"#N/A"},{"$error":"#N/A"},{"$error":"#N/A"},{"$error":"#N/A"}]
[{"$error":"#N/A"},{"$error":"#N/A"},{"$error":"#N/A"},{"$error":"#N/A"},{"$error":"#N/A"}]
[{"$error":"#N/A"},{"$error":"#N/A"},{"$error":"#N/A"},{"$error":"#N/A"},{"$error":"#N/A"}]
[{"$error":"#N/A"},{"$error":"#N/A"},{"$error":"#N/A"},{"$error":"#N/A"},{"$error":"#N/A"}]
[{"$error":"#N/A"},{"$error":"#N/A"},{"$error":"#N/A"},{"$error":"#N/A"},{"$error":"#N/A"}]
[{"$error":"#N/A"},{"$error":"#N/A"},{"$error":"#N/A"},{"$error":"#N/A"},{"$error":"#N/A"}]
[{"$error":"#N/A"},{"$error":"#N/A"},{"$error":"#N/A"},{"$error":"#N/A"},{"$error":"#N/A"}]
[{"$error":"#N/A"},{"$error":"#N/A"},{"$error":"#N/A"},{"$error":"#N/A"},{"$error":"#N/A"}]
[{"$error":"#N/A"},{"$error":"#N/A"},{"$error":"#N/A"},{"$error":"#N/A"},{"$error":"#N/A"}]
[{"$error":"#N/A"},{"$error":"#N/A"},{"$error":"#N/A"},{"$error":"#N/A"},{"$error":"#N/A"}]
[{"$error":"#N/A"},{"$error":"#N/A"},{"$error":"#N/A"},{"$error":"#N/A"},{"$error":"#N/A"}]
[{"$error":"#N/A"},{"$error":"#N/A"},{"$error":"#N/A"},{"$error":"#N/A"},{"$error":"#N/A"}]
[{"$error":"#N/A"},{"$error":"#N/A"},{"$error":"#N/A"},{"$error":"#N/A"},{"$error":"#N/A"}]
[{"$error":"#N/A"},{"$error":"#N/A"},{"$error":"#N/A"},{"$error":"#N/A"},{"$error":"#N/A"}]
[{"$error":"#N/A"},{"$error":"#N/A"},{"$error":"#N/A"},{"$error":"#N/A"},{"$error":"#N/A"}]
[{"$error":"#N/A"},{"$error":"#N/A"},{"$error":"#N/A"},{"$error":"#N/A"},{"$error":"#N/A"}]
[{"$error":"#N/A"},{"$error":"#N/A"},{"$error":"#N/A"},{"$error":"#N/A"},{"$error":"#N/A"}]
[{"$error":"#N/A"},{"$error":"#N/A"},{"$error":"#N/A"},{"$error":"#N/A"},{"$error":"#N/A"}]
[{"$error":"#N/A"},{"$error":"#N/A"},{"$error":"#N/A"},{"$error":"#N/A"},{"$error":"#N/A"}]
[{"$error":"#N/A"},{"$error":"#N/A"},{"$error":"#N/A"},{"$error":"#N/A"},{"$error":"#N/A"}]
[{"$error":"#N/A"},{"$error":"#N/A"},{"$error":"#N/A"},{"$error":"#N/A"},{"$error":"#N/A"}]
[{"$error":"#N/A"},{"$error":"#N/A"},{"$error":"#N/A"},{"$error":"#N/A"},{"$error":"#N/A"}]
[{"$error":"#N/A"},{"$error":"#N/A"},{"$error":"#N/A"},{"$error":"#N/A"},{"$error":"#N/A"}]
[{"$error":"#N/A"},{"$error":"#N/A"},{"$error":"#N/A"},{"$error":"#N/A"},{"$error":"#N/A"}]
[{"$error":"#N/A"},{"$error":"#N/A"},{"$error":"#N/A"},{"$error":"#N/A"},{"$error":"#N/A"}]
[{"$error":"#N/A"},{"$error":"#N/A"},{"$error":"#N/A"},{"$error":"#N/A"},{"$error":"#N/A"}]
[{"$error":"#N/A"},{"$error":"#N/A"},{"$error":"#N/A"},{"$error":"#N/A"},{"$error":"#N/A"}]
[{"$error":"#N/A"},{"$error":"#N/A"},{"$error":"#N/A"},{"$error":"#N/A"},{"$error":"#N/A"}]
[{"$error":"#N/A"},{"$error":"#N/A"},{"$error":"#N/A"},{"$error":"#N/A"},{"$error":"#N/A"}]
[{"$error":"#N/A"},{"$error":"#N/A"},{"$error":"#N/A"},{"$error":"#N/A"},{"$error":"#N/A"}]
[{"$error":"#N/A"},{"$error":"#N/A"},{"$error":"#N/A"},{"$error":"#N/A"},{"$error":"#N/A"}]
[{"$error":"#N/A"},{"$error":"#N/A"},{"$error":"#N/A"},{"$error":"#N/A"},{"$error":"#N/A"}]
[{"$error":"#N/A"},{"$error":"#N/A"},{"$error":"#N/A"},{"$error":"#N/A"},{"$error":"#N/A"}]
[{"$error":"#N/A"},{"$error":"#N/A"},{"$error":"#N/A"},{"$error":"#N/A"},{"$error":"#N/A"}]
[{"$error":"#N/A"},{"$error":"#N/A"},{"$error":"#N/A"},{"$error":"#N/A"},{"$error":"#N/A"}]
[{"$error":"#N/A"},{"$error":"#N/A"},{"$error":"#N/A"},{"$error":"#N/A"},{"$error":"#N/A"}]
[{"$error":"#N/A"},{"$error":"#N/A"},{"$error":"#N/A"},{"$error":"#N/A"},{"$error":"#N/A"}]
[{"$error":"#N/A"},{"$error":"#N/A"},{"$error":"#N/A"},{"$error":"#N/A"},{"$error":"#N/A"}]
[{"$error":"#N/A"},{"$error":"#N/A"},{"$error":"#N/A"},{"$error":"#N/A"},{"$error":"#N/A"}]
[{"$error":"#N/A"},{"$error":"#N/A"},{"$error":"#N/A"},{"$error":"#N/A"},{"$error":"#N/A"}]
[{"$error":"#N/A"},{"$error":"#N/A"},{"$error":"#N/A"},{"$error":"#N/A"},{"$error":"#N/A"}]
[{"$error":"#N/A"},{"$error":"#N/A"},{"$error":"#N/A"},{"$error":"#N/A"},{"$error":"#N/A"}]
[{"$error":"#N/A"},{"$error":"#N/A"},{"$error":"#N/A"},{"$error":"#N/A"},{"$error":"#N/A"}]
[{"$error":"#N/A"},{"$error":"#N/A"},{"$error":"#N/A"},{"$error":"#N/A"},{"$error":"#N/A"}]
[{"$error":"#N/A"},{"$error":"#N/A"},{"$error":"#N/A"},{"$error":"#N/A"},{"$error":"#N/A"}]
[{"$error":"#N/A"},{"$error":"#N/A"},{"$error":"#N/A"},{"$error":"#N/A"},{"$error":"#N/A"}]
[{"$error":"#N/A"},{"$error":"#N/A"},{"$error":"#N/A"},{"$error":"#N/A"},{"$error":"#N/A"}]
[{"$error":"#N/A"},{"$error":"#N/A"},{"$error":"#N/A"},{"$error":"#N/A"},{"$error":"#N/A"}]
[{"$error":"#N/A"},{"$error":"#N/A"},{"$error":"#N/A"},{"$error":"#N/A"},{"$error":"#N/A"}]
[{"$error":"#N/A"},{"$error":"#N/A"},{"$error":"#N/A"},{"$error":"#N/A"},{"$error":"#N/A"}]
[{"$error":"#N/A"},{"$error":"#N/A"},{"$error":"#N/A"},{"$error":"#N/A"},{"$error":"#N/A"}]
[{"$error":"#N/A"},{"$error":"#N/A"},{"$error":"#N/A"},{"$error":"#N/A"},{"$error":"#N/A"}]
[{"$error":"#N/A"},{"$error":"#N/A"},{"$error":"#N/A"},{"$error":"#N/A"},{"$error":"#N/A"}]
[{"$error":"#N/A"},{"$error":"#N/A"},{"$error":"#N/A"},{"$error":"#N/A"},{"$error":"#N/A"}]
[{"$error":"#N/A"},{"$error":"#N/A"},{"$error":"#N/A"},{"$error":"#N/A"},{"$error":"#N/A"}]
[{"$error":"#N/A"},{"$error":"#N/A"},{"$error":"#N/A"},{"$error":"#N/A"},{"$error":"#N/A"}]
[{"$error":"#N/A"},{"$error":"#N/A"},{"$error":"#N/A"},{"$error":"#N/A"},{"$error":"#N/A"}]
[{"$error":"#N/A"},{"$error":"#N/A"},{"$error":"#N/A"},{"$error":"#N/A"},{"$error":"#N/A"}]
[{"$error":"#N/A"},{"$error":"#N/A"},{"$error":"#N/A"},{"$error":"#N/A"},{"$error":"#N/A"}]
[{"$error":"#N/A"},{"$error":"#N/A"},{"$error":"#N/A"},{"$error":"#N/A"},{"$error":"#N/A"}]
[{"$error":"#N/A"},{"$error":"#N/A"},{"$error":"#N/A"},{"$error":"#N/A"},{"$error":"#N/A"}]
[{"$error":"#N/A"},{"$error":"#N/A"},{"$error":"#N/A"},{"$error":"#N/A"},{"$error":"#N/A"}]
[{"$error":"#N/A"},{"$error":"#N/A"},{"$error":"#N/A"},{"$error":"#N/A"},{"$error":"#N/A"}]
[{"$error":"#N/A"},{"$error":"#N/A"},{"$error":"#N/A"},{"$error":"#N/A"},{"$error":"#N/A"}]
[{"$error":"#N/A"},{"$error":"#N/A"},{"$error":"#N/A"},{"$error":"#N/A"},{"$error":"#N/A"}]
[{"$error":"#N/A"},{"$error":"#N/A"},{"$error":"#N/A"},{"$error":"#N/A"},{"$error":"#N/A"}]
[{"$error":"#N/A"},{"$error":"#N/A"},{"$error":"#N/A"},{"$error":"#N/A"},{"$error":"#N/A"}]
[{"$error":"#N/A"},{"$error":"#N/A"},{"$error":"#N/A"},{"$error":"#N/A"},{"$error":"#N/A"}]
[{"$error":"#N/A"},{"$error":"#N/A"},{"$error":"#N/A"},{"$error":"#N/A"},{"$error":"#N/A"}]
[{"$error":"#N/A"},{"$error":"#N/A"},{"$error":"#N/A"},{"$error":"#N/A"},{"$error":"#N/A"}]
[{"$error":"#N/A"},{"$error":"#N/A"},{"$error":"#N/A"},{"$error":"#N/A"},{"$error":"#N/A"}]
[{"$error":"#N/A"},{"$error":"#N/A"},{"$error":"#N/A"},{"$error":"#N/A"},{"$error":"#N/A"}]
[{"$error":"#N/A"},{"$error":"#N/A"},{"$error":"#N/A"},{"$error":"#N/A"},{"$error":"#N/A"}]
[{"$error":"#N/A"},{"$error":"#N/A"},{"$error":"#N/A"},{"$error":"#N/A"},{"$error":"#N/A"}]
[{"$error":"#N/A"},{"$error":"#N/A"},{"$error":"#N/A"},{"$error":"#N/A"},{"$error":"#N/A"}]
[{"$error":"#N/A"},{"$error":"#N/A"},{"$error":"#N/A"},{"$error":"#N/A"},{"$error":"#N/A"}]
[{"$error":"#N/A"},{"$error":"#N/A"},{"$error":"#N/A"},{"$error":"#N/A"},{"$error":"#N/A"}]
[{"$error":"#N/A"},{"$error":"#N/A"},{"$error":"#N/A"},{"$error":"#N/A"},{"$error":"#N/A"}]
[{"$error":"#N/A"},{"$error":"#N/A"},{"$error":"#N/A"},{"$error":"#N/A"},{"$error":"#N/A"}]
[{"$error":"#N/A"},{"$error":"#N/A"},{"$error":"#N/A"},{"$error":"#N/A"},{"$error":"#N/A"}]
[{"$error":"#N/A"},{"$error":"#N/A"},{"$error":"#N/A"},{"$error":"#N/A"},{"$error":"#N/A"}]
[{"$error":"#N/A"},{"$error":"#N/A"},{"$error":"#N/A"},{"$error":"#N/A"},{"$error":"#N/A"}]
[{"$error":"#N/A"},{"$error":"#N/A"},{"$error":"#N/A"},{"$error":"#N/A"},{"$error":"#N/A"}]
[{"$error":"#N/A"},{"$error":"#N/A"},{"$error":"#N/A"},{"$error":"#N/A"},{"$error":"#N/A"}]
[{"$error":"#N/A"},{"$error":"#N/A"},{"$error":"#N/A"},{"$error":"#N/A"},{"$error":"#N/A"}]
[{"$error":"#N/A"},{"$error":"#N/A"},{"$error":"#N/A"},{"$error":"#N/A"},{"$error":"#N/A"}]
[{"$error":"#N/A"},{"$error":"#N/A"},{"$error":"#N/A"},{"$error":"#N/A"},{"$error":"#N/A"}]
[{"$error":"#N/A"},{"$error":"#N/A"},{"$error":"#N/A"},{"$error":"#N/A"},{"$error":"#N/A"}]
[{"$error":"#N/A"},{"$error":"#N/A"},{"$error":"#N/A"},{"$error":"#N/A"},{"$error":"#N/A"}]
[{"$error":"#N/A"},{"$error":"#N/A"},{"$error":"#N/A"},{"$error":"#N/A"},{"$error":"#N/A"}]
[{"$error":"#N/A"},{"$error":"#N/A"},{"$error":"#N/A"},{"$error":"#N/A"},{"$error":"#N/A"}]
[{"$error":"#N/A"},{"$error":"#N/A"},{"$error":"#N/A"},{"$error":"#N/A"},{"$error":"#N/A"}]
[{"$error":"#N/A"},{"$error":"#N/A"},{"$error":"#N/A"},{"$error":"#N/A"},{"$error":"#N/A"}]
[{"$error":"#N/A"},{"$error":"#N/A"},{"$error":"#N/A"},{"$error":"#N/A"},{"$error":"#N/A"}]
[{"$error":"#N/A"},{"$error":"#N/A"},{"$error":"#N/A"},{"$error":"#N/A"},{"$error":"#N/A"}]
[{"$error":"#N/A"},{"$error":"#N/A"},{"$error":"#N/A"},{"$error":"#N/A"},{"$error":"#N/A"}]
[{"$error":"#N/A"},{"$error":"#N/A"},{"$error":"#N/A"},{"$error":"#N/A"},{"$error":"#N/A"}]
[{"$error":"#N/A"},{"$error":"#N/A"},{"$error":"#N/A"},{"$error":"#N/A"},{"$error":"#N/A"}]
[{"$error":"#N/A"},{"$error":"#N/A"},{"$error":"#N/A"},{"$error":"#N/A"},{"$error":"#N/A"}]
[{"$error":"#N/A"},{"$error":"#N/A"},{"$error":"#N/A"},{"$error":"#N/A"},{"$error":"#N/A"}]
[{"$error":"#N/A"},{"$error":"#N/A"},{"$error":"#N/A"},{"$error":"#N/A"},{"$error":"#N/A"}]
[{"$error":"#N/A"},{"$error":"#N/A"},{"$error":"#N/A"},{"$error":"#N/A"},{"$error":"#N/A"}]
[{"$error":"#N/A"},{"$error":"#N/A"},{"$error":"#N/A"},{"$error":"#N/A"},{"$error":"#N/A"}]
[{"$error":"#N/A"},{"$error":"#N/A"},{"$error":"#N/A"},{"$error":"#N/A"},{"$error":"#N/A"}]
[{"$error":"#N/A"},{"$error":"#N/A"},{"$error":"#N/A"},{"$error":"#N/A"},{"$error":"#N/A"}]
[{"$error":"#N/A"},{"$error":"#N/A"},{"$error":"#N/A"},{"$error":"#N/A"},{"$error":"#N/A"}]
[{"$error":"#N/A"},{"$error":"#N/A"},{"$error":"#N/A"},{"$error":"#N/A"},{"$error":"#N/A"}]
[{"$error":"#N/A"},{"$error":"#N/A"},{"$error":"#N/A"},{"$error":"#N/A"},{"$error":"#N/A"}]
[{"$error":"#N/A"},{"$error":"#N/A"},{"$error":"#N/A"},{"$error":"#N/A"},{"$error":"#N/A"}]
[{"$error":"#N/A"},{"$error":"#N/A"},{"$error":"#N/A"},{"$error":"#N/A"},{"$error":"#N/A"}]
[{"$error":"#N/A"},{"$error":"#N/A"},{"$error":"#N/A"},{"$error":"#N/A"},{"$error":"#N/A"}]
[{"$error":"#N/A"},{"$error":"#N/A"},{"$error":"#N/A"},{"$error":"#N/A"},{"$error":"#N/A"}]
[{"$error":"#N/A"},{"$error":"#N/A"},{"$error":"#N/A"},{"$error":"#N/A"},{"$error":"#N/A"}]
[{"$error":"#N/A"},{"$error":"#N/A"},{"$error":"#N/A"},{"$error":"#N/A"},{"$error":"#N/A"}]
[{"$error":"#N/A"},{"$error":"#N/A"},{"$error":"#N/A"},{"$error":"#N/A"},{"$error":"#N/A"}]
[{"$error":"#N/A"},{"$error":"#N/A"},{"$error":"#N/A"},{"$error":"#N/A"},{"$error":"#N/A"}]
[{"$error":"#N/A"},{"$error":"#N/A"},{"$error":"#N/A"},{"$error":"#N/A"},{"$error":"#N/A"}]
[{"$error":"#N/A"},{"$error":"#N/A"},{"$error":"#N/A"},{"$error":"#N/A"},{"$error":"#N/A"}]
[{"$error":"#N/A"},{"$error":"#N/A"},{"$error":"#N/A"},{"$error":"#N/A"},{"$error":"#N/A"}]
[{"$error":"#N/A"},{"$error":"#N/A"},{"$error":"#N/A"},{"$error":"#N/A"},{"$error":"#N/A"}]
[{"$error":"#N/A"},{"$error":"#N/A"},{"$error":"#N/A"},{"$error":"#N/A"},{"$error":"#N/A"}]
[{"$error":"#N/A"},{"$error":"#N/A"},{"$error":"#N/A"},{"$error":"#N/A"},{"$error":"#N/A"}]
[{"$error":"#N/A"},{"$error":"#N/A"},{"$error":"#N/A"},{"$error":"#N/A"},{"$error":"#N/A"}]
[{"$error":"#N/A"},{"$error":"#N/A"},{"$error":"#N/A"},{"$error":"#N/A"},{"$error":"#N/A"}]
[{"$error":"#N/A"},{"$error":"#N/A"},{"$error":"#N/A"},{"$error":"#N/A"},{"$error":"#N/A"}]
[{"$error":"#N/A"},{"$error":"#N/A"},{"$error":"#N/A"},{"$error":"#N/A"},{"$error":"#N/A"}]
[{"$error":"#N/A"},{"$error":"#N/A"},{"$error":"#N/A"},{"$error":"#N/A"},{"$error":"#N/A"}]
[{"$error":"#N/A"},{"$error":"#N/A"},{"$error":"#N/A"},{"$error":"#N/A"},{"$error":"#N/A"}]
[{"$error":"#N/A"},{"$error":"#N/A"},{"$error":"#N/A"},{"$error":"#N/A"},{"$error":"#N/A"}]
[{"$error":"#N/A"},{"$error":"#N/A"},{"$error":"#N/A"},{"$error":"#N/A"},{"$error":"#N/A"}]
[{"$error":"#N/A"},{"$error":"#N/A"},{"$error":"#N/A"},{"$error":"#N/A"},{"$error":"#N/A"}]
[{"$error":"#N/A"},{"$error":"#N/A"},{"$error":"#N/A"},{"$error":"#N/A"},{"$error":"#N/A"}]
[{"$error":"#N/A"},{"$error":"#N/A"},{"$error":"#N/A"},{"$error":"#N/A"},{"$error":"#N/A"}]
[{"$error":"#N/A"},{"$error":"#N/A"},{"$error":"#N/A"},{"$error":"#N/A"},{"$error":"#N/A"}]
[{"$error":"#N/A"},{"$error":"#N/A"},{"$error":"#N/A"},{"$error":"#N/A"},{"$error":"#N/A"}]
[{"$error":"#N/A"},{"$error":"#N/A"},{"$error":"#N/A"},{"$error":"#N/A"},{"$error":"#N/A"}]
[{"$error":"#N/A"},{"$error":"#N/A"},{"$error":"#N/A"},{"$error":"#N/A"},{"$error":"#N/A"}]
[{"$error":"#N/A"},{"$error":"#N/A"},{"$error":"#N/A"},{"$error":"#N/A"},{"$error":"#N/A"}]
[{"$error":"#N/A"},{"$error":"#N/A"},{"$error":"#N/A"},{"$error":"#N/A"},{"$error":"#N/A"}]
[{"$error":"#N/A"},{"$error":"#N/A"},{"$error":"#N/A"},{"$error":"#N/A"},{"$error":"#N/A"}]
[{"$error":"#N/A"},{"$error":"#N/A"},{"$error":"#N/A"},{"$error":"#N/A"},{"$error":"#N/A"}]
[{"$error":"#N/A"},{"$error":"#N/A"},{"$error":"#N/A"},{"$error":"#N/A"},{"$error":"#N/A"}]
[{"$error":"#N/A"},{"$error":"#N/A"},{"$error":"#N/A"},{"$error":"#N/A"},{"$error":"#N/A"}]
[{"$error":"#N/A"},{"$error":"#N/A"},{"$error":"#N/A"},{"$error":"#N/A"},{"$error":"#N/A"}]
[{"$error":"#N/A"},{"$error":"#N/A"},{"$error":"#N/A"},{"$error":"#N/A"},{"$error":"#N/A"}]
[{"$error":"#N/A"},{"$error":"#N/A"},{"$error":"#N/A"},{"$error":"#N/A"},{"$error":"#N/A"}]
[{"$error":"#N/A"},{"$error":"#N/A"},{"$error":"#N/A"},{"$error":"#N/A"},{"$error":"#N/A"}]
[{"$error":"#N/A"},{"$error":"#N/A"},{"$error":"#N/A"},{"$error":"#N/A"},{"$error":"#N/A"}]
[{"$error":"#N/A"},{"$error":"#N/A"},{"$error":"#N/A"},{"$error":"#N/A"},{"$error":"#N/A"}]
[{"$error":"#N/A"},{"$error":"#N/A"},{"$error":"#N/A"},{"$error":"#N/A"},{"$error":"#N/A"}]
[{"$error":"#N/A"},{"$error":"#N/A"},{"$error":"#N/A"},{"$error":"#N/A"},{"$error":"#N/A"}]
[{"$error":"#N/A"},{"$error":"#N/A"},{"$error":"#N/A"},{"$error":"#N/A"},{"$error":"#N/A"}]
[{"$error":"#N/A"},{"$error":"#N/A"},{"$error":"#N/A"},{"$error":"#N/A"},{"$error":"#N/A"}]
[{"$error":"#N/A"},{"$error":"#N/A"},{"$error":"#N/A"},{"$error":"#N/A"},{"$error":"#N/A"}]
[{"$error":"#N/A"},{"$error":"#N/A"},{"$error":"#N/A"},{"$error":"#N/A"},{"$error":"#N/A"}]
[{"$error":"#N/A"},{"$error":"#N/A"},{"$error":"#N/A"},{"$error":"#N/A"},{"$error":"#N/A"}]
[{"$error":"#N/A"},{"$error":"#N/A"},{"$error":"#N/A"},{"$error":"#N/A"},{"$error":"#N/A"}]
[{"$error":"#N/A"},{"$error":"#N/A"},{"$error":"#N/A"},{"$error":"#N/A"},{"$error":"#N/A"}]
[{"$error":"#N/A"},{"$error":"#N/A"},{"$error":"#N/A"},{"$error":"#N/A"},{"$error":"#N/A"}]
[{"$error":"#N/A"},{"$error":"#N/A"},{"$error":"#N/A"},{"$error":"#N/A"},{"$error":"#N/A"}]
[{"$error":"#N/A"},{"$error":"#N/A"},{"$error":"#N/A"},{"$error":"#N/A"},{"$error":"#N/A"}]
[{"$error":"#N/A"},{"$error":"#N/A"},{"$error":"#N/A"},{"$error":"#N/A"},{"$error":"#N/A"}]
[{"$error":"#N/A"},{"$error":"#N/A"},{"$error":"#N/A"},{"$error":"#N/A"},{"$error":"#N/A"}]
[{"$error":"#N/A"},{"$error":"#N/A"},{"$error":"#N/A"},{"$error":"#N/A"},{"$error":"#N/A"}]
[{"$error":"#N/A"},{"$error":"#N/A"},{"$error":"#N/A"},{"$error":"#N/A"},{"$error":"#N/A"}]
[{"$error":"#N/A"},{"$error":"#N/A"},{"$error":"#N/A"},{"$error":"#N/A"},{"$error":"#N/A"}]
[{"$error":"#N/A"},{"$error":"#N/A"},{"$error":"#N/A"},{"$error":"#N/A"},{"$error":"#N/A"}]
[{"$error":"#N/A"},{"$error":"#N/A"},{"$error":"#N/A"},{"$error":"#N/A"},{"$error":"#N/A"}]
[{"$error":"#N/A"},{"$error":"#N/A"},{"$error":"#N/A"},{"$error":"#N/A"},{"$error":"#N/A"}]
[{"$error":"#N/A"},{"$error":"#N/A"},{"$error":"#N/A"},{"$error":"#N/A"},{"$error":"#N/A"}]
[{"$error":"#N/A"},{"$error":"#N/A"},{"$error":"#N/A"},{"$error":"#N/A"},{"$error":"#N/A"}]
[{"$error":"#N/A"},{"$error":"#N/A"},{"$error":"#N/A"},{"$error":"#N/A"},{"$error":"#N/A"}]
[{"$error":"#N/A"},{"$error":"#N/A"},{"$error":"#N/A"},{"$error":"#N/A"},{"$error":"#N/A"}]
[{"$error":"#N/A"},{"$error":"#N/A"},{"$error":"#N/A"},{"$error":"#N/A"},{"$error":"#N/A"}]
[{"$error":"#N/A"},{"$error":"#N/A"},{"$error":"#N/A"},{"$error":"#N/A"},{"$error":"#N/A"}]
[{"$error":"#N/A"},{"$error":"#N/A"},{"$error":"#N/A"},{"$error":"#N/A"},{"$error":"#N/A"}]
[{"$error":"#N/A"},{"$error":"#N/A"},{"$error":"#N/A"},{"$error":"#N/A"},{"$error":"#N/A"}]
[{"$error":"#N/A"},{"$error":"#N/A"},{"$error":"#N/A"},{"$error":"#N/A"},{"$error":"#N/A"}]
[{"$error":"#N/A"},{"$error":"#N/A"},{"$error":"#N/A"},{"$error":"#N/A"},{"$error":"#N/A"}]
[{"$error":"#N/A"},{"$error":"#N/A"},{"$error":"#N/A"},{"$error":"#N/A"},{"$error":"#N/A"}]
[{"$error":"#N/A"},{"$error":"#N/A"},{"$error":"#N/A"},{"$error":"#N/A"},{"$error":"#N/A"}]
[{"$error":"#N/A"},{"$error":"#N/A"},{"$error":"#N/A"},{"$error":"#N/A"},{"$error":"#N/A"}]
[{"$error":"#N/A"},{"$error":"#N/A"},{"$error":"#N/A"},{"$error":"#N/A"},{"$error":"#N/A"}]
[{"$error":"#N/A"},{"$error":"#N/A"},{"$error":"#N/A"},{"$error":"#N/A"},{"$error":"#N/A"}]
[{"$error":"#N/A"},{"$error":"#N/A"},{"$error":"#N/A"},{"$error":"#N/A"},{"$error":"#N/A"}]
[{"$error":"#N/A"},{"$error":"#N/A"},{"$error":"#N/A"},{"$error":"#N/A"},{"$error":"#N/A"}]
[{"$error":"#N/A"},{"$error":"#N/A"},{"$error":"#N/A"},{"$error":"#N/A"},{"$error":"#N/A"}]
[{"$error":"#N/A"},{"$error":"#N/A"},{"$error":"#N/A"},{"$error":"#N/A"},{"$error":"#N/A"}]
[{"$error":"#N/A"},{"$error":"#N/A"},{"$error":"#N/A"},{"$error":"#N/A"},{"$error":"#N/A"}]
[{"$error":"#N/A"},{"$error":"#N/A"},{"$error":"#N/A"},{"$error":"#N/A"},{"$error":"#N/A"}]
[{"$error":"#N/A"},{"$error":"#N/A"},{"$error":"#N/A"},{"$error":"#N/A"},{"$error":"#N/A"}]
[{"$error":"#N/A"},{"$error":"#N/A"},{"$error":"#N/A"},{"$error":"#N/A"},{"$error":"#N/A"}]
[{"$error":"#N/A"},{"$error":"#N/A"},{"$error":"#N/A"},{"$error":"#N/A"},{"$error":"#N/A"}]
[{"$error":"#N/A"},{"$error":"#N/A"},{"$error":"#N/A"},{"$error":"#N/A"},{"$error":"#N/A"}]
[{"$error":"#N/A"},{"$error":"#N/A"},{"$error":"#N/A"},{"$error":"#N/A"},{"$error":"#N/A"}]
[{"$error":"#N/A"},{"$error":"#N/A"},{"$error":"#N/A"},{"$error":"#N/A"},{"$error":"#N/A"}]
[{"$error":"#N/A"},{"$error":"#N/A"},{"$error":"#N/A"},{"$error":"#N/A"},{"$error":"#N/A"}]
[{"$error":"#N/A"},{"$error":"#N/A"},{"$error":"#N/A"},{"$error":"#N/A"},{"$error":"#N/A"}]
[{"$error":"#N/A"},{"$error":"#N/A"},{"$error":"#N/A"},{"$error":"#N/A"},{"$error":"#N/A"}]
[{"$error":"#N/A"},{"$error":"#N/A"},{"$error":"#N/A"},{"$error":"#N/A"},{"$error":"#N/A"}]
[{"$error":"#N/A"},{"$error":"#N/A"},{"$error":"#N/A"},{"$error":"#N/A"},{"$error":"#N/A"}]
[{"$error":"#N/A"},{"$error":"#N/A"},{"$error":"#N/A"},{"$error":"#N/A"},{"$error":"#N/A"}]
[{"$error":"#N/A"},{"$error":"#N/A"},{"$error":"#N/A"},{"$error":"#N/A"},{"$error":"#N/A"}]
[{"$error":"#N/A"},{"$error":"#N/A"},{"$error":"#N/A"},{"$error":"#N/A"},{"$error":"#N/A"}]
[{"$error":"#N/A"},{"$error":"#N/A"},{"$error":"#N/A"},{"$error":"#N/A"},{"$error":"#N/A"}]
[{"$error":"#N/A"},{"$error":"#N/A"},{"$error":"#N/A"},{"$error":"#N/A"},{"$error":"#N/A"}]
[{"$error":"#N/A"},{"$error":"#N/A"},{"$error":"#N/A"},{"$error":"#N/A"},{"$error":"#N/A"}]
[{"$error":"#N/A"},{"$error":"#N/A"},{"$error":"#N/A"},{"$error":"#N/A"},{"$error":"#N/A"}]
[{"$error":"#N/A"},{"$error":"#N/A"},{"$error":"#N/A"},{"$error":"#N/A"},{"$error":"#N/A"}]
[{"$error":"#N/A"},{"$error":"#N/A"},{"$error":"#N/A"},{"$error":"#N/A"},{"$error":"#N/A"}]
[{"$error":"#N/A"},{"$error":"#N/A"},{"$error":"#N/A"},{"$error":"#N/A"},{"$error":"#N/A"}]
[{"$error":"#N/A"},{"$error":"#N/A"},{"$error":"#N/A"},{"$error":"#N/A"},{"$error":"#N/A"}]
[{"$error":"#N/A"},{"$error":"#N/A"},{"$error":"#N/A"},{"$error":"#N/A"},{"$error":"#N/A"}]
[{"$error":"#N/A"},{"$error":"#N/A"},{"$error":"#N/A"},{"$error":"#N/A"},{"$error":"#N/A"}]
[{"$error":"#N/A"},{"$error":"#N/A"},{"$error":"#N/A"},{"$error":"#N/A"},{"$error":"#N/A"}]
[{"$error":"#N/A"},{"$error":"#N/A"},{"$error":"#N/A"},{"$error":"#N/A"},{"$error":"#N/A"}]
[{"$error":"#N/A"},{"$error":"#N/A"},{"$error":"#N/A"},{"$error":"#N/A"},{"$error":"#N/A"}]
[{"$error":"#N/A"},{"$error":"#N/A"},{"$error":"#N/A"},{"$error":"#N/A"},{"$error":"#N/A"}]
[{"$error":"#N/A"},{"$error":"#N/A"},{"$error":"#N/A"},{"$error":"#N/A"},{"$error":"#N/A"}]
[{"$error":"#N/A"},{"$error":"#N/A"},{"$error":"#N/A"},{"$error":"#N/A"},{"$error":"#N/A"}]
[{"$error":"#N/A"},{"$error":"#N/A"},{"$error":"#N/A"},{"$error":"#N/A"},{"$error":"#N/A"}]
[{"$error":"#N/A"},{"$error":"#N/A"},{"$error":"#N/A"},{"$error":"#N/A"},{"$error":"#N/A"}]
[{"$error":"#N/A"},{"$error":"#N/A"},{"$error":"#N/A"},{"$error":"#N/A"},{"$error":"#N/A"}]
[{"$error":"#N/A"},{"$error":"#N/A"},{"$error":"#N/A"},{"$error":"#N/A"},{"$error":"#N/A"}]
[{"$error":"#N/A"},{"$error":"#N/A"},{"$error":"#N/A"},{"$error":"#N/A"},{"$error":"#N/A"}]
[{"$error":"#N/A"},{"$error":"#N/A"},{"$error":"#N/A"},{"$error":"#N/A"},{"$error":"#N/A"}]
[{"$error":"#N/A"},{"$error":"#N/A"},{"$error":"#N/A"},{"$error":"#N/A"},{"$error":"#N/A"}]
[{"$error":"#N/A"},{"$error":"#N/A"},{"$error":"#N/A"},{"$error":"#N/A"},{"$error":"#N/A"}]
[{"$error":"#N/A"},{"$error":"#N/A"},{"$error":"#N/A"},{"$error":"#N/A"},{"$error":"#N/A"}]
[{"$error":"#N/A"},{"$error":"#N/A"},{"$error":"#N/A"},{"$error":"#N/A"},{"$error":"#N/A"}]
[{"$error":"#N/A"},{"$error":"#N/A"},{"$error":"#N/A"},{"$error":"#N/A"},{"$error":"#N/A"}]
[{"$error":"#N/A"},{"$error":"#N/A"},{"$error":"#N/A"},{"$error":"#N/A"},{"$error":"#N/A"}]
[{"$error":"#N/A"},{"$error":"#N/A"},{"$error":"#N/A"},{"$error":"#N/A"},{"$error":"#N/A"}]
[{"$error":"#N/A"},{"$error":"#N/A"},{"$error":"#N/A"},{"$error":"#N/A"},{"$error":"#N/A"}]
[{"$error":"#N/A"},{"$error":"#N/A"},{"$error":"#N/A"},{"$error":"#N/A"},{"$error":"#N/A"}]
[{"$error":"#N/A"},{"$error":"#N/A"},{"$error":"#N/A"},{"$error":"#N/A"},{"$error":"#N/A"}]
[{"$error":"#N/A"},{"$error":"#N/A"},{"$error":"#N/A"},{"$error":"#N/A"},{"$error":"#N/A"}]
[{"$error":"#N/A"},{"$error":"#N/A"},{"$error":"#N/A"},{"$error":"#N/A"},{"$error":"#N/A"}]
[{"$error":"#N/A"},{"$error":"#N/A"},{"$error":"#N/A"},{"$error":"#N/A"},{"$error":"#N/A"}]
[{"$error":"#N/A"},{"$error":"#N/A"},{"$error":"#N/A"},{"$error":"#N/A"},{"$error":"#N/A"}]
[{"$error":"#N/A"},{"$error":"#N/A"},{"$error":"#N/A"},{"$error":"#N/A"},{"$error":"#N/A"}]
[{"$error":"#N/A"},{"$error":"#N/A"},{"$error":"#N/A"},{"$error":"#N/A"},{"$error":"#N/A"}]
[{"$error":"#N/A"},{"$error":"#N/A"},{"$error":"#N/A"},{"$error":"#N/A"},{"$error":"#N/A"}]
[{"$error":"#N/A"},{"$error":"#N/A"},{"$error":"#N/A"},{"$error":"#N/A"},{"$error":"#N/A"}]
[{"$error":"#N/A"},{"$error":"#N/A"},{"$error":"#N/A"},{"$error":"#N/A"},{"$error":"#N/A"}]
[{"$error":"#N/A"},{"$error":"#N/A"},{"$error":"#N/A"},{"$error":"#N/A"},{"$error":"#N/A"}]
[{"$error":"#N/A"},{"$error":"#N/A"},{"$error":"#N/A"},{"$error":"#N/A"},{"$error":"#N/A"}]
[{"$error":"#N/A"},{"$error":"#N/A"},{"$error":"#N/A"},{"$error":"#N/A"},{"$error":"#N/A"}]
[{"$error":"#N/A"},{"$error":"#N/A"},{"$error":"#N/A"},{"$error":"#N/A"},{"$error":"#N/A"}]
[{"$error":"#N/A"},{"$error":"#N/A"},{"$error":"#N/A"},{"$error":"#N/A"},{"$error":"#N/A"}]
[{"$error":"#N/A"},{"$error":"#N/A"},{"$error":"#N/A"},{"$error":"#N/A"},{"$error":"#N/A"}]
[{"$error":"#N/A"},{"$error":"#N/A"},{"$error":"#N/A"},{"$error":"#N/A"},{"$error":"#N/A"}]
[{"$error":"#N/A"},{"$error":"#N/A"},{"$error":"#N/A"},{"$error":"#N/A"},{"$error":"#N/A"}]
[{"$error":"#N/A"},{"$error":"#N/A"},{"$error":"#N/A"},{"$error":"#N/A"},{"$error":"#N/A"}]
[{"$error":"#N/A"},{"$error":"#N/A"},{"$error":"#N/A"},{"$error":"#N/A"},{"$error":"#N/A"}]
[{"$error":"#N/A"},{"$error":"#N/A"},{"$error":"#N/A"},{"$error":"#N/A"},{"$error":"#N/A"}]
[{"$error":"#N/A"},{"$error":"#N/A"},{"$error":"#N/A"},{"$error":"#N/A"},{"$error":"#N/A"}]
[{"$error":"#N/A"},{"$error":"#N/A"},{"$error":"#N/A"},{"$error":"#N/A"},{"$error":"#N/A"}]
[{"$error":"#N/A"},{"$error":"#N/A"},{"$error":"#N/A"},{"$error":"#N/A"},{"$error":"#N/A"}]
[{"$error":"#N/A"},{"$error":"#N/A"},{"$error":"#N/A"},{"$error":"#N/A"},{"$error":"#N/A"}]
[{"$error":"#N/A"},{"$error":"#N/A"},{"$error":"#N/A"},{"$error":"#N/A"},{"$error":"#N/A"}]
[{"$error":"#N/A"},{"$error":"#N/A"},{"$error":"#N/A"},{"$error":"#N/A"},{"$error":"#N/A"}]
[{"$error":"#N/A"},{"$error":"#N/A"},{"$error":"#N/A"},{"$error":"#N/A"},{"$error":"#N/A"}]
[{"$error":"#N/A"},{"$error":"#N/A"},{"$error":"#N/A"},{"$error":"#N/A"},{"$error":"#N/A"}]
[{"$error":"#N/A"},{"$error":"#N/A"},{"$error":"#N/A"},{"$error":"#N/A"},{"$error":"#N/A"}]
[{"$error":"#N/A"},{"$error":"#N/A"},{"$error":"#N/A"},{"$error":"#N/A"},{"$error":"#N/A"}]
[{"$error":"#N/A"},{"$error":"#N/A"},{"$error":"#N/A"},{"$error":"#N/A"},{"$error":"#N/A"}]
[{"$error":"#N/A"},{"$error":"#N/A"},{"$error":"#N/A"},{"$error":"#N/A"},{"$error":"#N/A"}]
[{"$error":"#N/A"},{"$error":"#N/A"},{"$error":"#N/A"},{"$error":"#N/A"},{"$error":"#N/A"}]
[{"$error":"#N/A"},{"$error":"#N/A"},{"$error":"#N/A"},{"$error":"#N/A"},{"$error":"#N/A"}]
[{"$error":"#N/A"},{"$error":"#N/A"},{"$error":"#N/A"},{"$error":"#N/A"},{"$error":"#N/A"}]
[{"$error":"#N/A"},{"$error":"#N/A"},{"$error":"#N/A"},{"$error":"#N/A"},{"$error":"#N/A"}]
[{"$error":"#N/A"},{"$error":"#N/A"},{"$error":"#N/A"},{"$error":"#N/A"},{"$error":"#N/A"}]
[{"$error":"#N/A"},{"$error":"#N/A"},{"$error":"#N/A"},{"$error":"#N/A"},{"$error":"#N/A"}]
[{"$error":"#N/A"},{"$error":"#N/A"},{"$error":"#N/A"},{"$error":"#N/A"},{"$error":"#N/A"}]
[{"$error":"#N/A"},{"$error":"#N/A"},{"$error":"#N/A"},{"$error":"#N/A"},{"$error":"#N/A"}]
[{"$error":"#N/A"},{"$error":"#N/A"},{"$error":"#N/A"},{"$error":"#N/A"},{"$error":"#N/A"}]
[{"$error":"#N/A"},{"$error":"#N/A"},{"$error":"#N/A"},{"$error":"#N/A"},{"$error":"#N/A"}]
[{"$error":"#N/A"},{"$error":"#N/A"},{"$error":"#N/A"},{"$error":"#N/A"},{"$error":"#N/A"}]
[{"$error":"#N/A"},{"$error":"#N/A"},{"$error":"#N/A"},{"$error":"#N/A"},{"$error":"#N/A"}]
[{"$error":"#N/A"},{"$error":"#N/A"},{"$error":"#N/A"},{"$error":"#N/A"},{"$error":"#N/A"}]
[{"$error":"#N/A"},{"$error":"#N/A"},{"$error":"#N/A"},{"$error":"#N/A"},{"$error":"#N/A"}]
[{"$error":"#N/A"},{"$error":"#N/A"},{"$error":"#N/A"},{"$error":"#N/A"},{"$error":"#N/A"}]
[{"$error":"#N/A"},{"$error":"#N/A"},{"$error":"#N/A"},{"$error":"#N/A"},{"$error":"#N/A"}]
[{"$error":"#N/A"},{"$error":"#N/A"},{"$error":"#N/A"},{"$error":"#N/A"},{"$error":"#N/A"}]
[{"$error":"#N/A"},{"$error":"#N/A"},{"$error":"#N/A"},{"$error":"#N/A"},{"$error":"#N/A"}]
[{"$error":"#N/A"},{"$error":"#N/A"},{"$error":"#N/A"},{"$error":"#N/A"},{"$error":"#N/A"}]
[{"$error":"#N/A"},{"$error":"#N/A"},{"$error":"#N/A"},{"$error":"#N/A"},{"$error":"#N/A"}]
[{"$error":"#N/A"},{"$error":"#N/A"},{"$error":"#N/A"},{"$error":"#N/A"},{"$error":"#N/A"}]
[{"$error":"#N/A"},{"$error":"#N/A"},{"$error":"#N/A"},{"$error":"#N/A"},{"$error":"#N/A"}]
[{"$error":"#N/A"},{"$error":"#N/A"},{"$error":"#N/A"},{"$error":"#N/A"},{"$error":"#N/A"}]
[{"$error":"#N/A"},{"$error":"#N/A"},{"$error":"#N/A"},{"$error":"#N/A"},{"$error":"#N/A"}]
[{"$error":"#N/A"},{"$error":"#N/A"},{"$error":"#N/A"},{"$error":"#N/A"},{"$error":"#N/A"}]
[{"$error":"#N/A"},{"$error":"#N/A"},{"$error":"#N/A"},{"$error":"#N/A"},{"$error":"#N/A"}]
[{"$error":"#N/A"},{"$error":"#N/A"},{"$error":"#N/A"},{"$error":"#N/A"},{"$error":"#N/A"}]
[{"$error":"#N/A"},{"$error":"#N/A"},{"$error":"#N/A"},{"$error":"#N/A"},{"$error":"#N/A"}]
[{"$error":"#N/A"},{"$error":"#N/A"},{"$error":"#N/A"},{"$error":"#N/A"},{"$error":"#N/A"}]
[{"$error":"#N/A"},{"$error":"#N/A"},{"$error":"#N/A"},{"$error":"#N/A"},{"$error":"#N/A"}]
[{"$error":"#N/A"},{"$error":"#N/A"},{"$error":"#N/A"},{"$error":"#N/A"},{"$error":"#N/A"}]
[{"$error":"#N/A"},{"$error":"#N/A"},{"$error":"#N/A"},{"$error":"#N/A"},{"$error":"#N/A"}]
[{"$error":"#N/A"},{"$error":"#N/A"},{"$error":"#N/A"},{"$error":"#N/A"},{"$error":"#N/A"}]
[{"$error":"#N/A"},{"$error":"#N/A"},{"$error":"#N/A"},{"$error":"#N/A"},{"$error":"#N/A"}]
[{"$error":"#N/A"},{"$error":"#N/A"},{"$error":"#N/A"},{"$error":"#N/A"},{"$error":"#N/A"}]
[{"$error":"#N/A"},{"$error":"#N/A"},{"$error":"#N/A"},{"$error":"#N/A"},{"$error":"#N/A"}]
[{"$error":"#N/A"},{"$error":"#N/A"},{"$error":"#N/A"},{"$error":"#N/A"},{"$error":"#N/A"}]
[{"$error":"#N/A"},{"$error":"#N/A"},{"$error":"#N/A"},{"$error":"#N/A"},{"$error":"#N/A"}]
[{"$error":"#N/A"},{"$error":"#N/A"},{"$error":"#N/A"},{"$error":"#N/A"},{"$error":"#N/A"}]
[{"$error":"#N/A"},{"$error":"#N/A"},{"$error":"#N/A"},{"$error":"#N/A"},{"$error":"#N/A"}]
[{"$error":"#N/A"},{"$error":"#N/A"},{"$error":"#N/A"},{"$error":"#N/A"},{"$error":"#N/A"}]
[{"$error":"#N/A"},{"$error":"#N/A"},{"$error":"#N/A"},{"$error":"#N/A"},{"$error":"#N/A"}]
[{"$error":"#N/A"},{"$error":"#N/A"},{"$error":"#N/A"},{"$error":"#N/A"},{"$error":"#N/A"}]
[{"$error":"#N/A"},{"$error":"#N/A"},{"$error":"#N/A"},{"$error":"#N/A"},{"$error":"#N/A"}]
[{"$error":"#N/A"},{"$error":"#N/A"},{"$error":"#N/A"},{"$error":"#N/A"},{"$error":"#N/A"}]
[{"$error":"#N/A"},{"$error":"#N/A"},{"$error":"#N/A"},{"$error":"#N/A"},{"$error":"#N/A"}]
[{"$error":"#N/A"},{"$error":"#N/A"},{"$error":"#N/A"},{"$error":"#N/A"},{"$error":"#N/A"}]
[{"$error":"#N/A"},{"$error":"#N/A"},{"$error":"#N/A"},{"$error":"#N/A"},{"$error":"#N/A"}]
[{"$error":"#N/A"},{"$error":"#N/A"},{"$error":"#N/A"},{"$error":"#N/A"},{"$error":"#N/A"}]
[{"$error":"#N/A"},{"$error":"#N/A"},{"$error":"#N/A"},{"$error":"#N/A"},{"$error":"#N/A"}]
[{"$error":"#N/A"},{"$error":"#N/A"},{"$error":"#N/A"},{"$error":"#N/A"},{"$error":"#N/A"}]
[{"$error":"#N/A"},{"$error":"#N/A"},{"$error":"#N/A"},{"$error":"#N/A"},{"$error":"#N/A"}]
[{"$error":"#N/A"},{"$error":"#N/A"},{"$error":"#N/A"},{"$error":"#N/A"},{"$error":"#N/A"}]
[{"$error":"#N/A"},{"$error":"#N/A"},{"$error":"#N/A"},{"$error":"#N/A"},{"$error":"#N/A"}]
[{"$error":"#N/A"},{"$error":"#N/A"},{"$error":"#N/A"},{"$error":"#N/A"},{"$error":"#N/A"}]
[{"$error":"#N/A"},{"$error":"#N/A"},{"$error":"#N/A"},{"$error":"#N/A"},{"$error":"#N/A"}]
[{"$error":"#N/A"},{"$error":"#N/A"},{"$error":"#N/A"},{"$error":"#N/A"},{"$error":"#N/A"}]
[{"$error":"#N/A"},{"$error":"#N/A"},{"$error":"#N/A"},{"$error":"#N/A"},{"$error":"#N/A"}]
[{"$error":"#N/A"},{"$error":"#N/A"},{"$error":"#N/A"},{"$error":"#N/A"},{"$error":"#N/A"}]
[{"$error":"#N/A"},{"$error":"#N/A"},{"$error":"#N/A"},{"$error":"#N/A"},{"$error":"#N/A"}]
[{"$error":"#N/A"},{"$error":"#N/A"},{"$error":"#N/A"},{"$error":"#N/A"},{"$error":"#N/A"}]
[{"$error":"#N/A"},{"$error":"#N/A"},{"$error":"#N/A"},{"$error":"#N/A"},{"$error":"#N/A"}]
[{"$error":"#N/A"},{"$error":"#N/A"},{"$error":"#N/A"},{"$error":"#N/A"},{"$error":"#N/A"}]
[{"$error":"#N/A"},{"$error":"#N/A"},{"$error":"#N/A"},{"$error":"#N/A"},{"$error":"#N/A"}]
[{"$error":"#N/A"},{"$error":"#N/A"},{"$error":"#N/A"},{"$error":"#N/A"},{"$error":"#N/A"}]
[{"$error":"#N/A"},{"$error":"#N/A"},{"$error":"#N/A"},{"$error":"#N/A"},{"$error":"#N/A"}]
[{"$error":"#N/A"},{"$error":"#N/A"},{"$error":"#N/A"},{"$error":"#N/A"},{"$error":"#N/A"}]
[{"$error":"#N/A"},{"$error":"#N/A"},{"$error":"#N/A"},{"$error":"#N/A"},{"$error":"#N/A"}]
[{"$error":"#N/A"},{"$error":"#N/A"},{"$error":"#N/A"},{"$error":"#N/A"},{"$error":"#N/A"}]
[{"$error":"#N/A"},{"$error":"#N/A"},{"$error":"#N/A"},{"$error":"#N/A"},{"$error":"#N/A"}]
[{"$error":"#N/A"},{"$error":"#N/A"},{"$error":"#N/A"},{"$error":"#N/A"},{"$error":"#N/A"}]
[{"$error":"#N/A"},{"$error":"#N/A"},{"$error":"#N/A"},{"$error":"#N/A"},{"$error":"#N/A"}]
[{"$error":"#N/A"},{"$error":"#N/A"},{"$error":"#N/A"},{"$error":"#N/A"},{"$error":"#N/A"}]
[{"$error":"#N/A"},{"$error":"#N/A"},{"$error":"#N/A"},{"$error":"#N/A"},{"$error":"#N/A"}]
[{"$error":"#N/A"},{"$error":"#N/A"},{"$error":"#N/A"},{"$error":"#N/A"},{"$error":"#N/A"}]
[{"$error":"#N/A"},{"$error":"#N/A"},{"$error":"#N/A"},{"$error":"#N/A"},{"$error":"#N/A"}]
[{"$error":"#N/A"},{"$error":"#N/A"},{"$error":"#N/A"},{"$error":"#N/A"},{"$error":"#N/A"}]
[{"$error":"#N/A"},{"$error":"#N/A"},{"$error":"#N/A"},{"$error":"#N/A"},{"$error":"#N/A"}]
[{"$error":"#N/A"},{"$error":"#N/A"},{"$error":"#N/A"},{"$error":"#N/A"},{"$error":"#N/A"}]
[{"$error":"#N/A"},{"$error":"#N/A"},{"$error":"#N/A"},{"$error":"#N/A"},{"$error":"#N/A"}]
[{"$error":"#N/A"},{"$error":"#N/A"},{"$error":"#N/A"},{"$error":"#N/A"},{"$error":"#N/A"}]
[{"$error":"#N/A"},{"$error":"#N/A"},{"$error":"#N/A"},{"$error":"#N/A"},{"$error":"#N/A"}]
[{"$error":"#N/A"},{"$error":"#N/A"},{"$error":"#N/A"},{"$error":"#N/A"},{"$error":"#N/A"}]
[{"$error":"#N/A"},{"$error":"#N/A"},{"$error":"#N/A"},{"$error":"#N/A"},{"$error":"#N/A"}]
[{"$error":"#N/A"},{"$error":"#N/A"},{"$error":"#N/A"},{"$error":"#N/A"},{"$error":"#N/A"}]
[{"$error":"#N/A"},{"$error":"#N/A"},{"$error":"#N/A"},{"$error":"#N/A"},{"$error":"#N/A"}]
[{"$error":"#N/A"},{"$error":"#N/A"},{"$error":"#N/A"},{"$error":"#N/A"},{"$error":"#N/A"}]
[{"$error":"#N/A"},{"$error":"#N/A"},{"$error":"#N/A"},{"$error":"#N/A"},{"$error":"#N/A"}]
[{"$error":"#N/A"},{"$error":"#N/A"},{"$error":"#N/A"},{"$error":"#N/A"},{"$error":"#N/A"}]
[{"$error":"#N/A"},{"$error":"#N/A"},{"$error":"#N/A"},{"$error":"#N/A"},{"$error":"#N/A"}]
[{"$error":"#N/A"},{"$error":"#N/A"},{"$error":"#N/A"},{"$error":"#N/A"},{"$error":"#N/A"}]
[{"$error":"#N/A"},{"$error":"#N/A"},{"$error":"#N/A"},{"$error":"#N/A"},{"$error":"#N/A"}]
[{"$error":"#N/A"},{"$error":"#N/A"},{"$error":"#N/A"},{"$error":"#N/A"},{"$error":"#N/A"}]
[{"$error":"#N/A"},{"$error":"#N/A"},{"$error":"#N/A"},{"$error":"#N/A"},{"$error":"#N/A"}]
[{"$error":"#N/A"},{"$error":"#N/A"},{"$error":"#N/A"},{"$error":"#N/A"},{"$error":"#N/A"}]
[{"$error":"#N/A"},{"$error":"#N/A"},{"$error":"#N/A"},{"$error":"#N/A"},{"$error":"#N/A"}]
[{"$error":"#N/A"},{"$error":"#N/A"},{"$error":"#N/A"},{"$error":"#N/A"},{"$error":"#N/A"}]
[{"$error":"#N/A"},{"$error":"#N/A"},{"$error":"#N/A"},{"$error":"#N/A"},{"$error":"#N/A"}]
[{"$error":"#N/A"},{"$error":"#N/A"},{"$error":"#N/A"},{"$error":"#N/A"},{"$error":"#N/A"}]
[{"$error":"#N/A"},{"$error":"#N/A"},{"$error":"#N/A"},{"$error":"#N/A"},{"$error":"#N/A"}]
[{"$error":"#N/A"},{"$error":"#N/A"},{"$error":"#N/A"},{"$error":"#N/A"},{"$error":"#N/A"}]
[{"$error":"#N/A"},{"$error":"#N/A"},{"$error":"#N/A"},{"$error":"#N/A"},{"$error":"#N/A"}]
[{"$error":"#N/A"},{"$error":"#N/A"},{"$error":"#N/A"},{"$error":"#N/A"},{"$error":"#N/A"}]
[{"$error":"#N/A"},{"$error":"#N/A"},{"$error":"#N/A"},{"$error":"#N/A"},{"$error":"#N/A"}]
[{"$error":"#N/A"},{"$error":"#N/A"},{"$error":"#N/A"},{"$error":"#N/A"},{"$error":"#N/A"}]
[{"$error":"#N/A"},{"$error":"#N/A"},{"$error":"#N/A"},{"$error":"#N/A"},{"$error":"#N/A"}]
[{"$error":"#N/A"},{"$error":"#N/A"},{"$error":"#N/A"},{"$error":"#N/A"},{"$error":"#N/A"}]
[{"$error":"#N/A"},{"$error":"#N/A"},{"$error":"#N/A"},{"$error":"#N/A"},{"$error":"#N/A"}]
[{"$error":"#N/A"},{"$error":"#N/A"},{"$error":"#N/A"},{"$error":"#N/A"},{"$error":"#N/A"}]
[{"$error":"#N/A"},{"$error":"#N/A"},{"$error":"#N/A"},{"$error":"#N/A"},{"$error":"#N/A"}]
[{"$error":"#N/A"},{"$error":"#N/A"},{"$error":"#N/A"},{"$error":"#N/A"},{"$error":"#N/A"}]
[{"$error":"#N/A"},{"$error":"#N/A"},{"$error":"#N/A"},{"$error":"#N/A"},{"$error":"#N/A"}]
[{"$error":"#N/A"},{"$error":"#N/A"},{"$error":"#N/A"},{"$error":"#N/A"},{"$error":"#N/A"}]
[{"$error":"#N/A"},{"$error":"#N/A"},{"$error":"#N/A"},{"$error":"#N/A"},{"$error":"#N/A"}]
[{"$error":"#N/A"},{"$error":"#N/A"},{"$error":"#N/A"},{"$error":"#N/A"},{"$error":"#N/A"}]
[{"$error":"#N/A"},{"$error":"#N/A"},{"$error":"#N/A"},{"$error":"#N/A"},{"$error":"#N/A"}]
[{"$error":"#N/A"},{"$error":"#N/A"},{"$error":"#N/A"},{"$error":"#N/A"},{"$error":"#N/A"}]
[{"$error":"#N/A"},{"$error":"#N/A"},{"$error":"#N/A"},{"$error":"#N/A"},{"$error":"#N/A"}]
[{"$error":"#N/A"},{"$error":"#N/A"},{"$error":"#N/A"},{"$error":"#N/A"},{"$error":"#N/A"}]
[{"$error":"#N/A"},{"$error":"#N/A"},{"$error":"#N/A"},{"$error":"#N/A"},{"$error":"#N/A"}]
[{"$error":"#N/A"},{"$error":"#N/A"},{"$error":"#N/A"},{"$error":"#N/A"},{"$error":"#N/A"}]
[{"$error":"#N/A"},{"$error":"#N/A"},{"$error":"#N/A"},{"$error":"#N/A"},{"$error":"#N/A"}]
[{"$error":"#N/A"},{"$error":"#N/A"},{"$error":"#N/A"},{"$error":"#N/A"},{"$error":"#N/A"}]
[{"$error":"#N/A"},{"$error":"#N/A"},{"$error":"#N/A"},{"$error":"#N/A"},{"$error":"#N/A"}]
[{"$error":"#N/A"},{"$error":"#N/A"},{"$error":"#N/A"},{"$error":"#N/A"},{"$error":"#N/A"}]
[{"$error":"#N/A"},{"$error":"#N/A"},{"$error":"#N/A"},{"$error":"#N/A"},{"$error":"#N/A"}]
[{"$error":"#N/A"},{"$error":"#N/A"},{"$error":"#N/A"},{"$error":"#N/A"},{"$error":"#N/A"}]
[{"$error":"#N/A"},{"$error":"#N/A"},{"$error":"#N/A"},{"$error":"#N/A"},{"$error":"#N/A"}]
[{"$error":"#N/A"},{"$error":"#N/A"},{"$error":"#N/A"},{"$error":"#N/A"},{"$error":"#N/A"}]
[{"$error":"#N/A"},{"$error":"#N/A"},{"$error":"#N/A"},{"$error":"#N/A"},{"$error":"#N/A"}]
[{"$error":"#N/A"},{"$error":"#N/A"},{"$error":"#N/A"},{"$error":"#N/A"},{"$error":"#N/A"}]
[{"$error":"#N/A"},{"$error":"#N/A"},{"$error":"#N/A"},{"$error":"#N/A"},{"$error":"#N/A"}]
[{"$error":"#N/A"},{"$error":"#N/A"},{"$error":"#N/A"},{"$error":"#N/A"},{"$error":"#N/A"}]
[{"$error":"#N/A"},{"$error":"#N/A"},{"$error":"#N/A"},{"$error":"#N/A"},{"$error":"#N/A"}]
[{"$error":"#N/A"},{"$error":"#N/A"},{"$error":"#N/A"},{"$error":"#N/A"},{"$error":"#N/A"}]
[{"$error":"#N/A"},{"$error":"#N/A"},{"$error":"#N/A"},{"$error":"#N/A"},{"$error":"#N/A"}]
[{"$error":"#N/A"},{"$error":"#N/A"},{"$error":"#N/A"},{"$error":"#N/A"},{"$error":"#N/A"}]
[{"$error":"#N/A"},{"$error":"#N/A"},{"$error":"#N/A"},{"$error":"#N/A"},{"$error":"#N/A"}]
[{"$error":"#N/A"},{"$error":"#N/A"},{"$error":"#N/A"},{"$error":"#N/A"},{"$error":"#N/A"}]
[{"$error":"#N/A"},{"$error":"#N/A"},{"$error":"#N/A"},{"$error":"#N/A"},{"$error":"#N/A"}]
[{"$error":"#N/A"},{"$error":"#N/A"},{"$error":"#N/A"},{"$error":"#N/A"},{"$error":"#N/A"}]
[{"$error":"#N/A"},{"$error":"#N/A"},{"$error":"#N/A"},{"$error":"#N/A"},{"$error":"#N/A"}]
[{"$error":"#N/A"},{"$error":"#N/A"},{"$error":"#N/A"},{"$error":"#N/A"},{"$error":"#N/A"}]
[{"$error":"#N/A"},{"$error":"#N/A"},{"$error":"#N/A"},{"$error":"#N/A"},{"$error":"#N/A"}]
[{"$error":"#N/A"},{"$error":"#N/A"},{"$error":"#N/A"},{"$error":"#N/A"},{"$error":"#N/A"}]
[{"$error":"#N/A"},{"$error":"#N/A"},{"$error":"#N/A"},{"$error":"#N/A"},{"$error":"#N/A"}]
[{"$error":"#N/A"},{"$error":"#N/A"},{"$error":"#N/A"},{"$error":"#N/A"},{"$error":"#N/A"}]
[{"$error":"#N/A"},{"$error":"#N/A"},{"$error":"#N/A"},{"$error":"#N/A"},{"$error":"#N/A"}]
[{"$error":"#N/A"},{"$error":"#N/A"},{"$error":"#N/A"},{"$error":"#N/A"},{"$error":"#N/A"}]
[{"$error":"#N/A"},{"$error":"#N/A"},{"$error":"#N/A"},{"$error":"#N/A"},{"$error":"#N/A"}]
[{"$error":"#N/A"},{"$error":"#N/A"},{"$error":"#N/A"},{"$error":"#N/A"},{"$error":"#N/A"}]
[{"$error":"#N/A"},{"$error":"#N/A"},{"$error":"#N/A"},{"$error":"#N/A"},{"$error":"#N/A"}]
[{"$error":"#N/A"},{"$error":"#N/A"},{"$error":"#N/A"},{"$error":"#N/A"},{"$error":"#N/A"}]
[{"$error":"#N/A"},{"$error":"#N/A"},{"$error":"#N/A"},{"$error":"#N/A"},{"$error":"#N/A"}]
[{"$error":"#N/A"},{"$error":"#N/A"},{"$error":"#N/A"},{"$error":"#N/A"},{"$error":"#N/A"}]
[{"$error":"#N/A"},{"$error":"#N/A"},{"$error":"#N/A"},{"$error":"#N/A"},{"$error":"#N/A"}]
[{"$error":"#N/A"},{"$error":"#N/A"},{"$error":"#N/A"},{"$error":"#N/A"},{"$error":"#N/A"}]
[{"$error":"#N/A"},{"$error":"#N/A"},{"$error":"#N/A"},{"$error":"#N/A"},{"$error":"#N/A"}]
[{"$error":"#N/A"},{"$error":"#N/A"},{"$error":"#N/A"},{"$error":"#N/A"},{"$error":"#N/A"}]
[{"$error":"#N/A"},{"$error":"#N/A"},{"$error":"#N/A"},{"$error":"#N/A"},{"$error":"#N/A"}]
[{"$error":"#N/A"},{"$error":"#N/A"},{"$error":"#N/A"},{"$error":"#N/A"},{"$error":"#N/A"}]
[{"$error":"#N/A"},{"$error":"#N/A"},{"$error":"#N/A"},{"$error":"#N/A"},{"$error":"#N/A"}]
[{"$error":"#N/A"},{"$error":"#N/A"},{"$error":"#N/A"},{"$error":"#N/A"},{"$error":"#N/A"}]
[{"$error":"#N/A"},{"$error":"#N/A"},{"$error":"#N/A"},{"$error":"#N/A"},{"$error":"#N/A"}]
[{"$error":"#N/A"},{"$error":"#N/A"},{"$error":"#N/A"},{"$error":"#N/A"},{"$error":"#N/A"}]
[{"$error":"#N/A"},{"$error":"#N/A"},{"$error":"#N/A"},{"$error":"#N/A"},{"$error":"#N/A"}]
[{"$error":"#N/A"},{"$error":"#N/A"},{"$error":"#N/A"},{"$error":"#N/A"},{"$error":"#N/A"}]
[{"$error":"#N/A"},{"$error":"#N/A"},{"$error":"#N/A"},{"$error":"#N/A"},{"$error":"#N/A"}]
[{"$error":"#N/A"},{"$error":"#N/A"},{"$error":"#N/A"},{"$error":"#N/A"},{"$error":"#N/A"}]
[{"$error":"#N/A"},{"$error":"#N/A"},{"$error":"#N/A"},{"$error":"#N/A"},{"$error":"#N/A"}]
[{"$error":"#N/A"},{"$error":"#N/A"},{"$error":"#N/A"},{"$error":"#N/A"},{"$error":"#N/A"}]
[{"$error":"#N/A"},{"$error":"#N/A"},{"$error":"#N/A"},{"$error":"#N/A"},{"$error":"#N/A"}]
[{"$error":"#N/A"},{"$error":"#N/A"},{"$error":"#N/A"},{"$error":"#N/A"},{"$error":"#N/A"}]
[{"$error":"#N/A"},{"$error":"#N/A"},{"$error":"#N/A"},{"$error":"#N/A"},{"$error":"#N/A"}]
[{"$error":"#N/A"},{"$error":"#N/A"},{"$error":"#N/A"},{"$error":"#N/A"},{"$error":"#N/A"}]
[{"$error":"#N/A"},{"$error":"#N/A"},{"$error":"#N/A"},{"$error":"#N/A"},{"$error":"#N/A"}]
[{"$error":"#N/A"},{"$error":"#N/A"},{"$error":"#N/A"},{"$error":"#N/A"},{"$error":"#N/A"}]
[{"$error":"#N/A"},{"$error":"#N/A"},{"$error":"#N/A"},{"$error":"#N/A"},{"$error":"#N/A"}]
[{"$error":"#N/A"},{"$error":"#N/A"},{"$error":"#N/A"},{"$error":"#N/A"},{"$error":"#N/A"}]
[{"$error":"#N/A"},{"$error":"#N/A"},{"$error":"#N/A"},{"$error":"#N/A"},{"$error":"#N/A"}]
[{"$error":"#N/A"},{"$error":"#N/A"},{"$error":"#N/A"},{"$error":"#N/A"},{"$error":"#N/A"}]
[{"$error":"#N/A"},{"$error":"#N/A"},{"$error":"#N/A"},{"$error":"#N/A"},{"$error":"#N/A"}]
[{"$error":"#N/A"},{"$error":"#N/A"},{"$error":"#N/A"},{"$error":"#N/A"},{"$error":"#N/A"}]
[{"$error":"#N/A"},{"$error":"#N/A"},{"$error":"#N/A"},{"$error":"#N/A"},{"$error":"#N/A"}]
[{"$error":"#N/A"},{"$error":"#N/A"},{"$error":"#N/A"},{"$error":"#N/A"},{"$error":"#N/A"}]
[{"$error":"#N/A"},{"$error":"#N/A"},{"$error":"#N/A"},{"$error":"#N/A"},{"$error":"#N/A"}]
[{"$error":"#N/A"},{"$error":"#N/A"},{"$error":"#N/A"},{"$error":"#N/A"},{"$error":"#N/A"}]
[{"$error":"#N/A"},{"$error":"#N/A"},{"$error":"#N/A"},{"$error":"#N/A"},{"$error":"#N/A"}]
[{"$error":"#N/A"},{"$error":"#N/A"},{"$error":"#N/A"},{"$error":"#N/A"},{"$error":"#N/A"}]
[{"$error":"#N/A"},{"$error":"#N/A"},{"$error":"#N/A"},{"$error":"#N/A"},{"$error":"#N/A"}]
[{"$error":"#N/A"},{"$error":"#N/A"},{"$error":"#N/A"},{"$error":"#N/A"},{"$error":"#N/A"}]
[{"$error":"#N/A"},{"$error":"#N/A"},{"$error":"#N/A"},{"$error":"#N/A"},{"$error":"#N/A"}]
[{"$error":"#N/A"},{"$error":"#N/A"},{"$error":"#N/A"},{"$error":"#N/A"},{"$error":"#N/A"}]
[{"$error":"#N/A"},{"$error":"#N/A"},{"$error":"#N/A"},{"$error":"#N/A"},{"$error":"#N/A"}]
[{"$error":"#N/A"},{"$error":"#N/A"},{"$error":"#N/A"},{"$error":"#N/A"},{"$error":"#N/A"}]
[{"$error":"#N/A"},{"$error":"#N/A"},{"$error":"#N/A"},{"$error":"#N/A"},{"$error":"#N/A"}]
[{"$error":"#N/A"},{"$error":"#N/A"},{"$error":"#N/A"},{"$error":"#N/A"},{"$error":"#N/A"}]
[{"$error":"#N/A"},{"$error":"#N/A"},{"$error":"#N/A"},{"$error":"#N/A"},{"$error":"#N/A"}]
[{"$error":"#N/A"},{"$error":"#N/A"},{"$error":"#N/A"},{"$error":"#N/A"},{"$error":"#N/A"}]
[{"$error":"#N/A"},{"$error":"#N/A"},{"$error":"#N/A"},{"$error":"#N/A"},{"$error":"#N/A"}]
[{"$error":"#N/A"},{"$error":"#N/A"},{"$error":"#N/A"},{"$error":"#N/A"},{"$error":"#N/A"}]
[{"$error":"#N/A"},{"$error":"#N/A"},{"$error":"#N/A"},{"$error":"#N/A"},{"$error":"#N/A"}]
[{"$error":"#N/A"},{"$error":"#N/A"},{"$error":"#N/A"},{"$error":"#N/A"},{"$error":"#N/A"}]
[{"$error":"#N/A"},{"$error":"#N/A"},{"$error":"#N/A"},{"$error":"#N/A"},{"$error":"#N/A"}]
[{"$error":"#N/A"},{"$error":"#N/A"},{"$error":"#N/A"},{"$error":"#N/A"},{"$error":"#N/A"}]
[{"$error":"#N/A"},{"$error":"#N/A"},{"$error":"#N/A"},{"$error":"#N/A"},{"$error":"#N/A"}]
[{"$error":"#N/A"},{"$error":"#N/A"},{"$error":"#N/A"},{"$error":"#N/A"},{"$error":"#N/A"}]
[{"$error":"#N/A"},{"$error":"#N/A"},{"$error":"#N/A"},{"$error":"#N/A"},{"$error":"#N/A"}]
[{"$error":"#N/A"},{"$error":"#N/A"},{"$error":"#N/A"},{"$error":"#N/A"},{"$error":"#N/A"}]
[{"$error":"#N/A"},{"$error":"#N/A"},{"$error":"#N/A"},{"$error":"#N/A"},{"$error":"#N/A"}]
[{"$error":"#N/A"},{"$error":"#N/A"},{"$error":"#N/A"},{"$error":"#N/A"},{"$error":"#N/A"}]
[{"$error":"#N/A"},{"$error":"#N/A"},{"$error":"#N/A"},{"$error":"#N/A"},{"$error":"#N/A"}]
[{"$error":"#N/A"},{"$error":"#N/A"},{"$error":"#N/A"},{"$error":"#N/A"},{"$error":"#N/A"}]
[{"$error":"#N/A"},{"$error":"#N/A"},{"$error":"#N/A"},{"$error":"#N/A"},{"$error":"#N/A"}]
[{"$error":"#N/A"},{"$error":"#N/A"},{"$error":"#N/A"},{"$error":"#N/A"},{"$error":"#N/A"}]
[{"$error":"#N/A"},{"$error":"#N/A"},{"$error":"#N/A"},{"$error":"#N/A"},{"$error":"#N/A"}]
[{"$error":"#N/A"},{"$error":"#N/A"},{"$error":"#N/A"},{"$error":"#N/A"},{"$error":"#N/A"}]
[{"$error":"#N/A"},{"$error":"#N/A"},{"$error":"#N/A"},{"$error":"#N/A"},{"$error":"#N/A"}]
[{"$error":"#N/A"},{"$error":"#N/A"},{"$error":"#N/A"},{"$error":"#N/A"},{"$error":"#N/A"}]
[{"$error":"#N/A"},{"$error":"#N/A"},{"$error":"#N/A"},{"$error":"#N/A"},{"$error":"#N/A"}]
[{"$error":"#N/A"},{"$error":"#N/A"},{"$error":"#N/A"},{"$error":"#N/A"},{"$error":"#N/A"}]
[{"$error":"#N/A"},{"$error":"#N/A"},{"$error":"#N/A"},{"$error":"#N/A"},{"$error":"#N/A"}]
[{"$error":"#N/A"},{"$error":"#N/A"},{"$error":"#N/A"},{"$error":"#N/A"},{"$error":"#N/A"}]
[{"$error":"#N/A"},{"$error":"#N/A"},{"$error":"#N/A"},{"$error":"#N/A"},{"$error":"#N/A"}]
[{"$error":"#N/A"},{"$error":"#N/A"},{"$error":"#N/A"},{"$error":"#N/A"},{"$error":"#N/A"}]
[{"$error":"#N/A"},{"$error":"#N/A"},{"$error":"#N/A"},{"$error":"#N/A"},{"$error":"#N/A"}]
[{"$error":"#N/A"},{"$error":"#N/A"},{"$error":"#N/A"},{"$error":"#N/A"},{"$error":"#N/A"}]
[{"$error":"#N/A"},{"$error":"#N/A"},{"$error":"#N/A"},{"$error":"#N/A"},{"$error":"#N/A"}]
[{"$error":"#N/A"},{"$error":"#N/A"},{"$error":"#N/A"},{"$error":"#N/A"},{"$error":"#N/A"}]
[{"$error":"#N/A"},{"$error":"#N/A"},{"$error":"#N/A"},{"$error":"#N/A"},{"$error":"#N/A"}]
[{"$error":"#N/A"},{"$error":"#N/A"},{"$error":"#N/A"},{"$error":"#N/A"},{"$error":"#N/A"}]
[{"$error":"#N/A"},{"$error":"#N/A"},{"$error":"#N/A"},{"$error":"#N/A"},{"$error":"#N/A"}]
[{"$error":"#N/A"},{"$error":"#N/A"},{"$error":"#N/A"},{"$error":"#N/A"},{"$error":"#N/A"}]
[{"$error":"#N/A"},{"$error":"#N/A"},{"$error":"#N/A"},{"$error":"#N/A"},{"$error":"#N/A"}]
[{"$error":"#N/A"},{"$error":"#N/A"},{"$error":"#N/A"},{"$error":"#N/A"},{"$error":"#N/A"}]
[{"$error":"#N/A"},{"$error":"#N/A"},{"$error":"#N/A"},{"$error":"#N/A"},{"$error":"#N/A"}]
[{"$error":"#N/A"},{"$error":"#N/A"},{"$error":"#N/A"},{"$error":"#N/A"},{"$error":"#N/A"}]
[{"$error":"#N/A"},{"$error":"#N/A"},{"$error":"#N/A"},{"$error":"#N/A"},{"$error":"#N/A"}]
[{"$error":"#N/A"},{"$error":"#N/A"},{"$error":"#N/A"},{"$error":"#N/A"},{"$error":"#N/A"}]
[{"$error":"#N/A"},{"$error":"#N/A"},{"$error":"#N/A"},{"$error":"#N/A"},{"$error":"#N/A"}]
[{"$error":"#N/A"},{"$error":"#N/A"},{"$error":"#N/A"},{"$error":"#N/A"},{"$error":"#N/A"}]
[{"$error":"#N/A"},{"$error":"#N/A"},{"$error":"#N/A"},{"$error":"#N/A"},{"$error":"#N/A"}]
[{"$error":"#N/A"},{"$error":"#N/A"},{"$error":"#N/A"},{"$error":"#N/A"},{"$error":"#N/A"}]
[{"$error":"#N/A"},{"$error":"#N/A"},{"$error":"#N/A"},{"$error":"#N/A"},{"$error":"#N/A"}]
[{"$error":"#N/A"},{"$error":"#N/A"},{"$error":"#N/A"},{"$error":"#N/A"},{"$error":"#N/A"}]
[{"$error":"#N/A"},{"$error":"#N/A"},{"$error":"#N/A"},{"$error":"#N/A"},{"$error":"#N/A"}]
[{"$error":"#N/A"},{"$error":"#N/A"},{"$error":"#N/A"},{"$error":"#N/A"},{"$error":"#N/A"}]
[{"$error":"#N/A"},{"$error":"#N/A"},{"$error":"#N/A"},{"$error":"#N/A"},{"$error":"#N/A"}]
[{"$error":"#N/A"},{"$error":"#N/A"},{"$error":"#N/A"},{"$error":"#N/A"},{"$error":"#N/A"}]
[{"$error":"#N/A"},{"$error":"#N/A"},{"$error":"#N/A"},{"$error":"#N/A"},{"$error":"#N/A"}]
[{"$error":"#N/A"},{"$error":"#N/A"},{"$error":"#N/A"},{"$error":"#N/A"},{"$error":"#N/A"}]
[{"$error":"#N/A"},{"$error":"#N/A"},{"$error":"#N/A"},{"$error":"#N/A"},{"$error":"#N/A"}]
[{"$error":"#N/A"},{"$error":"#N/A"},{"$error":"#N/A"},{"$error":"#N/A"},{"$error":"#N/A"}]
[{"$error":"#N/A"},{"$error":"#N/A"},{"$error":"#N/A"},{"$error":"#N/A"},{"$error":"#N/A"}]
[{"$error":"#N/A"},{"$error":"#N/A"},{"$error":"#N/A"},{"$error":"#N/A"},{"$error":"#N/A"}]
[{"$error":"#N/A"},{"$error":"#N/A"},{"$error":"#N/A"},{"$error":"#N/A"},{"$error":"#N/A"}]
[{"$error":"#N/A"},{"$error":"#N/A"},{"$error":"#N/A"},{"$error":"#N/A"},{"$error":"#N/A"}]
[{"$error":"#N/A"},{"$error":"#N/A"},{"$error":"#N/A"},{"$error":"#N/A"},{"$error":"#N/A"}]
[{"$error":"#N/A"},{"$error":"#N/A"},{"$error":"#N/A"},{"$error":"#N/A"},{"$error":"#N/A"}]
[{"$error":"#N/A"},{"$error":"#N/A"},{"$error":"#N/A"},{"$error":"#N/A"},{"$error":"#N/A"}]
[{"$error":"#N/A"},{"$error":"#N/A"},{"$error":"#N/A"},{"$error":"#N/A"},{"$error":"#N/A"}]
[{"$error":"#N/A"},{"$error":"#N/A"},{"$error":"#N/A"},{"$error":"#N/A"},{"$error":"#N/A"}]
[{"$error":"#N/A"},{"$error":"#N/A"},{"$error":"#N/A"},{"$error":"#N/A"},{"$error":"#N/A"}]
[{"$error":"#N/A"},{"$error":"#N/A"},{"$error":"#N/A"},{"$error":"#N/A"},{"$error":"#N/A"}]
[{"$error":"#N/A"},{"$error":"#N/A"},{"$error":"#N/A"},{"$error":"#N/A"},{"$error":"#N/A"}]
[{"$error":"#N/A"},{"$error":"#N/A"},{"$error":"#N/A"},{"$error":"#N/A"},{"$error":"#N/A"}]
[{"$error":"#N/A"},{"$error":"#N/A"},{"$error":"#N/A"},{"$error":"#N/A"},{"$error":"#N/A"}]
[{"$error":"#N/A"},{"$error":"#N/A"},{"$error":"#N/A"},{"$error":"#N/A"},{"$error":"#N/A"}]
[{"$error":"#N/A"},{"$error":"#N/A"},{"$error":"#N/A"},{"$error":"#N/A"},{"$error":"#N/A"}]
[{"$error":"#N/A"},{"$error":"#N/A"},{"$error":"#N/A"},{"$error":"#N/A"},{"$error":"#N/A"}]
[{"$error":"#N/A"},{"$error":"#N/A"},{"$error":"#N/A"},{"$error":"#N/A"},{"$error":"#N/A"}]
[{"$error":"#N/A"},{"$error":"#N/A"},{"$error":"#N/A"},{"$error":"#N/A"},{"$error":"#N/A"}]
[{"$error":"#N/A"},{"$error":"#N/A"},{"$error":"#N/A"},{"$error":"#N/A"},{"$error":"#N/A"}]
[{"$error":"#N/A"},{"$error":"#N/A"},{"$error":"#N/A"},{"$error":"#N/A"},{"$error":"#N/A"}]
[{"$error":"#N/A"},{"$error":"#N/A"},{"$error":"#N/A"},{"$error":"#N/A"},{"$error":"#N/A"}]
[{"$error":"#N/A"},{"$error":"#N/A"},{"$error":"#N/A"},{"$error":"#N/A"},{"$error":"#N/A"}]
[{"$error":"#N/A"},{"$error":"#N/A"},{"$error":"#N/A"},{"$error":"#N/A"},{"$error":"#N/A"}]
[{"$error":"#N/A"},{"$error":"#N/A"},{"$error":"#N/A"},{"$error":"#N/A"},{"$error":"#N/A"}]
[{"$error":"#N/A"},{"$error":"#N/A"},{"$error":"#N/A"},{"$error":"#N/A"},{"$error":"#N/A"}]
[{"$error":"#N/A"},{"$error":"#N/A"},{"$error":"#N/A"},{"$error":"#N/A"},{"$error":"#N/A"}]
[{"$error":"#N/A"},{"$error":"#N/A"},{"$error":"#N/A"},{"$error":"#N/A"},{"$error":"#N/A"}]
[{"$error":"#N/A"},{"$error":"#N/A"},{"$error":"#N/A"},{"$error":"#N/A"},{"$error":"#N/A"}]
[{"$error":"#N/A"},{"$error":"#N/A"},{"$error":"#N/A"},{"$error":"#N/A"},{"$error":"#N/A"}]
[{"$error":"#N/A"},{"$error":"#N/A"},{"$error":"#N/A"},{"$error":"#N/A"},{"$error":"#N/A"}]
[{"$error":"#N/A"},{"$error":"#N/A"},{"$error":"#N/A"},{"$error":"#N/A"},{"$error":"#N/A"}]
[{"$error":"#N/A"},{"$error":"#N/A"},{"$error":"#N/A"},{"$error":"#N/A"},{"$error":"#N/A"}]
[{"$error":"#N/A"},{"$error":"#N/A"},{"$error":"#N/A"},{"$error":"#N/A"},{"$error":"#N/A"}]
[{"$error":"#N/A"},{"$error":"#N/A"},{"$error":"#N/A"},{"$error":"#N/A"},{"$error":"#N/A"}]
[{"$error":"#N/A"},{"$error":"#N/A"},{"$error":"#N/A"},{"$error":"#N/A"},{"$error":"#N/A"}]
[{"$error":"#N/A"},{"$error":"#N/A"},{"$error":"#N/A"},{"$error":"#N/A"},{"$error":"#N/A"}]
[{"$error":"#N/A"},{"$error":"#N/A"},{"$error":"#N/A"},{"$error":"#N/A"},{"$error":"#N/A"}]
[{"$error":"#N/A"},{"$error":"#N/A"},{"$error":"#N/A"},{"$error":"#N/A"},{"$error":"#N/A"}]
[{"$error":"#N/A"},{"$error":"#N/A"},{"$error":"#N/A"},{"$error":"#N/A"},{"$error":"#N/A"}]
[{"$error":"#N/A"},{"$error":"#N/A"},{"$error":"#N/A"},{"$error":"#N/A"},{"$error":"#N/A"}]
[{"$error":"#N/A"},{"$error":"#N/A"},{"$error":"#N/A"},{"$error":"#N/A"},{"$error":"#N/A"}]
[{"$error":"#N/A"},{"$error":"#N/A"},{"$error":"#N/A"},{"$error":"#N/A"},{"$error":"#N/A"}]
[{"$error":"#N/A"},{"$error":"#N/A"},{"$error":"#N/A"},{"$error":"#N/A"},{"$error":"#N/A"}]
[{"$error":"#N/A"},{"$error":"#N/A"},{"$error":"#N/A"},{"$error":"#N/A"},{"$error":"#N/A"}]
[{"$error":"#N/A"},{"$error":"#N/A"},{"$error":"#N/A"},{"$error":"#N/A"},{"$error":"#N/A"}]
[{"$error":"#N/A"},{"$error":"#N/A"},{"$error":"#N/A"},{"$error":"#N/A"},{"$error":"#N/A"}]
[{"$error":"#N/A"},{"$error":"#N/A"},{"$error":"#N/A"},{"$error":"#N/A"},{"$error":"#N/A"}]
[{"$error":"#N/A"},{"$error":"#N/A"},{"$error":"#N/A"},{"$error":"#N/A"},{"$error":"#N/A"}]
[{"$error":"#N/A"},{"$error":"#N/A"},{"$error":"#N/A"},{"$error":"#N/A"},{"$error":"#N/A"}]
[{"$error":"#N/A"},{"$error":"#N/A"},{"$error":"#N/A"},{"$error":"#N/A"},{"$error":"#N/A"}]
[{"$error":"#N/A"},{"$error":"#N/A"},{"$error":"#N/A"},{"$error":"#N/A"},{"$error":"#N/A"}]
[{"$error":"#N/A"},{"$error":"#N/A"},{"$error":"#N/A"},{"$error":"#N/A"},{"$error":"#N/A"}]
[{"$error":"#N/A"},{"$error":"#N/A"},{"$error":"#N/A"},{"$error":"#N/A"},{"$error":"#N/A"}]
[{"$error":"#N/A"},{"$error":"#N/A"},{"$error":"#N/A"},{"$error":"#N/A"},{"$error":"#N/A"}]
[{"$error":"#N/A"},{"$error":"#N/A"},{"$error":"#N/A"},{"$error":"#N/A"},{"$error":"#N/A"}]
[{"$error":"#N/A"},{"$error":"#N/A"},{"$error":"#N/A"},{"$error":"#N/A"},{"$error":"#N/A"}]
[{"$error":"#N/A"},{"$error":"#N/A"},{"$error":"#N/A"},{"$error":"#N/A"},{"$error":"#N/A"}]
[{"$error":"#N/A"},{"$error":"#N/A"},{"$error":"#N/A"},{"$error":"#N/A"},{"$error":"#N/A"}]
[{"$error":"#N/A"},{"$error":"#N/A"},{"$error":"#N/A"},{"$error":"#N/A"},{"$error":"#N/A"}]
[{"$error":"#N/A"},{"$error":"#N/A"},{"$error":"#N/A"},{"$error":"#N/A"},{"$error":"#N/A"}]
[{"$error":"#N/A"},{"$error":"#N/A"},{"$error":"#N/A"},{"$error":"#N/A"},{"$error":"#N/A"}]
[{"$error":"#N/A"},{"$error":"#N/A"},{"$error":"#N/A"},{"$error":"#N/A"},{"$error":"#N/A"}]
[{"$error":"#N/A"},{"$error":"#N/A"},{"$error":"#N/A"},{"$error":"#N/A"},{"$error":"#N/A"}]
[{"$error":"#N/A"},{"$error":"#N/A"},{"$error":"#N/A"},{"$error":"#N/A"},{"$error":"#N/A"}]
[{"$error":"#N/A"},{"$error":"#N/A"},{"$error":"#N/A"},{"$error":"#N/A"},{"$error":"#N/A"}]
[{"$error":"#N/A"},{"$error":"#N/A"},{"$error":"#N/A"},{"$error":"#N/A"},{"$error":"#N/A"}]
[{"$error":"#N/A"},{"$error":"#N/A"},{"$error":"#N/A"},{"$error":"#N/A"},{"$error":"#N/A"}]
[{"$error":"#N/A"},{"$error":"#N/A"},{"$error":"#N/A"},{"$error":"#N/A"},{"$error":"#N/A"}]
[{"$error":"#N/A"},{"$error":"#N/A"},{"$error":"#N/A"},{"$error":"#N/A"},{"$error":"#N/A"}]
[{"$error":"#N/A"},{"$error":"#N/A"},{"$error":"#N/A"},{"$error":"#N/A"},{"$error":"#N/A"}]
[{"$error":"#N/A"},{"$error":"#N/A"},{"$error":"#N/A"},{"$error":"#N/A"},{"$error":"#N/A"}]
[{"$error":"#N/A"},{"$error":"#N/A"},{"$error":"#N/A"},{"$error":"#N/A"},{"$error":"#N/A"}]
[{"$error":"#N/A"},{"$error":"#N/A"},{"$error":"#N/A"},{"$error":"#N/A"},{"$error":"#N/A"}]
[{"$error":"#N/A"},{"$error":"#N/A"},{"$error":"#N/A"},{"$error":"#N/A"},{"$error":"#N/A"}]
[{"$error":"#N/A"},{"$error":"#N/A"},{"$error":"#N/A"},{"$error":"#N/A"},{"$error":"#N/A"}]
[{"$error":"#N/A"},{"$error":"#N/A"},{"$error":"#N/A"},{"$error":"#N/A"},{"$error":"#N/A"}]
[{"$error":"#N/A"},{"$error":"#N/A"},{"$error":"#N/A"},{"$error":"#N/A"},{"$error":"#N/A"}]
[{"$error":"#N/A"},{"$error":"#N/A"},{"$error":"#N/A"},{"$error":"#N/A"},{"$error":"#N/A"}]
[{"$error":"#N/A"},{"$error":"#N/A"},{"$error":"#N/A"},{"$error":"#N/A"},{"$error":"#N/A"}]
[{"$error":"#N/A"},{"$error":"#N/A"},{"$error":"#N/A"},{"$error":"#N/A"},{"$error":"#N/A"}]
[{"$error":"#N/A"},{"$error":"#N/A"},{"$error":"#N/A"},{"$error":"#N/A"},{"$error":"#N/A"}]
[{"$error":"#N/A"},{"$error":"#N/A"},{"$error":"#N/A"},{"$error":"#N/A"},{"$error":"#N/A"}]
[{"$error":"#N/A"},{"$error":"#N/A"},{"$error":"#N/A"},{"$error":"#N/A"},{"$error":"#N/A"}]
[{"$error":"#N/A"},{"$error":"#N/A"},{"$error":"#N/A"},{"$error":"#N/A"},{"$error":"#N/A"}]
[{"$error":"#N/A"},{"$error":"#N/A"},{"$error":"#N/A"},{"$error":"#N/A"},{"$error":"#N/A"}]
[{"$error":"#N/A"},{"$error":"#N/A"},{"$error":"#N/A"},{"$error":"#N/A"},{"$error":"#N/A"}]
[{"$error":"#N/A"},{"$error":"#N/A"},{"$error":"#N/A"},{"$error":"#N/A"},{"$error":"#N/A"}]
[{"$error":"#N/A"},{"$error":"#N/A"},{"$error":"#N/A"},{"$error":"#N/A"},{"$error":"#N/A"}]
[{"$error":"#N/A"},{"$error":"#N/A"},{"$error":"#N/A"},{"$error":"#N/A"},{"$error":"#N/A"}]
[{"$error":"#N/A"},{"$error":"#N/A"},{"$error":"#N/A"},{"$error":"#N/A"},{"$error":"#N/A"}]
[{"$error":"#N/A"},{"$error":"#N/A"},{"$error":"#N/A"},{"$error":"#N/A"},{"$error":"#N/A"}]
[{"$error":"#N/A"},{"$error":"#N/A"},{"$error":"#N/A"},{"$error":"#N/A"},{"$error":"#N/A"}]
[{"$error":"#N/A"},{"$error":"#N/A"},{"$error":"#N/A"},{"$error":"#N/A"},{"$error":"#N/A"}]
[{"$error":"#N/A"},{"$error":"#N/A"},{"$error":"#N/A"},{"$error":"#N/A"},{"$error":"#N/A"}]
[{"$error":"#N/A"},{"$error":"#N/A"},{"$error":"#N/A"},{"$error":"#N/A"},{"$error":"#N/A"}]
[{"$error":"#N/A"},{"$error":"#N/A"},{"$error":"#N/A"},{"$error":"#N/A"},{"$error":"#N/A"}]
[{"$error":"#N/A"},{"$error":"#N/A"},{"$error":"#N/A"},{"$error":"#N/A"},{"$error":"#N/A"}]
[{"$error":"#N/A"},{"$error":"#N/A"},{"$error":"#N/A"},{"$error":"#N/A"},{"$error":"#N/A"}]
[{"$error":"#N/A"},{"$error":"#N/A"},{"$error":"#N/A"},{"$error":"#N/A"},{"$error":"#N/A"}]
[{"$error":"#N/A"},{"$error":"#N/A"},{"$error":"#N/A"},{"$error":"#N/A"},{"$error":"#N/A"}]
[{"$error":"#N/A"},{"$error":"#N/A"},{"$error":"#N/A"},{"$error":"#N/A"},{"$error":"#N/A"}]
[{"$error":"#N/A"},{"$error":"#N/A"},{"$error":"#N/A"},{"$error":"#N/A"},{"$error":"#N/A"}]
[{"$error":"#N/A"},{"$error":"#N/A"},{"$error":"#N/A"},{"$error":"#N/A"},{"$error":"#N/A"}]
[{"$error":"#N/A"},{"$error":"#N/A"},{"$error":"#N/A"},{"$error":"#N/A"},{"$error":"#N/A"}]
[{"$error":"#N/A"},{"$error":"#N/A"},{"$error":"#N/A"},{"$error":"#N/A"},{"$error":"#N/A"}]
[{"$error":"#N/A"},{"$error":"#N/A"},{"$error":"#N/A"},{"$error":"#N/A"},{"$error":"#N/A"}]
[{"$error":"#N/A"},{"$error":"#N/A"},{"$error":"#N/A"},{"$error":"#N/A"},{"$error":"#N/A"}]
[{"$error":"#N/A"},{"$error":"#N/A"},{"$error":"#N/A"},{"$error":"#N/A"},{"$error":"#N/A"}]
[{"$error":"#N/A"},{"$error":"#N/A"},{"$error":"#N/A"},{"$error":"#N/A"},{"$error":"#N/A"}]
[{"$error":"#N/A"},{"$error":"#N/A"},{"$error":"#N/A"},{"$error":"#N/A"},{"$error":"#N/A"}]
[{"$error":"#N/A"},{"$error":"#N/A"},{"$error":"#N/A"},{"$error":"#N/A"},{"$error":"#N/A"}]
[{"$error":"#N/A"},{"$error":"#N/A"},{"$error":"#N/A"},{"$error":"#N/A"},{"$error":"#N/A"}]
[{"$error":"#N/A"},{"$error":"#N/A"},{"$error":"#N/A"},{"$error":"#N/A"},{"$error":"#N/A"}]
[{"$error":"#N/A"},{"$error":"#N/A"},{"$error":"#N/A"},{"$error":"#N/A"},{"$error":"#N/A"}]
[{"$error":"#N/A"},{"$error":"#N/A"},{"$error":"#N/A"},{"$error":"#N/A"},{"$error":"#N/A"}]
[{"$error":"#N/A"},{"$error":"#N/A"},{"$error":"#N/A"},{"$error":"#N/A"},{"$error":"#N/A"}]
[{"$error":"#N/A"},{"$error":"#N/A"},{"$error":"#N/A"},{"$error":"#N/A"},{"$error":"#N/A"}]
[{"$error":"#N/A"},{"$error":"#N/A"},{"$error":"#N/A"},{"$error":"#N/A"},{"$error":"#N/A"}]
[{"$error":"#N/A"},{"$error":"#N/A"},{"$error":"#N/A"},{"$error":"#N/A"},{"$error":"#N/A"}]
[{"$error":"#N/A"},{"$error":"#N/A"},{"$error":"#N/A"},{"$error":"#N/A"},{"$error":"#N/A"}]
[{"$error":"#N/A"},{"$error":"#N/A"},{"$error":"#N/A"},{"$error":"#N/A"},{"$error":"#N/A"}]
[{"$error":"#N/A"},{"$error":"#N/A"},{"$error":"#N/A"},{"$error":"#N/A"},{"$error":"#N/A"}]
[{"$error":"#N/A"},{"$error":"#N/A"},{"$error":"#N/A"},{"$error":"#N/A"},{"$error":"#N/A"}]
[{"$error":"#N/A"},{"$error":"#N/A"},{"$error":"#N/A"},{"$error":"#N/A"},{"$error":"#N/A"}]
[{"$error":"#N/A"},{"$error":"#N/A"},{"$error":"#N/A"},{"$error":"#N/A"},{"$error":"#N/A"}]
[{"$error":"#N/A"},{"$error":"#N/A"},{"$error":"#N/A"},{"$error":"#N/A"},{"$error":"#N/A"}]
[{"$error":"#N/A"},{"$error":"#N/A"},{"$error":"#N/A"},{"$error":"#N/A"},{"$error":"#N/A"}]
[{"$error":"#N/A"},{"$error":"#N/A"},{"$error":"#N/A"},{"$error":"#N/A"},{"$error":"#N/A"}]
[{"$error":"#N/A"},{"$error":"#N/A"},{"$error":"#N/A"},{"$error":"#N/A"},{"$error":"#N/A"}]
[{"$error":"#N/A"},{"$error":"#N/A"},{"$error":"#N/A"},{"$error":"#N/A"},{"$error":"#N/A"}]
[{"$error":"#N/A"},{"$error":"#N/A"},{"$error":"#N/A"},{"$error":"#N/A"},{"$error":"#N/A"}]
[{"$error":"#N/A"},{"$error":"#N/A"},{"$error":"#N/A"},{"$error":"#N/A"},{"$error":"#N/A"}]
[{"$error":"#N/A"},{"$error":"#N/A"},{"$error":"#N/A"},{"$error":"#N/A"},{"$error":"#N/A"}]
[{"$error":"#N/A"},{"$error":"#N/A"},{"$error":"#N/A"},{"$error":"#N/A"},{"$error":"#N/A"}]
[{"$error":"#N/A"},{"$error":"#N/A"},{"$error":"#N/A"},{"$error":"#N/A"},{"$error":"#N/A"}]
[{"$error":"#N/A"},{"$error":"#N/A"},{"$error":"#N/A"},{"$error":"#N/A"},{"$error":"#N/A"}]
[{"$error":"#N/A"},{"$error":"#N/A"},{"$error":"#N/A"},{"$error":"#N/A"},{"$error":"#N/A"}]
[{"$error":"#N/A"},{"$error":"#N/A"},{"$error":"#N/A"},{"$error":"#N/A"},{"$error":"#N/A"}]
[{"$error":"#N/A"},{"$error":"#N/A"},{"$error":"#N/A"},{"$error":"#N/A"},{"$error":"#N/A"}]
[{"$error":"#N/A"},{"$error":"#N/A"},{"$error":"#N/A"},{"$error":"#N/A"},{"$error":"#N/A"}]
[{"$error":"#N/A"},{"$error":"#N/A"},{"$error":"#N/A"},{"$error":"#N/A"},{"$error":"#N/A"}]
[{"$error":"#N/A"},{"$error":"#N/A"},{"$error":"#N/A"},{"$error":"#N/A"},{"$error":"#N/A"}]
[{"$error":"#N/A"},{"$error":"#N/A"},{"$error":"#N/A"},{"$error":"#N/A"},{"$error":"#N/A"}]
[{"$error":"#N/A"},{"$error":"#N/A"},{"$error":"#N/A"},{"$error":"#N/A"},{"$error":"#N/A"}]
[{"$error":"#N/A"},{"$error":"#N/A"},{"$error":"#N/A"},{"$error":"#N/A"},{"$error":"#N/A"}]
[{"$error":"#N/A"},{"$error":"#N/A"},{"$error":"#N/A"},{"$error":"#N/A"},{"$error":"#N/A"}]
[{"$error":"#N/A"},{"$error":"#N/A"},{"$error":"#N/A"},{"$error":"#N/A"},{"$error":"#N/A"}]
[{"$error":"#N/A"},{"$error":"#N/A"},{"$error":"#N/A"},{"$error":"#N/A"},{"$error":"#N/A"}]
[{"$error":"#N/A"},{"$error":"#N/A"},{"$error":"#N/A"},{"$error":"#N/A"},{"$error":"#N/A"}]
[{"$error":"#N/A"},{"$error":"#N/A"},{"$error":"#N/A"},{"$error":"#N/A"},{"$error":"#N/A"}]
[{"$error":"#N/A"},{"$error":"#N/A"},{"$error":"#N/A"},{"$error":"#N/A"},{"$error":"#N/A"}]
[{"$error":"#N/A"},{"$error":"#N/A"},{"$error":"#N/A"},{"$error":"#N/A"},{"$error":"#N/A"}]
[{"$error":"#N/A"},{"$error":"#N/A"},{"$error":"#N/A"},{"$error":"#N/A"},{"$error":"#N/A"}]
[{"$error":"#N/A"},{"$error":"#N/A"},{"$error":"#N/A"},{"$error":"#N/A"},{"$error":"#N/A"}]
[{"$error":"#N/A"},{"$error":"#N/A"},{"$error":"#N/A"},{"$error":"#N/A"},{"$error":"#N/A"}]
[{"$error":"#N/A"},{"$error":"#N/A"},{"$error":"#N/A"},{"$error":"#N/A"},{"$error":"#N/A"}]
[{"$error":"#N/A"},{"$error":"#N/A"},{"$error":"#N/A"},{"$error":"#N/A"},{"$error":"#N/A"}]
[{"$error":"#N/A"},{"$error":"#N/A"},{"$error":"#N/A"},{"$error":"#N/A"},{"$error":"#N/A"}]
[{"$error":"#N/A"},{"$error":"#N/A"},{"$error":"#N/A"},{"$error":"#N/A"},{"$error":"#N/A"}]
[{"$error":"#N/A"},{"$error":"#N/A"},{"$error":"#N/A"},{"$error":"#N/A"},{"$error":"#N/A"}]
[{"$error":"#N/A"},{"$error":"#N/A"},{"$error":"#N/A"},{"$error":"#N/A"},{"$error":"#N/A"}]
[{"$error":"#N/A"},{"$error":"#N/A"},{"$error":"#N/A"},{"$error":"#N/A"},{"$error":"#N/A"}]
[{"$error":"#N/A"},{"$error":"#N/A"},{"$error":"#N/A"},{"$error":"#N/A"},{"$error":"#N/A"}]
[{"$error":"#N/A"},{"$error":"#N/A"},{"$error":"#N/A"},{"$error":"#N/A"},{"$error":"#N/A"}]
[{"$error":"#N/A"},{"$error":"#N/A"},{"$error":"#N/A"},{"$error":"#N/A"},{"$error":"#N/A"}]
[{"$error":"#N/A"},{"$error":"#N/A"},{"$error":"#N/A"},{"$error":"#N/A"},{"$error":"#N/A"}]
[{"$error":"#N/A"},{"$error":"#N/A"},{"$error":"#N/A"},{"$error":"#N/A"},{"$error":"#N/A"}]
[{"$error":"#N/A"},{"$error":"#N/A"},{"$error":"#N/A"},{"$error":"#N/A"},{"$error":"#N/A"}]
[{"$error":"#N/A"},{"$error":"#N/A"},{"$error":"#N/A"},{"$error":"#N/A"},{"$error":"#N/A"}]
[{"$error":"#N/A"},{"$error":"#N/A"},{"$error":"#N/A"},{"$error":"#N/A"},{"$error":"#N/A"}]
[{"$error":"#N/A"},{"$error":"#N/A"},{"$error":"#N/A"},{"$error":"#N/A"},{"$error":"#N/A"}]
[{"$error":"#N/A"},{"$error":"#N/A"},{"$error":"#N/A"},{"$error":"#N/A"},{"$error":"#N/A"}]
[{"$error":"#N/A"},{"$error":"#N/A"},{"$error":"#N/A"},{"$error":"#N/A"},{"$error":"#N/A"}]
[{"$error":"#N/A"},{"$error":"#N/A"},{"$error":"#N/A"},{"$error":"#N/A"},{"$error":"#N/A"}]
[{"$error":"#N/A"},{"$error":"#N/A"},{"$error":"#N/A"},{"$error":"#N/A"},{"$error":"#N/A"}]
[{"$error":"#N/A"},{"$error":"#N/A"},{"$error":"#N/A"},{"$error":"#N/A"},{"$error":"#N/A"}]
[{"$error":"#N/A"},{"$error":"#N/A"},{"$error":"#N/A"},{"$error":"#N/A"},{"$error":"#N/A"}]
[{"$error":"#N/A"},{"$error":"#N/A"},{"$error":"#N/A"},{"$error":"#N/A"},{"$error":"#N/A"}]
[{"$error":"#N/A"},{"$error":"#N/A"},{"$error":"#N/A"},{"$error":"#N/A"},{"$error":"#N/A"}]
[{"$error":"#N/A"},{"$error":"#N/A"},{"$error":"#N/A"},{"$error":"#N/A"},{"$error":"#N/A"}]
[{"$error":"#N/A"},{"$error":"#N/A"},{"$error":"#N/A"},{"$error":"#N/A"},{"$error":"#N/A"}]
[{"$error":"#N/A"},{"$error":"#N/A"},{"$error":"#N/A"},{"$error":"#N/A"},{"$error":"#N/A"}]
[{"$error":"#N/A"},{"$error":"#N/A"},{"$error":"#N/A"},{"$error":"#N/A"},{"$error":"#N/A"}]
[{"$error":"#N/A"},{"$error":"#N/A"},{"$error":"#N/A"},{"$error":"#N/A"},{"$error":"#N/A"}]
[{"$error":"#N/A"},{"$error":"#N/A"},{"$error":"#N/A"},{"$error":"#N/A"},{"$error":"#N/A"}]
[{"$error":"#N/A"},{"$error":"#N/A"},{"$error":"#N/A"},{"$error":"#N/A"},{"$error":"#N/A"}]
[{"$error":"#N/A"},{"$error":"#N/A"},{"$error":"#N/A"},{"$error":"#N/A"},{"$error":"#N/A"}]
[{"$error":"#N/A"},{"$error":"#N/A"},{"$error":"#N/A"},{"$error":"#N/A"},{"$error":"#N/A"}]
[{"$error":"#N/A"},{"$error":"#N/A"},{"$error":"#N/A"},{"$error":"#N/A"},{"$error":"#N/A"}]
[{"$error":"#N/A"},{"$error":"#N/A"},{"$error":"#N/A"},{"$error":"#N/A"},{"$error":"#N/A"}]
[{"$error":"#N/A"},{"$error":"#N/A"},{"$error":"#N/A"},{"$error":"#N/A"},{"$error":"#N/A"}]
[{"$error":"#N/A"},{"$error":"#N/A"},{"$error":"#N/A"},{"$error":"#N/A"},{"$error":"#N/A"}]
[{"$error":"#N/A"},{"$error":"#N/A"},{"$error":"#N/A"},{"$error":"#N/A"},{"$error":"#N/A"}]
[{"$error":"#N/A"},{"$error":"#N/A"},{"$error":"#N/A"},{"$error":"#N/A"},{"$error":"#N/A"}]
[{"$error":"#N/A"},{"$error":"#N/A"},{"$error":"#N/A"},{"$error":"#N/A"},{"$error":"#N/A"}]
[{"$error":"#N/A"},{"$error":"#N/A"},{"$error":"#N/A"},{"$error":"#N/A"},{"$error":"#N/A"}]
[{"$error":"#N/A"},{"$error":"#N/A"},{"$error":"#N/A"},{"$error":"#N/A"},{"$error":"#N/A"}]
[{"$error":"#N/A"},{"$error":"#N/A"},{"$error":"#N/A"},{"$error":"#N/A"},{"$error":"#N/A"}]
[{"$error":"#N/A"},{"$error":"#N/A"},{"$error":"#N/A"},{"$error":"#N/A"},{"$error":"#N/A"}]
[{"$error":"#N/A"},{"$error":"#N/A"},{"$error":"#N/A"},{"$error":"#N/A"},{"$error":"#N/A"}]
[{"$error":"#N/A"},{"$error":"#N/A"},{"$error":"#N/A"},{"$error":"#N/A"},{"$error":"#N/A"}]
[{"$error":"#N/A"},{"$error":"#N/A"},{"$error":"#N/A"},{"$error":"#N/A"},{"$error":"#N/A"}]
[{"$error":"#N/A"},{"$error":"#N/A"},{"$error":"#N/A"},{"$error":"#N/A"},{"$error":"#N/A"}]
[{"$error":"#N/A"},{"$error":"#N/A"},{"$error":"#N/A"},{"$error":"#N/A"},{"$error":"#N/A"}]
[{"$error":"#N/A"},{"$error":"#N/A"},{"$error":"#N/A"},{"$error":"#N/A"},{"$error":"#N/A"}]
[{"$error":"#N/A"},{"$error":"#N/A"},{"$error":"#N/A"},{"$error":"#N/A"},{"$error":"#N/A"}]
[{"$error":"#N/A"},{"$error":"#N/A"},{"$error":"#N/A"},{"$error":"#N/A"},{"$error":"#N/A"}]
[{"$error":"#N/A"},{"$error":"#N/A"},{"$error":"#N/A"},{"$error":"#N/A"},{"$error":"#N/A"}]
[{"$error":"#N/A"},{"$error":"#N/A"},{"$error":"#N/A"},{"$error":"#N/A"},{"$error":"#N/A"}]
[{"$error":"#N/A"},{"$error":"#N/A"},{"$error":"#N/A"},{"$error":"#N/A"},{"$error":"#N/A"}]
[{"$error":"#N/A"},{"$error":"#N/A"},{"$error":"#N/A"},{"$error":"#N/A"},{"$error":"#N/A"}]
[{"$error":"#N/A"},{"$error":"#N/A"},{"$error":"#N/A"},{"$error":"#N/A"},{"$error":"#N/A"}]
[{"$error":"#N/A"},{"$error":"#N/A"},{"$error":"#N/A"},{"$error":"#N/A"},{"$error":"#N/A"}]
[{"$error":"#N/A"},{"$error":"#N/A"},{"$error":"#N/A"},{"$error":"#N/A"},{"$error":"#N/A"}]
[{"$error":"#N/A"},{"$error":"#N/A"},{"$error":"#N/A"},{"$error":"#N/A"},{"$error":"#N/A"}]
[{"$error":"#N/A"},{"$error":"#N/A"},{"$error":"#N/A"},{"$error":"#N/A"},{"$error":"#N/A"}]
[{"$error":"#N/A"},{"$error":"#N/A"},{"$error":"#N/A"},{"$error":"#N/A"},{"$error":"#N/A"}]
[{"$error":"#N/A"},{"$error":"#N/A"},{"$error":"#N/A"},{"$error":"#N/A"},{"$error":"#N/A"}]
[{"$error":"#N/A"},{"$error":"#N/A"},{"$error":"#N/A"},{"$error":"#N/A"},{"$error":"#N/A"}]
[{"$error":"#N/A"},{"$error":"#N/A"},{"$error":"#N/A"},{"$error":"#N/A"},{"$error":"#N/A"}]
[{"$error":"#N/A"},{"$error":"#N/A"},{"$error":"#N/A"},{"$error":"#N/A"},{"$error":"#N/A"}]
[{"$error":"#N/A"},{"$error":"#N/A"},{"$error":"#N/A"},{"$error":"#N/A"},{"$error":"#N/A"}]
[{"$error":"#N/A"},{"$error":"#N/A"},{"$error":"#N/A"},{"$error":"#N/A"},{"$error":"#N/A"}]
[{"$error":"#N/A"},{"$error":"#N/A"},{"$error":"#N/A"},{"$error":"#N/A"},{"$error":"#N/A"}]
[{"$error":"#N/A"},{"$error":"#N/A"},{"$error":"#N/A"},{"$error":"#N/A"},{"$error":"#N/A"}]
[{"$error":"#N/A"},{"$error":"#N/A"},{"$error":"#N/A"},{"$error":"#N/A"},{"$error":"#N/A"}]
[{"$error":"#N/A"},{"$error":"#N/A"},{"$error":"#N/A"},{"$error":"#N/A"},{"$error":"#N/A"}]
[{"$error":"#N/A"},{"$error":"#N/A"},{"$error":"#N/A"},{"$error":"#N/A"},{"$error":"#N/A"}]
[{"$error":"#N/A"},{"$error":"#N/A"},{"$error":"#N/A"},{"$error":"#N/A"},{"$error":"#N/A"}]
[{"$error":"#N/A"},{"$error":"#N/A"},{"$error":"#N/A"},{"$error":"#N/A"},{"$error":"#N/A"}]
[{"$error":"#N/A"},{"$error":"#N/A"},{"$error":"#N/A"},{"$error":"#N/A"},{"$error":"#N/A"}]
[{"$error":"#N/A"},{"$error":"#N/A"},{"$error":"#N/A"},{"$error":"#N/A"},{"$error":"#N/A"}]
[{"$error":"#N/A"},{"$error":"#N/A"},{"$error":"#N/A"},{"$error":"#N/A"},{"$error":"#N/A"}]
[{"$error":"#N/A"},{"$error":"#N/A"},{"$error":"#N/A"},{"$error":"#N/A"},{"$error":"#N/A"}]
[{"$error":"#N/A"},{"$error":"#N/A"},{"$error":"#N/A"},{"$error":"#N/A"},{"$error":"#N/A"}]
[{"$error":"#N/A"},{"$error":"#N/A"},{"$error":"#N/A"},{"$error":"#N/A"},{"$error":"#N/A"}]
[{"$error":"#N/A"},{"$error":"#N/A"},{"$error":"#N/A"},{"$error":"#N/A"},{"$error":"#N/A"}]
[{"$error":"#N/A"},{"$error":"#N/A"},{"$error":"#N/A"},{"$error":"#N/A"},{"$error":"#N/A"}]
[{"$error":"#N/A"},{"$error":"#N/A"},{"$error":"#N/A"},{"$error":"#N/A"},{"$error":"#N/A"}]
[{"$error":"#N/A"},{"$error":"#N/A"},{"$error":"#N/A"},{"$error":"#N/A"},{"$error":"#N/A"}]
[{"$error":"#N/A"},{"$error":"#N/A"},{"$error":"#N/A"},{"$error":"#N/A"},{"$error":"#N/A"}]
[{"$error":"#N/A"},{"$error":"#N/A"},{"$error":"#N/A"},{"$error":"#N/A"},{"$error":"#N/A"}]
[{"$error":"#N/A"},{"$error":"#N/A"},{"$error":"#N/A"},{"$error":"#N/A"},{"$error":"#N/A"}]
[{"$error":"#N/A"},{"$error":"#N/A"},{"$error":"#N/A"},{"$error":"#N/A"},{"$error":"#N/A"}]
[{"$error":"#N/A"},{"$error":"#N/A"},{"$error":"#N/A"},{"$error":"#N/A"},{"$error":"#N/A"}]
[{"$error":"#N/A"},{"$error":"#N/A"},{"$error":"#N/A"},{"$error":"#N/A"},{"$error":"#N/A"}]
[{"$error":"#N/A"},{"$error":"#N/A"},{"$error":"#N/A"},{"$error":"#N/A"},{"$error":"#N/A"}]
[{"$error":"#N/A"},{"$error":"#N/A"},{"$error":"#N/A"},{"$error":"#N/A"},{"$error":"#N/A"}]
[{"$error":"#N/A"},{"$error":"#N/A"},{"$error":"#N/A"},{"$error":"#N/A"},{"$error":"#N/A"}]
[{"$error":"#N/A"},{"$error":"#N/A"},{"$error":"#N/A"},{"$error":"#N/A"},{"$error":"#N/A"}]
[{"$error":"#N/A"},{"$error":"#N/A"},{"$error":"#N/A"},{"$error":"#N/A"},{"$error":"#N/A"}]
[{"$error":"#N/A"},{"$error":"#N/A"},{"$error":"#N/A"},{"$error":"#N/A"},{"$error":"#N/A"}]
[{"$error":"#N/A"},{"$error":"#N/A"},{"$error":"#N/A"},{"$error":"#N/A"},{"$error":"#N/A"}]
[{"$error":"#N/A"},{"$error":"#N/A"},{"$error":"#N/A"},{"$error":"#N/A"},{"$error":"#N/A"}]
[{"$error":"#N/A"},{"$error":"#N/A"},{"$error":"#N/A"},{"$error":"#N/A"},{"$error":"#N/A"}]
[{"$error":"#N/A"},{"$error":"#N/A"},{"$error":"#N/A"},{"$error":"#N/A"},{"$error":"#N/A"}]
[{"$error":"#N/A"},{"$error":"#N/A"},{"$error":"#N/A"},{"$error":"#N/A"},{"$error":"#N/A"}]
[{"$error":"#N/A"},{"$error":"#N/A"},{"$error":"#N/A"},{"$error":"#N/A"},{"$error":"#N/A"}]
[{"$error":"#N/A"},{"$error":"#N/A"},{"$error":"#N/A"},{"$error":"#N/A"},{"$error":"#N/A"}]
[{"$error":"#N/A"},{"$error":"#N/A"},{"$error":"#N/A"},{"$error":"#N/A"},{"$error":"#N/A"}]
[{"$error":"#N/A"},{"$error":"#N/A"},{"$error":"#N/A"},{"$error":"#N/A"},{"$error":"#N/A"}]
[{"$error":"#N/A"},{"$error":"#N/A"},{"$error":"#N/A"},{"$error":"#N/A"},{"$error":"#N/A"}]
[{"$error":"#N/A"},{"$error":"#N/A"},{"$error":"#N/A"},{"$error":"#N/A"},{"$error":"#N/A"}]
[{"$error":"#N/A"},{"$error":"#N/A"},{"$error":"#N/A"},{"$error":"#N/A"},{"$error":"#N/A"}]
[{"$error":"#N/A"},{"$error":"#N/A"},{"$error":"#N/A"},{"$error":"#N/A"},{"$error":"#N/A"}]
[{"$error":"#N/A"},{"$error":"#N/A"},{"$error":"#N/A"},{"$error":"#N/A"},{"$error":"#N/A"}]
[{"$error":"#N/A"},{"$error":"#N/A"},{"$error":"#N/A"},{"$error":"#N/A"},{"$error":"#N/A"}]
[{"$error":"#N/A"},{"$error":"#N/A"},{"$error":"#N/A"},{"$error":"#N/A"},{"$error":"#N/A"}]
[{"$error":"#N/A"},{"$error":"#N/A"},{"$error":"#N/A"},{"$error":"#N/A"},{"$error":"#N/A"}]
[{"$error":"#N/A"},{"$error":"#N/A"},{"$error":"#N/A"},{"$error":"#N/A"},{"$error":"#N/A"}]
[{"$error":"#N/A"},{"$error":"#N/A"},{"$error":"#N/A"},{"$error":"#N/A"},{"$error":"#N/A"}]
[{"$error":"#N/A"},{"$error":"#N/A"},{"$error":"#N/A"},{"$error":"#N/A"},{"$error":"#N/A"}]
[{"$error":"#N/A"},{"$error":"#N/A"},{"$error":"#N/A"},{"$error":"#N/A"},{"$error":"#N/A"}]
[{"$error":"#N/A"},{"$error":"#N/A"},{"$error":"#N/A"},{"$error":"#N/A"},{"$error":"#N/A"}]
[{"$error":"#N/A"},{"$error":"#N/A"},{"$error":"#N/A"},{"$error":"#N/A"},{"$error":"#N/A"}]
[{"$error":"#N/A"},{"$error":"#N/A"},{"$error":"#N/A"},{"$error":"#N/A"},{"$error":"#N/A"}]
[{"$error":"#N/A"},{"$error":"#N/A"},{"$error":"#N/A"},{"$error":"#N/A"},{"$error":"#N/A"}]
[{"$error":"#N/A"},{"$error":"#N/A"},{"$error":"#N/A"},{"$error":"#N/A"},{"$error":"#N/A"}]
[{"$error":"#N/A"},{"$error":"#N/A"},{"$error":"#N/A"},{"$error":"#N/A"},{"$error":"#N/A"}]
[{"$error":"#N/A"},{"$error":"#N/A"},{"$error":"#N/A"},{"$error":"#N/A"},{"$error":"#N/A"}]
[{"$error":"#N/A"},{"$error":"#N/A"},{"$error":"#N/A"},{"$error":"#N/A"},{"$error":"#N/A"}]
[{"$error":"#N/A"},{"$error":"#N/A"},{"$error":"#N/A"},{"$error":"#N/A"},{"$error":"#N/A"}]
[{"$error":"#N/A"},{"$error":"#N/A"},{"$error":"#N/A"},{"$error":"#N/A"},{"$error":"#N/A"}]
[{"$error":"#N/A"},{"$error":"#N/A"},{"$error":"#N/A"},{"$error":"#N/A"},{"$error":"#N/A"}]
[{"$error":"#N/A"},{"$error":"#N/A"},{"$error":"#N/A"},{"$error":"#N/A"},{"$error":"#N/A"}]
[{"$error":"#N/A"},{"$error":"#N/A"},{"$error":"#N/A"},{"$error":"#N/A"},{"$error":"#N/A"}]
[{"$error":"#N/A"},{"$error":"#N/A"},{"$error":"#N/A"},{"$error":"#N/A"},{"$error":"#N/A"}]
[{"$error":"#N/A"},{"$error":"#N/A"},{"$error":"#N/A"},{"$error":"#N/A"},{"$error":"#N/A"}]
[{"$error":"#N/A"},{"$error":"#N/A"},{"$error":"#N/A"},{"$error":"#N/A"},{"$error":"#N/A"}]
[{"$error":"#N/A"},{"$error":"#N/A"},{"$error":"#N/A"},{"$error":"#N/A"},{"$error":"#N/A"}]
[{"$error":"#N/A"},{"$error":"#N/A"},{"$error":"#N/A"},{"$error":"#N/A"},{"$error":"#N/A"}]
[{"$error":"#N/A"},{"$error":"#N/A"},{"$error":"#N/A"},{"$error":"#N/A"},{"$error":"#N/A"}]
[{"$error":"#N/A"},{"$error":"#N/A"},{"$error":"#N/A"},{"$error":"#N/A"},{"$error":"#N/A"}]
[{"$error":"#N/A"},{"$error":"#N/A"},{"$error":"#N/A"},{"$error":"#N/A"},{"$error":"#N/A"}]
[{"$error":"#N/A"},{"$error":"#N/A"},{"$error":"#N/A"},{"$error":"#N/A"},{"$error":"#N/A"}]
[{"$error":"#N/A"},{"$error":"#N/A"},{"$error":"#N/A"},{"$error":"#N/A"},{"$error":"#N/A"}]
[{"$error":"#N/A"},{"$error":"#N/A"},{"$error":"#N/A"},{"$error":"#N/A"},{"$error":"#N/A"}]
[{"$error":"#N/A"},{"$error":"#N/A"},{"$error":"#N/A"},{"$error":"#N/A"},{"$error":"#N/A"}]
[{"$error":"#N/A"},{"$error":"#N/A"},{"$error":"#N/A"},{"$error":"#N/A"},{"$error":"#N/A"}]
[{"$error":"#N/A"},{"$error":"#N/A"},{"$error":"#N/A"},{"$error":"#N/A"},{"$error":"#N/A"}]
[{"$error":"#N/A"},{"$error":"#N/A"},{"$error":"#N/A"},{"$error":"#N/A"},{"$error":"#N/A"}]
[{"$error":"#N/A"},{"$error":"#N/A"},{"$error":"#N/A"},{"$error":"#N/A"},{"$error":"#N/A"}]
[{"$error":"#N/A"},{"$error":"#N/A"},{"$error":"#N/A"},{"$error":"#N/A"},{"$error":"#N/A"}]
[{"$error":"#N/A"},{"$error":"#N/A"},{"$error":"#N/A"},{"$error":"#N/A"},{"$error":"#N/A"}]
[{"$error":"#N/A"},{"$error":"#N/A"},{"$error":"#N/A"},{"$error":"#N/A"},{"$error":"#N/A"}]
[{"$error":"#N/A"},{"$error":"#N/A"},{"$error":"#N/A"},{"$error":"#N/A"},{"$error":"#N/A"}]
[{"$error":"#N/A"},{"$error":"#N/A"},{"$error":"#N/A"},{"$error":"#N/A"},{"$error":"#N/A"}]
[{"$error":"#N/A"},{"$error":"#N/A"},{"$error":"#N/A"},{"$error":"#N/A"},{"$error":"#N/A"}]
[{"$error":"#N/A"},{"$error":"#N/A"},{"$error":"#N/A"},{"$error":"#N/A"},{"$error":"#N/A"}]
[{"$error":"#N/A"},{"$error":"#N/A"},{"$error":"#N/A"},{"$error":"#N/A"},{"$error":"#N/A"}]
[{"$error":"#N/A"},{"$error":"#N/A"},{"$error":"#N/A"},{"$error":"#N/A"},{"$error":"#N/A"}]
[{"$error":"#N/A"},{"$error":"#N/A"},{"$error":"#N/A"},{"$error":"#N/A"},{"$error":"#N/A"}]
[{"$error":"#N/A"},{"$error":"#N/A"},{"$error":"#N/A"},{"$error":"#N/A"},{"$error":"#N/A"}]
[{"$error":"#N/A"},{"$error":"#N/A"},{"$error":"#N/A"},{"$error":"#N/A"},{"$error":"#N/A"}]
[{"$error":"#N/A"},{"$error":"#N/A"},{"$error":"#N/A"},{"$error":"#N/A"},{"$error":"#N/A"}]
[{"$error":"#N/A"},{"$error":"#N/A"},{"$error":"#N/A"},{"$error":"#N/A"},{"$error":"#N/A"}]
[{"$error":"#N/A"},{"$error":"#N/A"},{"$error":"#N/A"},{"$error":"#N/A"},{"$error":"#N/A"}]
[{"$error":"#N/A"},{"$error":"#N/A"},{"$error":"#N/A"},{"$error":"#N/A"},{"$error":"#N/A"}]
[{"$error":"#N/A"},{"$error":"#N/A"},{"$error":"#N/A"},{"$error":"#N/A"},{"$error":"#N/A"}]
[{"$error":"#N/A"},{"$error":"#N/A"},{"$error":"#N/A"},{"$error":"#N/A"},{"$error":"#N/A"}]
[{"$error":"#N/A"},{"$error":"#N/A"},{"$error":"#N/A"},{"$error":"#N/A"},{"$error":"#N/A"}]
[{"$error":"#N/A"},{"$error":"#N/A"},{"$error":"#N/A"},{"$error":"#N/A"},{"$error":"#N/A"}]
[{"$error":"#N/A"},{"$error":"#N/A"},{"$error":"#N/A"},{"$error":"#N/A"},{"$error":"#N/A"}]
[{"$error":"#N/A"},{"$error":"#N/A"},{"$error":"#N/A"},{"$error":"#N/A"},{"$error":"#N/A"}]
[{"$error":"#N/A"},{"$error":"#N/A"},{"$error":"#N/A"},{"$error":"#N/A"},{"$error":"#N/A"}]
[{"$error":"#N/A"},{"$error":"#N/A"},{"$error":"#N/A"},{"$error":"#N/A"},{"$error":"#N/A"}]
[{"$error":"#N/A"},{"$error":"#N/A"},{"$error":"#N/A"},{"$error":"#N/A"},{"$error":"#N/A"}]
[{"$error":"#N/A"},{"$error":"#N/A"},{"$error":"#N/A"},{"$error":"#N/A"},{"$error":"#N/A"}]
[{"$error":"#N/A"},{"$error":"#N/A"},{"$error":"#N/A"},{"$error":"#N/A"},{"$error":"#N/A"}]
[{"$error":"#N/A"},{"$error":"#N/A"},{"$error":"#N/A"},{"$error":"#N/A"},{"$error":"#N/A"}]
[{"$error":"#N/A"},{"$error":"#N/A"},{"$error":"#N/A"},{"$error":"#N/A"},{"$error":"#N/A"}]
[{"$error":"#N/A"},{"$error":"#N/A"},{"$error":"#N/A"},{"$error":"#N/A"},{"$error":"#N/A"}]
[{"$error":"#N/A"},{"$error":"#N/A"},{"$error":"#N/A"},{"$error":"#N/A"},{"$error":"#N/A"}]
[{"$error":"#N/A"},{"$error":"#N/A"},{"$error":"#N/A"},{"$error":"#N/A"},{"$error":"#N/A"}]
[{"$error":"#N/A"},{"$error":"#N/A"},{"$error":"#N/A"},{"$error":"#N/A"},{"$error":"#N/A"}]
[{"$error":"#N/A"},{"$error":"#N/A"},{"$error":"#N/A"},{"$error":"#N/A"},{"$error":"#N/A"}]
[{"$error":"#N/A"},{"$error":"#N/A"},{"$error":"#N/A"},{"$error":"#N/A"},{"$error":"#N/A"}]
[{"$error":"#N/A"},{"$error":"#N/A"},{"$error":"#N/A"},{"$error":"#N/A"},{"$error":"#N/A"}]
[{"$error":"#N/A"},{"$error":"#N/A"},{"$error":"#N/A"},{"$error":"#N/A"},{"$error":"#N/A"}]
[{"$error":"#N/A"},{"$error":"#N/A"},{"$error":"#N/A"},{"$error":"#N/A"},{"$error":"#N/A"}]
[{"$error":"#N/A"},{"$error":"#N/A"},{"$error":"#N/A"},{"$error":"#N/A"},{"$error":"#N/A"}]
[{"$error":"#N/A"},{"$error":"#N/A"},{"$error":"#N/A"},{"$error":"#N/A"},{"$error":"#N/A"}]
[{"$error":"#N/A"},{"$error":"#N/A"},{"$error":"#N/A"},{"$error":"#N/A"},{"$error":"#N/A"}]
[{"$error":"#N/A"},{"$error":"#N/A"},{"$error":"#N/A"},{"$error":"#N/A"},{"$error":"#N/A"}]
[{"$error":"#N/A"},{"$error":"#N/A"},{"$error":"#N/A"},{"$error":"#N/A"},{"$error":"#N/A"}]
[{"$error":"#N/A"},{"$error":"#N/A"},{"$error":"#N/A"},{"$error":"#N/A"},{"$error":"#N/A"}]
[{"$error":"#N/A"},{"$error":"#N/A"},{"$error":"#N/A"},{"$error":"#N/A"},{"$error":"#N/A"}]
[{"$error":"#N/A"},{"$error":"#N/A"},{"$error":"#N/A"},{"$error":"#N/A"},{"$error":"#N/A"}]
[{"$error":"#N/A"},{"$error":"#N/A"},{"$error":"#N/A"},{"$error":"#N/A"},{"$error":"#N/A"}]
[{"$error":"#N/A"},{"$error":"#N/A"},{"$error":"#N/A"},{"$error":"#N/A"},{"$error":"#N/A"}]
[{"$error":"#N/A"},{"$error":"#N/A"},{"$error":"#N/A"},{"$error":"#N/A"},{"$error":"#N/A"}]
[{"$error":"#N/A"},{"$error":"#N/A"},{"$error":"#N/A"},{"$error":"#N/A"},{"$error":"#N/A"}]
[{"$error":"#N/A"},{"$error":"#N/A"},{"$error":"#N/A"},{"$error":"#N/A"},{"$error":"#N/A"}]
[{"$error":"#N/A"},{"$error":"#N/A"},{"$error":"#N/A"},{"$error":"#N/A"},{"$error":"#N/A"}]
[{"$error":"#N/A"},{"$error":"#N/A"},{"$error":"#N/A"},{"$error":"#N/A"},{"$error":"#N/A"}]
[{"$error":"#N/A"},{"$error":"#N/A"},{"$error":"#N/A"},{"$error":"#N/A"},{"$error":"#N/A"}]
[{"$error":"#N/A"},{"$error":"#N/A"},{"$error":"#N/A"},{"$error":"#N/A"},{"$error":"#N/A"}]
[{"$error":"#N/A"},{"$error":"#N/A"},{"$error":"#N/A"},{"$error":"#N/A"},{"$error":"#N/A"}]
[{"$error":"#N/A"},{"$error":"#N/A"},{"$error":"#N/A"},{"$error":"#N/A"},{"$error":"#N/A"}]
[{"$error":"#N/A"},{"$error":"#N/A"},{"$error":"#N/A"},{"$error":"#N/A"},{"$error":"#N/A"}]
[{"$error":"#N/A"},{"$error":"#N/A"},{"$error":"#N/A"},{"$error":"#N/A"},{"$error":"#N/A"}]
[{"$error":"#N/A"},{"$error":"#N/A"},{"$error":"#N/A"},{"$error":"#N/A"},{"$error":"#N/A"}]
[{"$error":"#N/A"},{"$error":"#N/A"},{"$error":"#N/A"},{"$error":"#N/A"},{"$error":"#N/A"}]
[{"$error":"#N/A"},{"$error":"#N/A"},{"$error":"#N/A"},{"$error":"#N/A"},{"$error":"#N/A"}]
[{"$error":"#N/A"},{"$error":"#N/A"},{"$error":"#N/A"},{"$error":"#N/A"},{"$error":"#N/A"}]
[{"$error":"#N/A"},{"$error":"#N/A"},{"$error":"#N/A"},{"$error":"#N/A"},{"$error":"#N/A"}]
[{"$error":"#N/A"},{"$error":"#N/A"},{"$error":"#N/A"},{"$error":"#N/A"},{"$error":"#N/A"}]
[{"$error":"#N/A"},{"$error":"#N/A"},{"$error":"#N/A"},{"$error":"#N/A"},{"$error":"#N/A"}]
[{"$error":"#N/A"},{"$error":"#N/A"},{"$error":"#N/A"},{"$error":"#N/A"},{"$error":"#N/A"}]
[{"$error":"#N/A"},{"$error":"#N/A"},{"$error":"#N/A"},{"$error":"#N/A"},{"$error":"#N/A"}]
[{"$error":"#N/A"},{"$error":"#N/A"},{"$error":"#N/A"},{"$error":"#N/A"},{"$error":"#N/A"}]
[{"$error":"#N/A"},{"$error":"#N/A"},{"$error":"#N/A"},{"$error":"#N/A"},{"$error":"#N/A"}]
[{"$error":"#N/A"},{"$error":"#N/A"},{"$error":"#N/A"},{"$error":"#N/A"},{"$error":"#N/A"}]
[{"$error":"#N/A"},{"$error":"#N/A"},{"$error":"#N/A"},{"$error":"#N/A"},{"$error":"#N/A"}]
[{"$error":"#N/A"},{"$error":"#N/A"},{"$error":"#N/A"},{"$error":"#N/A"},{"$error":"#N/A"}]
[{"$error":"#N/A"},{"$error":"#N/A"},{"$error":"#N/A"},{"$error":"#N/A"},{"$error":"#N/A"}]
[{"$error":"#N/A"},{"$error":"#N/A"},{"$error":"#N/A"},{"$error":"#N/A"},{"$error":"#N/A"}]
[{"$error":"#N/A"},{"$error":"#N/A"},{"$error":"#N/A"},{"$error":"#N/A"},{"$error":"#N/A"}]
[{"$error":"#N/A"},{"$error":"#N/A"},{"$error":"#N/A"},{"$error":"#N/A"},{"$error":"#N/A"}]
[{"$error":"#N/A"},{"$error":"#N/A"},{"$error":"#N/A"},{"$error":"#N/A"},{"$error":"#N/A"}]
[{"$error":"#N/A"},{"$error":"#N/A"},{"$error":"#N/A"},{"$error":"#N/A"},{"$error":"#N/A"}]
[{"$error":"#N/A"},{"$error":"#N/A"},{"$error":"#N/A"},{"$error":"#N/A"},{"$error":"#N/A"}]
[{"$error":"#N/A"},{"$error":"#N/A"},{"$error":"#N/A"},{"$error":"#N/A"},{"$error":"#N/A"}]
[{"$error":"#N/A"},{"$error":"#N/A"},{"$error":"#N/A"},{"$error":"#N/A"},{"$error":"#N/A"}]
[{"$error":"#N/A"},{"$error":"#N/A"},{"$error":"#N/A"},{"$error":"#N/A"},{"$error":"#N/A"}]
[{"$error":"#N/A"},{"$error":"#N/A"},{"$error":"#N/A"},{"$error":"#N/A"},{"$error":"#N/A"}]
[{"$error":"#N/A"},{"$error":"#N/A"},{"$error":"#N/A"},{"$error":"#N/A"},{"$error":"#N/A"}]
[{"$error":"#N/A"},{"$error":"#N/A"},{"$error":"#N/A"},{"$error":"#N/A"},{"$error":"#N/A"}]
[{"$error":"#N/A"},{"$error":"#N/A"},{"$error":"#N/A"},{"$error":"#N/A"},{"$error":"#N/A"}]
[{"$error":"#N/A"},{"$error":"#N/A"},{"$error":"#N/A"},{"$error":"#N/A"},{"$error":"#N/A"}]
[{"$error":"#N/A"},{"$error":"#N/A"},{"$error":"#N/A"},{"$error":"#N/A"},{"$error":"#N/A"}]
[{"$error":"#N/A"},{"$error":"#N/A"},{"$error":"#N/A"},{"$error":"#N/A"},{"$error":"#N/A"}]
[{"$error":"#N/A"},{"$error":"#N/A"},{"$error":"#N/A"},{"$error":"#N/A"},{"$error":"#N/A"}]
[{"$error":"#N/A"},{"$error":"#N/A"},{"$error":"#N/A"},{"$error":"#N/A"},{"$error":"#N/A"}]
[{"$error":"#N/A"},{"$error":"#N/A"},{"$error":"#N/A"},{"$error":"#N/A"},{"$error":"#N/A"}]
[{"$error":"#N/A"},{"$error":"#N/A"},{"$error":"#N/A"},{"$error":"#N/A"},{"$error":"#N/A"}]
[{"$error":"#N/A"},{"$error":"#N/A"},{"$error":"#N/A"},{"$error":"#N/A"},{"$error":"#N/A"}]
[{"$error":"#N/A"},{"$error":"#N/A"},{"$error":"#N/A"},{"$error":"#N/A"},{"$error":"#N/A"}]
[{"$error":"#N/A"},{"$error":"#N/A"},{"$error":"#N/A"},{"$error":"#N/A"},{"$error":"#N/A"}]
[{"$error":"#N/A"},{"$error":"#N/A"},{"$error":"#N/A"},{"$error":"#N/A"},{"$error":"#N/A"}]
[{"$error":"#N/A"},{"$error":"#N/A"},{"$error":"#N/A"},{"$error":"#N/A"},{"$error":"#N/A"}]
[{"$error":"#N/A"},{"$error":"#N/A"},{"$error":"#N/A"},{"$error":"#N/A"},{"$error":"#N/A"}]
[{"$error":"#N/A"},{"$error":"#N/A"},{"$error":"#N/A"},{"$error":"#N/A"},{"$error":"#N/A"}]
[{"$error":"#N/A"},{"$error":"#N/A"},{"$error":"#N/A"},{"$error":"#N/A"},{"$error":"#N/A"}]
[{"$error":"#N/A"},{"$error":"#N/A"},{"$error":"#N/A"},{"$error":"#N/A"},{"$error":"#N/A"}]
[{"$error":"#N/A"},{"$error":"#N/A"},{"$error":"#N/A"},{"$error":"#N/A"},{"$error":"#N/A"}]
[{"$error":"#N/A"},{"$error":"#N/A"},{"$error":"#N/A"},{"$error":"#N/A"},{"$error":"#N/A"}]
[{"$error":"#N/A"},{"$error":"#N/A"},{"$error":"#N/A"},{"$error":"#N/A"},{"$error":"#N/A"}]
[{"$error":"#N/A"},{"$error":"#N/A"},{"$error":"#N/A"},{"$error":"#N/A"},{"$error":"#N/A"}]
[{"$error":"#N/A"},{"$error":"#N/A"},{"$error":"#N/A"},{"$error":"#N/A"},{"$error":"#N/A"}]
[{"$error":"#N/A"},{"$error":"#N/A"},{"$error":"#N/A"},{"$error":"#N/A"},{"$error":"#N/A"}]
[{"$error":"#N/A"},{"$error":"#N/A"},{"$error":"#N/A"},{"$error":"#N/A"},{"$error":"#N/A"}]
[{"$error":"#N/A"},{"$error":"#N/A"},{"$error":"#N/A"},{"$error":"#N/A"},{"$error":"#N/A"}]
[{"$error":"#N/A"},{"$error":"#N/A"},{"$error":"#N/A"},{"$error":"#N/A"},{"$error":"#N/A"}]
[{"$error":"#N/A"},{"$error":"#N/A"},{"$error":"#N/A"},{"$error":"#N/A"},{"$error":"#N/A"}]
[{"$error":"#N/A"},{"$error":"#N/A"},{"$error":"#N/A"},{"$error":"#N/A"},{"$error":"#N/A"}]
[{"$error":"#N/A"},{"$error":"#N/A"},{"$error":"#N/A"},{"$error":"#N/A"},{"$error":"#N/A"}]
[{"$error":"#N/A"},{"$error":"#N/A"},{"$error":"#N/A"},{"$error":"#N/A"},{"$error":"#N/A"}]
[{"$error":"#N/A"},{"$error":"#N/A"},{"$error":"#N/A"},{"$error":"#N/A"},{"$error":"#N/A"}]
[{"$error":"#N/A"},{"$error":"#N/A"},{"$error":"#N/A"},{"$error":"#N/A"},{"$error":"#N/A"}]
[{"$error":"#N/A"},{"$error":"#N/A"},{"$error":"#N/A"},{"$error":"#N/A"},{"$error":"#N/A"}]
[{"$error":"#N/A"},{"$error":"#N/A"},{"$error":"#N/A"},{"$error":"#N/A"},{"$error":"#N/A"}]
[{"$error":"#N/A"},{"$error":"#N/A"},{"$error":"#N/A"},{"$error":"#N/A"},{"$error":"#N/A"}]
[{"$error":"#N/A"},{"$error":"#N/A"},{"$error":"#N/A"},{"$error":"#N/A"},{"$error":"#N/A"}]
[{"$error":"#N/A"},{"$error":"#N/A"},{"$error":"#N/A"},{"$error":"#N/A"},{"$error":"#N/A"}]
[{"$error":"#N/A"},{"$error":"#N/A"},{"$error":"#N/A"},{"$error":"#N/A"},{"$error":"#N/A"}]
[{"$error":"#N/A"},{"$error":"#N/A"},{"$error":"#N/A"},{"$error":"#N/A"},{"$error":"#N/A"}]
[{"$error":"#N/A"},{"$error":"#N/A"},{"$error":"#N/A"},{"$error":"#N/A"},{"$error":"#N/A"}]
[{"$error":"#N/A"},{"$error":"#N/A"},{"$error":"#N/A"},{"$error":"#N/A"},{"$error":"#N/A"}]
[{"$error":"#N/A"},{"$error":"#N/A"},{"$error":"#N/A"},{"$error":"#N/A"},{"$error":"#N/A"}]
[{"$error":"#N/A"},{"$error":"#N/A"},{"$error":"#N/A"},{"$error":"#N/A"},{"$error":"#N/A"}]
[{"$error":"#N/A"},{"$error":"#N/A"},{"$error":"#N/A"},{"$error":"#N/A"},{"$error":"#N/A"}]
[{"$error":"#N/A"},{"$error":"#N/A"},{"$error":"#N/A"},{"$error":"#N/A"},{"$error":"#N/A"}]
[{"$error":"#N/A"},{"$error":"#N/A"},{"$error":"#N/A"},{"$error":"#N/A"},{"$error":"#N/A"}]
[{"$error":"#N/A"},{"$error":"#N/A"},{"$error":"#N/A"},{"$error":"#N/A"},{"$error":"#N/A"}]
[{"$error":"#N/A"},{"$error":"#N/A"},{"$error":"#N/A"},{"$error":"#N/A"},{"$error":"#N/A"}]
[{"$error":"#N/A"},{"$error":"#N/A"},{"$error":"#N/A"},{"$error":"#N/A"},{"$error":"#N/A"}]
[{"$error":"#N/A"},{"$error":"#N/A"},{"$error":"#N/A"},{"$error":"#N/A"},{"$error":"#N/A"}]
[{"$error":"#N/A"},{"$error":"#N/A"},{"$error":"#N/A"},{"$error":"#N/A"},{"$error":"#N/A"}]
[{"$error":"#N/A"},{"$error":"#N/A"},{"$error":"#N/A"},{"$error":"#N/A"},{"$error":"#N/A"}]
[{"$error":"#N/A"},{"$error":"#N/A"},{"$error":"#N/A"},{"$error":"#N/A"},{"$error":"#N/A"}]
[{"$error":"#N/A"},{"$error":"#N/A"},{"$error":"#N/A"},{"$error":"#N/A"},{"$error":"#N/A"}]
[{"$error":"#N/A"},{"$error":"#N/A"},{"$error":"#N/A"},{"$error":"#N/A"},{"$error":"#N/A"}]
[{"$error":"#N/A"},{"$error":"#N/A"},{"$error":"#N/A"},{"$error":"#N/A"},{"$error":"#N/A"}]
[{"$error":"#N/A"},{"$error":"#N/A"},{"$error":"#N/A"},{"$error":"#N/A"},{"$error":"#N/A"}]
[{"$error":"#N/A"},{"$error":"#N/A"},{"$error":"#N/A"},{"$error":"#N/A"},{"$error":"#N/A"}]
[{"$error":"#N/A"},{"$error":"#N/A"},{"$error":"#N/A"},{"$error":"#N/A"},{"$error":"#N/A"}]
[{"$error":"#N/A"},{"$error":"#N/A"},{"$error":"#N/A"},{"$error":"#N/A"},{"$error":"#N/A"}]
[{"$error":"#N/A"},{"$error":"#N/A"},{"$error":"#N/A"},{"$error":"#N/A"},{"$error":"#N/A"}]
[{"$error":"#N/A"},{"$error":"#N/A"},{"$error":"#N/A"},{"$error":"#N/A"},{"$error":"#N/A"}]
[{"$error":"#N/A"},{"$error":"#N/A"},{"$error":"#N/A"},{"$error":"#N/A"},{"$error":"#N/A"}]
[{"$error":"#N/A"},{"$error":"#N/A"},{"$error":"#N/A"},{"$error":"#N/A"},{"$error":"#N/A"}]
[{"$error":"#N/A"},{"$error":"#N/A"},{"$error":"#N/A"},{"$error":"#N/A"},{"$error":"#N/A"}]
[{"$error":"#N/A"},{"$error":"#N/A"},{"$error":"#N/A"},{"$error":"#N/A"},{"$error":"#N/A"}]
[{"$error":"#N/A"},{"$error":"#N/A"},{"$error":"#N/A"},{"$error":"#N/A"},{"$error":"#N/A"}]
[{"$error":"#N/A"},{"$error":"#N/A"},{"$error":"#N/A"},{"$error":"#N/A"},{"$error":"#N/A"}]
[{"$error":"#N/A"},{"$error":"#N/A"},{"$error":"#N/A"},{"$error":"#N/A"},{"$error":"#N/A"}]
[{"$error":"#N/A"},{"$error":"#N/A"},{"$error":"#N/A"},{"$error":"#N/A"},{"$error":"#N/A"}]
[{"$error":"#N/A"},{"$error":"#N/A"},{"$error":"#N/A"},{"$error":"#N/A"},{"$error":"#N/A"}]
[{"$error":"#N/A"},{"$error":"#N/A"},{"$error":"#N/A"},{"$error":"#N/A"},{"$error":"#N/A"}]
[{"$error":"#N/A"},{"$error":"#N/A"},{"$error":"#N/A"},{"$error":"#N/A"},{"$error":"#N/A"}]
[{"$error":"#N/A"},{"$error":"#N/A"},{"$error":"#N/A"},{"$error":"#N/A"},{"$error":"#N/A"}]
[{"$error":"#N/A"},{"$error":"#N/A"},{"$error":"#N/A"},{"$error":"#N/A"},{"$error":"#N/A"}]
[{"$error":"#N/A"},{"$error":"#N/A"},{"$error":"#N/A"},{"$error":"#N/A"},{"$error":"#N/A"}]
[{"$error":"#N/A"},{"$error":"#N/A"},{"$error":"#N/A"},{"$error":"#N/A"},{"$error":"#N/A"}]
[{"$error":"#N/A"},{"$error":"#N/A"},{"$error":"#N/A"},{"$error":"#N/A"},{"$error":"#N/A"}]
[{"$error":"#N/A"},{"$error":"#N/A"},{"$error":"#N/A"},{"$error":"#N/A"},{"$error":"#N/A"}]
[{"$error":"#N/A"},{"$error":"#N/A"},{"$error":"#N/A"},{"$error":"#N/A"},{"$error":"#N/A"}]
[{"$error":"#N/A"},{"$error":"#N/A"},{"$error":"#N/A"},{"$error":"#N/A"},{"$error":"#N/A"}]
[{"$error":"#N/A"},{"$error":"#N/A"},{"$error":"#N/A"},{"$error":"#N/A"},{"$error":"#N/A"}]
[{"$error":"#N/A"},{"$error":"#N/A"},{"$error":"#N/A"},{"$error":"#N/A"},{"$error":"#N/A"}]
[{"$error":"#N/A"},{"$error":"#N/A"},{"$error":"#N/A"},{"$error":"#N/A"},{"$error":"#N/A"}]
[{"$error":"#N/A"},{"$error":"#N/A"},{"$error":"#N/A"},{"$error":"#N/A"},{"$error":"#N/A"}]
[{"$error":"#N/A"},{"$error":"#N/A"},{"$error":"#N/A"},{"$error":"#N/A"},{"$error":"#N/A"}]
[{"$error":"#N/A"},{"$error":"#N/A"},{"$error":"#N/A"},{"$error":"#N/A"},{"$error":"#N/A"}]
[{"$error":"#N/A"},{"$error":"#N/A"},{"$error":"#N/A"},{"$error":"#N/A"},{"$error":"#N/A"}]
[{"$error":"#N/A"},{"$error":"#N/A"},{"$error":"#N/A"},{"$error":"#N/A"},{"$error":"#N/A"}]
[{"$error":"#N/A"},{"$error":"#N/A"},{"$error":"#N/A"},{"$error":"#N/A"},{"$error":"#N/A"}]
[{"$error":"#N/A"},{"$error":"#N/A"},{"$error":"#N/A"},{"$error":"#N/A"},{"$error":"#N/A"}]
[{"$error":"#N/A"},{"$error":"#N/A"},{"$error":"#N/A"},{"$error":"#N/A"},{"$error":"#N/A"}]
[{"$error":"#N/A"},{"$error":"#N/A"},{"$error":"#N/A"},{"$error":"#N/A"},{"$error":"#N/A"}]
[{"$error":"#N/A"},{"$error":"#N/A"},{"$error":"#N/A"},{"$error":"#N/A"},{"$error":"#N/A"}]
[{"$error":"#N/A"},{"$error":"#N/A"},{"$error":"#N/A"},{"$error":"#N/A"},{"$error":"#N/A"}]
[{"$error":"#N/A"},{"$error":"#N/A"},{"$error":"#N/A"},{"$error":"#N/A"},{"$error":"#N/A"}]
[{"$error":"#N/A"},{"$error":"#N/A"},{"$error":"#N/A"},{"$error":"#N/A"},{"$error":"#N/A"}]
[{"$error":"#N/A"},{"$error":"#N/A"},{"$error":"#N/A"},{"$error":"#N/A"},{"$error":"#N/A"}]
[{"$error":"#N/A"},{"$error":"#N/A"},{"$error":"#N/A"},{"$error":"#N/A"},{"$error":"#N/A"}]
[{"$error":"#N/A"},{"$error":"#N/A"},{"$error":"#N/A"},{"$error":"#N/A"},{"$error":"#N/A"}]
[{"$error":"#N/A"},{"$error":"#N/A"},{"$error":"#N/A"},{"$error":"#N/A"},{"$error":"#N/A"}]
[{"$error":"#N/A"},{"$error":"#N/A"},{"$error":"#N/A"},{"$error":"#N/A"},{"$error":"#N/A"}]
[{"$error":"#N/A"},{"$error":"#N/A"},{"$error":"#N/A"},{"$error":"#N/A"},{"$error":"#N/A"}]
[{"$error":"#N/A"},{"$error":"#N/A"},{"$error":"#N/A"},{"$error":"#N/A"},{"$error":"#N/A"}]
[{"$error":"#N/A"},{"$error":"#N/A"},{"$error":"#N/A"},{"$error":"#N/A"},{"$error":"#N/A"}]
[{"$error":"#N/A"},{"$error":"#N/A"},{"$error":"#N/A"},{"$error":"#N/A"},{"$error":"#N/A"}]
[{"$error":"#N/A"},{"$error":"#N/A"},{"$error":"#N/A"},{"$error":"#N/A"},{"$error":"#N/A"}]
[{"$error":"#N/A"},{"$error":"#N/A"},{"$error":"#N/A"},{"$error":"#N/A"},{"$error":"#N/A"}]
[{"$error":"#N/A"},{"$error":"#N/A"},{"$error":"#N/A"},{"$error":"#N/A"},{"$error":"#N/A"}]
[{"$error":"#N/A"},{"$error":"#N/A"},{"$error":"#N/A"},{"$error":"#N/A"},{"$error":"#N/A"}]
[{"$error":"#N/A"},{"$error":"#N/A"},{"$error":"#N/A"},{"$error":"#N/A"},{"$error":"#N/A"}]
[{"$error":"#N/A"},{"$error":"#N/A"},{"$error":"#N/A"},{"$error":"#N/A"},{"$error":"#N/A"}]
[{"$error":"#N/A"},{"$error":"#N/A"},{"$error":"#N/A"},{"$error":"#N/A"},{"$error":"#N/A"}]
[{"$error":"#N/A"},{"$error":"#N/A"},{"$error":"#N/A"},{"$error":"#N/A"},{"$error":"#N/A"}]
[{"$error":"#N/A"},{"$error":"#N/A"},{"$error":"#N/A"},{"$error":"#N/A"},{"$error":"#N/A"}]
[{"$error":"#N/A"},{"$error":"#N/A"},{"$error":"#N/A"},{"$error":"#N/A"},{"$error":"#N/A"}]
[{"$error":"#N/A"},{"$error":"#N/A"},{"$error":"#N/A"},{"$error":"#N/A"},{"$error":"#N/A"}]
[{"$error":"#N/A"},{"$error":"#N/A"},{"$error":"#N/A"},{"$error":"#N/A"},{"$error":"#N/A"}]
[{"$error":"#N/A"},{"$error":"#N/A"},{"$error":"#N/A"},{"$error":"#N/A"},{"$error":"#N/A"}]
[{"$error":"#N/A"},{"$error":"#N/A"},{"$error":"#N/A"},{"$error":"#N/A"},{"$error":"#N/A"}]
[{"$error":"#N/A"},{"$error":"#N/A"},{"$error":"#N/A"},{"$error":"#N/A"},{"$error":"#N/A"}]
[{"$error":"#N/A"},{"$error":"#N/A"},{"$error":"#N/A"},{"$error":"#N/A"},{"$error":"#N/A"}]
[{"$error":"#N/A"},{"$error":"#N/A"},{"$error":"#N/A"},{"$error":"#N/A"},{"$error":"#N/A"}]
[{"$error":"#N/A"},{"$error":"#N/A"},{"$error":"#N/A"},{"$error":"#N/A"},{"$error":"#N/A"}]
[{"$error":"#N/A"},{"$error":"#N/A"},{"$error":"#N/A"},{"$error":"#N/A"},{"$error":"#N/A"}]
[{"$error":"#N/A"},{"$error":"#N/A"},{"$error":"#N/A"},{"$error":"#N/A"},{"$error":"#N/A"}]
[{"$error":"#N/A"},{"$error":"#N/A"},{"$error":"#N/A"},{"$error":"#N/A"},{"$error":"#N/A"}]
[{"$error":"#N/A"},{"$error":"#N/A"},{"$error":"#N/A"},{"$error":"#N/A"},{"$error":"#N/A"}]
[{"$error":"#N/A"},{"$error":"#N/A"},{"$error":"#N/A"},{"$error":"#N/A"},{"$error":"#N/A"}]
[{"$error":"#N/A"},{"$error":"#N/A"},{"$error":"#N/A"},{"$error":"#N/A"},{"$error":"#N/A"}]
[{"$error":"#N/A"},{"$error":"#N/A"},{"$error":"#N/A"},{"$error":"#N/A"},{"$error":"#N/A"}]
[{"$error":"#N/A"},{"$error":"#N/A"},{"$error":"#N/A"},{"$error":"#N/A"},{"$error":"#N/A"}]
[{"$error":"#N/A"},{"$error":"#N/A"},{"$error":"#N/A"},{"$error":"#N/A"},{"$error":"#N/A"}]
[{"$error":"#N/A"},{"$error":"#N/A"},{"$error":"#N/A"},{"$error":"#N/A"},{"$error":"#N/A"}]
[{"$error":"#N/A"},{"$error":"#N/A"},{"$error":"#N/A"},{"$error":"#N/A"},{"$error":"#N/A"}]
[{"$error":"#N/A"},{"$error":"#N/A"},{"$error":"#N/A"},{"$error":"#N/A"},{"$error":"#N/A"}]
[{"$error":"#N/A"},{"$error":"#N/A"},{"$error":"#N/A"},{"$error":"#N/A"},{"$error":"#N/A"}]
[{"$error":"#N/A"},{"$error":"#N/A"},{"$error":"#N/A"},{"$error":"#N/A"},{"$error":"#N/A"}]
[{"$error":"#N/A"},{"$error":"#N/A"},{"$error":"#N/A"},{"$error":"#N/A"},{"$error":"#N/A"}]
[{"$error":"#N/A"},{"$error":"#N/A"},{"$error":"#N/A"},{"$error":"#N/A"},{"$error":"#N/A"}]
[{"$error":"#N/A"},{"$error":"#N/A"},{"$error":"#N/A"},{"$error":"#N/A"},{"$error":"#N/A"}]
[{"$error":"#N/A"},{"$error":"#N/A"},{"$error":"#N/A"},{"$error":"#N/A"},{"$error":"#N/A"}]
[{"$error":"#N/A"},{"$error":"#N/A"},{"$error":"#N/A"},{"$error":"#N/A"},{"$error":"#N/A"}]
[{"$error":"#N/A"},{"$error":"#N/A"},{"$error":"#N/A"},{"$error":"#N/A"},{"$error":"#N/A"}]
[{"$error":"#N/A"},{"$error":"#N/A"},{"$error":"#N/A"},{"$error":"#N/A"},{"$error":"#N/A"}]
[{"$error":"#N/A"},{"$error":"#N/A"},{"$error":"#N/A"},{"$error":"#N/A"},{"$error":"#N/A"}]
[{"$error":"#N/A"},{"$error":"#N/A"},{"$error":"#N/A"},{"$error":"#N/A"},{"$error":"#N/A"}]
[{"$error":"#N/A"},{"$error":"#N/A"},{"$error":"#N/A"},{"$error":"#N/A"},{"$error":"#N/A"}]
[{"$error":"#N/A"},{"$error":"#N/A"},{"$error":"#N/A"},{"$error":"#N/A"},{"$error":"#N/A"}]
[{"$error":"#N/A"},{"$error":"#N/A"},{"$error":"#N/A"},{"$error":"#N/A"},{"$error":"#N/A"}]
[{"$error":"#N/A"},{"$error":"#N/A"},{"$error":"#N/A"},{"$error":"#N/A"},{"$error":"#N/A"}]
[{"$error":"#N/A"},{"$error":"#N/A"},{"$error":"#N/A"},{"$error":"#N/A"},{"$error":"#N/A"}]
[{"$error":"#N/A"},{"$error":"#N/A"},{"$error":"#N/A"},{"$error":"#N/A"},{"$error":"#N/A"}]
[{"$error":"#N/A"},{"$error":"#N/A"},{"$error":"#N/A"},{"$error":"#N/A"},{"$error":"#N/A"}]
[{"$error":"#N/A"},{"$error":"#N/A"},{"$error":"#N/A"},{"$error":"#N/A"},{"$error":"#N/A"}]
[{"$error":"#N/A"},{"$error":"#N/A"},{"$error":"#N/A"},{"$error":"#N/A"},{"$error":"#N/A"}]
[{"$error":"#N/A"},{"$error":"#N/A"},{"$error":"#N/A"},{"$error":"#N/A"},{"$error":"#N/A"}]
[{"$error":"#N/A"},{"$error":"#N/A"},{"$error":"#N/A"},{"$error":"#N/A"},{"$error":"#N/A"}]
[{"$error":"#N/A"},{"$error":"#N/A"},{"$error":"#N/A"},{"$error":"#N/A"},{"$error":"#N/A"}]
[{"$error":"#N/A"},{"$error":"#N/A"},{"$error":"#N/A"},{"$error":"#N/A"},{"$error":"#N/A"}]
[{"$error":"#N/A"},{"$error":"#N/A"},{"$error":"#N/A"},{"$error":"#N/A"},{"$error":"#N/A"}]
[{"$error":"#N/A"},{"$error":"#N/A"},{"$error":"#N/A"},{"$error":"#N/A"},{"$error":"#N/A"}]
[{"$error":"#N/A"},{"$error":"#N/A"},{"$error":"#N/A"},{"$error":"#N/A"},{"$error":"#N/A"}]
[{"$error":"#N/A"},{"$error":"#N/A"},{"$error":"#N/A"},{"$error":"#N/A"},{"$error":"#N/A"}]
[{"$error":"#N/A"},{"$error":"#N/A"},{"$error":"#N/A"},{"$error":"#N/A"},{"$error":"#N/A"}]
[{"$error":"#N/A"},{"$error":"#N/A"},{"$error":"#N/A"},{"$error":"#N/A"},{"$error":"#N/A"}]
[{"$error":"#N/A"},{"$error":"#N/A"},{"$error":"#N/A"},{"$error":"#N/A"},{"$error":"#N/A"}]
[{"$error":"#N/A"},{"$error":"#N/A"},{"$error":"#N/A"},{"$error":"#N/A"},{"$error":"#N/A"}]
[{"$error":"#N/A"},{"$error":"#N/A"},{"$error":"#N/A"},{"$error":"#N/A"},{"$error":"#N/A"}]
[{"$error":"#N/A"},{"$error":"#N/A"},{"$error":"#N/A"},{"$error":"#N/A"},{"$error":"#N/A"}]
[{"$error":"#N/A"},{"$error":"#N/A"},{"$error":"#N/A"},{"$error":"#N/A"},{"$error":"#N/A"}]
[{"$error":"#N/A"},{"$error":"#N/A"},{"$error":"#N/A"},{"$error":"#N/A"},{"$error":"#N/A"}]
[{"$error":"#N/A"},{"$error":"#N/A"},{"$error":"#N/A"},{"$error":"#N/A"},{"$error":"#N/A"}]
[{"$error":"#N/A"},{"$error":"#N/A"},{"$error":"#N/A"},{"$error":"#N/A"},{"$error":"#N/A"}]
[{"$error":"#N/A"},{"$error":"#N/A"},{"$error":"#N/A"},{"$error":"#N/A"},{"$error":"#N/A"}]
[{"$error":"#N/A"},{"$error":"#N/A"},{"$error":"#N/A"},{"$error":"#N/A"},{"$error":"#N/A"}]
[{"$error":"#N/A"},{"$error":"#N/A"},{"$error":"#N/A"},{"$error":"#N/A"},{"$error":"#N/A"}]
[{"$error":"#N/A"},{"$error":"#N/A"},{"$error":"#N/A"},{"$error":"#N/A"},{"$error":"#N/A"}]
[{"$error":"#N/A"},{"$error":"#N/A"},{"$error":"#N/A"},{"$error":"#N/A"},{"$error":"#N/A"}]
[{"$error":"#N/A"},{"$error":"#N/A"},{"$error":"#N/A"},{"$error":"#N/A"},{"$error":"#N/A"}]
[{"$error":"#N/A"},{"$error":"#N/A"},{"$error":"#N/A"},{"$error":"#N/A"},{"$error":"#N/A"}]
[{"$error":"#N/A"},{"$error":"#N/A"},{"$error":"#N/A"},{"$error":"#N/A"},{"$error":"#N/A"}]
[{"$error":"#N/A"},{"$error":"#N/A"},{"$error":"#N/A"},{"$error":"#N/A"},{"$error":"#N/A"}]
[{"$error":"#N/A"},{"$error":"#N/A"},{"$error":"#N/A"},{"$error":"#N/A"},{"$error":"#N/A"}]
[{"$error":"#N/A"},{"$error":"#N/A"},{"$error":"#N/A"},{"$error":"#N/A"},{"$error":"#N/A"}]
[{"$error":"#N/A"},{"$error":"#N/A"},{"$error":"#N/A"},{"$error":"#N/A"},{"$error":"#N/A"}]
[{"$error":"#N/A"},{"$error":"#N/A"},{"$error":"#N/A"},{"$error":"#N/A"},{"$error":"#N/A"}]
[{"$error":"#N/A"},{"$error":"#N/A"},{"$error":"#N/A"},{"$error":"#N/A"},{"$error":"#N/A"}]
[{"$error":"#N/A"},{"$error":"#N/A"},{"$error":"#N/A"},{"$error":"#N/A"},{"$error":"#N/A"}]
[{"$error":"#N/A"},{"$error":"#N/A"},{"$error":"#N/A"},{"$error":"#N/A"},{"$error":"#N/A"}]
[{"$error":"#N/A"},{"$error":"#N/A"},{"$error":"#N/A"},{"$error":"#N/A"},{"$error":"#N/A"}]
[{"$error":"#N/A"},{"$error":"#N/A"},{"$error":"#N/A"},{"$error":"#N/A"},{"$error":"#N/A"}]
[{"$error":"#N/A"},{"$error":"#N/A"},{"$error":"#N/A"},{"$error":"#N/A"},{"$error":"#N/A"}]
[{"$error":"#N/A"},{"$error":"#N/A"},{"$error":"#N/A"},{"$error":"#N/A"},{"$error":"#N/A"}]
[{"$error":"#N/A"},{"$error":"#N/A"},{"$error":"#N/A"},{"$error":"#N/A"},{"$error":"#N/A"}]
[{"$error":"#N/A"},{"$error":"#N/A"},{"$error":"#N/A"},{"$error":"#N/A"},{"$error":"#N/A"}]
[{"$error":"#N/A"},{"$error":"#N/A"},{"$error":"#N/A"},{"$error":"#N/A"},{"$error":"#N/A"}]
[{"$error":"#N/A"},{"$error":"#N/A"},{"$error":"#N/A"},{"$error":"#N/A"},{"$error":"#N/A"}]
[{"$error":"#N/A"},{"$error":"#N/A"},{"$error":"#N/A"},{"$error":"#N/A"},{"$error":"#N/A"}]
[{"$error":"#N/A"},{"$error":"#N/A"},{"$error":"#N/A"},{"$error":"#N/A"},{"$error":"#N/A"}]
[{"$error":"#N/A"},{"$error":"#N/A"},{"$error":"#N/A"},{"$error":"#N/A"},{"$error":"#N/A"}]
[{"$error":"#N/A"},{"$error":"#N/A"},{"$error":"#N/A"},{"$error":"#N/A"},{"$error":"#N/A"}]
[{"$error":"#N/A"},{"$error":"#N/A"},{"$error":"#N/A"},{"$error":"#N/A"},{"$error":"#N/A"}]
[{"$error":"#N/A"},{"$error":"#N/A"},{"$error":"#N/A"},{"$error":"#N/A"},{"$error":"#N/A"}]
[{"$error":"#N/A"},{"$error":"#N/A"},{"$error":"#N/A"},{"$error":"#N/A"},{"$error":"#N/A"}]
[{"$error":"#N/A"},{"$error":"#N/A"},{"$error":"#N/A"},{"$error":"#N/A"},{"$error":"#N/A"}]
[{"$error":"#N/A"},{"$error":"#N/A"},{"$error":"#N/A"},{"$error":"#N/A"},{"$error":"#N/A"}]
[{"$error":"#N/A"},{"$error":"#N/A"},{"$error":"#N/A"},{"$error":"#N/A"},{"$error":"#N/A"}]
[{"$error":"#N/A"},{"$error":"#N/A"},{"$error":"#N/A"},{"$error":"#N/A"},{"$error":"#N/A"}]
[{"$error":"#N/A"},{"$error":"#N/A"},{"$error":"#N/A"},{"$error":"#N/A"},{"$error":"#N/A"}]
[{"$error":"#N/A"},{"$error":"#N/A"},{"$error":"#N/A"},{"$error":"#N/A"},{"$error":"#N/A"}]
[{"$error":"#N/A"},{"$error":"#N/A"},{"$error":"#N/A"},{"$error":"#N/A"},{"$error":"#N/A"}]
[{"$error":"#N/A"},{"$error":"#N/A"},{"$error":"#N/A"},{"$error":"#N/A"},{"$error":"#N/A"}]
[{"$error":"#N/A"},{"$error":"#N/A"},{"$error":"#N/A"},{"$error":"#N/A"},{"$error":"#N/A"}]
[{"$error":"#N/A"},{"$error":"#N/A"},{"$error":"#N/A"},{"$error":"#N/A"},{"$error":"#N/A"}]
[{"$error":"#N/A"},{"$error":"#N/A"},{"$error":"#N/A"},{"$error":"#N/A"},{"$error":"#N/A"}]
[{"$error":"#N/A"},{"$error":"#N/A"},{"$error":"#N/A"},{"$error":"#N/A"},{"$error":"#N/A"}]
[{"$error":"#N/A"},{"$error":"#N/A"},{"$error":"#N/A"},{"$error":"#N/A"},{"$error":"#N/A"}]
[{"$error":"#N/A"},{"$error":"#N/A"},{"$error":"#N/A"},{"$error":"#N/A"},{"$error":"#N/A"}]
[{"$error":"#N/A"},{"$error":"#N/A"},{"$error":"#N/A"},{"$error":"#N/A"},{"$error":"#N/A"}]
[{"$error":"#N/A"},{"$error":"#N/A"},{"$error":"#N/A"},{"$error":"#N/A"},{"$error":"#N/A"}]
[{"$error":"#N/A"},{"$error":"#N/A"},{"$error":"#N/A"},{"$error":"#N/A"},{"$error":"#N/A"}]
[{"$error":"#N/A"},{"$error":"#N/A"},{"$error":"#N/A"},{"$error":"#N/A"},{"$error":"#N/A"}]
[{"$error":"#N/A"},{"$error":"#N/A"},{"$error":"#N/A"},{"$error":"#N/A"},{"$error":"#N/A"}]
[{"$error":"#N/A"},{"$error":"#N/A"},{"$error":"#N/A"},{"$error":"#N/A"},{"$error":"#N/A"}]
[{"$error":"#N/A"},{"$error":"#N/A"},{"$error":"#N/A"},{"$error":"#N/A"},{"$error":"#N/A"}]
[{"$error":"#N/A"},{"$error":"#N/A"},{"$error":"#N/A"},{"$error":"#N/A"},{"$error":"#N/A"}]
[{"$error":"#N/A"},{"$error":"#N/A"},{"$error":"#N/A"},{"$error":"#N/A"},{"$error":"#N/A"}]
[{"$error":"#N/A"},{"$error":"#N/A"},{"$error":"#N/A"},{"$error":"#N/A"},{"$error":"#N/A"}]
[{"$error":"#N/A"},{"$error":"#N/A"},{"$error":"#N/A"},{"$error":"#N/A"},{"$error":"#N/A"}]
[{"$error":"#N/A"},{"$error":"#N/A"},{"$error":"#N/A"},{"$error":"#N/A"},{"$error":"#N/A"}]
[{"$error":"#N/A"},{"$error":"#N/A"},{"$error":"#N/A"},{"$error":"#N/A"},{"$error":"#N/A"}]
[{"$error":"#N/A"},{"$error":"#N/A"},{"$error":"#N/A"},{"$error":"#N/A"},{"$error":"#N/A"}]
[{"$error":"#N/A"},{"$error":"#N/A"},{"$error":"#N/A"},{"$error":"#N/A"},{"$error":"#N/A"}]
[{"$error":"#N/A"},{"$error":"#N/A"},{"$error":"#N/A"},{"$error":"#N/A"},{"$error":"#N/A"}]
[{"$error":"#N/A"},{"$error":"#N/A"},{"$error":"#N/A"},{"$error":"#N/A"},{"$error":"#N/A"}]
[{"$error":"#N/A"},{"$error":"#N/A"},{"$error":"#N/A"},{"$error":"#N/A"},{"$error":"#N/A"}]
[{"$error":"#N/A"},{"$error":"#N/A"},{"$error":"#N/A"},{"$error":"#N/A"},{"$error":"#N/A"}]
[{"$error":"#N/A"},{"$error":"#N/A"},{"$error":"#N/A"},{"$error":"#N/A"},{"$error":"#N/A"}]
[{"$error":"#N/A"},{"$error":"#N/A"},{"$error":"#N/A"},{"$error":"#N/A"},{"$error":"#N/A"}]
[{"$error":"#N/A"},{"$error":"#N/A"},{"$error":"#N/A"},{"$error":"#N/A"},{"$error":"#N/A"}]
[{"$error":"#N/A"},{"$error":"#N/A"},{"$error":"#N/A"},{"$error":"#N/A"},{"$error":"#N/A"}]
[{"$error":"#N/A"},{"$error":"#N/A"},{"$error":"#N/A"},{"$error":"#N/A"},{"$error":"#N/A"}]
[{"$error":"#N/A"},{"$error":"#N/A"},{"$error":"#N/A"},{"$error":"#N/A"},{"$error":"#N/A"}]
[{"$error":"#N/A"},{"$error":"#N/A"},{"$error":"#N/A"},{"$error":"#N/A"},{"$error":"#N/A"}]
[{"$error":"#N/A"},{"$error":"#N/A"},{"$error":"#N/A"},{"$error":"#N/A"},{"$error":"#N/A"}]
[{"$error":"#N/A"},{"$error":"#N/A"},{"$error":"#N/A"},{"$error":"#N/A"},{"$error":"#N/A"}]
[{"$error":"#N/A"},{"$error":"#N/A"},{"$error":"#N/A"},{"$error":"#N/A"},{"$error":"#N/A"}]
[{"$error":"#N/A"},{"$error":"#N/A"},{"$error":"#N/A"},{"$error":"#N/A"},{"$error":"#N/A"}]
[{"$error":"#N/A"},{"$error":"#N/A"},{"$error":"#N/A"},{"$error":"#N/A"},{"$error":"#N/A"}]
[{"$error":"#N/A"},{"$error":"#N/A"},{"$error":"#N/A"},{"$error":"#N/A"},{"$error":"#N/A"}]
[{"$error":"#N/A"},{"$error":"#N/A"},{"$error":"#N/A"},{"$error":"#N/A"},{"$error":"#N/A"}]
[{"$error":"#N/A"},{"$error":"#N/A"},{"$error":"#N/A"},{"$error":"#N/A"},{"$error":"#N/A"}]
[{"$error":"#N/A"},{"$error":"#N/A"},{"$error":"#N/A"},{"$error":"#N/A"},{"$error":"#N/A"}]
[{"$error":"#N/A"},{"$error":"#N/A"},{"$error":"#N/A"},{"$error":"#N/A"},{"$error":"#N/A"}]
[{"$error":"#N/A"},{"$error":"#N/A"},{"$error":"#N/A"},{"$error":"#N/A"},{"$error":"#N/A"}]
[{"$error":"#N/A"},{"$error":"#N/A"},{"$error":"#N/A"},{"$error":"#N/A"},{"$error":"#N/A"}]
[{"$error":"#N/A"},{"$error":"#N/A"},{"$error":"#N/A"},{"$error":"#N/A"},{"$error":"#N/A"}]
[{"$error":"#N/A"},{"$error":"#N/A"},{"$error":"#N/A"},{"$error":"#N/A"},{"$error":"#N/A"}]
[{"$error":"#N/A"},{"$error":"#N/A"},{"$error":"#N/A"},{"$error":"#N/A"},{"$error":"#N/A"}]
[{"$error":"#N/A"},{"$error":"#N/A"},{"$error":"#N/A"},{"$error":"#N/A"},{"$error":"#N/A"}]
[{"$error":"#N/A"},{"$error":"#N/A"},{"$error":"#N/A"},{"$error":"#N/A"},{"$error":"#N/A"}]
[{"$error":"#N/A"},{"$error":"#N/A"},{"$error":"#N/A"},{"$error":"#N/A"},{"$error":"#N/A"}]
[{"$error":"#N/A"},{"$error":"#N/A"},{"$error":"#N/A"},{"$error":"#N/A"},{"$error":"#N/A"}]
[{"$error":"#N/A"},{"$error":"#N/A"},{"$error":"#N/A"},{"$error":"#N/A"},{"$error":"#N/A"}]
[{"$error":"#N/A"},{"$error":"#N/A"},{"$error":"#N/A"},{"$error":"#N/A"},{"$error":"#N/A"}]
[{"$error":"#N/A"},{"$error":"#N/A"},{"$error":"#N/A"},{"$error":"#N/A"},{"$error":"#N/A"}]
[{"$error":"#N/A"},{"$error":"#N/A"},{"$error":"#N/A"},{"$error":"#N/A"},{"$error":"#N/A"}]
[{"$error":"#N/A"},{"$error":"#N/A"},{"$error":"#N/A"},{"$error":"#N/A"},{"$error":"#N/A"}]
[{"$error":"#N/A"},{"$error":"#N/A"},{"$error":"#N/A"},{"$error":"#N/A"},{"$error":"#N/A"}]
[{"$error":"#N/A"},{"$error":"#N/A"},{"$error":"#N/A"},{"$error":"#N/A"},{"$error":"#N/A"}]
[{"$error":"#N/A"},{"$error":"#N/A"},{"$error":"#N/A"},{"$error":"#N/A"},{"$error":"#N/A"}]
[{"$error":"#N/A"},{"$error":"#N/A"},{"$error":"#N/A"},{"$error":"#N/A"},{"$error":"#N/A"}]
[{"$error":"#N/A"},{"$error":"#N/A"},{"$error":"#N/A"},{"$error":"#N/A"},{"$error":"#N/A"}]
[{"$error":"#N/A"},{"$error":"#N/A"},{"$error":"#N/A"},{"$error":"#N/A"},{"$error":"#N/A"}]
[{"$error":"#N/A"},{"$error":"#N/A"},{"$error":"#N/A"},{"$error":"#N/A"},{"$error":"#N/A"}]
[{"$error":"#N/A"},{"$error":"#N/A"},{"$error":"#N/A"},{"$error":"#N/A"},{"$error":"#N/A"}]
[{"$error":"#N/A"},{"$error":"#N/A"},{"$error":"#N/A"},{"$error":"#N/A"},{"$error":"#N/A"}]
[{"$error":"#N/A"},{"$error":"#N/A"},{"$error":"#N/A"},{"$error":"#N/A"},{"$error":"#N/A"}]
[{"$error":"#N/A"},{"$error":"#N/A"},{"$error":"#N/A"},{"$error":"#N/A"},{"$error":"#N/A"}]
[{"$error":"#N/A"},{"$error":"#N/A"},{"$error":"#N/A"},{"$error":"#N/A"},{"$error":"#N/A"}]
[{"$error":"#N/A"},{"$error":"#N/A"},{"$error":"#N/A"},{"$error":"#N/A"},{"$error":"#N/A"}]
[{"$error":"#N/A"},{"$error":"#N/A"},{"$error":"#N/A"},{"$error":"#N/A"},{"$error":"#N/A"}]
[{"$error":"#N/A"},{"$error":"#N/A"},{"$error":"#N/A"},{"$error":"#N/A"},{"$error":"#N/A"}]
[{"$error":"#N/A"},{"$error":"#N/A"},{"$error":"#N/A"},{"$error":"#N/A"},{"$error":"#N/A"}]
[{"$error":"#N/A"},{"$error":"#N/A"},{"$error":"#N/A"},{"$error":"#N/A"},{"$error":"#N/A"}]
[{"$error":"#N/A"},{"$error":"#N/A"},{"$error":"#N/A"},{"$error":"#N/A"},{"$error":"#N/A"}]
[{"$error":"#N/A"},{"$error":"#N/A"},{"$error":"#N/A"},{"$error":"#N/A"},{"$error":"#N/A"}]
[{"$error":"#N/A"},{"$error":"#N/A"},{"$error":"#N/A"},{"$error":"#N/A"},{"$error":"#N/A"}]
[{"$error":"#N/A"},{"$error":"#N/A"},{"$error":"#N/A"},{"$error":"#N/A"},{"$error":"#N/A"}]
[{"$error":"#N/A"},{"$error":"#N/A"},{"$error":"#N/A"},{"$error":"#N/A"},{"$error":"#N/A"}]
[{"$error":"#N/A"},{"$error":"#N/A"},{"$error":"#N/A"},{"$error":"#N/A"},{"$error":"#N/A"}]
[{"$error":"#N/A"},{"$error":"#N/A"},{"$error":"#N/A"},{"$error":"#N/A"},{"$error":"#N/A"}]
[{"$error":"#N/A"},{"$error":"#N/A"},{"$error":"#N/A"},{"$error":"#N/A"},{"$error":"#N/A"}]
[{"$error":"#N/A"},{"$error":"#N/A"},{"$error":"#N/A"},{"$error":"#N/A"},{"$error":"#N/A"}]
[{"$error":"#N/A"},{"$error":"#N/A"},{"$error":"#N/A"},{"$error":"#N/A"},{"$error":"#N/A"}]
[{"$error":"#N/A"},{"$error":"#N/A"},{"$error":"#N/A"},{"$error":"#N/A"},{"$error":"#N/A"}]
[{"$error":"#N/A"},{"$error":"#N/A"},{"$error":"#N/A"},{"$error":"#N/A"},{"$error":"#N/A"}]
[{"$error":"#N/A"},{"$error":"#N/A"},{"$error":"#N/A"},{"$error":"#N/A"},{"$error":"#N/A"}]
[{"$error":"#N/A"},{"$error":"#N/A"},{"$error":"#N/A"},{"$error":"#N/A"},{"$error":"#N/A"}]
[{"$error":"#N/A"},{"$error":"#N/A"},{"$error":"#N/A"},{"$error":"#N/A"},{"$error":"#N/A"}]
[{"$error":"#N/A"},{"$error":"#N/A"},{"$error":"#N/A"},{"$error":"#N/A"},{"$error":"#N/A"}]
[{"$error":"#N/A"},{"$error":"#N/A"},{"$error":"#N/A"},{"$error":"#N/A"},{"$error":"#N/A"}]
[{"$error":"#N/A"},{"$error":"#N/A"},{"$error":"#N/A"},{"$error":"#N/A"},{"$error":"#N/A"}]
[{"$error":"#N/A"},{"$error":"#N/A"},{"$error":"#N/A"},{"$error":"#N/A"},{"$error":"#N/A"}]
[{"$error":"#N/A"},{"$error":"#N/A"},{"$error":"#N/A"},{"$error":"#N/A"},{"$error":"#N/A"}]
[{"$error":"#N/A"},{"$error":"#N/A"},{"$error":"#N/A"},{"$error":"#N/A"},{"$error":"#N/A"}]
[{"$error":"#N/A"},{"$error":"#N/A"},{"$error":"#N/A"},{"$error":"#N/A"},{"$error":"#N/A"}]
[{"$error":"#N/A"},{"$error":"#N/A"},{"$error":"#N/A"},{"$error":"#N/A"},{"$error":"#N/A"}]
[{"$error":"#N/A"},{"$error":"#N/A"},{"$error":"#N/A"},{"$error":"#N/A"},{"$error":"#N/A"}]
[{"$error":"#N/A"},{"$error":"#N/A"},{"$error":"#N/A"},{"$error":"#N/A"},{"$error":"#N/A"}]
[{"$error":"#N/A"},{"$error":"#N/A"},{"$error":"#N/A"},{"$error":"#N/A"},{"$error":"#N/A"}]
[{"$error":"#N/A"},{"$error":"#N/A"},{"$error":"#N/A"},{"$error":"#N/A"},{"$error":"#N/A"}]
[{"$error":"#N/A"},{"$error":"#N/A"},{"$error":"#N/A"},{"$error":"#N/A"},{"$error":"#N/A"}]
[{"$error":"#N/A"},{"$error":"#N/A"},{"$error":"#N/A"},{"$error":"#N/A"},{"$error":"#N/A"}]
[{"$error":"#N/A"},{"$error":"#N/A"},{"$error":"#N/A"},{"$error":"#N/A"},{"$error":"#N/A"}]
[{"$error":"#N/A"},{"$error":"#N/A"},{"$error":"#N/A"},{"$error":"#N/A"},{"$error":"#N/A"}]
[{"$error":"#N/A"},{"$error":"#N/A"},{"$error":"#N/A"},{"$error":"#N/A"},{"$error":"#N/A"}]
[{"$error":"#N/A"},{"$error":"#N/A"},{"$error":"#N/A"},{"$error":"#N/A"},{"$error":"#N/A"}]
[{"$error":"#N/A"},{"$error":"#N/A"},{"$error":"#N/A"},{"$error":"#N/A"},{"$error":"#N/A"}]
[{"$error":"#N/A"},{"$error":"#N/A"},{"$error":"#N/A"},{"$error":"#N/A"},{"$error":"#N/A"}]
[{"$error":"#N/A"},{"$error":"#N/A"},{"$error":"#N/A"},{"$error":"#N/A"},{"$error":"#N/A"}]
[{"$error":"#N/A"},{"$error":"#N/A"},{"$error":"#N/A"},{"$error":"#N/A"},{"$error":"#N/A"}]
[{"$error":"#N/A"},{"$error":"#N/A"},{"$error":"#N/A"},{"$error":"#N/A"},{"$error":"#N/A"}]
[{"$error":"#N/A"},{"$error":"#N/A"},{"$error":"#N/A"},{"$error":"#N/A"},{"$error":"#N/A"}]
[{"$error":"#N/A"},{"$error":"#N/A"},{"$error":"#N/A"},{"$error":"#N/A"},{"$error":"#N/A"}]
[{"$error":"#N/A"},{"$error":"#N/A"},{"$error":"#N/A"},{"$error":"#N/A"},{"$error":"#N/A"}]
[{"$error":"#N/A"},{"$error":"#N/A"},{"$error":"#N/A"},{"$error":"#N/A"},{"$error":"#N/A"}]
[{"$error":"#N/A"},{"$error":"#N/A"},{"$error":"#N/A"},{"$error":"#N/A"},{"$error":"#N/A"}]
[{"$error":"#N/A"},{"$error":"#N/A"},{"$error":"#N/A"},{"$error":"#N/A"},{"$error":"#N/A"}]
[{"$error":"#N/A"},{"$error":"#N/A"},{"$error":"#N/A"},{"$error":"#N/A"},{"$error":"#N/A"}]
[{"$error":"#N/A"},{"$error":"#N/A"},{"$error":"#N/A"},{"$error":"#N/A"},{"$error":"#N/A"}]
[{"$error":"#N/A"},{"$error":"#N/A"},{"$error":"#N/A"},{"$error":"#N/A"},{"$error":"#N/A"}]
[{"$error":"#N/A"},{"$error":"#N/A"},{"$error":"#N/A"},{"$error":"#N/A"},{"$error":"#N/A"}]
[{"$error":"#N/A"},{"$error":"#N/A"},{"$error":"#N/A"},{"$error":"#N/A"},{"$error":"#N/A"}]
[{"$error":"#N/A"},{"$error":"#N/A"},{"$error":"#N/A"},{"$error":"#N/A"},{"$error":"#N/A"}]
[{"$error":"#N/A"},{"$error":"#N/A"},{"$error":"#N/A"},{"$error":"#N/A"},{"$error":"#N/A"}]
[{"$error":"#N/A"},{"$error":"#N/A"},{"$error":"#N/A"},{"$error":"#N/A"},{"$error":"#N/A"}]
[{"$error":"#N/A"},{"$error":"#N/A"},{"$error":"#N/A"},{"$error":"#N/A"},{"$error":"#N/A"}]
[{"$error":"#N/A"},{"$error":"#N/A"},{"$error":"#N/A"},{"$error":"#N/A"},{"$error":"#N/A"}]
[{"$error":"#N/A"},{"$error":"#N/A"},{"$error":"#N/A"},{"$error":"#N/A"},{"$error":"#N/A"}]
[{"$error":"#N/A"},{"$error":"#N/A"},{"$error":"#N/A"},{"$error":"#N/A"},{"$error":"#N/A"}]
[{"$error":"#N/A"},{"$error":"#N/A"},{"$error":"#N/A"},{"$error":"#N/A"},{"$error":"#N/A"}]
[{"$error":"#N/A"},{"$error":"#N/A"},{"$error":"#N/A"},{"$error":"#N/A"},{"$error":"#N/A"}]
[{"$error":"#N/A"},{"$error":"#N/A"},{"$error":"#N/A"},{"$error":"#N/A"},{"$error":"#N/A"}]
[{"$error":"#N/A"},{"$error":"#N/A"},{"$error":"#N/A"},{"$error":"#N/A"},{"$error":"#N/A"}]
[{"$error":"#N/A"},{"$error":"#N/A"},{"$error":"#N/A"},{"$error":"#N/A"},{"$error":"#N/A"}]
[{"$error":"#N/A"},{"$error":"#N/A"},{"$error":"#N/A"},{"$error":"#N/A"},{"$error":"#N/A"}]
[{"$error":"#N/A"},{"$error":"#N/A"},{"$error":"#N/A"},{"$error":"#N/A"},{"$error":"#N/A"}]
[{"$error":"#N/A"},{"$error":"#N/A"},{"$error":"#N/A"},{"$error":"#N/A"},{"$error":"#N/A"}]
[{"$error":"#N/A"},{"$error":"#N/A"},{"$error":"#N/A"},{"$error":"#N/A"},{"$error":"#N/A"}]
[{"$error":"#N/A"},{"$error":"#N/A"},{"$error":"#N/A"},{"$error":"#N/A"},{"$error":"#N/A"}]
[{"$error":"#N/A"},{"$error":"#N/A"},{"$error":"#N/A"},{"$error":"#N/A"},{"$error":"#N/A"}]
[{"$error":"#N/A"},{"$error":"#N/A"},{"$error":"#N/A"},{"$error":"#N/A"},{"$error":"#N/A"}]
[{"$error":"#N/A"},{"$error":"#N/A"},{"$error":"#N/A"},{"$error":"#N/A"},{"$error":"#N/A"}]
[{"$error":"#N/A"},{"$error":"#N/A"},{"$error":"#N/A"},{"$error":"#N/A"},{"$error":"#N/A"}]
[{"$error":"#N/A"},{"$error":"#N/A"},{"$error":"#N/A"},{"$error":"#N/A"},{"$error":"#N/A"}]
[{"$error":"#N/A"},{"$error":"#N/A"},{"$error":"#N/A"},{"$error":"#N/A"},{"$error":"#N/A"}]
[{"$error":"#N/A"},{"$error":"#N/A"},{"$error":"#N/A"},{"$error":"#N/A"},{"$error":"#N/A"}]
[{"$error":"#N/A"},{"$error":"#N/A"},{"$error":"#N/A"},{"$error":"#N/A"},{"$error":"#N/A"}]
[{"$error":"#N/A"},{"$error":"#N/A"},{"$error":"#N/A"},{"$error":"#N/A"},{"$error":"#N/A"}]
[{"$error":"#N/A"},{"$error":"#N/A"},{"$error":"#N/A"},{"$error":"#N/A"},{"$error":"#N/A"}]
[{"$error":"#N/A"},{"$error":"#N/A"},{"$error":"#N/A"},{"$error":"#N/A"},{"$error":"#N/A"}]
[{"$error":"#N/A"},{"$error":"#N/A"},{"$error":"#N/A"},{"$error":"#N/A"},{"$error":"#N/A"}]
[{"$error":"#N/A"},{"$error":"#N/A"},{"$error":"#N/A"},{"$error":"#N/A"},{"$error":"#N/A"}]
[{"$error":"#N/A"},{"$error":"#N/A"},{"$error":"#N/A"},{"$error":"#N/A"},{"$error":"#N/A"}]
[{"$error":"#N/A"},{"$error":"#N/A"},{"$error":"#N/A"},{"$error":"#N/A"},{"$error":"#N/A"}]
[{"$error":"#N/A"},{"$error":"#N/A"},{"$error":"#N/A"},{"$error":"#N/A"},{"$error":"#N/A"}]
[{"$error":"#N/A"},{"$error":"#N/A"},{"$error":"#N/A"},{"$error":"#N/A"},{"$error":"#N/A"}]
[{"$error":"#N/A"},{"$error":"#N/A"},{"$error":"#N/A"},{"$error":"#N/A"},{"$error":"#N/A"}]
[{"$error":"#N/A"},{"$error":"#N/A"},{"$error":"#N/A"},{"$error":"#N/A"},{"$error":"#N/A"}]
[{"$error":"#N/A"},{"$error":"#N/A"},{"$error":"#N/A"},{"$error":"#N/A"},{"$error":"#N/A"}]
[{"$error":"#N/A"},{"$error":"#N/A"},{"$error":"#N/A"},{"$error":"#N/A"},{"$error":"#N/A"}]
[{"$error":"#N/A"},{"$error":"#N/A"},{"$error":"#N/A"},{"$error":"#N/A"},{"$error":"#N/A"}]
[{"$error":"#N/A"},{"$error":"#N/A"},{"$error":"#N/A"},{"$error":"#N/A"},{"$error":"#N/A"}]
[{"$error":"#N/A"},{"$error":"#N/A"},{"$error":"#N/A"},{"$error":"#N/A"},{"$error":"#N/A"}]
[{"$error":"#N/A"},{"$error":"#N/A"},{"$error":"#N/A"},{"$error":"#N/A"},{"$error":"#N/A"}]
[{"$error":"#N/A"},{"$error":"#N/A"},{"$error":"#N/A"},{"$error":"#N/A"},{"$error":"#N/A"}]
[{"$error":"#N/A"},{"$error":"#N/A"},{"$error":"#N/A"},{"$error":"#N/A"},{"$error":"#N/A"}]
[{"$error":"#N/A"},{"$error":"#N/A"},{"$error":"#N/A"},{"$error":"#N/A"},{"$error":"#N/A"}]
[{"$error":"#N/A"},{"$error":"#N/A"},{"$error":"#N/A"},{"$error":"#N/A"},{"$error":"#N/A"}]
[{"$error":"#N/A"},{"$error":"#N/A"},{"$error":"#N/A"},{"$error":"#N/A"},{"$error":"#N/A"}]
[{"$error":"#N/A"},{"$error":"#N/A"},{"$error":"#N/A"},{"$error":"#N/A"},{"$error":"#N/A"}]
[{"$error":"#N/A"},{"$error":"#N/A"},{"$error":"#N/A"},{"$error":"#N/A"},{"$error":"#N/A"}]
[{"$error":"#N/A"},{"$error":"#N/A"},{"$error":"#N/A"},{"$error":"#N/A"},{"$error":"#N/A"}]
[{"$error":"#N/A"},{"$error":"#N/A"},{"$error":"#N/A"},{"$error":"#N/A"},{"$error":"#N/A"}]
[{"$error":"#N/A"},{"$error":"#N/A"},{"$error":"#N/A"},{"$error":"#N/A"},{"$error":"#N/A"}]
[{"$error":"#N/A"},{"$error":"#N/A"},{"$error":"#N/A"},{"$error":"#N/A"},{"$error":"#N/A"}]
[{"$error":"#N/A"},{"$error":"#N/A"},{"$error":"#N/A"},{"$error":"#N/A"},{"$error":"#N/A"}]
[{"$error":"#N/A"},{"$error":"#N/A"},{"$error":"#N/A"},{"$error":"#N/A"},{"$error":"#N/A"}]
[{"$error":"#N/A"},{"$error":"#N/A"},{"$error":"#N/A"},{"$error":"#N/A"},{"$error":"#N/A"}]
[{"$error":"#N/A"},{"$error":"#N/A"},{"$error":"#N/A"},{"$error":"#N/A"},{"$error":"#N/A"}]
[{"$error":"#N/A"},{"$error":"#N/A"},{"$error":"#N/A"},{"$error":"#N/A"},{"$error":"#N/A"}]
[{"$error":"#N/A"},{"$error":"#N/A"},{"$error":"#N/A"},{"$error":"#N/A"},{"$error":"#N/A"}]
[{"$error":"#N/A"},{"$error":"#N/A"},{"$error":"#N/A"},{"$error":"#N/A"},{"$error":"#N/A"}]
[{"$error":"#N/A"},{"$error":"#N/A"},{"$error":"#N/A"},{"$error":"#N/A"},{"$error":"#N/A"}]
[{"$error":"#N/A"},{"$error":"#N/A"},{"$error":"#N/A"},{"$error":"#N/A"},{"$error":"#N/A"}]
[{"$error":"#N/A"},{"$error":"#N/A"},{"$error":"#N/A"},{"$error":"#N/A"},{"$error":"#N/A"}]
[{"$error":"#N/A"},{"$error":"#N/A"},{"$error":"#N/A"},{"$error":"#N/A"},{"$error":"#N/A"}]
[{"$error":"#N/A"},{"$error":"#N/A"},{"$error":"#N/A"},{"$error":"#N/A"},{"$error":"#N/A"}]
[{"$error":"#N/A"},{"$error":"#N/A"},{"$error":"#N/A"},{"$error":"#N/A"},{"$error":"#N/A"}]
[{"$error":"#N/A"},{"$error":"#N/A"},{"$error":"#N/A"},{"$error":"#N/A"},{"$error":"#N/A"}]
[{"$error":"#N/A"},{"$error":"#N/A"},{"$error":"#N/A"},{"$error":"#N/A"},{"$error":"#N/A"}]
[{"$error":"#N/A"},{"$error":"#N/A"},{"$error":"#N/A"},{"$error":"#N/A"},{"$error":"#N/A"}]
[{"$error":"#N/A"},{"$error":"#N/A"},{"$error":"#N/A"},{"$error":"#N/A"},{"$error":"#N/A"}]
[{"$error":"#N/A"},{"$error":"#N/A"},{"$error":"#N/A"},{"$error":"#N/A"},{"$error":"#N/A"}]
[{"$error":"#N/A"},{"$error":"#N/A"},{"$error":"#N/A"},{"$error":"#N/A"},{"$error":"#N/A"}]
[{"$error":"#N/A"},{"$error":"#N/A"},{"$error":"#N/A"},{"$error":"#N/A"},{"$error":"#N/A"}]
[{"$error":"#N/A"},{"$error":"#N/A"},{"$error":"#N/A"},{"$error":"#N/A"},{"$error":"#N/A"}]
[{"$error":"#N/A"},{"$error":"#N/A"},{"$error":"#N/A"},{"$error":"#N/A"},{"$error":"#N/A"}]
[{"$error":"#N/A"},{"$error":"#N/A"},{"$error":"#N/A"},{"$error":"#N/A"},{"$error":"#N/A"}]
[{"$error":"#N/A"},{"$error":"#N/A"},{"$error":"#N/A"},{"$error":"#N/A"},{"$error":"#N/A"}]
[{"$error":"#N/A"},{"$error":"#N/A"},{"$error":"#N/A"},{"$error":"#N/A"},{"$error":"#N/A"}]
[{"$error":"#N/A"},{"$error":"#N/A"},{"$error":"#N/A"},{"$error":"#N/A"},{"$error":"#N/A"}]
[{"$error":"#N/A"},{"$error":"#N/A"},{"$error":"#N/A"},{"$error":"#N/A"},{"$error":"#N/A"}]
[{"$error":"#N/A"},{"$error":"#N/A"},{"$error":"#N/A"},{"$error":"#N/A"},{"$error":"#N/A"}]
[{"$error":"#N/A"},{"$error":"#N/A"},{"$error":"#N/A"},{"$error":"#N/A"},{"$error":"#N/A"}]
[{"$error":"#N/A"},{"$error":"#N/A"},{"$error":"#N/A"},{"$error":"#N/A"},{"$error":"#N/A"}]
[{"$error":"#N/A"},{"$error":"#N/A"},{"$error":"#N/A"},{"$error":"#N/A"},{"$error":"#N/A"}]
[{"$error":"#N/A"},{"$error":"#N/A"},{"$error":"#N/A"},{"$error":"#N/A"},{"$error":"#N/A"}]
[{"$error":"#N/A"},{"$error":"#N/A"},{"$error":"#N/A"},{"$error":"#N/A"},{"$error":"#N/A"}]
[{"$error":"#N/A"},{"$error":"#N/A"},{"$error":"#N/A"},{"$error":"#N/A"},{"$error":"#N/A"}]
[{"$error":"#N/A"},{"$error":"#N/A"},{"$error":"#N/A"},{"$error":"#N/A"},{"$error":"#N/A"}]
[{"$error":"#N/A"},{"$error":"#N/A"},{"$error":"#N/A"},{"$error":"#N/A"},{"$error":"#N/A"}]
[{"$error":"#N/A"},{"$error":"#N/A"},{"$error":"#N/A"},{"$error":"#N/A"},{"$error":"#N/A"}]
[{"$error":"#N/A"},{"$error":"#N/A"},{"$error":"#N/A"},{"$error":"#N/A"},{"$error":"#N/A"}]
[{"$error":"#N/A"},{"$error":"#N/A"},{"$error":"#N/A"},{"$error":"#N/A"},{"$error":"#N/A"}]
[{"$error":"#N/A"},{"$error":"#N/A"},{"$error":"#N/A"},{"$error":"#N/A"},{"$error":"#N/A"}]
[{"$error":"#N/A"},{"$error":"#N/A"},{"$error":"#N/A"},{"$error":"#N/A"},{"$error":"#N/A"}]
[{"$error":"#N/A"},{"$error":"#N/A"},{"$error":"#N/A"},{"$error":"#N/A"},{"$error":"#N/A"}]
[{"$error":"#N/A"},{"$error":"#N/A"},{"$error":"#N/A"},{"$error":"#N/A"},{"$error":"#N/A"}]
[{"$error":"#N/A"},{"$error":"#N/A"},{"$error":"#N/A"},{"$error":"#N/A"},{"$error":"#N/A"}]
[{"$error":"#N/A"},{"$error":"#N/A"},{"$error":"#N/A"},{"$error":"#N/A"},{"$error":"#N/A"}]
[{"$error":"#N/A"},{"$error":"#N/A"},{"$error":"#N/A"},{"$error":"#N/A"},{"$error":"#N/A"}]
[{"$error":"#N/A"},{"$error":"#N/A"},{"$error":"#N/A"},{"$error":"#N/A"},{"$error":"#N/A"}]
[{"$error":"#N/A"},{"$error":"#N/A"},{"$error":"#N/A"},{"$error":"#N/A"},{"$error":"#N/A"}]
[{"$error":"#N/A"},{"$error":"#N/A"},{"$error":"#N/A"},{"$error":"#N/A"},{"$error":"#N/A"}]
[{"$error":"#N/A"},{"$error":"#N/A"},{"$error":"#N/A"},{"$error":"#N/A"},{"$error":"#N/A"}]
[{"$error":"#N/A"},{"$error":"#N/A"},{"$error":"#N/A"},{"$error":"#N/A"},{"$error":"#N/A"}]
[{"$error":"#N/A"},{"$error":"#N/A"},{"$error":"#N/A"},{"$error":"#N/A"},{"$error":"#N/A"}]
[{"$error":"#N/A"},{"$error":"#N/A"},{"$error":"#N/A"},{"$error":"#N/A"},{"$error":"#N/A"}]
[{"$error":"#N/A"},{"$error":"#N/A"},{"$error":"#N/A"},{"$error":"#N/A"},{"$error":"#N/A"}]
[{"$error":"#N/A"},{"$error":"#N/A"},{"$error":"#N/A"},{"$error":"#N/A"},{"$error":"#N/A"}]
[{"$error":"#N/A"},{"$error":"#N/A"},{"$error":"#N/A"},{"$error":"#N/A"},{"$error":"#N/A"}]
[{"$error":"#N/A"},{"$error":"#N/A"},{"$error":"#N/A"},{"$error":"#N/A"},{"$error":"#N/A"}]
[{"$error":"#N/A"},{"$error":"#N/A"},{"$error":"#N/A"},{"$error":"#N/A"},{"$error":"#N/A"}]
[{"$error":"#N/A"},{"$error":"#N/A"},{"$error":"#N/A"},{"$error":"#N/A"},{"$error":"#N/A"}]
[{"$error":"#N/A"},{"$error":"#N/A"},{"$error":"#N/A"},{"$error":"#N/A"},{"$error":"#N/A"}]
[{"$error":"#N/A"},{"$error":"#N/A"},{"$error":"#N/A"},{"$error":"#N/A"},{"$error":"#N/A"}]
[{"$error":"#N/A"},{"$error":"#N/A"},{"$error":"#N/A"},{"$error":"#N/A"},{"$error":"#N/A"}]
[{"$error":"#N/A"},{"$error":"#N/A"},{"$error":"#N/A"},{"$error":"#N/A"},{"$error":"#N/A"}]
[{"$error":"#N/A"},{"$error":"#N/A"},{"$error":"#N/A"},{"$error":"#N/A"},{"$error":"#N/A"}]
[{"$error":"#N/A"},{"$error":"#N/A"},{"$error":"#N/A"},{"$error":"#N/A"},{"$error":"#N/A"}]
[{"$error":"#N/A"},{"$error":"#N/A"},{"$error":"#N/A"},{"$error":"#N/A"},{"$error":"#N/A"}]
[{"$error":"#N/A"},{"$error":"#N/A"},{"$error":"#N/A"},{"$error":"#N/A"},{"$error":"#N/A"}]
[{"$error":"#N/A"},{"$error":"#N/A"},{"$error":"#N/A"},{"$error":"#N/A"},{"$error":"#N/A"}]
[{"$error":"#N/A"},{"$error":"#N/A"},{"$error":"#N/A"},{"$error":"#N/A"},{"$error":"#N/A"}]
[{"$error":"#N/A"},{"$error":"#N/A"},{"$error":"#N/A"},{"$error":"#N/A"},{"$error":"#N/A"}]
[{"$error":"#N/A"},{"$error":"#N/A"},{"$error":"#N/A"},{"$error":"#N/A"},{"$error":"#N/A"}]
[{"$error":"#N/A"},{"$error":"#N/A"},{"$error":"#N/A"},{"$error":"#N/A"},{"$error":"#N/A"}]
[{"$error":"#N/A"},{"$error":"#N/A"},{"$error":"#N/A"},{"$error":"#N/A"},{"$error":"#N/A"}]
[{"$error":"#N/A"},{"$error":"#N/A"},{"$error":"#N/A"},{"$error":"#N/A"},{"$error":"#N/A"}]
[{"$error":"#N/A"},{"$error":"#N/A"},{"$error":"#N/A"},{"$error":"#N/A"},{"$error":"#N/A"}]
[{"$error":"#N/A"},{"$error":"#N/A"},{"$error":"#N/A"},{"$error":"#N/A"},{"$error":"#N/A"}]
[{"$error":"#N/A"},{"$error":"#N/A"},{"$error":"#N/A"},{"$error":"#N/A"},{"$error":"#N/A"}]
[{"$error":"#N/A"},{"$error":"#N/A"},{"$error":"#N/A"},{"$error":"#N/A"},{"$error":"#N/A"}]
[{"$error":"#N/A"},{"$error":"#N/A"},{"$error":"#N/A"},{"$error":"#N/A"},{"$error":"#N/A"}]
[{"$error":"#N/A"},{"$error":"#N/A"},{"$error":"#N/A"},{"$error":"#N/A"},{"$error":"#N/A"}]
[{"$error":"#N/A"},{"$error":"#N/A"},{"$error":"#N/A"},{"$error":"#N/A"},{"$error":"#N/A"}]
[{"$error":"#N/A"},{"$error":"#N/A"},{"$error":"#N/A"},{"$error":"#N/A"},{"$error":"#N/A"}]
[{"$error":"#N/A"},{"$error":"#N/A"},{"$error":"#N/A"},{"$error":"#N/A"},{"$error":"#N/A"}]
[{"$error":"#N/A"},{"$error":"#N/A"},{"$error":"#N/A"},{"$error":"#N/A"},{"$error":"#N/A"}]
[{"$error":"#N/A"},{"$error":"#N/A"},{"$error":"#N/A"},{"$error":"#N/A"},{"$error":"#N/A"}]
[{"$error":"#N/A"},{"$error":"#N/A"},{"$error":"#N/A"},{"$error":"#N/A"},{"$error":"#N/A"}]
[{"$error":"#N/A"},{"$error":"#N/A"},{"$error":"#N/A"},{"$error":"#N/A"},{"$error":"#N/A"}]
[{"$error":"#N/A"},{"$error":"#N/A"},{"$error":"#N/A"},{"$error":"#N/A"},{"$error":"#N/A"}]
[{"$error":"#N/A"},{"$error":"#N/A"},{"$error":"#N/A"},{"$error":"#N/A"},{"$error":"#N/A"}]
[{"$error":"#N/A"},{"$error":"#N/A"},{"$error":"#N/A"},{"$error":"#N/A"},{"$error":"#N/A"}]
[{"$error":"#N/A"},{"$error":"#N/A"},{"$error":"#N/A"},{"$error":"#N/A"},{"$error":"#N/A"}]
[{"$error":"#N/A"},{"$error":"#N/A"},{"$error":"#N/A"},{"$error":"#N/A"},{"$error":"#N/A"}]
[{"$error":"#N/A"},{"$error":"#N/A"},{"$error":"#N/A"},{"$error":"#N/A"},{"$error":"#N/A"}]
[{"$error":"#N/A"},{"$error":"#N/A"},{"$error":"#N/A"},{"$error":"#N/A"},{"$error":"#N/A"}]
[{"$error":"#N/A"},{"$error":"#N/A"},{"$error":"#N/A"},{"$error":"#N/A"},{"$error":"#N/A"}]
[{"$error":"#N/A"},{"$error":"#N/A"},{"$error":"#N/A"},{"$error":"#N/A"},{"$error":"#N/A"}]
[{"$error":"#N/A"},{"$error":"#N/A"},{"$error":"#N/A"},{"$error":"#N/A"},{"$error":"#N/A"}]
[{"$error":"#N/A"},{"$error":"#N/A"},{"$error":"#N/A"},{"$error":"#N/A"},{"$error":"#N/A"}]
[{"$error":"#N/A"},{"$error":"#N/A"},{"$error":"#N/A"},{"$error":"#N/A"},{"$error":"#N/A"}]
[{"$error":"#N/A"},{"$error":"#N/A"},{"$error":"#N/A"},{"$error":"#N/A"},{"$error":"#N/A"}]
[{"$error":"#N/A"},{"$error":"#N/A"},{"$error":"#N/A"},{"$error":"#N/A"},{"$error":"#N/A"}]
[{"$error":"#N/A"},{"$error":"#N/A"},{"$error":"#N/A"},{"$error":"#N/A"},{"$error":"#N/A"}]
[{"$error":"#N/A"},{"$error":"#N/A"},{"$error":"#N/A"},{"$error":"#N/A"},{"$error":"#N/A"}]
[{"$error":"#N/A"},{"$error":"#N/A"},{"$error":"#N/A"},{"$error":"#N/A"},{"$error":"#N/A"}]
[{"$error":"#N/A"},{"$error":"#N/A"},{"$error":"#N/A"},{"$error":"#N/A"},{"$error":"#N/A"}]
[{"$error":"#N/A"},{"$error":"#N/A"},{"$error":"#N/A"},{"$error":"#N/A"},{"$error":"#N/A"}]
[{"$error":"#N/A"},{"$error":"#N/A"},{"$error":"#N/A"},{"$error":"#N/A"},{"$error":"#N/A"}]
[{"$error":"#N/A"},{"$error":"#N/A"},{"$error":"#N/A"},{"$error":"#N/A"},{"$error":"#N/A"}]
[{"$error":"#N/A"},{"$error":"#N/A"},{"$error":"#N/A"},{"$error":"#N/A"},{"$error":"#N/A"}]
[{"$error":"#N/A"},{"$error":"#N/A"},{"$error":"#N/A"},{"$error":"#N/A"},{"$error":"#N/A"}]
[{"$error":"#N/A"},{"$error":"#N/A"},{"$error":"#N/A"},{"$error":"#N/A"},{"$error":"#N/A"}]
[{"$error":"#N/A"},{"$error":"#N/A"},{"$error":"#N/A"},{"$error":"#N/A"},{"$error":"#N/A"}]
[{"$error":"#N/A"},{"$error":"#N/A"},{"$error":"#N/A"},{"$error":"#N/A"},{"$error":"#N/A"}]
[{"$error":"#N/A"},{"$error":"#N/A"},{"$error":"#N/A"},{"$error":"#N/A"},{"$error":"#N/A"}]
[{"$error":"#N/A"},{"$error":"#N/A"},{"$error":"#N/A"},{"$error":"#N/A"},{"$error":"#N/A"}]
[{"$error":"#N/A"},{"$error":"#N/A"},{"$error":"#N/A"},{"$error":"#N/A"},{"$error":"#N/A"}]
[{"$error":"#N/A"},{"$error":"#N/A"},{"$error":"#N/A"},{"$error":"#N/A"},{"$error":"#N/A"}]
[{"$error":"#N/A"},{"$error":"#N/A"},{"$error":"#N/A"},{"$error":"#N/A"},{"$error":"#N/A"}]
[{"$error":"#N/A"},{"$error":"#N/A"},{"$error":"#N/A"},{"$error":"#N/A"},{"$error":"#N/A"}]
[{"$error":"#N/A"},{"$error":"#N/A"},{"$error":"#N/A"},{"$error":"#N/A"},{"$error":"#N/A"}]
[{"$error":"#N/A"},{"$error":"#N/A"},{"$error":"#N/A"},{"$error":"#N/A"},{"$error":"#N/A"}]
[{"$error":"#N/A"},{"$error":"#N/A"},{"$error":"#N/A"},{"$error":"#N/A"},{"$error":"#N/A"}]
[{"$error":"#N/A"},{"$error":"#N/A"},{"$error":"#N/A"},{"$error":"#N/A"},{"$error":"#N/A"}]
[{"$error":"#N/A"},{"$error":"#N/A"},{"$error":"#N/A"},{"$error":"#N/A"},{"$error":"#N/A"}]
[{"$error":"#N/A"},{"$error":"#N/A"},{"$error":"#N/A"},{"$error":"#N/A"},{"$error":"#N/A"}]
[{"$error":"#N/A"},{"$error":"#N/A"},{"$error":"#N/A"},{"$error":"#N/A"},{"$error":"#N/A"}]
[{"$error":"#N/A"},{"$error":"#N/A"},{"$error":"#N/A"},{"$error":"#N/A"},{"$error":"#N/A"}]
[{"$error":"#N/A"},{"$error":"#N/A"},{"$error":"#N/A"},{"$error":"#N/A"},{"$error":"#N/A"}]
[{"$error":"#N/A"},{"$error":"#N/A"},{"$error":"#N/A"},{"$error":"#N/A"},{"$error":"#N/A"}]
[{"$error":"#N/A"},{"$error":"#N/A"},{"$error":"#N/A"},{"$error":"#N/A"},{"$error":"#N/A"}]
[{"$error":"#N/A"},{"$error":"#N/A"},{"$error":"#N/A"},{"$error":"#N/A"},{"$error":"#N/A"}]
[{"$error":"#N/A"},{"$error":"#N/A"},{"$error":"#N/A"},{"$error":"#N/A"},{"$error":"#N/A"}]
[{"$error":"#N/A"},{"$error":"#N/A"},{"$error":"#N/A"},{"$error":"#N/A"},{"$error":"#N/A"}]
[{"$error":"#N/A"},{"$error":"#N/A"},{"$error":"#N/A"},{"$error":"#N/A"},{"$error":"#N/A"}]
[{"$error":"#N/A"},{"$error":"#N/A"},{"$error":"#N/A"},{"$error":"#N/A"},{"$error":"#N/A"}]
[{"$error":"#N/A"},{"$error":"#N/A"},{"$error":"#N/A"},{"$error":"#N/A"},{"$error":"#N/A"}]
[{"$error":"#N/A"},{"$error":"#N/A"},{"$error":"#N/A"},{"$error":"#N/A"},{"$error":"#N/A"}]
[{"$error":"#N/A"},{"$error":"#N/A"},{"$error":"#N/A"},{"$error":"#N/A"},{"$error":"#N/A"}]
[{"$error":"#N/A"},{"$error":"#N/A"},{"$error":"#N/A"},{"$error":"#N/A"},{"$error":"#N/A"}]
[{"$error":"#N/A"},{"$error":"#N/A"},{"$error":"#N/A"},{"$error":"#N/A"},{"$error":"#N/A"}]
[{"$error":"#N/A"},{"$error":"#N/A"},{"$error":"#N/A"},{"$error":"#N/A"},{"$error":"#N/A"}]
[{"$error":"#N/A"},{"$error":"#N/A"},{"$error":"#N/A"},{"$error":"#N/A"},{"$error":"#N/A"}]
[{"$error":"#N/A"},{"$error":"#N/A"},{"$error":"#N/A"},{"$error":"#N/A"},{"$error":"#N/A"}]
[{"$error":"#N/A"},{"$error":"#N/A"},{"$error":"#N/A"},{"$error":"#N/A"},{"$error":"#N/A"}]
[{"$error":"#N/A"},{"$error":"#N/A"},{"$error":"#N/A"},{"$error":"#N/A"},{"$error":"#N/A"}]
[{"$error":"#N/A"},{"$error":"#N/A"},{"$error":"#N/A"},{"$error":"#N/A"},{"$error":"#N/A"}]
[{"$error":"#N/A"},{"$error":"#N/A"},{"$error":"#N/A"},{"$error":"#N/A"},{"$error":"#N/A"}]
[{"$error":"#N/A"},{"$error":"#N/A"},{"$error":"#N/A"},{"$error":"#N/A"},{"$error":"#N/A"}]
[{"$error":"#N/A"},{"$error":"#N/A"},{"$error":"#N/A"},{"$error":"#N/A"},{"$error":"#N/A"}]
[{"$error":"#N/A"},{"$error":"#N/A"},{"$error":"#N/A"},{"$error":"#N/A"},{"$error":"#N/A"}]
[{"$error":"#N/A"},{"$error":"#N/A"},{"$error":"#N/A"},{"$error":"#N/A"},{"$error":"#N/A"}]
[{"$error":"#N/A"},{"$error":"#N/A"},{"$error":"#N/A"},{"$error":"#N/A"},{"$error":"#N/A"}]
[{"$error":"#N/A"},{"$error":"#N/A"},{"$error":"#N/A"},{"$error":"#N/A"},{"$error":"#N/A"}]
[{"$error":"#N/A"},{"$error":"#N/A"},{"$error":"#N/A"},{"$error":"#N/A"},{"$error":"#N/A"}]
[{"$error":"#N/A"},{"$error":"#N/A"},{"$error":"#N/A"},{"$error":"#N/A"},{"$error":"#N/A"}]
[{"$error":"#N/A"},{"$error":"#N/A"},{"$error":"#N/A"},{"$error":"#N/A"},{"$error":"#N/A"}]
[{"$error":"#N/A"},{"$error":"#N/A"},{"$error":"#N/A"},{"$error":"#N/A"},{"$error":"#N/A"}]
[{"$error":"#N/A"},{"$error":"#N/A"},{"$error":"#N/A"},{"$error":"#N/A"},{"$error":"#N/A"}]
[{"$error":"#N/A"},{"$error":"#N/A"},{"$error":"#N/A"},{"$error":"#N/A"},{"$error":"#N/A"}]
[{"$error":"#N/A"},{"$error":"#N/A"},{"$error":"#N/A"},{"$error":"#N/A"},{"$error":"#N/A"}]
[{"$error":"#N/A"},{"$error":"#N/A"},{"$error":"#N/A"},{"$error":"#N/A"},{"$error":"#N/A"}]
[{"$error":"#N/A"},{"$error":"#N/A"},{"$error":"#N/A"},{"$error":"#N/A"},{"$error":"#N/A"}]
[{"$error":"#N/A"},{"$error":"#N/A"},{"$error":"#N/A"},{"$error":"#N/A"},{"$error":"#N/A"}]
[{"$error":"#N/A"},{"$error":"#N/A"},{"$error":"#N/A"},{"$error":"#N/A"},{"$error":"#N/A"}]
[{"$error":"#N/A"},{"$error":"#N/A"},{"$error":"#N/A"},{"$error":"#N/A"},{"$error":"#N/A"}]
[{"$error":"#N/A"},{"$error":"#N/A"},{"$error":"#N/A"},{"$error":"#N/A"},{"$error":"#N/A"}]
[{"$error":"#N/A"},{"$error":"#N/A"},{"$error":"#N/A"},{"$error":"#N/A"},{"$error":"#N/A"}]
[{"$error":"#N/A"},{"$error":"#N/A"},{"$error":"#N/A"},{"$error":"#N/A"},{"$error":"#N/A"}]
[{"$error":"#N/A"},{"$error":"#N/A"},{"$error":"#N/A"},{"$error":"#N/A"},{"$error":"#N/A"}]
[{"$error":"#N/A"},{"$error":"#N/A"},{"$error":"#N/A"},{"$error":"#N/A"},{"$error":"#N/A"}]
[{"$error":"#N/A"},{"$error":"#N/A"},{"$error":"#N/A"},{"$error":"#N/A"},{"$error":"#N/A"}]
[{"$error":"#N/A"},{"$error":"#N/A"},{"$error":"#N/A"},{"$error":"#N/A"},{"$error":"#N/A"}]
[{"$error":"#N/A"},{"$error":"#N/A"},{"$error":"#N/A"},{"$error":"#N/A"},{"$error":"#N/A"}]
[{"$error":"#N/A"},{"$error":"#N/A"},{"$error":"#N/A"},{"$error":"#N/A"},{"$error":"#N/A"}]
[{"$error":"#N/A"},{"$error":"#N/A"},{"$error":"#N/A"},{"$error":"#N/A"},{"$error":"#N/A"}]
[{"$error":"#N/A"},{"$error":"#N/A"},{"$error":"#N/A"},{"$error":"#N/A"},{"$error":"#N/A"}]
[{"$error":"#N/A"},{"$error":"#N/A"},{"$error":"#N/A"},{"$error":"#N/A"},{"$error":"#N/A"}]
[{"$error":"#N/A"},{"$error":"#N/A"},{"$error":"#N/A"},{"$error":"#N/A"},{"$error":"#N/A"}]
[{"$error":"#N/A"},{"$error":"#N/A"},{"$error":"#N/A"},{"$error":"#N/A"},{"$error":"#N/A"}]
[{"$error":"#N/A"},{"$error":"#N/A"},{"$error":"#N/A"},{"$error":"#N/A"},{"$error":"#N/A"}]
[{"$error":"#N/A"},{"$error":"#N/A"},{"$error":"#N/A"},{"$error":"#N/A"},{"$error":"#N/A"}]
[{"$error":"#N/A"},{"$error":"#N/A"},{"$error":"#N/A"},{"$error":"#N/A"},{"$error":"#N/A"}]
[{"$error":"#N/A"},{"$error":"#N/A"},{"$error":"#N/A"},{"$error":"#N/A"},{"$error":"#N/A"}]
[{"$error":"#N/A"},{"$error":"#N/A"},{"$error":"#N/A"},{"$error":"#N/A"},{"$error":"#N/A"}]
[{"$error":"#N/A"},{"$error":"#N/A"},{"$error":"#N/A"},{"$error":"#N/A"},{"$error":"#N/A"}]
[{"$error":"#N/A"},{"$error":"#N/A"},{"$error":"#N/A"},{"$error":"#N/A"},{"$error":"#N/A"}]
[{"$error":"#N/A"},{"$error":"#N/A"},{"$error":"#N/A"},{"$error":"#N/A"},{"$error":"#N/A"}]
[{"$error":"#N/A"},{"$error":"#N/A"},{"$error":"#N/A"},{"$error":"#N/A"},{"$error":"#N/A"}]
[{"$error":"#N/A"},{"$error":"#N/A"},{"$error":"#N/A"},{"$error":"#N/A"},{"$error":"#N/A"}]
[{"$error":"#N/A"},{"$error":"#N/A"},{"$error":"#N/A"},{"$error":"#N/A"},{"$error":"#N/A"}]
[{"$error":"#N/A"},{"$error":"#N/A"},{"$error":"#N/A"},{"$error":"#N/A"},{"$error":"#N/A"}]
[{"$error":"#N/A"},{"$error":"#N/A"},{"$error":"#N/A"},{"$error":"#N/A"},{"$error":"#N/A"}]
[{"$error":"#N/A"},{"$error":"#N/A"},{"$error":"#N/A"},{"$error":"#N/A"},{"$error":"#N/A"}]
[{"$error":"#N/A"},{"$error":"#N/A"},{"$error":"#N/A"},{"$error":"#N/A"},{"$error":"#N/A"}]
[{"$error":"#N/A"},{"$error":"#N/A"},{"$error":"#N/A"},{"$error":"#N/A"},{"$error":"#N/A"}]
[{"$error":"#N/A"},{"$error":"#N/A"},{"$error":"#N/A"},{"$error":"#N/A"},{"$error":"#N/A"}]
[{"$error":"#N/A"},{"$error":"#N/A"},{"$error":"#N/A"},{"$error":"#N/A"},{"$error":"#N/A"}]
[{"$error":"#N/A"},{"$error":"#N/A"},{"$error":"#N/A"},{"$error":"#N/A"},{"$error":"#N/A"}]
[{"$error":"#N/A"},{"$error":"#N/A"},{"$error":"#N/A"},{"$error":"#N/A"},{"$error":"#N/A"}]
[{"$error":"#N/A"},{"$error":"#N/A"},{"$error":"#N/A"},{"$error":"#N/A"},{"$error":"#N/A"}]
[{"$error":"#N/A"},{"$error":"#N/A"},{"$error":"#N/A"},{"$error":"#N/A"},{"$error":"#N/A"}]
[{"$error":"#N/A"},{"$error":"#N/A"},{"$error":"#N/A"},{"$error":"#N/A"},{"$error":"#N/A"}]
[{"$error":"#N/A"},{"$error":"#N/A"},{"$error":"#N/A"},{"$error":"#N/A"},{"$error":"#N/A"}]
[{"$error":"#N/A"},{"$error":"#N/A"},{"$error":"#N/A"},{"$error":"#N/A"},{"$error":"#N/A"}]
[{"$error":"#N/A"},{"$error":"#N/A"},{"$error":"#N/A"},{"$error":"#N/A"},{"$error":"#N/A"}]
[{"$error":"#N/A"},{"$error":"#N/A"},{"$error":"#N/A"},{"$error":"#N/A"},{"$error":"#N/A"}]
[{"$error":"#N/A"},{"$error":"#N/A"},{"$error":"#N/A"},{"$error":"#N/A"},{"$error":"#N/A"}]
[{"$error":"#N/A"},{"$error":"#N/A"},{"$error":"#N/A"},{"$error":"#N/A"},{"$error":"#N/A"}]
[{"$error":"#N/A"},{"$error":"#N/A"},{"$error":"#N/A"},{"$error":"#N/A"},{"$error":"#N/A"}]
[{"$error":"#N/A"},{"$error":"#N/A"},{"$error":"#N/A"},{"$error":"#N/A"},{"$error":"#N/A"}]
[{"$error":"#N/A"},{"$error":"#N/A"},{"$error":"#N/A"},{"$error":"#N/A"},{"$error":"#N/A"}]
[{"$error":"#N/A"},{"$error":"#N/A"},{"$error":"#N/A"},{"$error":"#N/A"},{"$error":"#N/A"}]
[{"$error":"#N/A"},{"$error":"#N/A"},{"$error":"#N/A"},{"$error":"#N/A"},{"$error":"#N/A"}]
[{"$error":"#N/A"},{"$error":"#N/A"},{"$error":"#N/A"},{"$error":"#N/A"},{"$error":"#N/A"}]
[{"$error":"#N/A"},{"$error":"#N/A"},{"$error":"#N/A"},{"$error":"#N/A"},{"$error":"#N/A"}]
[{"$error":"#N/A"},{"$error":"#N/A"},{"$error":"#N/A"},{"$error":"#N/A"},{"$error":"#N/A"}]
[{"$error":"#N/A"},{"$error":"#N/A"},{"$error":"#N/A"},{"$error":"#N/A"},{"$error":"#N/A"}]
[{"$error":"#N/A"},{"$error":"#N/A"},{"$error":"#N/A"},{"$error":"#N/A"},{"$error":"#N/A"}]
[{"$error":"#N/A"},{"$error":"#N/A"},{"$error":"#N/A"},{"$error":"#N/A"},{"$error":"#N/A"}]
[{"$error":"#N/A"},{"$error":"#N/A"},{"$error":"#N/A"},{"$error":"#N/A"},{"$error":"#N/A"}]
[{"$error":"#N/A"},{"$error":"#N/A"},{"$error":"#N/A"},{"$error":"#N/A"},{"$error":"#N/A"}]
[{"$error":"#N/A"},{"$error":"#N/A"},{"$error":"#N/A"},{"$error":"#N/A"},{"$error":"#N/A"}]
[{"$error":"#N/A"},{"$error":"#N/A"},{"$error":"#N/A"},{"$error":"#N/A"},{"$error":"#N/A"}]
[{"$error":"#N/A"},{"$error":"#N/A"},{"$error":"#N/A"},{"$error":"#N/A"},{"$error":"#N/A"}]
[{"$error":"#N/A"},{"$error":"#N/A"},{"$error":"#N/A"},{"$error":"#N/A"},{"$error":"#N/A"}]
[{"$error":"#N/A"},{"$error":"#N/A"},{"$error":"#N/A"},{"$error":"#N/A"},{"$error":"#N/A"}]
[{"$error":"#N/A"},{"$error":"#N/A"},{"$error":"#N/A"},{"$error":"#N/A"},{"$error":"#N/A"}]
[{"$error":"#N/A"},{"$error":"#N/A"},{"$error":"#N/A"},{"$error":"#N/A"},{"$error":"#N/A"}]
[{"$error":"#N/A"},{"$error":"#N/A"},{"$error":"#N/A"},{"$error":"#N/A"},{"$error":"#N/A"}]
[{"$error":"#N/A"},{"$error":"#N/A"},{"$error":"#N/A"},{"$error":"#N/A"},{"$error":"#N/A"}]
[{"$error":"#N/A"},{"$error":"#N/A"},{"$error":"#N/A"},{"$error":"#N/A"},{"$error":"#N/A"}]
[{"$error":"#N/A"},{"$error":"#N/A"},{"$error":"#N/A"},{"$error":"#N/A"},{"$error":"#N/A"}]
[{"$error":"#N/A"},{"$error":"#N/A"},{"$error":"#N/A"},{"$error":"#N/A"},{"$error":"#N/A"}]
[{"$error":"#N/A"},{"$error":"#N/A"},{"$error":"#N/A"},{"$error":"#N/A"},{"$error":"#N/A"}]
[{"$error":"#N/A"},{"$error":"#N/A"},{"$error":"#N/A"},{"$error":"#N/A"},{"$error":"#N/A"}]
[{"$error":"#N/A"},{"$error":"#N/A"},{"$error":"#N/A"},{"$error":"#N/A"},{"$error":"#N/A"}]
[{"$error":"#N/A"},{"$error":"#N/A"},{"$error":"#N/A"},{"$error":"#N/A"},{"$error":"#N/A"}]
[{"$error":"#N/A"},{"$error":"#N/A"},{"$error":"#N/A"},{"$error":"#N/A"},{"$error":"#N/A"}]
[{"$error":"#N/A"},{"$error":"#N/A"},{"$error":"#N/A"},{"$error":"#N/A"},{"$error":"#N/A"}]
[{"$error":"#N/A"},{"$error":"#N/A"},{"$error":"#N/A"},{"$error":"#N/A"},{"$error":"#N/A"}]
[{"$error":"#N/A"},{"$error":"#N/A"},{"$error":"#N/A"},{"$error":"#N/A"},{"$error":"#N/A"}]
[{"$error":"#N/A"},{"$error":"#N/A"},{"$error":"#N/A"},{"$error":"#N/A"},{"$error":"#N/A"}]
[{"$error":"#N/A"},{"$error":"#N/A"},{"$error":"#N/A"},{"$error":"#N/A"},{"$error":"#N/A"}]
[{"$error":"#N/A"},{"$error":"#N/A"},{"$error":"#N/A"},{"$error":"#N/A"},{"$error":"#N/A"}]
[{"$error":"#N/A"},{"$error":"#N/A"},{"$error":"#N/A"},{"$error":"#N/A"},{"$error":"#N/A"}]
[{"$error":"#N/A"},{"$error":"#N/A"},{"$error":"#N/A"},{"$error":"#N/A"},{"$error":"#N/A"}]
[{"$error":"#N/A"},{"$error":"#N/A"},{"$error":"#N/A"},{"$error":"#N/A"},{"$error":"#N/A"}]
[{"$error":"#N/A"},{"$error":"#N/A"},{"$error":"#N/A"},{"$error":"#N/A"},{"$error":"#N/A"}]
[{"$error":"#N/A"},{"$error":"#N/A"},{"$error":"#N/A"},{"$error":"#N/A"},{"$error":"#N/A"}]
[{"$error":"#N/A"},{"$error":"#N/A"},{"$error":"#N/A"},{"$error":"#N/A"},{"$error":"#N/A"}]
[{"$error":"#N/A"},{"$error":"#N/A"},{"$error":"#N/A"},{"$error":"#N/A"},{"$error":"#N/A"}]
[{"$error":"#N/A"},{"$error":"#N/A"},{"$error":"#N/A"},{"$error":"#N/A"},{"$error":"#N/A"}]
[{"$error":"#N/A"},{"$error":"#N/A"},{"$error":"#N/A"},{"$error":"#N/A"},{"$error":"#N/A"}]
[{"$error":"#N/A"},{"$error":"#N/A"},{"$error":"#N/A"},{"$error":"#N/A"},{"$error":"#N/A"}]
[{"$error":"#N/A"},{"$error":"#N/A"},{"$error":"#N/A"},{"$error":"#N/A"},{"$error":"#N/A"}]
[{"$error":"#N/A"},{"$error":"#N/A"},{"$error":"#N/A"},{"$error":"#N/A"},{"$error":"#N/A"}]
[{"$error":"#N/A"},{"$error":"#N/A"},{"$error":"#N/A"},{"$error":"#N/A"},{"$error":"#N/A"}]
[{"$error":"#N/A"},{"$error":"#N/A"},{"$error":"#N/A"},{"$error":"#N/A"},{"$error":"#N/A"}]
[{"$error":"#N/A"},{"$error":"#N/A"},{"$error":"#N/A"},{"$error":"#N/A"},{"$error":"#N/A"}]
[{"$error":"#N/A"},{"$error":"#N/A"},{"$error":"#N/A"},{"$error":"#N/A"},{"$error":"#N/A"}]
[{"$error":"#N/A"},{"$error":"#N/A"},{"$error":"#N/A"},{"$error":"#N/A"},{"$error":"#N/A"}]
[{"$error":"#N/A"},{"$error":"#N/A"},{"$error":"#N/A"},{"$error":"#N/A"},{"$error":"#N/A"}]
[{"$error":"#N/A"},{"$error":"#N/A"},{"$error":"#N/A"},{"$error":"#N/A"},{"$error":"#N/A"}]
[{"$error":"#N/A"},{"$error":"#N/A"},{"$error":"#N/A"},{"$error":"#N/A"},{"$error":"#N/A"}]
[{"$error":"#N/A"},{"$error":"#N/A"},{"$error":"#N/A"},{"$error":"#N/A"},{"$error":"#N/A"}]
[{"$error":"#N/A"},{"$error":"#N/A"},{"$error":"#N/A"},{"$error":"#N/A"},{"$error":"#N/A"}]
[{"$error":"#N/A"},{"$error":"#N/A"},{"$error":"#N/A"},{"$error":"#N/A"},{"$error":"#N/A"}]
[{"$error":"#N/A"},{"$error":"#N/A"},{"$error":"#N/A"},{"$error":"#N/A"},{"$error":"#N/A"}]
[{"$error":"#N/A"},{"$error":"#N/A"},{"$error":"#N/A"},{"$error":"#N/A"},{"$error":"#N/A"}]
[{"$error":"#N/A"},{"$error":"#N/A"},{"$error":"#N/A"},{"$error":"#N/A"},{"$error":"#N/A"}]
[{"$error":"#N/A"},{"$error":"#N/A"},{"$error":"#N/A"},{"$error":"#N/A"},{"$error":"#N/A"}]
[{"$error":"#N/A"},{"$error":"#N/A"},{"$error":"#N/A"},{"$error":"#N/A"},{"$error":"#N/A"}]
[{"$error":"#N/A"},{"$error":"#N/A"},{"$error":"#N/A"},{"$error":"#N/A"},{"$error":"#N/A"}]
[{"$error":"#N/A"},{"$error":"#N/A"},{"$error":"#N/A"},{"$error":"#N/A"},{"$error":"#N/A"}]
[{"$error":"#N/A"},{"$error":"#N/A"},{"$error":"#N/A"},{"$error":"#N/A"},{"$error":"#N/A"}]
[{"$error":"#N/A"},{"$error":"#N/A"},{"$error":"#N/A"},{"$error":"#N/A"},{"$error":"#N/A"}]
[{"$error":"#N/A"},{"$error":"#N/A"},{"$error":"#N/A"},{"$error":"#N/A"},{"$error":"#N/A"}]
[{"$error":"#N/A"},{"$error":"#N/A"},{"$error":"#N/A"},{"$error":"#N/A"},{"$error":"#N/A"}]
[{"$error":"#N/A"},{"$error":"#N/A"},{"$error":"#N/A"},{"$error":"#N/A"},{"$error":"#N/A"}]
[{"$error":"#N/A"},{"$error":"#N/A"},{"$error":"#N/A"},{"$error":"#N/A"},{"$error":"#N/A"}]
[{"$error":"#N/A"},{"$error":"#N/A"},{"$error":"#N/A"},{"$error":"#N/A"},{"$error":"#N/A"}]
[{"$error":"#N/A"},{"$error":"#N/A"},{"$error":"#N/A"},{"$error":"#N/A"},{"$error":"#N/A"}]
[{"$error":"#N/A"},{"$error":"#N/A"},{"$error":"#N/A"},{"$error":"#N/A"},{"$error":"#N/A"}]
[{"$error":"#N/A"},{"$error":"#N/A"},{"$error":"#N/A"},{"$error":"#N/A"},{"$error":"#N/A"}]
[{"$error":"#N/A"},{"$error":"#N/A"},{"$error":"#N/A"},{"$error":"#N/A"},{"$error":"#N/A"}]
[{"$error":"#N/A"},{"$error":"#N/A"},{"$error":"#N/A"},{"$error":"#N/A"},{"$error":"#N/A"}]
[{"$error":"#N/A"},{"$error":"#N/A"},{"$error":"#N/A"},{"$error":"#N/A"},{"$error":"#N/A"}]
[{"$error":"#N/A"},{"$error":"#N/A"},{"$error":"#N/A"},{"$error":"#N/A"},{"$error":"#N/A"}]
[{"$error":"#N/A"},{"$error":"#N/A"},{"$error":"#N/A"},{"$error":"#N/A"},{"$error":"#N/A"}]
[{"$error":"#N/A"},{"$error":"#N/A"},{"$error":"#N/A"},{"$error":"#N/A"},{"$error":"#N/A"}]
[{"$error":"#N/A"},{"$error":"#N/A"},{"$error":"#N/A"},{"$error":"#N/A"},{"$error":"#N/A"}]
[{"$error":"#N/A"},{"$error":"#N/A"},{"$error":"#N/A"},{"$error":"#N/A"},{"$error":"#N/A"}]
[{"$error":"#N/A"},{"$error":"#N/A"},{"$error":"#N/A"},{"$error":"#N/A"},{"$error":"#N/A"}]
[{"$error":"#N/A"},{"$error":"#N/A"},{"$error":"#N/A"},{"$error":"#N/A"},{"$error":"#N/A"}]
[{"$error":"#N/A"},{"$error":"#N/A"},{"$error":"#N/A"},{"$error":"#N/A"},{"$error":"#N/A"}]
[{"$error":"#N/A"},{"$error":"#N/A"},{"$error":"#N/A"},{"$error":"#N/A"},{"$error":"#N/A"}]
[{"$error":"#N/A"},{"$error":"#N/A"},{"$error":"#N/A"},{"$error":"#N/A"},{"$error":"#N/A"}]
[{"$error":"#N/A"},{"$error":"#N/A"},{"$error":"#N/A"},{"$error":"#N/A"},{"$error":"#N/A"}]
[{"$error":"#N/A"},{"$error":"#N/A"},{"$error":"#N/A"},{"$error":"#N/A"},{"$error":"#N/A"}]
[{"$error":"#N/A"},{"$error":"#N/A"},{"$error":"#N/A"},{"$error":"#N/A"},{"$error":"#N/A"}]
[{"$error":"#N/A"},{"$error":"#N/A"},{"$error":"#N/A"},{"$error":"#N/A"},{"$error":"#N/A"}]
[{"$error":"#N/A"},{"$error":"#N/A"},{"$error":"#N/A"},{"$error":"#N/A"},{"$error":"#N/A"}]
[{"$error":"#N/A"},{"$error":"#N/A"},{"$error":"#N/A"},{"$error":"#N/A"},{"$error":"#N/A"}]
[{"$error":"#N/A"},{"$error":"#N/A"},{"$error":"#N/A"},{"$error":"#N/A"},{"$error":"#N/A"}]
[{"$error":"#N/A"},{"$error":"#N/A"},{"$error":"#N/A"},{"$error":"#N/A"},{"$error":"#N/A"}]
[{"$error":"#N/A"},{"$error":"#N/A"},{"$error":"#N/A"},{"$error":"#N/A"},{"$error":"#N/A"}]
[{"$error":"#N/A"},{"$error":"#N/A"},{"$error":"#N/A"},{"$error":"#N/A"},{"$error":"#N/A"}]
[{"$error":"#N/A"},{"$error":"#N/A"},{"$error":"#N/A"},{"$error":"#N/A"},{"$error":"#N/A"}]
[{"$error":"#N/A"},{"$error":"#N/A"},{"$error":"#N/A"},{"$error":"#N/A"},{"$error":"#N/A"}]
[{"$error":"#N/A"},{"$error":"#N/A"},{"$error":"#N/A"},{"$error":"#N/A"},{"$error":"#N/A"}]
[{"$error":"#N/A"},{"$error":"#N/A"},{"$error":"#N/A"},{"$error":"#N/A"},{"$error":"#N/A"}]
[{"$error":"#N/A"},{"$error":"#N/A"},{"$error":"#N/A"},{"$error":"#N/A"},{"$error":"#N/A"}]
[{"$error":"#N/A"},{"$error":"#N/A"},{"$error":"#N/A"},{"$error":"#N/A"},{"$error":"#N/A"}]
[{"$error":"#N/A"},{"$error":"#N/A"},{"$error":"#N/A"},{"$error":"#N/A"},{"$error":"#N/A"}]
[{"$error":"#N/A"},{"$error":"#N/A"},{"$error":"#N/A"},{"$error":"#N/A"},{"$error":"#N/A"}]
[{"$error":"#N/A"},{"$error":"#N/A"},{"$error":"#N/A"},{"$error":"#N/A"},{"$error":"#N/A"}]
[{"$error":"#N/A"},{"$error":"#N/A"},{"$error":"#N/A"},{"$error":"#N/A"},{"$error":"#N/A"}]
[{"$error":"#N/A"},{"$error":"#N/A"},{"$error":"#N/A"},{"$error":"#N/A"},{"$error":"#N/A"}]
[{"$error":"#N/A"},{"$error":"#N/A"},{"$error":"#N/A"},{"$error":"#N/A"},{"$error":"#N/A"}]
[{"$error":"#N/A"},{"$error":"#N/A"},{"$error":"#N/A"},{"$error":"#N/A"},{"$error":"#N/A"}]
[{"$error":"#N/A"},{"$error":"#N/A"},{"$error":"#N/A"},{"$error":"#N/A"},{"$error":"#N/A"}]
[{"$error":"#N/A"},{"$error":"#N/A"},{"$error":"#N/A"},{"$error":"#N/A"},{"$error":"#N/A"}]
[{"$error":"#N/A"},{"$error":"#N/A"},{"$error":"#N/A"},{"$error":"#N/A"},{"$error":"#N/A"}]
[{"$error":"#N/A"},{"$error":"#N/A"},{"$error":"#N/A"},{"$error":"#N/A"},{"$error":"#N/A"}]
[{"$error":"#N/A"},{"$error":"#N/A"},{"$error":"#N/A"},{"$error":"#N/A"},{"$error":"#N/A"}]
[{"$error":"#N/A"},{"$error":"#N/A"},{"$error":"#N/A"},{"$error":"#N/A"},{"$error":"#N/A"}]
[{"$error":"#N/A"},{"$error":"#N/A"},{"$error":"#N/A"},{"$error":"#N/A"},{"$error":"#N/A"}]
[{"$error":"#N/A"},{"$error":"#N/A"},{"$error":"#N/A"},{"$error":"#N/A"},{"$error":"#N/A"}]
[{"$error":"#N/A"},{"$error":"#N/A"},{"$error":"#N/A"},{"$error":"#N/A"},{"$error":"#N/A"}]
[{"$error":"#N/A"},{"$error":"#N/A"},{"$error":"#N/A"},{"$error":"#N/A"},{"$error":"#N/A"}]
[{"$error":"#N/A"},{"$error":"#N/A"},{"$error":"#N/A"},{"$error":"#N/A"},{"$error":"#N/A"}]
[{"$error":"#N/A"},{"$error":"#N/A"},{"$error":"#N/A"},{"$error":"#N/A"},{"$error":"#N/A"}]
[{"$error":"#N/A"},{"$error":"#N/A"},{"$error":"#N/A"},{"$error":"#N/A"},{"$error":"#N/A"}]
[{"$error":"#N/A"},{"$error":"#N/A"},{"$error":"#N/A"},{"$error":"#N/A"},{"$error":"#N/A"}]
[{"$error":"#N/A"},{"$error":"#N/A"},{"$error":"#N/A"},{"$error":"#N/A"},{"$error":"#N/A"}]
[{"$error":"#N/A"},{"$error":"#N/A"},{"$error":"#N/A"},{"$error":"#N/A"},{"$error":"#N/A"}]
[{"$error":"#N/A"},{"$error":"#N/A"},{"$error":"#N/A"},{"$error":"#N/A"},{"$error":"#N/A"}]
[{"$error":"#N/A"},{"$error":"#N/A"},{"$error":"#N/A"},{"$error":"#N/A"},{"$error":"#N/A"}]
[{"$error":"#N/A"},{"$error":"#N/A"},{"$error":"#N/A"},{"$error":"#N/A"},{"$error":"#N/A"}]
[{"$error":"#N/A"},{"$error":"#N/A"},{"$error":"#N/A"},{"$error":"#N/A"},{"$error":"#N/A"}]
[{"$error":"#N/A"},{"$error":"#N/A"},{"$error":"#N/A"},{"$error":"#N/A"},{"$error":"#N/A"}]
[{"$error":"#N/A"},{"$error":"#N/A"},{"$error":"#N/A"},{"$error":"#N/A"},{"$error":"#N/A"}]
[{"$error":"#N/A"},{"$error":"#N/A"},{"$error":"#N/A"},{"$error":"#N/A"},{"$error":"#N/A"}]
[{"$error":"#N/A"},{"$error":"#N/A"},{"$error":"#N/A"},{"$error":"#N/A"},{"$error":"#N/A"}]
[{"$error":"#N/A"},{"$error":"#N/A"},{"$error":"#N/A"},{"$error":"#N/A"},{"$error":"#N/A"}]
[{"$error":"#N/A"},{"$error":"#N/A"},{"$error":"#N/A"},{"$error":"#N/A"},{"$error":"#N/A"}]
[{"$error":"#N/A"},{"$error":"#N/A"},{"$error":"#N/A"},{"$error":"#N/A"},{"$error":"#N/A"}]
[{"$error":"#N/A"},{"$error":"#N/A"},{"$error":"#N/A"},{"$error":"#N/A"},{"$error":"#N/A"}]
[{"$error":"#N/A"},{"$error":"#N/A"},{"$error":"#N/A"},{"$error":"#N/A"},{"$error":"#N/A"}]
[{"$error":"#N/A"},{"$error":"#N/A"},{"$error":"#N/A"},{"$error":"#N/A"},{"$error":"#N/A"}]
[{"$error":"#N/A"},{"$error":"#N/A"},{"$error":"#N/A"},{"$error":"#N/A"},{"$error":"#N/A"}]
[{"$error":"#N/A"},{"$error":"#N/A"},{"$error":"#N/A"},{"$error":"#N/A"},{"$error":"#N/A"}]
[{"$error":"#N/A"},{"$error":"#N/A"},{"$error":"#N/A"},{"$error":"#N/A"},{"$error":"#N/A"}]
[{"$error":"#N/A"},{"$error":"#N/A"},{"$error":"#N/A"},{"$error":"#N/A"},{"$error":"#N/A"}]
[{"$error":"#N/A"},{"$error":"#N/A"},{"$error":"#N/A"},{"$error":"#N/A"},{"$error":"#N/A"}]
[{"$error":"#N/A"},{"$error":"#N/A"},{"$error":"#N/A"},{"$error":"#N/A"},{"$error":"#N/A"}]
[{"$error":"#N/A"},{"$error":"#N/A"},{"$error":"#N/A"},{"$error":"#N/A"},{"$error":"#N/A"}]
[{"$error":"#N/A"},{"$error":"#N/A"},{"$error":"#N/A"},{"$error":"#N/A"},{"$error":"#N/A"}]
[{"$error":"#N/A"},{"$error":"#N/A"},{"$error":"#N/A"},{"$error":"#N/A"},{"$error":"#N/A"}]
[{"$error":"#N/A"},{"$error":"#N/A"},{"$error":"#N/A"},{"$error":"#N/A"},{"$error":"#N/A"}]
[{"$error":"#N/A"},{"$error":"#N/A"},{"$error":"#N/A"},{"$error":"#N/A"},{"$error":"#N/A"}]
[{"$error":"#N/A"},{"$error":"#N/A"},{"$error":"#N/A"},{"$error":"#N/A"},{"$error":"#N/A"}]
[{"$error":"#N/A"},{"$error":"#N/A"},{"$error":"#N/A"},{"$error":"#N/A"},{"$error":"#N/A"}]
[{"$error":"#N/A"},{"$error":"#N/A"},{"$error":"#N/A"},{"$error":"#N/A"},{"$error":"#N/A"}]
[{"$error":"#N/A"},{"$error":"#N/A"},{"$error":"#N/A"},{"$error":"#N/A"},{"$error":"#N/A"}]
[{"$error":"#N/A"},{"$error":"#N/A"},{"$error":"#N/A"},{"$error":"#N/A"},{"$error":"#N/A"}]
[{"$error":"#N/A"},{"$error":"#N/A"},{"$error":"#N/A"},{"$error":"#N/A"},{"$error":"#N/A"}]
[{"$error":"#N/A"},{"$error":"#N/A"},{"$error":"#N/A"},{"$error":"#N/A"},{"$error":"#N/A"}]
[{"$error":"#N/A"},{"$error":"#N/A"},{"$error":"#N/A"},{"$error":"#N/A"},{"$error":"#N/A"}]
[{"$error":"#N/A"},{"$error":"#N/A"},{"$error":"#N/A"},{"$error":"#N/A"},{"$error":"#N/A"}]
[{"$error":"#N/A"},{"$error":"#N/A"},{"$error":"#N/A"},{"$error":"#N/A"},{"$error":"#N/A"}]
[{"$error":"#N/A"},{"$error":"#N/A"},{"$error":"#N/A"},{"$error":"#N/A"},{"$error":"#N/A"}]
[{"$error":"#N/A"},{"$error":"#N/A"},{"$error":"#N/A"},{"$error":"#N/A"},{"$error":"#N/A"}]
[{"$error":"#N/A"},{"$error":"#N/A"},{"$error":"#N/A"},{"$error":"#N/A"},{"$error":"#N/A"}]
[{"$error":"#N/A"},{"$error":"#N/A"},{"$error":"#N/A"},{"$error":"#N/A"},{"$error":"#N/A"}]
[{"$error":"#N/A"},{"$error":"#N/A"},{"$error":"#N/A"},{"$error":"#N/A"},{"$error":"#N/A"}]
[{"$error":"#N/A"},{"$error":"#N/A"},{"$error":"#N/A"},{"$error":"#N/A"},{"$error":"#N/A"}]
[{"$error":"#N/A"},{"$error":"#N/A"},{"$error":"#N/A"},{"$error":"#N/A"},{"$error":"#N/A"}]
[{"$error":"#N/A"},{"$error":"#N/A"},{"$error":"#N/A"},{"$error":"#N/A"},{"$error":"#N/A"}]
[{"$error":"#N/A"},{"$error":"#N/A"},{"$error":"#N/A"},{"$error":"#N/A"},{"$error":"#N/A"}]
[{"$error":"#N/A"},{"$error":"#N/A"},{"$error":"#N/A"},{"$error":"#N/A"},{"$error":"#N/A"}]
[{"$error":"#N/A"},{"$error":"#N/A"},{"$error":"#N/A"},{"$error":"#N/A"},{"$error":"#N/A"}]
[{"$error":"#N/A"},{"$error":"#N/A"},{"$error":"#N/A"},{"$error":"#N/A"},{"$error":"#N/A"}]
[{"$error":"#N/A"},{"$error":"#N/A"},{"$error":"#N/A"},{"$error":"#N/A"},{"$error":"#N/A"}]
[{"$error":"#N/A"},{"$error":"#N/A"},{"$error":"#N/A"},{"$error":"#N/A"},{"$error":"#N/A"}]
[{"$error":"#N/A"},{"$error":"#N/A"},{"$error":"#N/A"},{"$error":"#N/A"},{"$error":"#N/A"}]
[{"$error":"#N/A"},{"$error":"#N/A"},{"$error":"#N/A"},{"$error":"#N/A"},{"$error":"#N/A"}]
[{"$error":"#N/A"},{"$error":"#N/A"},{"$error":"#N/A"},{"$error":"#N/A"},{"$error":"#N/A"}]
[{"$error":"#N/A"},{"$error":"#N/A"},{"$error":"#N/A"},{"$error":"#N/A"},{"$error":"#N/A"}]
[{"$error":"#N/A"},{"$error":"#N/A"},{"$error":"#N/A"},{"$error":"#N/A"},{"$error":"#N/A"}]
[{"$error":"#N/A"},{"$error":"#N/A"},{"$error":"#N/A"},{"$error":"#N/A"},{"$error":"#N/A"}]
[{"$error":"#N/A"},{"$error":"#N/A"},{"$error":"#N/A"},{"$error":"#N/A"},{"$error":"#N/A"}]
[{"$error":"#N/A"},{"$error":"#N/A"},{"$error":"#N/A"},{"$error":"#N/A"},{"$error":"#N/A"}]
[{"$error":"#N/A"},{"$error":"#N/A"},{"$error":"#N/A"},{"$error":"#N/A"},{"$error":"#N/A"}]
[{"$error":"#N/A"},{"$error":"#N/A"},{"$error":"#N/A"},{"$error":"#N/A"},{"$error":"#N/A"}]
[{"$error":"#N/A"},{"$error":"#N/A"},{"$error":"#N/A"},{"$error":"#N/A"},{"$error":"#N/A"}]
[{"$error":"#N/A"},{"$error":"#N/A"},{"$error":"#N/A"},{"$error":"#N/A"},{"$error":"#N/A"}]
[{"$error":"#N/A"},{"$error":"#N/A"},{"$error":"#N/A"},{"$error":"#N/A"},{"$error":"#N/A"}]
[{"$error":"#N/A"},{"$error":"#N/A"},{"$error":"#N/A"},{"$error":"#N/A"},{"$error":"#N/A"}]
[{"$error":"#N/A"},{"$error":"#N/A"},{"$error":"#N/A"},{"$error":"#N/A"},{"$error":"#N/A"}]
[{"$error":"#N/A"},{"$error":"#N/A"},{"$error":"#N/A"},{"$error":"#N/A"},{"$error":"#N/A"}]
[{"$error":"#N/A"},{"$error":"#N/A"},{"$error":"#N/A"},{"$error":"#N/A"},{"$error":"#N/A"}]
[{"$error":"#N/A"},{"$error":"#N/A"},{"$error":"#N/A"},{"$error":"#N/A"},{"$error":"#N/A"}]
[{"$error":"#N/A"},{"$error":"#N/A"},{"$error":"#N/A"},{"$error":"#N/A"},{"$error":"#N/A"}]
[{"$error":"#N/A"},{"$error":"#N/A"},{"$error":"#N/A"},{"$error":"#N/A"},{"$error":"#N/A"}]
[{"$error":"#N/A"},{"$error":"#N/A"},{"$error":"#N/A"},{"$error":"#N/A"},{"$error":"#N/A"}]
[{"$error":"#N/A"},{"$error":"#N/A"},{"$error":"#N/A"},{"$error":"#N/A"},{"$error":"#N/A"}]
[{"$error":"#N/A"},{"$error":"#N/A"},{"$error":"#N/A"},{"$error":"#N/A"},{"$error":"#N/A"}]
[{"$error":"#N/A"},{"$error":"#N/A"},{"$error":"#N/A"},{"$error":"#N/A"},{"$error":"#N/A"}]
[{"$error":"#N/A"},{"$error":"#N/A"},{"$error":"#N/A"},{"$error":"#N/A"},{"$error":"#N/A"}]
[{"$error":"#N/A"},{"$error":"#N/A"},{"$error":"#N/A"},{"$error":"#N/A"},{"$error":"#N/A"}]
[{"$error":"#N/A"},{"$error":"#N/A"},{"$error":"#N/A"},{"$error":"#N/A"},{"$error":"#N/A"}]
[{"$error":"#N/A"},{"$error":"#N/A"},{"$error":"#N/A"},{"$error":"#N/A"},{"$error":"#N/A"}]
[{"$error":"#N/A"},{"$error":"#N/A"},{"$error":"#N/A"},{"$error":"#N/A"},{"$error":"#N/A"}]
[{"$error":"#N/A"},{"$error":"#N/A"},{"$error":"#N/A"},{"$error":"#N/A"},{"$error":"#N/A"}]
[{"$error":"#N/A"},{"$error":"#N/A"},{"$error":"#N/A"},{"$error":"#N/A"},{"$error":"#N/A"}]
[{"$error":"#N/A"},{"$error":"#N/A"},{"$error":"#N/A"},{"$error":"#N/A"},{"$error":"#N/A"}]
[{"$error":"#N/A"},{"$error":"#N/A"},{"$error":"#N/A"},{"$error":"#N/A"},{"$error":"#N/A"}]
[{"$error":"#N/A"},{"$error":"#N/A"},{"$error":"#N/A"},{"$error":"#N/A"},{"$error":"#N/A"}]
[{"$error":"#N/A"},{"$error":"#N/A"},{"$error":"#N/A"},{"$error":"#N/A"},{"$error":"#N/A"}]
[{"$error":"#N/A"},{"$error":"#N/A"},{"$error":"#N/A"},{"$error":"#N/A"},{"$error":"#N/A"}]
[{"$error":"#N/A"},{"$error":"#N/A"},{"$error":"#N/A"},{"$error":"#N/A"},{"$error":"#N/A"}]
[{"$error":"#N/A"},{"$error":"#N/A"},{"$error":"#N/A"},{"$error":"#N/A"},{"$error":"#N/A"}]
[{"$error":"#N/A"},{"$error":"#N/A"},{"$error":"#N/A"},{"$error":"#N/A"},{"$error":"#N/A"}]
[{"$error":"#N/A"},{"$error":"#N/A"},{"$error":"#N/A"},{"$error":"#N/A"},{"$error":"#N/A"}]
[{"$error":"#N/A"},{"$error":"#N/A"},{"$error":"#N/A"},{"$error":"#N/A"},{"$error":"#N/A"}]
[{"$error":"#N/A"},{"$error":"#N/A"},{"$error":"#N/A"},{"$error":"#N/A"},{"$error":"#N/A"}]
[{"$error":"#N/A"},{"$error":"#N/A"},{"$error":"#N/A"},{"$error":"#N/A"},{"$error":"#N/A"}]
[{"$error":"#N/A"},{"$error":"#N/A"},{"$error":"#N/A"},{"$error":"#N/A"},{"$error":"#N/A"}]
[{"$error":"#N/A"},{"$error":"#N/A"},{"$error":"#N/A"},{"$error":"#N/A"},{"$error":"#N/A"}]
[{"$error":"#N/A"},{"$error":"#N/A"},{"$error":"#N/A"},{"$error":"#N/A"},{"$error":"#N/A"}]
[{"$error":"#N/A"},{"$error":"#N/A"},{"$error":"#N/A"},{"$error":"#N/A"},{"$error":"#N/A"}]
[{"$error":"#N/A"},{"$error":"#N/A"},{"$error":"#N/A"},{"$error":"#N/A"},{"$error":"#N/A"}]
[{"$error":"#N/A"},{"$error":"#N/A"},{"$error":"#N/A"},{"$error":"#N/A"},{"$error":"#N/A"}]
[{"$error":"#N/A"},{"$error":"#N/A"},{"$error":"#N/A"},{"$error":"#N/A"},{"$error":"#N/A"}]
[{"$error":"#N/A"},{"$error":"#N/A"},{"$error":"#N/A"},{"$error":"#N/A"},{"$error":"#N/A"}]
[{"$error":"#N/A"},{"$error":"#N/A"},{"$error":"#N/A"},{"$error":"#N/A"},{"$error":"#N/A"}]
[{"$error":"#N/A"},{"$error":"#N/A"},{"$error":"#N/A"},{"$error":"#N/A"},{"$error":"#N/A"}]
[{"$error":"#N/A"},{"$error":"#N/A"},{"$error":"#N/A"},{"$error":"#N/A"},{"$error":"#N/A"}]
[{"$error":"#N/A"},{"$error":"#N/A"},{"$error":"#N/A"},{"$error":"#N/A"},{"$error":"#N/A"}]
[{"$error":"#N/A"},{"$error":"#N/A"},{"$error":"#N/A"},{"$error":"#N/A"},{"$error":"#N/A"}]
[{"$error":"#N/A"},{"$error":"#N/A"},{"$error":"#N/A"},{"$error":"#N/A"},{"$error":"#N/A"}]
[{"$error":"#N/A"},{"$error":"#N/A"},{"$error":"#N/A"},{"$error":"#N/A"},{"$error":"#N/A"}]
[{"$error":"#N/A"},{"$error":"#N/A"},{"$error":"#N/A"},{"$error":"#N/A"},{"$error":"#N/A"}]
[{"$error":"#N/A"},{"$error":"#N/A"},{"$error":"#N/A"},{"$error":"#N/A"},{"$error":"#N/A"}]
[{"$error":"#N/A"},{"$error":"#N/A"},{"$error":"#N/A"},{"$error":"#N/A"},{"$error":"#N/A"}]
[{"$error":"#N/A"},{"$error":"#N/A"},{"$error":"#N/A"},{"$error":"#N/A"},{"$error":"#N/A"}]
[{"$error":"#N/A"},{"$error":"#N/A"},{"$error":"#N/A"},{"$error":"#N/A"},{"$error":"#N/A"}]
[{"$error":"#N/A"},{"$error":"#N/A"},{"$error":"#N/A"},{"$error":"#N/A"},{"$error":"#N/A"}]
[{"$error":"#N/A"},{"$error":"#N/A"},{"$error":"#N/A"},{"$error":"#N/A"},{"$error":"#N/A"}]
[{"$error":"#N/A"},{"$error":"#N/A"},{"$error":"#N/A"},{"$error":"#N/A"},{"$error":"#N/A"}]
[{"$error":"#N/A"},{"$error":"#N/A"},{"$error":"#N/A"},{"$error":"#N/A"},{"$error":"#N/A"}]
[{"$error":"#N/A"},{"$error":"#N/A"},{"$error":"#N/A"},{"$error":"#N/A"},{"$error":"#N/A"}]
[{"$error":"#N/A"},{"$error":"#N/A"},{"$error":"#N/A"},{"$error":"#N/A"},{"$error":"#N/A"}]
[{"$error":"#N/A"},{"$error":"#N/A"},{"$error":"#N/A"},{"$error":"#N/A"},{"$error":"#N/A"}]
[{"$error":"#N/A"},{"$error":"#N/A"},{"$error":"#N/A"},{"$error":"#N/A"},{"$error":"#N/A"}]
[{"$error":"#N/A"},{"$error":"#N/A"},{"$error":"#N/A"},{"$error":"#N/A"},{"$error":"#N/A"}]
[{"$error":"#N/A"},{"$error":"#N/A"},{"$error":"#N/A"},{"$error":"#N/A"},{"$error":"#N/A"}]
[{"$error":"#N/A"},{"$error":"#N/A"},{"$error":"#N/A"},{"$error":"#N/A"},{"$error":"#N/A"}]
[{"$error":"#N/A"},{"$error":"#N/A"},{"$error":"#N/A"},{"$error":"#N/A"},{"$error":"#N/A"}]
[{"$error":"#N/A"},{"$error":"#N/A"},{"$error":"#N/A"},{"$error":"#N/A"},{"$error":"#N/A"}]
[{"$error":"#N/A"},{"$error":"#N/A"},{"$error":"#N/A"},{"$error":"#N/A"},{"$error":"#N/A"}]
[{"$error":"#N/A"},{"$error":"#N/A"},{"$error":"#N/A"},{"$error":"#N/A"},{"$error":"#N/A"}]
[{"$error":"#N/A"},{"$error":"#N/A"},{"$error":"#N/A"},{"$error":"#N/A"},{"$error":"#N/A"}]
[{"$error":"#N/A"},{"$error":"#N/A"},{"$error":"#N/A"},{"$error":"#N/A"},{"$error":"#N/A"}]
[{"$error":"#N/A"},{"$error":"#N/A"},{"$error":"#N/A"},{"$error":"#N/A"},{"$error":"#N/A"}]
[{"$error":"#N/A"},{"$error":"#N/A"},{"$error":"#N/A"},{"$error":"#N/A"},{"$error":"#N/A"}]
[{"$error":"#N/A"},{"$error":"#N/A"},{"$error":"#N/A"},{"$error":"#N/A"},{"$error":"#N/A"}]
[{"$error":"#N/A"},{"$error":"#N/A"},{"$error":"#N/A"},{"$error":"#N/A"},{"$error":"#N/A"}]
[{"$error":"#N/A"},{"$error":"#N/A"},{"$error":"#N/A"},{"$error":"#N/A"},{"$error":"#N/A"}]
[{"$error":"#N/A"},{"$error":"#N/A"},{"$error":"#N/A"},{"$error":"#N/A"},{"$error":"#N/A"}]
[{"$error":"#N/A"},{"$error":"#N/A"},{"$error":"#N/A"},{"$error":"#N/A"},{"$error":"#N/A"}]
[{"$error":"#N/A"},{"$error":"#N/A"},{"$error":"#N/A"},{"$error":"#N/A"},{"$error":"#N/A"}]
[{"$error":"#N/A"},{"$error":"#N/A"},{"$error":"#N/A"},{"$error":"#N/A"},{"$error":"#N/A"}]
[{"$error":"#N/A"},{"$error":"#N/A"},{"$error":"#N/A"},{"$error":"#N/A"},{"$error":"#N/A"}]
[{"$error":"#N/A"},{"$error":"#N/A"},{"$error":"#N/A"},{"$error":"#N/A"},{"$error":"#N/A"}]
[{"$error":"#N/A"},{"$error":"#N/A"},{"$error":"#N/A"},{"$error":"#N/A"},{"$error":"#N/A"}]
[{"$error":"#N/A"},{"$error":"#N/A"},{"$error":"#N/A"},{"$error":"#N/A"},{"$error":"#N/A"}]
[{"$error":"#N/A"},{"$error":"#N/A"},{"$error":"#N/A"},{"$error":"#N/A"},{"$error":"#N/A"}]
[{"$error":"#N/A"},{"$error":"#N/A"},{"$error":"#N/A"},{"$error":"#N/A"},{"$error":"#N/A"}]
[{"$error":"#N/A"},{"$error":"#N/A"},{"$error":"#N/A"},{"$error":"#N/A"},{"$error":"#N/A"}]
[{"$error":"#N/A"},{"$error":"#N/A"},{"$error":"#N/A"},{"$error":"#N/A"},{"$error":"#N/A"}]
[{"$error":"#N/A"},{"$error":"#N/A"},{"$error":"#N/A"},{"$error":"#N/A"},{"$error":"#N/A"}]
[{"$error":"#N/A"},{"$error":"#N/A"},{"$error":"#N/A"},{"$error":"#N/A"},{"$error":"#N/A"}]
[{"$error":"#N/A"},{"$error":"#N/A"},{"$error":"#N/A"},{"$error":"#N/A"},{"$error":"#N/A"}]
[{"$error":"#N/A"},{"$error":"#N/A"},{"$error":"#N/A"},{"$error":"#N/A"},{"$error":"#N/A"}]
[{"$error":"#N/A"},{"$error":"#N/A"},{"$error":"#N/A"},{"$error":"#N/A"},{"$error":"#N/A"}]
[{"$error":"#N/A"},{"$error":"#N/A"},{"$error":"#N/A"},{"$error":"#N/A"},{"$error":"#N/A"}]
[{"$error":"#N/A"},{"$error":"#N/A"},{"$error":"#N/A"},{"$error":"#N/A"},{"$error":"#N/A"}]
[{"$error":"#N/A"},{"$error":"#N/A"},{"$error":"#N/A"},{"$error":"#N/A"},{"$error":"#N/A"}]
[{"$error":"#N/A"},{"$error":"#N/A"},{"$error":"#N/A"},{"$error":"#N/A"},{"$error":"#N/A"}]
[{"$error":"#N/A"},{"$error":"#N/A"},{"$error":"#N/A"},{"$error":"#N/A"},{"$error":"#N/A"}]
[{"$error":"#N/A"},{"$error":"#N/A"},{"$error":"#N/A"},{"$error":"#N/A"},{"$error":"#N/A"}]
[{"$error":"#N/A"},{"$error":"#N/A"},{"$error":"#N/A"},{"$error":"#N/A"},{"$error":"#N/A"}]
[{"$error":"#N/A"},{"$error":"#N/A"},{"$error":"#N/A"},{"$error":"#N/A"},{"$error":"#N/A"}]
[{"$error":"#N/A"},{"$error":"#N/A"},{"$error":"#N/A"},{"$error":"#N/A"},{"$error":"#N/A"}]
[{"$error":"#N/A"},{"$error":"#N/A"},{"$error":"#N/A"},{"$error":"#N/A"},{"$error":"#N/A"}]
[{"$error":"#N/A"},{"$error":"#N/A"},{"$error":"#N/A"},{"$error":"#N/A"},{"$error":"#N/A"}]
[{"$error":"#N/A"},{"$error":"#N/A"},{"$error":"#N/A"},{"$error":"#N/A"},{"$error":"#N/A"}]
[{"$error":"#N/A"},{"$error":"#N/A"},{"$error":"#N/A"},{"$error":"#N/A"},{"$error":"#N/A"}]
[{"$error":"#N/A"},{"$error":"#N/A"},{"$error":"#N/A"},{"$error":"#N/A"},{"$error":"#N/A"}]
[{"$error":"#N/A"},{"$error":"#N/A"},{"$error":"#N/A"},{"$error":"#N/A"},{"$error":"#N/A"}]
[{"$error":"#N/A"},{"$error":"#N/A"},{"$error":"#N/A"},{"$error":"#N/A"},{"$error":"#N/A"}]
[{"$error":"#N/A"},{"$error":"#N/A"},{"$error":"#N/A"},{"$error":"#N/A"},{"$error":"#N/A"}]
[{"$error":"#N/A"},{"$error":"#N/A"},{"$error":"#N/A"},{"$error":"#N/A"},{"$error":"#N/A"}]
[{"$error":"#N/A"},{"$error":"#N/A"},{"$error":"#N/A"},{"$error":"#N/A"},{"$error":"#N/A"}]
[{"$error":"#N/A"},{"$error":"#N/A"},{"$error":"#N/A"},{"$error":"#N/A"},{"$error":"#N/A"}]
[{"$error":"#N/A"},{"$error":"#N/A"},{"$error":"#N/A"},{"$error":"#N/A"},{"$error":"#N/A"}]
[{"$error":"#N/A"},{"$error":"#N/A"},{"$error":"#N/A"},{"$error":"#N/A"},{"$error":"#N/A"}]
[{"$error":"#N/A"},{"$error":"#N/A"},{"$error":"#N/A"},{"$error":"#N/A"},{"$error":"#N/A"}]
[{"$error":"#N/A"},{"$error":"#N/A"},{"$error":"#N/A"},{"$error":"#N/A"},{"$error":"#N/A"}]
[{"$error":"#N/A"},{"$error":"#N/A"},{"$error":"#N/A"},{"$error":"#N/A"},{"$error":"#N/A"}]
[{"$error":"#N/A"},{"$error":"#N/A"},{"$error":"#N/A"},{"$error":"#N/A"},{"$error":"#N/A"}]
[{"$error":"#N/A"},{"$error":"#N/A"},{"$error":"#N/A"},{"$error":"#N/A"},{"$error":"#N/A"}]
[{"$error":"#N/A"},{"$error":"#N/A"},{"$error":"#N/A"},{"$error":"#N/A"},{"$error":"#N/A"}]
[{"$error":"#N/A"},{"$error":"#N/A"},{"$error":"#N/A"},{"$error":"#N/A"},{"$error":"#N/A"}]
[{"$error":"#N/A"},{"$error":"#N/A"},{"$error":"#N/A"},{"$error":"#N/A"},{"$error":"#N/A"}]
[{"$error":"#N/A"},{"$error":"#N/A"},{"$error":"#N/A"},{"$error":"#N/A"},{"$error":"#N/A"}]
[{"$error":"#N/A"},{"$error":"#N/A"},{"$error":"#N/A"},{"$error":"#N/A"},{"$error":"#N/A"}]
[{"$error":"#N/A"},{"$error":"#N/A"},{"$error":"#N/A"},{"$error":"#N/A"},{"$error":"#N/A"}]
[{"$error":"#N/A"},{"$error":"#N/A"},{"$error":"#N/A"},{"$error":"#N/A"},{"$error":"#N/A"}]
[{"$error":"#N/A"},{"$error":"#N/A"},{"$error":"#N/A"},{"$error":"#N/A"},{"$error":"#N/A"}]
[{"$error":"#N/A"},{"$error":"#N/A"},{"$error":"#N/A"},{"$error":"#N/A"},{"$error":"#N/A"}]
[{"$error":"#N/A"},{"$error":"#N/A"},{"$error":"#N/A"},{"$error":"#N/A"},{"$error":"#N/A"}]
[{"$error":"#N/A"},{"$error":"#N/A"},{"$error":"#N/A"},{"$error":"#N/A"},{"$error":"#N/A"}]
[{"$error":"#N/A"},{"$error":"#N/A"},{"$error":"#N/A"},{"$error":"#N/A"},{"$error":"#N/A"}]
[{"$error":"#N/A"},{"$error":"#N/A"},{"$error":"#N/A"},{"$error":"#N/A"},{"$error":"#N/A"}]
[{"$error":"#N/A"},{"$error":"#N/A"},{"$error":"#N/A"},{"$error":"#N/A"},{"$error":"#N/A"}]
[{"$error":"#N/A"},{"$error":"#N/A"},{"$error":"#N/A"},{"$error":"#N/A"},{"$error":"#N/A"}]
[{"$error":"#N/A"},{"$error":"#N/A"},{"$error":"#N/A"},{"$error":"#N/A"},{"$error":"#N/A"}]
[{"$error":"#N/A"},{"$error":"#N/A"},{"$error":"#N/A"},{"$error":"#N/A"},{"$error":"#N/A"}]
[{"$error":"#N/A"},{"$error":"#N/A"},{"$error":"#N/A"},{"$error":"#N/A"},{"$error":"#N/A"}]
[{"$error":"#N/A"},{"$error":"#N/A"},{"$error":"#N/A"},{"$error":"#N/A"},{"$error":"#N/A"}]
[{"$error":"#N/A"},{"$error":"#N/A"},{"$error":"#N/A"},{"$error":"#N/A"},{"$error":"#N/A"}]
[{"$error":"#N/A"},{"$error":"#N/A"},{"$error":"#N/A"},{"$error":"#N/A"},{"$error":"#N/A"}]
[{"$error":"#N/A"},{"$error":"#N/A"},{"$error":"#N/A"},{"$error":"#N/A"},{"$error":"#N/A"}]
[{"$error":"#N/A"},{"$error":"#N/A"},{"$error":"#N/A"},{"$error":"#N/A"},{"$error":"#N/A"}]
[{"$error":"#N/A"},{"$error":"#N/A"},{"$error":"#N/A"},{"$error":"#N/A"},{"$error":"#N/A"}]
[{"$error":"#N/A"},{"$error":"#N/A"},{"$error":"#N/A"},{"$error":"#N/A"},{"$error":"#N/A"}]
[{"$error":"#N/A"},{"$error":"#N/A"},{"$error":"#N/A"},{"$error":"#N/A"},{"$error":"#N/A"}]
[{"$error":"#N/A"},{"$error":"#N/A"},{"$error":"#N/A"},{"$error":"#N/A"},{"$error":"#N/A"}]
[{"$error":"#N/A"},{"$error":"#N/A"},{"$error":"#N/A"},{"$error":"#N/A"},{"$error":"#N/A"}]
[{"$error":"#N/A"},{"$error":"#N/A"},{"$error":"#N/A"},{"$error":"#N/A"},{"$error":"#N/A"}]
[{"$error":"#N/A"},{"$error":"#N/A"},{"$error":"#N/A"},{"$error":"#N/A"},{"$error":"#N/A"}]
[{"$error":"#N/A"},{"$error":"#N/A"},{"$error":"#N/A"},{"$error":"#N/A"},{"$error":"#N/A"}]
[{"$error":"#N/A"},{"$error":"#N/A"},{"$error":"#N/A"},{"$error":"#N/A"},{"$error":"#N/A"}]
[{"$error":"#N/A"},{"$error":"#N/A"},{"$error":"#N/A"},{"$error":"#N/A"},{"$error":"#N/A"}]
[{"$error":"#N/A"},{"$error":"#N/A"},{"$error":"#N/A"},{"$error":"#N/A"},{"$error":"#N/A"}]
[{"$error":"#N/A"},{"$error":"#N/A"},{"$error":"#N/A"},{"$error":"#N/A"},{"$error":"#N/A"}]
[{"$error":"#N/A"},{"$error":"#N/A"},{"$error":"#N/A"},{"$error":"#N/A"},{"$error":"#N/A"}]
[{"$error":"#N/A"},{"$error":"#N/A"},{"$error":"#N/A"},{"$error":"#N/A"},{"$error":"#N/A"}]
[{"$error":"#N/A"},{"$error":"#N/A"},{"$error":"#N/A"},{"$error":"#N/A"},{"$error":"#N/A"}]
[{"$error":"#N/A"},{"$error":"#N/A"},{"$error":"#N/A"},{"$error":"#N/A"},{"$error":"#N/A"}]
[{"$error":"#N/A"},{"$error":"#N/A"},{"$error":"#N/A"},{"$error":"#N/A"},{"$error":"#N/A"}]
[{"$error":"#N/A"},{"$error":"#N/A"},{"$error":"#N/A"},{"$error":"#N/A"},{"$error":"#N/A"}]
[{"$error":"#N/A"},{"$error":"#N/A"},{"$error":"#N/A"},{"$error":"#N/A"},{"$error":"#N/A"}]
[{"$error":"#N/A"},{"$error":"#N/A"},{"$error":"#N/A"},{"$error":"#N/A"},{"$error":"#N/A"}]
[{"$error":"#N/A"},{"$error":"#N/A"},{"$error":"#N/A"},{"$error":"#N/A"},{"$error":"#N/A"}]
[{"$error":"#N/A"},{"$error":"#N/A"},{"$error":"#N/A"},{"$error":"#N/A"},{"$error":"#N/A"}]
[{"$error":"#N/A"},{"$error":"#N/A"},{"$error":"#N/A"},{"$error":"#N/A"},{"$error":"#N/A"}]
[{"$error":"#N/A"},{"$error":"#N/A"},{"$error":"#N/A"},{"$error":"#N/A"},{"$error":"#N/A"}]
[{"$error":"#N/A"},{"$error":"#N/A"},{"$error":"#N/A"},{"$error":"#N/A"},{"$error":"#N/A"}]
[{"$error":"#N/A"},{"$error":"#N/A"},{"$error":"#N/A"},{"$error":"#N/A"},{"$error":"#N/A"}]
[{"$error":"#N/A"},{"$error":"#N/A"},{"$error":"#N/A"},{"$error":"#N/A"},{"$error":"#N/A"}]
[{"$error":"#N/A"},{"$error":"#N/A"},{"$error":"#N/A"},{"$error":"#N/A"},{"$error":"#N/A"}]
[{"$error":"#N/A"},{"$error":"#N/A"},{"$error":"#N/A"},{"$error":"#N/A"},{"$error":"#N/A"}]
[{"$error":"#N/A"},{"$error":"#N/A"},{"$error":"#N/A"},{"$error":"#N/A"},{"$error":"#N/A"}]
[{"$error":"#N/A"},{"$error":"#N/A"},{"$error":"#N/A"},{"$error":"#N/A"},{"$error":"#N/A"}]
[{"$error":"#N/A"},{"$error":"#N/A"},{"$error":"#N/A"},{"$error":"#N/A"},{"$error":"#N/A"}]
[{"$error":"#N/A"},{"$error":"#N/A"},{"$error":"#N/A"},{"$error":"#N/A"},{"$error":"#N/A"}]
[{"$error":"#N/A"},{"$error":"#N/A"},{"$error":"#N/A"},{"$error":"#N/A"},{"$error":"#N/A"}]
[{"$error":"#N/A"},{"$error":"#N/A"},{"$error":"#N/A"},{"$error":"#N/A"},{"$error":"#N/A"}]
[{"$error":"#N/A"},{"$error":"#N/A"},{"$error":"#N/A"},{"$error":"#N/A"},{"$error":"#N/A"}]
[{"$error":"#N/A"},{"$error":"#N/A"},{"$error":"#N/A"},{"$error":"#N/A"},{"$error":"#N/A"}]
[{"$error":"#N/A"},{"$error":"#N/A"},{"$error":"#N/A"},{"$error":"#N/A"},{"$error":"#N/A"}]
[{"$error":"#N/A"},{"$error":"#N/A"},{"$error":"#N/A"},{"$error":"#N/A"},{"$error":"#N/A"}]
[{"$error":"#N/A"},{"$error":"#N/A"},{"$error":"#N/A"},{"$error":"#N/A"},{"$error":"#N/A"}]
[{"$error":"#N/A"},{"$error":"#N/A"},{"$error":"#N/A"},{"$error":"#N/A"},{"$error":"#N/A"}]
[{"$error":"#N/A"},{"$error":"#N/A"},{"$error":"#N/A"},{"$error":"#N/A"},{"$error":"#N/A"}]
[{"$error":"#N/A"},{"$error":"#N/A"},{"$error":"#N/A"},{"$error":"#N/A"},{"$error":"#N/A"}]
[{"$error":"#N/A"},{"$error":"#N/A"},{"$error":"#N/A"},{"$error":"#N/A"},{"$error":"#N/A"}]
[{"$error":"#N/A"},{"$error":"#N/A"},{"$error":"#N/A"},{"$error":"#N/A"},{"$error":"#N/A"}]
[{"$error":"#N/A"},{"$error":"#N/A"},{"$error":"#N/A"},{"$error":"#N/A"},{"$error":"#N/A"}]
[{"$error":"#N/A"},{"$error":"#N/A"},{"$error":"#N/A"},{"$error":"#N/A"},{"$error":"#N/A"}]
[{"$error":"#N/A"},{"$error":"#N/A"},{"$error":"#N/A"},{"$error":"#N/A"},{"$error":"#N/A"}]
[{"$error":"#N/A"},{"$error":"#N/A"},{"$error":"#N/A"},{"$error":"#N/A"},{"$error":"#N/A"}]
[{"$error":"#N/A"},{"$error":"#N/A"},{"$error":"#N/A"},{"$error":"#N/A"},{"$error":"#N/A"}]
[{"$error":"#N/A"},{"$error":"#N/A"},{"$error":"#N/A"},{"$error":"#N/A"},{"$error":"#N/A"}]
[{"$error":"#N/A"},{"$error":"#N/A"},{"$error":"#N/A"},{"$error":"#N/A"},{"$error":"#N/A"}]
[{"$error":"#N/A"},{"$error":"#N/A"},{"$error":"#N/A"},{"$error":"#N/A"},{"$error":"#N/A"}]
[{"$error":"#N/A"},{"$error":"#N/A"},{"$error":"#N/A"},{"$error":"#N/A"},{"$error":"#N/A"}]
[{"$error":"#N/A"},{"$error":"#N/A"},{"$error":"#N/A"},{"$error":"#N/A"},{"$error":"#N/A"}]
[{"$error":"#N/A"},{"$error":"#N/A"},{"$error":"#N/A"},{"$error":"#N/A"},{"$error":"#N/A"}]
[{"$error":"#N/A"},{"$error":"#N/A"},{"$error":"#N/A"},{"$error":"#N/A"},{"$error":"#N/A"}]
[{"$error":"#N/A"},{"$error":"#N/A"},{"$error":"#N/A"},{"$error":"#N/A"},{"$error":"#N/A"}]
[{"$error":"#N/A"},{"$error":"#N/A"},{"$error":"#N/A"},{"$error":"#N/A"},{"$error":"#N/A"}]
[{"$error":"#N/A"},{"$error":"#N/A"},{"$error":"#N/A"},{"$error":"#N/A"},{"$error":"#N/A"}]
[{"$error":"#N/A"},{"$error":"#N/A"},{"$error":"#N/A"},{"$error":"#N/A"},{"$error":"#N/A"}]
[{"$error":"#N/A"},{"$error":"#N/A"},{"$error":"#N/A"},{"$error":"#N/A"},{"$error":"#N/A"}]
[{"$error":"#N/A"},{"$error":"#N/A"},{"$error":"#N/A"},{"$error":"#N/A"},{"$error":"#N/A"}]
[{"$error":"#N/A"},{"$error":"#N/A"},{"$error":"#N/A"},{"$error":"#N/A"},{"$error":"#N/A"}]
[{"$error":"#N/A"},{"$error":"#N/A"},{"$error":"#N/A"},{"$error":"#N/A"},{"$error":"#N/A"}]
[{"$error":"#N/A"},{"$error":"#N/A"},{"$error":"#N/A"},{"$error":"#N/A"},{"$error":"#N/A"}]
[{"$error":"#N/A"},{"$error":"#N/A"},{"$error":"#N/A"},{"$error":"#N/A"},{"$error":"#N/A"}]
[{"$error":"#N/A"},{"$error":"#N/A"},{"$error":"#N/A"},{"$error":"#N/A"},{"$error":"#N/A"}]
[{"$error":"#N/A"},{"$error":"#N/A"},{"$error":"#N/A"},{"$error":"#N/A"},{"$error":"#N/A"}]
[{"$error":"#N/A"},{"$error":"#N/A"},{"$error":"#N/A"},{"$error":"#N/A"},{"$error":"#N/A"}]
[{"$error":"#N/A"},{"$error":"#N/A"},{"$error":"#N/A"},{"$error":"#N/A"},{"$error":"#N/A"}]
[{"$error":"#N/A"},{"$error":"#N/A"},{"$error":"#N/A"},{"$error":"#N/A"},{"$error":"#N/A"}]
[{"$error":"#N/A"},{"$error":"#N/A"},{"$error":"#N/A"},{"$error":"#N/A"},{"$error":"#N/A"}]
[{"$error":"#N/A"},{"$error":"#N/A"},{"$error":"#N/A"},{"$error":"#N/A"},{"$error":"#N/A"}]
[{"$error":"#N/A"},{"$error":"#N/A"},{"$error":"#N/A"},{"$error":"#N/A"},{"$error":"#N/A"}]
[{"$error":"#N/A"},{"$error":"#N/A"},{"$error":"#N/A"},{"$error":"#N/A"},{"$error":"#N/A"}]
[{"$error":"#N/A"},{"$error":"#N/A"},{"$error":"#N/A"},{"$error":"#N/A"},{"$error":"#N/A"}]
[{"$error":"#N/A"},{"$error":"#N/A"},{"$error":"#N/A"},{"$error":"#N/A"},{"$error":"#N/A"}]
[{"$error":"#N/A"},{"$error":"#N/A"},{"$error":"#N/A"},{"$error":"#N/A"},{"$error":"#N/A"}]
[{"$error":"#N/A"},{"$error":"#N/A"},{"$error":"#N/A"},{"$error":"#N/A"},{"$error":"#N/A"}]
[{"$error":"#N/A"},{"$error":"#N/A"},{"$error":"#N/A"},{"$error":"#N/A"},{"$error":"#N/A"}]
[{"$error":"#N/A"},{"$error":"#N/A"},{"$error":"#N/A"},{"$error":"#N/A"},{"$error":"#N/A"}]
[{"$error":"#N/A"},{"$error":"#N/A"},{"$error":"#N/A"},{"$error":"#N/A"},{"$error":"#N/A"}]
[{"$error":"#N/A"},{"$error":"#N/A"},{"$error":"#N/A"},{"$error":"#N/A"},{"$error":"#N/A"}]
[{"$error":"#N/A"},{"$error":"#N/A"},{"$error":"#N/A"},{"$error":"#N/A"},{"$error":"#N/A"}]
[{"$error":"#N/A"},{"$error":"#N/A"},{"$error":"#N/A"},{"$error":"#N/A"},{"$error":"#N/A"}]
[{"$error":"#N/A"},{"$error":"#N/A"},{"$error":"#N/A"},{"$error":"#N/A"},{"$error":"#N/A"}]
[{"$error":"#N/A"},{"$error":"#N/A"},{"$error":"#N/A"},{"$error":"#N/A"},{"$error":"#N/A"}]
[{"$error":"#N/A"},{"$error":"#N/A"},{"$error":"#N/A"},{"$error":"#N/A"},{"$error":"#N/A"}]
[{"$error":"#N/A"},{"$error":"#N/A"},{"$error":"#N/A"},{"$error":"#N/A"},{"$error":"#N/A"}]
[{"$error":"#N/A"},{"$error":"#N/A"},{"$error":"#N/A"},{"$error":"#N/A"},{"$error":"#N/A"}]
[{"$error":"#N/A"},{"$error":"#N/A"},{"$error":"#N/A"},{"$error":"#N/A"},{"$error":"#N/A"}]
[{"$error":"#N/A"},{"$error":"#N/A"},{"$error":"#N/A"},{"$error":"#N/A"},{"$error":"#N/A"}]
[{"$error":"#N/A"},{"$error":"#N/A"},{"$error":"#N/A"},{"$error":"#N/A"},{"$error":"#N/A"}]
[{"$error":"#N/A"},{"$error":"#N/A"},{"$error":"#N/A"},{"$error":"#N/A"},{"$error":"#N/A"}]
[{"$error":"#N/A"},{"$error":"#N/A"},{"$error":"#N/A"},{"$error":"#N/A"},{"$error":"#N/A"}]
[{"$error":"#N/A"},{"$error":"#N/A"},{"$error":"#N/A"},{"$error":"#N/A"},{"$error":"#N/A"}]
[{"$error":"#N/A"},{"$error":"#N/A"},{"$error":"#N/A"},{"$error":"#N/A"},{"$error":"#N/A"}]
[{"$error":"#N/A"},{"$error":"#N/A"},{"$error":"#N/A"},{"$error":"#N/A"},{"$error":"#N/A"}]
[{"$error":"#N/A"},{"$error":"#N/A"},{"$error":"#N/A"},{"$error":"#N/A"},{"$error":"#N/A"}]
[{"$error":"#N/A"},{"$error":"#N/A"},{"$error":"#N/A"},{"$error":"#N/A"},{"$error":"#N/A"}]
[{"$error":"#N/A"},{"$error":"#N/A"},{"$error":"#N/A"},{"$error":"#N/A"},{"$error":"#N/A"}]
[{"$error":"#N/A"},{"$error":"#N/A"},{"$error":"#N/A"},{"$error":"#N/A"},{"$error":"#N/A"}]
[{"$error":"#N/A"},{"$error":"#N/A"},{"$error":"#N/A"},{"$error":"#N/A"},{"$error":"#N/A"}]
[{"$error":"#N/A"},{"$error":"#N/A"},{"$error":"#N/A"},{"$error":"#N/A"},{"$error":"#N/A"}]
[{"$error":"#N/A"},{"$error":"#N/A"},{"$error":"#N/A"},{"$error":"#N/A"},{"$error":"#N/A"}]
[{"$error":"#N/A"},{"$error":"#N/A"},{"$error":"#N/A"},{"$error":"#N/A"},{"$error":"#N/A"}]
[{"$error":"#N/A"},{"$error":"#N/A"},{"$error":"#N/A"},{"$error":"#N/A"},{"$error":"#N/A"}]
[{"$error":"#N/A"},{"$error":"#N/A"},{"$error":"#N/A"},{"$error":"#N/A"},{"$error":"#N/A"}]
[{"$error":"#N/A"},{"$error":"#N/A"},{"$error":"#N/A"},{"$error":"#N/A"},{"$error":"#N/A"}]
[{"$error":"#N/A"},{"$error":"#N/A"},{"$error":"#N/A"},{"$error":"#N/A"},{"$error":"#N/A"}]
[{"$error":"#N/A"},{"$error":"#N/A"},{"$error":"#N/A"},{"$error":"#N/A"},{"$error":"#N/A"}]
[{"$error":"#N/A"},{"$error":"#N/A"},{"$error":"#N/A"},{"$error":"#N/A"},{"$error":"#N/A"}]
[{"$error":"#N/A"},{"$error":"#N/A"},{"$error":"#N/A"},{"$error":"#N/A"},{"$error":"#N/A"}]
[{"$error":"#N/A"},{"$error":"#N/A"},{"$error":"#N/A"},{"$error":"#N/A"},{"$error":"#N/A"}]
[{"$error":"#N/A"},{"$error":"#N/A"},{"$error":"#N/A"},{"$error":"#N/A"},{"$error":"#N/A"}]
[{"$error":"#N/A"},{"$error":"#N/A"},{"$error":"#N/A"},{"$error":"#N/A"},{"$error":"#N/A"}]
[{"$error":"#N/A"},{"$error":"#N/A"},{"$error":"#N/A"},{"$error":"#N/A"},{"$error":"#N/A"}]
[{"$error":"#N/A"},{"$error":"#N/A"},{"$error":"#N/A"},{"$error":"#N/A"},{"$error":"#N/A"}]
[{"$error":"#N/A"},{"$error":"#N/A"},{"$error":"#N/A"},{"$error":"#N/A"},{"$error":"#N/A"}]
[{"$error":"#N/A"},{"$error":"#N/A"},{"$error":"#N/A"},{"$error":"#N/A"},{"$error":"#N/A"}]
[{"$error":"#N/A"},{"$error":"#N/A"},{"$error":"#N/A"},{"$error":"#N/A"},{"$error":"#N/A"}]
[{"$error":"#N/A"},{"$error":"#N/A"},{"$error":"#N/A"},{"$error":"#N/A"},{"$error":"#N/A"}]
[{"$error":"#N/A"},{"$error":"#N/A"},{"$error":"#N/A"},{"$error":"#N/A"},{"$error":"#N/A"}]
[{"$error":"#N/A"},{"$error":"#N/A"},{"$error":"#N/A"},{"$error":"#N/A"},{"$error":"#N/A"}]
[{"$error":"#N/A"},{"$error":"#N/A"},{"$error":"#N/A"},{"$error":"#N/A"},{"$error":"#N/A"}]
[{"$error":"#N/A"},{"$error":"#N/A"},{"$error":"#N/A"},{"$error":"#N/A"},{"$error":"#N/A"}]
[{"$error":"#N/A"},{"$error":"#N/A"},{"$error":"#N/A"},{"$error":"#N/A"},{"$error":"#N/A"}]
[{"$error":"#N/A"},{"$error":"#N/A"},{"$error":"#N/A"},{"$error":"#N/A"},{"$error":"#N/A"}]
[{"$error":"#N/A"},{"$error":"#N/A"},{"$error":"#N/A"},{"$error":"#N/A"},{"$error":"#N/A"}]
[{"$error":"#N/A"},{"$error":"#N/A"},{"$error":"#N/A"},{"$error":"#N/A"},{"$error":"#N/A"}]
[{"$error":"#N/A"},{"$error":"#N/A"},{"$error":"#N/A"},{"$error":"#N/A"},{"$error":"#N/A"}]
[{"$error":"#N/A"},{"$error":"#N/A"},{"$error":"#N/A"},{"$error":"#N/A"},{"$error":"#N/A"}]
[{"$error":"#N/A"},{"$error":"#N/A"},{"$error":"#N/A"},{"$error":"#N/A"},{"$error":"#N/A"}]
[{"$error":"#N/A"},{"$error":"#N/A"},{"$error":"#N/A"},{"$error":"#N/A"},{"$error":"#N/A"}]
[{"$error":"#N/A"},{"$error":"#N/A"},{"$error":"#N/A"},{"$error":"#N/A"},{"$error":"#N/A"}]
[{"$error":"#N/A"},{"$error":"#N/A"},{"$error":"#N/A"},{"$error":"#N/A"},{"$error":"#N/A"}]
[{"$error":"#N/A"},{"$error":"#N/A"},{"$error":"#N/A"},{"$error":"#N/A"},{"$error":"#N/A"}]
[{"$error":"#N/A"},{"$error":"#N/A"},{"$error":"#N/A"},{"$error":"#N/A"},{"$error":"#N/A"}]
[{"$error":"#N/A"},{"$error":"#N/A"},{"$error":"#N/A"},{"$error":"#N/A"},{"$error":"#N/A"}]
[{"$error":"#N/A"},{"$error":"#N/A"},{"$error":"#N/A"},{"$error":"#N/A"},{"$error":"#N/A"}]
[{"$error":"#N/A"},{"$error":"#N/A"},{"$error":"#N/A"},{"$error":"#N/A"},{"$error":"#N/A"}]
[{"$error":"#N/A"},{"$error":"#N/A"},{"$error":"#N/A"},{"$error":"#N/A"},{"$error":"#N/A"}]
[{"$error":"#N/A"},{"$error":"#N/A"},{"$error":"#N/A"},{"$error":"#N/A"},{"$error":"#N/A"}]
[{"$error":"#N/A"},{"$error":"#N/A"},{"$error":"#N/A"},{"$error":"#N/A"},{"$error":"#N/A"}]
[{"$error":"#N/A"},{"$error":"#N/A"},{"$error":"#N/A"},{"$error":"#N/A"},{"$error":"#N/A"}]
[{"$error":"#N/A"},{"$error":"#N/A"},{"$error":"#N/A"},{"$error":"#N/A"},{"$error":"#N/A"}]
[{"$error":"#N/A"},{"$error":"#N/A"},{"$error":"#N/A"},{"$error":"#N/A"},{"$error":"#N/A"}]
[{"$error":"#N/A"},{"$error":"#N/A"},{"$error":"#N/A"},{"$error":"#N/A"},{"$error":"#N/A"}]
[{"$error":"#N/A"},{"$error":"#N/A"},{"$error":"#N/A"},{"$error":"#N/A"},{"$error":"#N/A"}]
[{"$error":"#N/A"},{"$error":"#N/A"},{"$error":"#N/A"},{"$error":"#N/A"},{"$error":"#N/A"}]
[{"$error":"#N/A"},{"$error":"#N/A"},{"$error":"#N/A"},{"$error":"#N/A"},{"$error":"#N/A"}]
[{"$error":"#N/A"},{"$error":"#N/A"},{"$error":"#N/A"},{"$error":"#N/A"},{"$error":"#N/A"}]
[{"$error":"#N/A"},{"$error":"#N/A"},{"$error":"#N/A"},{"$error":"#N/A"},{"$error":"#N/A"}]
[{"$error":"#N/A"},{"$error":"#N/A"},{"$error":"#N/A"},{"$error":"#N/A"},{"$error":"#N/A"}]
[{"$error":"#N/A"},{"$error":"#N/A"},{"$error":"#N/A"},{"$error":"#N/A"},{"$error":"#N/A"}]
[{"$error":"#N/A"},{"$error":"#N/A"},{"$error":"#N/A"},{"$error":"#N/A"},{"$error":"#N/A"}]
[{"$error":"#N/A"},{"$error":"#N/A"},{"$error":"#N/A"},{"$error":"#N/A"},{"$error":"#N/A"}]
[{"$error":"#N/A"},{"$error":"#N/A"},{"$error":"#N/A"},{"$error":"#N/A"},{"$error":"#N/A"}]
[{"$error":"#N/A"},{"$error":"#N/A"},{"$error":"#N/A"},{"$error":"#N/A"},{"$error":"#N/A"}]
[{"$error":"#N/A"},{"$error":"#N/A"},{"$error":"#N/A"},{"$error":"#N/A"},{"$error":"#N/A"}]
[{"$error":"#N/A"},{"$error":"#N/A"},{"$error":"#N/A"},{"$error":"#N/A"},{"$error":"#N/A"}]
[{"$error":"#N/A"},{"$error":"#N/A"},{"$error":"#N/A"},{"$error":"#N/A"},{"$error":"#N/A"}]
[{"$error":"#N/A"},{"$error":"#N/A"},{"$error":"#N/A"},{"$error":"#N/A"},{"$error":"#N/A"}]
[{"$error":"#N/A"},{"$error":"#N/A"},{"$error":"#N/A"},{"$error":"#N/A"},{"$error":"#N/A"}]
[{"$error":"#N/A"},{"$error":"#N/A"},{"$error":"#N/A"},{"$error":"#N/A"},{"$error":"#N/A"}]
[{"$error":"#N/A"},{"$error":"#N/A"},{"$error":"#N/A"},{"$error":"#N/A"},{"$error":"#N/A"}]
[{"$error":"#N/A"},{"$error":"#N/A"},{"$error":"#N/A"},{"$error":"#N/A"},{"$error":"#N/A"}]
[{"$error":"#N/A"},{"$error":"#N/A"},{"$error":"#N/A"},{"$error":"#N/A"},{"$error":"#N/A"}]
[{"$error":"#N/A"},{"$error":"#N/A"},{"$error":"#N/A"},{"$error":"#N/A"},{"$error":"#N/A"}]
[{"$error":"#N/A"},{"$error":"#N/A"},{"$error":"#N/A"},{"$error":"#N/A"},{"$error":"#N/A"}]
[{"$error":"#N/A"},{"$error":"#N/A"},{"$error":"#N/A"},{"$error":"#N/A"},{"$error":"#N/A"}]
[{"$error":"#N/A"},{"$error":"#N/A"},{"$error":"#N/A"},{"$error":"#N/A"},{"$error":"#N/A"}]
[{"$error":"#N/A"},{"$error":"#N/A"},{"$error":"#N/A"},{"$error":"#N/A"},{"$error":"#N/A"}]
[{"$error":"#N/A"},{"$error":"#N/A"},{"$error":"#N/A"},{"$error":"#N/A"},{"$error":"#N/A"}]
[{"$error":"#N/A"},{"$error":"#N/A"},{"$error":"#N/A"},{"$error":"#N/A"},{"$error":"#N/A"}]
[{"$error":"#N/A"},{"$error":"#N/A"},{"$error":"#N/A"},{"$error":"#N/A"},{"$error":"#N/A"}]
[{"$error":"#N/A"},{"$error":"#N/A"},{"$error":"#N/A"},{"$error":"#N/A"},{"$error":"#N/A"}]
[{"$error":"#N/A"},{"$error":"#N/A"},{"$error":"#N/A"},{"$error":"#N/A"},{"$error":"#N/A"}]
[{"$error":"#N/A"},{"$error":"#N/A"},{"$error":"#N/A"},{"$error":"#N/A"},{"$error":"#N/A"}]
[{"$error":"#N/A"},{"$error":"#N/A"},{"$error":"#N/A"},{"$error":"#N/A"},{"$error":"#N/A"}]
[{"$error":"#N/A"},{"$error":"#N/A"},{"$error":"#N/A"},{"$error":"#N/A"},{"$error":"#N/A"}]
[{"$error":"#N/A"},{"$error":"#N/A"},{"$error":"#N/A"},{"$error":"#N/A"},{"$error":"#N/A"}]
[{"$error":"#N/A"},{"$error":"#N/A"},{"$error":"#N/A"},{"$error":"#N/A"},{"$error":"#N/A"}]
[{"$error":"#N/A"},{"$error":"#N/A"},{"$error":"#N/A"},{"$error":"#N/A"},{"$error":"#N/A"}]
[{"$error":"#N/A"},{"$error":"#N/A"},{"$error":"#N/A"},{"$error":"#N/A"},{"$error":"#N/A"}]
[{"$error":"#N/A"},{"$error":"#N/A"},{"$error":"#N/A"},{"$error":"#N/A"},{"$error":"#N/A"}]
[{"$error":"#N/A"},{"$error":"#N/A"},{"$error":"#N/A"},{"$error":"#N/A"},{"$error":"#N/A"}]
[{"$error":"#N/A"},{"$error":"#N/A"},{"$error":"#N/A"},{"$error":"#N/A"},{"$error":"#N/A"}]
[{"$error":"#N/A"},{"$error":"#N/A"},{"$error":"#N/A"},{"$error":"#N/A"},{"$error":"#N/A"}]
[{"$error":"#N/A"},{"$error":"#N/A"},{"$error":"#N/A"},{"$error":"#N/A"},{"$error":"#N/A"}]
[{"$error":"#N/A"},{"$error":"#N/A"},{"$error":"#N/A"},{"$error":"#N/A"},{"$error":"#N/A"}]
[{"$error":"#N/A"},{"$error":"#N/A"},{"$error":"#N/A"},{"$error":"#N/A"},{"$error":"#N/A"}]
[{"$error":"#N/A"},{"$error":"#N/A"},{"$error":"#N/A"},{"$error":"#N/A"},{"$error":"#N/A"}]
[{"$error":"#N/A"},{"$error":"#N/A"},{"$error":"#N/A"},{"$error":"#N/A"},{"$error":"#N/A"}]
[{"$error":"#N/A"},{"$error":"#N/A"},{"$error":"#N/A"},{"$error":"#N/A"},{"$error":"#N/A"}]
[{"$error":"#N/A"},{"$error":"#N/A"},{"$error":"#N/A"},{"$error":"#N/A"},{"$error":"#N/A"}]
[{"$error":"#N/A"},{"$error":"#N/A"},{"$error":"#N/A"},{"$error":"#N/A"},{"$error":"#N/A"}]
[{"$error":"#N/A"},{"$error":"#N/A"},{"$error":"#N/A"},{"$error":"#N/A"},{"$error":"#N/A"}]
[{"$error":"#N/A"},{"$error":"#N/A"},{"$error":"#N/A"},{"$error":"#N/A"},{"$error":"#N/A"}]
[{"$error":"#N/A"},{"$error":"#N/A"},{"$error":"#N/A"},{"$error":"#N/A"},{"$error":"#N/A"}]
[{"$error":"#N/A"},{"$error":"#N/A"},{"$error":"#N/A"},{"$error":"#N/A"},{"$error":"#N/A"}]
[{"$error":"#N/A"},{"$error":"#N/A"},{"$error":"#N/A"},{"$error":"#N/A"},{"$error":"#N/A"}]
[{"$error":"#N/A"},{"$error":"#N/A"},{"$error":"#N/A"},{"$error":"#N/A"},{"$error":"#N/A"}]
[{"$error":"#N/A"},{"$error":"#N/A"},{"$error":"#N/A"},{"$error":"#N/A"},{"$error":"#N/A"}]
[{"$error":"#N/A"},{"$error":"#N/A"},{"$error":"#N/A"},{"$error":"#N/A"},{"$error":"#N/A"}]
[{"$error":"#N/A"},{"$error":"#N/A"},{"$error":"#N/A"},{"$error":"#N/A"},{"$error":"#N/A"}]
[{"$error":"#N/A"},{"$error":"#N/A"},{"$error":"#N/A"},{"$error":"#N/A"},{"$error":"#N/A"}]
[{"$error":"#N/A"},{"$error":"#N/A"},{"$error":"#N/A"},{"$error":"#N/A"},{"$error":"#N/A"}]
[{"$error":"#N/A"},{"$error":"#N/A"},{"$error":"#N/A"},{"$error":"#N/A"},{"$error":"#N/A"}]
[{"$error":"#N/A"},{"$error":"#N/A"},{"$error":"#N/A"},{"$error":"#N/A"},{"$error":"#N/A"}]
[{"$error":"#N/A"},{"$error":"#N/A"},{"$error":"#N/A"},{"$error":"#N/A"},{"$error":"#N/A"}]
[{"$error":"#N/A"},{"$error":"#N/A"},{"$error":"#N/A"},{"$error":"#N/A"},{"$error":"#N/A"}]
[{"$error":"#N/A"},{"$error":"#N/A"},{"$error":"#N/A"},{"$error":"#N/A"},{"$error":"#N/A"}]
[{"$error":"#N/A"},{"$error":"#N/A"},{"$error":"#N/A"},{"$error":"#N/A"},{"$error":"#N/A"}]
[{"$error":"#N/A"},{"$error":"#N/A"},{"$error":"#N/A"},{"$error":"#N/A"},{"$error":"#N/A"}]
[{"$error":"#N/A"},{"$error":"#N/A"},{"$error":"#N/A"},{"$error":"#N/A"},{"$error":"#N/A"}]
[{"$error":"#N/A"},{"$error":"#N/A"},{"$error":"#N/A"},{"$error":"#N/A"},{"$error":"#N/A"}]
[{"$error":"#N/A"},{"$error":"#N/A"},{"$error":"#N/A"},{"$error":"#N/A"},{"$error":"#N/A"}]
[{"$error":"#N/A"},{"$error":"#N/A"},{"$error":"#N/A"},{"$error":"#N/A"},{"$error":"#N/A"}]
[{"$error":"#N/A"},{"$error":"#N/A"},{"$error":"#N/A"},{"$error":"#N/A"},{"$error":"#N/A"}]
[{"$error":"#N/A"},{"$error":"#N/A"},{"$error":"#N/A"},{"$error":"#N/A"},{"$error":"#N/A"}]
[{"$error":"#N/A"},{"$error":"#N/A"},{"$error":"#N/A"},{"$error":"#N/A"},{"$error":"#N/A"}]
[{"$error":"#N/A"},{"$error":"#N/A"},{"$error":"#N/A"},{"$error":"#N/A"},{"$error":"#N/A"}]
[{"$error":"#N/A"},{"$error":"#N/A"},{"$error":"#N/A"},{"$error":"#N/A"},{"$error":"#N/A"}]
[{"$error":"#N/A"},{"$error":"#N/A"},{"$error":"#N/A"},{"$error":"#N/A"},{"$error":"#N/A"}]
[{"$error":"#N/A"},{"$error":"#N/A"},{"$error":"#N/A"},{"$error":"#N/A"},{"$error":"#N/A"}]
[{"$error":"#N/A"},{"$error":"#N/A"},{"$error":"#N/A"},{"$error":"#N/A"},{"$error":"#N/A"}]
[{"$error":"#N/A"},{"$error":"#N/A"},{"$error":"#N/A"},{"$error":"#N/A"},{"$error":"#N/A"}]
[{"$error":"#N/A"},{"$error":"#N/A"},{"$error":"#N/A"},{"$error":"#N/A"},{"$error":"#N/A"}]
[{"$error":"#N/A"},{"$error":"#N/A"},{"$error":"#N/A"},{"$error":"#N/A"},{"$error":"#N/A"}]
[{"$error":"#N/A"},{"$error":"#N/A"},{"$error":"#N/A"},{"$error":"#N/A"},{"$error":"#N/A"}]
[{"$error":"#N/A"},{"$error":"#N/A"},{"$error":"#N/A"},{"$error":"#N/A"},{"$error":"#N/A"}]
[{"$error":"#N/A"},{"$error":"#N/A"},{"$error":"#N/A"},{"$error":"#N/A"},{"$error":"#N/A"}]
[{"$error":"#N/A"},{"$error":"#N/A"},{"$error":"#N/A"},{"$error":"#N/A"},{"$error":"#N/A"}]
[{"$error":"#N/A"},{"$error":"#N/A"},{"$error":"#N/A"},{"$error":"#N/A"},{"$error":"#N/A"}]
[{"$error":"#N/A"},{"$error":"#N/A"},{"$error":"#N/A"},{"$error":"#N/A"},{"$error":"#N/A"}]
[{"$error":"#N/A"},{"$error":"#N/A"},{"$error":"#N/A"},{"$error":"#N/A"},{"$error":"#N/A"}]
[{"$error":"#N/A"},{"$error":"#N/A"},{"$error":"#N/A"},{"$error":"#N/A"},{"$error":"#N/A"}]
[{"$error":"#N/A"},{"$error":"#N/A"},{"$error":"#N/A"},{"$error":"#N/A"},{"$error":"#N/A"}]
[{"$error":"#N/A"},{"$error":"#N/A"},{"$error":"#N/A"},{"$error":"#N/A"},{"$error":"#N/A"}]

{"sheet":"Vola_Gamma","index":6,"n_rows":9,"n_cols":5,"rows_kept":9,"cut":false,"hidden":false,"merged":[]}
[]
[]
[null,null,"Vola",null,"Gamma"]
[]
[null,null,"< 15",2,"> 1.2"]
[null,null,"15 - 25",1,"0.8 - 1.2"]
[null,null,"25 - 35",0,"0.4 - 0.8"]
[null,null,"35 - 55",-1,"0.2 - 0.4"]
[null,null,"> 55",-2,"< 0.2"]