{"text_format":"1","workbook":"xlsx","n_sheets":21,"sheets":["Question paper 40 marks","instruction 40 marks","Entry sheet-2-hin","Question paper 40 marks (2)","Question paper 90 marks (2)","instruction 20 marks","Question paper 20 marks  ","Entry sheet-3-hin","Question paper 90 marks","instruction 90 marks","instructions","LINKS","Model Blueprint","Entry sheet-1-hin","uddista","QUESTION WISE","difficulty wise","chapterwise","PARTWISE","blue print","DATA"],"not_rendered":{"charts":5,"images":16,"macros":1,"external_links":0,"defined_names":1267,"comments":0,"pivot_tables":0},"unopened":[],"bounds":{"document_bytes":16777216,"sheet_cells":100000,"rows_first":2000,"rows_last":500,"rows_between":2000,"halvings":0,"cell_chars":16384,"cell_head_chars":4096},"cells_cut":0,"cells_raw":0,"read":"whole","date_system":"1900"}

{"sheet":"Question paper 40 marks","index":0,"n_rows":56,"n_cols":5,"rows_kept":56,"cut":false,"hidden":false,"merged":[[56,1,56,3],[52,1,52,3],[55,1,55,3],[50,1,50,3],[47,0,47,4],[53,1,53,4],[54,1,54,4],[48,1,48,4],[49,1,49,4],[46,1,46,4],[41,0,41,3],[42,0,42,3],[43,0,43,4],[44,1,44,4],[45,1,45,4],[34,0,34,3],[35,0,35,3],[36,0,36,4],[33,1,33,4],[37,1,37,4],[38,1,38,4],[39,1,39,4],[40,1,40,4],[27,0,27,4],[30,0,30,4],[24,1,24,4],[26,1,26,4],[29,1,29,4],[28,1,28,4],[31,1,31,4],[19,0,19,4],[20,1,20,4],[21,1,21,4],[22,1,22,4],[23,1,23,4],[14,2,14,3],[15,2,15,3],[16,0,16,4],[17,1,17,4],[18,1,18,4],[12,2,12,3],[13,2,13,3],[10,0,10,4],[7,1,7,4],[8,1,8,4],[9,1,9,4],[3,0,3,3],[4,0,4,3],[5,0,5,4],[0,0,0,4],[1,2,1,4],[6,1,6,4]]}
[{"$f":"'Entry sheet-1-hin'!C2","v":"सरकारी पदवि पूर्व कॉलेंज (प्रौ.शा.वि) गुरुगुंटा, ता : लिंगसुगूर"}]
[null,"प्रश्‍न पत्रिका - ",{"$f":"'Entry sheet-1-hin'!C3","v":"संकलनात्मक परीक्षा - १   २०१५-१६"}]
[{"$f":"'Entry sheet-1-hin'!C4","v":"9वीं "},{"$f":"'Entry sheet-1-hin'!C5","v":"हिंदी"},null,{"$f":"'Entry sheet-1-hin'!A6","v":" अंक"},{"$f":"'Entry sheet-1-hin'!C6","v":40}]
["खण्ड   “ क ”"]
["[ गद्य, पद्य और पूरक वाचन ]"]
["I.   निम्नलिखित प्रश्नों के उत्तर एक-एक वाक्य में लिखिए :-                                                             4 x 1 = 4"]
[{"$f":"IF(B7=\"\",\"\",1)","v":1},{"$f":"IF('Entry sheet-3-hin'!G14=\"\",\"\",'Entry sheet-3-hin'!G14)","v":"विवेकानंद कब अमरिका गये ?                                                               "}]
[{"$f":"IF(B8=\"\",\"\",A7+1)","v":2},{"$f":"IF('Entry sheet-3-hin'!G15=\"\",\"\",'Entry sheet-3-hin'!G15)","v":"बहन ने भाई के माथे पर क्या लगाया ?                                                             "}]
[{"$f":"IF(B9=\"\",\"\",A8+1)","v":3},{"$f":"IF('Entry sheet-3-hin'!G16=\"\",\"\",'Entry sheet-3-hin'!G16)","v":"मौसी का दुपट्टा कैसे था ?                                                                             "}]
[4,{"$f":"IF('Entry sheet-3-hin'!G17=\"\",\"\",'Entry sheet-3-hin'!G17)","v":"भारत माता का हृदय कैसा है ?                                                                                                             "}]
["II.   5.  स्तम्भ ‘क’  के वाक्यांशों के साथ स्तम्भ ‘ख’  के सही वाक्यंशों को जोडकर लिखिए :-                  2 X 1 = 2"]
[null,"   स्तम्भ ‘क’","   स्तम्भ ‘ख’"]
["अ",{"$f":"IF('Entry sheet-3-hin'!G22=\"\",\"\",'Entry sheet-3-hin'!G22)","v":"कुमारी नोबल                                                                  "},{"$f":"IF('Entry sheet-3-hin'!P22=\"\",\"\",'Entry sheet-3-hin'!P22)","v":"असहयोग चल रहा था ।"}]
["आ",{"$f":"IF('Entry sheet-3-hin'!G23=\"\",\"\",'Entry sheet-3-hin'!G23)","v":"हर हिस्सा दूसरे से "},{"$f":"IF('Entry sheet-3-hin'!P23=\"\",\"\",'Entry sheet-3-hin'!P23)","v":" धर्म परायण नारी     "}]
[null,null,{"$f":"IF('Entry sheet-3-hin'!P24=\"\",\"\",'Entry sheet-3-hin'!P24)","v":"  सिस्टर निवेदिता"}]
[null,null,{"$f":"IF('Entry sheet-3-hin'!P25=\"\",\"\",'Entry sheet-3-hin'!P25)","v":"असहयोग कर रहा था ।"}]
["III.  प्रथम दो पदों से सूचित संबंधों के अनुरूप तीसरे पद से संबंधित पद लिखिए :-                                 2 x 1 = 2"]
[{"$f":"IF(B18=\"\",\"\",A10+2)","v":6},{"$f":"IF('Entry sheet-3-hin'!G28=\"\",\"\",'Entry sheet-3-hin'!G28)","v":"बाहुबली : डॉ. हिरण्मय :: बस की यात्रा :------"}]
[{"$f":"IF(B19=\"\",\"\",A18+1)","v":7},{"$f":"IF('Entry sheet-3-hin'!G29=\"\",\"\",'Entry sheet-3-hin'!G29)","v":"योगराज अपने घर से  : एक कटोरा दूध लाया :: गोपाल अपने घर से :--"}]
["IV.   निम्नलिखित प्रश्नों के उत्तर दो या तीन वाक्यों में लिखिए :-                                                    5 x 2 = 10"]
[{"$f":"IF(B21=\"\",\"\",A19+1)","v":8},{"$f":"IF('Entry sheet-3-hin'!G32=\"\",\"\",'Entry sheet-3-hin'!G32)","v":"विवेकानंद ने भारत वासियों को क्या उपदेश दिये ?                                     "}]
[{"$f":"IF(B22=\"\",\"\",A21+1)","v":9},{"$f":"IF('Entry sheet-3-hin'!G33=\"\",\"\",'Entry sheet-3-hin'!G33)","v":"बहन ने भाई को कैसे विधा की ?                                                                        "}]
[10,{"$f":"IF('Entry sheet-3-hin'!G34=\"\",\"\",'Entry sheet-3-hin'!G34)","v":"बस के बारे में डाक्टर मित्र ने लेखक से क्या कहा ?                                                         "}]
[11,{"$f":"IF('Entry sheet-3-hin'!G35=\"\",\"\",'Entry sheet-3-hin'!G35)","v":"हिमालय के बारे में कवि की भावना क्या है ?                                                                                                        "}]
[{"$f":"IF(B25=\"\",\"\",A24+1)","v":12},{"$f":"IF('Entry sheet-3-hin'!G36=\"\",\"\",'Entry sheet-3-hin'!G36)","v":"कजाकी के साथ लेखक के क्षन कैसे बीतते थे ?"}]
[null,"अथवा"]
[null,{"$f":"IF('Entry sheet-3-hin'!G37=\"\",\"\",'Entry sheet-3-hin'!G37)","v":"एक दिन कजाकी डाकखाने देर से पसूँचा । क्यों ?"}]
["V.   निम्नलिखित प्रश्नों के उत्तर तीन - चार वाक्यों में लिखिए :-                                                       2 x 3 = 6"]
[{"$f":"IF(B29=\"\",\"\",A25+1)","v":13},{"$f":"IF('Entry sheet-3-hin'!G46=\"\",\"\",'Entry sheet-3-hin'!G46)","v":"किसने किससे कहा ?  किस पाठ से लिया गाया है -  यह मेरा बेटा, यह मेरी बेटी ।"}]
[{"$f":"IF(B30=\"\",\"\",A29+1)","v":14},{"$f":"IF('Entry sheet-3-hin'!G47=\"\",\"\",'Entry sheet-3-hin'!G47)","v":"निम्नलिखित कवितांश का भावार्थ भावार्थ लिखिए ।\n  फुलों - सा महकूँ मैं\n  विहगों - सा चहकूँ मैं\n  गुंजरित कर वन-उपवन\n  कोयल - सा कुहुकूँ मैं\n  मेरी अभीलाषा है ।\n                                "}]
["VI.  निम्नलिखित प्रश्न का उत्तर  चार - पाँच वाक्यों में लिखिए :-                                                      1 x 4 = 4"]
[{"$f":"IF(B32=\"\",\"\",A30+1)","v":15},{"$f":"IF('Entry sheet-3-hin'!G51=\"\",\"\",'Entry sheet-3-hin'!G51)","v":"शिकागो नगर के सर्वधर्म सम्मेलन के बारे में लिखिए ।"}]
[null,"अथवा"]
[null,{"$f":"IF('Entry sheet-3-hin'!G52=\"\",\"\",'Entry sheet-3-hin'!G52)","v":"इस पद्य भाग की पूर्ति कीजिए -\n  पहले पतंग --------------------------------------\n   ---------------------------------------------------\n-----------------------------------------------------\n----------------------------------निभाना सीखा ॥"}]
["खण्ड   “ ख ”"]
["[ व्याकरण ]"]
["VII.निम्नलिखित प्रश्नो के लिए चार-चार विकल्प दिए गए हैं,  सही उत्तर चुनकर लिखिए :-                             4x 1 = 4"]
[{"$f":"IF(B38=\"\",\"\",A32+1)","v":16},{"$f":"IF('Entry sheet-3-hin'!G55=\"\",\"\",'Entry sheet-3-hin'!G55)","v":"‘बात’ का अन्यवचन रूप है -\n   अ) बात     आ) बातों    इ) बातें    ई) बाताएँ"}]
[{"$f":"IF(B39=\"\",\"\",A38+1)","v":17},{"$f":"IF('Entry sheet-3-hin'!G56=\"\",\"\",'Entry sheet-3-hin'!G56)","v":"‘ठहरना’ का द्वितीय प्रेरणार्थक क्रिया रूप है -\n   अ) ठहरना    आ) ठहराना      इ) ठहर     ई) ठहरवाना"}]
[{"$f":"IF(B40=\"\",\"\",A39+1)","v":18},{"$f":"IF('Entry sheet-3-hin'!G57=\"\",\"\",'Entry sheet-3-hin'!G57)","v":"राम ने दरवाजा खोला । इस वाक्य में प्रयुक्त कारक नाम है - \n   अ) कर्म     आ) कर्ता       इ) करण       ई) संबंध"}]
[19,{"$f":"IF('Entry sheet-3-hin'!G58=\"\",\"\",'Entry sheet-3-hin'!G58)","v":"‘धर्म’ का विलोम रूप है -\n   अ) अधर्म     आ) नधर्म    इ) धर्महीन    ई) पाप"}]
["खण्ड   “ ग ”"]
["[ रचना - अपठित गद्यांश, अनुवाद, पत्रलेखन और निबंध ]"]
["VIII.  20.  गद्यांश पढकर निम्नलिखित प्रश्नों के उत्तर लिखिए :-                                                        2 x 1 = 2 "]
[null,{"$f":"IF('Entry sheet-3-hin'!G64=\"\",\"\",'Entry sheet-3-hin'!G64)","v":"यह सही है कि इन दोनों कुछ ऐसा माहौल बना है कि ईमानदारी से मेहनत करके जीविका चलाने वाले निरीह और भोले-भोले श्रमजीवी पिस रहे हैं और झूठ तथा फरेब का रोजगार करने वाले फल फूल रहे हैं । ईमानदारी को मूर्खता का पर्याय समझा जाने लगा है, सच्चाई केवल भीरु और बेबस लोगों के हिस्से पड़ी है । ऐसे स्थिति में जीवन के मूल्यों के बारे में लोगों की आस्था ही हिलने लगी है । सदा मनुष्य-बुद्धि नई परिस्थितियों का सामने करने के लिए नए सामाजिक विधि निषेधों को बनाती है, उनके ठीक न साबित होने पर उन्हें बदलती हैं ।\n\n\n"}]
[null,{"$f":"IF('Entry sheet-3-hin'!G65=\"\",\"\",'Entry sheet-3-hin'!G65)","v":"1.  आजकल किनका बोल बाला है ?"}]
[null,{"$f":"IF('Entry sheet-3-hin'!G66=\"\",\"\",'Entry sheet-3-hin'!G66)","v":"2.  सच्चाई किनके हिस्से  का पर्याय मानी जाने  लगी है ?"}]
["IX.   निम्नलिखित वाक्यों का अनुवाद कन्नड या अंग्रेजी में कीजिए :-                                                   2x 1 = 2"]
[{"$f":"IF(B49=\"\",\"\",A41+2)","v":21},{"$f":"IF('Entry sheet-3-hin'!G69=\"\",\"\",'Entry sheet-3-hin'!G69)","v":"उनके बचपन का नाम नरेंद्र देव था ।                                                                 "}]
[{"$f":"IF(B50=\"\",\"\",A49+1)","v":22},{"$f":"IF('Entry sheet-3-hin'!G70=\"\",\"\",'Entry sheet-3-hin'!G70)","v":"शहर में क्यों आतंक छा गया था ?                                                                "}]
["X. 23.   ",{"$f":"IF('Entry sheet-3-hin'!G73=\"\",\"\",'Entry sheet-3-hin'!G73)","v":"अपनी पढ़ाई के बारे में बताते हुए अपने पिताजी को एक पत्र लिखिए ।"},null,null,4]
[null,"अथवा"]
["   ","किसी एक विषय पर निबंध लिखिए ।                                                                                                                                                     "]
[{"$f":"IF(B54=\"\",\"\",1)","v":1},{"$f":"IF('Entry sheet-3-hin'!G75=\"\",\"\",'Entry sheet-3-hin'!G75)","v":"इंटर्नेट क्रांति          (अर्थ,  लाभ,  हानी,  उपसंहार)"}]
[{"$f":"IF(B55=\"\",\"\",A54+1)","v":2},{"$f":"IF('Entry sheet-3-hin'!G76=\"\",\"\",'Entry sheet-3-hin'!G76)","v":"त्योहारों का महत्व"}]
[null,"***************************************"]

{"sheet":"instruction 40 marks","index":1,"n_rows":26,"n_cols":20,"rows_kept":26,"cut":false,"hidden":false,"merged":[[9,4,9,18],[12,4,12,18],[14,4,14,18],[15,4,15,18],[19,4,19,18],[10,4,10,18],[11,4,11,18],[13,4,13,18],[16,4,16,18],[17,4,17,18],[1,1,1,18],[2,2,2,16],[3,2,3,16],[4,1,4,18],[5,1,5,18],[7,4,7,18],[6,3,6,18],[6,19,6,20],[7,19,7,20],[8,19,8,20],[8,4,8,18],[9,19,9,20],[10,19,10,20],[11,19,11,20],[12,19,12,20],[13,19,13,20],[14,19,14,20],[15,19,15,20],[16,19,16,20],[17,19,17,20],[19,1,26,2],[25,7,25,14],[21,7,21,14],[22,7,22,14],[23,7,23,14],[24,7,24,14]]}
[]
[null,"40 CAPÀUÀ¼À ಪ್ರಶ್ನೆ ಪತ್ರಿಕೆಯನ್ನು ತಯಾರಿಸಲು ನೀಲ ನಕ್ಷೆಯನ್ನು ಸಿದ್ಧಪಡಿಸುವುದು."]
[null,"*","¥Àæ±Éß ¥ÀwæPÉ ¹zÀÞ¥Àr¸À®Ä ¥ÁoÀUÀ¼À ¸ÀASÉå ªÀÄvÀÄÛ ¥Àæ±ÉßUÀ¼À C£ÀÄPÀæªÀÄ ¥ÀÆªÀð ¤zsÁðjvÀ. ¥ÁoÀUÀ½UÉ ¤UÀ¢üUÉÆ½¹gÀÄªÀ ¸ÀASÉåAiÀÄ£ÀÄß §¼À¹PÉÆAqÀÄ ¥Àæ±ÉßUÀ¼À£ÀÄß DAiÀÄÄÝPÉÆ¼Àî¨ÉÃPÀÄ. ¥ÀÆªÀð ¤zsÁðjvÀ ಪಾಠಗಳ ಸಂಖ್ಯೆಯನ್ನು ಮುಖ್ಯ ಪುಟ 1 ರಲ್ಲಿ ನಮೂಧಿಸಲಾಗಿದೆ."]
[null,"*","B9 £À°è ¥ÀÆªÀð ¤zsÁðjvÀ ¥ÁoÀzÀ ¸ÀASÉåAiÀÄ£ÀÄß vÀÄA©PÉÆAqÀÄ C9 jAzÀ G9 gÀªÀgÉUÉ ¥Àæ±ÉßUÀ¼À ««zsÀ ¥ÀæPÁgÀUÀ¼À£ÀÄß DAiÉÄÌ ªÀiÁrPÉÆ½î. ¤ÃªÀÅ DAiÉÄÌ ªÀiÁrPÉÆAqÀ ¥ÁoÀzÀ ¸ÀASÉå ºÁUÀÆ ¥Àæ±ÉßUÀ¼À ««zsÀ ¥ÀæPÁgÀUÀ¼ÀÄ प्रश्‍न चुनना ಪುಟದಲ್ಲಿ PÁtÄªÀzÀjAzÀ ¥Àæ±ÉßUÀ¼À ««zsÀ ¥ÀæPÁgÀUÀ½UÉ C£ÀÄ¸ÁgÀªÁV ¥Àæ±ÉßAiÀÄ£ÀÄß DAiÀÄÄÝPÉÆ¼Àî®Ä ¸ÀºÁAiÀÄAiÀiÁUÀÄvÀÛzÉ.\nप्रश्‍न चुनना ಪುಟದಲ್ಲಿ  \"ಜಿ:ಎಕ್ಸ14\" ನಲ್ಲಿ ಕೇವಲ ನಿಮಗೆ ಬೇಕಾದ ಪ್ರಶ್ನೆಗಳನ್ನು ಮಾತ್ರ ಆಯ್ದುಕೊಳ್ಳುವುದು.."]
[null,"40 CAPÀUÀ¼À ¤Ã® £ÀPÉëAiÀÄ°è ¥ÀÀæ±ÉßUÀ¼À£ÀÄß  DAiÀÄÄÝPÉÆ¼ÀÄîªÀ C£ÀÄPÀæªÀÄtÂPÉ \n( मुख्य पृष्ठ-2 £À°è B9 jAzÀ B71 gÀªÀgÉV£À PÁ®AUÀ¼À°è ¥ÁoÀzÀ ¸ÀASÉåAiÀÄ£ÀÄß £ÀªÀÄÆ¢ü¸ÀÄªÀÅzÀgÀ ªÀÄÆ®PÀ )"]
[null,"ನೀಲ ನಕ್ಷೆಯ ಸಹಿತ ಪ್ರಶ್ನೆ ಪತ್ರಿಕೆಯು ಕೇವಲ 10 ನೇ ತರಗತಿಗೆ ಮಾತ್ರ. ನೀವು ಕೇವಲ ನೀಲ ನಕ್ಷೆಗಾಗಿ ಈ ತಂತ್ರಾಂಶವನ್ನು ಬಳಸುವುದಾದರೆ ಯಾವ ತರಗತಿಗೆ ಬೇಕಾದರು  ಬಳಸಿಕೊಳ್ಳಬಹುದು.(ಹಿಂದಿ ವಿಷಯಕ್ಕೆ ಮಾತ್ರ)"]
[null,null,"ಮುಖ್ಯಪುಟ2","ಮುಖ್ಯ ಪುಟ 2 ನಲ್ಲಿ ಈ ಕೆಳಗಿನ ಸೂಚನೆಯಂತೆ ನೀಲ ನಕ್ಷೆಯನ್ನು ಸಿದ್ಧಪಡಿಸಿ.",null,null,null,null,null,null,null,null,null,null,null,null,null,null,null,"प्रश्‍न चुनना "]
[null,1,"B9 - B12",null,"\u008d\u008d\u008d\u008d\u008d\u008d\u008d\u008d\u008d\u008d\u008dMAzÀÄ CAPÀzÀ 4 ¥Àæ±ÉßUÀ¼À£ÀÄß DAiÀÄÄÝPÉÆ½î. ( 1 CAPÀzÀ ¥Àæ±ÉßUÀ½UÉ AiÀiÁªÀ ¥ÁoÀ¢AzÀ ¥Àæ±ÉßUÀ¼À£ÀÄß PÉÆqÀ°aÑ¸ÀÄ«gÉÆ, D ¥ÁoÀzÀ ¸ÀASÉåAiÀÄ£ÀÄß `©9' ನಲ್ಲಿ ತುಂಬಿ \"ಸಿ9\" ನಲ್ಲಿ ಪ್ರಶ್ನೆಯ ಉದ್ದೇಶ, \"ಡಿ9\" ನಲ್ಲಿ ಪ್ರಶ್ನೆಯ ಸ್ತರ, \"ಇ9\" ನಲ್ಲಿ ಪ್ರಶ್ನೆಯ ಪ್ರಕಾರ, \"ಎಫ್9\" ನಲ್ಲಿ ವಿಷಯ ವಸ್ತು, ಹಾಗೂ \"ಜಿ9\" ನಲ್ಲಿ ಆಯ್ಕೆ ಪ್ರಶ್ನೆಯಾದರೆ \"ಸಿ\" ಎಂದು ಆಯ್ದುಕೊಳ್ಳಿ ಇಲ್ಲವಾದರೆ ಖಾಲಿ ಬಿಡಿ. EzÉÃ ¤AiÀÄªÀÄªÀ£ÀÄß J¯Áè ¥Àæ±ÉßUÀ¼À DAiÉÄÌUÀÆ C£ÀÄ¸Àj¹.) ",null,null,null,null,null,null,null,null,null,null,null,null,null,null,"G:X14 - G:X17  "]
[null,2,"B17 - B20",null,"ºÉÆA¢¹ §gÉAiÀÄÄªÀ 4 ¥Àæ±ÉßUÀ¼À£ÀÄß DAiÀÄÄÝPÉÆ½î.  B19 ªÀÄvÀÄÛ  B20 gÀ ªÀÄÄA¢£À G PÁ®A£À°è wæ¨sÀÄeÁPÁgÀzÀ ªÉÄÃ¯É ªÀiË¸ï QèPï ªÀiÁqÀÄªÀÅzÀgÀ ªÀÄÆ®PÀ  C JAzÀÄ DAiÉÄÌ ªÀiÁrPÉÆ½î. »ÃUÉ ªÀiÁqÀÄªÀÅzÀjAzÀ ¤Ã® £ÀPÉëAiÀÄ°è CªÀÅUÀ¼À CAPÀUÀ¼À£ÀÄß vÉÆÃj¸ÀÄªÀÅ¢®è ºÁUÀÆ ºÉÆA¢¹ §gÉAiÀÄÄªÀ 2 ¥Àæ±ÉßUÀ¼À£ÀÄß ªÀiÁvÀæ £ÁªÀÅ DAiÀÄÄÝPÉÆAqÀAvÁUÀÄvÀÛzÉ. ¥Àæ±Éß ¥ÀwæPÉAiÀÄ ¥ÀÄlzÀ°è ºÉÆA¢¹ §gÉAiÀÄÄªÀ ¥Àæ±ÉßUÀ¼À£ÀÄß DAiÀÄÄÝPÉÆ¼ÀÄîªÁUÀ G ¤AzÀ O ªÀgÉUÉ `PÀ' ¥ÀnÖAiÀÄ ¥Àæ±ÉßUÀ¼À£ÀÄß  ºÁUÀÆ  P ¤AzÀ X ªÀgÉUÉ `RÀ' ¥ÀnÖAiÀÄ ¥Àæ±ÉßUÀ¼À£ÀÄß DAiÀÄÄÝPÉÆ¼Àî®Ä CªÀPÁ±À PÀ°à¸À¯ÁVzÉ. B19 ªÀÄvÀÄÛ  B20 gÀ ªÀÄÄA¢£À PÉÃªÀ® `R' ¥ÀnÖAiÀÄ ¥Àæ±ÉßUÀ¼À£ÀÄß DAiÀÄÄÝPÉÆ½î. ",null,null,null,null,null,null,null,null,null,null,null,null,null,null,"G:O22 - G:O23 -\n\"ಕ\" ಪಟ್ಟಿ\nP:X22 - P:X25 \n\"ಖ\" ಪಟ್ಟಿ"]
[null,3,"B23 - B24",null,"ಅನುರೂಪದ  2 ¥Àæ±ÉßUÀ¼À£ÀÄß DAiÀÄÄÝPÉÆ½î. ",null,null,null,null,null,null,null,null,null,null,null,null,null,null,"G:X28 - G:X29"]
[null,4,"B27 - B32",null,"2 CAPÀUÀ¼À 6 ¥Àæ±ÉßUÀ¼À£ÀÄß DAiÀÄÄÝPÉÆ½î.  ಅಪಠಿತ ಗದ್ಯದಿಂದ ಪ್ರಶ್ನೆ ಕೊಡುವುದಾದರೆ 5 ನೇ ಪ್ರಶ್ನೆಯನ್ನು ಅಂದರೆ B31 ಮತ್ತು B32 ರಲ್ಲಿ   ಅಪಠಿತ ಗದ್ಯದಿಂದ ಆಯ್ದಕೊಳ್ಳಿ.  B32 gÀ ªÀÄÄA¢£À G PÁ®A£À°è   C JAzÀÄ DAiÉÄÌ ªÀiÁrPÉÆ½î. ",null,null,null,null,null,null,null,null,null,null,null,null,null,null,"G:X32- G:X37"]
[null,5,"B41 - B42",null,"3 CAPÀUÀ¼À 2 ¥Àæ±ÉßUÀ¼À£ÀÄß DAiÀÄÄÝPÉÆ½î. ಪದ್ಯದಿಂದ ಭಾವಾಥÀðವನ್ನು ಕೊಡುವುದಾದರೆ 2 ನೇ ಪ್ರಶ್ನೆಯನ್ನು ಆಯ್ದುಕೊಳ್ಳಿ.",null,null,null,null,null,null,null,null,null,null,null,null,null,null,"G:X46 - G:X47"]
[null,6,"B46 - B47",null,"4 CAPÀUÀ¼À 2 ¥Àæ±ÉßUÀ¼À£ÀÄß DAiÀÄÄÝPÉÆ½î. ಪದ್ಯವನ್ನು ಕೊಡುವುದಾದರೆ 2 ನೇ ಪ್ರಶ್ನೆಯನ್ನು ಆಯ್ದುಕೊಳ್ಳಿ. ಯಾವುದಾದರು ಒಂದರ ಮುಂದಿನ \"ಜಿ\" ಕಾಲಂನಲ್ಲಿ \"ಸಿ\" ಎಂದು ಆಯ್ದುಕೊಳ್ಳಿ.",null,null,null,null,null,null,null,null,null,null,null,null,null,null,"G:X51 - G:X52"]
[null,7,"B50 - B53",null,"ªÁåPÀgÀt¢AzÀ §ºÀÄDAiÉÄÌAiÀÄ 4 ¥Àæ±ÉßUÀ¼À£ÀÄß DAiÀÄÄÝPÉÆ½î.",null,null,null,null,null,null,null,null,null,null,null,null,null,null,"G:X55 - G:X58"]
[null,8,"B59 - B61",null,"\"ಬಿ59\" ನಲ್ಲಿ ಅಪಠಿತ ಗದ್ಯವನ್ನು ಆಯ್ದುಕೊಂಡು ಅದರ ಮುಂದಿನ \"ಜಿ\" ಕಾಲಂನಲ್ಲಿ \"ಸಿ\" ಎಂದು ಆಯ್ದುಕೊಳ್ಳಿ ಹಾಗೂ \"ಬಿ60\" ಮತ್ತು \"ಬಿ61\" ರಲ್ಲಿ ಅಪಠಿತ ಗದ್ಯದ 2 ಪ್ರಶ್ನೆಗಳನ್ನು ಆಯ್ದುಕೊಳ್ಳಿ.",null,null,null,null,null,null,null,null,null,null,null,null,null,null,"G:X64 - G:X66"]
[null,9,"B64 - B65",null,"ಅನುವಾದದ 2 ಪ್ರಶ್ನೆಗಳನ್ನು ಆಯ್ದುಕೊಳ್ಳಿ.",null,null,null,null,null,null,null,null,null,null,null,null,null,null,"G:X69- G:X70"]
[null,10,"B68",null,"4 CAPÀUÀ¼À ¥ÀvÀæ¯ÉÃR£ÀzÀ 1 ¥Àæ±Éßಯ£ÀÄß DAiÀÄÄÝPÉÆ½î. ",null,null,null,null,null,null,null,null,null,null,null,null,null,null,"G:X73 "]
[null,11,"B70 - B71",null,"4 ಅಂಕಗಳ 2 ನಿಬಂಧವನ್ನು ಆಯ್ದುಕೊಳ್ಳಿ ಹಾಗೂ ಎರಡೂ ಪ್ರಶ್ನೆಗಳ ಮುಂದಿನ \"ಜಿ\" ಕಾಲಂನಲ್ಲಿ \"ಸಿ\" ಎಂದು ಆಯ್ದುಕೊಳ್ಳಿ.",null,null,null,null,null,null,null,null,null,null,null,null,null,null,"G:X75 - G:X76"]
[]
[null,"90, 40 ಮತ್ತು 20 ಅಂಕಗಳಿಗೆ ಪ್ರಶ್ನೆ ಪತ್ರಿಕೆಗಳನ್ನು ಸಿದ್ಧಪಡಿಸುವಾಗ ಬೇರೆಡೆ ಕಾಪಿ ಮಾಡಿಕೊಂಡು ಸಿದ್ಧಪಡಿಸುವುದು. ಸೂಕ್ತ. ಏಕೆಂದರೆ ಬೇರೆ ಬೇರೆ ಅಂಕಗಳಿಗೆ ನೀಲ ನಕ್ಷೆ ತಯಾರಿಸುವಾಗ ಮೊದಲ ನೀಲ ನಕ್ಷೆಯನ್ನ ಕಳೆದುಕೊಳ್ಳುವಿರಿ.",null,null,"¥Àæ±ÉßUÀ¼À DAiÉÄÌAiÀÄ¯ÁèUÀ° ºÁUÀÆ ¥Àæ±Éß ¥ÀwæPÉAiÀÄ¯ÉèÃ DUÀ° §zÀ¯ÁªÀuÉ ªÀiÁqÀ®Ä CªÀPÁ±À«®è. ¥Àæ±ÉßUÀ¼À DAiÉÄÌAiÀÄ°è K£ÁzÀgÀÄ ªÀåvÁå¸À PÀAqÀÄ§AzÀ°è CzÀPÉÌ ¤Ã® £ÀPÉëAiÀÄ¯ÉèÃ ªÁåvÁå¸ÀªÁVgÀÄvÀÛzÉ. ¤Ã® £ÀPÉëAiÀÄ°è£À ªÀåvÁå¸ÀªÀ£ÀÄß ¸Àj¥Àr¸ÀÄªÀ ªÀÄÆ®PÀ ¥Àæ±ÉßUÀ¼À DAiÉÄÌAiÀÄ°è£À ºÁUÀÆ ¥Àæ±Éß ¥ÀwæPÉAiÀÄ°è£À ªÀåvÁå¸ÀªÀ£ÀÄß ¸Àj¥Àr¹PÉÆ½î. (¤Ã® £ÀPÉëAiÀÄ°è ¥ÁoÀzÀ ¸ÀASÉå, UÀzÀå,¥ÀzÀå, ªÁåPÀgÀt ( §ºÀÄ«PÀ°àÃAiÀÄ), ºÉÆA¢¹ §gÉAiÀÄÄªÀÅzÀÄ, EvÁå¢UÀ¼À ¥ÁoÀ ¸ÀASÉå ºÁUÀÆ ¥Àæ±ÉßUÀ¼À C£ÀÄPÀæªÀÄUÀ¼À°è ªÀåvÁå¸À«gÀÄvÀÛzÉ.) "]
[]
[null,null,null,null,null,null,null,"Prepared  By :"]
[null,null,null,null,null,null,null,"NAGALINGAIAH. Govt.P.U.COLLEGE (H.S)Gurugunta, TQ: Lingasugur"]
[null,null,null,null,null,null,null," District : Raichur"]
[null,null,null,null,null,null,null,"E Mail-  nagalingaiah.h@gmail.com"]
[null,null,null,null,null,null,null,"Mob: 9035172763, 7760399489"]

{"sheet":"Entry sheet-2-hin","index":2,"n_rows":78,"n_cols":62,"rows_kept":78,"cut":false,"hidden":false,"merged":[[58,7,62,7],[63,7,66,7],[0,21,0,27],[1,25,1,27],[2,25,2,27],[3,25,3,27],[4,25,4,27],[5,25,5,27],[6,25,6,27],[6,6,6,7],[66,8,66,9],[46,10,46,18],[44,10,44,18],[45,10,45,18],[8,7,15,7],[16,7,19,7],[20,7,21,7],[22,7,25,7],[26,7,35,7],[40,7,44,7],[49,7,57,7],[35,8,35,9],[36,8,36,9],[42,8,42,9],[67,8,67,9],[68,8,68,9],[68,10,68,18],[63,10,63,18],[64,10,64,18],[65,10,65,18],[66,10,66,18],[67,10,67,18],[61,10,61,18],[62,10,62,18],[65,8,65,9],[18,8,18,9],[19,8,19,9],[20,8,20,9],[21,8,21,9],[29,8,29,9],[30,8,30,9],[31,8,31,9],[37,8,37,9],[38,8,38,9],[39,8,39,9],[40,8,40,9],[41,8,41,9],[58,10,58,18],[59,10,59,18],[60,10,60,18],[43,8,43,9],[44,8,44,9],[45,8,45,9],[46,8,46,9],[57,8,57,9],[58,8,58,9],[59,8,59,9],[60,8,60,9],[52,8,52,9],[53,8,53,9],[54,8,54,9],[55,8,55,9],[56,8,56,9],[43,10,43,18],[38,10,38,18],[39,10,39,18],[40,10,40,18],[41,10,41,18],[42,10,42,18],[32,8,32,9],[33,8,33,9],[7,8,7,9],[8,8,8,9],[9,8,9,9],[10,8,10,9],[11,8,11,9],[12,8,12,9],[13,8,13,9],[14,8,14,9],[15,8,15,9],[17,8,17,9],[34,8,34,9],[16,8,16,9],[27,8,27,9],[28,8,28,9],[15,10,15,18],[16,10,16,18],[17,10,17,18],[0,13,0,18],[0,19,0,20],[37,10,37,18],[29,10,29,18],[30,10,30,18],[31,10,31,18],[32,10,32,18],[33,10,33,18],[35,10,35,18],[36,10,36,18],[2,16,2,18],[3,16,3,18],[8,10,8,18],[9,10,9,18],[27,10,27,18],[18,10,18,18],[19,10,19,18],[20,10,20,18],[21,10,21,18],[13,10,13,18],[1,19,1,20],[11,10,11,18],[12,10,12,18],[14,10,14,18],[23,10,23,18],[22,10,22,18],[22,8,22,9],[23,8,23,9],[24,8,24,9],[25,8,25,9],[26,8,26,9],[28,10,28,18],[24,10,24,18],[25,10,25,18],[26,10,26,18],[2,23,2,24],[2,21,2,22],[7,10,7,16],[4,12,4,13],[4,10,4,11],[4,21,4,22],[4,14,4,15],[3,21,3,22],[10,10,10,18],[2,13,2,15],[3,13,3,15],[1,10,3,10],[1,11,1,12],[5,21,5,22],[1,23,1,24],[3,23,3,24],[4,23,4,24],[1,13,1,18],[5,23,5,24],[1,21,1,22],[6,21,6,22],[6,23,6,24],[4,0,6,0],[4,1,4,2],[4,3,4,4],[4,5,4,6],[4,8,4,9],[1,1,1,2],[1,3,1,4],[1,8,1,9],[1,0,3,0],[5,6,5,7],[3,6,3,7],[2,6,2,7],[0,1,0,6],[0,9,0,10],[47,10,47,18],[48,10,48,18],[62,8,62,9],[63,8,63,9],[64,8,64,9],[56,10,56,18],[57,10,57,18],[47,8,47,9],[48,8,48,9],[49,8,49,9],[50,8,50,9],[51,8,51,9],[61,8,61,9],[55,10,55,18],[53,10,53,18],[54,10,54,18],[49,10,49,18],[50,10,50,18],[51,10,51,18],[52,10,52,18],[1,5,1,7],[34,10,34,18],[74,8,74,9],[74,10,74,18],[75,8,75,9],[75,10,75,18],[76,8,76,9],[76,10,76,18],[77,8,77,18],[69,8,69,9],[69,10,69,18],[70,8,70,9],[70,10,70,18],[71,8,71,9],[71,10,71,18],[72,8,72,9],[72,10,72,18],[73,8,73,9],[73,10,73,18]]}
[null,"F PÉ¼ÀV£À ªÀiÁ»wUÀ¼À£ÀÄß vÀ¥ÀàzÉÃ ಭwðªÀiÁr.",null,null,null,null,null,null,null,"नील नक्षा ",null,null,null,"वास्तव भरे हुए प्रश्‍नों की संख्या",null,null,null,null,null,{"$f":"MAX(A9:A77)","v":25},null,"चुननेवाला प्रश्‍न"]
[{"$f":"'Entry sheet-1-hin'!E9","v":"उद्देश्य"},{"$f":"'Entry sheet-1-hin'!E10","v":"स्मरण रखना"},null,{"$f":"'Entry sheet-1-hin'!E11","v":"समझना"},null,{"$f":"'Entry sheet-1-hin'!E12","v":"अभिव्यक्ति"},null,null,{"$f":"'Entry sheet-1-hin'!E13","v":"रसग्रहण"},null,"स्तर",{"$f":"'Entry sheet-1-hin'!L10","v":"सरल"},null,{"$f":"'Entry sheet-1-hin'!L11","v":"सामान्य"},null,null,null,null,null,{"$f":"'Entry sheet-1-hin'!L12","v":"कठिन"},null,"अंक",null,"पू.नि",null,"वास्तव",null,null,null,null,null,null,null,null,null,null,null,null,null,null,null,null,null,null,null,null,null,null,null,null,null,null,null,null,null,"स्म","सरल","बवि","ग",null,null,"C"]
[null,"पू.नि.","वास्तव","पू.नि.","वास्तव","पू.नि.","वास्तव",null,"पू.नि.","वास्तव",null,"पू.नि.","वास्तव","पू.नि.",null,null,"वास्तव",null,null,"पू.नि.","वास्तव",{"$f":"IF('Entry sheet-1-hin'!H21=\"\",\"\",'Entry sheet-1-hin'!H21)","v":"वस्तुनिष्ठ"},null,{"$f":"IF('Entry sheet-1-hin'!I21=\"\",\"\",'Entry sheet-1-hin'!I21)","v":2},null,{"$f":"COUNTIF($AK$9:$AK$77,\"वनिC\")","v":2},null,null,null,null,null,null,null,null,null,null,null,null,null,null,null,null,null,null,null,null,null,null,null,null,null,null,null,null,null,"सम","सामान्य","वनि","प"]
[null,{"$f":"IF('Entry sheet-1-hin'!G10=\"\",\"\",'Entry sheet-1-hin'!G10)","v":20},{"$f":"IF('Entry sheet-1-hin'!$C$6=\"\",\"\",(COUNTIF($AH$9:$AH$77,\"स्मसरलबवि\")*1+COUNTIF(AH9:AH77,\"स्मसरलवनि\")*1+COUNTIF($AH$9:$AH$77,\"स्मसरलअलउ\")*1+COUNTIF($AH$9:AH$77,\"स्मसरललउ२\")*2+COUNTIF($AH$9:$AH$77,\"स्मसरललउ३\")*3+COUNTIF($AH$9:$AH$77,\"स्मसरलदीउ४\")*4+COUNTIF($AH$9:$AH$77,\"स्मसरलदीउ५\")*5+COUNTIF($AH$9:$AH$77,\"स्मसामान्यबवि\")*1+COUNTIF(AH9:AH77,\"स्मसामान्यवनि\")*1+COUNTIF($AH$9:$AH$77,\"स्मसामान्यअलउ\")*1+COUNTIF($AH$9:AH$77,\"स्मसामान्यलउ२\")*2+COUNTIF($AH$9:$AH$77,\"स्मसामान्यलउ३\")*3+COUNTIF($AH$9:$AH$77,\"स्मसामान्यदीउ४\")*4+COUNTIF($AH$9:$AH$77,\"स्मसामान्यदीउ५\")*5+COUNTIF($AH$9:$AH$77,\"स्मकठिनबवि\")*1+COUNTIF(AH9:AH77,\"स्मकठिनवनि\")*1+COUNTIF($AH$9:$AH$77,\"स्मकठिनअलउ\")*1+COUNTIF($AH$9:AH$77,\"स्मकठिनलउ२\")*2+COUNTIF($AH$9:$AH$77,\"स्मकठिनलउ३\")*3+COUNTIF($AH$9:$AH$77,\"स्मकठिनदीउ४\")*4+COUNTIF($AH$9:$AH$77,\"स्मकठिनदीउ५\")*5)/'Entry sheet-1-hin'!$C$6*100)","v":10},{"$f":"IF('Entry sheet-1-hin'!G11=\"\",\"\",'Entry sheet-1-hin'!G11)","v":37.5},{"$f":"IF('Entry sheet-1-hin'!$C$6=\"\",\"\",COUNTIF($AH$9:$AH$77,\"समसरलबवि\")*1+COUNTIF($AH$9:$AH$77,\"समसरलवनि\")*1+COUNTIF($AH$9:$AH$77,\"समसरलअलउ\")*1+COUNTIF($AH$9:$AH$77,\"समसरललउ२\")*2+COUNTIF($AH$9:$AH$77,\"समसरललउ३\")*3+COUNTIF($AH$9:$AH$77,\"समसरलदीउ४\")*4+COUNTIF($AH$9:$AH$77,\"समसरलदीउ५\")*5+COUNTIF($AH$9:$AH$77,\"समसामान्यबवि\")*1+COUNTIF($AH$9:$AH$77,\"समसामान्यवनि\")*1+COUNTIF($AH$9:$AH$77,\"समसामान्यअलउ\")*1+COUNTIF($AH$9:$AH$77,\"समसामान्यलउ२\")*2+COUNTIF($AH$9:$AH$77,\"समसामान्यलउ३\")*3+COUNTIF($AH$9:$AH$77,\"समसामान्यदीउ४\")*4+COUNTIF($AH$9:$AH$77,\"समसामान्यदीउ५\")*5+COUNTIF($AH$9:$AH$77,\"समकठिनबवि\")*1+COUNTIF(AF9:AF77,\"समकठिनवनि\")*1+COUNTIF($AH$9:$AH$77,\"समकठिनअलउ\")*1+COUNTIF($AH$9:$AH$77,\"समकठिनलउ२\")*2+COUNTIF($AH$9:$AH$77,\"समकठिनलउ३\")*3+COUNTIF($AH$9:$AH$77,\"समकठिनदीउ४\")*4+COUNTIF($AH$9:$AH$77,\"समकठिनदीउ५\")*5)/'Entry sheet-1-hin'!$C$6*100","v":47.5},{"$f":"IF('Entry sheet-1-hin'!G12=\"\",\"\",'Entry sheet-1-hin'!G12)","v":35},{"$f":"IF('Entry sheet-1-hin'!$C$6=\"\",\"\",COUNTIF($AH$9:$AH$77,\"असरलबवि\")*1+COUNTIF($AH$9:$AH$77,\"असरलवनि\")*1+COUNTIF($AH$9:$AH$77,\"असरलअलउ\")*1+COUNTIF($AH$9:$AH$77,\"असरललउ२\")*2+COUNTIF($AH$9:$AH$77,\"असरललउ३\")*3+COUNTIF($AH$9:$AH$77,\"असरलदीउ४\")*4+COUNTIF($AH$9:$AH$77,\"असरलदीउ५\")*5+COUNTIF($AH$9:$AH$77,\"असामान्यबवि\")*1+COUNTIF(AH9:AH77,\"असामान्यवनि\")*1+COUNTIF($AH$9:$AH$77,\"असामान्यअलउ\")*1+COUNTIF($AH$9:$AH$77,\"असामान्यलउ२\")*2+COUNTIF($AH$9:$AH$77,\"असामान्यलउ३\")*3+COUNTIF($AH$9:$AH$77,\"असामान्यदीउ४\")*4+COUNTIF($AH$9:$AH$77,\"असामान्यदीउ५\")*5+COUNTIF($AH$9:$AH$77,\"अकठिनबवि\")*1+COUNTIF(AH9:AH77,\"अकठिनवनि\")*1+COUNTIF($AH$9:$AH$77,\"अकठिनअलउ\")*1+COUNTIF($AH$9:$AH$77,\"अकठिनलउ२\")*2+COUNTIF($AH$9:$AH$77,\"अकठिनलउ३\")*3+COUNTIF($AH$9:$AH$77,\"अकठिनदीउ४\")*4+COUNTIF($AH$9:$AH$77,\"अकठिनदीउ५\")*5)/'Entry sheet-1-hin'!$C$6*100","v":35},null,{"$f":"IF('Entry sheet-1-hin'!G13=\"\",\"\",'Entry sheet-1-hin'!G13)","v":7.5},{"$f":"IF('Entry sheet-1-hin'!$C$6=\"\",\"\",(COUNTIF($AH$9:$AH$77,\"रससरलबवि\")*1+COUNTIF(AH9:AH77,\"रससरलवनि\")*1+COUNTIF($AH$9:$AH$77,\"रससरलअलउ\")*1+COUNTIF($AH$9:$AH$77,\"रससरललउ२\")*2+COUNTIF($AH$9:$AH$77,\"रससरललउ३\")*3+COUNTIF($AH$9:$AH$77,\"रससरलदीउ४\")*4+COUNTIF($AH$9:$AH$77,\"रससरलदीउ५\")*5+COUNTIF($AH$9:$AH$77,\"रससामान्यबवि\")*1+COUNTIF(AH9:AH77,\"रससामान्यवनि\")*1+COUNTIF($AH$9:$AH$77,\"रससामान्यअलउ\")*1+COUNTIF($AH$9:$AH$77,\"रससामान्यलउ२\")*2+COUNTIF($AH$9:$AH$77,\"रससामान्यलउ३\")*3+COUNTIF($AH$9:$AH$77,\"रससामान्यदीउ४\")*4+COUNTIF($AH$9:$AH$77,\"रससामान्यदीउ५\")*5+COUNTIF($AH$9:$AH$77,\"रसकठिनबवि\")*1+COUNTIF(AH9:AH77,\"रसकठिनवनि\")*1+COUNTIF($AH$9:$AH$77,\"रसकठिनअलउ\")*1+COUNTIF($AH$9:$AH$77,\"रसकठिनलउ२\")*2+COUNTIF($AH$9:$AH$77,\"रसकठिनलउ३\")*3+COUNTIF($AH$9:$AH$77,\"रसकठिनदीउ४\")*4+COUNTIF($AH$9:$AH$77,\"रसकठिनदीउ५\")*5)/'Entry sheet-1-hin'!$C$6*100)","v":7.5},null,{"$f":"IF('Entry sheet-1-hin'!N10=\"\",\"\",'Entry sheet-1-hin'!N10)","v":30},{"$f":"IF('Entry sheet-1-hin'!$C$6=\"\",\"\",(COUNTIF($AH$9:$AH$77,\"स्मसरलबवि\")*1+COUNTIF(AH9:AH77,\"स्मसरलवनि\")*1+COUNTIF($AH$9:$AH$77,\"स्मसरलअलउ\")*1+COUNTIF($AH$9:AH$77,\"स्मसरललउ२\")*2+COUNTIF($AH$9:$AH$77,\"स्मसरललउ३\")*3+COUNTIF($AH$9:$AH$77,\"स्मसरलदीउ४\")*4+COUNTIF($AH$9:$AH$77,\"स्मसरलदीउ५\")*5+COUNTIF($AH$9:$AH$77,\"समसरलबवि\")*1+COUNTIF(AH9:AH77,\"समसरलवनि\")*1+COUNTIF($AH$9:$AH$77,\"समसरलअलउ\")*1+COUNTIF($AH$9:$AH$77,\"समसरललउ२\")*2+COUNTIF($AH$9:$AH$77,\"समसरललउ३\")*3+COUNTIF($AH$9:$AH$77,\"समसरलदीउ४\")*4+COUNTIF($AH$9:$AH$77,\"समसरलदीउ५\")*5+COUNTIF($AH$9:$AH$77,\"असरलबवि\")*1+COUNTIF(AH9:AH77,\"असरलवनि\")*1+COUNTIF($AH$9:$AH$77,\"असरलअलउ\")*1+COUNTIF($AH$9:$AH$77,\"असरललउ२\")*2+COUNTIF($AH$9:$AH$77,\"असरललउ३\")*3+COUNTIF($AH$9:$AH$77,\"असरलदीउ४\")*4+COUNTIF($AH$9:$AH$77,\"असरलदीउ५\")*5+COUNTIF($AH$9:$AH$77,\"रससरलबवि\")*1+COUNTIF(AH9:AH77,\"रससरलवनि\")*1+COUNTIF($AH$9:$AH$77,\"रससरलअलउ\")*1+COUNTIF($AH$9:$AH$77,\"रससरललउ२\")*2+COUNTIF($AH$9:$AH$77,\"रससरललउ३\")*3+COUNTIF($AH$9:$AH$77,\"रससरलदीउ४\")*4+COUNTIF($AH$9:$AH$77,\"रससरलदीउ५\")*5)/'Entry sheet-1-hin'!$C$6*100)","v":30},{"$f":"IF('Entry sheet-1-hin'!N11=\"\",\"\",'Entry sheet-1-hin'!N11)","v":50},null,null,{"$f":"IF('Entry sheet-1-hin'!$C$6=\"\",\"\",(COUNTIF($AH$9:$AH$77,\"स्मसामान्यबवि\")*1+COUNTIF(AH9:AH77,\"स्मसामान्यवनि\")*1+COUNTIF($AH$9:$AH$77,\"स्मसामान्यअलउ\")*1+COUNTIF($AH$9:AH$77,\"स्मसामान्यलउ२\")*2+COUNTIF($AH$9:$AH$77,\"स्मसामान्यलउ३\")*3+COUNTIF($AH$9:$AH$77,\"स्मसामान्यदीउ४\")*4+COUNTIF($AH$9:$AH$77,\"स्मसामान्यदीउ५\")*5+COUNTIF($AH$9:$AH$77,\"समसामान्यबवि\")*1+COUNTIF(AH9:AH77,\"समसामान्यवनि\")*1+COUNTIF($AH$9:$AH$77,\"समसामान्यअलउ\")*1+COUNTIF($AH$9:$AH$77,\"समसामान्यलउ२\")*2+COUNTIF($AH$9:$AH$77,\"समसामान्यलउ३\")*3+COUNTIF($AH$9:$AH$77,\"समसामान्यदीउ४\")*4+COUNTIF($AH$9:$AH$77,\"समसामान्यदीउ५\")*5+COUNTIF($AH$9:$AH$77,\"असामान्यबवि\")*1+COUNTIF(AH9:AH77,\"असामान्यवनि\")*1+COUNTIF($AH$9:$AH$77,\"असामान्यअलउ\")*1+COUNTIF($AH$9:$AH$77,\"असामान्यलउ२\")*2+COUNTIF($AH$9:$AH$77,\"असामान्यलउ३\")*3+COUNTIF($AH$9:$AH$77,\"असामान्यदीउ४\")*4+COUNTIF($AH$9:$AH$77,\"असामान्यदीउ५\")*5+COUNTIF($AH$9:$AH$77,\"रससामान्यबवि\")*1+COUNTIF(AH9:AH77,\"रससामान्यवनि\")*1+COUNTIF($AH$9:$AH$77,\"रससामान्यअलउ\")*1+COUNTIF($AH$9:$AH$77,\"रससामान्यलउ२\")*2+COUNTIF($AH$9:$AH$77,\"रससामान्यलउ३\")*3+COUNTIF($AH$9:$AH$77,\"रससामान्यदीउ४\")*4+COUNTIF($AH$9:$AH$77,\"रससामान्यदीउ५\")*5)/'Entry sheet-1-hin'!$C$6*100)","v":50},null,null,{"$f":"IF('Entry sheet-1-hin'!N12=\"\",\"\",'Entry sheet-1-hin'!N12)","v":20},{"$f":"IF('Entry sheet-1-hin'!$C$6=\"\",\"\",(COUNTIF($AH$9:$AH$77,\"स्मकठिनबवि\")*1+COUNTIF(AH9:AH77,\"स्मकठिनवनि\")*1+COUNTIF($AH$9:$AH$77,\"स्मकठिनअलउ\")*1+COUNTIF($AH$9:AH$77,\"स्मकठिनलउ२\")*2+COUNTIF($AH$9:$AH$77,\"स्मकठिनलउ३\")*3+COUNTIF($AH$9:$AH$77,\"स्मकठिनदीउ४\")*4+COUNTIF($AH$9:$AH$77,\"स्मकठिनदीउ५\")*5+COUNTIF($AH$9:$AH$77,\"समकठिनबवि\")*1+COUNTIF(AH9:AH77,\"समकठिनवनि\")*1+COUNTIF($AH$9:$AH$77,\"समकठिनअलउ\")*1+COUNTIF($AH$9:$AH$77,\"समकठिनलउ२\")*2+COUNTIF($AH$9:$AH$77,\"समकठिनलउ३\")*3+COUNTIF($AH$9:$AH$77,\"समकठिनदीउ४\")*4+COUNTIF($AH$9:$AH$77,\"समकठिनदीउ५\")*5+COUNTIF($AH$9:$AH$77,\"अकठिनबवि\")*1+COUNTIF(AH9:AH77,\"अकठिनवनि\")*1+COUNTIF($AH$9:$AH$77,\"अकठिनअलउ\")*1+COUNTIF($AH$9:$AH$77,\"अकठिनलउ२\")*2+COUNTIF($AH$9:$AH$77,\"अकठिनलउ३\")*3+COUNTIF($AH$9:$AH$77,\"अकठिनदीउ४\")*4+COUNTIF($AH$9:$AH$77,\"अकठिनदीउ५\")*5+COUNTIF($AH$9:$AH$77,\"रसकठिनबवि\")*1+COUNTIF(AH9:AH77,\"रसकठिनवनि\")*1+COUNTIF($AH$9:$AH$77,\"रसकठिनअलउ\")*1+COUNTIF($AH$9:$AH$77,\"रसकठिनलउ२\")*2+COUNTIF($AH$9:$AH$77,\"रसकठिनलउ३\")*3+COUNTIF($AH$9:$AH$77,\"रसकठिनदीउ४\")*4+COUNTIF($AH$9:$AH$77,\"रसकठिनदीउ५\")*5)/'Entry sheet-1-hin'!$C$6*100)","v":20},{"$f":"IF('Entry sheet-1-hin'!H22=\"\",\"\",'Entry sheet-1-hin'!H22)","v":"2 अंक"},null,{"$f":"IF('Entry sheet-1-hin'!I22=\"\",\"\",'Entry sheet-1-hin'!I22)","v":1},null,{"$f":"COUNTIF($AK$9:$AK$77,\"लउ२C\")","v":1},null,null,null,null,null,null,null,null,null,null,null,null,null,null,null,null,null,null,null,null,null,null,null,null,null,null,null,null,null,"अ","कठिन","अलउ","व्या"]
[{"$f":"'Entry sheet-1-hin'!H9","v":"प्रश्‍न-प्रकार"},{"$f":"'Entry sheet-1-hin'!H10","v":"बहुविकल्पीय"},null,{"$f":"'Entry sheet-1-hin'!H12","v":"वस्तुनिष्ठ"},null,{"$f":"'Entry sheet-1-hin'!H14","v":"अति लघूत्तर"},null,null,{"$f":"'Entry sheet-1-hin'!I15","v":"२ अंकवाले"},null,{"$f":"'Entry sheet-1-hin'!I16","v":"३ अंकवाले"},null,{"$f":"'Entry sheet-1-hin'!I17","v":"४ अंकवाले"},null,{"$f":"'Entry sheet-1-hin'!I18","v":"५ अंकवाले"},null,{"$f":"'Entry sheet-1-hin'!E20","v":"गद्य"},{"$f":"'Entry sheet-1-hin'!E21","v":"पद्य"},{"$f":"'Entry sheet-1-hin'!E22","v":"व्याकरण"},{"$f":"'Entry sheet-1-hin'!E23","v":"रचना"},{"$f":"'Entry sheet-1-hin'!E24","v":"पूरक वाचन"},{"$f":"IF('Entry sheet-1-hin'!H23=\"\",\"\",'Entry sheet-1-hin'!H23)","v":"3अंक"},null,{"$f":"IF('Entry sheet-1-hin'!I23=\"\",\"\",'Entry sheet-1-hin'!I23)","v":""},null,{"$f":"COUNTIF($AK$9:$AK$77,\"लउ३C\")","v":0},null,null,null,null,null,null,null,null,null,null,null,null,null,null,null,null,null,null,null,null,null,null,null,null,null,null,null,null,null,"रस",null,"लउ२","र"]
[null,"पू.नि.","वास्तव","पू.नि.","वास्तव","पू.नि.","वास्तव",null,"पू.नि.","वास्तव","पू.नि.","वास्तव","पू.नि.","वास्तव","पू.नि.","वास्तव",{"$f":"'Entry sheet-1-hin'!G20","v":16},{"$f":"'Entry sheet-1-hin'!G21","v":10},{"$f":"'Entry sheet-1-hin'!G22","v":4},{"$f":"'Entry sheet-1-hin'!G23","v":8},{"$f":"'Entry sheet-1-hin'!G24","v":2},{"$f":"IF('Entry sheet-1-hin'!H24=\"\",\"\",'Entry sheet-1-hin'!H24)","v":"4 अंक"},null,{"$f":"IF('Entry sheet-1-hin'!I24=\"\",\"\",'Entry sheet-1-hin'!I24)","v":2},null,{"$f":"COUNTIF($AK$9:$AK$77,\"दीउ४C\")","v":3},null,null,null,null,null,null,null,null,null,null,null,null,null,null,null,null,null,null,null,null,null,null,null,null,null,null,null,null,null,null,null,"लउ३","पूवा"]
[null,{"$f":"'Entry sheet-1-hin'!K10+'Entry sheet-1-hin'!J11","v":4},{"$f":"COUNTIF($AG$9:$AG$77,\"बवि\")","v":4},{"$f":"'Entry sheet-1-hin'!K12+'Entry sheet-1-hin'!K13","v":4},{"$f":"COUNTIF($AG$9:$AG$77,\"वनि\")","v":4},{"$f":"'Entry sheet-1-hin'!J14","v":8},{"$f":"COUNTIF($AG$9:$AG$77,\"अलउ\")","v":8},null,{"$f":"'Entry sheet-1-hin'!J15","v":5},{"$f":"COUNTIF($AG$9:$AG$77,\"लउ२\")","v":5},{"$f":"'Entry sheet-1-hin'!J16","v":2},{"$f":"COUNTIF($AG$9:$AG$77,\"लउ३\")","v":2},{"$f":"'Entry sheet-1-hin'!J17","v":2},{"$f":"COUNTIF($AG$9:$AG$77,\"दीउ४\")","v":2},{"$f":"'Entry sheet-1-hin'!J18","v":0},{"$f":"COUNTIF($AG$9:$AG$77,\"दीउ५\")","v":0},{"$f":"COUNTIF($AI$9:$AI$77,\"बविग\")*1+COUNTIF($AI$9:$AI$77,\"वनिग\")*1+COUNTIF($AI$9:$AI$77,\"अलउग\")*1+COUNTIF($AI$9:$AI$77,\"लउ२ग\")*2+COUNTIF($AI$9:$AI$77,\"लउ३ग\")*3+COUNTIF($AI$9:$AI$77,\"दीउ४ग\")*4+COUNTIF($AI$9:$AI$77,\"दीउ५ग\")*5","v":20},{"$f":"COUNTIF($AI$9:$AI$77,\"बविप\")*1+COUNTIF($AI$9:$AI$77,\"वनिप\")*1+COUNTIF($AI$9:$AI$77,\"अलउप\")*1+COUNTIF($AI$9:$AI$77,\"लउ२प\")*2+COUNTIF($AI$9:$AI$77,\"लउ३प\")*3+COUNTIF($AI$9:$AI$77,\"दीउ४प\")*4+COUNTIF($AI$9:$AI$77,\"दीउ५प\")*5","v":6},{"$f":"COUNTIF($AI$9:$AI$77,\"बविव्या\")*1+COUNTIF($AI$9:$AI$77,\"वनिव्या\")*1+COUNTIF($AI$9:$AI$77,\"अलउव्या\")*1+COUNTIF($AI$9:$AI$77,\"लउ२व्या\")*2+COUNTIF($AI$9:$AI$77,\"लउ३व्या\")*3+COUNTIF($AI$9:$AI$77,\"दीउ४व्या\")*4+COUNTIF($AI$9:$AI$77,\"दीउ५व्या\")*5","v":4},{"$f":"COUNTIF($AI$9:$AI$77,\"बविर\")*1+COUNTIF($AI$9:$AI$77,\"वनिर\")*1+COUNTIF($AI$9:$AI$77,\"अलउर\")*1+COUNTIF($AI$9:$AI$77,\"लउ२र\")*2+COUNTIF($AI$9:$AI$77,\"लउ३र\")*3+COUNTIF($AI$9:$AI$77,\"दीउ४र\")*4+COUNTIF($AI$9:$AI$77,\"दीउ५र\")*5","v":8},{"$f":"COUNTIF($AI$9:$AI$77,\"बविपूवा\")*1+COUNTIF($AI$9:$AI$77,\"वनिपूवा\")*1+COUNTIF($AI$9:$AI$77,\"अलउपूवा\")*1+COUNTIF($AI$9:$AI$77,\"लउ२पूवा\")*2+COUNTIF($AI$9:$AI$77,\"लउ३पूवा\")*3+COUNTIF($AI$9:$AI$77,\"दीउ४पूवा\")*4+COUNTIF($AI$9:$AI$77,\"दीउ५पूवा\")*5","v":2},{"$f":"IF('Entry sheet-1-hin'!H25=\"\",\"\",'Entry sheet-1-hin'!H25)","v":"5 अंक"},null,{"$f":"IF('Entry sheet-1-hin'!I25=\"\",\"\",'Entry sheet-1-hin'!I25)","v":""},null,{"$f":"COUNTIF($AK$9:$AK$77,\"दीउ५C\")","v":0},null,null,null,null,null,null,null,null,null,null,null,null,null,null,null,null,null,null,null,null,null,null,null,null,null,null,null,null,null,null,null,"दीउ४"]
["प्रश्‍नों की संख्या","पाठ की संख्या","उद्देश्य","स्तर","प्रश्‍न प्रकार","विषय वस्तु","चुननेवाला प्रश्‍न",null,"पाठ की संख्या",null,"पाठ का नाम",null,null,null,null,null,null,null,null,"निर्धारित अंक","वास्तव","ब.वि","व.वि","अ.ल.उ","ल.उ2","ल.उ3","दी.उ 4","दी.उ 5",null,"PART+C","DIFF+C","OBJ+C","NO. OF QUESTIONS IN DIFF. TYPES","OBJECTIVES, DIFFICULTY LEVEL","PART OF THE SUBJECT","CHAPTER WISE MARKS CAL.","CHOICE","CHAPTER+OBJECTIVES","CHAPTER+QUESTIONS","CHAPTER+DIFFI","FINAL BLUE PRINT",null,null,null,null,null,null,null,null,null,null,null,null,null,null,null,null,"दीउ५"]
[{"$f":"IF(B9=\"\",\"\",IF(G9=\"c\",\"C\",1))","v":1},1,"स्म","सरल","अलउ","ग",null,"1अंक",{"$f":"IF('Entry sheet-1-hin'!A10=\"\",\"\",'Entry sheet-1-hin'!A10)","v":1},null,{"$f":"IF('Entry sheet-1-hin'!B10=\"\",\"\",'Entry sheet-1-hin'!B10)","v":"स्वामी विवेकानंद"},null,null,null,null,null,null,null,null,{"$f":"IF('Entry sheet-1-hin'!C10=\"\",\"\",'Entry sheet-1-hin'!C10)","v":4},{"$f":"IF(K9=\"\",\"\",COUNTIF($AJ$9:$AJ$77,\"1बवि\")*1+COUNTIF($AJ$9:$AJ$77,\"1वनि\")*1+COUNTIF($AJ$9:$AJ$77,\"1अलउ\")*1+COUNTIF($AJ$9:$AJ$77,\"1लउ२\")*2+COUNTIF($AJ$9:$AJ$77,\"1लउ३\")*3+COUNTIF($AJ$9:$AJ$77,\"1दीउ४\")*4+COUNTIF($AJ$9:$AJ$77,\"1दीउ५\")*5)","v":4},{"$f":"IF(chapterwise!G7=0,\"\",chapterwise!G7)","v":""},{"$f":"IF(chapterwise!H7=0,\"\",chapterwise!H7)","v":1},{"$f":"IF(chapterwise!I7=0,\"\",chapterwise!I7)","v":1},{"$f":"IF(chapterwise!J7=0,\"\",chapterwise!J7)","v":1},{"$f":"IF(chapterwise!K7=0,\"\",chapterwise!K7)","v":""},{"$f":"IF(chapterwise!L7=0,\"\",chapterwise!L7)","v":""},{"$f":"IF(chapterwise!M7=0,\"\",chapterwise!M7)","v":""},null,{"$f":"CONCATENATE(F9,G9)","v":"ग"},{"$f":"CONCATENATE(D9,G9)","v":"सरल"},{"$f":"CONCATENATE(C9,G9)","v":"स्म"},{"$f":"CONCATENATE(E9,G9)","v":"अलउ"},{"$f":"CONCATENATE(C9,D9,E9,G9)","v":"स्मसरलअलउ"},{"$f":"CONCATENATE(E9,F9,G9)","v":"अलउग"},{"$f":"CONCATENATE(B9,E9,G9)","v":"1अलउ"},{"$f":"CONCATENATE(E9,G9)","v":"अलउ"},{"$f":"CONCATENATE(B9,C9,G9)","v":"1स्म"},{"$f":"CONCATENATE(B9,E9,G9)","v":"1अलउ"},{"$f":"CONCATENATE(B9,D9,G9)","v":"1सरल"},{"$f":"CONCATENATE(B9,C9,E9,G9)","v":"1स्मअलउ"}]
[{"$f":"IF(B10=\"\",\"\",IF(G10=\"c\",\"C\",MAX(A9:A9)+1))","v":2},2,"स्म","सरल","अलउ","ग",null,null,{"$f":"IF('Entry sheet-1-hin'!A11=\"\",\"\",'Entry sheet-1-hin'!A11)","v":2},null,{"$f":"IF('Entry sheet-1-hin'!B11=\"\",\"\",'Entry sheet-1-hin'!B11)","v":"गुलाब सिंह"},null,null,null,null,null,null,null,null,{"$f":"IF('Entry sheet-1-hin'!C11=\"\",\"\",'Entry sheet-1-hin'!C11)","v":3},{"$f":"IF(K10=\"\",\"\",COUNTIF($AJ$9:$AJ$77,\"2बवि\")*1+COUNTIF($AJ$9:$AJ$77,\"2वनि\")*1+COUNTIF($AJ$9:$AJ$77,\"2अलउ\")*1+COUNTIF($AJ$9:$AJ$77,\"2लउ२\")*2+COUNTIF($AJ$9:$AJ$77,\"2लउ३\")*3+COUNTIF($AJ$9:$AJ$77,\"2दीउ४\")*4+COUNTIF($AJ$9:$AJ$77,\"2दीउ५\")*5)","v":3},{"$f":"IF(chapterwise!G8=0,\"\",chapterwise!G8)","v":""},{"$f":"IF(chapterwise!H8=0,\"\",chapterwise!H8)","v":""},{"$f":"IF(chapterwise!I8=0,\"\",chapterwise!I8)","v":1},{"$f":"IF(chapterwise!J8=0,\"\",chapterwise!J8)","v":1},{"$f":"IF(chapterwise!K8=0,\"\",chapterwise!K8)","v":""},{"$f":"IF(chapterwise!L8=0,\"\",chapterwise!L8)","v":""},{"$f":"IF(chapterwise!M8=0,\"\",chapterwise!M8)","v":""},null,{"$f":"CONCATENATE(F10,G10)","v":"ग"},{"$f":"CONCATENATE(D10,G10)","v":"सरल"},{"$f":"CONCATENATE(C10,G10)","v":"स्म"},{"$f":"CONCATENATE(E10,G10)","v":"अलउ"},{"$f":"CONCATENATE(C10,D10,E10,G10)","v":"स्मसरलअलउ"},{"$f":"CONCATENATE(E10,F10,G10)","v":"अलउग"},{"$f":"CONCATENATE(B10,E10,G10)","v":"2अलउ"},{"$f":"CONCATENATE(E10,G10)","v":"अलउ"},{"$f":"CONCATENATE(B10,C10,G10)","v":"2स्म"},{"$f":"CONCATENATE(B10,E10,G10)","v":"2अलउ"},{"$f":"CONCATENATE(B10,D10,G10)","v":"2सरल"},{"$f":"CONCATENATE(B10,C10,E10,G10)","v":"2स्मअलउ"}]
[{"$f":"IF(B11=\"\",\"\",IF(G11=\"c\",\"C\",MAX($A$9:A10)+1))","v":3},4,"सम","सरल","अलउ","ग",null,null,{"$f":"IF('Entry sheet-1-hin'!A12=\"\",\"\",'Entry sheet-1-hin'!A12)","v":3},null,{"$f":"IF('Entry sheet-1-hin'!B12=\"\",\"\",'Entry sheet-1-hin'!B12)","v":"बस की यात्रा"},null,null,null,null,null,null,null,null,{"$f":"IF('Entry sheet-1-hin'!C12=\"\",\"\",'Entry sheet-1-hin'!C12)","v":4},{"$f":"IF(K11=\"\",\"\",COUNTIF($AJ$9:$AJ$77,\"3बवि\")*1+COUNTIF($AJ$9:$AJ$77,\"3वनि\")*1+COUNTIF($AJ$9:$AJ$77,\"3अलउ\")*1+COUNTIF($AJ$9:$AJ$77,\"3लउ२\")*2+COUNTIF($AJ$9:$AJ$77,\"3लउ३\")*3+COUNTIF($AJ$9:$AJ$77,\"3दीउ४\")*4+COUNTIF($AJ$9:$AJ$77,\"3दीउ५\")*5)","v":4},{"$f":"IF(chapterwise!G9=0,\"\",chapterwise!G9)","v":""},{"$f":"IF(chapterwise!H9=0,\"\",chapterwise!H9)","v":2},{"$f":"IF(chapterwise!I9=0,\"\",chapterwise!I9)","v":""},{"$f":"IF(chapterwise!J9=0,\"\",chapterwise!J9)","v":1},{"$f":"IF(chapterwise!K9=0,\"\",chapterwise!K9)","v":""},{"$f":"IF(chapterwise!L9=0,\"\",chapterwise!L9)","v":""},{"$f":"IF(chapterwise!M9=0,\"\",chapterwise!M9)","v":""},null,{"$f":"CONCATENATE(F11,G11)","v":"ग"},{"$f":"CONCATENATE(D11,G11)","v":"सरल"},{"$f":"CONCATENATE(C11,G11)","v":"सम"},{"$f":"CONCATENATE(E11,G11)","v":"अलउ"},{"$f":"CONCATENATE(C11,D11,E11,G11)","v":"समसरलअलउ"},{"$f":"CONCATENATE(E11,F11,G11)","v":"अलउग"},{"$f":"CONCATENATE(B11,E11,G11)","v":"4अलउ"},{"$f":"CONCATENATE(E11,G11)","v":"अलउ"},{"$f":"CONCATENATE(B11,C11,G11)","v":"4सम"},{"$f":"CONCATENATE(B11,E11,G11)","v":"4अलउ"},{"$f":"CONCATENATE(B11,D11,G11)","v":"4सरल"},{"$f":"CONCATENATE(B11,C11,E11,G11)","v":"4समअलउ"}]
[{"$f":"IF(B12=\"\",\"\",IF(G12=\"c\",\"C\",MAX($A$9:A11)+1))","v":4},11,"सम","सामान्य","अलउ","प",null,null,{"$f":"IF('Entry sheet-1-hin'!A13=\"\",\"\",'Entry sheet-1-hin'!A13)","v":4},null,{"$f":"IF('Entry sheet-1-hin'!B13=\"\",\"\",'Entry sheet-1-hin'!B13)","v":"मौसी"},null,null,null,null,null,null,null,null,{"$f":"IF('Entry sheet-1-hin'!C13=\"\",\"\",'Entry sheet-1-hin'!C13)","v":5},{"$f":"IF(K12=\"\",\"\",COUNTIF($AJ$9:$AJ$77,\"4बवि\")*1+COUNTIF($AJ$9:$AJ$77,\"4वनि\")*1+COUNTIF($AJ$9:$AJ$77,\"4अलउ\")*1+COUNTIF($AJ$9:$AJ$77,\"4लउ२\")*2+COUNTIF($AJ$9:$AJ$77,\"4लउ३\")*3+COUNTIF($AJ$9:$AJ$77,\"4दीउ४\")*4+COUNTIF($AJ$9:$AJ$77,\"4दीउ५\")*5)","v":5},{"$f":"IF(chapterwise!G10=0,\"\",chapterwise!G10)","v":""},{"$f":"IF(chapterwise!H10=0,\"\",chapterwise!H10)","v":1},{"$f":"IF(chapterwise!I10=0,\"\",chapterwise!I10)","v":1},{"$f":"IF(chapterwise!J10=0,\"\",chapterwise!J10)","v":""},{"$f":"IF(chapterwise!K10=0,\"\",chapterwise!K10)","v":1},{"$f":"IF(chapterwise!L10=0,\"\",chapterwise!L10)","v":""},{"$f":"IF(chapterwise!M10=0,\"\",chapterwise!M10)","v":""},null,{"$f":"CONCATENATE(F12,G12)","v":"प"},{"$f":"CONCATENATE(D12,G12)","v":"सामान्य"},{"$f":"CONCATENATE(C12,G12)","v":"सम"},{"$f":"CONCATENATE(E12,G12)","v":"अलउ"},{"$f":"CONCATENATE(C12,D12,E12,G12)","v":"समसामान्यअलउ"},{"$f":"CONCATENATE(E12,F12,G12)","v":"अलउप"},{"$f":"CONCATENATE(B12,E12,G12)","v":"11अलउ"},{"$f":"CONCATENATE(E12,G12)","v":"अलउ"},{"$f":"CONCATENATE(B12,C12,G12)","v":"11सम"},{"$f":"CONCATENATE(B12,E12,G12)","v":"11अलउ"},{"$f":"CONCATENATE(B12,D12,G12)","v":"11सामान्य"},{"$f":"CONCATENATE(B12,C12,E12,G12)","v":"11समअलउ"}]
[{"$f":"IF(B13=\"\",\"\",IF(G13=\"c\",\"C\",MAX($A$9:A12)+1))","v":""},null,null,null,null,null,null,null,{"$f":"IF('Entry sheet-1-hin'!A14=\"\",\"\",'Entry sheet-1-hin'!A14)","v":5},null,{"$f":"IF('Entry sheet-1-hin'!B14=\"\",\"\",'Entry sheet-1-hin'!B14)","v":"मेरा बचपन"},null,null,null,null,null,null,null,null,{"$f":"IF('Entry sheet-1-hin'!C14=\"\",\"\",'Entry sheet-1-hin'!C14)","v":""},{"$f":"IF(K13=\"\",\"\",COUNTIF($AJ$9:$AJ$77,\"5बवि\")*1+COUNTIF($AJ$9:$AJ$77,\"5वनि\")*1+COUNTIF($AJ$9:$AJ$77,\"5अलउ\")*1+COUNTIF($AJ$9:$AJ$77,\"5लउ२\")*2+COUNTIF($AJ$9:$AJ$77,\"5लउ३\")*3+COUNTIF($AJ$9:$AJ$77,\"5दीउ४\")*4+COUNTIF($AJ$9:$AJ$77,\"5दीउ५\")*5)","v":0},{"$f":"IF(chapterwise!G11=0,\"\",chapterwise!G11)","v":""},{"$f":"IF(chapterwise!H11=0,\"\",chapterwise!H11)","v":""},{"$f":"IF(chapterwise!I11=0,\"\",chapterwise!I11)","v":""},{"$f":"IF(chapterwise!J11=0,\"\",chapterwise!J11)","v":""},{"$f":"IF(chapterwise!K11=0,\"\",chapterwise!K11)","v":""},{"$f":"IF(chapterwise!L11=0,\"\",chapterwise!L11)","v":""},{"$f":"IF(chapterwise!M11=0,\"\",chapterwise!M11)","v":""},null,{"$f":"CONCATENATE(F13,G13)","v":""},{"$f":"CONCATENATE(D13,G13)","v":""},{"$f":"CONCATENATE(C13,G13)","v":""},{"$f":"CONCATENATE(E13,G13)","v":""},{"$f":"CONCATENATE(C13,D13,E13,G13)","v":""},{"$f":"CONCATENATE(E13,F13,G13)","v":""},{"$f":"CONCATENATE(B13,E13,G13)","v":""},{"$f":"CONCATENATE(E13,G13)","v":""},{"$f":"CONCATENATE(B13,C13,G13)","v":""},{"$f":"CONCATENATE(B13,E13,G13)","v":""},{"$f":"CONCATENATE(B13,D13,G13)","v":""},{"$f":"CONCATENATE(B13,C13,E13,G13)","v":""}]
[{"$f":"IF(B14=\"\",\"\",IF(G14=\"c\",\"C\",MAX($A$9:A13)+1))","v":""},null,null,null,null,null,null,null,{"$f":"IF('Entry sheet-1-hin'!A15=\"\",\"\",'Entry sheet-1-hin'!A15)","v":6},null,{"$f":"IF('Entry sheet-1-hin'!B15=\"\",\"\",'Entry sheet-1-hin'!B15)","v":"भीम और राक्षस"},null,null,null,null,null,null,null,null,{"$f":"IF('Entry sheet-1-hin'!C15=\"\",\"\",'Entry sheet-1-hin'!C15)","v":""},{"$f":"IF(K14=\"\",\"\",COUNTIF($AJ$9:$AJ$77,\"6बवि\")*1+COUNTIF($AJ$9:$AJ$77,\"6वनि\")*1+COUNTIF($AJ$9:$AJ$77,\"6अलउ\")*1+COUNTIF($AJ$9:$AJ$77,\"6लउ२\")*2+COUNTIF($AJ$9:$AJ$77,\"6लउ३\")*3+COUNTIF($AJ$9:$AJ$77,\"6दीउ४\")*4+COUNTIF($AJ$9:$AJ$77,\"6दीउ५\")*5)","v":0},{"$f":"IF(chapterwise!G12=0,\"\",chapterwise!G12)","v":""},{"$f":"IF(chapterwise!H12=0,\"\",chapterwise!H12)","v":""},{"$f":"IF(chapterwise!I12=0,\"\",chapterwise!I12)","v":""},{"$f":"IF(chapterwise!J12=0,\"\",chapterwise!J12)","v":""},{"$f":"IF(chapterwise!K12=0,\"\",chapterwise!K12)","v":""},{"$f":"IF(chapterwise!L12=0,\"\",chapterwise!L12)","v":""},{"$f":"IF(chapterwise!M12=0,\"\",chapterwise!M12)","v":""},null,"","","","","","","","","","","",""]
[{"$f":"IF(B15=\"\",\"\",IF(G15=\"c\",\"C\",MAX($A$9:A14)+1))","v":""},null,null,null,null,null,null,null,{"$f":"IF('Entry sheet-1-hin'!A16=\"\",\"\",'Entry sheet-1-hin'!A16)","v":7},null,{"$f":"IF('Entry sheet-1-hin'!B16=\"\",\"\",'Entry sheet-1-hin'!B16)","v":"बाहुबली"},null,null,null,null,null,null,null,null,{"$f":"IF('Entry sheet-1-hin'!C16=\"\",\"\",'Entry sheet-1-hin'!C16)","v":""},{"$f":"IF(K15=\"\",\"\",COUNTIF($AJ$9:$AJ$77,\"7बवि\")*1+COUNTIF($AJ$9:$AJ$77,\"7वनि\")*1+COUNTIF($AJ$9:$AJ$77,\"7अलउ\")*1+COUNTIF($AJ$9:$AJ$77,\"7लउ२\")*2+COUNTIF($AJ$9:$AJ$77,\"7लउ३\")*3+COUNTIF($AJ$9:$AJ$77,\"7दीउ४\")*4+COUNTIF($AJ$9:$AJ$77,\"7दीउ५\")*5)","v":0},{"$f":"IF(chapterwise!G13=0,\"\",chapterwise!G13)","v":""},{"$f":"IF(chapterwise!H13=0,\"\",chapterwise!H13)","v":""},{"$f":"IF(chapterwise!I13=0,\"\",chapterwise!I13)","v":""},{"$f":"IF(chapterwise!J13=0,\"\",chapterwise!J13)","v":""},{"$f":"IF(chapterwise!K13=0,\"\",chapterwise!K13)","v":""},{"$f":"IF(chapterwise!L13=0,\"\",chapterwise!L13)","v":""},{"$f":"IF(chapterwise!M13=0,\"\",chapterwise!M13)","v":""},null,"","","","","","","","","","","",""]
[{"$f":"IF(B16=\"\",\"\",IF(G16=\"c\",\"C\",MAX($A$9:A15)+1))","v":""},null,null,null,null,null,null,null,{"$f":"IF('Entry sheet-1-hin'!A17=\"\",\"\",'Entry sheet-1-hin'!A17)","v":8},null,{"$f":"IF('Entry sheet-1-hin'!B17=\"\",\"\",'Entry sheet-1-hin'!B17)","v":"हामिद खाँ"},null,null,null,null,null,null,null,null,{"$f":"IF('Entry sheet-1-hin'!C17=\"\",\"\",'Entry sheet-1-hin'!C17)","v":""},{"$f":"IF(K16=\"\",\"\",COUNTIF($AJ$9:$AJ$77,\"8बवि\")*1+COUNTIF($AJ$9:$AJ$77,\"8वनि\")*1+COUNTIF($AJ$9:$AJ$77,\"8अलउ\")*1+COUNTIF($AJ$9:$AJ$77,\"8लउ२\")*2+COUNTIF($AJ$9:$AJ$77,\"8लउ३\")*3+COUNTIF($AJ$9:$AJ$77,\"8दीउ४\")*4+COUNTIF($AJ$9:$AJ$77,\"8दीउ५\")*5)","v":0},{"$f":"IF(chapterwise!G14=0,\"\",chapterwise!G14)","v":""},{"$f":"IF(chapterwise!H14=0,\"\",chapterwise!H14)","v":""},{"$f":"IF(chapterwise!I14=0,\"\",chapterwise!I14)","v":""},{"$f":"IF(chapterwise!J14=0,\"\",chapterwise!J14)","v":""},{"$f":"IF(chapterwise!K14=0,\"\",chapterwise!K14)","v":""},{"$f":"IF(chapterwise!L14=0,\"\",chapterwise!L14)","v":""},{"$f":"IF(chapterwise!M14=0,\"\",chapterwise!M14)","v":""},null,"","","","","","","","","","","",""]
[{"$f":"IF(B17=\"\",\"\",IF(G17=\"c\",\"C\",MAX($A$9:A16)+1))","v":5},1,"सम","सरल","वनि","ग",null,"जोड़कर लिखना",{"$f":"IF('Entry sheet-1-hin'!A18=\"\",\"\",'Entry sheet-1-hin'!A18)","v":9},null,{"$f":"IF('Entry sheet-1-hin'!B18=\"\",\"\",'Entry sheet-1-hin'!B18)","v":"खेलो- कूदो-स्वस्थ रहो"},null,null,null,null,null,null,null,null,{"$f":"IF('Entry sheet-1-hin'!C18=\"\",\"\",'Entry sheet-1-hin'!C18)","v":""},{"$f":"IF(K17=\"\",\"\",COUNTIF($AJ$9:$AJ$77,\"9बवि\")*1+COUNTIF($AJ$9:$AJ$77,\"9वनि\")*1+COUNTIF($AJ$9:$AJ$77,\"9अलउ\")*1+COUNTIF($AJ$9:$AJ$77,\"9लउ२\")*2+COUNTIF($AJ$9:$AJ$77,\"9लउ३\")*3+COUNTIF($AJ$9:$AJ$77,\"9दीउ४\")*4+COUNTIF($AJ$9:$AJ$77,\"9दीउ५\")*5)","v":0},{"$f":"IF(chapterwise!G15=0,\"\",chapterwise!G15)","v":""},{"$f":"IF(chapterwise!H15=0,\"\",chapterwise!H15)","v":""},{"$f":"IF(chapterwise!I15=0,\"\",chapterwise!I15)","v":""},{"$f":"IF(chapterwise!J15=0,\"\",chapterwise!J15)","v":""},{"$f":"IF(chapterwise!K15=0,\"\",chapterwise!K15)","v":""},{"$f":"IF(chapterwise!L15=0,\"\",chapterwise!L15)","v":""},{"$f":"IF(chapterwise!M15=0,\"\",chapterwise!M15)","v":""},null,"ग","सरल","सम","वनि","समसरलवनि","वनिग","1वनि","वनि","1सम","1वनि","1सरल","1समवनि"]
[{"$f":"IF(B18=\"\",\"\",IF(G18=\"c\",\"C\",MAX($A$9:A17)+1))","v":6},3,"सम","सरल","वनि","ग",null,null,{"$f":"IF('Entry sheet-1-hin'!A19=\"\",\"\",'Entry sheet-1-hin'!A19)","v":10},null,{"$f":"IF('Entry sheet-1-hin'!B19=\"\",\"\",'Entry sheet-1-hin'!B19)","v":"हिमालय की बेटियाँ"},null,null,null,null,null,null,null,null,{"$f":"IF('Entry sheet-1-hin'!C19=\"\",\"\",'Entry sheet-1-hin'!C19)","v":""},{"$f":"IF(K18=\"\",\"\",COUNTIF($AJ$9:$AJ$77,\"10बवि\")*1+COUNTIF($AJ$9:$AJ$77,\"10वनि\")*1+COUNTIF($AJ$9:$AJ$77,\"10अलउ\")*1+COUNTIF($AJ$9:$AJ$77,\"10लउ२\")*2+COUNTIF($AJ$9:$AJ$77,\"10लउ३\")*3+COUNTIF($AJ$9:$AJ$77,\"10दीउ४\")*4+COUNTIF($AJ$9:$AJ$77,\"10दीउ५\")*5)","v":0},{"$f":"IF(chapterwise!G16=0,\"\",chapterwise!G16)","v":""},{"$f":"IF(chapterwise!H16=0,\"\",chapterwise!H16)","v":""},{"$f":"IF(chapterwise!I16=0,\"\",chapterwise!I16)","v":""},{"$f":"IF(chapterwise!J16=0,\"\",chapterwise!J16)","v":""},{"$f":"IF(chapterwise!K16=0,\"\",chapterwise!K16)","v":""},{"$f":"IF(chapterwise!L16=0,\"\",chapterwise!L16)","v":""},{"$f":"IF(chapterwise!M16=0,\"\",chapterwise!M16)","v":""},null,"ग","सरल","सम","वनि","समसरलवनि","वनिग","3वनि","वनि","3सम","3वनि","3सरल","3समवनि"]
[{"$f":"IF(B19=\"\",\"\",IF(G19=\"c\",\"C\",MAX($A$9:A18)+1))","v":"C"},1,"सम","सरल","वनि","ग","C",null,{"$f":"IF('Entry sheet-1-hin'!A20=\"\",\"\",'Entry sheet-1-hin'!A20)","v":11},null,{"$f":"IF('Entry sheet-1-hin'!B20=\"\",\"\",'Entry sheet-1-hin'!B20)","v":"जय-जय भारत माता"},null,null,null,null,null,null,null,null,{"$f":"IF('Entry sheet-1-hin'!C20=\"\",\"\",'Entry sheet-1-hin'!C20)","v":3},{"$f":"IF(K19=\"\",\"\",COUNTIF($AJ$9:$AJ$77,\"11बवि\")*1+COUNTIF($AJ$9:$AJ$77,\"11वनि\")*1+COUNTIF($AJ$9:$AJ$77,\"11अलउ\")*1+COUNTIF($AJ$9:$AJ$77,\"11लउ२\")*2+COUNTIF($AJ$9:$AJ$77,\"11लउ३\")*3+COUNTIF($AJ$9:$AJ$77,\"11दीउ४\")*4+COUNTIF($AJ$9:$AJ$77,\"11दीउ५\")*5)","v":3},{"$f":"IF(chapterwise!G17=0,\"\",chapterwise!G17)","v":""},{"$f":"IF(chapterwise!H17=0,\"\",chapterwise!H17)","v":""},{"$f":"IF(chapterwise!I17=0,\"\",chapterwise!I17)","v":1},{"$f":"IF(chapterwise!J17=0,\"\",chapterwise!J17)","v":1},{"$f":"IF(chapterwise!K17=0,\"\",chapterwise!K17)","v":""},{"$f":"IF(chapterwise!L17=0,\"\",chapterwise!L17)","v":""},{"$f":"IF(chapterwise!M17=0,\"\",chapterwise!M17)","v":""},null,"गC","सरलC","समC","वनिC","समसरलवनिC","वनिगC","1वनिC","वनिC","1समC","1वनिC","1सरलC","1समवनिC"]
[{"$f":"IF(B20=\"\",\"\",IF(G20=\"c\",\"C\",MAX($A$9:A19)+1))","v":"C"},3,"सम","सरल","वनि","ग","C",null,{"$f":"IF('Entry sheet-1-hin'!A21=\"\",\"\",'Entry sheet-1-hin'!A21)","v":12},null,{"$f":"IF('Entry sheet-1-hin'!B21=\"\",\"\",'Entry sheet-1-hin'!B21)","v":"शिक्षा"},null,null,null,null,null,null,null,null,{"$f":"IF('Entry sheet-1-hin'!C21=\"\",\"\",'Entry sheet-1-hin'!C21)","v":4},{"$f":"IF(K20=\"\",\"\",COUNTIF($AJ$9:$AJ$77,\"12बवि\")*1+COUNTIF($AJ$9:$AJ$77,\"12वनि\")*1+COUNTIF($AJ$9:$AJ$77,\"12अलउ\")*1+COUNTIF($AJ$9:$AJ$77,\"12लउ२\")*2+COUNTIF($AJ$9:$AJ$77,\"12लउ३\")*3+COUNTIF($AJ$9:$AJ$77,\"12दीउ४\")*4+COUNTIF($AJ$9:$AJ$77,\"12दीउ५\")*5)","v":4},{"$f":"IF(chapterwise!G18=0,\"\",chapterwise!G18)","v":""},{"$f":"IF(chapterwise!H18=0,\"\",chapterwise!H18)","v":""},{"$f":"IF(chapterwise!I18=0,\"\",chapterwise!I18)","v":""},{"$f":"IF(chapterwise!J18=0,\"\",chapterwise!J18)","v":""},{"$f":"IF(chapterwise!K18=0,\"\",chapterwise!K18)","v":""},{"$f":"IF(chapterwise!L18=0,\"\",chapterwise!L18)","v":1},{"$f":"IF(chapterwise!M18=0,\"\",chapterwise!M18)","v":""},null,"गC","सरलC","समC","वनिC","समसरलवनिC","वनिगC","3वनिC","वनिC","3समC","3वनिC","3सरलC","3समवनिC"]
[{"$f":"IF(B21=\"\",\"\",IF(G21=\"c\",\"C\",MAX($A$9:A20)+1))","v":""},null,null,null,null,null,null,"चुननेवाला",{"$f":"IF('Entry sheet-1-hin'!A22=\"\",\"\",'Entry sheet-1-hin'!A22)","v":13},null,{"$f":"IF('Entry sheet-1-hin'!B22=\"\",\"\",'Entry sheet-1-hin'!B22)","v":"मेरी अभिलाषा है"},null,null,null,null,null,null,null,null,{"$f":"IF('Entry sheet-1-hin'!C22=\"\",\"\",'Entry sheet-1-hin'!C22)","v":3},{"$f":"IF(K21=\"\",\"\",COUNTIF($AJ$9:$AJ$77,\"13बवि\")*1+COUNTIF($AJ$9:$AJ$77,\"13वनि\")*1+COUNTIF($AJ$9:$AJ$77,\"13अलउ\")*1+COUNTIF($AJ$9:$AJ$77,\"13लउ२\")*2+COUNTIF($AJ$9:$AJ$77,\"13लउ३\")*3+COUNTIF($AJ$9:$AJ$77,\"13दीउ४\")*4+COUNTIF($AJ$9:$AJ$77,\"13दीउ५\")*5)","v":3},{"$f":"IF(chapterwise!G19=0,\"\",chapterwise!G19)","v":""},{"$f":"IF(chapterwise!H19=0,\"\",chapterwise!H19)","v":""},{"$f":"IF(chapterwise!I19=0,\"\",chapterwise!I19)","v":""},{"$f":"IF(chapterwise!J19=0,\"\",chapterwise!J19)","v":""},{"$f":"IF(chapterwise!K19=0,\"\",chapterwise!K19)","v":1},{"$f":"IF(chapterwise!L19=0,\"\",chapterwise!L19)","v":""},{"$f":"IF(chapterwise!M19=0,\"\",chapterwise!M19)","v":""},null,"","","","","","","","","","","",""]
[{"$f":"IF(B22=\"\",\"\",IF(G22=\"c\",\"C\",MAX($A$9:A21)+1))","v":""},null,null,null,null,null,null,null,{"$f":"IF('Entry sheet-1-hin'!A23=\"\",\"\",'Entry sheet-1-hin'!A23)","v":14},null,{"$f":"IF('Entry sheet-1-hin'!B23=\"\",\"\",'Entry sheet-1-hin'!B23)","v":"विनती"},null,null,null,null,null,null,null,null,{"$f":"IF('Entry sheet-1-hin'!C23=\"\",\"\",'Entry sheet-1-hin'!C23)","v":""},{"$f":"IF(K22=\"\",\"\",COUNTIF($AJ$9:$AJ$77,\"14बवि\")*1+COUNTIF($AJ$9:$AJ$77,\"14वनि\")*1+COUNTIF($AJ$9:$AJ$77,\"14अलउ\")*1+COUNTIF($AJ$9:$AJ$77,\"14लउ२\")*2+COUNTIF($AJ$9:$AJ$77,\"14लउ३\")*3+COUNTIF($AJ$9:$AJ$77,\"14दीउ४\")*4+COUNTIF($AJ$9:$AJ$77,\"14दीउ५\")*5)","v":0},{"$f":"IF(chapterwise!G20=0,\"\",chapterwise!G20)","v":""},{"$f":"IF(chapterwise!H20=0,\"\",chapterwise!H20)","v":""},{"$f":"IF(chapterwise!I20=0,\"\",chapterwise!I20)","v":""},{"$f":"IF(chapterwise!J20=0,\"\",chapterwise!J20)","v":""},{"$f":"IF(chapterwise!K20=0,\"\",chapterwise!K20)","v":""},{"$f":"IF(chapterwise!L20=0,\"\",chapterwise!L20)","v":""},{"$f":"IF(chapterwise!M20=0,\"\",chapterwise!M20)","v":""},null,"","","","","","","","","","","",""]
[{"$f":"IF(B23=\"\",\"\",IF(G23=\"c\",\"C\",MAX($A$9:A22)+1))","v":7},3,"सम","सामान्य","वनि","ग",null,"अनुरूपता",{"$f":"IF('Entry sheet-1-hin'!A24=\"\",\"\",'Entry sheet-1-hin'!A24)","v":15},null,{"$f":"IF('Entry sheet-1-hin'!B24=\"\",\"\",'Entry sheet-1-hin'!B24)","v":"कोई नहीं पराया"},null,null,null,null,null,null,null,null,{"$f":"IF('Entry sheet-1-hin'!C24=\"\",\"\",'Entry sheet-1-hin'!C24)","v":""},{"$f":"IF(K23=\"\",\"\",COUNTIF($AJ$9:$AJ$77,\"15बवि\")*1+COUNTIF($AJ$9:$AJ$77,\"15वनि\")*1+COUNTIF($AJ$9:$AJ$77,\"15अलउ\")*1+COUNTIF($AJ$9:$AJ$77,\"15लउ२\")*2+COUNTIF($AJ$9:$AJ$77,\"15लउ३\")*3+COUNTIF($AJ$9:$AJ$77,\"15दीउ४\")*4+COUNTIF($AJ$9:$AJ$77,\"15दीउ५\")*5)","v":0},{"$f":"IF(chapterwise!G21=0,\"\",chapterwise!G21)","v":""},{"$f":"IF(chapterwise!H21=0,\"\",chapterwise!H21)","v":""},{"$f":"IF(chapterwise!I21=0,\"\",chapterwise!I21)","v":""},{"$f":"IF(chapterwise!J21=0,\"\",chapterwise!J21)","v":""},{"$f":"IF(chapterwise!K21=0,\"\",chapterwise!K21)","v":""},{"$f":"IF(chapterwise!L21=0,\"\",chapterwise!L21)","v":""},{"$f":"IF(chapterwise!M21=0,\"\",chapterwise!M21)","v":""},null,"ग","सामान्य","सम","वनि","समसामान्यवनि","वनिग","3वनि","वनि","3सम","3वनि","3सामान्य","3समवनि"]
[{"$f":"IF(B24=\"\",\"\",IF(G24=\"c\",\"C\",MAX($A$9:A23)+1))","v":8},4,"सम","सामान्य","वनि","ग",null,null,{"$f":"IF('Entry sheet-1-hin'!A25=\"\",\"\",'Entry sheet-1-hin'!A25)","v":16},null,{"$f":"IF('Entry sheet-1-hin'!B25=\"\",\"\",'Entry sheet-1-hin'!B25)","v":"कबीर के दोहे"},null,null,null,null,null,null,null,null,{"$f":"IF('Entry sheet-1-hin'!C25=\"\",\"\",'Entry sheet-1-hin'!C25)","v":""},{"$f":"IF(K24=\"\",\"\",COUNTIF($AJ$9:$AJ$77,\"16बवि\")*1+COUNTIF($AJ$9:$AJ$77,\"16वनि\")*1+COUNTIF($AJ$9:$AJ$77,\"16अलउ\")*1+COUNTIF($AJ$9:$AJ$77,\"16लउ२\")*2+COUNTIF($AJ$9:$AJ$77,\"16लउ३\")*3+COUNTIF($AJ$9:$AJ$77,\"16दीउ४\")*4+COUNTIF($AJ$9:$AJ$77,\"16दीउ५\")*5)","v":0},{"$f":"IF(chapterwise!G22=0,\"\",chapterwise!G22)","v":""},{"$f":"IF(chapterwise!H22=0,\"\",chapterwise!H22)","v":""},{"$f":"IF(chapterwise!I22=0,\"\",chapterwise!I22)","v":""},{"$f":"IF(chapterwise!J22=0,\"\",chapterwise!J22)","v":""},{"$f":"IF(chapterwise!K22=0,\"\",chapterwise!K22)","v":""},{"$f":"IF(chapterwise!L22=0,\"\",chapterwise!L22)","v":""},{"$f":"IF(chapterwise!M22=0,\"\",chapterwise!M22)","v":""},null,"ग","सामान्य","सम","वनि","समसामान्यवनि","वनिग","4वनि","वनि","4सम","4वनि","4सामान्य","4समवनि"]
[{"$f":"IF(B25=\"\",\"\",IF(G25=\"c\",\"C\",MAX($A$9:A24)+1))","v":""},null,null,null,null,null,null,null,{"$f":"IF('Entry sheet-1-hin'!A26=\"\",\"\",'Entry sheet-1-hin'!A26)","v":17},null,{"$f":"IF('Entry sheet-1-hin'!B26=\"\",\"\",'Entry sheet-1-hin'!B26)","v":"कजाकी"},null,null,null,null,null,null,null,null,{"$f":"IF('Entry sheet-1-hin'!C26=\"\",\"\",'Entry sheet-1-hin'!C26)","v":2},{"$f":"IF(K25=\"\",\"\",COUNTIF($AJ$9:$AJ$77,\"17बवि\")*1+COUNTIF($AJ$9:$AJ$77,\"17वनि\")*1+COUNTIF($AJ$9:$AJ$77,\"17अलउ\")*1+COUNTIF($AJ$9:$AJ$77,\"17लउ२\")*2+COUNTIF($AJ$9:$AJ$77,\"17लउ३\")*3+COUNTIF($AJ$9:$AJ$77,\"17दीउ४\")*4+COUNTIF($AJ$9:$AJ$77,\"17दीउ५\")*5)","v":2},{"$f":"IF(chapterwise!G23=0,\"\",chapterwise!G23)","v":""},{"$f":"IF(chapterwise!H23=0,\"\",chapterwise!H23)","v":""},{"$f":"IF(chapterwise!I23=0,\"\",chapterwise!I23)","v":""},{"$f":"IF(chapterwise!J23=0,\"\",chapterwise!J23)","v":1},{"$f":"IF(chapterwise!K23=0,\"\",chapterwise!K23)","v":""},{"$f":"IF(chapterwise!L23=0,\"\",chapterwise!L23)","v":""},{"$f":"IF(chapterwise!M23=0,\"\",chapterwise!M23)","v":""},null,"","","","","","","","","","","",""]
[{"$f":"IF(B26=\"\",\"\",IF(G26=\"c\",\"C\",MAX($A$9:A25)+1))","v":""},null,null,null,null,null,null,null,{"$f":"IF('Entry sheet-1-hin'!A27=\"\",\"\",'Entry sheet-1-hin'!A27)","v":18},null,{"$f":"IF('Entry sheet-1-hin'!B27=\"\",\"\",'Entry sheet-1-hin'!B27)","v":"वीर मालव जी"},null,null,null,null,null,null,null,null,{"$f":"IF('Entry sheet-1-hin'!C27=\"\",\"\",'Entry sheet-1-hin'!C27)","v":""},{"$f":"IF(K26=\"\",\"\",COUNTIF($AJ$9:$AJ$77,\"18बवि\")*1+COUNTIF($AJ$9:$AJ$77,\"18वनि\")*1+COUNTIF($AJ$9:$AJ$77,\"18अलउ\")*1+COUNTIF($AJ$9:$AJ$77,\"18लउ२\")*2+COUNTIF($AJ$9:$AJ$77,\"18लउ३\")*3+COUNTIF($AJ$9:$AJ$77,\"18दीउ४\")*4+COUNTIF($AJ$9:$AJ$77,\"18दीउ५\")*5)","v":0},{"$f":"IF(chapterwise!G24=0,\"\",chapterwise!G24)","v":""},{"$f":"IF(chapterwise!H24=0,\"\",chapterwise!H24)","v":""},{"$f":"IF(chapterwise!I24=0,\"\",chapterwise!I24)","v":""},{"$f":"IF(chapterwise!J24=0,\"\",chapterwise!J24)","v":""},{"$f":"IF(chapterwise!K24=0,\"\",chapterwise!K24)","v":""},{"$f":"IF(chapterwise!L24=0,\"\",chapterwise!L24)","v":""},{"$f":"IF(chapterwise!M24=0,\"\",chapterwise!M24)","v":""},null,"","","","","","","","","","","",""]
[{"$f":"IF(B27=\"\",\"\",IF(G27=\"c\",\"C\",MAX($A$9:A26)+1))","v":9},1,"अ","सरल","लउ२","ग",null," 2अंकवाले",{"$f":"IF('Entry sheet-1-hin'!A28=\"\",\"\",'Entry sheet-1-hin'!A28)","v":19},null,{"$f":"IF('Entry sheet-1-hin'!B28=\"\",\"\",'Entry sheet-1-hin'!B28)","v":"वृक्ष हमारे जीवन-साथी"},null,null,null,null,null,null,null,null,{"$f":"IF('Entry sheet-1-hin'!C28=\"\",\"\",'Entry sheet-1-hin'!C28)","v":""},{"$f":"IF(K27=\"\",\"\",COUNTIF($AJ$9:$AJ$77,\"19बवि\")*1+COUNTIF($AJ$9:$AJ$77,\"19वनि\")*1+COUNTIF($AJ$9:$AJ$77,\"19अलउ\")*1+COUNTIF($AJ$9:$AJ$77,\"19लउ२\")*2+COUNTIF($AJ$9:$AJ$77,\"19लउ३\")*3+COUNTIF($AJ$9:$AJ$77,\"19दीउ४\")*4+COUNTIF($AJ$9:$AJ$77,\"19दीउ५\")*5)","v":0},{"$f":"IF(chapterwise!G25=0,\"\",chapterwise!G25)","v":""},{"$f":"IF(chapterwise!H25=0,\"\",chapterwise!H25)","v":""},{"$f":"IF(chapterwise!I25=0,\"\",chapterwise!I25)","v":""},{"$f":"IF(chapterwise!J25=0,\"\",chapterwise!J25)","v":""},{"$f":"IF(chapterwise!K25=0,\"\",chapterwise!K25)","v":""},{"$f":"IF(chapterwise!L25=0,\"\",chapterwise!L25)","v":""},{"$f":"IF(chapterwise!M25=0,\"\",chapterwise!M25)","v":""},null,"ग","सरल","अ","लउ२","असरललउ२","लउ२ग","1लउ२","लउ२","1अ","1लउ२","1सरल","1अलउ२"]
[{"$f":"IF(B28=\"\",\"\",IF(G28=\"c\",\"C\",MAX($A$9:A27)+1))","v":10},2,"अ","सामान्य","लउ२","ग",null,null,{"$f":"IF('Entry sheet-1-hin'!A29=\"\",\"\",'Entry sheet-1-hin'!A29)","v":20},null,{"$f":"IF('Entry sheet-1-hin'!B29=\"\",\"\",'Entry sheet-1-hin'!B29)","v":"अपठित गद्यांश"},null,null,null,null,null,null,null,null,{"$f":"IF('Entry sheet-1-hin'!C29=\"\",\"\",'Entry sheet-1-hin'!C29)","v":2},{"$f":"IF(K28=\"\",\"\",COUNTIF($AJ$9:$AJ$77,\"20बवि\")*1+COUNTIF($AJ$9:$AJ$77,\"20वनि\")*1+COUNTIF($AJ$9:$AJ$77,\"20अलउ\")*1+COUNTIF($AJ$9:$AJ$77,\"20लउ२\")*2+COUNTIF($AJ$9:$AJ$77,\"20लउ३\")*3+COUNTIF($AJ$9:$AJ$77,\"20दीउ४\")*4+COUNTIF($AJ$9:$AJ$77,\"20दीउ५\")*5)","v":2},{"$f":"IF(chapterwise!G26=0,\"\",chapterwise!G26)","v":""},{"$f":"IF(chapterwise!H26=0,\"\",chapterwise!H26)","v":""},{"$f":"IF(chapterwise!I26=0,\"\",chapterwise!I26)","v":2},{"$f":"IF(chapterwise!J26=0,\"\",chapterwise!J26)","v":""},{"$f":"IF(chapterwise!K26=0,\"\",chapterwise!K26)","v":""},{"$f":"IF(chapterwise!L26=0,\"\",chapterwise!L26)","v":""},{"$f":"IF(chapterwise!M26=0,\"\",chapterwise!M26)","v":""},null,"ग","सामान्य","अ","लउ२","असामान्यलउ२","लउ२ग","2लउ२","लउ२","2अ","2लउ२","2सामान्य","2अलउ२"]
[{"$f":"IF(B29=\"\",\"\",IF(G29=\"c\",\"C\",MAX($A$9:A28)+1))","v":11},3,"अ","सामान्य","लउ२","ग",null,null,{"$f":"IF('Entry sheet-1-hin'!A30=\"\",\"\",'Entry sheet-1-hin'!A30)","v":21},null,{"$f":"IF('Entry sheet-1-hin'!B30=\"\",\"\",'Entry sheet-1-hin'!B30)","v":"अनुवाद"},null,null,null,null,null,null,null,null,{"$f":"IF('Entry sheet-1-hin'!C30=\"\",\"\",'Entry sheet-1-hin'!C30)","v":2},{"$f":"IF(K29=\"\",\"\",COUNTIF($AJ$9:$AJ$77,\"21बवि\")*1+COUNTIF($AJ$9:$AJ$77,\"21वनि\")*1+COUNTIF($AJ$9:$AJ$77,\"21अलउ\")*1+COUNTIF($AJ$9:$AJ$77,\"21लउ२\")*2+COUNTIF($AJ$9:$AJ$77,\"21लउ३\")*3+COUNTIF($AJ$9:$AJ$77,\"21दीउ४\")*4+COUNTIF($AJ$9:$AJ$77,\"21दीउ५\")*5)","v":2},{"$f":"IF(chapterwise!G27=0,\"\",chapterwise!G27)","v":""},{"$f":"IF(chapterwise!H27=0,\"\",chapterwise!H27)","v":""},{"$f":"IF(chapterwise!I27=0,\"\",chapterwise!I27)","v":2},{"$f":"IF(chapterwise!J27=0,\"\",chapterwise!J27)","v":""},{"$f":"IF(chapterwise!K27=0,\"\",chapterwise!K27)","v":""},{"$f":"IF(chapterwise!L27=0,\"\",chapterwise!L27)","v":""},{"$f":"IF(chapterwise!M27=0,\"\",chapterwise!M27)","v":""},null,"ग","सामान्य","अ","लउ२","असामान्यलउ२","लउ२ग","3लउ२","लउ२","3अ","3लउ२","3सामान्य","3अलउ२"]
[{"$f":"IF(B30=\"\",\"\",IF(G30=\"c\",\"C\",MAX($A$9:A29)+1))","v":12},11,"अ","सामान्य","लउ२","प",null,null,{"$f":"IF('Entry sheet-1-hin'!A31=\"\",\"\",'Entry sheet-1-hin'!A31)","v":22},null,{"$f":"IF('Entry sheet-1-hin'!B31=\"\",\"\",'Entry sheet-1-hin'!B31)","v":"पत्र लेखन"},null,null,null,null,null,null,null,null,{"$f":"IF('Entry sheet-1-hin'!C31=\"\",\"\",'Entry sheet-1-hin'!C31)","v":4},{"$f":"IF(K30=\"\",\"\",COUNTIF($AJ$9:$AJ$77,\"22बवि\")*1+COUNTIF($AJ$9:$AJ$77,\"22वनि\")*1+COUNTIF($AJ$9:$AJ$77,\"22अलउ\")*1+COUNTIF($AJ$9:$AJ$77,\"22लउ२\")*2+COUNTIF($AJ$9:$AJ$77,\"22लउ३\")*3+COUNTIF($AJ$9:$AJ$77,\"22दीउ४\")*4+COUNTIF($AJ$9:$AJ$77,\"22दीउ५\")*5)","v":4},{"$f":"IF(chapterwise!G28=0,\"\",chapterwise!G28)","v":""},{"$f":"IF(chapterwise!H28=0,\"\",chapterwise!H28)","v":""},{"$f":"IF(chapterwise!I28=0,\"\",chapterwise!I28)","v":""},{"$f":"IF(chapterwise!J28=0,\"\",chapterwise!J28)","v":""},{"$f":"IF(chapterwise!K28=0,\"\",chapterwise!K28)","v":""},{"$f":"IF(chapterwise!L28=0,\"\",chapterwise!L28)","v":1},{"$f":"IF(chapterwise!M28=0,\"\",chapterwise!M28)","v":""},null,"प","सामान्य","अ","लउ२","असामान्यलउ२","लउ२प","11लउ२","लउ२","11अ","11लउ२","11सामान्य","11अलउ२"]
[{"$f":"IF(B31=\"\",\"\",IF(G31=\"c\",\"C\",MAX($A$9:A30)+1))","v":13},17,"स्म","सामान्य","लउ२","पूवा",null,null,{"$f":"IF('Entry sheet-1-hin'!A32=\"\",\"\",'Entry sheet-1-hin'!A32)","v":23},null,{"$f":"IF('Entry sheet-1-hin'!B32=\"\",\"\",'Entry sheet-1-hin'!B32)","v":"निबंध रचना"},null,null,null,null,null,null,null,null,{"$f":"IF('Entry sheet-1-hin'!C32=\"\",\"\",'Entry sheet-1-hin'!C32)","v":""},{"$f":"IF(K31=\"\",\"\",COUNTIF($AJ$9:$AJ$77,\"23बवि\")*1+COUNTIF($AJ$9:$AJ$77,\"23वनि\")*1+COUNTIF($AJ$9:$AJ$77,\"23अलउ\")*1+COUNTIF($AJ$9:$AJ$77,\"23लउ२\")*2+COUNTIF($AJ$9:$AJ$77,\"23लउ३\")*3+COUNTIF($AJ$9:$AJ$77,\"23दीउ४\")*4+COUNTIF($AJ$9:$AJ$77,\"22दीउ५\")*5)","v":0},{"$f":"IF(chapterwise!G29=0,\"\",chapterwise!G29)","v":""},{"$f":"IF(chapterwise!H29=0,\"\",chapterwise!H29)","v":""},{"$f":"IF(chapterwise!I29=0,\"\",chapterwise!I29)","v":""},{"$f":"IF(chapterwise!J29=0,\"\",chapterwise!J29)","v":""},{"$f":"IF(chapterwise!K29=0,\"\",chapterwise!K29)","v":""},{"$f":"IF(chapterwise!L29=0,\"\",chapterwise!L29)","v":""},{"$f":"IF(chapterwise!M29=0,\"\",chapterwise!M29)","v":""},null,"पूवा","सामान्य","स्म","लउ२","स्मसामान्यलउ२","लउ२पूवा","17लउ२","लउ२","17स्म","17लउ२","17सामान्य","17स्मलउ२"]
[{"$f":"IF(B32=\"\",\"\",IF(G32=\"c\",\"C\",MAX($A$9:A31)+1))","v":"C"},17,"स्म","सामान्य","लउ२","पूवा","C",null,{"$f":"IF('Entry sheet-1-hin'!A33=\"\",\"\",'Entry sheet-1-hin'!A33)","v":24},null,{"$f":"IF('Entry sheet-1-hin'!B33=\"\",\"\",'Entry sheet-1-hin'!B33)","v":"व्याकरण"},null,null,null,null,null,null,null,null,{"$f":"IF('Entry sheet-1-hin'!C33=\"\",\"\",'Entry sheet-1-hin'!C33)","v":4},{"$f":"IF(K32=\"\",\"\",COUNTIF($AJ$9:$AJ$77,\"24बवि\")*1+COUNTIF($AJ$9:$AJ$77,\"24वनि\")*1+COUNTIF($AJ$9:$AJ$77,\"24अलउ\")*1+COUNTIF($AJ$9:$AJ$77,\"24लउ२\")*2+COUNTIF($AJ$9:$AJ$77,\"24लउ३\")*3+COUNTIF($AJ$9:$AJ$77,\"24दीउ४\")*4+COUNTIF($AJ$9:$AJ$77,\"24दीउ५\")*5)","v":4},{"$f":"IF(chapterwise!G30=0,\"\",chapterwise!G30)","v":4},{"$f":"IF(chapterwise!H30=0,\"\",chapterwise!H30)","v":""},{"$f":"IF(chapterwise!I30=0,\"\",chapterwise!I30)","v":""},{"$f":"IF(chapterwise!J30=0,\"\",chapterwise!J30)","v":""},{"$f":"IF(chapterwise!K30=0,\"\",chapterwise!K30)","v":""},{"$f":"IF(chapterwise!L30=0,\"\",chapterwise!L30)","v":""},{"$f":"IF(chapterwise!M30=0,\"\",chapterwise!M30)","v":""},null,"पूवाC","सामान्यC","स्मC","लउ२C","स्मसामान्यलउ२C","लउ२पूवाC","17लउ२C","लउ२C","17स्मC","17लउ२C","17सामान्यC","17स्मलउ२C"]
[{"$f":"IF(B33=\"\",\"\",IF(G33=\"c\",\"C\",MAX($A$9:A32)+1))","v":""},null,null,null,null,null,null,null,{"$f":"IF('Entry sheet-1-hin'!A34=\"\",\"\",'Entry sheet-1-hin'!A34)","v":""},null,{"$f":"IF('Entry sheet-1-hin'!B34=\"\",\"\",'Entry sheet-1-hin'!B34)","v":""},null,null,null,null,null,null,null,null,{"$f":"IF('Entry sheet-1-hin'!C34=\"\",\"\",'Entry sheet-1-hin'!C34)","v":""},{"$f":"IF(K33=\"\",\"\",COUNTIF($AJ$9:$AJ$77,\"25बवि\")*1+COUNTIF($AJ$9:$AJ$77,\"25वनि\")*1+COUNTIF($AJ$9:$AJ$77,\"25अलउ\")*1+COUNTIF($AJ$9:$AJ$77,\"25लउ२\")*2+COUNTIF($AJ$9:$AJ$77,\"25लउ३\")*3+COUNTIF($AJ$9:$AJ$77,\"25दीउ४\")*4+COUNTIF($AJ$9:$AJ$77,\"25दीउ५\")*5)","v":""},{"$f":"IF(chapterwise!G31=0,\"\",chapterwise!G31)","v":""},{"$f":"IF(chapterwise!H31=0,\"\",chapterwise!H31)","v":""},{"$f":"IF(chapterwise!I31=0,\"\",chapterwise!I31)","v":""},{"$f":"IF(chapterwise!J31=0,\"\",chapterwise!J31)","v":""},{"$f":"IF(chapterwise!K31=0,\"\",chapterwise!K31)","v":""},{"$f":"IF(chapterwise!L31=0,\"\",chapterwise!L31)","v":""},{"$f":"IF(chapterwise!M31=0,\"\",chapterwise!M31)","v":""},null,"","","","","","","","","","","",""]
[{"$f":"IF(B34=\"\",\"\",IF(G34=\"c\",\"C\",MAX($A$9:A33)+1))","v":""},null,null,null,null,null,null,null,{"$f":"IF('Entry sheet-1-hin'!A35=\"\",\"\",'Entry sheet-1-hin'!A35)","v":""},null,{"$f":"IF('Entry sheet-1-hin'!B35=\"\",\"\",'Entry sheet-1-hin'!B35)","v":""},null,null,null,null,null,null,null,null,{"$f":"IF('Entry sheet-1-hin'!C35=\"\",\"\",'Entry sheet-1-hin'!C35)","v":""},{"$f":"IF(K34=\"\",\"\",COUNTIF($AJ$9:$AJ$77,\"26बवि\")*1+COUNTIF($AJ$9:$AJ$77,\"26वनि\")*1+COUNTIF($AJ$9:$AJ$77,\"26अलउ\")*1+COUNTIF($AJ$9:$AJ$77,\"26लउ२\")*2+COUNTIF($AJ$9:$AJ$77,\"26लउ३\")*3+COUNTIF($AJ$9:$AJ$77,\"26दीउ४\")*4+COUNTIF($AJ$9:$AJ$77,\"26दीउ५\")*5)","v":""},{"$f":"IF(chapterwise!G32=0,\"\",chapterwise!G32)","v":""},{"$f":"IF(chapterwise!H32=0,\"\",chapterwise!H32)","v":""},{"$f":"IF(chapterwise!I32=0,\"\",chapterwise!I32)","v":""},{"$f":"IF(chapterwise!J32=0,\"\",chapterwise!J32)","v":""},{"$f":"IF(chapterwise!K32=0,\"\",chapterwise!K32)","v":""},{"$f":"IF(chapterwise!L32=0,\"\",chapterwise!L32)","v":""},{"$f":"IF(chapterwise!M32=0,\"\",chapterwise!M32)","v":""},null,"","","","","","","","","","","",""]
[{"$f":"IF(B35=\"\",\"\",IF(G35=\"c\",\"C\",MAX($A$9:A34)+1))","v":""},null,null,null,null,null,null,null,{"$f":"IF('Entry sheet-1-hin'!A36=\"\",\"\",'Entry sheet-1-hin'!A36)","v":""},null,{"$f":"IF('Entry sheet-1-hin'!B36=\"\",\"\",'Entry sheet-1-hin'!B36)","v":""},null,null,null,null,null,null,null,null,{"$f":"IF('Entry sheet-1-hin'!C36=\"\",\"\",'Entry sheet-1-hin'!C36)","v":""},{"$f":"IF(K35=\"\",\"\",COUNTIF($AJ$9:$AJ$77,\"27बवि\")*1+COUNTIF($AJ$9:$AJ$77,\"27वनि\")*1+COUNTIF($AJ$9:$AJ$77,\"27अलउ\")*1+COUNTIF($AJ$9:$AJ$77,\"27लउ२\")*2+COUNTIF($AJ$9:$AJ$77,\"27लउ३\")*3+COUNTIF($AJ$9:$AJ$77,\"27दीउ४\")*4+COUNTIF($AJ$9:$AJ$77,\"27दीउ५\")*5)","v":""},{"$f":"IF(chapterwise!G33=0,\"\",chapterwise!G33)","v":""},{"$f":"IF(chapterwise!H33=0,\"\",chapterwise!H33)","v":""},{"$f":"IF(chapterwise!I33=0,\"\",chapterwise!I33)","v":""},{"$f":"IF(chapterwise!J33=0,\"\",chapterwise!J33)","v":""},{"$f":"IF(chapterwise!K33=0,\"\",chapterwise!K33)","v":""},{"$f":"IF(chapterwise!L33=0,\"\",chapterwise!L33)","v":""},{"$f":"IF(chapterwise!M33=0,\"\",chapterwise!M33)","v":""},null,"","","","","","","","","","","",""]
[{"$f":"IF(B36=\"\",\"\",IF(G36=\"c\",\"C\",MAX($A$9:A35)+1))","v":""},null,null,null,null,null,null,null,{"$f":"IF('Entry sheet-1-hin'!A37=\"\",\"\",'Entry sheet-1-hin'!A37)","v":""},null,{"$f":"IF('Entry sheet-1-hin'!B37=\"\",\"\",'Entry sheet-1-hin'!B37)","v":""},null,null,null,null,null,null,null,null,{"$f":"IF('Entry sheet-1-hin'!C37=\"\",\"\",'Entry sheet-1-hin'!C37)","v":""},{"$f":"IF(K36=\"\",\"\",COUNTIF($AJ$9:$AJ$77,\"28बवि\")*1+COUNTIF($AJ$9:$AJ$77,\"28वनि\")*1+COUNTIF($AJ$9:$AJ$77,\"28अलउ\")*1+COUNTIF($AJ$9:$AJ$77,\"28लउ२\")*2+COUNTIF($AJ$9:$AJ$77,\"28लउ३\")*3+COUNTIF($AJ$9:$AJ$77,\"28दीउ४\")*4+COUNTIF($AJ$9:$AJ$77,\"28दीउ५\")*5)","v":""},{"$f":"IF(chapterwise!G34=0,\"\",chapterwise!G34)","v":""},{"$f":"IF(chapterwise!H34=0,\"\",chapterwise!H34)","v":""},{"$f":"IF(chapterwise!I34=0,\"\",chapterwise!I34)","v":""},{"$f":"IF(chapterwise!J34=0,\"\",chapterwise!J34)","v":""},{"$f":"IF(chapterwise!K34=0,\"\",chapterwise!K34)","v":""},{"$f":"IF(chapterwise!L34=0,\"\",chapterwise!L34)","v":""},{"$f":"IF(chapterwise!M34=0,\"\",chapterwise!M34)","v":""},null,"","","","","","","","","","","",""]
[{"$f":"IF(B37=\"\",\"\",IF(G37=\"c\",\"C\",MAX($A$9:A36)+1))","v":""},null,null,null,null,null,null,"पूरकवाचन",{"$f":"IF('Entry sheet-1-hin'!A38=\"\",\"\",'Entry sheet-1-hin'!A38)","v":""},null,{"$f":"IF('Entry sheet-1-hin'!B38=\"\",\"\",'Entry sheet-1-hin'!B38)","v":""},null,null,null,null,null,null,null,null,{"$f":"IF('Entry sheet-1-hin'!C38=\"\",\"\",'Entry sheet-1-hin'!C38)","v":""},{"$f":"IF(K37=\"\",\"\",COUNTIF($AJ$9:$AJ$77,\"29बवि\")*1+COUNTIF($AJ$9:$AJ$77,\"29वनि\")*1+COUNTIF($AJ$9:$AJ$77,\"29अलउ\")*1+COUNTIF($AJ$9:$AJ$77,\"29लउ२\")*2+COUNTIF($AJ$9:$AJ$77,\"29लउ३\")*3+COUNTIF($AJ$9:$AJ$77,\"29दीउ४\")*4+COUNTIF($AJ$9:$AJ$77,\"29दीउ५\")*5)","v":""},{"$f":"IF(chapterwise!G35=0,\"\",chapterwise!G35)","v":""},{"$f":"IF(chapterwise!H35=0,\"\",chapterwise!H35)","v":""},{"$f":"IF(chapterwise!I35=0,\"\",chapterwise!I35)","v":""},{"$f":"IF(chapterwise!J35=0,\"\",chapterwise!J35)","v":""},{"$f":"IF(chapterwise!K35=0,\"\",chapterwise!K35)","v":""},{"$f":"IF(chapterwise!L35=0,\"\",chapterwise!L35)","v":""},{"$f":"IF(chapterwise!M35=0,\"\",chapterwise!M35)","v":""},null,"","","","","","","","","","","",""]
[{"$f":"IF(B38=\"\",\"\",IF(G38=\"c\",\"C\",MAX($A$9:A37)+1))","v":""},null,null,null,null,null,null,"चुननेवाला",{"$f":"IF('Entry sheet-1-hin'!A39=\"\",\"\",'Entry sheet-1-hin'!A39)","v":""},null,{"$f":"IF('Entry sheet-1-hin'!B39=\"\",\"\",'Entry sheet-1-hin'!B39)","v":""},null,null,null,null,null,null,null,null,{"$f":"IF('Entry sheet-1-hin'!C39=\"\",\"\",'Entry sheet-1-hin'!C39)","v":""},{"$f":"IF(K38=\"\",\"\",COUNTIF($AJ$9:$AJ$77,\"30बवि\")*1+COUNTIF($AJ$9:$AJ$77,\"30वनि\")*1+COUNTIF($AJ$9:$AJ$77,\"30अलउ\")*1+COUNTIF($AJ$9:$AJ$77,\"30लउ२\")*2+COUNTIF($AJ$9:$AJ$77,\"30लउ३\")*3+COUNTIF($AJ$9:$AJ$77,\"30दीउ४\")*4+COUNTIF($AJ$9:$AJ$77,\"30दीउ५\")*5)","v":""},{"$f":"IF(chapterwise!G36=0,\"\",chapterwise!G36)","v":""},{"$f":"IF(chapterwise!H36=0,\"\",chapterwise!H36)","v":""},{"$f":"IF(chapterwise!I36=0,\"\",chapterwise!I36)","v":""},{"$f":"IF(chapterwise!J36=0,\"\",chapterwise!J36)","v":""},{"$f":"IF(chapterwise!K36=0,\"\",chapterwise!K36)","v":""},{"$f":"IF(chapterwise!L36=0,\"\",chapterwise!L36)","v":""},{"$f":"IF(chapterwise!M36=0,\"\",chapterwise!M36)","v":""},null,"","","","","","","","","","","",""]
[{"$f":"IF(B39=\"\",\"\",IF(G39=\"c\",\"C\",MAX($A$9:A38)+1))","v":""},null,null,null,null,null,null,"पूरकवाचन",{"$f":"IF('Entry sheet-1-hin'!A40=\"\",\"\",'Entry sheet-1-hin'!A40)","v":""},null,{"$f":"IF('Entry sheet-1-hin'!B40=\"\",\"\",'Entry sheet-1-hin'!B40)","v":""},null,null,null,null,null,null,null,null,{"$f":"IF('Entry sheet-1-hin'!C40=\"\",\"\",'Entry sheet-1-hin'!C40)","v":""},{"$f":"IF(K39=\"\",\"\",COUNTIF($AJ$9:$AJ$77,\"31बवि\")*1+COUNTIF($AJ$9:$AJ$77,\"31वनि\")*1+COUNTIF($AJ$9:$AJ$77,\"31अलउ\")*1+COUNTIF($AJ$9:$AJ$77,\"31लउ२\")*2+COUNTIF($AJ$9:$AJ$77,\"31लउ३\")*3+COUNTIF($AJ$9:$AJ$77,\"31दीउ४\")*4+COUNTIF($AJ$9:$AJ$77,\"31दीउ५\")*5)","v":""},{"$f":"IF(chapterwise!G37=0,\"\",chapterwise!G37)","v":""},{"$f":"IF(chapterwise!H37=0,\"\",chapterwise!H37)","v":""},{"$f":"IF(chapterwise!I37=0,\"\",chapterwise!I37)","v":""},{"$f":"IF(chapterwise!J37=0,\"\",chapterwise!J37)","v":""},{"$f":"IF(chapterwise!K37=0,\"\",chapterwise!K37)","v":""},{"$f":"IF(chapterwise!L37=0,\"\",chapterwise!L37)","v":""},{"$f":"IF(chapterwise!M37=0,\"\",chapterwise!M37)","v":""},null,"","","","","","","","","","","",""]
[{"$f":"IF(B40=\"\",\"\",IF(G40=\"c\",\"C\",MAX($A$9:A39)+1))","v":""},null,null,null,null,null,null,"चुननेवाला",{"$f":"IF('Entry sheet-1-hin'!A41=\"\",\"\",'Entry sheet-1-hin'!A41)","v":""},null,{"$f":"IF('Entry sheet-1-hin'!B41=\"\",\"\",'Entry sheet-1-hin'!B41)","v":""},null,null,null,null,null,null,null,null,{"$f":"IF('Entry sheet-1-hin'!C41=\"\",\"\",'Entry sheet-1-hin'!C41)","v":""},{"$f":"IF(K40=\"\",\"\",COUNTIF($AJ$9:$AJ$77,\"32बवि\")*1+COUNTIF($AJ$9:$AJ$77,\"32वनि\")*1+COUNTIF($AJ$9:$AJ$77,\"32अलउ\")*1+COUNTIF($AJ$9:$AJ$77,\"32लउ२\")*2+COUNTIF($AJ$9:$AJ$77,\"32लउ३\")*3+COUNTIF($AJ$9:$AJ$77,\"32दीउ४\")*4+COUNTIF($AJ$9:$AJ$77,\"32दीउ५\")*5)","v":""},{"$f":"IF(chapterwise!G38=0,\"\",chapterwise!G38)","v":""},{"$f":"IF(chapterwise!H38=0,\"\",chapterwise!H38)","v":""},{"$f":"IF(chapterwise!I38=0,\"\",chapterwise!I38)","v":""},{"$f":"IF(chapterwise!J38=0,\"\",chapterwise!J38)","v":""},{"$f":"IF(chapterwise!K38=0,\"\",chapterwise!K38)","v":""},{"$f":"IF(chapterwise!L38=0,\"\",chapterwise!L38)","v":""},{"$f":"IF(chapterwise!M38=0,\"\",chapterwise!M38)","v":""},null,"","","","","","","","","","","",""]
[{"$f":"IF(B41=\"\",\"\",IF(G41=\"c\",\"C\",MAX($A$9:A40)+1))","v":14},4,"सम","सामान्य","लउ३","ग",null,"3 अंकवाले",{"$f":"IF('Entry sheet-1-hin'!A42=\"\",\"\",'Entry sheet-1-hin'!A42)","v":""},null,{"$f":"IF('Entry sheet-1-hin'!B42=\"\",\"\",'Entry sheet-1-hin'!B42)","v":""},null,null,null,null,null,null,null,null,{"$f":"IF('Entry sheet-1-hin'!C42=\"\",\"\",'Entry sheet-1-hin'!C42)","v":""},{"$f":"IF(K41=\"\",\"\",COUNTIF($AJ$9:$AJ$77,\"33बवि\")*1+COUNTIF($AJ$9:$AJ$77,\"33वनि\")*1+COUNTIF($AJ$9:$AJ$77,\"33अलउ\")*1+COUNTIF($AJ$9:$AJ$77,\"33लउ२\")*2+COUNTIF($AJ$9:$AJ$77,\"33लउ३\")*3+COUNTIF($AJ$9:$AJ$77,\"33दीउ४\")*4+COUNTIF($AJ$9:$AJ$77,\"33दीउ५\")*5)","v":""},{"$f":"IF(chapterwise!G39=0,\"\",chapterwise!G39)","v":""},{"$f":"IF(chapterwise!H39=0,\"\",chapterwise!H39)","v":""},{"$f":"IF(chapterwise!I39=0,\"\",chapterwise!I39)","v":""},{"$f":"IF(chapterwise!J39=0,\"\",chapterwise!J39)","v":""},{"$f":"IF(chapterwise!K39=0,\"\",chapterwise!K39)","v":""},{"$f":"IF(chapterwise!L39=0,\"\",chapterwise!L39)","v":""},{"$f":"IF(chapterwise!M39=0,\"\",chapterwise!M39)","v":""},null,"ग","सामान्य","सम","लउ३","समसामान्यलउ३","लउ३ग","4लउ३","लउ३","4सम","4लउ३","4सामान्य","4समलउ३"]
[{"$f":"IF(B42=\"\",\"\",IF(G42=\"c\",\"C\",MAX($A$9:A41)+1))","v":15},13,"रस","कठिन","लउ३","प",null,null,{"$f":"IF('Entry sheet-1-hin'!A43=\"\",\"\",'Entry sheet-1-hin'!A43)","v":""},null,{"$f":"IF('Entry sheet-1-hin'!B43=\"\",\"\",'Entry sheet-1-hin'!B43)","v":""},null,null,null,null,null,null,null,null,{"$f":"IF('Entry sheet-1-hin'!C43=\"\",\"\",'Entry sheet-1-hin'!C43)","v":""},{"$f":"IF(K42=\"\",\"\",COUNTIF($AJ$9:$AJ$77,\"34बवि\")*1+COUNTIF($AJ$9:$AJ$77,\"34वनि\")*1+COUNTIF($AJ$9:$AJ$77,\"34अलउ\")*1+COUNTIF($AJ$9:$AJ$77,\"34लउ२\")*2+COUNTIF($AJ$9:$AJ$77,\"34लउ३\")*3+COUNTIF($AJ$9:$AJ$77,\"34दीउ४\")*4+COUNTIF($AJ$9:$AJ$77,\"34दीउ५\")*5)","v":""},{"$f":"IF(chapterwise!G40=0,\"\",chapterwise!G40)","v":""},{"$f":"IF(chapterwise!H40=0,\"\",chapterwise!H40)","v":""},{"$f":"IF(chapterwise!I40=0,\"\",chapterwise!I40)","v":""},{"$f":"IF(chapterwise!J40=0,\"\",chapterwise!J40)","v":""},{"$f":"IF(chapterwise!K40=0,\"\",chapterwise!K40)","v":""},{"$f":"IF(chapterwise!L40=0,\"\",chapterwise!L40)","v":""},{"$f":"IF(chapterwise!M40=0,\"\",chapterwise!M40)","v":""},null,"प","कठिन","रस","लउ३","रसकठिनलउ३","लउ३प","13लउ३","लउ३","13रस","13लउ३","13कठिन","13रसलउ३"]
[{"$f":"IF(B43=\"\",\"\",IF(G43=\"c\",\"C\",MAX($A$9:A42)+1))","v":""},null,null,null,null,null,null,null,{"$f":"IF('Entry sheet-1-hin'!A44=\"\",\"\",'Entry sheet-1-hin'!A44)","v":""},null,{"$f":"IF('Entry sheet-1-hin'!B44=\"\",\"\",'Entry sheet-1-hin'!B44)","v":""},null,null,null,null,null,null,null,null,{"$f":"IF('Entry sheet-1-hin'!C44=\"\",\"\",'Entry sheet-1-hin'!C44)","v":""},{"$f":"IF(K43=\"\",\"\",COUNTIF($AJ$9:$AJ$77,\"35बवि\")*1+COUNTIF($AJ$9:$AJ$77,\"35वनि\")*1+COUNTIF($AJ$9:$AJ$77,\"35अलउ\")*1+COUNTIF($AJ$9:$AJ$77,\"35लउ२\")*2+COUNTIF($AJ$9:$AJ$77,\"35लउ३\")*3+COUNTIF($AJ$9:$AJ$77,\"35दीउ४\")*4+COUNTIF($AJ$9:$AJ$77,\"35दीउ५\")*5)","v":""},{"$f":"IF(chapterwise!G41=0,\"\",chapterwise!G41)","v":""},{"$f":"IF(chapterwise!H41=0,\"\",chapterwise!H41)","v":""},{"$f":"IF(chapterwise!I41=0,\"\",chapterwise!I41)","v":""},{"$f":"IF(chapterwise!J41=0,\"\",chapterwise!J41)","v":""},{"$f":"IF(chapterwise!K41=0,\"\",chapterwise!K41)","v":""},{"$f":"IF(chapterwise!L41=0,\"\",chapterwise!L41)","v":""},{"$f":"IF(chapterwise!M41=0,\"\",chapterwise!M41)","v":""},null,"","","","","","","","","","","",""]
[{"$f":"IF(B44=\"\",\"\",IF(G44=\"c\",\"C\",MAX($A$9:A43)+1))","v":""},null,null,null,null,null,null,null,{"$f":"IF('Entry sheet-1-hin'!A45=\"\",\"\",'Entry sheet-1-hin'!A45)","v":""},null,{"$f":"IF('Entry sheet-1-hin'!B45=\"\",\"\",'Entry sheet-1-hin'!B45)","v":""},null,null,null,null,null,null,null,null,{"$f":"IF('Entry sheet-1-hin'!C45=\"\",\"\",'Entry sheet-1-hin'!C45)","v":""},{"$f":"IF(K44=\"\",\"\",COUNTIF($AJ$9:$AJ$77,\"36बवि\")*1+COUNTIF($AJ$9:$AJ$77,\"36वनि\")*1+COUNTIF($AJ$9:$AJ$77,\"36अलउ\")*1+COUNTIF($AJ$9:$AJ$77,\"36लउ२\")*2+COUNTIF($AJ$9:$AJ$77,\"36लउ३\")*3+COUNTIF($AJ$9:$AJ$77,\"36दीउ४\")*4+COUNTIF($AJ$9:$AJ$77,\"36दीउ५\")*5)","v":""},{"$f":"IF(chapterwise!G42=0,\"\",chapterwise!G42)","v":""},{"$f":"IF(chapterwise!H42=0,\"\",chapterwise!H42)","v":""},{"$f":"IF(chapterwise!I42=0,\"\",chapterwise!I42)","v":""},{"$f":"IF(chapterwise!J42=0,\"\",chapterwise!J42)","v":""},{"$f":"IF(chapterwise!K42=0,\"\",chapterwise!K42)","v":""},{"$f":"IF(chapterwise!L42=0,\"\",chapterwise!L42)","v":""},{"$f":"IF(chapterwise!M42=0,\"\",chapterwise!M42)","v":""},null,"","","","","","","","","","","",""]
[{"$f":"IF(B45=\"\",\"\",IF(G45=\"c\",\"C\",MAX($A$9:A44)+1))","v":""},null,null,null,null,null,null,null,{"$f":"IF('Entry sheet-1-hin'!A46=\"\",\"\",'Entry sheet-1-hin'!A46)","v":""},null,{"$f":"IF('Entry sheet-1-hin'!B46=\"\",\"\",'Entry sheet-1-hin'!B46)","v":""},null,null,null,null,null,null,null,null,{"$f":"IF('Entry sheet-1-hin'!C46=\"\",\"\",'Entry sheet-1-hin'!C46)","v":""},{"$f":"IF(K45=\"\",\"\",COUNTIF($AJ$9:$AJ$77,\"37बवि\")*1+COUNTIF($AJ$9:$AJ$77,\"37वनि\")*1+COUNTIF($AJ$9:$AJ$77,\"37अलउ\")*1+COUNTIF($AJ$9:$AJ$77,\"37लउ२\")*2+COUNTIF($AJ$9:$AJ$77,\"37लउ३\")*3+COUNTIF($AJ$9:$AJ$77,\"37दीउ४\")*4+COUNTIF($AJ$9:$AJ$77,\"37दीउ५\")*5)","v":""},{"$f":"IF(chapterwise!G43=0,\"\",chapterwise!G43)","v":""},{"$f":"IF(chapterwise!H43=0,\"\",chapterwise!H43)","v":""},{"$f":"IF(chapterwise!I43=0,\"\",chapterwise!I43)","v":""},{"$f":"IF(chapterwise!J43=0,\"\",chapterwise!J43)","v":""},{"$f":"IF(chapterwise!K43=0,\"\",chapterwise!K43)","v":""},{"$f":"IF(chapterwise!L43=0,\"\",chapterwise!L43)","v":""},{"$f":"IF(chapterwise!M43=0,\"\",chapterwise!M43)","v":""},null,"","","","","","","","","","","",""]
[{"$f":"IF(B46=\"\",\"\",IF(G46=\"c\",\"C\",MAX($A$9:A45)+1))","v":"C"},1,"स्म","सामान्य","दीउ४","प","C","4 अंक",{"$f":"IF('Entry sheet-1-hin'!A47=\"\",\"\",'Entry sheet-1-hin'!A47)","v":""},null,{"$f":"IF('Entry sheet-1-hin'!B47=\"\",\"\",'Entry sheet-1-hin'!B47)","v":""},null,null,null,null,null,null,null,null,{"$f":"IF('Entry sheet-1-hin'!C47=\"\",\"\",'Entry sheet-1-hin'!C47)","v":""},{"$f":"IF(K46=\"\",\"\",COUNTIF($AJ$9:$AJ$77,\"38बवि\")*1+COUNTIF($AJ$9:$AJ$77,\"38वनि\")*1+COUNTIF($AJ$9:$AJ$77,\"38अलउ\")*1+COUNTIF($AJ$9:$AJ$77,\"38लउ२\")*2+COUNTIF($AJ$9:$AJ$77,\"38लउ३\")*3+COUNTIF($AJ$9:$AJ$77,\"38दीउ४\")*4+COUNTIF($AJ$9:$AJ$77,\"38दीउ५\")*5)","v":""},{"$f":"IF(chapterwise!G44=0,\"\",chapterwise!G44)","v":""},{"$f":"IF(chapterwise!H44=0,\"\",chapterwise!H44)","v":""},{"$f":"IF(chapterwise!I44=0,\"\",chapterwise!I44)","v":""},{"$f":"IF(chapterwise!J44=0,\"\",chapterwise!J44)","v":""},{"$f":"IF(chapterwise!K44=0,\"\",chapterwise!K44)","v":""},{"$f":"IF(chapterwise!L44=0,\"\",chapterwise!L44)","v":""},{"$f":"IF(chapterwise!M44=0,\"\",chapterwise!M44)","v":""},null,"पC","सामान्यC","स्मC","दीउ४C","स्मसामान्यदीउ४C","दीउ४पC","1दीउ४C","दीउ४C","1स्मC","1दीउ४C","1सामान्यC","1स्मदीउ४C"]
[{"$f":"IF(B47=\"\",\"\",IF(G47=\"c\",\"C\",MAX($A$9:A46)+1))","v":16},12,"सम","सामान्य","दीउ४","ग",null,"चुननेवाला",{"$f":"IF('Entry sheet-1-hin'!A48=\"\",\"\",'Entry sheet-1-hin'!A48)","v":""},null,{"$f":"IF('Entry sheet-1-hin'!B48=\"\",\"\",'Entry sheet-1-hin'!B48)","v":""},null,null,null,null,null,null,null,null,{"$f":"IF('Entry sheet-1-hin'!C48=\"\",\"\",'Entry sheet-1-hin'!C48)","v":""},{"$f":"IF(K47=\"\",\"\",COUNTIF($AJ$9:$AJ$77,\"39बवि\")*1+COUNTIF($AJ$9:$AJ$77,\"39वनि\")*1+COUNTIF($AJ$9:$AJ$77,\"39अलउ\")*1+COUNTIF($AJ$9:$AJ$77,\"39लउ२\")*2+COUNTIF($AJ$9:$AJ$77,\"39लउ३\")*3+COUNTIF($AJ$9:$AJ$77,\"39दीउ४\")*4+COUNTIF($AJ$9:$AJ$77,\"39दीउ५\")*5)","v":""},{"$f":"IF(chapterwise!G45=0,\"\",chapterwise!G45)","v":""},{"$f":"IF(chapterwise!H45=0,\"\",chapterwise!H45)","v":""},{"$f":"IF(chapterwise!I45=0,\"\",chapterwise!I45)","v":""},{"$f":"IF(chapterwise!J45=0,\"\",chapterwise!J45)","v":""},{"$f":"IF(chapterwise!K45=0,\"\",chapterwise!K45)","v":""},{"$f":"IF(chapterwise!L45=0,\"\",chapterwise!L45)","v":""},{"$f":"IF(chapterwise!M45=0,\"\",chapterwise!M45)","v":""},null,"ग","सामान्य","सम","दीउ४","समसामान्यदीउ४","दीउ४ग","12दीउ४","दीउ४","12सम","12दीउ४","12सामान्य","12समदीउ४"]
[{"$f":"IF(B48=\"\",\"\",IF(G48=\"c\",\"C\",MAX($A$9:A47)+1))","v":""},null,null,null,null,null,null,"4 अंक",{"$f":"IF('Entry sheet-1-hin'!A49=\"\",\"\",'Entry sheet-1-hin'!A49)","v":""},null,{"$f":"IF('Entry sheet-1-hin'!B49=\"\",\"\",'Entry sheet-1-hin'!B49)","v":""},null,null,null,null,null,null,null,null,{"$f":"IF('Entry sheet-1-hin'!C49=\"\",\"\",'Entry sheet-1-hin'!C49)","v":""},{"$f":"IF(K48=\"\",\"\",COUNTIF($AJ$9:$AJ$77,\"40बवि\")*1+COUNTIF($AJ$9:$AJ$77,\"40वनि\")*1+COUNTIF($AJ$9:$AJ$77,\"40अलउ\")*1+COUNTIF($AJ$9:$AJ$77,\"40लउ२\")*2+COUNTIF($AJ$9:$AJ$77,\"40लउ३\")*3+COUNTIF($AJ$9:$AJ$77,\"40दीउ४\")*4+COUNTIF($AJ$9:$AJ$77,\"40दीउ५\")*5)","v":""},{"$f":"IF(chapterwise!G46=0,\"\",chapterwise!G46)","v":""},{"$f":"IF(chapterwise!H46=0,\"\",chapterwise!H46)","v":""},{"$f":"IF(chapterwise!I46=0,\"\",chapterwise!I46)","v":""},{"$f":"IF(chapterwise!J46=0,\"\",chapterwise!J46)","v":""},{"$f":"IF(chapterwise!K46=0,\"\",chapterwise!K46)","v":""},{"$f":"IF(chapterwise!L46=0,\"\",chapterwise!L46)","v":""},{"$f":"IF(chapterwise!M46=0,\"\",chapterwise!M46)","v":""},null,"","","","","","","","","","","",""]
[{"$f":"IF(B49=\"\",\"\",IF(G49=\"c\",\"C\",MAX($A$9:A48)+1))","v":""},null,null,null,null,null,null,"चुननेवाला",{"$f":"IF('Entry sheet-1-hin'!A50=\"\",\"\",'Entry sheet-1-hin'!A50)","v":""},null,{"$f":"IF('Entry sheet-1-hin'!B50=\"\",\"\",'Entry sheet-1-hin'!B50)","v":""},null,null,null,null,null,null,null,null,{"$f":"IF('Entry sheet-1-hin'!C50=\"\",\"\",'Entry sheet-1-hin'!C50)","v":""},{"$f":"IF(K49=\"\",\"\",COUNTIF($AJ$9:$AJ$77,\"41बवि\")*1+COUNTIF($AJ$9:$AJ$77,\"41वनि\")*1+COUNTIF($AJ$9:$AJ$77,\"41अलउ\")*1+COUNTIF($AJ$9:$AJ$77,\"41लउ२\")*2+COUNTIF($AJ$9:$AJ$77,\"41लउ३\")*3+COUNTIF($AJ$9:$AJ$77,\"41दीउ४\")*4+COUNTIF($AJ$9:$AJ$77,\"41दीउ५\")*5)","v":""},{"$f":"IF(chapterwise!G47=0,\"\",chapterwise!G47)","v":""},{"$f":"IF(chapterwise!H47=0,\"\",chapterwise!H47)","v":""},{"$f":"IF(chapterwise!I47=0,\"\",chapterwise!I47)","v":""},{"$f":"IF(chapterwise!J47=0,\"\",chapterwise!J47)","v":""},{"$f":"IF(chapterwise!K47=0,\"\",chapterwise!K47)","v":""},{"$f":"IF(chapterwise!L47=0,\"\",chapterwise!L47)","v":""},{"$f":"IF(chapterwise!M47=0,\"\",chapterwise!M47)","v":""},null,"","","","","","","","","","","",""]
[{"$f":"IF(B50=\"\",\"\",IF(G50=\"c\",\"C\",MAX($A$9:A49)+1))","v":17},24,"सम","सामान्य","बवि","व्या",null,"बहुविकल्पीय ( व्याकरण)",{"$f":"IF('Entry sheet-1-hin'!A51=\"\",\"\",'Entry sheet-1-hin'!A51)","v":""},null,{"$f":"IF('Entry sheet-1-hin'!B51=\"\",\"\",'Entry sheet-1-hin'!B51)","v":""},null,null,null,null,null,null,null,null,{"$f":"IF('Entry sheet-1-hin'!C51=\"\",\"\",'Entry sheet-1-hin'!C51)","v":""},{"$f":"IF(K50=\"\",\"\",COUNTIF($AJ$9:$AJ$77,\"42बवि\")*1+COUNTIF($AJ$9:$AJ$77,\"42वनि\")*1+COUNTIF($AJ$9:$AJ$77,\"42अलउ\")*1+COUNTIF($AJ$9:$AJ$77,\"42लउ२\")*2+COUNTIF($AJ$9:$AJ$77,\"42लउ३\")*3+COUNTIF($AJ$9:$AJ$77,\"42दीउ४\")*4+COUNTIF($AJ$9:$AJ$77,\"42दीउ५\")*5)","v":""},{"$f":"IF(chapterwise!G48=0,\"\",chapterwise!G48)","v":""},{"$f":"IF(chapterwise!H48=0,\"\",chapterwise!H48)","v":""},{"$f":"IF(chapterwise!I48=0,\"\",chapterwise!I48)","v":""},{"$f":"IF(chapterwise!J48=0,\"\",chapterwise!J48)","v":""},{"$f":"IF(chapterwise!K48=0,\"\",chapterwise!K48)","v":""},{"$f":"IF(chapterwise!L48=0,\"\",chapterwise!L48)","v":""},{"$f":"IF(chapterwise!M48=0,\"\",chapterwise!M48)","v":""},null,"व्या","सामान्य","सम","बवि","समसामान्यबवि","बविव्या","24बवि","बवि","24सम","24बवि","24सामान्य","24समबवि"]
[{"$f":"IF(B51=\"\",\"\",IF(G51=\"c\",\"C\",MAX($A$9:A50)+1))","v":18},24,"सम","कठिन","बवि","व्या",null,null,{"$f":"IF('Entry sheet-1-hin'!A52=\"\",\"\",'Entry sheet-1-hin'!A52)","v":""},null,{"$f":"IF('Entry sheet-1-hin'!B52=\"\",\"\",'Entry sheet-1-hin'!B52)","v":""},null,null,null,null,null,null,null,null,{"$f":"IF('Entry sheet-1-hin'!C52=\"\",\"\",'Entry sheet-1-hin'!C52)","v":""},{"$f":"IF(K51=\"\",\"\",COUNTIF($AJ$9:$AJ$77,\"43बवि\")*1+COUNTIF($AJ$9:$AJ$77,\"43वनि\")*1+COUNTIF($AJ$9:$AJ$77,\"43अलउ\")*1+COUNTIF($AJ$9:$AJ$77,\"43लउ२\")*2+COUNTIF($AJ$9:$AJ$77,\"43लउ३\")*3+COUNTIF($AJ$9:$AJ$77,\"43दीउ४\")*4+COUNTIF($AJ$9:$AJ$77,\"43दीउ५\")*5)","v":""},{"$f":"IF(chapterwise!G49=0,\"\",chapterwise!G49)","v":""},{"$f":"IF(chapterwise!H49=0,\"\",chapterwise!H49)","v":""},{"$f":"IF(chapterwise!I49=0,\"\",chapterwise!I49)","v":""},{"$f":"IF(chapterwise!J49=0,\"\",chapterwise!J49)","v":""},{"$f":"IF(chapterwise!K49=0,\"\",chapterwise!K49)","v":""},{"$f":"IF(chapterwise!L49=0,\"\",chapterwise!L49)","v":""},{"$f":"IF(chapterwise!M49=0,\"\",chapterwise!M49)","v":""},null,"व्या","कठिन","सम","बवि","समकठिनबवि","बविव्या","24बवि","बवि","24सम","24बवि","24कठिन","24समबवि"]
[{"$f":"IF(B52=\"\",\"\",IF(G52=\"c\",\"C\",MAX($A$9:A51)+1))","v":19},24,"सम","सामान्य","बवि","व्या",null,null,{"$f":"IF('Entry sheet-1-hin'!A53=\"\",\"\",'Entry sheet-1-hin'!A53)","v":""},null,{"$f":"IF('Entry sheet-1-hin'!B53=\"\",\"\",'Entry sheet-1-hin'!B53)","v":""},null,null,null,null,null,null,null,null,{"$f":"IF('Entry sheet-1-hin'!C53=\"\",\"\",'Entry sheet-1-hin'!C53)","v":""},{"$f":"IF(K52=\"\",\"\",COUNTIF($AJ$9:$AJ$77,\"44बवि\")*1+COUNTIF($AJ$9:$AJ$77,\"44वनि\")*1+COUNTIF($AJ$9:$AJ$77,\"44अलउ\")*1+COUNTIF($AJ$9:$AJ$77,\"44लउ२\")*2+COUNTIF($AJ$9:$AJ$77,\"44लउ३\")*3+COUNTIF($AJ$9:$AJ$77,\"44दीउ४\")*4+COUNTIF($AJ$9:$AJ$77,\"44दीउ५\")*5)","v":""},{"$f":"IF(chapterwise!G50=0,\"\",chapterwise!G50)","v":""},{"$f":"IF(chapterwise!H50=0,\"\",chapterwise!H50)","v":""},{"$f":"IF(chapterwise!I50=0,\"\",chapterwise!I50)","v":""},{"$f":"IF(chapterwise!J50=0,\"\",chapterwise!J50)","v":""},{"$f":"IF(chapterwise!K50=0,\"\",chapterwise!K50)","v":""},{"$f":"IF(chapterwise!L50=0,\"\",chapterwise!L50)","v":""},{"$f":"IF(chapterwise!M50=0,\"\",chapterwise!M50)","v":""},null,"व्या","सामान्य","सम","बवि","समसामान्यबवि","बविव्या","24बवि","बवि","24सम","24बवि","24सामान्य","24समबवि"]
[{"$f":"IF(B53=\"\",\"\",IF(G53=\"c\",\"C\",MAX($A$9:A52)+1))","v":20},24,"सम","सरल","बवि","व्या",null,null,{"$f":"IF('Entry sheet-1-hin'!A54=\"\",\"\",'Entry sheet-1-hin'!A54)","v":""},null,{"$f":"IF('Entry sheet-1-hin'!B54=\"\",\"\",'Entry sheet-1-hin'!B54)","v":""},null,null,null,null,null,null,null,null,{"$f":"IF('Entry sheet-1-hin'!C54=\"\",\"\",'Entry sheet-1-hin'!C54)","v":""},{"$f":"IF(K53=\"\",\"\",COUNTIF($AJ$9:$AJ$77,\"45बवि\")*1+COUNTIF($AJ$9:$AJ$77,\"45वनि\")*1+COUNTIF($AJ$9:$AJ$77,\"45अलउ\")*1+COUNTIF($AJ$9:$AJ$77,\"45लउ२\")*2+COUNTIF($AJ$9:$AJ$77,\"45लउ३\")*3+COUNTIF($AJ$9:$AJ$77,\"45दीउ४\")*4+COUNTIF($AJ$9:$AJ$77,\"45दीउ५\")*5)","v":""},{"$f":"IF(chapterwise!G51=0,\"\",chapterwise!G51)","v":""},{"$f":"IF(chapterwise!H51=0,\"\",chapterwise!H51)","v":""},{"$f":"IF(chapterwise!I51=0,\"\",chapterwise!I51)","v":""},{"$f":"IF(chapterwise!J51=0,\"\",chapterwise!J51)","v":""},{"$f":"IF(chapterwise!K51=0,\"\",chapterwise!K51)","v":""},{"$f":"IF(chapterwise!L51=0,\"\",chapterwise!L51)","v":""},{"$f":"IF(chapterwise!M51=0,\"\",chapterwise!M51)","v":""},null,"व्या","सरल","सम","बवि","समसरलबवि","बविव्या","24बवि","बवि","24सम","24बवि","24सरल","24समबवि"]
[{"$f":"IF(B54=\"\",\"\",IF(G54=\"c\",\"C\",MAX($A$9:A53)+1))","v":""},null,null,null,null,null,null,null,{"$f":"IF('Entry sheet-1-hin'!A55=\"\",\"\",'Entry sheet-1-hin'!A55)","v":""},null,{"$f":"IF('Entry sheet-1-hin'!B55=\"\",\"\",'Entry sheet-1-hin'!B55)","v":""},null,null,null,null,null,null,null,null,{"$f":"IF('Entry sheet-1-hin'!C55=\"\",\"\",'Entry sheet-1-hin'!C55)","v":""},{"$f":"IF(K54=\"\",\"\",COUNTIF($AJ$9:$AJ$77,\"46बवि\")*1+COUNTIF($AJ$9:$AJ$77,\"46वनि\")*1+COUNTIF($AJ$9:$AJ$77,\"46अलउ\")*1+COUNTIF($AJ$9:$AJ$77,\"46लउ२\")*2+COUNTIF($AJ$9:$AJ$77,\"46लउ३\")*3+COUNTIF($AJ$9:$AJ$77,\"46दीउ४\")*4+COUNTIF($AJ$9:$AJ$77,\"46दीउ५\")*5)","v":""},{"$f":"IF(chapterwise!G52=0,\"\",chapterwise!G52)","v":""},{"$f":"IF(chapterwise!H52=0,\"\",chapterwise!H52)","v":""},{"$f":"IF(chapterwise!I52=0,\"\",chapterwise!I52)","v":""},{"$f":"IF(chapterwise!J52=0,\"\",chapterwise!J52)","v":""},{"$f":"IF(chapterwise!K52=0,\"\",chapterwise!K52)","v":""},{"$f":"IF(chapterwise!L52=0,\"\",chapterwise!L52)","v":""},{"$f":"IF(chapterwise!M52=0,\"\",chapterwise!M52)","v":""},null,"","","","","","","","","","","",""]
[{"$f":"IF(B55=\"\",\"\",IF(G55=\"c\",\"C\",MAX($A$9:A54)+1))","v":""},null,null,null,null,null,null,null,{"$f":"IF('Entry sheet-1-hin'!A56=\"\",\"\",'Entry sheet-1-hin'!A56)","v":""},null,{"$f":"IF('Entry sheet-1-hin'!B56=\"\",\"\",'Entry sheet-1-hin'!B56)","v":""},null,null,null,null,null,null,null,null,{"$f":"IF('Entry sheet-1-hin'!C56=\"\",\"\",'Entry sheet-1-hin'!C56)","v":""},{"$f":"IF(K55=\"\",\"\",COUNTIF($AJ$9:$AJ$77,\"47बवि\")*1+COUNTIF($AJ$9:$AJ$77,\"47वनि\")*1+COUNTIF($AJ$9:$AJ$77,\"47अलउ\")*1+COUNTIF($AJ$9:$AJ$77,\"47लउ२\")*2+COUNTIF($AJ$9:$AJ$77,\"47लउ३\")*3+COUNTIF($AJ$9:$AJ$77,\"47दीउ४\")*4+COUNTIF($AJ$9:$AJ$77,\"47दीउ५\")*5)","v":""},{"$f":"IF(chapterwise!G53=0,\"\",chapterwise!G53)","v":""},{"$f":"IF(chapterwise!H53=0,\"\",chapterwise!H53)","v":""},{"$f":"IF(chapterwise!I53=0,\"\",chapterwise!I53)","v":""},{"$f":"IF(chapterwise!J53=0,\"\",chapterwise!J53)","v":""},{"$f":"IF(chapterwise!K53=0,\"\",chapterwise!K53)","v":""},{"$f":"IF(chapterwise!L53=0,\"\",chapterwise!L53)","v":""},{"$f":"IF(chapterwise!M53=0,\"\",chapterwise!M53)","v":""},null,"","","","","","","","","","","",""]
[{"$f":"IF(B56=\"\",\"\",IF(G56=\"c\",\"C\",MAX($A$9:A55)+1))","v":""},null,null,null,null,null,null,null,{"$f":"IF('Entry sheet-1-hin'!A57=\"\",\"\",'Entry sheet-1-hin'!A57)","v":""},null,{"$f":"IF('Entry sheet-1-hin'!B57=\"\",\"\",'Entry sheet-1-hin'!B57)","v":""},null,null,null,null,null,null,null,null,{"$f":"IF('Entry sheet-1-hin'!C57=\"\",\"\",'Entry sheet-1-hin'!C57)","v":""},{"$f":"IF(K56=\"\",\"\",COUNTIF($AJ$9:$AJ$77,\"48बवि\")*1+COUNTIF($AJ$9:$AJ$77,\"48वनि\")*1+COUNTIF($AJ$9:$AJ$77,\"48अलउ\")*1+COUNTIF($AJ$9:$AJ$77,\"48लउ२\")*2+COUNTIF($AJ$9:$AJ$77,\"48लउ३\")*3+COUNTIF($AJ$9:$AJ$77,\"48दीउ४\")*4+COUNTIF($AJ$9:$AJ$77,\"48दीउ५\")*5)","v":""},{"$f":"IF(chapterwise!G54=0,\"\",chapterwise!G54)","v":""},{"$f":"IF(chapterwise!H54=0,\"\",chapterwise!H54)","v":""},{"$f":"IF(chapterwise!I54=0,\"\",chapterwise!I54)","v":""},{"$f":"IF(chapterwise!J54=0,\"\",chapterwise!J54)","v":""},{"$f":"IF(chapterwise!K54=0,\"\",chapterwise!K54)","v":""},{"$f":"IF(chapterwise!L54=0,\"\",chapterwise!L54)","v":""},{"$f":"IF(chapterwise!M54=0,\"\",chapterwise!M54)","v":""},null,"","","","","","","","","","","",""]
[{"$f":"IF(B57=\"\",\"\",IF(G57=\"c\",\"C\",MAX($A$9:A56)+1))","v":""},null,null,null,null,null,null,null,{"$f":"IF('Entry sheet-1-hin'!A58=\"\",\"\",'Entry sheet-1-hin'!A58)","v":""},null,{"$f":"IF('Entry sheet-1-hin'!B58=\"\",\"\",'Entry sheet-1-hin'!B58)","v":""},null,null,null,null,null,null,null,null,{"$f":"IF('Entry sheet-1-hin'!C58=\"\",\"\",'Entry sheet-1-hin'!C58)","v":""},{"$f":"IF(K57=\"\",\"\",COUNTIF($AJ$9:$AJ$77,\"49बवि\")*1+COUNTIF($AJ$9:$AJ$77,\"49वनि\")*1+COUNTIF($AJ$9:$AJ$77,\"49अलउ\")*1+COUNTIF($AJ$9:$AJ$77,\"49लउ२\")*2+COUNTIF($AJ$9:$AJ$77,\"49लउ३\")*3+COUNTIF($AJ$9:$AJ$77,\"49दीउ४\")*4+COUNTIF($AJ$9:$AJ$77,\"49दीउ५\")*5)","v":""},{"$f":"IF(chapterwise!G55=0,\"\",chapterwise!G55)","v":""},{"$f":"IF(chapterwise!H55=0,\"\",chapterwise!H55)","v":""},{"$f":"IF(chapterwise!I55=0,\"\",chapterwise!I55)","v":""},{"$f":"IF(chapterwise!J55=0,\"\",chapterwise!J55)","v":""},{"$f":"IF(chapterwise!K55=0,\"\",chapterwise!K55)","v":""},{"$f":"IF(chapterwise!L55=0,\"\",chapterwise!L55)","v":""},{"$f":"IF(chapterwise!M55=0,\"\",chapterwise!M55)","v":""},null,"","","","","","","","","","","",""]
[{"$f":"IF(B58=\"\",\"\",IF(G58=\"c\",\"C\",MAX($A$9:A57)+1))","v":""},null,null,null,null,null,null,null,{"$f":"IF('Entry sheet-1-hin'!A59=\"\",\"\",'Entry sheet-1-hin'!A59)","v":""},null,{"$f":"IF('Entry sheet-1-hin'!B59=\"\",\"\",'Entry sheet-1-hin'!B59)","v":""},null,null,null,null,null,null,null,null,{"$f":"IF('Entry sheet-1-hin'!C59=\"\",\"\",'Entry sheet-1-hin'!C59)","v":""},{"$f":"IF(K58=\"\",\"\",COUNTIF($AJ$9:$AJ$77,\"50बवि\")*1+COUNTIF($AJ$9:$AJ$77,\"50वनि\")*1+COUNTIF($AJ$9:$AJ$77,\"50अलउ\")*1+COUNTIF($AJ$9:$AJ$77,\"50लउ२\")*2+COUNTIF($AJ$9:$AJ$77,\"50लउ३\")*3+COUNTIF($AJ$9:$AJ$77,\"50दीउ४\")*4+COUNTIF($AJ$9:$AJ$77,\"50दीउ५\")*5)","v":""},{"$f":"IF(chapterwise!G56=0,\"\",chapterwise!G56)","v":""},{"$f":"IF(chapterwise!H56=0,\"\",chapterwise!H56)","v":""},{"$f":"IF(chapterwise!I56=0,\"\",chapterwise!I56)","v":""},{"$f":"IF(chapterwise!J56=0,\"\",chapterwise!J56)","v":""},{"$f":"IF(chapterwise!K56=0,\"\",chapterwise!K56)","v":""},{"$f":"IF(chapterwise!L56=0,\"\",chapterwise!L56)","v":""},{"$f":"IF(chapterwise!M56=0,\"\",chapterwise!M56)","v":""},null,"","","","","","","","","","","",""]
[{"$f":"IF(B59=\"\",\"\",IF(G59=\"c\",\"C\",MAX($A$9:A58)+1))","v":"C"},20,"सम","सरल","अलउ","र","C","अपठित",{"$f":"IF('Entry sheet-1-hin'!A60=\"\",\"\",'Entry sheet-1-hin'!A60)","v":""},null,{"$f":"IF('Entry sheet-1-hin'!B60=\"\",\"\",'Entry sheet-1-hin'!B60)","v":""},null,null,null,null,null,null,null,null,{"$f":"IF('Entry sheet-1-hin'!C60=\"\",\"\",'Entry sheet-1-hin'!C60)","v":""},{"$f":"IF(K69=\"\",\"\",COUNTIF($AJ$9:$AJ$77,\"51बवि\")*1+COUNTIF($AJ$9:$AJ$77,\"51वनि\")*1+COUNTIF($AJ$9:$AJ$77,\"51अलउ\")*1+COUNTIF($AJ$9:$AJ$77,\"51लउ२\")*2+COUNTIF($AJ$9:$AJ$77,\"51लउ३\")*3+COUNTIF($AJ$9:$AJ$77,\"51दीउ४\")*4+COUNTIF($AJ$9:$AJ$77,\"51दीउ५\")*5)","v":""},null,null,null,null,null,null,null,null,"रC","सरलC","समC","अलउC","समसरलअलउC","अलउरC","20अलउC","अलउC","20समC","20अलउC","20सरलC","20समअलउC"]
[{"$f":"IF(B60=\"\",\"\",IF(G60=\"c\",\"C\",MAX($A$9:A59)+1))","v":21},20,"सम","सरल","अलउ","र",null,null,{"$f":"IF('Entry sheet-1-hin'!A61=\"\",\"\",'Entry sheet-1-hin'!A61)","v":""},null,{"$f":"IF('Entry sheet-1-hin'!B61=\"\",\"\",'Entry sheet-1-hin'!B61)","v":""},null,null,null,null,null,null,null,null,{"$f":"IF('Entry sheet-1-hin'!C61=\"\",\"\",'Entry sheet-1-hin'!C61)","v":""},{"$f":"IF(K60=\"\",\"\",COUNTIF($AJ$9:$AJ$77,\"52बवि\")*1+COUNTIF($AJ$9:$AJ$77,\"52वनि\")*1+COUNTIF($AJ$9:$AJ$77,\"52अलउ\")*1+COUNTIF($AJ$9:$AJ$77,\"52लउ२\")*2+COUNTIF($AJ$9:$AJ$77,\"52लउ३\")*3+COUNTIF($AJ$9:$AJ$77,\"52दीउ४\")*4+COUNTIF($AJ$9:$AJ$77,\"52दीउ५\")*5)","v":""},null,null,null,null,null,null,null,null,"र","सरल","सम","अलउ","समसरलअलउ","अलउर","20अलउ","अलउ","20सम","20अलउ","20सरल","20समअलउ"]
[{"$f":"IF(B61=\"\",\"\",IF(G61=\"c\",\"C\",MAX($A$9:A60)+1))","v":22},20,"सम","सरल","अलउ","र",null,null,{"$f":"IF('Entry sheet-1-hin'!A62=\"\",\"\",'Entry sheet-1-hin'!A62)","v":""},null,{"$f":"IF('Entry sheet-1-hin'!B62=\"\",\"\",'Entry sheet-1-hin'!B62)","v":""},null,null,null,null,null,null,null,null,{"$f":"IF('Entry sheet-1-hin'!C62=\"\",\"\",'Entry sheet-1-hin'!C62)","v":""},{"$f":"IF(K61=\"\",\"\",COUNTIF($AJ$9:$AJ$77,\"53बवि\")*1+COUNTIF($AJ$9:$AJ$77,\"53वनि\")*1+COUNTIF($AJ$9:$AJ$77,\"53अलउ\")*1+COUNTIF($AJ$9:$AJ$77,\"53लउ२\")*2+COUNTIF($AJ$9:$AJ$77,\"53लउ३\")*3+COUNTIF($AJ$9:$AJ$77,\"53दीउ४\")*4+COUNTIF($AJ$9:$AJ$77,\"53दीउ५\")*5)","v":""},null,null,null,null,null,null,null,null,"र","सरल","सम","अलउ","समसरलअलउ","अलउर","20अलउ","अलउ","20सम","20अलउ","20सरल","20समअलउ"]
[{"$f":"IF(B62=\"\",\"\",IF(G62=\"c\",\"C\",MAX($A$9:A61)+1))","v":""},null,null,null,null,null,null,null,{"$f":"IF('Entry sheet-1-hin'!A63=\"\",\"\",'Entry sheet-1-hin'!A63)","v":""},null,{"$f":"IF('Entry sheet-1-hin'!B63=\"\",\"\",'Entry sheet-1-hin'!B63)","v":""},null,null,null,null,null,null,null,null,{"$f":"IF('Entry sheet-1-hin'!C63=\"\",\"\",'Entry sheet-1-hin'!C63)","v":""},{"$f":"IF(K62=\"\",\"\",COUNTIF($AJ$9:$AJ$77,\"54बवि\")*1+COUNTIF($AJ$9:$AJ$77,\"54वनि\")*1+COUNTIF($AJ$9:$AJ$77,\"54अलउ\")*1+COUNTIF($AJ$9:$AJ$77,\"54लउ२\")*2+COUNTIF($AJ$9:$AJ$77,\"54लउ३\")*3+COUNTIF($AJ$9:$AJ$77,\"54दीउ४\")*4+COUNTIF($AJ$9:$AJ$77,\"54दीउ५\")*5)","v":""},null,null,null,null,null,null,null,null,"","","","","","","","","","","",""]
[{"$f":"IF(B63=\"\",\"\",IF(G63=\"c\",\"C\",MAX($A$9:A62)+1))","v":""},null,null,null,null,null,null,null,{"$f":"IF('Entry sheet-1-hin'!A64=\"\",\"\",'Entry sheet-1-hin'!A64)","v":""},null,{"$f":"IF('Entry sheet-1-hin'!B64=\"\",\"\",'Entry sheet-1-hin'!B64)","v":""},null,null,null,null,null,null,null,null,{"$f":"IF('Entry sheet-1-hin'!C64=\"\",\"\",'Entry sheet-1-hin'!C64)","v":""},{"$f":"IF(K63=\"\",\"\",COUNTIF($AJ$9:$AJ$77,\"55बवि\")*1+COUNTIF($AJ$9:$AJ$77,\"55वनि\")*1+COUNTIF($AJ$9:$AJ$77,\"55अलउ\")*1+COUNTIF($AJ$9:$AJ$77,\"55लउ२\")*2+COUNTIF($AJ$9:$AJ$77,\"55लउ३\")*3+COUNTIF($AJ$9:$AJ$77,\"55दीउ४\")*4+COUNTIF($AJ$9:$AJ$77,\"55दीउ५\")*5)","v":""},null,null,null,null,null,null,null,null,"","","","","","","","","","","",""]
[{"$f":"IF(B64=\"\",\"\",IF(G64=\"c\",\"C\",MAX($A$9:A63)+1))","v":23},21,"अ","सरल","अलउ","र",null,"अनुवाद",{"$f":"IF('Entry sheet-1-hin'!A65=\"\",\"\",'Entry sheet-1-hin'!A65)","v":""},null,{"$f":"IF('Entry sheet-1-hin'!B65=\"\",\"\",'Entry sheet-1-hin'!B65)","v":""},null,null,null,null,null,null,null,null,{"$f":"IF('Entry sheet-1-hin'!C65=\"\",\"\",'Entry sheet-1-hin'!C65)","v":""},{"$f":"IF(K64=\"\",\"\",COUNTIF($AJ$9:$AJ$77,\"56बवि\")*1+COUNTIF($AJ$9:$AJ$77,\"56वनि\")*1+COUNTIF($AJ$9:$AJ$77,\"56अलउ\")*1+COUNTIF($AJ$9:$AJ$77,\"56लउ२\")*2+COUNTIF($AJ$9:$AJ$77,\"56लउ३\")*3+COUNTIF($AJ$9:$AJ$77,\"56दीउ४\")*4+COUNTIF($AJ$9:$AJ$77,\"56दीउ५\")*5)","v":""},null,null,null,null,null,null,null,null,"र","सरल","अ","अलउ","असरलअलउ","अलउर","21अलउ","अलउ","21अ","21अलउ","21सरल","21अअलउ"]
[{"$f":"IF(B65=\"\",\"\",IF(G65=\"c\",\"C\",MAX($A$9:A64)+1))","v":24},21,"अ","सरल","अलउ","र",null,null,{"$f":"IF('Entry sheet-1-hin'!A66=\"\",\"\",'Entry sheet-1-hin'!A66)","v":""},null,{"$f":"IF('Entry sheet-1-hin'!B66=\"\",\"\",'Entry sheet-1-hin'!B66)","v":""},null,null,null,null,null,null,null,null,{"$f":"IF('Entry sheet-1-hin'!C66=\"\",\"\",'Entry sheet-1-hin'!C66)","v":""},{"$f":"IF(K65=\"\",\"\",COUNTIF($AJ$9:$AJ$77,\"57बवि\")*1+COUNTIF($AJ$9:$AJ$77,\"57वनि\")*1+COUNTIF($AJ$9:$AJ$77,\"57अलउ\")*1+COUNTIF($AJ$9:$AJ$77,\"57लउ२\")*2+COUNTIF($AJ$9:$AJ$77,\"57लउ३\")*3+COUNTIF($AJ$9:$AJ$77,\"57दीउ४\")*4+COUNTIF($AJ$9:$AJ$77,\"57दीउ५\")*5)","v":""},null,null,null,null,null,null,null,null,"र","सरल","अ","अलउ","असरलअलउ","अलउर","21अलउ","अलउ","21अ","21अलउ","21सरल","21अअलउ"]
[{"$f":"IF(B66=\"\",\"\",IF(G66=\"c\",\"C\",MAX($A$9:A65)+1))","v":""},null,null,null,null,null,null,null,{"$f":"IF('Entry sheet-1-hin'!A67=\"\",\"\",'Entry sheet-1-hin'!A67)","v":""},null,{"$f":"IF('Entry sheet-1-hin'!B67=\"\",\"\",'Entry sheet-1-hin'!B67)","v":""},null,null,null,null,null,null,null,null,{"$f":"IF('Entry sheet-1-hin'!C67=\"\",\"\",'Entry sheet-1-hin'!C67)","v":""},{"$f":"IF(K66=\"\",\"\",COUNTIF($AJ$9:$AJ$77,\"58बवि\")*1+COUNTIF($AJ$9:$AJ$77,\"58वनि\")*1+COUNTIF($AJ$9:$AJ$77,\"58अलउ\")*1+COUNTIF($AJ$9:$AJ$77,\"58लउ२\")*2+COUNTIF($AJ$9:$AJ$77,\"58लउ३\")*3+COUNTIF($AJ$9:$AJ$77,\"58दीउ४\")*4+COUNTIF($AJ$9:$AJ$77,\"58दीउ५\")*5)","v":""},null,null,null,null,null,null,null,null,"","","","","","","","","","","",""]
[{"$f":"IF(B67=\"\",\"\",IF(G67=\"c\",\"C\",MAX($A$9:A66)+1))","v":""},null,null,null,null,null,null,null,{"$f":"IF('Entry sheet-1-hin'!A77=\"\",\"\",'Entry sheet-1-hin'!A77)","v":""},null,{"$f":"IF('Entry sheet-1-hin'!B77=\"\",\"\",'Entry sheet-1-hin'!B77)","v":""},null,null,null,null,null,null,null,null,{"$f":"IF('Entry sheet-1-hin'!C77=\"\",\"\",'Entry sheet-1-hin'!C77)","v":""},{"$f":"IF(K67=\"\",\"\",COUNTIF($AJ$9:$AJ$77,\"58बवि\")*1+COUNTIF($AJ$9:$AJ$77,\"58वनि\")*1+COUNTIF($AJ$9:$AJ$77,\"58अलउ\")*1+COUNTIF($AJ$9:$AJ$77,\"58लउ२\")*2+COUNTIF($AJ$9:$AJ$77,\"58लउ३\")*3+COUNTIF($AJ$9:$AJ$77,\"58दीउ४\")*4+COUNTIF($AJ$9:$AJ$77,\"58दीउ५\")*5)","v":""},null,null,null,null,null,null,null,null,"","","","","","","","","","","",""]
[{"$f":"IF(B68=\"\",\"\",IF(G68=\"c\",\"C\",MAX($A$9:A67)+1))","v":25},22,"अ","कठिन","दीउ४","र",null,"पत्र",{"$f":"IF('Entry sheet-1-hin'!A69=\"\",\"\",'Entry sheet-1-hin'!A69)","v":""},null,{"$f":"IF('Entry sheet-1-hin'!B69=\"\",\"\",'Entry sheet-1-hin'!B69)","v":""},null,null,null,null,null,null,null,null,{"$f":"IF('Entry sheet-1-hin'!C69=\"\",\"\",'Entry sheet-1-hin'!C69)","v":""},{"$f":"IF(K77=\"\",\"\",COUNTIF($AJ$9:$AJ$77,\"58बवि\")*1+COUNTIF($AJ$9:$AJ$77,\"58वनि\")*1+COUNTIF($AJ$9:$AJ$77,\"58अलउ\")*1+COUNTIF($AJ$9:$AJ$77,\"58लउ२\")*2+COUNTIF($AJ$9:$AJ$77,\"58लउ३\")*3+COUNTIF($AJ$9:$AJ$77,\"58दीउ४\")*4+COUNTIF($AJ$9:$AJ$77,\"58दीउ५\")*5)","v":""},null,null,null,null,null,null,null,null,{"$f":"CONCATENATE(F68,G68)","v":"र"},{"$f":"CONCATENATE(D68,G68)","v":"कठिन"},{"$f":"CONCATENATE(C68,G68)","v":"अ"},{"$f":"CONCATENATE(E68,G68)","v":"दीउ४"},{"$f":"CONCATENATE(C68,D68,E68,G68)","v":"अकठिनदीउ४"},{"$f":"CONCATENATE(E68,F68,G68)","v":"दीउ४र"},{"$f":"CONCATENATE(B68,E68,G68)","v":"22दीउ४"},{"$f":"CONCATENATE(E68,G68)","v":"दीउ४"},{"$f":"CONCATENATE(B68,C68,G68)","v":"22अ"},{"$f":"CONCATENATE(B68,E68,G68)","v":"22दीउ४"},{"$f":"CONCATENATE(B68,D68,G68)","v":"22कठिन"},{"$f":"CONCATENATE(B68,C68,E68,G68)","v":"22अदीउ४"}]
[{"$f":"IF(B69=\"\",\"\",IF(G69=\"c\",\"C\",MAX($A$9:A68)+1))","v":""},null,null,null,null,null,null,"चुननेवाला",{"$f":"IF('Entry sheet-1-hin'!A70=\"\",\"\",'Entry sheet-1-hin'!A70)","v":""},null,{"$f":"IF('Entry sheet-1-hin'!B79=\"\",\"\",'Entry sheet-1-hin'!B79)","v":""},null,null,null,null,null,null,null,null,{"$f":"IF('Entry sheet-1-hin'!C70=\"\",\"\",'Entry sheet-1-hin'!C70)","v":""},{"$f":"IF(K69=\"\",\"\",COUNTIF($AJ$9:$AJ$77,\"58बवि\")*1+COUNTIF($AJ$9:$AJ$77,\"58वनि\")*1+COUNTIF($AJ$9:$AJ$77,\"58अलउ\")*1+COUNTIF($AJ$9:$AJ$77,\"58लउ२\")*2+COUNTIF($AJ$9:$AJ$77,\"58लउ३\")*3+COUNTIF($AJ$9:$AJ$77,\"58दीउ४\")*4+COUNTIF($AJ$9:$AJ$77,\"58दीउ५\")*5)","v":""},null,null,null,null,null,null,null,null,{"$f":"CONCATENATE(F69,G69)","v":""},{"$f":"CONCATENATE(D69,G69)","v":""},{"$f":"CONCATENATE(C69,G69)","v":""},{"$f":"CONCATENATE(E69,G69)","v":""},{"$f":"CONCATENATE(C69,D69,E69,G69)","v":""},{"$f":"CONCATENATE(E69,F69,G69)","v":""},{"$f":"CONCATENATE(B69,E69,G69)","v":""},{"$f":"CONCATENATE(E69,G69)","v":""},{"$f":"CONCATENATE(B69,C69,G69)","v":""},{"$f":"CONCATENATE(B69,E69,G69)","v":""},{"$f":"CONCATENATE(B69,D69,G69)","v":""},{"$f":"CONCATENATE(B69,C69,E69,G69)","v":""}]
[{"$f":"IF(B70=\"\",\"\",IF(G70=\"c\",\"C\",MAX($A$9:A69)+1))","v":"C"},23,"अ","कठिन","दीउ४","र","C","निबंध",{"$f":"IF('Entry sheet-1-hin'!A71=\"\",\"\",'Entry sheet-1-hin'!A71)","v":""},null,{"$f":"IF('Entry sheet-1-hin'!B71=\"\",\"\",'Entry sheet-1-hin'!B71)","v":""},null,null,null,null,null,null,null,null,{"$f":"IF('Entry sheet-1-hin'!C71=\"\",\"\",'Entry sheet-1-hin'!C71)","v":""},"",null,null,null,null,null,null,null,null,"रC","कठिनC","अC","दीउ४C","अकठिनदीउ४C","दीउ४रC","23दीउ४C","दीउ४C","23अC","23दीउ४C","23कठिनC","23अदीउ४C"]
[{"$f":"IF(B71=\"\",\"\",IF(G71=\"c\",\"C\",MAX($A$9:A70)+1))","v":"C"},23,"अ","कठिन","दीउ४","र","C","चुननेवाला",{"$f":"IF('Entry sheet-1-hin'!A72=\"\",\"\",'Entry sheet-1-hin'!A72)","v":""},null,{"$f":"IF('Entry sheet-1-hin'!B72=\"\",\"\",'Entry sheet-1-hin'!B72)","v":""},null,null,null,null,null,null,null,null,{"$f":"IF('Entry sheet-1-hin'!C72=\"\",\"\",'Entry sheet-1-hin'!C72)","v":""},"",null,null,null,null,null,null,null,null,"रC","कठिनC","अC","दीउ४C","अकठिनदीउ४C","दीउ४रC","23दीउ४C","दीउ४C","23अC","23दीउ४C","23कठिनC","23अदीउ४C"]
[{"$f":"IF(B72=\"\",\"\",IF(G72=\"c\",\"C\",MAX($A$9:A71)+1))","v":""},null,null,null,null,null,null,null,{"$f":"IF('Entry sheet-1-hin'!A73=\"\",\"\",'Entry sheet-1-hin'!A73)","v":""},null,{"$f":"IF('Entry sheet-1-hin'!B73=\"\",\"\",'Entry sheet-1-hin'!B73)","v":""},null,null,null,null,null,null,null,null,{"$f":"IF('Entry sheet-1-hin'!C73=\"\",\"\",'Entry sheet-1-hin'!C73)","v":""},"",null,null,null,null,null,null,null,null,"","","","","","","","","","","",""]
[{"$f":"IF(B73=\"\",\"\",IF(G73=\"c\",\"C\",MAX($A$9:A72)+1))","v":""},null,null,null,null,null,null,null,{"$f":"IF('Entry sheet-1-hin'!A74=\"\",\"\",'Entry sheet-1-hin'!A74)","v":""},null,{"$f":"IF('Entry sheet-1-hin'!B74=\"\",\"\",'Entry sheet-1-hin'!B74)","v":""},null,null,null,null,null,null,null,null,{"$f":"IF('Entry sheet-1-hin'!C74=\"\",\"\",'Entry sheet-1-hin'!C74)","v":""},"",null,null,null,null,null,null,null,null,"","","","","","","","","","","",""]
[{"$f":"IF(B74=\"\",\"\",IF(G74=\"c\",\"C\",MAX($A$9:A73)+1))","v":""},null,null,null,null,null,null,null,{"$f":"IF('Entry sheet-1-hin'!A75=\"\",\"\",'Entry sheet-1-hin'!A75)","v":""},null,{"$f":"IF('Entry sheet-1-hin'!B75=\"\",\"\",'Entry sheet-1-hin'!B75)","v":""},null,null,null,null,null,null,null,null,{"$f":"IF('Entry sheet-1-hin'!C75=\"\",\"\",'Entry sheet-1-hin'!C75)","v":""},"",null,null,null,null,null,null,null,null,"","","","","","","","","","","",""]
[{"$f":"IF(B75=\"\",\"\",IF(G75=\"c\",\"C\",MAX($A$9:A74)+1))","v":""},null,null,null,null,null,null,null,{"$f":"IF('Entry sheet-1-hin'!A76=\"\",\"\",'Entry sheet-1-hin'!A76)","v":""},null,{"$f":"IF('Entry sheet-1-hin'!B76=\"\",\"\",'Entry sheet-1-hin'!B76)","v":""},null,null,null,null,null,null,null,null,{"$f":"IF('Entry sheet-1-hin'!C76=\"\",\"\",'Entry sheet-1-hin'!C76)","v":""},"",null,null,null,null,null,null,null,null,"","","","","","","","","","","",""]
[{"$f":"IF(B76=\"\",\"\",IF(G76=\"c\",\"C\",MAX($A$9:A75)+1))","v":""},null,null,null,null,null,null,null,{"$f":"IF('Entry sheet-1-hin'!A77=\"\",\"\",'Entry sheet-1-hin'!A77)","v":""},null,{"$f":"IF('Entry sheet-1-hin'!B77=\"\",\"\",'Entry sheet-1-hin'!B77)","v":""},null,null,null,null,null,null,null,null,{"$f":"IF('Entry sheet-1-hin'!C77=\"\",\"\",'Entry sheet-1-hin'!C77)","v":""},"",null,null,null,null,null,null,null,null,"","","","","","","","","","","",""]
[{"$f":"IF(B77=\"\",\"\",IF(G77=\"c\",\"C\",MAX($A$9:A76)+1))","v":""},null,null,null,null,null,null,null,{"$f":"IF('Entry sheet-1-hin'!A78=\"\",\"\",'Entry sheet-1-hin'!A78)","v":""},null,{"$f":"IF('Entry sheet-1-hin'!B78=\"\",\"\",'Entry sheet-1-hin'!B78)","v":""},null,null,null,null,null,null,null,null,{"$f":"IF('Entry sheet-1-hin'!C78=\"\",\"\",'Entry sheet-1-hin'!C78)","v":""},"",null,null,null,null,null,null,null,null,"","","","","","","","","","","",""]
[null,null,null,null,null,null,null,null,{"$f":"'Entry sheet-1-hin'!A79","v":"कुल"},null,null,null,null,null,null,null,null,null,null,{"$f":"IF('Entry sheet-1-hin'!C79=\"\",\"\",'Entry sheet-1-hin'!C79)","v":40},{"$f":"IF(U9=\"\",\"\",SUM(U9:U77))","v":40}]

{"sheet":"Question paper 40 marks (2)","index":3,"n_rows":107,"n_cols":6,"rows_kept":107,"cut":false,"hidden":false,"merged":[[108,1,108,5],[109,1,109,5],[110,1,110,5],[111,1,111,5],[112,1,112,5],[113,1,113,5],[106,1,106,5],[107,1,107,5],[75,1,75,5],[77,1,77,5],[78,1,78,5],[79,1,79,5],[82,0,82,3],[90,1,90,5],[103,1,103,3],[104,1,104,3],[105,1,105,3],[100,1,100,3],[102,1,102,3],[87,0,87,3],[88,0,88,3],[89,0,89,4],[91,1,91,5],[93,1,93,5],[130,1,130,5],[134,1,134,5],[120,1,120,5],[121,1,121,5],[122,1,122,5],[123,1,123,5],[124,1,124,5],[125,1,125,5],[114,1,114,5],[115,1,115,5],[116,1,116,5],[117,1,117,5],[118,1,118,5],[119,1,119,5],[126,1,126,5],[127,1,127,5],[128,1,128,5],[129,1,129,5],[66,0,66,4],[92,1,92,5],[94,1,94,5],[97,1,97,5],[99,1,99,5],[80,0,80,3],[81,0,81,3],[83,1,83,3],[84,1,84,3],[85,1,85,3],[70,1,70,5],[71,1,71,5],[72,1,72,5],[73,1,73,5],[74,1,74,5],[95,0,95,4],[96,1,96,3],[98,1,98,3],[86,1,86,3],[67,1,67,5],[69,1,69,5],[65,1,65,5],[58,1,58,5],[60,1,60,5],[61,1,61,5],[62,1,62,5],[63,1,63,5],[56,1,56,5],[57,1,57,5],[64,1,64,5],[59,1,59,5],[54,1,54,5],[55,1,55,5],[53,1,53,5],[46,1,46,5],[3,0,3,3],[4,0,4,3],[5,0,5,4],[18,2,18,3],[19,2,19,3],[7,1,7,5],[31,1,31,5],[32,1,32,5],[35,1,35,5],[36,1,36,5],[37,1,37,5],[40,1,40,5],[51,0,51,4],[41,1,41,5],[42,1,42,5],[47,1,47,5],[48,1,48,5],[49,1,49,5],[44,1,44,5],[39,1,39,5],[0,0,0,5],[1,2,1,5],[52,1,52,5],[29,1,29,5],[24,1,24,5],[21,1,21,5],[22,1,22,5],[12,1,12,5],[10,1,10,5],[8,1,8,5],[6,1,6,5],[23,0,23,4],[16,2,16,3],[17,2,17,3],[9,1,9,5],[11,1,11,5],[13,1,13,5],[14,0,14,3],[34,1,34,5],[20,0,20,3],[25,1,25,5],[26,1,26,5],[27,1,27,5],[30,1,30,5]]}
[{"$f":"'Entry sheet-1-hin'!C2","v":"सरकारी पदवि पूर्व कॉलेंज (प्रौ.शा.वि) गुरुगुंटा, ता : लिंगसुगूर"}]
[null,"प्रश्‍न पत्रिका - ",{"$f":"'Entry sheet-1-hin'!C3","v":"संकलनात्मक परीक्षा - १   २०१५-१६"}]
[{"$f":"'Entry sheet-1-hin'!C4","v":"9वीं "},{"$f":"'Entry sheet-1-hin'!C5","v":"हिंदी"},null,null,{"$f":"'Entry sheet-1-hin'!A6","v":" अंक"},{"$f":"'Entry sheet-1-hin'!C6","v":40}]
["खण्ड   “ क ”"]
["[ गद्य, पद्य और पूरक वाचन ]"]
["I.   निम्नलिखित प्रश्नों के उत्तर एक-एक वाक्य में लिखिए :-                                                                                                                                        4 x 1 = 4",null,null,null,null,"4X1=4"]
[{"$f":"IF(B7=\"\",\"\",1)","v":1},{"$f":"IF('Entry sheet-3-hin'!G14=\"\",\"\",'Entry sheet-3-hin'!G14)","v":"विवेकानंद कब अमरिका गये ?                                                               "}]
["उत्तर"," -----------------------------------------------------------------------------------------------------------------------------------------------------------------------"]
[{"$f":"IF(B9=\"\",\"\",A7+1)","v":2},{"$f":"IF('Entry sheet-3-hin'!G15=\"\",\"\",'Entry sheet-3-hin'!G15)","v":"बहन ने भाई के माथे पर क्या लगाया ?                                                             "}]
["उत्तर"," --------------------------------------------------------------------------------------------------------------------------------------------"]
[{"$f":"IF(B11=\"\",\"\",A9+1)","v":3},{"$f":"IF('Entry sheet-3-hin'!G16=\"\",\"\",'Entry sheet-3-hin'!G16)","v":"मौसी का दुपट्टा कैसे था ?                                                                             "}]
["उत्तर"," -----------------------------------------------------------------------------------------------------------------------------------------------------------------------"]
[{"$f":"IF(B13=\"\",\"\",A11+1)","v":4},{"$f":"IF('Entry sheet-3-hin'!G17=\"\",\"\",'Entry sheet-3-hin'!G17)","v":"भारत माता का हृदय कैसा है ?                                                                                                             "}]
["उत्तर"," -----------------------------------------------------------------------------------------------------------------------------------------------------------------------"]
["II.   5.  स्तम्भ ‘क’  के वाक्यांशों के साथ स्तम्भ ‘ख’  के सही वाक्यंशों को जोडकर लिखिए :-                                                                             ",null,null,null,"उत्तर","2X1=2"]
[null,"   स्तम्भ ‘क’","   स्तम्भ ‘ख’"]
["अ",{"$f":"IF('Entry sheet-3-hin'!G22=\"\",\"\",'Entry sheet-3-hin'!G22)","v":"कुमारी नोबल                                                                  "},{"$f":"IF('Entry sheet-3-hin'!P22=\"\",\"\",'Entry sheet-3-hin'!P22)","v":"असहयोग चल रहा था ।"}]
["आ",{"$f":"IF('Entry sheet-3-hin'!G23=\"\",\"\",'Entry sheet-3-hin'!G23)","v":"हर हिस्सा दूसरे से "},{"$f":"IF('Entry sheet-3-hin'!P23=\"\",\"\",'Entry sheet-3-hin'!P23)","v":" धर्म परायण नारी     "}]
[null,null,{"$f":"IF('Entry sheet-3-hin'!P24=\"\",\"\",'Entry sheet-3-hin'!P24)","v":"  सिस्टर निवेदिता"}]
[null,null,{"$f":"IF('Entry sheet-3-hin'!P25=\"\",\"\",'Entry sheet-3-hin'!P25)","v":"असहयोग कर रहा था ।"}]
["III.  प्रथम दो पदों से सूचित संबंधों के अनुरूप तीसरे पद से संबंधित पद लिखिए :-  ",null,null,null,"उत्तर","2X1=2"]
[{"$f":"IF(B22=\"\",\"\",A13+2)","v":6},{"$f":"IF('Entry sheet-3-hin'!G28=\"\",\"\",'Entry sheet-3-hin'!G28)","v":"बाहुबली : डॉ. हिरण्मय :: बस की यात्रा :------"}]
[{"$f":"IF(B23=\"\",\"\",A22+1)","v":7},{"$f":"IF('Entry sheet-3-hin'!G29=\"\",\"\",'Entry sheet-3-hin'!G29)","v":"योगराज अपने घर से  : एक कटोरा दूध लाया :: गोपाल अपने घर से :--"}]
["IV.   निम्नलिखित प्रश्नों के उत्तर दो या तीन वाक्यों में लिखिए :-  ",null,null,null,null,"5X2=10"]
[{"$f":"IF(B25=\"\",\"\",A23+1)","v":8},{"$f":"IF('Entry sheet-3-hin'!G32=\"\",\"\",'Entry sheet-3-hin'!G32)","v":"विवेकानंद ने भारत वासियों को क्या उपदेश दिये ?                                     "}]
["उत्तर"]
[]
[]
[]
[{"$f":"IF(B30=\"\",\"\",A25+1)","v":9},{"$f":"IF('Entry sheet-3-hin'!G33=\"\",\"\",'Entry sheet-3-hin'!G33)","v":"बहन ने भाई को कैसे विधा की ?                                                                        "}]
["उत्तर"]
[]
[]
[]
[{"$f":"IF(B35=\"\",\"\",A30+1)","v":10},{"$f":"IF('Entry sheet-3-hin'!G34=\"\",\"\",'Entry sheet-3-hin'!G34)","v":"बस के बारे में डाक्टर मित्र ने लेखक से क्या कहा ?                                                         "}]
["उत्तर"]
[]
[]
[]
[{"$f":"IF(B40=\"\",\"\",A35+1)","v":11},{"$f":"IF('Entry sheet-3-hin'!G35=\"\",\"\",'Entry sheet-3-hin'!G35)","v":"हिमालय के बारे में कवि की भावना क्या है ?                                                                                                        "}]
["उत्तर"]
[]
[]
[]
[{"$f":"IF(B45=\"\",\"\",A40+1)","v":12},{"$f":"IF('Entry sheet-3-hin'!G36=\"\",\"\",'Entry sheet-3-hin'!G36)","v":"कजाकी के साथ लेखक के क्षन कैसे बीतते थे ?"}]
[null,"अथवा"]
[null,{"$f":"IF('Entry sheet-3-hin'!G37=\"\",\"\",'Entry sheet-3-hin'!G37)","v":"एक दिन कजाकी डाकखाने देर से पसूँचा । क्यों ?"}]
["उत्तर"]
[]
[]
[]
["V.   निम्नलिखित प्रश्नों के उत्तर तीन - चार वाक्यों में लिखिए :-  ",null,null,null,null,"2X3=6"]
[{"$f":"IF(B53=\"\",\"\",A45+1)","v":13},{"$f":"IF('Entry sheet-3-hin'!G46=\"\",\"\",'Entry sheet-3-hin'!G46)","v":"किसने किससे कहा ?  किस पाठ से लिया गाया है -  यह मेरा बेटा, यह मेरी बेटी ।"}]
["उत्तर"]
[]
[]
[]
[]
[]
[{"$f":"IF(B60=\"\",\"\",A53+1)","v":14},{"$f":"IF('Entry sheet-3-hin'!G47=\"\",\"\",'Entry sheet-3-hin'!G47)","v":"निम्नलिखित कवितांश का भावार्थ भावार्थ लिखिए ।\n  फुलों - सा महकूँ मैं\n  विहगों - सा चहकूँ मैं\n  गुंजरित कर वन-उपवन\n  कोयल - सा कुहुकूँ मैं\n  मेरी अभीलाषा है ।\n                                "}]
["उत्तर"]
[]
[]
[]
[]
[]
["VI.  निम्नलिखित प्रश्न का उत्तर  चार - पाँच वाक्यों में लिखिए :-                                                                                                                               1 x 4 = 4",null,null,null,null,"1X4=4"]
[{"$f":"IF(B68=\"\",\"\",A60+1)","v":15},{"$f":"IF('Entry sheet-3-hin'!G51=\"\",\"\",'Entry sheet-3-hin'!G51)","v":"शिकागो नगर के सर्वधर्म सम्मेलन के बारे में लिखिए ।"}]
[null,"अथवा"]
[null,{"$f":"IF('Entry sheet-3-hin'!G52=\"\",\"\",'Entry sheet-3-hin'!G52)","v":"इस पद्य भाग की पूर्ति कीजिए -\n  पहले पतंग --------------------------------------\n   ---------------------------------------------------\n-----------------------------------------------------\n----------------------------------निभाना सीखा ॥"}]
["उत्तर"]
[]
[]
[]
[]
[]
[]
[]
[]
[]
["खण्ड   “ ख ”",null,null,null,null,"4X1=4"]
["[ व्याकरण ]"]
["VII.   निम्नलिखित प्रश्नो के लिए चार-चार विकल्प दिए गए हैं, जिनमें एकमात्र सही उत्तर है ।   सही उत्तर चुनकर लिखिए :-                           4x 1 = 4"]
[{"$f":"IF(B84=\"\",\"\",A68+1)","v":16},{"$f":"IF('Entry sheet-3-hin'!G55=\"\",\"\",'Entry sheet-3-hin'!G55)","v":"‘बात’ का अन्यवचन रूप है -\n   अ) बात     आ) बातों    इ) बातें    ई) बाताएँ"},null,null,"उत्तर"]
[{"$f":"IF(B85=\"\",\"\",A84+1)","v":17},{"$f":"IF('Entry sheet-3-hin'!G56=\"\",\"\",'Entry sheet-3-hin'!G56)","v":"‘ठहरना’ का द्वितीय प्रेरणार्थक क्रिया रूप है -\n   अ) ठहरना    आ) ठहराना      इ) ठहर     ई) ठहरवाना"},null,null,"उत्तर"]
[{"$f":"IF(B86=\"\",\"\",A85+1)","v":18},{"$f":"IF('Entry sheet-3-hin'!G57=\"\",\"\",'Entry sheet-3-hin'!G57)","v":"राम ने दरवाजा खोला । इस वाक्य में प्रयुक्त कारक नाम है - \n   अ) कर्म     आ) कर्ता       इ) करण       ई) संबंध"},null,null,"उत्तर"]
[19,{"$f":"IF('Entry sheet-3-hin'!G58=\"\",\"\",'Entry sheet-3-hin'!G58)","v":"‘धर्म’ का विलोम रूप है -\n   अ) अधर्म     आ) नधर्म    इ) धर्महीन    ई) पाप"},null,null,"उत्तर"]
["खण्ड   “ ग ”"]
["[ रचना - अपठित गद्यांश, अनुवाद, पत्रलेखन और निबंध ]"]
["VIII.  20.  गद्यांश पढकर निम्नलिखित प्रश्नों के उत्तर लिखिए :-                                                                                                                               2 x 1 = 2 ",null,null,null,null,"2X1=2"]
[null,{"$f":"IF('Entry sheet-3-hin'!G64=\"\",\"\",'Entry sheet-3-hin'!G64)","v":"यह सही है कि इन दोनों कुछ ऐसा माहौल बना है कि ईमानदारी से मेहनत करके जीविका चलाने वाले निरीह और भोले-भोले श्रमजीवी पिस रहे हैं और झूठ तथा फरेब का रोजगार करने वाले फल फूल रहे हैं । ईमानदारी को मूर्खता का पर्याय समझा जाने लगा है, सच्चाई केवल भीरु और बेबस लोगों के हिस्से पड़ी है । ऐसे स्थिति में जीवन के मूल्यों के बारे में लोगों की आस्था ही हिलने लगी है । सदा मनुष्य-बुद्धि नई परिस्थितियों का सामने करने के लिए नए सामाजिक विधि निषेधों को बनाती है, उनके ठीक न साबित होने पर उन्हें बदलती हैं ।\n\n\n"}]
[null,{"$f":"IF('Entry sheet-3-hin'!G65=\"\",\"\",'Entry sheet-3-hin'!G65)","v":"1.  आजकल किनका बोल बाला है ?"}]
["उत्तर"," -------------------------------------------------------------------------------------------------------------------------------------------"]
[null,{"$f":"IF('Entry sheet-3-hin'!G66=\"\",\"\",'Entry sheet-3-hin'!G66)","v":"2.  सच्चाई किनके हिस्से  का पर्याय मानी जाने  लगी है ?"}]
["उत्तर"," -------------------------------------------------------------------------------------------------------------------------------------------"]
["IX.   निम्नलिखित वाक्यों का अनुवाद कन्नड या अंग्रेजी में कीजिए :-                                                                                                                        2x 1 = 2",null,null,null,null,"2X1=2"]
[{"$f":"IF(B97=\"\",\"\",A87+2)","v":21},{"$f":"IF('Entry sheet-3-hin'!G69=\"\",\"\",'Entry sheet-3-hin'!G69)","v":"उनके बचपन का नाम नरेंद्र देव था ।                                                                 "}]
["उत्तर"," -----------------------------------------------------------------------------------------------------------------------------------------------------------------------"]
[{"$f":"IF(B99=\"\",\"\",A97+1)","v":22},{"$f":"IF('Entry sheet-3-hin'!G70=\"\",\"\",'Entry sheet-3-hin'!G70)","v":"शहर में क्यों आतंक छा गया था ?                                                                "}]
["उत्तर"," -----------------------------------------------------------------------------------------------------------------------------------------------------------------------"]
["X.    23.   ",{"$f":"IF('Entry sheet-3-hin'!G73=\"\",\"\",'Entry sheet-3-hin'!G73)","v":"अपनी पढ़ाई के बारे में बताते हुए अपने पिताजी को एक पत्र लिखिए ।"},null,null,null,4]
[null,"अथवा"]
["   ","किसी एक विषय पर निबंध लिखिए ।                                                                                                                                                     "]
[{"$f":"IF(B104=\"\",\"\",1)","v":1},{"$f":"IF('Entry sheet-3-hin'!G75=\"\",\"\",'Entry sheet-3-hin'!G75)","v":"इंटर्नेट क्रांति          (अर्थ,  लाभ,  हानी,  उपसंहार)"}]
[{"$f":"IF(B105=\"\",\"\",A104+1)","v":2},{"$f":"IF('Entry sheet-3-hin'!G76=\"\",\"\",'Entry sheet-3-hin'!G76)","v":"त्योहारों का महत्व"}]
[]
["उत्तर"]

{"sheet":"Question paper 90 marks (2)","index":4,"n_rows":228,"n_cols":6,"rows_kept":228,"cut":false,"hidden":false,"merged":[[263,1,263,5],[264,1,264,5],[265,1,265,5],[247,1,247,5],[248,1,248,5],[249,1,249,5],[260,1,260,5],[261,1,261,5],[262,1,262,5],[241,1,241,5],[242,1,242,5],[243,1,243,5],[244,1,244,5],[245,1,245,5],[246,1,246,5],[235,1,235,5],[236,1,236,5],[237,1,237,5],[238,1,238,5],[239,1,239,5],[240,1,240,5],[229,1,229,5],[230,1,230,5],[231,1,231,5],[232,1,232,5],[233,1,233,5],[234,1,234,5],[223,1,223,4],[224,1,224,3],[225,1,225,3],[226,1,226,3],[227,1,227,5],[228,1,228,5],[214,1,214,5],[215,1,215,5],[219,1,219,5],[220,1,220,5],[221,1,221,5],[222,1,222,5],[208,1,208,5],[209,1,209,5],[210,1,210,5],[211,1,211,5],[212,1,212,5],[213,1,213,5],[202,1,202,5],[203,1,203,5],[204,1,204,5],[205,1,205,5],[206,1,206,5],[207,1,207,5],[196,1,196,5],[197,1,197,5],[198,1,198,5],[199,1,199,5],[200,1,200,5],[201,1,201,5],[190,1,190,4],[191,1,191,5],[192,1,192,5],[193,1,193,5],[194,1,194,5],[195,1,195,5],[183,1,183,5],[184,1,184,5],[185,1,185,5],[186,1,186,5],[187,1,187,5],[188,1,188,4],[177,1,177,5],[178,1,178,5],[179,0,179,4],[180,1,180,5],[181,1,181,5],[182,1,182,5],[171,1,171,5],[172,1,172,5],[173,1,173,5],[174,1,174,5],[175,1,175,5],[176,1,176,5],[165,1,165,4],[166,1,166,4],[167,0,167,3],[168,0,168,3],[169,0,169,4],[170,1,170,5],[159,1,159,4],[160,1,160,4],[161,1,161,4],[162,1,162,4],[163,1,163,4],[164,1,164,4],[153,1,153,5],[154,1,154,5],[155,0,155,3],[156,0,156,3],[157,0,157,4],[158,1,158,4],[147,3,147,5],[148,1,148,5],[149,1,149,5],[150,1,150,5],[151,1,151,5],[152,1,152,5],[141,1,141,5],[142,1,142,5],[143,1,143,5],[144,1,144,5],[145,1,145,5],[146,1,146,5],[134,0,134,4],[135,1,135,5],[137,1,137,5],[138,1,138,5],[139,1,139,5],[140,1,140,5],[128,1,128,5],[129,1,129,5],[130,1,130,5],[131,1,131,5],[132,1,132,5],[133,1,133,5],[122,1,122,5],[123,1,123,5],[124,1,124,5],[125,1,125,5],[126,1,126,5],[127,1,127,5],[116,1,116,5],[117,1,117,5],[118,1,118,5],[119,1,119,5],[120,1,120,5],[121,1,121,5],[110,1,110,5],[111,1,111,5],[112,1,112,5],[113,1,113,5],[114,1,114,5],[115,1,115,5],[104,1,104,5],[105,1,105,5],[106,1,106,5],[107,1,107,5],[108,1,108,5],[109,1,109,5],[98,0,98,4],[99,1,99,5],[100,1,100,5],[101,1,101,5],[102,1,102,5],[103,1,103,5],[89,1,89,5],[91,1,91,5],[93,1,93,5],[94,1,94,5],[95,1,95,5],[96,1,96,5],[81,1,81,5],[82,1,82,5],[84,1,84,5],[86,1,86,5],[87,1,87,5],[88,1,88,5],[74,1,74,5],[75,1,75,5],[76,1,76,5],[77,1,77,5],[79,1,79,5],[80,1,80,5],[67,1,67,5],[68,1,68,5],[69,1,69,5],[70,1,70,5],[71,1,71,5],[72,1,72,5],[61,1,61,5],[62,1,62,5],[63,1,63,5],[64,1,64,5],[65,1,65,5],[66,1,66,5],[53,1,53,5],[54,1,54,5],[56,1,56,5],[57,1,57,5],[58,1,58,5],[59,1,59,5],[46,1,46,5],[47,1,47,5],[48,1,48,5],[49,1,49,5],[51,1,51,5],[52,1,52,5],[38,1,38,5],[39,1,39,5],[41,1,41,5],[42,1,42,5],[43,1,43,5],[44,1,44,5],[32,1,32,5],[33,1,33,5],[34,1,34,5],[35,0,35,4],[36,1,36,5],[37,1,37,5],[26,2,26,3],[27,2,27,3],[28,2,28,3],[29,2,29,3],[30,0,30,3],[31,1,31,5],[1,2,1,5],[0,0,0,5],[19,1,19,5],[20,1,20,3],[21,1,21,5],[22,0,22,4],[24,2,24,3],[25,2,25,3],[13,1,13,5],[14,1,14,3],[15,1,15,5],[16,1,16,3],[17,1,17,5],[18,1,18,3],[7,1,7,5],[8,1,8,3],[9,1,9,5],[10,1,10,3],[11,1,11,5],[12,1,12,3],[3,0,3,3],[4,0,4,3],[5,0,5,4],[6,1,6,3]]}
[{"$f":"'Entry sheet-1-hin'!C2","v":"सरकारी पदवि पूर्व कॉलेंज (प्रौ.शा.वि) गुरुगुंटा, ता : लिंगसुगूर"}]
[null,"प्रश्‍न पत्रिका - ",{"$f":"'Entry sheet-1-hin'!C3","v":"संकलनात्मक परीक्षा - १   २०१५-१६"}]
[{"$f":"'Entry sheet-1-hin'!C4","v":"9वीं "},{"$f":"'Entry sheet-1-hin'!C5","v":"हिंदी"},null,null,{"$f":"'Entry sheet-1-hin'!A6","v":" अंक"},{"$f":"'Entry sheet-1-hin'!C6","v":40}]
["खण्ड   “ क ”"]
["[ गद्य, पद्य और पूरक वाचन ]"]
["I.   निम्नलिखित प्रश्नों के उत्तर एक-एक वाक्य में लिखिए :-  ",null,null,null,null,"8X1=8"]
[{"$f":"IF(B7=\"\",\"\",1)","v":1},{"$f":"IF('Entry sheet-3-hin'!G14=\"\",\"\",'Entry sheet-3-hin'!G14)","v":"विवेकानंद कब अमरिका गये ?                                                               "}]
["उत्तर"," -----------------------------------------------------------------------------------------------------------------------------------"]
[{"$f":"IF(B9=\"\",\"\",A7+1)","v":2},{"$f":"IF('Entry sheet-3-hin'!G15=\"\",\"\",'Entry sheet-3-hin'!G15)","v":"बहन ने भाई के माथे पर क्या लगाया ?                                                             "}]
["उत्तर"," -----------------------------------------------------------------------------------------------------------------------------------"]
[{"$f":"IF(B11=\"\",\"\",A9+1)","v":3},{"$f":"IF('Entry sheet-3-hin'!G16=\"\",\"\",'Entry sheet-3-hin'!G16)","v":"मौसी का दुपट्टा कैसे था ?                                                                             "}]
["उत्तर"," -----------------------------------------------------------------------------------------------------------------------------------"]
[{"$f":"IF(B13=\"\",\"\",A11+1)","v":4},{"$f":"IF('Entry sheet-3-hin'!G17=\"\",\"\",'Entry sheet-3-hin'!G17)","v":"भारत माता का हृदय कैसा है ?                                                                                                             "}]
["उत्तर"," -----------------------------------------------------------------------------------------------------------------------------------"]
[{"$f":"IF(B15=\"\",\"\",A13+1)","v":""},{"$f":"IF('Entry sheet-3-hin'!G18=\"\",\"\",'Entry sheet-3-hin'!G18)","v":""}]
["उत्तर"," -----------------------------------------------------------------------------------------------------------------------------------"]
[{"$f":"IF(B17=\"\",\"\",A15+1)","v":""},{"$f":"IF('Entry sheet-3-hin'!G19=\"\",\"\",'Entry sheet-3-hin'!G19)","v":""}]
["उत्तर"," -----------------------------------------------------------------------------------------------------------------------------------"]
[{"$f":"IF(B19=\"\",\"\",A17+1)","v":""},{"$f":"IF('Entry sheet-3-hin'!G20=\"\",\"\",'Entry sheet-3-hin'!G20)","v":""}]
["उत्तर"," -----------------------------------------------------------------------------------------------------------------------------------"]
[{"$f":"IF(B21=\"\",\"\",A19+1)","v":""},{"$f":"IF('Entry sheet-3-hin'!G21=\"\",\"\",'Entry sheet-3-hin'!G21)","v":""}]
["उत्तर"," -----------------------------------------------------------------------------------------------------------------------------------"]
["II.   9.  स्तम्भ ‘क’  के वाक्यांशों के साथ स्तम्भ ‘ख’  के सही वाक्यंशों को जोडकर लिखिए :-  ",null,null,null,null,"4X1=4"]
[null,"   स्तम्भ ‘क’","   स्तम्भ ‘ख’",null,"उत्तर"]
["अ",{"$f":"IF('Entry sheet-3-hin'!G22=\"\",\"\",'Entry sheet-3-hin'!G22)","v":"कुमारी नोबल                                                                  "},{"$f":"IF('Entry sheet-3-hin'!P22=\"\",\"\",'Entry sheet-3-hin'!P22)","v":"असहयोग चल रहा था ।"}]
["आ",{"$f":"IF('Entry sheet-3-hin'!G23=\"\",\"\",'Entry sheet-3-hin'!G23)","v":"हर हिस्सा दूसरे से "},{"$f":"IF('Entry sheet-3-hin'!P23=\"\",\"\",'Entry sheet-3-hin'!P23)","v":" धर्म परायण नारी     "}]
["इ",{"$f":"IF('Entry sheet-3-hin'!G24=\"\",\"\",'Entry sheet-3-hin'!G24)","v":""},{"$f":"IF('Entry sheet-3-hin'!P24=\"\",\"\",'Entry sheet-3-hin'!P24)","v":"  सिस्टर निवेदिता"}]
["ई",{"$f":"IF('Entry sheet-3-hin'!G25=\"\",\"\",'Entry sheet-3-hin'!G25)","v":""},{"$f":"IF('Entry sheet-3-hin'!P25=\"\",\"\",'Entry sheet-3-hin'!P25)","v":"असहयोग कर रहा था ।"}]
[null,null,{"$f":"IF('Entry sheet-3-hin'!P26=\"\",\"\",'Entry sheet-3-hin'!P26)","v":""}]
[null,null,{"$f":"IF('Entry sheet-3-hin'!P27=\"\",\"\",'Entry sheet-3-hin'!P27)","v":""}]
["III.  प्रथम दो पदों से सूचित संबंधों के अनुरूप तीसरे पद से संबंधित पद लिखिए :-  ",null,null,null,"उत्तर","4X1=4"]
[{"$f":"IF(B32=\"\",\"\",A21+2)","v":{"$error":"#VALUE!"}},{"$f":"IF('Entry sheet-3-hin'!G28=\"\",\"\",'Entry sheet-3-hin'!G28)","v":"बाहुबली : डॉ. हिरण्मय :: बस की यात्रा :------"}]
[{"$f":"IF(B33=\"\",\"\",A32+1)","v":{"$error":"#VALUE!"}},{"$f":"IF('Entry sheet-3-hin'!G29=\"\",\"\",'Entry sheet-3-hin'!G29)","v":"योगराज अपने घर से  : एक कटोरा दूध लाया :: गोपाल अपने घर से :--"}]
[{"$f":"IF(B34=\"\",\"\",A33+1)","v":""},{"$f":"IF('Entry sheet-3-hin'!G30=\"\",\"\",'Entry sheet-3-hin'!G30)","v":""}]
["",{"$f":"IF('Entry sheet-3-hin'!G31=\"\",\"\",'Entry sheet-3-hin'!G31)","v":""}]
["IV.   निम्नलिखित प्रश्नों के उत्तर दो या तीन वाक्यों में लिखिए :-  ",null,null,null,null,"11X2=22"]
[{"$f":"IF(B37=\"\",\"\",A35+1)","v":{"$error":"#VALUE!"}},{"$f":"IF('Entry sheet-3-hin'!G32=\"\",\"\",'Entry sheet-3-hin'!G32)","v":"विवेकानंद ने भारत वासियों को क्या उपदेश दिये ?                                     "}]
["उत्तर"]
[]
[]
[]
[{"$f":"IF(B42=\"\",\"\",A37+1)","v":{"$error":"#VALUE!"}},{"$f":"IF('Entry sheet-3-hin'!G33=\"\",\"\",'Entry sheet-3-hin'!G33)","v":"बहन ने भाई को कैसे विधा की ?                                                                        "}]
["उत्तर"]
[]
[]
[]
[{"$f":"IF(B47=\"\",\"\",A42+1)","v":{"$error":"#VALUE!"}},{"$f":"IF('Entry sheet-3-hin'!G34=\"\",\"\",'Entry sheet-3-hin'!G34)","v":"बस के बारे में डाक्टर मित्र ने लेखक से क्या कहा ?                                                         "}]
["उत्तर"]
[]
[]
[]
[{"$f":"IF(B52=\"\",\"\",A47+1)","v":{"$error":"#VALUE!"}},{"$f":"IF('Entry sheet-3-hin'!G35=\"\",\"\",'Entry sheet-3-hin'!G35)","v":"हिमालय के बारे में कवि की भावना क्या है ?                                                                                                        "}]
["उत्तर"]
[]
[]
[]
[{"$f":"IF(B57=\"\",\"\",A52+1)","v":{"$error":"#VALUE!"}},{"$f":"IF('Entry sheet-3-hin'!G36=\"\",\"\",'Entry sheet-3-hin'!G36)","v":"कजाकी के साथ लेखक के क्षन कैसे बीतते थे ?"}]
["उत्तर"]
[]
[]
[]
[{"$f":"IF(B62=\"\",\"\",A57+1)","v":{"$error":"#VALUE!"}},{"$f":"IF('Entry sheet-3-hin'!G37=\"\",\"\",'Entry sheet-3-hin'!G37)","v":"एक दिन कजाकी डाकखाने देर से पसूँचा । क्यों ?"}]
["उत्तर"]
[]
[]
[{"$f":"IF(B66=\"\",\"\",A62+1)","v":""},{"$f":"IF('Entry sheet-3-hin'!G38=\"\",\"\",'Entry sheet-3-hin'!G38)","v":""}]
["उत्तर"]
[]
[]
[{"$f":"IF(B70=\"\",\"\",A66+1)","v":""},{"$f":"IF('Entry sheet-3-hin'!G39=\"\",\"\",'Entry sheet-3-hin'!G39)","v":""}]
["उत्तर"]
[]
[]
[]
[{"$f":"IF(B75=\"\",\"\",A70+1)","v":""},{"$f":"IF('Entry sheet-3-hin'!G40=\"\",\"\",'Entry sheet-3-hin'!G40)","v":""}]
["उत्तर"]
[]
[]
[]
[{"$f":"IF(B80=\"\",\"\",A75+1)","v":""},{"$f":"IF('Entry sheet-3-hin'!G41=\"\",\"\",'Entry sheet-3-hin'!G41)","v":""}]
["उत्तर"]
[]
[]
[]
[{"$f":"IF(B85=\"\",\"\",A80+1)","v":""},{"$f":"IF('Entry sheet-3-hin'!G42=\"\",\"\",'Entry sheet-3-hin'!G42)","v":""}]
[null,"अथवा"]
[null,{"$f":"IF('Entry sheet-3-hin'!G43=\"\",\"\",'Entry sheet-3-hin'!G43)","v":""}]
["उत्तर"]
[]
[]
[]
[{"$f":"IF(B92=\"\",\"\",A85+1)","v":""},{"$f":"IF('Entry sheet-3-hin'!G44=\"\",\"\",'Entry sheet-3-hin'!G44)","v":""}]
[null,"अथवा"]
[null,{"$f":"IF('Entry sheet-3-hin'!G45=\"\",\"\",'Entry sheet-3-hin'!G45)","v":""}]
["उत्तर"]
[]
[]
[]
["V.   निम्नलिखित प्रश्नों के उत्तर तीन - चार वाक्यों में लिखिए :-  ",null,null,null,null,"5X3=15"]
[{"$f":"IF(B100=\"\",\"\",A92+1)","v":{"$error":"#VALUE!"}},{"$f":"IF('Entry sheet-3-hin'!G46=\"\",\"\",'Entry sheet-3-hin'!G46)","v":"किसने किससे कहा ?  किस पाठ से लिया गाया है -  यह मेरा बेटा, यह मेरी बेटी ।"}]
["उत्तर"]
[]
[]
[]
[]
[]
[{"$f":"IF(B107=\"\",\"\",A100+1)","v":{"$error":"#VALUE!"}},{"$f":"IF('Entry sheet-3-hin'!G47=\"\",\"\",'Entry sheet-3-hin'!G47)","v":"निम्नलिखित कवितांश का भावार्थ भावार्थ लिखिए ।\n  फुलों - सा महकूँ मैं\n  विहगों - सा चहकूँ मैं\n  गुंजरित कर वन-उपवन\n  कोयल - सा कुहुकूँ मैं\n  मेरी अभीलाषा है ।\n                                "}]
["उत्तर"]
[]
[]
[]
[]
[]
[{"$f":"IF(B114=\"\",\"\",A107+1)","v":""},{"$f":"IF('Entry sheet-3-hin'!G48=\"\",\"\",'Entry sheet-3-hin'!G48)","v":""}]
["उत्तर"]
[]
[]
[]
[]
[]
[{"$f":"IF(B121=\"\",\"\",A114+1)","v":""},{"$f":"IF('Entry sheet-3-hin'!G49=\"\",\"\",'Entry sheet-3-hin'!G49)","v":""}]
["उत्तर"]
[]
[]
[]
[]
[]
[{"$f":"IF(B128=\"\",\"\",A121+1)","v":""},{"$f":"IF('Entry sheet-3-hin'!G50=\"\",\"\",'Entry sheet-3-hin'!G50)","v":""}]
["उत्तर"]
[]
[]
[]
[]
[]
["VI.  निम्नलिखित प्रश्न का उत्तर  चार - पाँच वाक्यों में लिखिए :- ",null,null,null,null,"2X4=8"]
[{"$f":"IF(B136=\"\",\"\",A128+1)","v":{"$error":"#VALUE!"}},{"$f":"IF('Entry sheet-3-hin'!G51=\"\",\"\",'Entry sheet-3-hin'!G51)","v":"शिकागो नगर के सर्वधर्म सम्मेलन के बारे में लिखिए ।"}]
[null,"अथवा"]
[null,{"$f":"IF('Entry sheet-3-hin'!G52=\"\",\"\",'Entry sheet-3-hin'!G52)","v":"इस पद्य भाग की पूर्ति कीजिए -\n  पहले पतंग --------------------------------------\n   ---------------------------------------------------\n-----------------------------------------------------\n----------------------------------निभाना सीखा ॥"}]
["उत्तर"]
[]
[]
[]
[]
[]
[]
[]
[]
[{"$f":"IF(B148=\"\",\"\",A136+1)","v":""},{"$f":"IF('Entry sheet-3-hin'!G53=\"\",\"\",'Entry sheet-3-hin'!G53)","v":""},"अथवा",{"$f":"IF('Entry sheet-3-hin'!G54=\"\",\"\",'Entry sheet-3-hin'!G54)","v":""}]
["उत्तर"]
[]
[]
[]
[]
[]
[]
["खण्ड   “ ख ”"]
["[ व्याकरण ]"]
["VII.   निम्नलिखित प्रश्नो के लिए चार-चार विकल्प दिए गए हैं, जिनमें एकमात्र सही उत्तर है ।   सही उत्तर चुनकर लिखिए :-",null,null,null,null,"9X1=9"]
[{"$f":"IF(B159=\"\",\"\",A148+1)","v":{"$error":"#VALUE!"}},{"$f":"IF('Entry sheet-3-hin'!G55=\"\",\"\",'Entry sheet-3-hin'!G55)","v":"‘बात’ का अन्यवचन रूप है -\n   अ) बात     आ) बातों    इ) बातें    ई) बाताएँ"},null,null,null,"उत्तर"]
[{"$f":"IF(B160=\"\",\"\",A159+1)","v":{"$error":"#VALUE!"}},{"$f":"IF('Entry sheet-3-hin'!G56=\"\",\"\",'Entry sheet-3-hin'!G56)","v":"‘ठहरना’ का द्वितीय प्रेरणार्थक क्रिया रूप है -\n   अ) ठहरना    आ) ठहराना      इ) ठहर     ई) ठहरवाना"},null,null,null,"उत्तर"]
[{"$f":"IF(B161=\"\",\"\",A160+1)","v":{"$error":"#VALUE!"}},{"$f":"IF('Entry sheet-3-hin'!G57=\"\",\"\",'Entry sheet-3-hin'!G57)","v":"राम ने दरवाजा खोला । इस वाक्य में प्रयुक्त कारक नाम है - \n   अ) कर्म     आ) कर्ता       इ) करण       ई) संबंध"},null,null,null,"उत्तर"]
[{"$f":"IF(B162=\"\",\"\",A161+1)","v":{"$error":"#VALUE!"}},{"$f":"IF('Entry sheet-3-hin'!G58=\"\",\"\",'Entry sheet-3-hin'!G58)","v":"‘धर्म’ का विलोम रूप है -\n   अ) अधर्म     आ) नधर्म    इ) धर्महीन    ई) पाप"},null,null,null,"उत्तर"]
["",{"$f":"IF('Entry sheet-3-hin'!G59=\"\",\"\",'Entry sheet-3-hin'!G59)","v":""},null,null,null,"उत्तर"]
["",{"$f":"IF('Entry sheet-3-hin'!G60=\"\",\"\",'Entry sheet-3-hin'!G60)","v":""},null,null,null,"उत्तर"]
["",{"$f":"IF('Entry sheet-3-hin'!G61=\"\",\"\",'Entry sheet-3-hin'!G61)","v":""},null,null,null,"उत्तर"]
["",{"$f":"IF('Entry sheet-3-hin'!G62=\"\",\"\",'Entry sheet-3-hin'!G62)","v":""},null,null,null,"उत्तर"]
["",{"$f":"IF('Entry sheet-3-hin'!G63=\"\",\"\",'Entry sheet-3-hin'!G63)","v":""},null,null,null,"उत्तर"]
["खण्ड   “ ग ”"]
["[ रचना - अपठित गद्यांश, अनुवाद, पत्रलेखन और निबंध ]"]
["VIII.  42.  गद्यांश पढकर निम्नलिखित प्रश्नों के उत्तर लिखिए :-",null,null,null,null,"4X1=4"]
[null,{"$f":"IF('Entry sheet-3-hin'!G64=\"\",\"\",'Entry sheet-3-hin'!G64)","v":"यह सही है कि इन दोनों कुछ ऐसा माहौल बना है कि ईमानदारी से मेहनत करके जीविका चलाने वाले निरीह और भोले-भोले श्रमजीवी पिस रहे हैं और झूठ तथा फरेब का रोजगार करने वाले फल फूल रहे हैं । ईमानदारी को मूर्खता का पर्याय समझा जाने लगा है, सच्चाई केवल भीरु और बेबस लोगों के हिस्से पड़ी है । ऐसे स्थिति में जीवन के मूल्यों के बारे में लोगों की आस्था ही हिलने लगी है । सदा मनुष्य-बुद्धि नई परिस्थितियों का सामने करने के लिए नए सामाजिक विधि निषेधों को बनाती है, उनके ठीक न साबित होने पर उन्हें बदलती हैं ।\n\n\n"}]
[null,{"$f":"IF('Entry sheet-3-hin'!G65=\"\",\"\",'Entry sheet-3-hin'!G65)","v":"1.  आजकल किनका बोल बाला है ?"}]
[null,{"$f":"IF('Entry sheet-3-hin'!G66=\"\",\"\",'Entry sheet-3-hin'!G66)","v":"2.  सच्चाई किनके हिस्से  का पर्याय मानी जाने  लगी है ?"}]
[null,{"$f":"IF('Entry sheet-3-hin'!G67=\"\",\"\",'Entry sheet-3-hin'!G67)","v":""}]
[null,{"$f":"IF('Entry sheet-3-hin'!G68=\"\",\"\",'Entry sheet-3-hin'!G68)","v":""}]
[1,"उत्तर :-----------------------------------------------------------------------------------------------------------------------------------"]
[2,"उत्तर :-----------------------------------------------------------------------------------------------------------------------------------"]
[3,"उत्तर :-----------------------------------------------------------------------------------------------------------------------------------"]
[4,"उत्तर :-----------------------------------------------------------------------------------------------------------------------------------"]
["IX.   निम्नलिखित वाक्यों का अनुवाद कन्नड या अंग्रेजी में कीजिए :-  ",null,null,null,null,"4X1=4"]
[{"$f":"IF(B181=\"\",\"\",A167+2)","v":{"$error":"#VALUE!"}},{"$f":"IF('Entry sheet-3-hin'!G69=\"\",\"\",'Entry sheet-3-hin'!G69)","v":"उनके बचपन का नाम नरेंद्र देव था ।                                                                 "}]
["उत्तर"," --------------------------------------------------------------------------------------------------------------------------------------------------------------"]
[{"$f":"IF(B183=\"\",\"\",A181+1)","v":{"$error":"#VALUE!"}},{"$f":"IF('Entry sheet-3-hin'!G70=\"\",\"\",'Entry sheet-3-hin'!G70)","v":"शहर में क्यों आतंक छा गया था ?                                                                "}]
["उत्तर"," --------------------------------------------------------------------------------------------------------------------------------------------------------------"]
[{"$f":"IF(B185=\"\",\"\",A183+1)","v":""},{"$f":"IF('Entry sheet-3-hin'!G71=\"\",\"\",'Entry sheet-3-hin'!G71)","v":""}]
["उत्तर"," --------------------------------------------------------------------------------------------------------------------------------------------------------------"]
[{"$f":"IF(B187=\"\",\"\",A185+1)","v":""},{"$f":"IF('Entry sheet-3-hin'!G72=\"\",\"\",'Entry sheet-3-hin'!G72)","v":""}]
["उत्तर"," --------------------------------------------------------------------------------------------------------------------------------------------------------------"]
["X.47.   ",{"$f":"IF('Entry sheet-3-hin'!G73=\"\",\"\",'Entry sheet-3-hin'!G73)","v":"अपनी पढ़ाई के बारे में बताते हुए अपने पिताजी को एक पत्र लिखिए ।"},null,null,null,4]
[null,"अथवा"]
[null,{"$f":"IF('Entry sheet-3-hin'!G74=\"\",\"\",'Entry sheet-3-hin'!G74)","v":""}]
["उत्तर"]
[]
[]
[]
[]
[]
[]
[]
[]
[]
[]
[]
[]
[]
[]
[]
[]
[]
[]
[]
[]
[]
[]
[]
[]
[]
[]
[]
[]
[]
[]
[]
["XI.48.   ","किसी एक विषय पर निबंध लिखिए ।                                                                                                                                                        1x4=4",null,null,null,4]
[{"$f":"IF(B225=\"\",\"\",1)","v":1},{"$f":"IF('Entry sheet-3-hin'!G75=\"\",\"\",'Entry sheet-3-hin'!G75)","v":"इंटर्नेट क्रांति          (अर्थ,  लाभ,  हानी,  उपसंहार)"}]
[{"$f":"IF(B226=\"\",\"\",A225+1)","v":2},{"$f":"IF('Entry sheet-3-hin'!G76=\"\",\"\",'Entry sheet-3-hin'!G76)","v":"त्योहारों का महत्व"}]
["",{"$f":"IF('Entry sheet-3-hin'!G77=\"\",\"\",'Entry sheet-3-hin'!G77)","v":""}]
["उत्तर"]

{"sheet":"instruction 20 marks","index":5,"n_rows":22,"n_cols":20,"rows_kept":22,"cut":false,"hidden":false,"merged":[[12,4,12,18],[13,4,13,18],[15,4,15,18],[17,7,17,14],[18,7,18,14],[1,1,1,18],[3,2,3,16],[4,1,4,18],[5,1,5,18],[7,4,7,18],[2,2,2,16],[6,3,6,18],[11,19,11,20],[12,19,12,20],[13,19,13,20],[15,1,22,2],[6,19,6,20],[7,19,7,20],[8,19,8,20],[9,19,9,20],[10,19,10,20],[9,4,9,18],[10,4,10,18],[11,4,11,18],[8,4,8,18],[19,7,19,14],[20,7,20,14],[21,7,21,14]]}
[]
[null,"20 CAPÀUÀ¼À ಪ್ರಶ್ನೆ ಪತ್ರಿಕೆಯನ್ನು ತಯಾರಿಸಲು ನೀಲ ನಕ್ಷೆಯನ್ನು ಸಿದ್ಧಪಡಿಸುವುದು."]
[null,"*","¥Àæ±Éß ¥ÀwæPÉ ¹zÀÞ¥Àr¸À®Ä ¥ÁoÀUÀ¼À ¸ÀASÉå ªÀÄvÀÄÛ ¥Àæ±ÉßUÀ¼À C£ÀÄPÀæªÀÄ ¥ÀÆªÀð ¤zsÁðjvÀ. ¥ÁoÀUÀ½UÉ ¤UÀ¢üUÉÆ½¹gÀÄªÀ ¸ÀASÉåAiÀÄ£ÀÄß §¼À¹PÉÆAqÀÄ ¥Àæ±ÉßUÀ¼À£ÀÄß DAiÀÄÄÝPÉÆ¼Àî¨ÉÃPÀÄ. ¥ÀÆªÀð ¤zsÁðjvÀ ಪಾಠಗಳ ಸಂಖ್ಯೆಯನ್ನು ಮುಖ್ಯ ಪುಟ 1 ರಲ್ಲಿ ನಮೂಧಿಸಲಾಗಿದೆ."]
[null,"*","B9 £À°è ¥ÀÆªÀð ¤zsÁðjvÀ ¥ÁoÀzÀ ¸ÀASÉåAiÀÄ£ÀÄß vÀÄA©PÉÆAqÀÄ C9 jAzÀ G9 gÀªÀgÉUÉ ¥Àæ±ÉßUÀ¼À ««zsÀ ¥ÀæPÁgÀUÀ¼À£ÀÄß DAiÉÄÌ ªÀiÁrPÉÆ½î. ¤ÃªÀÅ DAiÉÄÌ ªÀiÁrPÉÆAqÀ ¥ÁoÀzÀ ¸ÀASÉå ºÁUÀÆ ¥Àæ±ÉßUÀ¼À ««zsÀ ¥ÀæPÁgÀUÀ¼ÀÄ प्रश्‍न चुनना ಪುಟದಲ್ಲಿ PÁtÄªÀzÀjAzÀ ¥Àæ±ÉßUÀ¼À ««zsÀ ¥ÀæPÁgÀUÀ½UÉ C£ÀÄ¸ÁgÀªÁV ¥Àæ±ÉßAiÀÄ£ÀÄß DAiÀÄÄÝPÉÆ¼Àî®Ä ¸ÀºÁAiÀÄAiÀiÁUÀÄvÀÛzÉ.\nप्रश्‍न चुनना ಪುಟದಲ್ಲಿ  \"ಜಿ:ಎಕ್ಸ14\" ನಲ್ಲಿ ಕೇವಲ ನಿಮಗೆ ಬೇಕಾದ ಪ್ರಶ್ನೆಗಳನ್ನು ಮಾತ್ರ ಆಯ್ದುಕೊಳ್ಳುವುದು.."]
[null,"20 CAPÀUÀ¼À ¤Ã® £ÀPÉëAiÀÄ°è ¥ÀÀæ±ÉßUÀ¼À£ÀÄß  DAiÀÄÄÝPÉÆ¼ÀÄîªÀ C£ÀÄPÀæªÀÄtÂPÉ \n( मुख्य पृष्ठ-2 £À°è B9 jAzÀ B71 gÀªÀgÉV£À PÁ®AUÀ¼À°è ¥ÁoÀzÀ ¸ÀASÉåAiÀÄ£ÀÄß £ÀªÀÄÆ¢ü¸ÀÄªÀÅzÀgÀ ªÀÄÆ®PÀ )"]
[null,"ನೀಲ ನಕ್ಷೆಯ ಸಹಿತ ಪ್ರಶ್ನೆ ಪತ್ರಿಕೆಯು ಕೇವಲ 10 ನೇ ತರಗತಿಗೆ ಮಾತ್ರ. ನೀವು ಕೇವಲ ನೀಲ ನಕ್ಷೆಗಾಗಿ ಈ ತಂತ್ರಾಂಶವನ್ನು ಬಳಸುವುದಾದರೆ ಯಾವ ತರಗತಿಗೆ ಬೇಕಾದರು  ಬಳಸಿಕೊಳ್ಳಬಹುದು.(ಹಿಂದಿ ವಿಷಯಕ್ಕೆ ಮಾತ್ರ)"]
[null,null,"ಮುಖ್ಯಪುಟ2","ಮುಖ್ಯ ಪುಟ 2 ನಲ್ಲಿ ಈ ಕೆಳಗಿನ ಸೂಚನೆಯಂತೆ ನೀಲ ನಕ್ಷೆಯನ್ನು ಸಿದ್ಧಪಡಿಸಿ.",null,null,null,null,null,null,null,null,null,null,null,null,null,null,null,"प्रश्‍न चुनना "]
[null,1,"B9 - B11",null,"\u008d\u008d\u008d\u008d\u008d\u008d\u008d\u008d\u008d\u008d\u008dMAzÀÄ CAPÀzÀ 3 ¥Àæ±ÉßUÀ¼À£ÀÄß DAiÀÄÄÝPÉÆ½î. ( 1 CAPÀzÀ ¥Àæ±ÉßUÀ½UÉ AiÀiÁªÀ ¥ÁoÀ¢AzÀ ¥Àæ±ÉßUÀ¼À£ÀÄß PÉÆqÀ°aÑ¸ÀÄ«gÉÆ, D ¥ÁoÀzÀ ¸ÀASÉåAiÀÄ£ÀÄß `©9' ನಲ್ಲಿ ತುಂಬಿ \"ಸಿ9\" ನಲ್ಲಿ ಪ್ರಶ್ನೆಯ ಉದ್ದೇಶ, \"ಡಿ9\" ನಲ್ಲಿ ಪ್ರಶ್ನೆಯ ಸ್ತರ, \"ಇ9\" ನಲ್ಲಿ ಪ್ರಶ್ನೆಯ ಪ್ರಕಾರ, \"ಎಫ್9\" ನಲ್ಲಿ ವಿಷಯ ವಸ್ತು, ಹಾಗೂ \"ಜಿ9\" ನಲ್ಲಿ ಆಯ್ಕೆ ಪ್ರಶ್ನೆಯಾದರೆ \"ಸಿ\" ಎಂದು ಆಯ್ದುಕೊಳ್ಳಿ ಇಲ್ಲವಾದರೆ ಖಾಲಿ ಬಿಡಿ. EzÉÃ ¤AiÀÄªÀÄªÀ£ÀÄß J¯Áè ¥Àæ±ÉßUÀ¼À DAiÉÄÌUÀÆ C£ÀÄ¸Àj¹.) 3ನೇ ಪ್ರಶ್ನೆಯನ್ನು ಅಪಠಿತ ಗದ್ಯದಿಂದ ಆಯ್ದುಕೊಳ್ಳಿ. (ಒಂದು ಅಂಕದ ಪ್ರಶ್ನೆ ಎಸ್.ಎಸ್.ಎಲ್.ಸಿ ವಾಷಿÀðಕ ಪರೀಕ್ಷೆಯಲ್ಲಿ ಬರುವುದಿಲ್ಲವಾದ್ದರಿಂದ ಗದ್ಯದಿಂದಲೇ ಪ್ರಶ್ನೆಯನ್ನು ಆಯ್ದುಕೊಳ್ಳಿ.)",null,null,null,null,null,null,null,null,null,null,null,null,null,null,"G:X14 - G:X16  "]
[null,2,"B17 - B20",null,"ºÉÆA¢¹ §gÉAiÀÄÄªÀ 2 ¥Àæ±ÉßUÀ¼À£ÀÄß DAiÀÄÄÝPÉÆ½î.  B19 ªÀÄvÀÄÛ  B20 gÀ ªÀÄÄA¢£À G PÁ®A£À°è wæ¨sÀÄeÁPÁgÀzÀ ªÉÄÃ¯É ªÀiË¸ï QèPï ªÀiÁqÀÄªÀÅzÀgÀ ªÀÄÆ®PÀ  C JAzÀÄ DAiÉÄÌ ªÀiÁrPÉÆ½î. »ÃUÉ ªÀiÁqÀÄªÀÅzÀjAzÀ ¤Ã® £ÀPÉëAiÀÄ°è CªÀÅUÀ¼À CAPÀUÀ¼À£ÀÄß vÉÆÃj¸ÀÄªÀÅ¢®è ºÁUÀÆ ºÉÆA¢¹ §gÉAiÀÄÄªÀ 2 ¥Àæ±ÉßUÀ¼À£ÀÄß ªÀiÁvÀæ £ÁªÀÅ DAiÀÄÄÝPÉÆAqÀAvÁUÀÄvÀÛzÉ. ¥Àæ±Éß ¥ÀwæPÉAiÀÄ ¥ÀÄlzÀ°è ºÉÆA¢¹ §gÉAiÀÄÄªÀ ¥Àæ±ÉßUÀ¼À£ÀÄß DAiÀÄÄÝPÉÆ¼ÀÄîªÁUÀ G ¤AzÀ O ªÀgÉUÉ `PÀ' ¥ÀnÖAiÀÄ ¥Àæ±ÉßUÀ¼À£ÀÄß  ºÁUÀÆ  P ¤AzÀ X ªÀgÉUÉ `RÀ' ¥ÀnÖAiÀÄ ¥Àæ±ÉßUÀ¼À£ÀÄß DAiÀÄÄÝPÉÆ¼Àî®Ä CªÀPÁ±À PÀ°à¸À¯ÁVzÉ. B19 ªÀÄvÀÄÛ  B20 gÀ ªÀÄÄA¢£À PÉÃªÀ® `R' ¥ÀnÖAiÀÄ ¥Àæ±ÉßUÀ¼À£ÀÄß DAiÀÄÄÝPÉÆ½î. ",null,null,null,null,null,null,null,null,null,null,null,null,null,null,"G:O22 - G:O23 -\n\"ಕ\" ಪಟ್ಟಿ\nP:X22 - P:X25 \n\"ಖ\" ಪಟ್ಟಿ"]
[null,3,"B27 - B29",null,"2 CAPÀUÀ¼À 3 ¥Àæ±ÉßUÀ¼À£ÀÄß DAiÀÄÄÝPÉÆ½î.  ಪದ್ಯ ಭಾಗದಿಂದ ಭಾವಾಥð ಕೊಡುವುದಾದರೆ 3 ನೇ ಪ್ರಶ್ನೆಯನ್ನು ಆಯ್ದುಕೊಳ್ಳಿ.",null,null,null,null,null,null,null,null,null,null,null,null,null,null,"G:X32 - G:X34"]
[null,4,"B41 - ",null,"3 CAPÀದ 1 ¥Àæ±Éßಯ£ÀÄß DAiÀÄÄÝPÉÆ½î. ",null,null,null,null,null,null,null,null,null,null,null,null,null,null," G:X46"]
[null,5,"B50 - B51",null,"ªÁåPÀgÀt¢AzÀ §ºÀÄDAiÉÄÌAiÀÄ 2 ¥Àæ±ÉßUÀ¼À£ÀÄß DAiÀÄÄÝPÉÆ½î.",null,null,null,null,null,null,null,null,null,null,null,null,null,null,"G:X55 - G:X56"]
[null,6,"B68",null,"4 CAPÀUÀ¼À ¥ÀvÀæ¯ÉÃR£ÀzÀ 1 ¥Àæ±Éßಯ£ÀÄß DAiÀÄÄÝPÉÆ½î. ",null,null,null,null,null,null,null,null,null,null,null,null,null,null," G:X73"]
[null,7,"B70 -B71",null,"4 ಅಂಕಗಳ 2 ನಿಬಂಧವನ್ನು ಆಯ್ದುಕೊಂಡು  ಎರಡೂ ಪ್ರಶ್ನೆಗಳ ªÀÄÄA¢£À G PÁ®A£À°è C JAzÀÄ DAiÉÄÌ ªÀiÁrPÉÆ½î. ",null,null,null,null,null,null,null,null,null,null,null,null,null,null,"G:X75- G:X76"]
[]
[null,"90, 40 ಮತ್ತು 20 ಅಂಕಗಳಿಗೆ ಪ್ರಶ್ನೆ ಪತ್ರಿಕೆಗಳನ್ನು ಸಿದ್ಧಪಡಿಸುವಾಗ ಬೇರೆಡೆ ಕಾಪಿ ಮಾಡಿಕೊಂಡು ಸಿದ್ಧಪಡಿಸುವುದು. ಸೂಕ್ತ. ಏಕೆಂದರೆ ಬೇರೆ ಬೇರೆ ಅಂಕಗಳಿಗೆ ನೀಲ ನಕ್ಷೆ ತಯಾರಿಸುವಾಗ ಮೊದಲ ನೀಲ ನಕ್ಷೆಯನ್ನ ಕಳೆದುಕೊಳ್ಳುವಿರಿ.",null,null,"¥Àæ±ÉßUÀ¼À DAiÉÄÌAiÀÄ¯ÁèUÀ° ºÁUÀÆ ¥Àæ±Éß ¥ÀwæPÉAiÀÄ¯ÉèÃ DUÀ° §zÀ¯ÁªÀuÉ ªÀiÁqÀ®Ä CªÀPÁ±À«®è. ¥Àæ±ÉßUÀ¼À DAiÉÄÌAiÀÄ°è K£ÁzÀgÀÄ ªÀåvÁå¸À PÀAqÀÄ§AzÀ°è CzÀPÉÌ ¤Ã® £ÀPÉëAiÀÄ¯ÉèÃ ªÁåvÁå¸ÀªÁVgÀÄvÀÛzÉ. ¤Ã® £ÀPÉëAiÀÄ°è£À ªÀåvÁå¸ÀªÀ£ÀÄß ¸Àj¥Àr¸ÀÄªÀ ªÀÄÆ®PÀ ¥Àæ±ÉßUÀ¼À DAiÉÄÌAiÀÄ°è£À ºÁUÀÆ ¥Àæ±Éß ¥ÀwæPÉAiÀÄ°è£À ªÀåvÁå¸ÀªÀ£ÀÄß ¸Àj¥Àr¹PÉÆ½î. (¤Ã® £ÀPÉëAiÀÄ°è ¥ÁoÀzÀ ¸ÀASÉå, UÀzÀå,¥ÀzÀå, ªÁåPÀgÀt ( §ºÀÄ«PÀ°àÃAiÀÄ), ºÉÆA¢¹ §gÉAiÀÄÄªÀÅzÀÄ, EvÁå¢UÀ¼À ¥ÁoÀ ¸ÀASÉå ºÁUÀÆ ¥Àæ±ÉßUÀ¼À C£ÀÄPÀæªÀÄUÀ¼À°è ªÀåvÁå¸À«gÀÄvÀÛzÉ.) "]
[]
[null,null,null,null,null,null,null,"Prepared  By :"]
[null,null,null,null,null,null,null,"NAGALINGAIAH. Govt.P.U.COLLEGE (H.S)Gurugunta, TQ: Lingasugur"]
[null,null,null,null,null,null,null," District : Raichur"]
[null,null,null,null,null,null,null,"E Mail-  nagalingaiah.h@gmail.com"]
[null,null,null,null,null,null,null,"Mob: 9035172763, 7760399489"]

{"sheet":"Question paper 20 marks  ","index":6,"n_rows":33,"n_cols":5,"rows_kept":33,"cut":false,"hidden":false,"merged":[[25,1,25,4],[33,1,33,3],[26,0,26,3],[27,0,27,3],[28,1,28,3],[30,1,30,3],[31,1,31,3],[32,1,32,3],[1,2,1,4],[0,0,0,4],[6,1,6,4],[7,1,7,4],[14,2,14,3],[3,0,3,3],[4,0,4,3],[11,2,11,3],[12,2,12,3],[5,0,5,4],[9,0,9,4],[8,1,8,4],[16,1,16,4],[17,1,17,4],[18,1,18,4],[24,1,24,4],[13,2,13,3],[20,1,20,3],[21,0,21,3],[22,0,22,3],[15,0,15,4],[19,0,19,4],[23,0,23,4]]}
[{"$f":"'Entry sheet-1-hin'!C2","v":"सरकारी पदवि पूर्व कॉलेंज (प्रौ.शा.वि) गुरुगुंटा, ता : लिंगसुगूर"}]
[null,"प्रश्‍न पत्रिका - ",{"$f":"'Entry sheet-1-hin'!C3","v":"संकलनात्मक परीक्षा - १   २०१५-१६"}]
[{"$f":"'Entry sheet-1-hin'!C4","v":"9वीं "},{"$f":"'Entry sheet-1-hin'!C5","v":"हिंदी"},null,{"$f":"'Entry sheet-1-hin'!A6","v":" अंक"},{"$f":"'Entry sheet-1-hin'!C6","v":40}]
["खण्ड   “ क ”"]
["[ गद्य, पद्य और पूरक वाचन ]"]
["I.   निम्नलिखित प्रश्नों के उत्तर एक-एक वाक्य में लिखिए :-                                                  3 x 1 = 3"]
[{"$f":"IF(B7=\"\",\"\",1)","v":1},{"$f":"IF('Entry sheet-3-hin'!G14=\"\",\"\",'Entry sheet-3-hin'!G14)","v":"विवेकानंद कब अमरिका गये ?                                                               "}]
[{"$f":"IF(B8=\"\",\"\",A7+1)","v":2},{"$f":"IF('Entry sheet-3-hin'!G15=\"\",\"\",'Entry sheet-3-hin'!G15)","v":"बहन ने भाई के माथे पर क्या लगाया ?                                                             "}]
[{"$f":"IF(B9=\"\",\"\",A8+1)","v":3},{"$f":"IF('Entry sheet-3-hin'!G16=\"\",\"\",'Entry sheet-3-hin'!G16)","v":"मौसी का दुपट्टा कैसे था ?                                                                             "}]
["II. 4.  स्तम्भ ‘क’  के वाक्यांशों के साथ स्तम्भ ‘ख’  के सही वाक्यंशों को जोडकर लिखिए :-        2 X 1 = 2"]
[null,"   स्तम्भ ‘क’","   स्तम्भ ‘ख’"]
["अ",{"$f":"IF('Entry sheet-3-hin'!G22=\"\",\"\",'Entry sheet-3-hin'!G22)","v":"कुमारी नोबल                                                                  "},{"$f":"IF('Entry sheet-3-hin'!P22=\"\",\"\",'Entry sheet-3-hin'!P22)","v":"असहयोग चल रहा था ।"}]
["आ",{"$f":"IF('Entry sheet-3-hin'!G23=\"\",\"\",'Entry sheet-3-hin'!G23)","v":"हर हिस्सा दूसरे से "},{"$f":"IF('Entry sheet-3-hin'!P23=\"\",\"\",'Entry sheet-3-hin'!P23)","v":" धर्म परायण नारी     "}]
[null,null,{"$f":"IF('Entry sheet-3-hin'!P24=\"\",\"\",'Entry sheet-3-hin'!P24)","v":"  सिस्टर निवेदिता"}]
[null,null,{"$f":"IF('Entry sheet-3-hin'!P25=\"\",\"\",'Entry sheet-3-hin'!P25)","v":"असहयोग कर रहा था ।"}]
["III.   निम्नलिखित प्रश्नों के उत्तर दो या तीन वाक्यों में लिखिए :-                                          3 x 2 = 6"]
[{"$f":"IF(B17=\"\",\"\",A9+2)","v":5},{"$f":"IF('Entry sheet-3-hin'!G32=\"\",\"\",'Entry sheet-3-hin'!G32)","v":"विवेकानंद ने भारत वासियों को क्या उपदेश दिये ?                                     "}]
[{"$f":"IF(B18=\"\",\"\",A17+1)","v":6},{"$f":"IF('Entry sheet-3-hin'!G33=\"\",\"\",'Entry sheet-3-hin'!G33)","v":"बहन ने भाई को कैसे विधा की ?                                                                        "}]
[7,{"$f":"IF('Entry sheet-3-hin'!G34=\"\",\"\",'Entry sheet-3-hin'!G34)","v":"बस के बारे में डाक्टर मित्र ने लेखक से क्या कहा ?                                                         "}]
["IV.   निम्नलिखित प्रश्नों के उत्तर तीन - चार वाक्यों में लिखिए :-                                         1 x 3 = 3"]
[{"$f":"IF(B21=\"\",\"\",A19+1)","v":8},{"$f":"IF('Entry sheet-3-hin'!G46=\"\",\"\",'Entry sheet-3-hin'!G46)","v":"किसने किससे कहा ?  किस पाठ से लिया गाया है -  यह मेरा बेटा, यह मेरी बेटी ।"}]
["खण्ड   “ ख ”"]
["[ व्याकरण ]"]
["V.निम्नलिखित प्रश्नो के लिए चार-चार विकल्प दिए गए हैं, सही उत्तर चुनकर लिखिए :-    2 x 1 = 2"]
[{"$f":"IF(B25=\"\",\"\",A21+1)","v":9},{"$f":"IF('Entry sheet-3-hin'!G55=\"\",\"\",'Entry sheet-3-hin'!G55)","v":"‘बात’ का अन्यवचन रूप है -\n   अ) बात     आ) बातों    इ) बातें    ई) बाताएँ"}]
[{"$f":"IF(B26=\"\",\"\",A25+1)","v":10},{"$f":"IF('Entry sheet-3-hin'!G56=\"\",\"\",'Entry sheet-3-hin'!G56)","v":"‘ठहरना’ का द्वितीय प्रेरणार्थक क्रिया रूप है -\n   अ) ठहरना    आ) ठहराना      इ) ठहर     ई) ठहरवाना"}]
["खण्ड   “ ग ”"]
["[ रचना - ]"]
["VI.11.   ",{"$f":"IF('Entry sheet-3-hin'!G73=\"\",\"\",'Entry sheet-3-hin'!G73)","v":"अपनी पढ़ाई के बारे में बताते हुए अपने पिताजी को एक पत्र लिखिए ।"},null,null,4]
[null,"अथवा"]
[null,{"$f":"IF('Entry sheet-3-hin'!G75=\"\",\"\",'Entry sheet-3-hin'!G75)","v":"इंटर्नेट क्रांति          (अर्थ,  लाभ,  हानी,  उपसंहार)"}]
[null,{"$f":"IF('Entry sheet-3-hin'!G76=\"\",\"\",'Entry sheet-3-hin'!G76)","v":"त्योहारों का महत्व"}]
[null,"***************************************"]

{"sheet":"Entry sheet-3-hin","index":7,"n_rows":77,"n_cols":58,"rows_kept":77,"cut":false,"hidden":false,"merged":[[5,0,5,1],[6,0,6,1],[5,6,5,7],[6,6,6,7],[5,8,5,11],[0,18,0,19],[0,20,0,23],[3,20,3,23],[1,8,1,11],[2,8,2,11],[3,8,3,11],[4,8,4,11],[0,8,0,11],[0,12,0,13],[2,12,2,13],[3,12,3,13],[1,6,1,7],[2,6,2,7],[3,6,3,7],[4,6,4,7],[2,2,2,5],[3,2,3,5],[4,2,4,5],[5,2,5,5],[1,12,1,13],[1,0,1,1],[2,0,2,1],[3,0,3,1],[1,2,1,5],[0,2,0,5],[4,20,4,23],[4,12,4,13],[4,0,4,1],[1,20,1,23],[2,20,2,23],[0,0,0,1],[0,14,0,17],[1,14,1,17],[2,14,2,17],[3,14,3,17],[4,14,4,17],[1,18,1,19],[2,18,2,19],[3,18,3,19],[4,18,4,19],[0,6,0,7],[6,2,6,5],[12,2,12,5],[7,0,7,23],[8,0,8,1],[9,0,9,1],[10,0,10,1],[11,0,11,1],[6,8,6,11],[11,2,11,11],[11,12,11,22],[8,2,8,22],[9,2,9,22],[10,2,10,22],[20,6,20,23],[25,15,25,23],[26,15,26,23],[5,20,5,23],[6,20,6,23],[5,12,5,13],[6,12,6,13],[5,14,5,17],[6,14,6,17],[5,18,5,19],[6,18,6,19],[14,6,14,23],[15,6,15,23],[16,6,16,23],[17,6,17,23],[18,6,18,23],[13,6,13,23],[19,6,19,23],[27,6,27,23],[28,6,28,23],[29,6,29,23],[30,6,30,23],[31,6,31,23],[32,6,32,23],[33,6,33,23],[21,6,21,14],[21,15,21,23],[22,6,22,14],[22,15,22,23],[23,15,23,23],[24,15,24,23],[23,6,23,14],[24,6,24,14],[34,6,34,23],[35,6,35,23],[36,6,36,23],[37,6,37,23],[38,6,38,23],[39,6,39,23],[40,6,40,23],[41,6,41,23],[42,6,42,23],[59,6,59,23],[60,6,60,23],[43,6,43,23],[44,6,44,23],[45,6,45,23],[46,6,46,23],[47,6,47,23],[48,6,48,23],[49,6,49,23],[50,6,50,23],[51,6,51,23],[70,6,70,23],[71,6,71,23],[72,6,72,23],[73,6,73,23],[74,6,74,23],[75,6,75,23],[76,6,76,23],[12,6,12,23],[61,6,61,23],[62,6,62,23],[63,6,63,23],[64,6,64,23],[65,6,65,23],[66,6,66,23],[67,6,67,23],[68,6,68,23],[69,6,69,23],[52,6,52,23],[53,6,53,23],[54,6,54,23],[55,6,55,23],[56,6,56,23],[57,6,57,23],[58,6,58,23]]}
[]
[null,null,null,null,null,null,null,null,null,null,null,null,null,null,null,null,null,null,null,null,null,null,null,null,null,null,null,null,null,null,null,null,null,null,null,null,null,null,null,null,null,null,null,null,null,null,null,null,null,null,null,"स्म","सरल","बवि","ग",null,null,"C"]
[null,null,null,null,null,null,null,null,null,null,null,null,null,null,null,null,null,null,null,null,null,null,null,null,null,null,null,null,null,null,null,null,null,null,null,null,null,null,null,null,null,null,null,null,null,null,null,null,null,null,null,"सम","सामान्य","वनि","प"]
[null,null,null,null,null,null,null,null,null,null,null,null,null,null,null,null,null,null,null,null,null,null,null,null,null,null,null,null,null,null,null,null,null,null,null,null,null,null,null,null,null,null,null,null,null,null,null,null,null,null,null,"अ","कठिन","अलउ","व्या"]
[null,null,null,null,null,null,null,null,null,null,null,null,null,null,null,null,null,null,null,null,null,null,null,null,null,null,null,null,null,null,null,null,null,null,null,null,null,null,null,null,null,null,null,null,null,null,null,null,null,null,null,"रस",null,"लउ२","र"]
[null,null,null,null,null,null,null,null,null,null,null,null,null,null,null,null,null,null,null,null,null,null,null,null,null,null,null,null,null,null,null,null,null,null,null,null,null,null,null,null,null,null,null,null,null,null,null,null,null,null,null,null,null,"लउ३","पूवा"]
[null,null,null,null,null,null,null,null,null,null,null,null,null,null,null,null,null,null,null,null,null,null,null,null,null,null,null,null,null,null,null,null,null,null,null,null,null,null,null,null,null,null,null,null,null,null,null,null,null,null,null,null,null,"दीउ४"]
["उद्देश्‍यों के आधार पर कौन - सा प्रश्‍न किस उद्देश्‍य में आता है ? कुछ उदाहरण नीचे दिया गया है । इन प्रश्‍नों को आप तबदील कर सकते है । यह अनिवार्य नहीं है । मगर इससे  उद्देश्‍यों के आधार पर प्रश्‍न चुनने के लिए आसान होगा ।"]
[{"$f":"'Entry sheet-1-hin'!E10","v":"स्मरण रखना"},null,"पद्य, कौन,क्या,कब,कहाँ,किसमें,कौन सा,कितना,संज्ञा,सर्वनाम,लिंग,विशेषण,वचन,लेखनचिह्न आदि"]
[{"$f":"'Entry sheet-1-hin'!E11","v":"समझना"},null,"क्यों, कैसे, तुलना करना,अंतर बताना,संदर्भ,संधि,समास,प्रेरणार्थक क्रिया,मुहावरे,समानार्थक,विलोम आदि."]
[{"$f":"'Entry sheet-1-hin'!E12","v":"अभिव्यक्ति"},null,"पत्र,निबंध,किसे श्रेष्ठ मानते है? स्पष्ठ करो,पठित गद्य,अनुवाद,विवरण देना, अभिप्राय व्यक्त करना, ( दीर्घोत्तर प्रश्‍न)"]
[{"$f":"'Entry sheet-1-hin'!E13","v":"रसग्रहण"},null,"भावार्थ, कविता का आशय,कवि का आशय आदि",null,null,null,null,null,null,null,null,null,"प्रश्‍न पत्रिका के लिए प्रश्‍नों को नीचे चुन लीजिए\n",null,null,null,null,null,null,null,null,null,null,null,null,"PART+C","DIFF+C","OBJ+C","NO. OF QUESTIONS IN DIFF. TYPES","OBJECTIVES, DIFFICULTY LEVEL","PART OF THE SUBJECT","CHAPTER WISE MARKS CAL.","CHOICE","CHAPTER+OBJECTIVES","CHAPTER+QUESTIONS","CHAPTER+DIFFI","FINAL BLUE PRINT"]
["प्रश्‍न संख्या","पाठ की संख्या","पाठ की संख्या और प्रश्‍न का अभिकल्प",null,null,null,"c14 से F14 तक दिखनेवाले पाठों की संख्या और प्रश्‍नों के उद्देश्य, स्तर, प्रकार और विषय वस्तु के अधार पर नीचे प्रश्‍न चुन लीजिए "]
[{"$f":"'Entry sheet-2-hin'!A9","v":1},{"$f":"IF('Entry sheet-2-hin'!B9=\"\",\"\",'Entry sheet-2-hin'!B9)","v":1},{"$f":"IF('Entry sheet-2-hin'!C9=\"\",\"\",CONCATENATE(B14,'Entry sheet-2-hin'!C9))","v":"1स्म"},{"$f":"IF('Entry sheet-2-hin'!D9=\"\",\"\",CONCATENATE(B14,'Entry sheet-2-hin'!D9))","v":"1सरल"},{"$f":"IF('Entry sheet-2-hin'!E9=\"\",\"\",CONCATENATE(B14,'Entry sheet-2-hin'!E9))","v":"1अलउ"},{"$f":"IF('Entry sheet-2-hin'!F9=\"\",\"\",CONCATENATE(B14,'Entry sheet-2-hin'!F9))","v":"1ग"},"विवेकानंद कब अमरिका गये ?                                                               ",null,null,null,null,null,null,null,null,null,null,null,null,null,null,null,null,null,null,{"$f":"CONCATENATE(F14,L14)","v":"1ग"},{"$f":"CONCATENATE(D14,L14)","v":"1सरल"},{"$f":"CONCATENATE(C14,L14)","v":"1स्म"},{"$f":"CONCATENATE(E14,L14)","v":"1अलउ"},{"$f":"CONCATENATE(C14,D14,E14,L14)","v":"1स्म1सरल1अलउ"},{"$f":"CONCATENATE(E14,F14,L14)","v":"1अलउ1ग"},{"$f":"CONCATENATE(B14,E14,L14)","v":"11अलउ"},{"$f":"CONCATENATE(E14,L14)","v":"1अलउ"},{"$f":"CONCATENATE(B14,C14,L14)","v":"11स्म"},{"$f":"CONCATENATE(B14,E14,L14)","v":"11अलउ"},{"$f":"CONCATENATE(B14,D14,L14)","v":"11सरल"},{"$f":"CONCATENATE(B14,C14,E14,L14)","v":"11स्म1अलउ"}]
[{"$f":"IF(B15=\"\",\"\",IF(L15=\"c\",\"C\",MAX(A14:A14)+1))","v":2},{"$f":"IF('Entry sheet-2-hin'!B10=\"\",\"\",'Entry sheet-2-hin'!B10)","v":2},{"$f":"IF('Entry sheet-2-hin'!C10=\"\",\"\",CONCATENATE(B15,'Entry sheet-2-hin'!C10))","v":"2स्म"},{"$f":"IF('Entry sheet-2-hin'!D10=\"\",\"\",CONCATENATE(B15,'Entry sheet-2-hin'!D10))","v":"2सरल"},{"$f":"IF('Entry sheet-2-hin'!E10=\"\",\"\",CONCATENATE(B15,'Entry sheet-2-hin'!E10))","v":"2अलउ"},{"$f":"IF('Entry sheet-2-hin'!F10=\"\",\"\",CONCATENATE(B15,'Entry sheet-2-hin'!F10))","v":"2ग"},"बहन ने भाई के माथे पर क्या लगाया ?                                                             ",null,null,null,null,null,null,null,null,null,null,null,null,null,null,null,null,null,null,{"$f":"CONCATENATE(F15,L15)","v":"2ग"},{"$f":"CONCATENATE(D15,L15)","v":"2सरल"},{"$f":"CONCATENATE(C15,L15)","v":"2स्म"},{"$f":"CONCATENATE(E15,L15)","v":"2अलउ"},{"$f":"CONCATENATE(C15,D15,E15,L15)","v":"2स्म2सरल2अलउ"},{"$f":"CONCATENATE(E15,F15,L15)","v":"2अलउ2ग"},{"$f":"CONCATENATE(B15,E15,L15)","v":"22अलउ"},{"$f":"CONCATENATE(E15,L15)","v":"2अलउ"},{"$f":"CONCATENATE(B15,C15,L15)","v":"22स्म"},{"$f":"CONCATENATE(B15,E15,L15)","v":"22अलउ"},{"$f":"CONCATENATE(B15,D15,L15)","v":"22सरल"},{"$f":"CONCATENATE(B15,C15,E15,L15)","v":"22स्म2अलउ"}]
[{"$f":"IF(B32=\"\",\"\",IF(L16=\"c\",\"C\",MAX($A$14:A15)+1))","v":3},{"$f":"IF('Entry sheet-2-hin'!B11=\"\",\"\",'Entry sheet-2-hin'!B11)","v":4},{"$f":"IF('Entry sheet-2-hin'!C11=\"\",\"\",CONCATENATE(B16,'Entry sheet-2-hin'!C11))","v":"4सम"},{"$f":"IF('Entry sheet-2-hin'!D11=\"\",\"\",CONCATENATE(B16,'Entry sheet-2-hin'!D11))","v":"4सरल"},{"$f":"IF('Entry sheet-2-hin'!E11=\"\",\"\",CONCATENATE(B16,'Entry sheet-2-hin'!E11))","v":"4अलउ"},{"$f":"IF('Entry sheet-2-hin'!F11=\"\",\"\",CONCATENATE(B16,'Entry sheet-2-hin'!F11))","v":"4ग"},"मौसी का दुपट्टा कैसे था ?                                                                             ",null,null,null,null,null,null,null,null,null,null,null,null,null,null,null,null,null,null,"4ग","4सरल","4सम","4अलउ","4सम4सरल4अलउ","4अलउ4ग",{"$f":"CONCATENATE(B32,E16,L16)","v":"14अलउ"},"4अलउ",{"$f":"CONCATENATE(B32,C16,L16)","v":"14सम"},{"$f":"CONCATENATE(B32,E16,L16)","v":"14अलउ"},{"$f":"CONCATENATE(B32,D16,L16)","v":"14सरल"},{"$f":"CONCATENATE(B32,C16,E16,L16)","v":"14सम4अलउ"}]
[{"$f":"IF(B17=\"\",\"\",IF(L17=\"c\",\"C\",MAX($A$14:A16)+1))","v":4},{"$f":"IF('Entry sheet-2-hin'!B12=\"\",\"\",'Entry sheet-2-hin'!B12)","v":11},{"$f":"IF('Entry sheet-2-hin'!C12=\"\",\"\",CONCATENATE(B17,'Entry sheet-2-hin'!C12))","v":"11सम"},{"$f":"IF('Entry sheet-2-hin'!D12=\"\",\"\",CONCATENATE(B17,'Entry sheet-2-hin'!D12))","v":"11सामान्य"},{"$f":"IF('Entry sheet-2-hin'!E12=\"\",\"\",CONCATENATE(B17,'Entry sheet-2-hin'!E12))","v":"11अलउ"},{"$f":"IF('Entry sheet-2-hin'!F12=\"\",\"\",CONCATENATE(B17,'Entry sheet-2-hin'!F12))","v":"11प"},"भारत माता का हृदय कैसा है ?                                                                                                             ",null,null,null,null,null,null,null,null,null,null,null,null,null,null,null,null,null,null,"11प","11सामान्य","11सम","11अलउ","11सम11सामान्य11अलउ","11अलउ11प","1111अलउ","11अलउ","1111सम","1111अलउ","1111सामान्य","1111सम11अलउ"]
[{"$f":"IF(B18=\"\",\"\",IF(L18=\"c\",\"C\",MAX($A$14:A17)+1))","v":""},{"$f":"IF('Entry sheet-2-hin'!B13=\"\",\"\",'Entry sheet-2-hin'!B13)","v":""},{"$f":"IF('Entry sheet-2-hin'!C13=\"\",\"\",CONCATENATE(B18,'Entry sheet-2-hin'!C13))","v":""},{"$f":"IF('Entry sheet-2-hin'!D13=\"\",\"\",CONCATENATE(B18,'Entry sheet-2-hin'!D13))","v":""},{"$f":"IF('Entry sheet-2-hin'!E13=\"\",\"\",CONCATENATE(B18,'Entry sheet-2-hin'!E13))","v":""},{"$f":"IF('Entry sheet-2-hin'!F13=\"\",\"\",CONCATENATE(B18,'Entry sheet-2-hin'!F13))","v":""},null,null,null,null,null,null,null,null,null,null,null,null,null,null,null,null,null,null,null,"","","","","","","","","","","",""]
[{"$f":"IF(B19=\"\",\"\",IF(L19=\"c\",\"C\",MAX($A$14:A18)+1))","v":""},{"$f":"IF('Entry sheet-2-hin'!B14=\"\",\"\",'Entry sheet-2-hin'!B14)","v":""},{"$f":"IF('Entry sheet-2-hin'!C14=\"\",\"\",CONCATENATE(B19,'Entry sheet-2-hin'!C14))","v":""},{"$f":"IF('Entry sheet-2-hin'!D14=\"\",\"\",CONCATENATE(B19,'Entry sheet-2-hin'!D14))","v":""},{"$f":"IF('Entry sheet-2-hin'!E14=\"\",\"\",CONCATENATE(B19,'Entry sheet-2-hin'!E14))","v":""},{"$f":"IF('Entry sheet-2-hin'!F14=\"\",\"\",CONCATENATE(B19,'Entry sheet-2-hin'!F14))","v":""},null,null,null,null,null,null,null,null,null,null,null,null,null,null,null,null,null,null,null,"","","","","","","","","","","",""]
[{"$f":"IF(B20=\"\",\"\",IF(L20=\"c\",\"C\",MAX($A$14:A19)+1))","v":""},{"$f":"IF('Entry sheet-2-hin'!B15=\"\",\"\",'Entry sheet-2-hin'!B15)","v":""},{"$f":"IF('Entry sheet-2-hin'!C15=\"\",\"\",CONCATENATE(B20,'Entry sheet-2-hin'!C15))","v":""},{"$f":"IF('Entry sheet-2-hin'!D15=\"\",\"\",CONCATENATE(B20,'Entry sheet-2-hin'!D15))","v":""},{"$f":"IF('Entry sheet-2-hin'!E15=\"\",\"\",CONCATENATE(B20,'Entry sheet-2-hin'!E15))","v":""},{"$f":"IF('Entry sheet-2-hin'!F15=\"\",\"\",CONCATENATE(B20,'Entry sheet-2-hin'!F15))","v":""},null,null,null,null,null,null,null,null,null,null,null,null,null,null,null,null,null,null,null,"","","","","","","","","","","",""]
[{"$f":"IF(B21=\"\",\"\",IF(L21=\"c\",\"C\",MAX($A$14:A20)+1))","v":""},{"$f":"IF('Entry sheet-2-hin'!B16=\"\",\"\",'Entry sheet-2-hin'!B16)","v":""},{"$f":"IF('Entry sheet-2-hin'!C16=\"\",\"\",CONCATENATE(B21,'Entry sheet-2-hin'!C16))","v":""},{"$f":"IF('Entry sheet-2-hin'!D16=\"\",\"\",CONCATENATE(B21,'Entry sheet-2-hin'!D16))","v":""},{"$f":"IF('Entry sheet-2-hin'!E16=\"\",\"\",CONCATENATE(B21,'Entry sheet-2-hin'!E16))","v":""},{"$f":"IF('Entry sheet-2-hin'!F16=\"\",\"\",CONCATENATE(B21,'Entry sheet-2-hin'!F16))","v":""},null,null,null,null,null,null,null,null,null,null,null,null,null,null,null,null,null,null,null,"","","","","","","","","","","",""]
[{"$f":"IF(B22=\"\",\"\",IF(L22=\"c\",\"C\",MAX($A$14:A21)+1))","v":5},{"$f":"IF('Entry sheet-2-hin'!B17=\"\",\"\",'Entry sheet-2-hin'!B17)","v":1},{"$f":"IF('Entry sheet-2-hin'!C17=\"\",\"\",CONCATENATE(B22,'Entry sheet-2-hin'!C17))","v":"1सम"},{"$f":"IF('Entry sheet-2-hin'!D17=\"\",\"\",CONCATENATE(B22,'Entry sheet-2-hin'!D17))","v":"1सरल"},{"$f":"IF('Entry sheet-2-hin'!E17=\"\",\"\",CONCATENATE(B22,'Entry sheet-2-hin'!E17))","v":"1वनि"},{"$f":"IF('Entry sheet-2-hin'!F17=\"\",\"\",CONCATENATE(B22,'Entry sheet-2-hin'!F17))","v":"1ग"},"कुमारी नोबल                                                                  ",null,null,null,null,null,null,null,null,"असहयोग चल रहा था ।",null,null,null,null,null,null,null,null,null,"1ग","1सरल","1सम","1वनि","1सम1सरल1वनि","1वनि1ग","11वनि","1वनि","11सम","11वनि","11सरल","11सम1वनि"]
[{"$f":"IF(B23=\"\",\"\",IF(L23=\"c\",\"C\",MAX($A$14:A22)+1))","v":6},{"$f":"IF('Entry sheet-2-hin'!B18=\"\",\"\",'Entry sheet-2-hin'!B18)","v":3},{"$f":"IF('Entry sheet-2-hin'!C18=\"\",\"\",CONCATENATE(B23,'Entry sheet-2-hin'!C18))","v":"3सम"},{"$f":"IF('Entry sheet-2-hin'!D18=\"\",\"\",CONCATENATE(B23,'Entry sheet-2-hin'!D18))","v":"3सरल"},{"$f":"IF('Entry sheet-2-hin'!E18=\"\",\"\",CONCATENATE(B23,'Entry sheet-2-hin'!E18))","v":"3वनि"},{"$f":"IF('Entry sheet-2-hin'!F18=\"\",\"\",CONCATENATE(B23,'Entry sheet-2-hin'!F18))","v":"3ग"},"हर हिस्सा दूसरे से ",null,null,null,null,null,null,null,null," धर्म परायण नारी     ",null,null,null,null,null,null,null,null,null,"3ग","3सरल","3सम","3वनि","3सम3सरल3वनि","3वनि3ग","33वनि","3वनि","33सम","33वनि","33सरल","33सम3वनि"]
[null,{"$f":"IF('Entry sheet-2-hin'!B19=\"\",\"\",'Entry sheet-2-hin'!B19)","v":1},{"$f":"IF('Entry sheet-2-hin'!C19=\"\",\"\",CONCATENATE(B24,'Entry sheet-2-hin'!C19))","v":"1सम"},{"$f":"IF('Entry sheet-2-hin'!D19=\"\",\"\",CONCATENATE(B24,'Entry sheet-2-hin'!D19))","v":"1सरल"},{"$f":"IF('Entry sheet-2-hin'!E19=\"\",\"\",CONCATENATE(B24,'Entry sheet-2-hin'!E19))","v":"1वनि"},{"$f":"IF('Entry sheet-2-hin'!F19=\"\",\"\",CONCATENATE(B24,'Entry sheet-2-hin'!F19))","v":"1ग"},null,null,null,null,null,null,null,null,null,"  सिस्टर निवेदिता"]
[null,{"$f":"IF('Entry sheet-2-hin'!B20=\"\",\"\",'Entry sheet-2-hin'!B20)","v":3},{"$f":"IF('Entry sheet-2-hin'!C20=\"\",\"\",CONCATENATE(B25,'Entry sheet-2-hin'!C20))","v":"3सम"},{"$f":"IF('Entry sheet-2-hin'!D20=\"\",\"\",CONCATENATE(B25,'Entry sheet-2-hin'!D20))","v":"3सरल"},{"$f":"IF('Entry sheet-2-hin'!E20=\"\",\"\",CONCATENATE(B25,'Entry sheet-2-hin'!E20))","v":"3वनि"},{"$f":"IF('Entry sheet-2-hin'!F20=\"\",\"\",CONCATENATE(B25,'Entry sheet-2-hin'!F20))","v":"3ग"},null,null,null,null,null,null,null,null,null,"असहयोग कर रहा था ।"]
[{"$f":"IF(B26=\"\",\"\",IF(L26=\"c\",\"C\",MAX($A$14:A23)+1))","v":""},{"$f":"IF('Entry sheet-2-hin'!B21=\"\",\"\",'Entry sheet-2-hin'!B21)","v":""},{"$f":"IF('Entry sheet-2-hin'!C21=\"\",\"\",CONCATENATE(B26,'Entry sheet-2-hin'!C21))","v":""},{"$f":"IF('Entry sheet-2-hin'!D21=\"\",\"\",CONCATENATE(B26,'Entry sheet-2-hin'!D21))","v":""},{"$f":"IF('Entry sheet-2-hin'!E21=\"\",\"\",CONCATENATE(B26,'Entry sheet-2-hin'!E21))","v":""},{"$f":"IF('Entry sheet-2-hin'!F21=\"\",\"\",CONCATENATE(B26,'Entry sheet-2-hin'!F21))","v":""},null,null,null,null,null,null,null,null,null,null,null,null,null,null,null,null,null,null,null,"","","","","","","","","","","",""]
[{"$f":"IF(B27=\"\",\"\",IF(L27=\"c\",\"C\",MAX($A$14:A26)+1))","v":""},{"$f":"IF('Entry sheet-2-hin'!B22=\"\",\"\",'Entry sheet-2-hin'!B22)","v":""},{"$f":"IF('Entry sheet-2-hin'!C22=\"\",\"\",CONCATENATE(B27,'Entry sheet-2-hin'!C22))","v":""},{"$f":"IF('Entry sheet-2-hin'!D22=\"\",\"\",CONCATENATE(B27,'Entry sheet-2-hin'!D22))","v":""},{"$f":"IF('Entry sheet-2-hin'!E22=\"\",\"\",CONCATENATE(B27,'Entry sheet-2-hin'!E22))","v":""},{"$f":"IF('Entry sheet-2-hin'!F22=\"\",\"\",CONCATENATE(B27,'Entry sheet-2-hin'!F22))","v":""},null,null,null,null,null,null,null,null,null,null,null,null,null,null,null,null,null,null,null,"","","","","","","","","","","",""]
[{"$f":"IF(B28=\"\",\"\",IF(L28=\"c\",\"C\",MAX($A$14:A27)+1))","v":7},{"$f":"IF('Entry sheet-2-hin'!B23=\"\",\"\",'Entry sheet-2-hin'!B23)","v":3},{"$f":"IF('Entry sheet-2-hin'!C23=\"\",\"\",CONCATENATE(B28,'Entry sheet-2-hin'!C23))","v":"3सम"},{"$f":"IF('Entry sheet-2-hin'!D23=\"\",\"\",CONCATENATE(B28,'Entry sheet-2-hin'!D23))","v":"3सामान्य"},{"$f":"IF('Entry sheet-2-hin'!E23=\"\",\"\",CONCATENATE(B28,'Entry sheet-2-hin'!E23))","v":"3वनि"},{"$f":"IF('Entry sheet-2-hin'!F23=\"\",\"\",CONCATENATE(B28,'Entry sheet-2-hin'!F23))","v":"3ग"},"बाहुबली : डॉ. हिरण्मय :: बस की यात्रा :------",null,null,null,null,null,null,null,null,null,null,null,null,null,null,null,null,null,null,"3ग","3सामान्य","3सम","3वनि","3सम3सामान्य3वनि","3वनि3ग","33वनि","3वनि","33सम","33वनि","33सामान्य","33सम3वनि"]
[{"$f":"IF(B29=\"\",\"\",IF(L29=\"c\",\"C\",MAX($A$14:A28)+1))","v":8},{"$f":"IF('Entry sheet-2-hin'!B24=\"\",\"\",'Entry sheet-2-hin'!B24)","v":4},{"$f":"IF('Entry sheet-2-hin'!C24=\"\",\"\",CONCATENATE(B29,'Entry sheet-2-hin'!C24))","v":"4सम"},{"$f":"IF('Entry sheet-2-hin'!D24=\"\",\"\",CONCATENATE(B29,'Entry sheet-2-hin'!D24))","v":"4सामान्य"},{"$f":"IF('Entry sheet-2-hin'!E24=\"\",\"\",CONCATENATE(B29,'Entry sheet-2-hin'!E24))","v":"4वनि"},{"$f":"IF('Entry sheet-2-hin'!F24=\"\",\"\",CONCATENATE(B29,'Entry sheet-2-hin'!F24))","v":"4ग"},"योगराज अपने घर से  : एक कटोरा दूध लाया :: गोपाल अपने घर से :--",null,null,null,null,null,null,null,null,null,null,null,null,null,null,null,null,null,null,"4ग","4सामान्य","4सम","4वनि","4सम4सामान्य4वनि","4वनि4ग","44वनि","4वनि","44सम","44वनि","44सामान्य","44सम4वनि"]
[{"$f":"IF(B30=\"\",\"\",IF(L30=\"c\",\"C\",MAX($A$14:A29)+1))","v":""},{"$f":"IF('Entry sheet-2-hin'!B25=\"\",\"\",'Entry sheet-2-hin'!B25)","v":""},{"$f":"IF('Entry sheet-2-hin'!C25=\"\",\"\",CONCATENATE(B30,'Entry sheet-2-hin'!C25))","v":""},{"$f":"IF('Entry sheet-2-hin'!D25=\"\",\"\",CONCATENATE(B30,'Entry sheet-2-hin'!D25))","v":""},{"$f":"IF('Entry sheet-2-hin'!E25=\"\",\"\",CONCATENATE(B30,'Entry sheet-2-hin'!E25))","v":""},{"$f":"IF('Entry sheet-2-hin'!F25=\"\",\"\",CONCATENATE(B30,'Entry sheet-2-hin'!F25))","v":""},null,null,null,null,null,null,null,null,null,null,null,null,null,null,null,null,null,null,null,"","","","","","","","","","","",""]
[{"$f":"IF(B31=\"\",\"\",IF(L31=\"c\",\"C\",MAX($A$14:A30)+1))","v":""},{"$f":"IF('Entry sheet-2-hin'!B26=\"\",\"\",'Entry sheet-2-hin'!B26)","v":""},{"$f":"IF('Entry sheet-2-hin'!C26=\"\",\"\",CONCATENATE(B31,'Entry sheet-2-hin'!C26))","v":""},{"$f":"IF('Entry sheet-2-hin'!D26=\"\",\"\",CONCATENATE(B31,'Entry sheet-2-hin'!D26))","v":""},{"$f":"IF('Entry sheet-2-hin'!E26=\"\",\"\",CONCATENATE(B31,'Entry sheet-2-hin'!E26))","v":""},{"$f":"IF('Entry sheet-2-hin'!F26=\"\",\"\",CONCATENATE(B31,'Entry sheet-2-hin'!F26))","v":""},null,null,null,null,null,null,null,null,null,null,null,null,null,null,null,null,null,null,null,"","","","","","","","","","","",""]
[{"$f":"IF(B32=\"\",\"\",IF(L32=\"c\",\"C\",MAX($A$14:A31)+1))","v":9},{"$f":"IF('Entry sheet-2-hin'!B27=\"\",\"\",'Entry sheet-2-hin'!B27)","v":1},{"$f":"IF('Entry sheet-2-hin'!C27=\"\",\"\",CONCATENATE(B32,'Entry sheet-2-hin'!C27))","v":"1अ"},{"$f":"IF('Entry sheet-2-hin'!D27=\"\",\"\",CONCATENATE(B32,'Entry sheet-2-hin'!D27))","v":"1सरल"},{"$f":"IF('Entry sheet-2-hin'!E27=\"\",\"\",CONCATENATE(B32,'Entry sheet-2-hin'!E27))","v":"1लउ२"},{"$f":"IF('Entry sheet-2-hin'!F27=\"\",\"\",CONCATENATE(B32,'Entry sheet-2-hin'!F27))","v":"1ग"},"विवेकानंद ने भारत वासियों को क्या उपदेश दिये ?                                     ",null,null,null,null,null,null,null,null,null,null,null,null,null,null,null,null,null,null,"1ग","1सरल","1अ","1लउ२","1अ1सरल1लउ२","1लउ२1ग","11लउ२","1लउ२","11अ","11लउ२","11सरल","11अ1लउ२"]
[{"$f":"IF(B33=\"\",\"\",IF(L33=\"c\",\"C\",MAX($A$14:A32)+1))","v":10},{"$f":"IF('Entry sheet-2-hin'!B28=\"\",\"\",'Entry sheet-2-hin'!B28)","v":2},{"$f":"IF('Entry sheet-2-hin'!C28=\"\",\"\",CONCATENATE(B33,'Entry sheet-2-hin'!C28))","v":"2अ"},{"$f":"IF('Entry sheet-2-hin'!D28=\"\",\"\",CONCATENATE(B33,'Entry sheet-2-hin'!D28))","v":"2सामान्य"},{"$f":"IF('Entry sheet-2-hin'!E28=\"\",\"\",CONCATENATE(B33,'Entry sheet-2-hin'!E28))","v":"2लउ२"},{"$f":"IF('Entry sheet-2-hin'!F28=\"\",\"\",CONCATENATE(B33,'Entry sheet-2-hin'!F28))","v":"2ग"},"बहन ने भाई को कैसे विधा की ?                                                                        ",null,null,null,null,null,null,null,null,null,null,null,null,null,null,null,null,null,null,"2ग","2सामान्य","2अ","2लउ२","2अ2सामान्य2लउ२","2लउ२2ग","22लउ२","2लउ२","22अ","22लउ२","22सामान्य","22अ2लउ२"]
[{"$f":"IF(B34=\"\",\"\",IF(L34=\"c\",\"C\",MAX($A$14:A33)+1))","v":11},{"$f":"IF('Entry sheet-2-hin'!B29=\"\",\"\",'Entry sheet-2-hin'!B29)","v":3},{"$f":"IF('Entry sheet-2-hin'!C29=\"\",\"\",CONCATENATE(B34,'Entry sheet-2-hin'!C29))","v":"3अ"},{"$f":"IF('Entry sheet-2-hin'!D29=\"\",\"\",CONCATENATE(B34,'Entry sheet-2-hin'!D29))","v":"3सामान्य"},{"$f":"IF('Entry sheet-2-hin'!E29=\"\",\"\",CONCATENATE(B34,'Entry sheet-2-hin'!E29))","v":"3लउ२"},{"$f":"IF('Entry sheet-2-hin'!F29=\"\",\"\",CONCATENATE(B34,'Entry sheet-2-hin'!F29))","v":"3ग"},"बस के बारे में डाक्टर मित्र ने लेखक से क्या कहा ?                                                         ",null,null,null,null,null,null,null,null,null,null,null,null,null,null,null,null,null,null,"3ग","3सामान्य","3अ","3लउ२","3अ3सामान्य3लउ२","3लउ२3ग","33लउ२","3लउ२","33अ","33लउ२","33सामान्य","33अ3लउ२"]
[{"$f":"IF(B35=\"\",\"\",IF(L35=\"c\",\"C\",MAX($A$14:A34)+1))","v":12},{"$f":"IF('Entry sheet-2-hin'!B30=\"\",\"\",'Entry sheet-2-hin'!B30)","v":11},{"$f":"IF('Entry sheet-2-hin'!C30=\"\",\"\",CONCATENATE(B35,'Entry sheet-2-hin'!C30))","v":"11अ"},{"$f":"IF('Entry sheet-2-hin'!D30=\"\",\"\",CONCATENATE(B35,'Entry sheet-2-hin'!D30))","v":"11सामान्य"},{"$f":"IF('Entry sheet-2-hin'!E30=\"\",\"\",CONCATENATE(B35,'Entry sheet-2-hin'!E30))","v":"11लउ२"},{"$f":"IF('Entry sheet-2-hin'!F30=\"\",\"\",CONCATENATE(B35,'Entry sheet-2-hin'!F30))","v":"11प"},"हिमालय के बारे में कवि की भावना क्या है ?                                                                                                        ",null,null,null,null,null,null,null,null,null,null,null,null,null,null,null,null,null,null,"11प","11सामान्य","11अ","11लउ२","11अ11सामान्य11लउ२","11लउ२11प","1111लउ२","11लउ२","1111अ","1111लउ२","1111सामान्य","1111अ11लउ२"]
[{"$f":"IF(B36=\"\",\"\",IF(L36=\"c\",\"C\",MAX($A$14:A35)+1))","v":13},{"$f":"IF('Entry sheet-2-hin'!B31=\"\",\"\",'Entry sheet-2-hin'!B31)","v":17},{"$f":"IF('Entry sheet-2-hin'!C31=\"\",\"\",CONCATENATE(B36,'Entry sheet-2-hin'!C31))","v":"17स्म"},{"$f":"IF('Entry sheet-2-hin'!D31=\"\",\"\",CONCATENATE(B36,'Entry sheet-2-hin'!D31))","v":"17सामान्य"},{"$f":"IF('Entry sheet-2-hin'!E31=\"\",\"\",CONCATENATE(B36,'Entry sheet-2-hin'!E31))","v":"17लउ२"},{"$f":"IF('Entry sheet-2-hin'!F31=\"\",\"\",CONCATENATE(B36,'Entry sheet-2-hin'!F31))","v":"17पूवा"},"कजाकी के साथ लेखक के क्षन कैसे बीतते थे ?",null,null,null,null,null,null,null,null,null,null,null,null,null,null,null,null,null,null,"17पूवा","17सामान्य","17स्म","17लउ२","17स्म17सामान्य17लउ२","17लउ२17पूवा","1717लउ२","17लउ२","1717स्म","1717लउ२","1717सामान्य","1717स्म17लउ२"]
[{"$f":"IF(B37=\"\",\"\",IF(L37=\"c\",\"C\",MAX($A$14:A36)+1))","v":14},{"$f":"IF('Entry sheet-2-hin'!B32=\"\",\"\",'Entry sheet-2-hin'!B32)","v":17},{"$f":"IF('Entry sheet-2-hin'!C32=\"\",\"\",CONCATENATE(B37,'Entry sheet-2-hin'!C32))","v":"17स्म"},{"$f":"IF('Entry sheet-2-hin'!D32=\"\",\"\",CONCATENATE(B37,'Entry sheet-2-hin'!D32))","v":"17सामान्य"},{"$f":"IF('Entry sheet-2-hin'!E32=\"\",\"\",CONCATENATE(B37,'Entry sheet-2-hin'!E32))","v":"17लउ२"},{"$f":"IF('Entry sheet-2-hin'!F32=\"\",\"\",CONCATENATE(B37,'Entry sheet-2-hin'!F32))","v":"17पूवा"},"एक दिन कजाकी डाकखाने देर से पसूँचा । क्यों ?",null,null,null,null,null,null,null,null,null,null,null,null,null,null,null,null,null,null,"17पूवा","17सामान्य","17स्म","17लउ२","17स्म17सामान्य17लउ२","17लउ२17पूवा","1717लउ२","17लउ२","1717स्म","1717लउ२","1717सामान्य","1717स्म17लउ२"]
[{"$f":"IF(B38=\"\",\"\",IF(L38=\"c\",\"C\",MAX($A$14:A37)+1))","v":""},{"$f":"IF('Entry sheet-2-hin'!B33=\"\",\"\",'Entry sheet-2-hin'!B33)","v":""},{"$f":"IF('Entry sheet-2-hin'!C33=\"\",\"\",CONCATENATE(B38,'Entry sheet-2-hin'!C33))","v":""},{"$f":"IF('Entry sheet-2-hin'!D33=\"\",\"\",CONCATENATE(B38,'Entry sheet-2-hin'!D33))","v":""},{"$f":"IF('Entry sheet-2-hin'!E33=\"\",\"\",CONCATENATE(B38,'Entry sheet-2-hin'!E33))","v":""},{"$f":"IF('Entry sheet-2-hin'!F33=\"\",\"\",CONCATENATE(B38,'Entry sheet-2-hin'!F33))","v":""},null,null,null,null,null,null,null,null,null,null,null,null,null,null,null,null,null,null,null,"","","","","","","","","","","",""]
[{"$f":"IF(B39=\"\",\"\",IF(L39=\"c\",\"C\",MAX($A$14:A38)+1))","v":""},{"$f":"IF('Entry sheet-2-hin'!B34=\"\",\"\",'Entry sheet-2-hin'!B34)","v":""},{"$f":"IF('Entry sheet-2-hin'!C34=\"\",\"\",CONCATENATE(B39,'Entry sheet-2-hin'!C34))","v":""},{"$f":"IF('Entry sheet-2-hin'!D34=\"\",\"\",CONCATENATE(B39,'Entry sheet-2-hin'!D34))","v":""},{"$f":"IF('Entry sheet-2-hin'!E34=\"\",\"\",CONCATENATE(B39,'Entry sheet-2-hin'!E34))","v":""},{"$f":"IF('Entry sheet-2-hin'!F34=\"\",\"\",CONCATENATE(B39,'Entry sheet-2-hin'!F34))","v":""},null,null,null,null,null,null,null,null,null,null,null,null,null,null,null,null,null,null,null,"","","","","","","","","","","",""]
[{"$f":"IF(B40=\"\",\"\",IF(L40=\"c\",\"C\",MAX($A$14:A39)+1))","v":""},{"$f":"IF('Entry sheet-2-hin'!B35=\"\",\"\",'Entry sheet-2-hin'!B35)","v":""},{"$f":"IF('Entry sheet-2-hin'!C35=\"\",\"\",CONCATENATE(B40,'Entry sheet-2-hin'!C35))","v":""},{"$f":"IF('Entry sheet-2-hin'!D35=\"\",\"\",CONCATENATE(B40,'Entry sheet-2-hin'!D35))","v":""},{"$f":"IF('Entry sheet-2-hin'!E35=\"\",\"\",CONCATENATE(B40,'Entry sheet-2-hin'!E35))","v":""},{"$f":"IF('Entry sheet-2-hin'!F35=\"\",\"\",CONCATENATE(B40,'Entry sheet-2-hin'!F35))","v":""},null,null,null,null,null,null,null,null,null,null,null,null,null,null,null,null,null,null,null,"","","","","","","","","","","",""]
[{"$f":"IF(B41=\"\",\"\",IF(L41=\"c\",\"C\",MAX($A$14:A40)+1))","v":""},{"$f":"IF('Entry sheet-2-hin'!B36=\"\",\"\",'Entry sheet-2-hin'!B36)","v":""},{"$f":"IF('Entry sheet-2-hin'!C36=\"\",\"\",CONCATENATE(B41,'Entry sheet-2-hin'!C36))","v":""},{"$f":"IF('Entry sheet-2-hin'!D36=\"\",\"\",CONCATENATE(B41,'Entry sheet-2-hin'!D36))","v":""},{"$f":"IF('Entry sheet-2-hin'!E36=\"\",\"\",CONCATENATE(B41,'Entry sheet-2-hin'!E36))","v":""},{"$f":"IF('Entry sheet-2-hin'!F36=\"\",\"\",CONCATENATE(B41,'Entry sheet-2-hin'!F36))","v":""},null,null,null,null,null,null,null,null,null,null,null,null,null,null,null,null,null,null,null,"","","","","","","","","","","",""]
[{"$f":"IF(B42=\"\",\"\",IF(L42=\"c\",\"C\",MAX($A$14:A41)+1))","v":""},{"$f":"IF('Entry sheet-2-hin'!B37=\"\",\"\",'Entry sheet-2-hin'!B37)","v":""},{"$f":"IF('Entry sheet-2-hin'!C37=\"\",\"\",CONCATENATE(B42,'Entry sheet-2-hin'!C37))","v":""},{"$f":"IF('Entry sheet-2-hin'!D37=\"\",\"\",CONCATENATE(B42,'Entry sheet-2-hin'!D37))","v":""},{"$f":"IF('Entry sheet-2-hin'!E37=\"\",\"\",CONCATENATE(B42,'Entry sheet-2-hin'!E37))","v":""},{"$f":"IF('Entry sheet-2-hin'!F37=\"\",\"\",CONCATENATE(B42,'Entry sheet-2-hin'!F37))","v":""},null,null,null,null,null,null,null,null,null,null,null,null,null,null,null,null,null,null,null,"","","","","","","","","","","",""]
[{"$f":"IF(B43=\"\",\"\",IF(L43=\"c\",\"C\",MAX($A$14:A42)+1))","v":""},{"$f":"IF('Entry sheet-2-hin'!B38=\"\",\"\",'Entry sheet-2-hin'!B38)","v":""},{"$f":"IF('Entry sheet-2-hin'!C38=\"\",\"\",CONCATENATE(B43,'Entry sheet-2-hin'!C38))","v":""},{"$f":"IF('Entry sheet-2-hin'!D38=\"\",\"\",CONCATENATE(B43,'Entry sheet-2-hin'!D38))","v":""},{"$f":"IF('Entry sheet-2-hin'!E38=\"\",\"\",CONCATENATE(B43,'Entry sheet-2-hin'!E38))","v":""},{"$f":"IF('Entry sheet-2-hin'!F38=\"\",\"\",CONCATENATE(B43,'Entry sheet-2-hin'!F38))","v":""},null,null,null,null,null,null,null,null,null,null,null,null,null,null,null,null,null,null,null,"","","","","","","","","","","",""]
[{"$f":"IF(B44=\"\",\"\",IF(L44=\"c\",\"C\",MAX($A$14:A43)+1))","v":""},{"$f":"IF('Entry sheet-2-hin'!B39=\"\",\"\",'Entry sheet-2-hin'!B39)","v":""},{"$f":"IF('Entry sheet-2-hin'!C39=\"\",\"\",CONCATENATE(B44,'Entry sheet-2-hin'!C39))","v":""},{"$f":"IF('Entry sheet-2-hin'!D39=\"\",\"\",CONCATENATE(B44,'Entry sheet-2-hin'!D39))","v":""},{"$f":"IF('Entry sheet-2-hin'!E39=\"\",\"\",CONCATENATE(B44,'Entry sheet-2-hin'!E39))","v":""},{"$f":"IF('Entry sheet-2-hin'!F39=\"\",\"\",CONCATENATE(B44,'Entry sheet-2-hin'!F39))","v":""},null,null,null,null,null,null,null,null,null,null,null,null,null,null,null,null,null,null,null,"","","","","","","","","","","",""]
[{"$f":"IF(B45=\"\",\"\",IF(L45=\"c\",\"C\",MAX($A$14:A44)+1))","v":""},{"$f":"IF('Entry sheet-2-hin'!B40=\"\",\"\",'Entry sheet-2-hin'!B40)","v":""},{"$f":"IF('Entry sheet-2-hin'!C40=\"\",\"\",CONCATENATE(B45,'Entry sheet-2-hin'!C40))","v":""},{"$f":"IF('Entry sheet-2-hin'!D40=\"\",\"\",CONCATENATE(B45,'Entry sheet-2-hin'!D40))","v":""},{"$f":"IF('Entry sheet-2-hin'!E40=\"\",\"\",CONCATENATE(B45,'Entry sheet-2-hin'!E40))","v":""},{"$f":"IF('Entry sheet-2-hin'!F40=\"\",\"\",CONCATENATE(B45,'Entry sheet-2-hin'!F40))","v":""},null,null,null,null,null,null,null,null,null,null,null,null,null,null,null,null,null,null,null,"","","","","","","","","","","",""]
[{"$f":"IF(B46=\"\",\"\",IF(L46=\"c\",\"C\",MAX($A$14:A45)+1))","v":15},{"$f":"IF('Entry sheet-2-hin'!B41=\"\",\"\",'Entry sheet-2-hin'!B41)","v":4},{"$f":"IF('Entry sheet-2-hin'!C41=\"\",\"\",CONCATENATE(B46,'Entry sheet-2-hin'!C41))","v":"4सम"},{"$f":"IF('Entry sheet-2-hin'!D41=\"\",\"\",CONCATENATE(B46,'Entry sheet-2-hin'!D41))","v":"4सामान्य"},{"$f":"IF('Entry sheet-2-hin'!E41=\"\",\"\",CONCATENATE(B46,'Entry sheet-2-hin'!E41))","v":"4लउ३"},{"$f":"IF('Entry sheet-2-hin'!F41=\"\",\"\",CONCATENATE(B46,'Entry sheet-2-hin'!F41))","v":"4ग"},"किसने किससे कहा ?  किस पाठ से लिया गाया है -  यह मेरा बेटा, यह मेरी बेटी ।",null,null,null,null,null,null,null,null,null,null,null,null,null,null,null,null,null,null,"4ग","4सामान्य","4सम","4लउ३","4सम4सामान्य4लउ३","4लउ३4ग","44लउ३","4लउ३","44सम","44लउ३","44सामान्य","44सम4लउ३"]
[{"$f":"IF(B47=\"\",\"\",IF(L47=\"c\",\"C\",MAX($A$14:A46)+1))","v":16},{"$f":"IF('Entry sheet-2-hin'!B42=\"\",\"\",'Entry sheet-2-hin'!B42)","v":13},{"$f":"IF('Entry sheet-2-hin'!C42=\"\",\"\",CONCATENATE(B47,'Entry sheet-2-hin'!C42))","v":"13रस"},{"$f":"IF('Entry sheet-2-hin'!D42=\"\",\"\",CONCATENATE(B47,'Entry sheet-2-hin'!D42))","v":"13कठिन"},{"$f":"IF('Entry sheet-2-hin'!E42=\"\",\"\",CONCATENATE(B47,'Entry sheet-2-hin'!E42))","v":"13लउ३"},{"$f":"IF('Entry sheet-2-hin'!F42=\"\",\"\",CONCATENATE(B47,'Entry sheet-2-hin'!F42))","v":"13प"},"निम्नलिखित कवितांश का भावार्थ भावार्थ लिखिए ।\n  फुलों - सा महकूँ मैं\n  विहगों - सा चहकूँ मैं\n  गुंजरित कर वन-उपवन\n  कोयल - सा कुहुकूँ मैं\n  मेरी अभीलाषा है ।\n                                ",null,null,null,null,null,null,null,null,null,null,null,null,null,null,null,null,null,null,"13प","13कठिन","13रस","13लउ३","13रस13कठिन13लउ३","13लउ३13प","1313लउ३","13लउ३","1313रस","1313लउ३","1313कठिन","1313रस13लउ३"]
[{"$f":"IF(B48=\"\",\"\",IF(L48=\"c\",\"C\",MAX($A$14:A47)+1))","v":""},{"$f":"IF('Entry sheet-2-hin'!B43=\"\",\"\",'Entry sheet-2-hin'!B43)","v":""},{"$f":"IF('Entry sheet-2-hin'!C43=\"\",\"\",CONCATENATE(B48,'Entry sheet-2-hin'!C43))","v":""},{"$f":"IF('Entry sheet-2-hin'!D43=\"\",\"\",CONCATENATE(B48,'Entry sheet-2-hin'!D43))","v":""},{"$f":"IF('Entry sheet-2-hin'!E43=\"\",\"\",CONCATENATE(B48,'Entry sheet-2-hin'!E43))","v":""},{"$f":"IF('Entry sheet-2-hin'!F43=\"\",\"\",CONCATENATE(B48,'Entry sheet-2-hin'!F43))","v":""},null,null,null,null,null,null,null,null,null,null,null,null,null,null,null,null,null,null,null,"","","","","","","","","","","",""]
[{"$f":"IF(B49=\"\",\"\",IF(L49=\"c\",\"C\",MAX($A$14:A48)+1))","v":""},{"$f":"IF('Entry sheet-2-hin'!B44=\"\",\"\",'Entry sheet-2-hin'!B44)","v":""},{"$f":"IF('Entry sheet-2-hin'!C44=\"\",\"\",CONCATENATE(B49,'Entry sheet-2-hin'!C44))","v":""},{"$f":"IF('Entry sheet-2-hin'!D44=\"\",\"\",CONCATENATE(B49,'Entry sheet-2-hin'!D44))","v":""},{"$f":"IF('Entry sheet-2-hin'!E44=\"\",\"\",CONCATENATE(B49,'Entry sheet-2-hin'!E44))","v":""},{"$f":"IF('Entry sheet-2-hin'!F44=\"\",\"\",CONCATENATE(B49,'Entry sheet-2-hin'!F44))","v":""},null,null,null,null,null,null,null,null,null,null,null,null,null,null,null,null,null,null,null,"","","","","","","","","","","",""]
[{"$f":"IF(B50=\"\",\"\",IF(L50=\"c\",\"C\",MAX($A$14:A49)+1))","v":""},{"$f":"IF('Entry sheet-2-hin'!B45=\"\",\"\",'Entry sheet-2-hin'!B45)","v":""},{"$f":"IF('Entry sheet-2-hin'!C45=\"\",\"\",CONCATENATE(B50,'Entry sheet-2-hin'!C45))","v":""},{"$f":"IF('Entry sheet-2-hin'!D45=\"\",\"\",CONCATENATE(B50,'Entry sheet-2-hin'!D45))","v":""},{"$f":"IF('Entry sheet-2-hin'!E45=\"\",\"\",CONCATENATE(B50,'Entry sheet-2-hin'!E45))","v":""},{"$f":"IF('Entry sheet-2-hin'!F45=\"\",\"\",CONCATENATE(B50,'Entry sheet-2-hin'!F45))","v":""},null,null,null,null,null,null,null,null,null,null,null,null,null,null,null,null,null,null,null,"","","","","","","","","","","",""]
[{"$f":"IF(B51=\"\",\"\",IF(L51=\"c\",\"C\",MAX($A$14:A50)+1))","v":17},{"$f":"IF('Entry sheet-2-hin'!B46=\"\",\"\",'Entry sheet-2-hin'!B46)","v":1},{"$f":"IF('Entry sheet-2-hin'!C46=\"\",\"\",CONCATENATE(B51,'Entry sheet-2-hin'!C46))","v":"1स्म"},{"$f":"IF('Entry sheet-2-hin'!D46=\"\",\"\",CONCATENATE(B51,'Entry sheet-2-hin'!D46))","v":"1सामान्य"},{"$f":"IF('Entry sheet-2-hin'!E46=\"\",\"\",CONCATENATE(B51,'Entry sheet-2-hin'!E46))","v":"1दीउ४"},{"$f":"IF('Entry sheet-2-hin'!F46=\"\",\"\",CONCATENATE(B51,'Entry sheet-2-hin'!F46))","v":"1प"},"शिकागो नगर के सर्वधर्म सम्मेलन के बारे में लिखिए ।",null,null,null,null,null,null,null,null,null,null,null,null,null,null,null,null,null,null,"1प","1सामान्य","1स्म","1दीउ४","1स्म1सामान्य1दीउ४","1दीउ४1प","11दीउ४","1दीउ४","11स्म","11दीउ४","11सामान्य","11स्म1दीउ४"]
[{"$f":"IF(B52=\"\",\"\",IF(L52=\"c\",\"C\",MAX($A$14:A51)+1))","v":18},{"$f":"IF('Entry sheet-2-hin'!B47=\"\",\"\",'Entry sheet-2-hin'!B47)","v":12},{"$f":"IF('Entry sheet-2-hin'!C47=\"\",\"\",CONCATENATE(B52,'Entry sheet-2-hin'!C47))","v":"12सम"},{"$f":"IF('Entry sheet-2-hin'!D47=\"\",\"\",CONCATENATE(B52,'Entry sheet-2-hin'!D47))","v":"12सामान्य"},{"$f":"IF('Entry sheet-2-hin'!E47=\"\",\"\",CONCATENATE(B52,'Entry sheet-2-hin'!E47))","v":"12दीउ४"},{"$f":"IF('Entry sheet-2-hin'!F47=\"\",\"\",CONCATENATE(B52,'Entry sheet-2-hin'!F47))","v":"12ग"},"इस पद्य भाग की पूर्ति कीजिए -\n  पहले पतंग --------------------------------------\n   ---------------------------------------------------\n-----------------------------------------------------\n----------------------------------निभाना सीखा ॥",null,null,null,null,null,null,null,null,null,null,null,null,null,null,null,null,null,null,"12ग","12सामान्य","12सम","12दीउ४","12सम12सामान्य12दीउ४","12दीउ४12ग","1212दीउ४","12दीउ४","1212सम","1212दीउ४","1212सामान्य","1212सम12दीउ४"]
[{"$f":"IF(B53=\"\",\"\",IF(L53=\"c\",\"C\",MAX($A$14:A52)+1))","v":""},{"$f":"IF('Entry sheet-2-hin'!B48=\"\",\"\",'Entry sheet-2-hin'!B48)","v":""},{"$f":"IF('Entry sheet-2-hin'!C48=\"\",\"\",CONCATENATE(B53,'Entry sheet-2-hin'!C48))","v":""},{"$f":"IF('Entry sheet-2-hin'!D48=\"\",\"\",CONCATENATE(B53,'Entry sheet-2-hin'!D48))","v":""},{"$f":"IF('Entry sheet-2-hin'!E48=\"\",\"\",CONCATENATE(B53,'Entry sheet-2-hin'!E48))","v":""},{"$f":"IF('Entry sheet-2-hin'!F48=\"\",\"\",CONCATENATE(B53,'Entry sheet-2-hin'!F48))","v":""},null,null,null,null,null,null,null,null,null,null,null,null,null,null,null,null,null,null,null,"","","","","","","","","","","",""]
[{"$f":"IF(B54=\"\",\"\",IF(L54=\"c\",\"C\",MAX($A$14:A53)+1))","v":""},{"$f":"IF('Entry sheet-2-hin'!B49=\"\",\"\",'Entry sheet-2-hin'!B49)","v":""},{"$f":"IF('Entry sheet-2-hin'!C49=\"\",\"\",CONCATENATE(B54,'Entry sheet-2-hin'!C49))","v":""},{"$f":"IF('Entry sheet-2-hin'!D49=\"\",\"\",CONCATENATE(B54,'Entry sheet-2-hin'!D49))","v":""},{"$f":"IF('Entry sheet-2-hin'!E49=\"\",\"\",CONCATENATE(B54,'Entry sheet-2-hin'!E49))","v":""},{"$f":"IF('Entry sheet-2-hin'!F49=\"\",\"\",CONCATENATE(B54,'Entry sheet-2-hin'!F49))","v":""},null,null,null,null,null,null,null,null,null,null,null,null,null,null,null,null,null,null,null,"","","","","","","","","","","",""]
[{"$f":"IF(B55=\"\",\"\",IF(L55=\"c\",\"C\",MAX($A$14:A54)+1))","v":19},{"$f":"IF('Entry sheet-2-hin'!B50=\"\",\"\",'Entry sheet-2-hin'!B50)","v":24},{"$f":"IF('Entry sheet-2-hin'!C50=\"\",\"\",CONCATENATE(B55,'Entry sheet-2-hin'!C50))","v":"24सम"},{"$f":"IF('Entry sheet-2-hin'!D50=\"\",\"\",CONCATENATE(B55,'Entry sheet-2-hin'!D50))","v":"24सामान्य"},{"$f":"IF('Entry sheet-2-hin'!E50=\"\",\"\",CONCATENATE(B55,'Entry sheet-2-hin'!E50))","v":"24बवि"},{"$f":"IF('Entry sheet-2-hin'!F50=\"\",\"\",CONCATENATE(B55,'Entry sheet-2-hin'!F50))","v":"24व्या"},"‘बात’ का अन्यवचन रूप है -\n   अ) बात     आ) बातों    इ) बातें    ई) बाताएँ",null,null,null,null,null,null,null,null,null,null,null,null,null,null,null,null,null,null,"24व्या","24सामान्य","24सम","24बवि","24सम24सामान्य24बवि","24बवि24व्या","2424बवि","24बवि","2424सम","2424बवि","2424सामान्य","2424सम24बवि"]
[{"$f":"IF(B56=\"\",\"\",IF(L56=\"c\",\"C\",MAX($A$14:A55)+1))","v":20},{"$f":"IF('Entry sheet-2-hin'!B51=\"\",\"\",'Entry sheet-2-hin'!B51)","v":24},{"$f":"IF('Entry sheet-2-hin'!C51=\"\",\"\",CONCATENATE(B56,'Entry sheet-2-hin'!C51))","v":"24सम"},{"$f":"IF('Entry sheet-2-hin'!D51=\"\",\"\",CONCATENATE(B56,'Entry sheet-2-hin'!D51))","v":"24कठिन"},{"$f":"IF('Entry sheet-2-hin'!E51=\"\",\"\",CONCATENATE(B56,'Entry sheet-2-hin'!E51))","v":"24बवि"},{"$f":"IF('Entry sheet-2-hin'!F51=\"\",\"\",CONCATENATE(B56,'Entry sheet-2-hin'!F51))","v":"24व्या"},"‘ठहरना’ का द्वितीय प्रेरणार्थक क्रिया रूप है -\n   अ) ठहरना    आ) ठहराना      इ) ठहर     ई) ठहरवाना",null,null,null,null,null,null,null,null,null,null,null,null,null,null,null,null,null,null,"24व्या","24कठिन","24सम","24बवि","24सम24कठिन24बवि","24बवि24व्या","2424बवि","24बवि","2424सम","2424बवि","2424कठिन","2424सम24बवि"]
[{"$f":"IF(B57=\"\",\"\",IF(L57=\"c\",\"C\",MAX($A$14:A56)+1))","v":21},{"$f":"IF('Entry sheet-2-hin'!B52=\"\",\"\",'Entry sheet-2-hin'!B52)","v":24},{"$f":"IF('Entry sheet-2-hin'!C52=\"\",\"\",CONCATENATE(B57,'Entry sheet-2-hin'!C52))","v":"24सम"},{"$f":"IF('Entry sheet-2-hin'!D52=\"\",\"\",CONCATENATE(B57,'Entry sheet-2-hin'!D52))","v":"24सामान्य"},{"$f":"IF('Entry sheet-2-hin'!E52=\"\",\"\",CONCATENATE(B57,'Entry sheet-2-hin'!E52))","v":"24बवि"},{"$f":"IF('Entry sheet-2-hin'!F52=\"\",\"\",CONCATENATE(B57,'Entry sheet-2-hin'!F52))","v":"24व्या"},"राम ने दरवाजा खोला । इस वाक्य में प्रयुक्त कारक नाम है - \n   अ) कर्म     आ) कर्ता       इ) करण       ई) संबंध",null,null,null,null,null,null,null,null,null,null,null,null,null,null,null,null,null,null,"24व्या","24सामान्य","24सम","24बवि","24सम24सामान्य24बवि","24बवि24व्या","2424बवि","24बवि","2424सम","2424बवि","2424सामान्य","2424सम24बवि"]
[{"$f":"IF(B58=\"\",\"\",IF(L58=\"c\",\"C\",MAX($A$14:A57)+1))","v":22},{"$f":"IF('Entry sheet-2-hin'!B53=\"\",\"\",'Entry sheet-2-hin'!B53)","v":24},{"$f":"IF('Entry sheet-2-hin'!C53=\"\",\"\",CONCATENATE(B58,'Entry sheet-2-hin'!C53))","v":"24सम"},{"$f":"IF('Entry sheet-2-hin'!D53=\"\",\"\",CONCATENATE(B58,'Entry sheet-2-hin'!D53))","v":"24सरल"},{"$f":"IF('Entry sheet-2-hin'!E53=\"\",\"\",CONCATENATE(B58,'Entry sheet-2-hin'!E53))","v":"24बवि"},{"$f":"IF('Entry sheet-2-hin'!F53=\"\",\"\",CONCATENATE(B58,'Entry sheet-2-hin'!F53))","v":"24व्या"},"‘धर्म’ का विलोम रूप है -\n   अ) अधर्म     आ) नधर्म    इ) धर्महीन    ई) पाप",null,null,null,null,null,null,null,null,null,null,null,null,null,null,null,null,null,null,"24व्या","24सरल","24सम","24बवि","24सम24सरल24बवि","24बवि24व्या","2424बवि","24बवि","2424सम","2424बवि","2424सरल","2424सम24बवि"]
[{"$f":"IF(B59=\"\",\"\",IF(L59=\"c\",\"C\",MAX($A$14:A58)+1))","v":""},{"$f":"IF('Entry sheet-2-hin'!B54=\"\",\"\",'Entry sheet-2-hin'!B54)","v":""},{"$f":"IF('Entry sheet-2-hin'!C54=\"\",\"\",CONCATENATE(B59,'Entry sheet-2-hin'!C54))","v":""},{"$f":"IF('Entry sheet-2-hin'!D54=\"\",\"\",CONCATENATE(B59,'Entry sheet-2-hin'!D54))","v":""},{"$f":"IF('Entry sheet-2-hin'!E54=\"\",\"\",CONCATENATE(B59,'Entry sheet-2-hin'!E54))","v":""},{"$f":"IF('Entry sheet-2-hin'!F54=\"\",\"\",CONCATENATE(B59,'Entry sheet-2-hin'!F54))","v":""},null,null,null,null,null,null,null,null,null,null,null,null,null,null,null,null,null,null,null,"","","","","","","","","","","",""]
[{"$f":"IF(B60=\"\",\"\",IF(L60=\"c\",\"C\",MAX($A$14:A59)+1))","v":""},{"$f":"IF('Entry sheet-2-hin'!B55=\"\",\"\",'Entry sheet-2-hin'!B55)","v":""},{"$f":"IF('Entry sheet-2-hin'!C55=\"\",\"\",CONCATENATE(B60,'Entry sheet-2-hin'!C55))","v":""},{"$f":"IF('Entry sheet-2-hin'!D55=\"\",\"\",CONCATENATE(B60,'Entry sheet-2-hin'!D55))","v":""},{"$f":"IF('Entry sheet-2-hin'!E55=\"\",\"\",CONCATENATE(B60,'Entry sheet-2-hin'!E55))","v":""},{"$f":"IF('Entry sheet-2-hin'!F55=\"\",\"\",CONCATENATE(B60,'Entry sheet-2-hin'!F55))","v":""},null,null,null,null,null,null,null,null,null,null,null,null,null,null,null,null,null,null,null,"","","","","","","","","","","",""]
[{"$f":"IF(B61=\"\",\"\",IF(L61=\"c\",\"C\",MAX($A$14:A60)+1))","v":""},{"$f":"IF('Entry sheet-2-hin'!B56=\"\",\"\",'Entry sheet-2-hin'!B56)","v":""},{"$f":"IF('Entry sheet-2-hin'!C56=\"\",\"\",CONCATENATE(B61,'Entry sheet-2-hin'!C56))","v":""},{"$f":"IF('Entry sheet-2-hin'!D56=\"\",\"\",CONCATENATE(B61,'Entry sheet-2-hin'!D56))","v":""},{"$f":"IF('Entry sheet-2-hin'!E56=\"\",\"\",CONCATENATE(B61,'Entry sheet-2-hin'!E56))","v":""},{"$f":"IF('Entry sheet-2-hin'!F56=\"\",\"\",CONCATENATE(B61,'Entry sheet-2-hin'!F56))","v":""},null,null,null,null,null,null,null,null,null,null,null,null,null,null,null,null,null,null,null,"","","","","","","","","","","",""]
[{"$f":"IF(B62=\"\",\"\",IF(L62=\"c\",\"C\",MAX($A$14:A61)+1))","v":""},{"$f":"IF('Entry sheet-2-hin'!B57=\"\",\"\",'Entry sheet-2-hin'!B57)","v":""},{"$f":"IF('Entry sheet-2-hin'!C57=\"\",\"\",CONCATENATE(B62,'Entry sheet-2-hin'!C57))","v":""},{"$f":"IF('Entry sheet-2-hin'!D57=\"\",\"\",CONCATENATE(B62,'Entry sheet-2-hin'!D57))","v":""},{"$f":"IF('Entry sheet-2-hin'!E57=\"\",\"\",CONCATENATE(B62,'Entry sheet-2-hin'!E57))","v":""},{"$f":"IF('Entry sheet-2-hin'!F57=\"\",\"\",CONCATENATE(B62,'Entry sheet-2-hin'!F57))","v":""},null,null,null,null,null,null,null,null,null,null,null,null,null,null,null,null,null,null,null,"","","","","","","","","","","",""]
[{"$f":"IF(B63=\"\",\"\",IF(L63=\"c\",\"C\",MAX($A$14:A62)+1))","v":""},{"$f":"IF('Entry sheet-2-hin'!B58=\"\",\"\",'Entry sheet-2-hin'!B58)","v":""},{"$f":"IF('Entry sheet-2-hin'!C58=\"\",\"\",CONCATENATE(B63,'Entry sheet-2-hin'!C58))","v":""},{"$f":"IF('Entry sheet-2-hin'!D58=\"\",\"\",CONCATENATE(B63,'Entry sheet-2-hin'!D58))","v":""},{"$f":"IF('Entry sheet-2-hin'!E58=\"\",\"\",CONCATENATE(B63,'Entry sheet-2-hin'!E58))","v":""},{"$f":"IF('Entry sheet-2-hin'!F58=\"\",\"\",CONCATENATE(B63,'Entry sheet-2-hin'!F58))","v":""},null,null,null,null,null,null,null,null,null,null,null,null,null,null,null,null,null,null,null,"","","","","","","","","","","",""]
[{"$f":"IF(B64=\"\",\"\",IF(L64=\"c\",\"C\",MAX($A$14:A63)+1))","v":23},{"$f":"IF('Entry sheet-2-hin'!B59=\"\",\"\",'Entry sheet-2-hin'!B59)","v":20},{"$f":"IF('Entry sheet-2-hin'!C59=\"\",\"\",CONCATENATE(B64,'Entry sheet-2-hin'!C59))","v":"20सम"},{"$f":"IF('Entry sheet-2-hin'!D59=\"\",\"\",CONCATENATE(B64,'Entry sheet-2-hin'!D59))","v":"20सरल"},{"$f":"IF('Entry sheet-2-hin'!E59=\"\",\"\",CONCATENATE(B64,'Entry sheet-2-hin'!E59))","v":"20अलउ"},{"$f":"IF('Entry sheet-2-hin'!F59=\"\",\"\",CONCATENATE(B64,'Entry sheet-2-hin'!F59))","v":"20र"},"यह सही है कि इन दोनों कुछ ऐसा माहौल बना है कि ईमानदारी से मेहनत करके जीविका चलाने वाले निरीह और भोले-भोले श्रमजीवी पिस रहे हैं और झूठ तथा फरेब का रोजगार करने वाले फल फूल रहे हैं । ईमानदारी को मूर्खता का पर्याय समझा जाने लगा है, सच्चाई केवल भीरु और बेबस लोगों के हिस्से पड़ी है । ऐसे स्थिति में जीवन के मूल्यों के बारे में लोगों की आस्था ही हिलने लगी है । सदा मनुष्य-बुद्धि नई परिस्थितियों का सामने करने के लिए नए सामाजिक विधि निषेधों को बनाती है, उनके ठीक न साबित होने पर उन्हें बदलती हैं ।\n\n\n",null,null,null,null,null,null,null,null,null,null,null,null,null,null,null,null,null,null,"20र","20सरल","20सम","20अलउ","20सम20सरल20अलउ","20अलउ20र","2020अलउ","20अलउ","2020सम","2020अलउ","2020सरल","2020सम20अलउ"]
[{"$f":"IF(B65=\"\",\"\",IF(L65=\"c\",\"C\",MAX($A$14:A64)+1))","v":24},{"$f":"IF('Entry sheet-2-hin'!B60=\"\",\"\",'Entry sheet-2-hin'!B60)","v":20},{"$f":"IF('Entry sheet-2-hin'!C60=\"\",\"\",CONCATENATE(B65,'Entry sheet-2-hin'!C60))","v":"20सम"},{"$f":"IF('Entry sheet-2-hin'!D60=\"\",\"\",CONCATENATE(B65,'Entry sheet-2-hin'!D60))","v":"20सरल"},{"$f":"IF('Entry sheet-2-hin'!E60=\"\",\"\",CONCATENATE(B65,'Entry sheet-2-hin'!E60))","v":"20अलउ"},{"$f":"IF('Entry sheet-2-hin'!F60=\"\",\"\",CONCATENATE(B65,'Entry sheet-2-hin'!F60))","v":"20र"},"1.  आजकल किनका बोल बाला है ?",null,null,null,null,null,null,null,null,null,null,null,null,null,null,null,null,null,null,"20र","20सरल","20सम","20अलउ","20सम20सरल20अलउ","20अलउ20र","2020अलउ","20अलउ","2020सम","2020अलउ","2020सरल","2020सम20अलउ"]
[{"$f":"IF(B66=\"\",\"\",IF(L66=\"c\",\"C\",MAX($A$14:A65)+1))","v":25},{"$f":"IF('Entry sheet-2-hin'!B61=\"\",\"\",'Entry sheet-2-hin'!B61)","v":20},{"$f":"IF('Entry sheet-2-hin'!C61=\"\",\"\",CONCATENATE(B66,'Entry sheet-2-hin'!C61))","v":"20सम"},{"$f":"IF('Entry sheet-2-hin'!D61=\"\",\"\",CONCATENATE(B66,'Entry sheet-2-hin'!D61))","v":"20सरल"},{"$f":"IF('Entry sheet-2-hin'!E61=\"\",\"\",CONCATENATE(B66,'Entry sheet-2-hin'!E61))","v":"20अलउ"},{"$f":"IF('Entry sheet-2-hin'!F61=\"\",\"\",CONCATENATE(B66,'Entry sheet-2-hin'!F61))","v":"20र"},"2.  सच्चाई किनके हिस्से  का पर्याय मानी जाने  लगी है ?",null,null,null,null,null,null,null,null,null,null,null,null,null,null,null,null,null,null,"20र","20सरल","20सम","20अलउ","20सम20सरल20अलउ","20अलउ20र","2020अलउ","20अलउ","2020सम","2020अलउ","2020सरल","2020सम20अलउ"]
[{"$f":"IF(B67=\"\",\"\",IF(L67=\"c\",\"C\",MAX($A$14:A66)+1))","v":""},{"$f":"IF('Entry sheet-2-hin'!B62=\"\",\"\",'Entry sheet-2-hin'!B62)","v":""},{"$f":"IF('Entry sheet-2-hin'!C62=\"\",\"\",CONCATENATE(B67,'Entry sheet-2-hin'!C62))","v":""},{"$f":"IF('Entry sheet-2-hin'!D62=\"\",\"\",CONCATENATE(B67,'Entry sheet-2-hin'!D62))","v":""},{"$f":"IF('Entry sheet-2-hin'!E62=\"\",\"\",CONCATENATE(B67,'Entry sheet-2-hin'!E62))","v":""},{"$f":"IF('Entry sheet-2-hin'!F62=\"\",\"\",CONCATENATE(B67,'Entry sheet-2-hin'!F62))","v":""},null,null,null,null,null,null,null,null,null,null,null,null,null,null,null,null,null,null,null,"","","","","","","","","","","",""]
[{"$f":"IF(B68=\"\",\"\",IF(L68=\"c\",\"C\",MAX($A$14:A67)+1))","v":""},{"$f":"IF('Entry sheet-2-hin'!B63=\"\",\"\",'Entry sheet-2-hin'!B63)","v":""},{"$f":"IF('Entry sheet-2-hin'!C63=\"\",\"\",CONCATENATE(B68,'Entry sheet-2-hin'!C63))","v":""},{"$f":"IF('Entry sheet-2-hin'!D63=\"\",\"\",CONCATENATE(B68,'Entry sheet-2-hin'!D63))","v":""},{"$f":"IF('Entry sheet-2-hin'!E63=\"\",\"\",CONCATENATE(B68,'Entry sheet-2-hin'!E63))","v":""},{"$f":"IF('Entry sheet-2-hin'!F63=\"\",\"\",CONCATENATE(B68,'Entry sheet-2-hin'!F63))","v":""},null,null,null,null,null,null,null,null,null,null,null,null,null,null,null,null,null,null,null,"","","","","","","","","","","",""]
[{"$f":"IF(B69=\"\",\"\",IF(L69=\"c\",\"C\",MAX($A$14:A68)+1))","v":26},{"$f":"IF('Entry sheet-2-hin'!B64=\"\",\"\",'Entry sheet-2-hin'!B64)","v":21},{"$f":"IF('Entry sheet-2-hin'!C64=\"\",\"\",CONCATENATE(B69,'Entry sheet-2-hin'!C64))","v":"21अ"},{"$f":"IF('Entry sheet-2-hin'!D64=\"\",\"\",CONCATENATE(B69,'Entry sheet-2-hin'!D64))","v":"21सरल"},{"$f":"IF('Entry sheet-2-hin'!E64=\"\",\"\",CONCATENATE(B69,'Entry sheet-2-hin'!E64))","v":"21अलउ"},{"$f":"IF('Entry sheet-2-hin'!F64=\"\",\"\",CONCATENATE(B69,'Entry sheet-2-hin'!F64))","v":"21र"},"उनके बचपन का नाम नरेंद्र देव था ।                                                                 ",null,null,null,null,null,null,null,null,null,null,null,null,null,null,null,null,null,null,"21र","21सरल","21अ","21अलउ","21अ21सरल21अलउ","21अलउ21र","2121अलउ","21अलउ","2121अ","2121अलउ","2121सरल","2121अ21अलउ"]
[{"$f":"IF(B70=\"\",\"\",IF(L70=\"c\",\"C\",MAX($A$14:A69)+1))","v":27},{"$f":"IF('Entry sheet-2-hin'!B65=\"\",\"\",'Entry sheet-2-hin'!B65)","v":21},{"$f":"IF('Entry sheet-2-hin'!C65=\"\",\"\",CONCATENATE(B70,'Entry sheet-2-hin'!C65))","v":"21अ"},{"$f":"IF('Entry sheet-2-hin'!D65=\"\",\"\",CONCATENATE(B70,'Entry sheet-2-hin'!D65))","v":"21सरल"},{"$f":"IF('Entry sheet-2-hin'!E65=\"\",\"\",CONCATENATE(B70,'Entry sheet-2-hin'!E65))","v":"21अलउ"},{"$f":"IF('Entry sheet-2-hin'!F65=\"\",\"\",CONCATENATE(B70,'Entry sheet-2-hin'!F65))","v":"21र"},"शहर में क्यों आतंक छा गया था ?                                                                ",null,null,null,null,null,null,null,null,null,null,null,null,null,null,null,null,null,null,"21र","21सरल","21अ","21अलउ","21अ21सरल21अलउ","21अलउ21र","2121अलउ","21अलउ","2121अ","2121अलउ","2121सरल","2121अ21अलउ"]
[{"$f":"IF(B71=\"\",\"\",IF(L71=\"c\",\"C\",MAX($A$14:A70)+1))","v":""},{"$f":"IF('Entry sheet-2-hin'!B66=\"\",\"\",'Entry sheet-2-hin'!B66)","v":""},{"$f":"IF('Entry sheet-2-hin'!C66=\"\",\"\",CONCATENATE(B71,'Entry sheet-2-hin'!C66))","v":""},{"$f":"IF('Entry sheet-2-hin'!D66=\"\",\"\",CONCATENATE(B71,'Entry sheet-2-hin'!D66))","v":""},{"$f":"IF('Entry sheet-2-hin'!E66=\"\",\"\",CONCATENATE(B71,'Entry sheet-2-hin'!E66))","v":""},{"$f":"IF('Entry sheet-2-hin'!F66=\"\",\"\",CONCATENATE(B71,'Entry sheet-2-hin'!F66))","v":""},null,null,null,null,null,null,null,null,null,null,null,null,null,null,null,null,null,null,null,"","","","","","","","","","","",""]
[{"$f":"IF(B72=\"\",\"\",IF(L72=\"c\",\"C\",MAX($A$14:A71)+1))","v":""},{"$f":"IF('Entry sheet-2-hin'!B67=\"\",\"\",'Entry sheet-2-hin'!B67)","v":""},{"$f":"IF('Entry sheet-2-hin'!C67=\"\",\"\",CONCATENATE(B72,'Entry sheet-2-hin'!C67))","v":""},{"$f":"IF('Entry sheet-2-hin'!D67=\"\",\"\",CONCATENATE(B72,'Entry sheet-2-hin'!D67))","v":""},{"$f":"IF('Entry sheet-2-hin'!E67=\"\",\"\",CONCATENATE(B72,'Entry sheet-2-hin'!E67))","v":""},{"$f":"IF('Entry sheet-2-hin'!F67=\"\",\"\",CONCATENATE(B72,'Entry sheet-2-hin'!F67))","v":""},null,null,null,null,null,null,null,null,null,null,null,null,null,null,null,null,null,null,null,"","","","","","","","","","","",""]
[{"$f":"IF(B73=\"\",\"\",IF(L73=\"c\",\"C\",MAX($A$14:A72)+1))","v":28},{"$f":"IF('Entry sheet-2-hin'!B68=\"\",\"\",'Entry sheet-2-hin'!B68)","v":22},{"$f":"IF('Entry sheet-2-hin'!C68=\"\",\"\",CONCATENATE(B73,'Entry sheet-2-hin'!C68))","v":"22अ"},{"$f":"IF('Entry sheet-2-hin'!D68=\"\",\"\",CONCATENATE(B73,'Entry sheet-2-hin'!D68))","v":"22कठिन"},{"$f":"IF('Entry sheet-2-hin'!E68=\"\",\"\",CONCATENATE(B73,'Entry sheet-2-hin'!E68))","v":"22दीउ४"},{"$f":"IF('Entry sheet-2-hin'!F68=\"\",\"\",CONCATENATE(B73,'Entry sheet-2-hin'!F68))","v":"22र"},"अपनी पढ़ाई के बारे में बताते हुए अपने पिताजी को एक पत्र लिखिए ।",null,null,null,null,null,null,null,null,null,null,null,null,null,null,null,null,null,null,"22र","22कठिन","22अ","22दीउ४","22अ22कठिन22दीउ४","22दीउ४22र","2222दीउ४","22दीउ४","2222अ","2222दीउ४","2222कठिन","2222अ22दीउ४"]
[{"$f":"IF(B74=\"\",\"\",IF(L74=\"c\",\"C\",MAX($A$14:A73)+1))","v":""},{"$f":"IF('Entry sheet-2-hin'!B69=\"\",\"\",'Entry sheet-2-hin'!B69)","v":""},{"$f":"IF('Entry sheet-2-hin'!C69=\"\",\"\",CONCATENATE(B74,'Entry sheet-2-hin'!C69))","v":""},{"$f":"IF('Entry sheet-2-hin'!D69=\"\",\"\",CONCATENATE(B74,'Entry sheet-2-hin'!D69))","v":""},{"$f":"IF('Entry sheet-2-hin'!E69=\"\",\"\",CONCATENATE(B74,'Entry sheet-2-hin'!E69))","v":""},{"$f":"IF('Entry sheet-2-hin'!F69=\"\",\"\",CONCATENATE(B74,'Entry sheet-2-hin'!F69))","v":""},null,null,null,null,null,null,null,null,null,null,null,null,null,null,null,null,null,null,null,"","","","","","","","","","","",""]
[{"$f":"IF(B75=\"\",\"\",IF(L75=\"c\",\"C\",MAX($A$14:A74)+1))","v":29},{"$f":"IF('Entry sheet-2-hin'!B70=\"\",\"\",'Entry sheet-2-hin'!B70)","v":23},{"$f":"IF('Entry sheet-2-hin'!C70=\"\",\"\",CONCATENATE(B75,'Entry sheet-2-hin'!C70))","v":"23अ"},{"$f":"IF('Entry sheet-2-hin'!D70=\"\",\"\",CONCATENATE(B75,'Entry sheet-2-hin'!D70))","v":"23कठिन"},{"$f":"IF('Entry sheet-2-hin'!E70=\"\",\"\",CONCATENATE(B75,'Entry sheet-2-hin'!E70))","v":"23दीउ४"},{"$f":"IF('Entry sheet-2-hin'!F70=\"\",\"\",CONCATENATE(B75,'Entry sheet-2-hin'!F70))","v":"23र"},"इंटर्नेट क्रांति          (अर्थ,  लाभ,  हानी,  उपसंहार)",null,null,null,null,null,null,null,null,null,null,null,null,null,null,null,null,null,null,"23र","23कठिन","23अ","23दीउ४","23अ23कठिन23दीउ४","23दीउ४23र","2323दीउ४","23दीउ४","2323अ","2323दीउ४","2323कठिन","2323अ23दीउ४"]
[{"$f":"IF(B76=\"\",\"\",IF(L76=\"c\",\"C\",MAX($A$14:A75)+1))","v":30},{"$f":"IF('Entry sheet-2-hin'!B71=\"\",\"\",'Entry sheet-2-hin'!B71)","v":23},{"$f":"IF('Entry sheet-2-hin'!C71=\"\",\"\",CONCATENATE(B76,'Entry sheet-2-hin'!C71))","v":"23अ"},{"$f":"IF('Entry sheet-2-hin'!D71=\"\",\"\",CONCATENATE(B76,'Entry sheet-2-hin'!D71))","v":"23कठिन"},{"$f":"IF('Entry sheet-2-hin'!E71=\"\",\"\",CONCATENATE(B76,'Entry sheet-2-hin'!E71))","v":"23दीउ४"},{"$f":"IF('Entry sheet-2-hin'!F71=\"\",\"\",CONCATENATE(B76,'Entry sheet-2-hin'!F71))","v":"23र"},"त्योहारों का महत्व",null,null,null,null,null,null,null,null,null,null,null,null,null,null,null,null,null,null,"23र","23कठिन","23अ","23दीउ४","23अ23कठिन23दीउ४","23दीउ४23र","2323दीउ४","23दीउ४","2323अ","2323दीउ४","2323कठिन","2323अ23दीउ४"]
[{"$f":"IF(B77=\"\",\"\",IF(L77=\"c\",\"C\",MAX($A$14:A76)+1))","v":""},{"$f":"IF('Entry sheet-2-hin'!B72=\"\",\"\",'Entry sheet-2-hin'!B72)","v":""},{"$f":"IF('Entry sheet-2-hin'!C72=\"\",\"\",CONCATENATE(B77,'Entry sheet-2-hin'!C72))","v":""},{"$f":"IF('Entry sheet-2-hin'!D72=\"\",\"\",CONCATENATE(B77,'Entry sheet-2-hin'!D72))","v":""},{"$f":"IF('Entry sheet-2-hin'!E72=\"\",\"\",CONCATENATE(B77,'Entry sheet-2-hin'!E72))","v":""},{"$f":"IF('Entry sheet-2-hin'!F72=\"\",\"\",CONCATENATE(B77,'Entry sheet-2-hin'!F72))","v":""},null,null,null,null,null,null,null,null,null,null,null,null,null,null,null,null,null,null,null,"","","","","","","","","","","",""]

{"sheet":"Question paper 90 marks","index":8,"n_rows":88,"n_cols":6,"rows_kept":88,"cut":false,"hidden":false,"merged":[[49,1,49,5],[51,1,51,5],[70,1,70,5],[63,1,63,5],[64,1,64,5],[65,1,65,5],[66,1,66,5],[69,0,69,4],[50,0,50,4],[57,0,57,4],[61,1,61,5],[37,1,37,5],[38,1,38,5],[40,1,40,5],[41,1,41,5],[48,1,48,5],[47,1,47,5],[46,1,46,5],[77,1,77,5],[76,1,76,5],[74,1,74,5],[73,1,73,5],[72,1,72,5],[75,0,75,4],[16,2,16,3],[17,2,17,3],[23,1,23,5],[83,1,83,4],[79,1,79,5],[78,1,78,5],[80,1,80,4],[82,1,82,4],[71,1,71,5],[60,1,60,5],[53,1,53,5],[62,1,62,5],[54,3,54,5],[58,1,58,5],[59,1,59,5],[68,0,68,3],[18,2,18,3],[19,2,19,3],[20,2,20,3],[21,2,21,3],[22,0,22,3],[9,1,9,3],[10,1,10,3],[11,1,11,3],[12,1,12,3],[14,0,14,4],[13,1,13,3],[26,1,26,5],[25,1,25,5],[24,1,24,5],[45,1,45,5],[43,1,43,5],[35,1,35,5],[33,1,33,5],[27,0,27,4],[44,0,44,4],[34,1,34,5],[28,1,28,5],[29,1,29,5],[30,1,30,5],[31,1,31,5],[32,1,32,5],[36,1,36,5],[88,1,88,3],[67,0,67,3],[0,0,0,3],[6,1,6,3],[7,1,7,3],[8,1,8,3],[3,0,3,3],[4,0,4,3],[1,2,1,3],[5,0,5,4],[85,1,85,3],[86,1,86,3],[87,1,87,3],[84,1,84,3],[55,0,55,3],[56,0,56,3]]}
[{"$f":"'Entry sheet-1-hin'!C2","v":"सरकारी पदवि पूर्व कॉलेंज (प्रौ.शा.वि) गुरुगुंटा, ता : लिंगसुगूर"}]
[null,"प्रश्‍न पत्रिका - ",{"$f":"'Entry sheet-1-hin'!C3","v":"संकलनात्मक परीक्षा - १   २०१५-१६"}]
[{"$f":"'Entry sheet-1-hin'!C4","v":"9वीं "},{"$f":"'Entry sheet-1-hin'!C5","v":"हिंदी"},null,null,{"$f":"'Entry sheet-1-hin'!A6","v":" अंक"},{"$f":"'Entry sheet-1-hin'!C6","v":40}]
["खण्ड   “ क ”"]
["[ गद्य, पद्य और पूरक वाचन ]"]
["I.   निम्नलिखित प्रश्नों के उत्तर एक-एक वाक्य में लिखिए :-  ",null,null,null,null,"8X1=8"]
[{"$f":"IF(B7=\"\",\"\",1)","v":1},{"$f":"IF('Entry sheet-3-hin'!G14=\"\",\"\",'Entry sheet-3-hin'!G14)","v":"विवेकानंद कब अमरिका गये ?                                                               "}]
[{"$f":"IF(B8=\"\",\"\",A7+1)","v":2},{"$f":"IF('Entry sheet-3-hin'!G15=\"\",\"\",'Entry sheet-3-hin'!G15)","v":"बहन ने भाई के माथे पर क्या लगाया ?                                                             "}]
[3,{"$f":"IF('Entry sheet-3-hin'!G16=\"\",\"\",'Entry sheet-3-hin'!G16)","v":"मौसी का दुपट्टा कैसे था ?                                                                             "}]
[4,{"$f":"IF('Entry sheet-3-hin'!G17=\"\",\"\",'Entry sheet-3-hin'!G17)","v":"भारत माता का हृदय कैसा है ?                                                                                                             "}]
["",{"$f":"IF('Entry sheet-3-hin'!G18=\"\",\"\",'Entry sheet-3-hin'!G18)","v":""}]
["",{"$f":"IF('Entry sheet-3-hin'!G19=\"\",\"\",'Entry sheet-3-hin'!G19)","v":""}]
["",{"$f":"IF('Entry sheet-3-hin'!G20=\"\",\"\",'Entry sheet-3-hin'!G20)","v":""}]
["",{"$f":"IF('Entry sheet-3-hin'!G21=\"\",\"\",'Entry sheet-3-hin'!G21)","v":""}]
["II.   9.  स्तम्भ ‘क’  के वाक्यांशों के साथ स्तम्भ ‘ख’  के सही वाक्यंशों को जोडकर लिखिए :-  ",null,null,null,null,"4X1=4"]
[null,"   स्तम्भ ‘क’","   स्तम्भ ‘ख’"]
["अ",{"$f":"IF('Entry sheet-3-hin'!G22=\"\",\"\",'Entry sheet-3-hin'!G22)","v":"कुमारी नोबल                                                                  "},{"$f":"IF('Entry sheet-3-hin'!P22=\"\",\"\",'Entry sheet-3-hin'!P22)","v":"असहयोग चल रहा था ।"}]
["आ",{"$f":"IF('Entry sheet-3-hin'!G23=\"\",\"\",'Entry sheet-3-hin'!G23)","v":"हर हिस्सा दूसरे से "},{"$f":"IF('Entry sheet-3-hin'!P23=\"\",\"\",'Entry sheet-3-hin'!P23)","v":" धर्म परायण नारी     "}]
["इ",{"$f":"IF('Entry sheet-3-hin'!G24=\"\",\"\",'Entry sheet-3-hin'!G24)","v":""},{"$f":"IF('Entry sheet-3-hin'!P24=\"\",\"\",'Entry sheet-3-hin'!P24)","v":"  सिस्टर निवेदिता"}]
["ई",{"$f":"IF('Entry sheet-3-hin'!G25=\"\",\"\",'Entry sheet-3-hin'!G25)","v":""},{"$f":"IF('Entry sheet-3-hin'!P25=\"\",\"\",'Entry sheet-3-hin'!P25)","v":"असहयोग कर रहा था ।"}]
[null,null,{"$f":"IF('Entry sheet-3-hin'!P26=\"\",\"\",'Entry sheet-3-hin'!P26)","v":""}]
[null,null,{"$f":"IF('Entry sheet-3-hin'!P27=\"\",\"\",'Entry sheet-3-hin'!P27)","v":""}]
["III.  प्रथम दो पदों से सूचित संबंधों के अनुरूप तीसरे पद से संबंधित पद लिखिए :-  ",null,null,null,null,"4X1=4"]
[{"$f":"IF(B24=\"\",\"\",A14+2)","v":{"$error":"#VALUE!"}},{"$f":"IF('Entry sheet-3-hin'!G28=\"\",\"\",'Entry sheet-3-hin'!G28)","v":"बाहुबली : डॉ. हिरण्मय :: बस की यात्रा :------"}]
[{"$f":"IF(B25=\"\",\"\",A24+1)","v":{"$error":"#VALUE!"}},{"$f":"IF('Entry sheet-3-hin'!G29=\"\",\"\",'Entry sheet-3-hin'!G29)","v":"योगराज अपने घर से  : एक कटोरा दूध लाया :: गोपाल अपने घर से :--"}]
[{"$f":"IF(B26=\"\",\"\",A25+1)","v":""},{"$f":"IF('Entry sheet-3-hin'!G30=\"\",\"\",'Entry sheet-3-hin'!G30)","v":""}]
["",{"$f":"IF('Entry sheet-3-hin'!G31=\"\",\"\",'Entry sheet-3-hin'!G31)","v":""}]
["IV.   निम्नलिखित प्रश्नों के उत्तर दो या तीन वाक्यों में लिखिए :-  ",null,null,null,null,"11X2=22"]
[{"$f":"IF(B29=\"\",\"\",A27+1)","v":{"$error":"#VALUE!"}},{"$f":"IF('Entry sheet-3-hin'!G32=\"\",\"\",'Entry sheet-3-hin'!G32)","v":"विवेकानंद ने भारत वासियों को क्या उपदेश दिये ?                                     "}]
[{"$f":"IF(B30=\"\",\"\",A29+1)","v":{"$error":"#VALUE!"}},{"$f":"IF('Entry sheet-3-hin'!G33=\"\",\"\",'Entry sheet-3-hin'!G33)","v":"बहन ने भाई को कैसे विधा की ?                                                                        "}]
[{"$error":"#VALUE!"},{"$f":"IF('Entry sheet-3-hin'!G34=\"\",\"\",'Entry sheet-3-hin'!G34)","v":"बस के बारे में डाक्टर मित्र ने लेखक से क्या कहा ?                                                         "}]
[{"$error":"#VALUE!"},{"$f":"IF('Entry sheet-3-hin'!G35=\"\",\"\",'Entry sheet-3-hin'!G35)","v":"हिमालय के बारे में कवि की भावना क्या है ?                                                                                                        "}]
[{"$error":"#VALUE!"},{"$f":"IF('Entry sheet-3-hin'!G36=\"\",\"\",'Entry sheet-3-hin'!G36)","v":"कजाकी के साथ लेखक के क्षन कैसे बीतते थे ?"}]
[{"$error":"#VALUE!"},{"$f":"IF('Entry sheet-3-hin'!G37=\"\",\"\",'Entry sheet-3-hin'!G37)","v":"एक दिन कजाकी डाकखाने देर से पसूँचा । क्यों ?"}]
["",{"$f":"IF('Entry sheet-3-hin'!G38=\"\",\"\",'Entry sheet-3-hin'!G38)","v":""}]
["",{"$f":"IF('Entry sheet-3-hin'!G39=\"\",\"\",'Entry sheet-3-hin'!G39)","v":""}]
["",{"$f":"IF('Entry sheet-3-hin'!G40=\"\",\"\",'Entry sheet-3-hin'!G40)","v":""}]
["",{"$f":"IF('Entry sheet-3-hin'!G41=\"\",\"\",'Entry sheet-3-hin'!G41)","v":""}]
["",{"$f":"IF('Entry sheet-3-hin'!G42=\"\",\"\",'Entry sheet-3-hin'!G42)","v":""}]
[null,"अथवा"]
[null,{"$f":"IF('Entry sheet-3-hin'!G43=\"\",\"\",'Entry sheet-3-hin'!G43)","v":""}]
[{"$f":"IF(B42=\"\",\"\",A39+1)","v":""},{"$f":"IF('Entry sheet-3-hin'!G44=\"\",\"\",'Entry sheet-3-hin'!G44)","v":""}]
[null,"अथवा"]
[null,{"$f":"IF('Entry sheet-3-hin'!G45=\"\",\"\",'Entry sheet-3-hin'!G45)","v":""}]
["V.   निम्नलिखित प्रश्नों के उत्तर तीन - चार वाक्यों में लिखिए :-  ",null,null,null,null,"5X3=15"]
[{"$f":"IF(B46=\"\",\"\",A42+1)","v":{"$error":"#VALUE!"}},{"$f":"IF('Entry sheet-3-hin'!G46=\"\",\"\",'Entry sheet-3-hin'!G46)","v":"किसने किससे कहा ?  किस पाठ से लिया गाया है -  यह मेरा बेटा, यह मेरी बेटी ।"}]
[{"$f":"IF(B47=\"\",\"\",A46+1)","v":{"$error":"#VALUE!"}},{"$f":"IF('Entry sheet-3-hin'!G47=\"\",\"\",'Entry sheet-3-hin'!G47)","v":"निम्नलिखित कवितांश का भावार्थ भावार्थ लिखिए ।\n  फुलों - सा महकूँ मैं\n  विहगों - सा चहकूँ मैं\n  गुंजरित कर वन-उपवन\n  कोयल - सा कुहुकूँ मैं\n  मेरी अभीलाषा है ।\n                                "}]
[{"$f":"IF(B48=\"\",\"\",A47+1)","v":""},{"$f":"IF('Entry sheet-3-hin'!G48=\"\",\"\",'Entry sheet-3-hin'!G48)","v":""}]
[{"$f":"IF(B49=\"\",\"\",A48+1)","v":""},{"$f":"IF('Entry sheet-3-hin'!G49=\"\",\"\",'Entry sheet-3-hin'!G49)","v":""}]
[{"$f":"IF(B50=\"\",\"\",A49+1)","v":""},{"$f":"IF('Entry sheet-3-hin'!G50=\"\",\"\",'Entry sheet-3-hin'!G50)","v":""}]
["VI.  निम्नलिखित प्रश्न का उत्तर  चार - पाँच वाक्यों में लिखिए :- ",null,null,null,null,"2X4=8"]
[{"$f":"IF(B52=\"\",\"\",A50+1)","v":{"$error":"#VALUE!"}},{"$f":"IF('Entry sheet-3-hin'!G51=\"\",\"\",'Entry sheet-3-hin'!G51)","v":"शिकागो नगर के सर्वधर्म सम्मेलन के बारे में लिखिए ।"}]
[null,"अथवा"]
[null,{"$f":"IF('Entry sheet-3-hin'!G52=\"\",\"\",'Entry sheet-3-hin'!G52)","v":"इस पद्य भाग की पूर्ति कीजिए -\n  पहले पतंग --------------------------------------\n   ---------------------------------------------------\n-----------------------------------------------------\n----------------------------------निभाना सीखा ॥"}]
[{"$f":"IF(B55=\"\",\"\",A52+1)","v":""},{"$f":"IF('Entry sheet-3-hin'!G53=\"\",\"\",'Entry sheet-3-hin'!G53)","v":""},"अथवा",{"$f":"IF('Entry sheet-3-hin'!G54=\"\",\"\",'Entry sheet-3-hin'!G54)","v":""}]
["खण्ड   “ ख ”"]
["[ व्याकरण ]"]
["VII. निम्नलिखित प्रश्नो के लिए चार-चार विकल्प दिए गए हैं, जिनमें एकमात्र सही उत्तर है ।   सही उत्तर चुनकर लिखिए :-",null,null,null,null,"9X1=9"]
[{"$f":"IF(B59=\"\",\"\",A55+1)","v":{"$error":"#VALUE!"}},{"$f":"IF('Entry sheet-3-hin'!G55=\"\",\"\",'Entry sheet-3-hin'!G55)","v":"‘बात’ का अन्यवचन रूप है -\n   अ) बात     आ) बातों    इ) बातें    ई) बाताएँ"}]
[{"$f":"IF(B60=\"\",\"\",A59+1)","v":{"$error":"#VALUE!"}},{"$f":"IF('Entry sheet-3-hin'!G56=\"\",\"\",'Entry sheet-3-hin'!G56)","v":"‘ठहरना’ का द्वितीय प्रेरणार्थक क्रिया रूप है -\n   अ) ठहरना    आ) ठहराना      इ) ठहर     ई) ठहरवाना"}]
[{"$f":"IF(B61=\"\",\"\",A60+1)","v":{"$error":"#VALUE!"}},{"$f":"IF('Entry sheet-3-hin'!G57=\"\",\"\",'Entry sheet-3-hin'!G57)","v":"राम ने दरवाजा खोला । इस वाक्य में प्रयुक्त कारक नाम है - \n   अ) कर्म     आ) कर्ता       इ) करण       ई) संबंध"}]
[{"$f":"IF(B62=\"\",\"\",A61+1)","v":{"$error":"#VALUE!"}},{"$f":"IF('Entry sheet-3-hin'!G58=\"\",\"\",'Entry sheet-3-hin'!G58)","v":"‘धर्म’ का विलोम रूप है -\n   अ) अधर्म     आ) नधर्म    इ) धर्महीन    ई) पाप"}]
["",{"$f":"IF('Entry sheet-3-hin'!G59=\"\",\"\",'Entry sheet-3-hin'!G59)","v":""}]
["",{"$f":"IF('Entry sheet-3-hin'!G60=\"\",\"\",'Entry sheet-3-hin'!G60)","v":""}]
["",{"$f":"IF('Entry sheet-3-hin'!G61=\"\",\"\",'Entry sheet-3-hin'!G61)","v":""}]
["",{"$f":"IF('Entry sheet-3-hin'!G62=\"\",\"\",'Entry sheet-3-hin'!G62)","v":""}]
["",{"$f":"IF('Entry sheet-3-hin'!G63=\"\",\"\",'Entry sheet-3-hin'!G63)","v":""}]
["खण्ड   “ ग ”"]
["[ रचना - अपठित गद्यांश, अनुवाद, पत्रलेखन और निबंध ]"]
["VIII.  42.  गद्यांश पढकर निम्नलिखित प्रश्नों के उत्तर लिखिए :-",null,null,null,null,"4X1=4"]
[null,{"$f":"IF('Entry sheet-3-hin'!G64=\"\",\"\",'Entry sheet-3-hin'!G64)","v":"यह सही है कि इन दोनों कुछ ऐसा माहौल बना है कि ईमानदारी से मेहनत करके जीविका चलाने वाले निरीह और भोले-भोले श्रमजीवी पिस रहे हैं और झूठ तथा फरेब का रोजगार करने वाले फल फूल रहे हैं । ईमानदारी को मूर्खता का पर्याय समझा जाने लगा है, सच्चाई केवल भीरु और बेबस लोगों के हिस्से पड़ी है । ऐसे स्थिति में जीवन के मूल्यों के बारे में लोगों की आस्था ही हिलने लगी है । सदा मनुष्य-बुद्धि नई परिस्थितियों का सामने करने के लिए नए सामाजिक विधि निषेधों को बनाती है, उनके ठीक न साबित होने पर उन्हें बदलती हैं ।\n\n\n"}]
[null,{"$f":"IF('Entry sheet-3-hin'!G65=\"\",\"\",'Entry sheet-3-hin'!G65)","v":"1.  आजकल किनका बोल बाला है ?"}]
[null,{"$f":"IF('Entry sheet-3-hin'!G66=\"\",\"\",'Entry sheet-3-hin'!G66)","v":"2.  सच्चाई किनके हिस्से  का पर्याय मानी जाने  लगी है ?"}]
[null,{"$f":"IF('Entry sheet-3-hin'!G67=\"\",\"\",'Entry sheet-3-hin'!G67)","v":""}]
[null,{"$f":"IF('Entry sheet-3-hin'!G68=\"\",\"\",'Entry sheet-3-hin'!G68)","v":""}]
["IX.   निम्नलिखित वाक्यों का अनुवाद कन्नड या अंग्रेजी में कीजिए :-  ",null,null,null,null,"4X1=4"]
[{"$f":"IF(B77=\"\",\"\",A67+2)","v":{"$error":"#VALUE!"}},{"$f":"IF('Entry sheet-3-hin'!G69=\"\",\"\",'Entry sheet-3-hin'!G69)","v":"उनके बचपन का नाम नरेंद्र देव था ।                                                                 "}]
[{"$f":"IF(B78=\"\",\"\",A77+1)","v":{"$error":"#VALUE!"}},{"$f":"IF('Entry sheet-3-hin'!G70=\"\",\"\",'Entry sheet-3-hin'!G70)","v":"शहर में क्यों आतंक छा गया था ?                                                                "}]
[{"$f":"IF(B79=\"\",\"\",A78+1)","v":""},{"$f":"IF('Entry sheet-3-hin'!G71=\"\",\"\",'Entry sheet-3-hin'!G71)","v":""}]
[{"$f":"IF(B80=\"\",\"\",A79+1)","v":""},{"$f":"IF('Entry sheet-3-hin'!G72=\"\",\"\",'Entry sheet-3-hin'!G72)","v":""}]
["X.47.   ",{"$f":"IF('Entry sheet-3-hin'!G73=\"\",\"\",'Entry sheet-3-hin'!G73)","v":"अपनी पढ़ाई के बारे में बताते हुए अपने पिताजी को एक पत्र लिखिए ।"},null,null,null,4]
[null,"अथवा"]
[null,{"$f":"IF('Entry sheet-3-hin'!G74=\"\",\"\",'Entry sheet-3-hin'!G74)","v":""}]
["XI.48.   ","किसी एक विषय पर निबंध लिखिए ।  ",null,null,null,4]
[{"$f":"IF(B85=\"\",\"\",1)","v":1},{"$f":"IF('Entry sheet-3-hin'!G75=\"\",\"\",'Entry sheet-3-hin'!G75)","v":"इंटर्नेट क्रांति          (अर्थ,  लाभ,  हानी,  उपसंहार)"}]
[{"$f":"IF(B86=\"\",\"\",A85+1)","v":2},{"$f":"IF('Entry sheet-3-hin'!G76=\"\",\"\",'Entry sheet-3-hin'!G76)","v":"त्योहारों का महत्व"}]
["",{"$f":"IF('Entry sheet-3-hin'!G77=\"\",\"\",'Entry sheet-3-hin'!G77)","v":""}]
[null,"***************************************"]

{"sheet":"instruction 90 marks","index":9,"n_rows":26,"n_cols":20,"rows_kept":26,"cut":false,"hidden":false,"merged":[[19,1,26,2],[2,2,2,16],[25,7,25,14],[1,1,1,18],[21,7,21,14],[22,7,22,14],[23,7,23,14],[24,7,24,14],[14,4,14,18],[4,1,4,18],[3,2,3,16],[7,4,7,18],[8,4,8,18],[9,4,9,18],[5,1,5,18],[10,4,10,18],[11,4,11,18],[19,4,19,18],[12,4,12,18],[13,4,13,18],[15,4,15,18],[16,4,16,18],[17,4,17,18],[6,3,6,18],[6,19,6,20],[7,19,7,20],[8,19,8,20],[9,19,9,20],[15,19,15,20],[16,19,16,20],[17,19,17,20],[10,19,10,20],[11,19,11,20],[12,19,12,20],[13,19,13,20],[14,19,14,20]]}
[]
[null,"90 CAPÀUÀ¼À ಪ್ರಶ್ನೆ ಪತ್ರಿಕೆಯನ್ನು ತಯಾರಿಸಲು ನೀಲ ನಕ್ಷೆಯನ್ನು ಸಿದ್ಧಪಡಿಸುವುದು."]
[null,"*","¥Àæ±Éß ¥ÀwæPÉ ¹zÀÞ¥Àr¸À®Ä ¥ÁoÀUÀ¼À ¸ÀASÉå ªÀÄvÀÄÛ ¥Àæ±ÉßUÀ¼À C£ÀÄPÀæªÀÄ ¥ÀÆªÀð ¤zsÁðjvÀ. ¥ÁoÀUÀ½UÉ ¤UÀ¢üUÉÆ½¹gÀÄªÀ ¸ÀASÉåAiÀÄ£ÀÄß §¼À¹PÉÆAqÀÄ ¥Àæ±ÉßUÀ¼À£ÀÄß DAiÀÄÄÝPÉÆ¼Àî¨ÉÃPÀÄ. ¥ÀÆªÀð ¤zsÁðjvÀ ಪಾಠಗಳ ಸಂಖ್ಯೆಯನ್ನು ಮುಖ್ಯ ಪುಟ 1 ರಲ್ಲಿ ನಮೂಧಿಸಲಾಗಿದೆ."]
[null,"*","B9 £À°è ¥ÀÆªÀð ¤zsÁðjvÀ ¥ÁoÀzÀ ¸ÀASÉåAiÀÄ£ÀÄß vÀÄA©PÉÆAqÀÄ C9 jAzÀ G9 gÀªÀgÉUÉ ¥Àæ±ÉßUÀ¼À ««zsÀ ¥ÀæPÁgÀUÀ¼À£ÀÄß DAiÉÄÌ ªÀiÁrPÉÆ½î. ¤ÃªÀÅ DAiÉÄÌ ªÀiÁrPÉÆAqÀ ¥ÁoÀzÀ ¸ÀASÉå ºÁUÀÆ ¥Àæ±ÉßUÀ¼À ««zsÀ ¥ÀæPÁgÀUÀ¼ÀÄ प्रश्‍न चुनना ಪುಟದಲ್ಲಿ PÁtÄªÀzÀjAzÀ ¥Àæ±ÉßUÀ¼À ««zsÀ ¥ÀæPÁgÀUÀ½UÉ C£ÀÄ¸ÁgÀªÁV ¥Àæ±ÉßAiÀÄ£ÀÄß DAiÀÄÄÝPÉÆ¼Àî®Ä ¸ÀºÁAiÀÄAiÀiÁUÀÄvÀÛzÉ.\nप्रश्‍न चुनना ಪುಟದಲ್ಲಿ  \"ಜಿ:ಎಕ್ಸ14\" ನಲ್ಲಿ ಕೇವಲ ನಿಮಗೆ ಬೇಕಾದ ಪ್ರಶ್ನೆಗಳನ್ನು ಮಾತ್ರ ಆಯ್ದುಕೊಳ್ಳುವುದು.."]
[null,"90 CAPÀUÀ¼À ¤Ã® £ÀPÉëAiÀÄ°è ¥ÀÀæ±ÉßUÀ¼À£ÀÄß  DAiÀÄÄÝPÉÆ¼ÀÄîªÀ C£ÀÄPÀæªÀÄtÂPÉ \n( मुख्य पृष्ठ-2 £À°è B9 jAzÀ B72 gÀªÀgÉV£À PÁ®AUÀ¼À°è ¥ÁoÀzÀ ¸ÀASÉåAiÀÄ£ÀÄß £ÀªÀÄÆ¢ü¸ÀÄªÀÅzÀgÀ ªÀÄÆ®PÀ ) ನೀಲ ನಕ್ಷೆ ಸಿದ್ಧವಾದ ನಂತರ ಪ್ರಶ್ನ್ ಚುನನಾ ಪುಟದಲ್ಲಿ ನಿಮಗೆ ಬೇಕಾದ ಪ್ರಶ್ನೆಗಳನ್ನು ಆಯ್ದುಕೊಳ್ಳಿ. ನೀಲ ನಕ್ಷೆಯಲ್ಲಿ ಯಾವ ಪ್ರಶ್ನೆಗೆ ಯಾವ ಪಾಠದ ಸಂಖ್ಯೆಯನ್ನು ನೀಡಿರುತ್ತೀರೊ ಆ ಪಾಠದ ಪ್ರಶ್ನೆಗಳು ಪ್ರಶ್ನ್ ಚುನನಾ ಪುಟದಲ್ಲಿ ಆಯ್ದುಕೊಳ್ಳಬಹುದು."]
[null,"ನೀಲ ನಕ್ಷೆಯ ಸಹಿತ ಪ್ರಶ್ನೆ ಪತ್ರಿಕೆಯು ಕೇವಲ 9 ನೇ ತರಗತಿಗೆ ಮಾತ್ರ. ನೀವು ಕೇವಲ ನೀಲ ನಕ್ಷೆಗಾಗಿ ಈ ತಂತ್ರಾಂಶವನ್ನು ಬಳಸುವುದಾದರೆ ಯಾವ ತರಗತಿಗೆ ಬೇಕಾದರು  ಬಳಸಿಕೊಳ್ಳಬಹುದು.(ಹಿಂದಿ ವಿಷಯಕ್ಕೆ ಮಾತ್ರ)"]
[null,null,"ಮುಖ್ಯಪುಟ2","ಮುಖ್ಯ ಪುಟ 2 ನಲ್ಲಿ ಈ ಕೆಳಗಿನ ಸೂಚನೆಯಂತೆ ನೀಲ ನಕ್ಷೆಯನ್ನು ಸಿದ್ಧಪಡಿಸಿ.",null,null,null,null,null,null,null,null,null,null,null,null,null,null,null,"प्रश्‍न चुनना "]
[null,1,"B9 - B16 ",null,"\u008d\u008d\u008d\u008d\u008d\u008d\u008d\u008d\u008d\u008d\u008dMAzÀÄ CAPÀzÀ 3 ¥Àæ±ÉßUÀ¼À£ÀÄß DAiÀÄÄÝPÉÆ½î. ( 1 CAPÀzÀ ¥Àæ±ÉßUÀ½UÉ AiÀiÁªÀ ¥ÁoÀ¢AzÀ ¥Àæ±ÉßUÀ¼À£ÀÄß PÉÆqÀ°aÑ¸ÀÄ«gÉÆ, D ¥ÁoÀzÀ ¸ÀASÉåAiÀÄ£ÀÄß `©9' ನಲ್ಲಿ ತುಂಬಿ \"ಸಿ9\" ನಲ್ಲಿ ಪ್ರಶ್ನೆಯ ಉದ್ದೇಶ, \"ಡಿ9\" ನಲ್ಲಿ ಪ್ರಶ್ನೆಯ ಸ್ತರ, \"ಇ9\" ನಲ್ಲಿ ಪ್ರಶ್ನೆಯ ಪ್ರಕಾರ, \"ಎಫ್9\" ನಲ್ಲಿ ವಿಷಯ ವಸ್ತು, ಹಾಗೂ \"ಜಿ9\" ನಲ್ಲಿ ಆಯ್ಕೆ ಪ್ರಶ್ನೆಯಾದರೆ \"ಸಿ\" ಎಂದು ಆಯ್ದುಕೊಳ್ಳಿ ಇಲ್ಲವಾದರೆ ಖಾಲಿ ಬಿಡಿ. EzÉÃ ¤AiÀÄªÀÄªÀ£ÀÄß J¯Áè ¥Àæ±ÉßUÀ¼À DAiÉÄÌUÀÆ C£ÀÄ¸Àj¹.)",null,null,null,null,null,null,null,null,null,null,null,null,null,null,"G:X14 - G:X21  "]
[null,2,"B17 - B22",null,"ºÉÆA¢¹ §gÉAiÀÄÄªÀ 4 ¥Àæ±ÉßUÀ¼ÀÄ. B21 ªÀÄvÀÄÛ  B22 gÀ ªÀÄÄA¢£À G PÁ®A£À°è wæ¨sÀÄeÁPÁgÀzÀ ªÉÄÃ¯É ªÀiË¸ï QèPï ªÀiÁqÀÄªÀÅzÀgÀ ªÀÄÆ®PÀ  C JAzÀÄ DAiÉÄÌ ªÀiÁrPÉÆ½î. »ÃUÉ ªÀiÁqÀÄªÀÅzÀjAzÀ ¤Ã® £ÀPÉëAiÀÄ°è CªÀÅUÀ¼À CAPÀUÀ¼À£ÀÄß vÉÆÃj¸ÀÄªÀÅ¢®è ºÁUÀÆ ºÉÆA¢¹ §gÉAiÀÄÄªÀ 4 ¥Àæ±ÉßUÀ¼À£ÀÄß ªÀiÁvÀæ £ÁªÀÅ DAiÀÄÄÝPÉÆAqÀAvÁUÀÄvÀÛzÉ. ¥Àæ±Éß ¥ÀwæPÉAiÀÄ ¥ÀÄlzÀ°è ºÉÆA¢¹ §gÉAiÀÄÄªÀ ¥Àæ±ÉßUÀ¼À£ÀÄß DAiÀÄÄÝPÉÆ¼ÀÄîªÁUÀ G ¤AzÀ O ªÀgÉUÉ `PÀ' ¥ÀnÖAiÀÄ ¥Àæ±ÉßUÀ¼À£ÀÄß  ºÁUÀÆ  P ¤AzÀ X ªÀgÉUÉ `RÀ' ¥ÀnÖAiÀÄ ¥Àæ±ÉßUÀ¼À£ÀÄß DAiÀÄÄÝPÉÆ¼Àî®Ä CªÀPÁ±À PÀ°à¸À¯ÁVzÉ. B21 ªÀÄvÀÄÛ  B22 gÀ ªÀÄÄA¢£À PÉÃªÀ® `R' ¥ÀnÖAiÀÄ ¥Àæ±ÉßUÀ¼À£ÀÄß DAiÀÄÄÝPÉÆ¼Àî®Ä CªÀPÁ±À PÀ°à¹zÉ, `PÀ' ¥ÀlÖAiÀÄ ¥Àæ±ÉßUÀ½UÉ CªÀPÁ±À PÀ°à¹gÀÄªÀÅ¢®è.",null,null,null,null,null,null,null,null,null,null,null,null,null,null,"G:O22 - G:O25 -\n\"ಕ\" ಪಟ್ಟಿ\nP:X22 - P:X27 \n\"ಖ\" ಪಟ್ಟಿ"]
[null,3,"B23 - B26",null,"C£ÀÄgÀÆ¥ÀvÁ 4 ¥Àæ±ÉßUÀ¼À£ÀÄß DAiÀÄÄÝPÉÆ½î.",null,null,null,null,null,null,null,null,null,null,null,null,null,null,"G:X28 - G:X31"]
[null,4,"B27 - B40",null,"2 CAPÀUÀ¼À 12 ¥Àæ±ÉßUÀ¼À£ÀÄß DAiÀÄÄÝPÉÆ½î. 11 ªÀÄvÀÄÛ 12 £ÉÃ ¥Àæ±ÉßUÀ¼À£ÀÄß ¥ÀÆgÀPÀ ªÁZÀ£À¢AzÀ DAiÀÄÄÝPÉÆ½î. 11 £ÉÃ ¥Àæ±ÉßUÉ JgÀqÀÄ ¥Àæ±ÉßUÀ¼À£ÀÄß DAiÀÄÄÝPÉÆAqÀÄ, DAiÀÄÄÝPÉÆAqÀ JgÀqÀgÀ°è MAzÀ£ÀÄß `DAiÉÄÌ' ¥Àæ±Éß ªÀiÁrPÉÆ½î. CAzÀgÉ, AiÀiÁªÀ ¥Àæ±ÉßAiÀÄ£ÀÄß `DAiÉÄÌ' ¥Àæ±ÉßAiÀÄ£ÁßV¸À®Ä EaÒ¸ÀÄ«gÉÆ D ¥Àæ±ÉßAiÀÄ G PÁ®A£À°è  C JAzÀÄ DAiÀÄÄÝPÉÆ½î. EzÉÃ PÀæªÀÄªÀ£ÀÄß 12 £ÉÃ ¥Àæ±ÉßAiÀÄ DAiÉÄÌUÀÄ C£ÀÄ¸Àj¹. ",null,null,null,null,null,null,null,null,null,null,null,null,null,null,"G:X32- G:X45"]
[null,5,"B41 - B45",null,"3 CAPÀUÀ¼À 5 ¥Àæ±ÉßUÀ¼À£ÀÄß DAiÀÄÄÝPÉÆ½î. EzÀgÀ°è ¤ÃªÀÅ ¥ÀzÀåzÀ ¨sÁªÁxÀðªÀ£ÀÄß PÉÆqÀ°aÒ¹zÀ°è 5£ÉÃ ¥Àæ±ÉßAiÀÄ£ÀÄß ¨sÁªÁxÀðPÉÌ DAiÀÄÄÝPÉÆ½î.",null,null,null,null,null,null,null,null,null,null,null,null,null,null,"G:X46 - G:X50"]
[null,6,"B46 - B49",null,"4 CAPÀUÀ¼À 2 ¥Àæ±ÉßUÀ¼À£ÀÄß DAiÀÄÄÝPÉÆ½î. EzÀgÀ°è ªÉÆzÀ®£ÉAiÀÄ JgÀqÀÄ ¥Àæ±ÉßUÀ¼À£ÀÄß UÀzÀå¢AzÀ DAiÀÄÄÝPÉÆAqÀÄ AiÀiÁªÀÅzÁzÀgÀÄ MAzÀgÀ ªÀÄÄA¢£À  G PÁ®A£À°è  C JAzÀÄ DAiÀÄÄÝPÉÆ½î. £ÀAvÀgÀzÀ JgÀqÀÄ ¥Àæ±ÉßUÀ¼À£ÀÄß ¥ÀzÀå¢AzÀ DAiÀÄÄÝPÉÆAqÀÄ ( ¨ÉÃPÁzÀ ¥ÀzÀåzÀ ¥ÁoÀ ¸ÀASÉåAiÀÄ£ÀÄß ¤UÀ¢üvÀ PÁ®A£À°è £ÀªÀÄÆ¢ü¸ÀÄªÀÅzÀgÀ ªÀÄÆ®PÀ ) AiÀiÁªÀÅzÁzÀgÀÄ MAzÀgÀ ªÀÄÄA¢£À  G PÁ®A£À°è  C JAzÀÄ DAiÀÄÄÝPÉÆ½î.",null,null,null,null,null,null,null,null,null,null,null,null,null,null,"G:X51 - G:X54"]
[null,7,"B450 - B58",null,"ªÁåPÀgÀt¢AzÀ §ºÀÄDAiÉÄÌAiÀÄ 9 ¥Àæ±ÉßUÀ¼À£ÀÄß DAiÀÄÄÝPÉÆ½î.",null,null,null,null,null,null,null,null,null,null,null,null,null,null,"G:X55 - G:X63"]
[null,8,"B59 - B63",null,"C¥ÀpvÀ UÀzÀåªÀ£ÀÄß DAiÀÄÄÝPÉÆ½î. ( ಅತ್ಯಂತ ಲಘು ಉತ್ತರದಲ್ಲಿ ಆಯ್ದುಕೊಳ್ಳಿ) B59 ನಲ್ಲಿ ಅಪಠಿತ ಗದ್ಯವನ್ನು ಆಯ್ದುಕೊಳ್ಳಿ, B60 ಯಿಂದ B63 ವರೆಗೆ ಅಪಠಿತ ಗದ್ಯದ ಪ್ರಶ್ನೆಗಳನ್ನು ಆಯ್ದುಕೊಳ್ಳಿ.",null,null,null,null,null,null,null,null,null,null,null,null,null,null,"G:X64 - G:X68"]
[null,9,"B64 - B67",null," 1 CAPÀzÀ £Á®ÄÌ C£ÀÄªÁzÀzÀ ¥Àæ±ÉßUÀ¼À£ÀÄß DAiÀÄÄÝPÉÆ½î. ( ಅತ್ಯಂತ ಲಘು ಉತ್ತರದಲ್ಲಿ ಆಯ್ದುಕೊಳ್ಳಿ) ",null,null,null,null,null,null,null,null,null,null,null,null,null,null,"G:X69- G:X72"]
[null,10,"B68 - B69",null,"5 CAPÀUÀ¼À ¥ÀvÀæ¯ÉÃR£ÀzÀ 2 ¥Àæ±ÉßUÀ¼À£ÀÄß DAiÀÄÄÝPÉÆ½î. EzÀgÀ°è  AiÀiÁªÀÅzÁzÀgÀÄ MAzÀgÀ ªÀÄÄA¢£À  G PÁ®A£À°è  C JAzÀÄ DAiÀÄÄÝPÉÆ½î. ",null,null,null,null,null,null,null,null,null,null,null,null,null,null,"G:X73 - G:X74"]
[null,11,"B70 - B72",null,"5 CAPÀUÀ¼À ¤§AzsÀ gÀZÀ£ÉAiÀÄ 3 ¥Àæ±ÉßUÀ¼À£ÀÄß DAiÀÄÄÝPÉÆAqÀÄ CªÀÅUÀ¼À°è AiÀiÁªÀÅzÁzÀgÀÄ JgÀqÀgÀ ªÀÄÄA¢£À  G PÁ®A£À°è  C JAzÀÄ DAiÀÄÄÝPÉÆ½î. ",null,null,null,null,null,null,null,null,null,null,null,null,null,null,"G:X75 - G:X77"]
[]
[null,"90, 40 ಮತ್ತು 20 ಅಂಕಗಳಿಗೆ ಪ್ರಶ್ನೆ ಪತ್ರಿಕೆಗಳನ್ನು ಸಿದ್ಧಪಡಿಸುವಾಗ ಬೇರೆಡೆ ಕಾಪಿ ಮಾಡಿಕೊಂಡು ಸಿದ್ಧಪಡಿಸುವುದು. ಸೂಕ್ತ. ಏಕೆಂದರೆ ಬೇರೆ ಬೇರೆ ಅಂಕಗಳಿಗೆ ನೀಲ ನಕ್ಷೆ ತಯಾರಿಸುವಾಗ ಮೊದಲ ನೀಲ ನಕ್ಷೆಯನ್ನ ಕಳೆದುಕೊಳ್ಳುವಿರಿ.",null,null,"¥Àæ±ÉßUÀ¼À DAiÉÄÌAiÀÄ¯ÁèUÀ° ºÁUÀÆ ¥Àæ±Éß ¥ÀwæPÉAiÀÄ¯ÉèÃ DUÀ° §zÀ¯ÁªÀuÉ ªÀiÁqÀ®Ä CªÀPÁ±À«®è. ¥Àæ±ÉßUÀ¼À DAiÉÄÌAiÀÄ°è K£ÁzÀgÀÄ ªÀåvÁå¸À PÀAqÀÄ§AzÀ°è CzÀPÉÌ ¤Ã® £ÀPÉëAiÀÄ¯ÉèÃ ªÁåvÁå¸ÀªÁVgÀÄvÀÛzÉ. ¤Ã® £ÀPÉëAiÀÄ°è£À ªÀåvÁå¸ÀªÀ£ÀÄß ¸Àj¥Àr¸ÀÄªÀ ªÀÄÆ®PÀ ¥Àæ±ÉßUÀ¼À DAiÉÄÌAiÀÄ°è£À ºÁUÀÆ ¥Àæ±Éß ¥ÀwæPÉAiÀÄ°è£À ªÀåvÁå¸ÀªÀ£ÀÄß ¸Àj¥Àr¹PÉÆ½î. (¤Ã® £ÀPÉëAiÀÄ°è ¥ÁoÀzÀ ¸ÀASÉå, UÀzÀå,¥ÀzÀå, ªÁåPÀgÀt ( §ºÀÄ«PÀ°àÃAiÀÄ), ºÉÆA¢¹ §gÉAiÀÄÄªÀÅzÀÄ, EvÁå¢UÀ¼À ¥ÁoÀ ¸ÀASÉå ºÁUÀÆ ¥Àæ±ÉßUÀ¼À C£ÀÄPÀæªÀÄUÀ¼À°è ªÀåvÁå¸À«gÀÄvÀÛzÉ.) "]
[]
[null,null,null,null,null,null,null,"Prepared  By :"]
[null,null,null,null,null,null,null,"NAGALINGAIAH. Govt.P.U.COLLEGE (H.S)Gurugunta, TQ: Lingasugur"]
[null,null,null,null,null,null,null," District : Raichur"]
[null,null,null,null,null,null,null,"E Mail-  nagalingaiah.h@gmail.com"]
[null,null,null,null,null,null,null,"Mob: 9035172763, 7760399489"]

{"sheet":"instructions","index":10,"n_rows":90,"n_cols":13,"rows_kept":90,"cut":false,"hidden":false,"merged":[[85,12,85,19],[86,12,86,19],[87,12,87,19],[88,12,88,19],[89,12,89,19]]}
[]
[]
["                 "]
[]
[]
[]
[]
[]
[]
[]
[]
[]
[]
[]
[]
[]
[]
[]
[]
[]
[]
[]
[]
[]
[]
[]
[]
[]
[]
[]
[]
[]
[]
[]
[]
[]
[]
[]
[]
[]
[]
[]
[]
[]
[]
[]
[]
[]
[]
[]
[]
[]
[]
[]
[]
[]
[]
[]
[]
[]
[]
[]
[]
[]
[]
[]
[]
[]
[]
[]
[]
[]
[]
[]
[]
[]
[]
[]
[]
[]
[]
[]
[]
[]
[]
[null,null,null,null,null,null,null,null,null,null,null,null,"Prepared  By :"]
[null,null,null,null,null,null,null,null,null,null,null,null,"NAGALINGAIAH. Govt.P.U.COLLEGE (H.S)Gurugunta, TQ: Lingasugur"]
[null,null,null,null,null,null,null,null,null,null,null,null," District : Raichur"]
[null,null,null,null,null,null,null,null,null,null,null,null,"E Mail-  nagalingaiah.h@gmail.com"]
[null,null,null,null,null,null,null,null,null,null,null,null,"Mob: 9035172763, 7760399489"]

{"sheet":"LINKS","index":11,"n_rows":31,"n_cols":13,"rows_kept":31,"cut":false,"hidden":false,"merged":[[26,12,26,19],[27,12,27,19],[28,12,28,19],[29,12,29,19],[30,12,30,19]]}
[]
[]
[]
[]
[]
[]
[]
[]
[]
[]
[]
[]
[]
[]
[]
[]
[]
[]
[]
[]
[]
[]
[]
[]
[]
[]
[null,null,null,null,null,null,null,null,null,null,null,null,"Prepared By"]
[null,null,null,null,null,null,null,null,null,null,null,null,"NAGALINGAIAH. Govt.P.U.COLLEGE (H.S)Gurugunta, TQ: Lingasugur"]
[null,null,null,null,null,null,null,null,null,null,null,null," District : Raichur"]
[null,null,null,null,null,null,null,null,null,null,null,null,"E Mail-  nagalingaiah.h@gmail.com"]
[null,null,null,null,null,null,null,null,null,null,null,null,"Mob: 9035172763, 7760399489"]

{"sheet":"Model Blueprint","index":12,"n_rows":38,"n_cols":18,"rows_kept":38,"cut":false,"hidden":false,"merged":[[31,13,31,15],[32,2,32,17],[20,1,20,17],[11,2,11,17],[3,2,3,17],[22,13,24,13],[25,13,25,14],[26,13,27,13],[28,13,29,13],[30,13,30,14],[30,1,30,2],[30,7,30,8],[31,2,31,4],[31,7,31,9],[28,3,29,3],[28,1,29,2],[0,13,0,15],[10,13,10,15],[19,7,19,9],[19,13,19,15],[21,13,21,14],[28,7,29,7],[0,2,0,4],[0,7,0,9],[25,1,25,2],[25,7,25,8],[26,1,27,1],[26,7,27,7],[1,2,2,4],[1,7,2,9],[10,2,10,4],[10,7,10,9],[22,1,24,1],[22,7,24,7],[19,2,19,4],[21,1,21,2],[21,7,21,8]]}
[null,null,"Model Blueprint for 40 Marks",null,null,null,null,"Model Blueprint for 90 Marks",null,null,null,null,null,"Model Blueprint for 20 Marks"]
[null,null,"40 Marks",null,null,null,null,"90 Marks"]
[]
[null,null,"उद्देश्यों के आधार पर"]
[null,null,"उद्देश्य","अंक","प्रतिशत",null,null,"उद्देश्य","अंक","प्रतिशत",null,null,null,"उद्देश्य","अंक","प्रतिशत"]
[null,null,"स्मरण रखना",8,{"$f":"D6*100/40","v":20},null,null,"स्मरण रखना",18,{"$f":"I6*100/90","v":20},null,null,null,"स्मरण रखना",4,{"$f":"O6*100/20","v":20}]
[null,null,"समझना",15,{"$f":"D7*100/40","v":37.5},null,null,"समझना",36,{"$f":"I7*100/90","v":40},null,null,null,"समझना",7,{"$f":"O7*100/20","v":35}]
[null,null,"अभिव्यक्ति",14,35,null,null,"अभिव्यक्ति",33,{"$f":"I8*100/90","v":36.666666666666664},null,null,null,"अभिव्यक्ति",7,35]
[null,null,"रसग्रहण",3,7.5,null,null,"रसग्रहण",3,{"$f":"I9*100/90","v":3.3333333333333335},null,null,null,"रसग्रहण",2,10]
[null,null,"कुल",{"$f":"SUM(D6:D9)","v":40},{"$f":"SUM(E6:E9)","v":100},null,null,"कुल",{"$f":"SUM(I6:I9)","v":90},{"$f":"SUM(J6:J9)","v":99.999999999999986},null,null,null,"कुल",{"$f":"SUM(O6:O9)","v":20},{"$f":"SUM(P6:P9)","v":100}]
[null,null,"40 Marks",null,null,null,null,"90 Marks",null,null,null,null,null,"20 Marks"]
[null,null,"विषय वस्तु"]
[null,null,null,"अंक","प्रतिशत",null,null,null,"अंक","प्रतिशत",null,null,null,null,"अंक","प्रतिशत"]
[null,null,"गद्य",16,{"$f":"D14*100/40","v":40},null,null,"गद्य",36,{"$f":"I14*100/90","v":40},null,null,null,"गद्य",8,{"$f":"O14*100/20","v":40}]
[null,null,"पद्य",10,25,null,null,"पद्य",23,{"$f":"I15*100/90","v":25.555555555555557},null,null,null,"पद्य",5,{"$f":"O15*100/20","v":25}]
[null,null,"व्याकरण",4,10,null,null,"व्याकरण",9,10,null,null,null,"व्याकरण",2,10]
[null,null,"रचना",8,20,null,null,"रचना",18,20,null,null,null,"रचना",4,20]
[null,null,"पूरक वाचन",2,5,null,null,"पूरक वाचन",4,4.4444444444444446,null,null,null,"पूरक वाचन",1,5]
[null,null,"कुल",{"$f":"SUM(D14:D18)","v":40},{"$f":"SUM(E14:E18)","v":100},null,null,"कुल",{"$f":"SUM(I14:I18)","v":90},{"$f":"SUM(J14:J18)","v":100},null,null,null,"कुल",{"$f":"SUM(O14:O18)","v":20},{"$f":"SUM(P14:P18)","v":100}]
[null,null,"40 Marks",null,null,null,null,"90 Marks",null,null,null,null,null,"20 Marks"]
[null,"प्रश्‍नों के प्रकार"]
[null,null,null,"प्रश्‍नों","अंक","प्रतिशत",null,null,null,"प्रश्‍नों","अंक","प्रतिशत",null,null,null,"प्रश्‍नों","अंक","प्रतिशत"]
[null,"वस्तुनिष्ठ","बहुविकल्पीय",4,{"$f":"D23*1","v":4},{"$f":"E23*100/40","v":10},null,"वस्तुनिष्ठ","बहुविकल्पीय",9,{"$f":"J23*1","v":9},{"$f":"K23*100/90","v":10},null,"वस्तुनिष्ठ","बहुविकल्पीय",2,{"$f":"P23*1","v":2},{"$f":"Q23*100/20","v":10}]
[null,null,"अनुरूपता",2,{"$f":"D24*1","v":2},{"$f":"E24*100/40","v":5},null,null,"अनुरूपता",4,{"$f":"J24*1","v":4},{"$f":"K24*100/90","v":4.4444444444444446},null,null,"अनुरूपता",1,{"$f":"P24*1","v":1},{"$f":"Q24*100/20","v":5}]
[null,null,"जोड़कर",2,2,5,null,null,"जोड़कर",4,4,4.4444444444444446,null,null,"जोड़कर",1,1,5]
[null,"अति लघूत्तर",null,8,8,20,null,"अति लघूत्तर",null,16,16,17.777777777777779,null,"अति लघूत्तर",null,3,3,15]
[null,"लघूत्तर","दो अंकवाले",5,{"$f":"D27*2","v":10},25,null,"लघूत्तर","दो अंकवाले",12,{"$f":"J27*2","v":24},26.666666666666668,null,"लघूत्तर","दो अंकवाले",3,{"$f":"P27*2","v":6},30]
[null,null,"तीन अंकवाले",2,{"$f":"D28*3","v":6},15,null,null,"तीन अंकवाले",5,{"$f":"J28*3","v":15},16.666666666666668,null,null,"तीन अंकवाले",1,{"$f":"P28*3","v":3},15]
[null,"दीर्घोत्तर",null,2,{"$f":"D29*4","v":8},20,null,"दीर्घोत्तर","4 अंकवाले",2,{"$f":"J29*4","v":8},8.8888888888888893,null,"दीर्घोत्तर","4 अंकवाले",1,{"$f":"P29*4","v":4},20]
[null,null,null,null,{"$f":"D30*5","v":0},{"$f":"E30*100/90","v":0},null,null,"5 अंकवाले",2,{"$f":"J30*5","v":10},11.111111111111111,null,null,"5 अंकवाले",null,{"$f":"P30*5","v":0},0]
[null,"कुल",null,{"$f":"SUM(D23:D30)","v":25},{"$f":"SUM(E23:E30)","v":40},{"$f":"SUM(F23:F29)","v":100},null,"कुल",null,{"$f":"SUM(J23:J30)","v":54},{"$f":"SUM(K23:K30)","v":90},{"$f":"SUM(L23:L29)","v":88.8888888888889},null,"कुल",null,{"$f":"SUM(P23:P30)","v":12},{"$f":"SUM(Q23:Q30)","v":20},{"$f":"SUM(R23:R29)","v":100}]
[null,null,"40 Marks",null,null,null,null,"90 Marks",null,null,null,null,null,"20 Marks"]
[null,null,"प्रश्‍नों के स्तर के आधार पर"]
[null,null,null,"अंक","प्रतिशत",null,null,null,"अंक","प्रतिशत",null,null,null,null,"अंक","प्रतिशत"]
[null,null,"सरल",12,{"$f":"D35*100/40","v":30},null,null,"सरल",27,{"$f":"I35*100/90","v":30},null,null,null,"सरल",6,{"$f":"O35*100/20","v":30}]
[null,null,"सामान्य",20,{"$f":"D36*100/40","v":50},null,null,"सामान्य",45,{"$f":"I36*100/90","v":50},null,null,null,"सामान्य",10,{"$f":"O36*100/20","v":50}]
[null,null,"कठिन",8,20,null,null,"कठिन",18,20,null,null,null,"कठिन",4,20]
[null,null,"कुल",{"$f":"SUM(D35:D37)","v":40},{"$f":"SUM(E35:E37)","v":100},null,null,"कुल",{"$f":"SUM(I35:I37)","v":90},{"$f":"SUM(J35:J37)","v":100},null,null,null,"कुल",{"$f":"SUM(O35:O37)","v":20},{"$f":"SUM(P35:P37)","v":100}]

{"sheet":"Entry sheet-1-hin","index":13,"n_rows":79,"n_cols":14,"rows_kept":79,"cut":false,"hidden":false,"merged":[[50,7,50,9],[78,0,78,1],[18,7,18,8],[3,0,3,1],[6,2,6,15],[13,7,13,8],[14,7,15,7],[8,7,8,8],[11,7,12,7],[9,7,10,7],[9,8,10,8],[9,9,10,9],[9,10,10,10],[26,7,26,9],[27,7,27,9],[28,7,28,9],[29,7,29,9],[0,0,0,15],[7,0,7,1],[1,0,1,1],[4,0,4,1],[2,0,2,1],[6,0,6,1],[5,2,5,15],[5,0,5,1],[1,2,1,15],[2,2,2,15],[3,2,3,15],[4,2,4,15],[25,6,25,9],[16,7,17,7],[49,7,49,9],[40,7,40,9],[41,7,41,9],[42,7,42,9],[43,7,43,9],[44,7,44,9],[45,7,45,9],[46,7,46,9],[47,7,47,9],[48,7,48,9],[35,7,35,9],[36,7,36,9],[37,7,37,9],[38,7,38,9],[39,7,39,9],[30,7,30,9],[31,7,31,9],[32,7,32,9],[33,7,33,9],[34,7,34,9]]}
["F PÉ¼ÀV£À ªÀiÁ»wUÀ¼À£ÀÄß vÀ¥ÀàzÉÃ §wðªÀiÁr."]
["पाठशाला का नाम",null,"सरकारी पदवि पूर्व कॉलेंज (प्रौ.शा.वि) गुरुगुंटा, ता : लिंगसुगूर"]
["परीक्षा का नाम और साल",null,"संकलनात्मक परीक्षा - १   २०१५-१६"]
["कक्षा",null,"9वीं "]
["विषय",null,"हिंदी"]
[" अंक",null,40]
["शिक्षक का नाम",null,"नागलिंगय्या"]
[]
["क्र.सं","पाठ का नाम","निर्धारित अंक",null,"उद्देश्य","अंक","प्रतिशत","प्रश्‍न-प्रकार",null,"प्रश्‍नों की संख्या","अंक","स्तर","अंक","प्रतिशत"]
[{"$f":"IF(B10=\"\",\"\",1)","v":1},"स्वामी विवेकानंद",4,null,"स्मरण रखना",8,{"$f":"F10*100/$C$6","v":20},"बहुविकल्पीय","बहुविकल्पीय (व्याकरण )",4,{"$f":"J10","v":4},"सरल",12,{"$f":"M10*100/$C$6","v":30}]
[{"$f":"IF(B11=\"\",\"\",A10+1)","v":2},"गुलाब सिंह",3,null,"समझना",15,{"$f":"F11*100/$C$6","v":37.5},null,null,null,null,"सामान्य",20,{"$f":"M11*100/$C$6","v":50}]
[3,"बस की यात्रा",4,null,"अभिव्यक्ति",14,35,"वस्तुनिष्ठ","अनुरूपता",2,{"$f":"J12","v":2},"कठिन",8,20]
[4,"मौसी",5,null,"रसग्रहण",3,7.5,null,"जोड़कर लिखना",2,{"$f":"J13","v":2}]
[5,"मेरा बचपन",null,null,null,null,null,"अति लघूत्तर",null,8,{"$f":"J14","v":8}]
[6,"भीम और राक्षस",null,null,null,null,null,"लघूत्तर ","२ अंकवाले",5,{"$f":"J15*2","v":10}]
[7,"बाहुबली",null,null,null,null,null,null,"३ अंकवाले",2,{"$f":"J16*3","v":6}]
[8,"हामिद खाँ",null,null,null,null,null,"दीर्घोत्तर","४ अंकवाले",2,{"$f":"J17*4","v":8}]
[9,"खेलो- कूदो-स्वस्थ रहो",null,null,null,null,null,null,"५ अंकवाले",0,{"$f":"J18*5","v":0}]
[10,"हिमालय की बेटियाँ",null,null,"विषय वस्तु","प्रतिशत","अंक","चुननेवाला प्रश्‍न"]
[11,"जय-जय भारत माता",3,null,"गद्य",{"$f":"G20*100/$C$6","v":40},16,"अंक","प्रश्‍नों की संख्या"]
[12,"शिक्षा",4,null,"पद्य",{"$f":"G21*100/$C$6","v":25},10,"वस्तुनिष्ठ",2]
[13,"मेरी अभिलाषा है",3,null,"व्याकरण",10,4,"2 अंक",1]
[14,"विनती",null,null,"रचना",20,8,"3अंक"]
[15,"कोई नहीं पराया",null,null,"पूरक वाचन",5,2,"4 अंक",2]
[16,"कबीर के दोहे",null,null,null,null,null,"5 अंक"]
[17,"कजाकी",2,null,null,null,"पूर्व निर्धारित पाठों की संख्या और नाम   ( नील नक्षा के साथ प्रश्‍न पत्रिका के लिए(१०वीं) )"]
[18,"वीर मालव जी",null,null,null,null,"क्र.सं","पाठ का नाम"]
[19,"वृक्ष हमारे जीवन-साथी",null,null,null,null,{"$f":"IF(H28=\"\",\"\",1)","v":1},"स्वामी विवेकानंद"]
[20,"अपठित गद्यांश",2,null,null,null,{"$f":"IF(H29=\"\",\"\",G28+1)","v":2},"गुलाब सिंह","गुलाब सिंह","गुलाब सिंह"]
[21,"अनुवाद",2,null,null,null,3,"बस की यात्रा","बस की यात्रा","बस की यात्रा"]
[22,"पत्र लेखन",4,null,null,null,4,"मौसी","मौसी","मौसी"]
[23,"निबंध रचना",null,null,null,null,5,"मेरा बचपन","मेरा बचपन","मेरा बचपन"]
[24,"व्याकरण",4,null,null,null,6,"भीम और राक्षस","भीम और राक्षस","भीम और राक्षस"]
[{"$f":"IF(B34=\"\",\"\",A33+1)","v":""},null,null,null,null,null,7,"बाहुबली","बाहुबली","बाहुबली"]
["",null,null,null,null,null,8,"हामिद खाँ","हामिद खाँ","हामिद खाँ"]
["",null,null,null,null,null,9,"खेलो- कूदो-स्वस्थ रहो","खेलो- कूदो-स्वस्थ रहो","खेलो- कूदो-स्वस्थ रहो"]
["",null,null,null,null,null,10,"हिमालय की बेटियाँ","हिमालय की बेटियाँ","हिमालय की बेटियाँ"]
["",null,null,null,null,null,11,"जय-जय भारत माता","जय-जय भारत माता","जय-जय भारत माता"]
["",null,null,null,null,null,12,"शिक्षा","शिक्षा","शिक्षा"]
["",null,null,null,null,null,13,"मेरी अभिलाषा है","मेरी अभिलाषा है","मेरी अभिलाषा है"]
["",null,null,null,null,null,14,"विनती","विनती","विनती"]
["",null,null,null,null,null,15,"कोई नहीं पराया","कोई नहीं पराया","कोई नहीं पराया"]
["",null,null,null,null,null,16,"कबीर के दोहे","कबीर के दोहे","कबीर के दोहे"]
["",null,null,null,null,null,17,"कजाकी","कजाकी","कजाकी"]
["",null,null,null,null,null,18,"वीर मालव जी","वीर मालव जी","वीर मालव जी"]
["",null,null,null,null,null,19,"वृक्ष हमारे जीवन-साथी","वृक्ष हमारे जीवन-साथी","वृक्ष हमारे जीवन-साथी"]
["",null,null,null,null,null,20,"अपठित गद्यांश","अपठित गद्यांश","अपठित गद्यांश"]
["",null,null,null,null,null,21,"अनुवाद","अनुवाद","अनुवाद"]
["",null,null,null,null,null,22,"पत्र लेखन","पत्र लेखन","पत्र लेखन"]
["",null,null,null,null,null,23,"निबंध रचना","निबंध रचना","निबंध रचना"]
["",null,null,null,null,null,24,"व्याकरण","व्याकरण","व्याकरण"]
[""]
[""]
[""]
[""]
[""]
[""]
[""]
[""]
[{"$f":"IF(B60=\"\",\"\",A59+1)","v":""}]
[""]
[""]
[""]
[""]
[""]
[""]
[""]
[""]
[{"$f":"IF(B69=\"\",\"\",A68+1)","v":""}]
[{"$f":"IF(B70=\"\",\"\",A69+1)","v":""}]
[""]
[""]
[""]
[""]
[""]
[""]
[""]
[""]
["कुल",null,{"$f":"SUM(C10:C78)","v":40}]

{"sheet":"uddista","index":14,"n_rows":22,"n_cols":8,"rows_kept":22,"cut":false,"hidden":false,"merged":[[21,6,21,8],[20,6,20,8],[9,5,9,6],[5,7,5,8],[6,7,6,8],[9,0,9,2],[7,7,7,8],[8,7,8,8],[9,7,9,8],[7,3,7,4],[8,3,8,4],[9,3,9,4],[7,5,7,6],[8,5,8,6],[3,0,3,8],[0,0,0,9],[1,0,1,9],[5,3,5,4],[6,3,6,4],[5,5,5,6],[6,5,6,6],[4,1,4,2],[4,7,4,8],[4,5,4,6]]}
[{"$f":"IF('Entry sheet-1-hin'!C2=\"\",\"\",'Entry sheet-1-hin'!C2)","v":"सरकारी पदवि पूर्व कॉलेंज (प्रौ.शा.वि) गुरुगुंटा, ता : लिंगसुगूर"}]
[{"$f":"IF('Entry sheet-1-hin'!C3=\"\",\"\",'Entry sheet-1-hin'!C3)","v":"संकलनात्मक परीक्षा - १   २०१५-१६"}]
[{"$f":"'Entry sheet-1-hin'!A4:B4","v":"कक्षा"},{"$f":"IF('Entry sheet-1-hin'!C4=\"\",\"\",'Entry sheet-1-hin'!C4)","v":"9वीं "},null,null,null,null,null,{"$f":"'Entry sheet-1-hin'!A5&IF('Entry sheet-1-hin'!C5=\"\",\"\",'Entry sheet-1-hin'!C5)","v":"विषयहिंदी"}]
["उद्देश्यों के आधार पर"]
[{"$f":"'Entry sheet-1-hin'!A9","v":"क्र.सं"},{"$f":"'Entry sheet-1-hin'!E9","v":"उद्देश्य"},null,{"$f":"'Entry sheet-1-hin'!G9","v":"प्रतिशत"},"%",{"$f":"'Entry sheet-1-hin'!G19","v":"अंक"},null,"प्रश्‍न"]
[1,{"$f":"'Entry sheet-1-hin'!E10","v":"स्मरण रखना"},"स्म",{"$f":"IF(F6=\"\",\"\",F6/'Entry sheet-1-hin'!$C$6*100)","v":10},null,{"$f":"('Entry sheet-2-hin'!C4*'Entry sheet-1-hin'!$C$6)/100","v":4},null,{"$f":"COUNTIF('Entry sheet-2-hin'!$AF$9:$AF$77,\"स्म\")","v":3}]
[2,{"$f":"'Entry sheet-1-hin'!E11","v":"समझना"},"सम",{"$f":"IF(F7=\"\",\"\",F7/'Entry sheet-1-hin'!$C$6*100)","v":47.5},null,{"$f":"('Entry sheet-2-hin'!E4*('Entry sheet-1-hin'!$C$6)/100)","v":19},null,{"$f":"COUNTIF('Entry sheet-2-hin'!$AF$9:$AF$77,\"सम\")","v":14}]
[3,{"$f":"'Entry sheet-1-hin'!E12","v":"अभिव्यक्ति"},"अ",{"$f":"IF(F8=\"\",\"\",F8/'Entry sheet-1-hin'!$C$6*100)","v":35},null,{"$f":"('Entry sheet-2-hin'!G4*'Entry sheet-1-hin'!$C$6)/100","v":14},null,{"$f":"COUNTIF('Entry sheet-2-hin'!$AF$9:$AF$77,\"अ\")","v":7}]
[4,{"$f":"'Entry sheet-1-hin'!E13","v":"रसग्रहण"},"रस",{"$f":"IF(F9=\"\",\"\",F9/'Entry sheet-1-hin'!$C$6*100)","v":7.5},null,{"$f":"('Entry sheet-2-hin'!J4*'Entry sheet-1-hin'!$C$6)/100","v":3},null,{"$f":"COUNTIF('Entry sheet-2-hin'!$AF$9:$AF$77,\"रस\")","v":1}]
["कुल",null,null,{"$f":"IF(D6:D9=\"\",\"\",SUM(D6:D9))","v":100},null,{"$f":"IF(F6:F9=\"\",\"\",SUM(F6:F9))","v":40},null,{"$f":"IF(H6:H9=\"\",\"\",SUM(H6:H9))","v":25}]
[]
[]
[]
[]
[]
[]
[]
[]
[]
[]
[null,null,null,null,null,null,"हस्ताक्षर"]
[null,null,null,null,null,null,{"$f":"IF('Entry sheet-1-hin'!C7=\"\",\"\",\"(\"&'Entry sheet-1-hin'!C7&\")\")","v":"(नागलिंगय्या)"}]

{"sheet":"QUESTION WISE","index":15,"n_rows":26,"n_cols":8,"rows_kept":26,"cut":false,"hidden":false,"merged":[[25,6,25,8],[4,3,4,4],[24,6,24,8],[9,3,9,4],[9,5,9,6],[9,7,9,8],[7,3,7,4],[7,5,7,6],[7,7,7,8],[8,3,8,4],[8,5,8,6],[8,7,8,8],[10,3,10,4],[10,5,10,6],[10,7,10,8],[12,0,12,2],[12,3,12,4],[12,5,12,6],[12,7,12,8],[11,3,11,4],[11,5,11,6],[11,7,11,8],[0,0,0,9],[1,0,1,9],[3,0,3,8],[4,1,4,2],[6,3,6,4],[6,5,6,6],[5,7,5,8],[5,3,5,4],[5,5,5,6],[6,7,6,8],[4,5,4,6],[4,7,4,8]]}
[{"$f":"IF('Entry sheet-1-hin'!C2=\"\",\"\",'Entry sheet-1-hin'!C2)","v":"सरकारी पदवि पूर्व कॉलेंज (प्रौ.शा.वि) गुरुगुंटा, ता : लिंगसुगूर"}]
[{"$f":"IF('Entry sheet-1-hin'!C3=\"\",\"\",'Entry sheet-1-hin'!C3)","v":"संकलनात्मक परीक्षा - १   २०१५-१६"}]
["कक्षा",{"$f":"IF('Entry sheet-1-hin'!C4=\"\",\"\",'Entry sheet-1-hin'!C4)","v":"9वीं "},null,null,null,null,null,{"$f":"'Entry sheet-1-hin'!A5&IF('Entry sheet-1-hin'!C5=\"\",\"\",'Entry sheet-1-hin'!C5)","v":"विषयहिंदी"}]
["प्रश्‍नों के प्रकार के आधार पर प्रतिशत और अंक "]
[{"$f":"uddista!A5","v":"क्र.सं"},{"$f":"'Entry sheet-1-hin'!H9","v":"प्रश्‍न-प्रकार"},null,"प्रतिशत",null,"अंक",null,"प्रश्‍न"]
[1,"बहुविकल्पीय (व्याकरण और अपठित गद्य","MC",{"$f":"IF(F6=\"\",\"\",F6/'Entry sheet-1-hin'!$C$6*100)","v":10},null,{"$f":"IF(H6=\"\",\"\",H6*1)","v":4},null,{"$f":"IF('Entry sheet-2-hin'!$C$7=\"\",\"\",'Entry sheet-2-hin'!$C$7)","v":4}]
[2,"अनुरूपता और जोड़कर लिखना","OT",{"$f":"IF(F7=\"\",\"\",F7/'Entry sheet-1-hin'!$C$6*100)","v":10},null,{"$f":"IF(H7=\"\",\"\",H7*1)","v":4},null,{"$f":"IF('Entry sheet-2-hin'!$E$7=\"\",\"\",'Entry sheet-2-hin'!$E$7)","v":4}]
[3,"अति लघूत्तर","SA",{"$f":"IF(F8=\"\",\"\",F8/'Entry sheet-1-hin'!$C$6*100)","v":20},null,8,null,{"$f":"IF('Entry sheet-2-hin'!$G$7=\"\",\"\",'Entry sheet-2-hin'!$G$7)","v":8}]
[4,"लघूत्तर ( 2अंकवाले)","SA1",{"$f":"IF(F9=\"\",\"\",F9/'Entry sheet-1-hin'!$C$6*100)","v":25},null,{"$f":"IF(H9=\"\",\"\",H9*2)","v":10},null,{"$f":"IF('Entry sheet-2-hin'!$J$7=\"\",\"\",'Entry sheet-2-hin'!$J$7)","v":5}]
[5,"लघूत्तर ( 3अंकवाले)","SA2",{"$f":"IF(F10=\"\",\"\",F10/'Entry sheet-1-hin'!$C$6*100)","v":15},null,{"$f":"IF(H10=\"\",\"\",H10*3)","v":6},null,{"$f":"IF('Entry sheet-2-hin'!$L$7=\"\",\"\",'Entry sheet-2-hin'!$L$7)","v":2}]
[6,"दीर्घोत्तर (4अंकवाले)","LA1",{"$f":"IF(F11=\"\",\"\",F11/'Entry sheet-1-hin'!$C$6*100)","v":20},null,{"$f":"IF(H11=\"\",\"\",H11*4)","v":8},null,{"$f":"IF('Entry sheet-2-hin'!$N$7=\"\",\"\",'Entry sheet-2-hin'!$N$7)","v":2}]
[7,"दीर्घोत्तर (5अंकवाले)","LA2",{"$f":"IF(F12=\"\",\"\",F12/'Entry sheet-1-hin'!$C$6*100)","v":0},null,{"$f":"IF(H12=\"\",\"\",H12*5)","v":0},null,{"$f":"IF('Entry sheet-2-hin'!$P$7=\"\",\"\",'Entry sheet-2-hin'!$P$7)","v":0}]
["MlÄÖ",null,null,{"$f":"IF(D6:D12=\"\",\"\",SUM(D6:D12))","v":100},null,{"$f":"IF(F6:F12=\"\",\"\",SUM(F6:F12))","v":40},null,{"$f":"IF(H6:H12=\"\",\"\",SUM(H6:H12))","v":25}]
[]
[]
[]
[]
[]
[]
[]
[]
[]
[]
[]
[null,null,null,null,null,null,"हस्ताक्षर"]
[null,null,null,null,null,null,{"$f":"IF('Entry sheet-1-hin'!C7=\"\",\"\",\"(\"&'Entry sheet-1-hin'!C7&\")\")","v":"(नागलिंगय्या)"}]

{"sheet":"difficulty wise","index":16,"n_rows":22,"n_cols":8,"rows_kept":22,"cut":false,"hidden":false,"merged":[[21,5,21,7],[20,5,20,7],[8,0,8,2],[8,3,8,4],[8,5,8,6],[8,7,8,8],[6,3,6,4],[6,5,6,6],[6,7,6,8],[7,3,7,4],[7,5,7,6],[7,7,7,8],[0,0,0,9],[1,0,1,9],[3,0,3,8],[4,1,4,2],[5,3,5,4],[5,5,5,6],[5,7,5,8],[4,3,4,4],[4,5,4,6],[4,7,4,8]]}
[{"$f":"IF('Entry sheet-1-hin'!C2=\"\",\"\",'Entry sheet-1-hin'!C2)","v":"सरकारी पदवि पूर्व कॉलेंज (प्रौ.शा.वि) गुरुगुंटा, ता : लिंगसुगूर"}]
[{"$f":"IF('Entry sheet-1-hin'!C3=\"\",\"\",'Entry sheet-1-hin'!C3)","v":"संकलनात्मक परीक्षा - १   २०१५-१६"}]
["कक्षा",{"$f":"IF('Entry sheet-1-hin'!C4=\"\",\"\",'Entry sheet-1-hin'!C4)","v":"9वीं "},null,null,null,null,null,{"$f":"'Entry sheet-1-hin'!A5&IF('Entry sheet-1-hin'!C5=\"\",\"\",'Entry sheet-1-hin'!C5)","v":"विषयहिंदी"}]
["स्तर के आधार पर"]
["क्र.सं","स्तर",null,"प्रतिशत",null,"अंक",null,"प्रश्‍न"]
[1,"सरल","E",{"$f":"IF(F6=\"\",\"\",F6/'Entry sheet-1-hin'!$C$6*100)","v":30},null,{"$f":"IF('Entry sheet-2-hin'!M4=\"\",\"\",('Entry sheet-2-hin'!M4*'Entry sheet-1-hin'!$C$6)/100)","v":12},null,{"$f":"IF(F6=\"\",\"\",COUNTIF('Entry sheet-2-hin'!$AE$9:$AE$77,\"सरल\"))","v":11}]
[2,"सामान्य","M",{"$f":"IF(F7=\"\",\"\",F7/'Entry sheet-1-hin'!$C$6*100)","v":50},null,{"$f":"IF('Entry sheet-2-hin'!Q4=\"\",\"\",('Entry sheet-2-hin'!Q4*'Entry sheet-1-hin'!$C$6)/100)","v":20},null,{"$f":"IF(F7=\"\",\"\",COUNTIF('Entry sheet-2-hin'!$AE$9:$AE$77,\"सामान्य\"))","v":11}]
[3,"कठिन","D",{"$f":"IF(F8=\"\",\"\",F8/'Entry sheet-1-hin'!$C$6*100)","v":20},null,{"$f":"IF('Entry sheet-2-hin'!U4=\"\",\"\",('Entry sheet-2-hin'!U4*'Entry sheet-1-hin'!$C$6)/100)","v":8},null,{"$f":"IF(F8=\"\",\"\",COUNTIF('Entry sheet-2-hin'!$AE$9:$AE$77,\"कठिन\"))","v":3}]
["कुल",null,null,{"$f":"IF(D6:D8=\"\",\"\",SUM(D6:D8))","v":100},null,{"$f":"IF(F6:F8=\"\",\"\",SUM(F6:F8))","v":40},null,{"$f":"IF(H6:H8=\"\",\"\",SUM(H6:H8))","v":25}]
[]
[]
[]
[]
[]
[]
[]
[]
[]
[]
[]
[null,null,null,null,null,"हस्ताक्षर"]
[null,null,null,null,null,{"$f":"IF('Entry sheet-1-hin'!C7=\"\",\"\",\"(\"&'Entry sheet-1-hin'!C7&\")\")","v":"(नागलिंगय्या)"}]

{"sheet":"chapterwise","index":17,"n_rows":72,"n_cols":19,"rows_kept":72,"cut":false,"hidden":false,"merged":[[1,0,1,18],[0,0,0,18],[4,17,5,17],[4,18,5,18],[4,16,5,16],[4,2,4,5],[4,0,5,0],[4,1,5,1],[4,6,4,12],[71,0,71,18],[59,11,59,16],[56,0,56,1],[4,13,4,15],[3,0,3,18]]}
[{"$f":"IF('Entry sheet-1-hin'!C2=\"\",\"\",'Entry sheet-1-hin'!C2)","v":"सरकारी पदवि पूर्व कॉलेंज (प्रौ.शा.वि) गुरुगुंटा, ता : लिंगसुगूर"}]
[{"$f":"IF('Entry sheet-1-hin'!C3=\"\",\"\",'Entry sheet-1-hin'!C3)","v":"संकलनात्मक परीक्षा - १   २०१५-१६"}]
[{"$f":"'Entry sheet-1-hin'!A4:B4","v":"कक्षा"},{"$f":"IF('Entry sheet-1-hin'!C4=\"\",\"\",'Entry sheet-1-hin'!C4)","v":"9वीं "},null,null,null,null,null,null,null,null,null,null,null,null,null,null,{"$f":"'Entry sheet-1-hin'!A5&IF('Entry sheet-1-hin'!C5=\"\",\"\",'Entry sheet-1-hin'!C5)","v":"विषयहिंदी"}]
["पाठों पर अंक बँटवार"]
["क्र.सं","पाठ का नाम","उद्देश्यों के आधार पर प्रश्‍नों की संख्या",null,null,null," प्रकार पर प्रश्‍नों की संख्या",null,null,null,null,null,null,"स्तर के आधार पर प्रश्‍नों की संख्या",null,null,"प्रश्‍नों की संख्या","कुल अंक","प्रतिशत"]
[null,null,"स्म","सम","अ","रस","बवि","वनि(जोड़कर,अनुरूपता)","अलउ","लउ२","लउ३","दीउ4","दीउ5","सरल","सामान्य","कठिन","SA3","SA4","LA3"]
[{"$f":"IF('Entry sheet-1-hin'!A10=\"\",\"\",'Entry sheet-1-hin'!A10)","v":1},{"$f":"IF('Entry sheet-1-hin'!B10=\"\",\"\",'Entry sheet-1-hin'!B10)","v":"स्वामी विवेकानंद"},{"$f":"IF(B7=\"\",\"\",COUNTIF('Entry sheet-2-hin'!$AL$9:$AL$77,\"1स्म\"))","v":1},{"$f":"IF(B7=\"\",\"\",COUNTIF('Entry sheet-2-hin'!$AL$9:$AL$77,\"1सम\"))","v":1},{"$f":"IF(B7=\"\",\"\",COUNTIF('Entry sheet-2-hin'!$AL$9:$AL$77,\"1अ\"))","v":1},{"$f":"IF(B7=\"\",\"\",COUNTIF('Entry sheet-2-hin'!$AL$9:$AL$77,\"1रस\"))","v":0},{"$f":"IF(B7=\"\",\"\",COUNTIF('Entry sheet-2-hin'!$AM$9:$AM$77,\"1बवि\"))","v":0},{"$f":"IF(B7=\"\",\"\",COUNTIF('Entry sheet-2-hin'!$AM$9:$AM$77,\"1वनि\"))","v":1},{"$f":"IF(B7=\"\",\"\",COUNTIF('Entry sheet-2-hin'!$AM$9:$AM$77,\"1अलउ\"))","v":1},{"$f":"IF(B7=\"\",\"\",COUNTIF('Entry sheet-2-hin'!$AM$9:$AM$77,\"1लउ२\"))","v":1},{"$f":"IF(B7=\"\",\"\",COUNTIF('Entry sheet-2-hin'!$AM$9:$AM$77,\"1लउ३\"))","v":0},{"$f":"IF(B7=\"\",\"\",COUNTIF('Entry sheet-2-hin'!$AM$9:$AM$77,\"1दीउ४\"))","v":0},{"$f":"IF(B7=\"\",\"\",COUNTIF('Entry sheet-2-hin'!$AM$9:$AM$77,\"1दीउ५\"))","v":0},{"$f":"IF(B7=\"\",\"\",COUNTIF('Entry sheet-2-hin'!$AN$9:$AN$77,\"1सरल\"))","v":3},{"$f":"IF(B7=\"\",\"\",COUNTIF('Entry sheet-2-hin'!$AN$9:$AN$77,\"1सामान्य\"))","v":0},{"$f":"IF(B7=\"\",\"\",COUNTIF('Entry sheet-2-hin'!$AN$9:$AN$77,\"1कठिन\"))","v":0},{"$f":"IF(B7=\"\",\"\",SUM(G7:M7))","v":3},{"$f":"IF(B7=\"\",\"\",G7*1+H7*1+I7*1+J7*2+K7*3+L7*4+M7*5)","v":4},{"$f":"IF(B7=\"\",\"\",R7/'Entry sheet-1-hin'!$C$6*100)","v":10}]
[{"$f":"IF('Entry sheet-1-hin'!A11=\"\",\"\",'Entry sheet-1-hin'!A11)","v":2},{"$f":"IF('Entry sheet-1-hin'!B11=\"\",\"\",'Entry sheet-1-hin'!B11)","v":"गुलाब सिंह"},{"$f":"IF(B8=\"\",\"\",COUNTIF('Entry sheet-2-hin'!$AL$9:$AL$77,\"2स्म\"))","v":1},{"$f":"IF(B8=\"\",\"\",COUNTIF('Entry sheet-2-hin'!$AL$9:$AL$77,\"2सम\"))","v":0},{"$f":"IF(B8=\"\",\"\",COUNTIF('Entry sheet-2-hin'!$AL$9:$AL$77,\"2अ\"))","v":1},{"$f":"IF(B8=\"\",\"\",COUNTIF('Entry sheet-2-hin'!$AL$9:$AL$77,\"2रस\"))","v":0},{"$f":"IF(B8=\"\",\"\",COUNTIF('Entry sheet-2-hin'!$AM$9:$AM$77,\"2बवि\"))","v":0},{"$f":"IF(B8=\"\",\"\",COUNTIF('Entry sheet-2-hin'!$AM$9:$AM$77,\"2वनि\"))","v":0},{"$f":"IF(B8=\"\",\"\",COUNTIF('Entry sheet-2-hin'!$AM$9:$AM$77,\"2अलउ\"))","v":1},{"$f":"IF(B8=\"\",\"\",COUNTIF('Entry sheet-2-hin'!$AM$9:$AM$77,\"2लउ२\"))","v":1},{"$f":"IF(B8=\"\",\"\",COUNTIF('Entry sheet-2-hin'!$AM$9:$AM$77,\"2लउ३\"))","v":0},{"$f":"IF(B8=\"\",\"\",COUNTIF('Entry sheet-2-hin'!$AM$9:$AM$77,\"2दीउ४\"))","v":0},{"$f":"IF(B8=\"\",\"\",COUNTIF('Entry sheet-2-hin'!$AM$9:$AM$77,\"2दीउ५\"))","v":0},{"$f":"IF(B8=\"\",\"\",COUNTIF('Entry sheet-2-hin'!$AN$9:$AN$77,\"2सरल\"))","v":1},{"$f":"IF(B8=\"\",\"\",COUNTIF('Entry sheet-2-hin'!$AN$9:$AN$77,\"2सामान्य\"))","v":1},{"$f":"IF(B8=\"\",\"\",COUNTIF('Entry sheet-2-hin'!$AN$9:$AN$77,\"2कठिन\"))","v":0},{"$f":"IF(B8=\"\",\"\",SUM(G8:M8))","v":2},{"$f":"IF(B8=\"\",\"\",G8*1+H8*1+I8*1+J8*2+K8*3+L8*4+M8*5)","v":3},{"$f":"IF(B8=\"\",\"\",R8/'Entry sheet-1-hin'!$C$6*100)","v":7.5}]
[{"$f":"IF('Entry sheet-1-hin'!A12=\"\",\"\",'Entry sheet-1-hin'!A12)","v":3},{"$f":"IF('Entry sheet-1-hin'!B12=\"\",\"\",'Entry sheet-1-hin'!B12)","v":"बस की यात्रा"},{"$f":"IF(B9=\"\",\"\",COUNTIF('Entry sheet-2-hin'!$AL$9:$AL$77,\"3स्म\"))","v":0},{"$f":"IF(B9=\"\",\"\",COUNTIF('Entry sheet-2-hin'!$AL$9:$AL$77,\"3सम\"))","v":2},{"$f":"IF(B9=\"\",\"\",COUNTIF('Entry sheet-2-hin'!$AL$9:$AL$77,\"3अ\"))","v":1},{"$f":"IF(B9=\"\",\"\",COUNTIF('Entry sheet-2-hin'!$AL$9:$AL$77,\"3रस\"))","v":0},{"$f":"IF(B9=\"\",\"\",COUNTIF('Entry sheet-2-hin'!$AM$9:$AM$77,\"3बवि\"))","v":0},{"$f":"IF(B9=\"\",\"\",COUNTIF('Entry sheet-2-hin'!$AM$9:$AM$77,\"3वनि\"))","v":2},{"$f":"IF(B9=\"\",\"\",COUNTIF('Entry sheet-2-hin'!$AM$9:$AM$77,\"3अलउ\"))","v":0},{"$f":"IF(B9=\"\",\"\",COUNTIF('Entry sheet-2-hin'!$AM$9:$AM$77,\"3लउ२\"))","v":1},{"$f":"IF(B9=\"\",\"\",COUNTIF('Entry sheet-2-hin'!$AM$9:$AM$77,\"3लउ३\"))","v":0},{"$f":"IF(B9=\"\",\"\",COUNTIF('Entry sheet-2-hin'!$AM$9:$AM$77,\"3दीउ४\"))","v":0},{"$f":"IF(B9=\"\",\"\",COUNTIF('Entry sheet-2-hin'!$AM$9:$AM$77,\"3दीउ५\"))","v":0},{"$f":"IF(B9=\"\",\"\",COUNTIF('Entry sheet-2-hin'!$AN$9:$AN$77,\"3सरल\"))","v":1},{"$f":"IF(B9=\"\",\"\",COUNTIF('Entry sheet-2-hin'!$AN$9:$AN$77,\"3सामान्य\"))","v":2},{"$f":"IF(B9=\"\",\"\",COUNTIF('Entry sheet-2-hin'!$AN$9:$AN$77,\"3कठिन\"))","v":0},3,4,{"$f":"IF(B9=\"\",\"\",R9/'Entry sheet-1-hin'!$C$6*100)","v":10}]
[{"$f":"IF('Entry sheet-1-hin'!A13=\"\",\"\",'Entry sheet-1-hin'!A13)","v":4},{"$f":"IF('Entry sheet-1-hin'!B13=\"\",\"\",'Entry sheet-1-hin'!B13)","v":"मौसी"},{"$f":"IF(B10=\"\",\"\",COUNTIF('Entry sheet-2-hin'!$AL$9:$AL$77,\"4स्म\"))","v":0},{"$f":"IF(B10=\"\",\"\",COUNTIF('Entry sheet-2-hin'!$AL$9:$AL$77,\"4सम\"))","v":3},{"$f":"IF(B10=\"\",\"\",COUNTIF('Entry sheet-2-hin'!$AL$9:$AL$77,\"4अ\"))","v":0},{"$f":"IF(B10=\"\",\"\",COUNTIF('Entry sheet-2-hin'!$AL$9:$AL$77,\"4रस\"))","v":0},{"$f":"IF(B10=\"\",\"\",COUNTIF('Entry sheet-2-hin'!$AM$9:$AM$77,\"4बवि\"))","v":0},{"$f":"IF(B10=\"\",\"\",COUNTIF('Entry sheet-2-hin'!$AM$9:$AM$77,\"4वनि\"))","v":1},{"$f":"IF(B10=\"\",\"\",COUNTIF('Entry sheet-2-hin'!$AM$9:$AM$77,\"4अलउ\"))","v":1},{"$f":"IF(B10=\"\",\"\",COUNTIF('Entry sheet-2-hin'!$AM$9:$AM$77,\"4लउ२\"))","v":0},{"$f":"IF(B10=\"\",\"\",COUNTIF('Entry sheet-2-hin'!$AM$9:$AM$77,\"4लउ३\"))","v":1},{"$f":"IF(B10=\"\",\"\",COUNTIF('Entry sheet-2-hin'!$AM$9:$AM$77,\"4दीउ४\"))","v":0},{"$f":"IF(B10=\"\",\"\",COUNTIF('Entry sheet-2-hin'!$AM$9:$AM$77,\"4दीउ५\"))","v":0},{"$f":"IF(B10=\"\",\"\",COUNTIF('Entry sheet-2-hin'!$AN$9:$AN$77,\"4सरल\"))","v":1},{"$f":"IF(B10=\"\",\"\",COUNTIF('Entry sheet-2-hin'!$AN$9:$AN$77,\"4सामान्य\"))","v":2},{"$f":"IF(B10=\"\",\"\",COUNTIF('Entry sheet-2-hin'!$AN$9:$AN$77,\"4कठिन\"))","v":0},3,5,{"$f":"IF(B10=\"\",\"\",R10/'Entry sheet-1-hin'!$C$6*100)","v":12.5}]
[{"$f":"IF('Entry sheet-1-hin'!A14=\"\",\"\",'Entry sheet-1-hin'!A14)","v":5},{"$f":"IF('Entry sheet-1-hin'!B14=\"\",\"\",'Entry sheet-1-hin'!B14)","v":"मेरा बचपन"},{"$f":"IF(B11=\"\",\"\",COUNTIF('Entry sheet-2-hin'!$AL$9:$AL$77,\"5स्म\"))","v":0},{"$f":"IF(B11=\"\",\"\",COUNTIF('Entry sheet-2-hin'!$AL$9:$AL$77,\"5सम\"))","v":0},{"$f":"IF(B11=\"\",\"\",COUNTIF('Entry sheet-2-hin'!$AL$9:$AL$77,\"5अ\"))","v":0},{"$f":"IF(B11=\"\",\"\",COUNTIF('Entry sheet-2-hin'!$AL$9:$AL$77,\"5रस\"))","v":0},{"$f":"IF(B11=\"\",\"\",COUNTIF('Entry sheet-2-hin'!$AM$9:$AM$77,\"5बवि\"))","v":0},{"$f":"IF(B11=\"\",\"\",COUNTIF('Entry sheet-2-hin'!$AM$9:$AM$77,\"5वनि\"))","v":0},{"$f":"IF(B11=\"\",\"\",COUNTIF('Entry sheet-2-hin'!$AM$9:$AM$77,\"5अलउ\"))","v":0},{"$f":"IF(B11=\"\",\"\",COUNTIF('Entry sheet-2-hin'!$AM$9:$AM$77,\"5लउ२\"))","v":0},{"$f":"IF(B11=\"\",\"\",COUNTIF('Entry sheet-2-hin'!$AM$9:$AM$77,\"5लउ३\"))","v":0},{"$f":"IF(B11=\"\",\"\",COUNTIF('Entry sheet-2-hin'!$AM$9:$AM$77,\"5दीउ४\"))","v":0},{"$f":"IF(B11=\"\",\"\",COUNTIF('Entry sheet-2-hin'!$AM$9:$AM$77,\"5दीउ५\"))","v":0},{"$f":"IF(B11=\"\",\"\",COUNTIF('Entry sheet-2-hin'!$AN$9:$AN$77,\"5सरल\"))","v":0},{"$f":"IF(B11=\"\",\"\",COUNTIF('Entry sheet-2-hin'!$AN$9:$AN$77,\"5सामान्य\"))","v":0},{"$f":"IF(B11=\"\",\"\",COUNTIF('Entry sheet-2-hin'!$AN$9:$AN$77,\"5कठिन\"))","v":0},0,0,{"$f":"IF(B11=\"\",\"\",R11/'Entry sheet-1-hin'!$C$6*100)","v":0}]
[{"$f":"IF('Entry sheet-1-hin'!A15=\"\",\"\",'Entry sheet-1-hin'!A15)","v":6},{"$f":"IF('Entry sheet-1-hin'!B15=\"\",\"\",'Entry sheet-1-hin'!B15)","v":"भीम और राक्षस"},{"$f":"IF(B12=\"\",\"\",COUNTIF('Entry sheet-2-hin'!$AL$9:$AL$77,\"6स्म\"))","v":0},{"$f":"IF(B12=\"\",\"\",COUNTIF('Entry sheet-2-hin'!$AL$9:$AL$77,\"6सम\"))","v":0},{"$f":"IF(B12=\"\",\"\",COUNTIF('Entry sheet-2-hin'!$AL$9:$AL$77,\"6अ\"))","v":0},{"$f":"IF(B12=\"\",\"\",COUNTIF('Entry sheet-2-hin'!$AL$9:$AL$77,\"6रस\"))","v":0},{"$f":"IF(B12=\"\",\"\",COUNTIF('Entry sheet-2-hin'!$AM$9:$AM$77,\"6बवि\"))","v":0},{"$f":"IF(B12=\"\",\"\",COUNTIF('Entry sheet-2-hin'!$AM$9:$AM$77,\"6वनि\"))","v":0},{"$f":"IF(B12=\"\",\"\",COUNTIF('Entry sheet-2-hin'!$AM$9:$AM$77,\"6अलउ\"))","v":0},{"$f":"IF(B12=\"\",\"\",COUNTIF('Entry sheet-2-hin'!$AM$9:$AM$77,\"6लउ२\"))","v":0},{"$f":"IF(B12=\"\",\"\",COUNTIF('Entry sheet-2-hin'!$AM$9:$AM$77,\"6लउ३\"))","v":0},{"$f":"IF(B12=\"\",\"\",COUNTIF('Entry sheet-2-hin'!$AM$9:$AM$77,\"6दीउ४\"))","v":0},{"$f":"IF(B12=\"\",\"\",COUNTIF('Entry sheet-2-hin'!$AM$9:$AM$77,\"6दीउ५\"))","v":0},{"$f":"IF(B12=\"\",\"\",COUNTIF('Entry sheet-2-hin'!$AN$9:$AN$77,\"6सरल\"))","v":0},{"$f":"IF(B12=\"\",\"\",COUNTIF('Entry sheet-2-hin'!$AN$9:$AN$77,\"6सामान्य\"))","v":0},{"$f":"IF(B12=\"\",\"\",COUNTIF('Entry sheet-2-hin'!$AN$9:$AN$77,\"6कठिन\"))","v":0},0,0,{"$f":"IF(B12=\"\",\"\",R12/'Entry sheet-1-hin'!$C$6*100)","v":0}]
[{"$f":"IF('Entry sheet-1-hin'!A16=\"\",\"\",'Entry sheet-1-hin'!A16)","v":7},{"$f":"IF('Entry sheet-1-hin'!B16=\"\",\"\",'Entry sheet-1-hin'!B16)","v":"बाहुबली"},{"$f":"IF(B13=\"\",\"\",COUNTIF('Entry sheet-2-hin'!$AL$9:$AL$77,\"7स्म\"))","v":0},{"$f":"IF(B13=\"\",\"\",COUNTIF('Entry sheet-2-hin'!$AL$9:$AL$77,\"7सम\"))","v":0},{"$f":"IF(B13=\"\",\"\",COUNTIF('Entry sheet-2-hin'!$AL$9:$AL$77,\"7अ\"))","v":0},{"$f":"IF(B13=\"\",\"\",COUNTIF('Entry sheet-2-hin'!$AL$9:$AL$77,\"7रस\"))","v":0},{"$f":"IF(B13=\"\",\"\",COUNTIF('Entry sheet-2-hin'!$AM$9:$AM$77,\"7बवि\"))","v":0},{"$f":"IF(B13=\"\",\"\",COUNTIF('Entry sheet-2-hin'!$AM$9:$AM$77,\"7वनि\"))","v":0},{"$f":"IF(B13=\"\",\"\",COUNTIF('Entry sheet-2-hin'!$AM$9:$AM$77,\"7अलउ\"))","v":0},{"$f":"IF(B13=\"\",\"\",COUNTIF('Entry sheet-2-hin'!$AM$9:$AM$77,\"7लउ२\"))","v":0},{"$f":"IF(B13=\"\",\"\",COUNTIF('Entry sheet-2-hin'!$AM$9:$AM$77,\"7लउ३\"))","v":0},{"$f":"IF(B13=\"\",\"\",COUNTIF('Entry sheet-2-hin'!$AM$9:$AM$77,\"7दीउ४\"))","v":0},{"$f":"IF(B13=\"\",\"\",COUNTIF('Entry sheet-2-hin'!$AM$9:$AM$77,\"7दीउ५\"))","v":0},{"$f":"IF(B13=\"\",\"\",COUNTIF('Entry sheet-2-hin'!$AN$9:$AN$77,\"7सरल\"))","v":0},{"$f":"IF(B13=\"\",\"\",COUNTIF('Entry sheet-2-hin'!$AN$9:$AN$77,\"7सामान्य\"))","v":0},{"$f":"IF(B13=\"\",\"\",COUNTIF('Entry sheet-2-hin'!$AN$9:$AN$77,\"7कठिन\"))","v":0},0,0,{"$f":"IF(B13=\"\",\"\",R13/'Entry sheet-1-hin'!$C$6*100)","v":0}]
[{"$f":"IF('Entry sheet-1-hin'!A17=\"\",\"\",'Entry sheet-1-hin'!A17)","v":8},{"$f":"IF('Entry sheet-1-hin'!B17=\"\",\"\",'Entry sheet-1-hin'!B17)","v":"हामिद खाँ"},{"$f":"IF(B14=\"\",\"\",COUNTIF('Entry sheet-2-hin'!$AL$9:$AL$77,\"8स्म\"))","v":0},{"$f":"IF(B14=\"\",\"\",COUNTIF('Entry sheet-2-hin'!$AL$9:$AL$77,\"8सम\"))","v":0},{"$f":"IF(B14=\"\",\"\",COUNTIF('Entry sheet-2-hin'!$AL$9:$AL$77,\"8अ\"))","v":0},{"$f":"IF(B14=\"\",\"\",COUNTIF('Entry sheet-2-hin'!$AL$9:$AL$77,\"8रस\"))","v":0},{"$f":"IF(B14=\"\",\"\",COUNTIF('Entry sheet-2-hin'!$AM$9:$AM$77,\"8बवि\"))","v":0},{"$f":"IF(B14=\"\",\"\",COUNTIF('Entry sheet-2-hin'!$AM$9:$AM$77,\"8वनि\"))","v":0},{"$f":"IF(B14=\"\",\"\",COUNTIF('Entry sheet-2-hin'!$AM$9:$AM$77,\"8अलउ\"))","v":0},{"$f":"IF(B14=\"\",\"\",COUNTIF('Entry sheet-2-hin'!$AM$9:$AM$77,\"8लउ२\"))","v":0},{"$f":"IF(B14=\"\",\"\",COUNTIF('Entry sheet-2-hin'!$AM$9:$AM$77,\"8लउ३\"))","v":0},{"$f":"IF(B14=\"\",\"\",COUNTIF('Entry sheet-2-hin'!$AM$9:$AM$77,\"8दीउ४\"))","v":0},{"$f":"IF(B14=\"\",\"\",COUNTIF('Entry sheet-2-hin'!$AM$9:$AM$77,\"8दीउ५\"))","v":0},{"$f":"IF(B14=\"\",\"\",COUNTIF('Entry sheet-2-hin'!$AN$9:$AN$77,\"8सरल\"))","v":0},{"$f":"IF(B14=\"\",\"\",COUNTIF('Entry sheet-2-hin'!$AN$9:$AN$77,\"8सामान्य\"))","v":0},{"$f":"IF(B14=\"\",\"\",COUNTIF('Entry sheet-2-hin'!$AN$9:$AN$77,\"8कठिन\"))","v":0},0,0,{"$f":"IF(B14=\"\",\"\",R14/'Entry sheet-1-hin'!$C$6*100)","v":0}]
[{"$f":"IF('Entry sheet-1-hin'!A18=\"\",\"\",'Entry sheet-1-hin'!A18)","v":9},{"$f":"IF('Entry sheet-1-hin'!B18=\"\",\"\",'Entry sheet-1-hin'!B18)","v":"खेलो- कूदो-स्वस्थ रहो"},{"$f":"IF(B15=\"\",\"\",COUNTIF('Entry sheet-2-hin'!$AL$9:$AL$77,\"9स्म\"))","v":0},{"$f":"IF(B15=\"\",\"\",COUNTIF('Entry sheet-2-hin'!$AL$9:$AL$77,\"9सम\"))","v":0},{"$f":"IF(B15=\"\",\"\",COUNTIF('Entry sheet-2-hin'!$AL$9:$AL$77,\"9अ\"))","v":0},{"$f":"IF(B15=\"\",\"\",COUNTIF('Entry sheet-2-hin'!$AL$9:$AL$77,\"9रस\"))","v":0},{"$f":"IF(B15=\"\",\"\",COUNTIF('Entry sheet-2-hin'!$AM$9:$AM$77,\"9बवि\"))","v":0},{"$f":"IF(B15=\"\",\"\",COUNTIF('Entry sheet-2-hin'!$AM$9:$AM$77,\"9वनि\"))","v":0},{"$f":"IF(B15=\"\",\"\",COUNTIF('Entry sheet-2-hin'!$AM$9:$AM$77,\"9अलउ\"))","v":0},{"$f":"IF(B15=\"\",\"\",COUNTIF('Entry sheet-2-hin'!$AM$9:$AM$77,\"9लउ२\"))","v":0},{"$f":"IF(B15=\"\",\"\",COUNTIF('Entry sheet-2-hin'!$AM$9:$AM$77,\"9लउ३\"))","v":0},{"$f":"IF(B15=\"\",\"\",COUNTIF('Entry sheet-2-hin'!$AM$9:$AM$77,\"9दीउ४\"))","v":0},{"$f":"IF(B15=\"\",\"\",COUNTIF('Entry sheet-2-hin'!$AM$9:$AM$77,\"9दीउ५\"))","v":0},{"$f":"IF(B15=\"\",\"\",COUNTIF('Entry sheet-2-hin'!$AN$9:$AN$77,\"9सरल\"))","v":0},{"$f":"IF(B15=\"\",\"\",COUNTIF('Entry sheet-2-hin'!$AN$9:$AN$77,\"9सामान्य\"))","v":0},{"$f":"IF(B15=\"\",\"\",COUNTIF('Entry sheet-2-hin'!$AN$9:$AN$77,\"9कठिन\"))","v":0},0,0,{"$f":"IF(B15=\"\",\"\",R15/'Entry sheet-1-hin'!$C$6*100)","v":0}]
[{"$f":"IF('Entry sheet-1-hin'!A19=\"\",\"\",'Entry sheet-1-hin'!A19)","v":10},{"$f":"IF('Entry sheet-1-hin'!B19=\"\",\"\",'Entry sheet-1-hin'!B19)","v":"हिमालय की बेटियाँ"},{"$f":"IF(B16=\"\",\"\",COUNTIF('Entry sheet-2-hin'!$AL$9:$AL$77,\"10स्म\"))","v":0},{"$f":"IF(B16=\"\",\"\",COUNTIF('Entry sheet-2-hin'!$AL$9:$AL$77,\"10सम\"))","v":0},{"$f":"IF(B16=\"\",\"\",COUNTIF('Entry sheet-2-hin'!$AL$9:$AL$77,\"10अ\"))","v":0},{"$f":"IF(B16=\"\",\"\",COUNTIF('Entry sheet-2-hin'!$AL$9:$AL$77,\"10रस\"))","v":0},{"$f":"IF(B16=\"\",\"\",COUNTIF('Entry sheet-2-hin'!$AM$9:$AM$77,\"10बवि\"))","v":0},{"$f":"IF(B16=\"\",\"\",COUNTIF('Entry sheet-2-hin'!$AM$9:$AM$77,\"10वनि\"))","v":0},{"$f":"IF(B16=\"\",\"\",COUNTIF('Entry sheet-2-hin'!$AM$9:$AM$77,\"10अलउ\"))","v":0},{"$f":"IF(B16=\"\",\"\",COUNTIF('Entry sheet-2-hin'!$AM$9:$AM$77,\"10लउ२\"))","v":0},{"$f":"IF(B16=\"\",\"\",COUNTIF('Entry sheet-2-hin'!$AM$9:$AM$77,\"10लउ३\"))","v":0},{"$f":"IF(B16=\"\",\"\",COUNTIF('Entry sheet-2-hin'!$AM$9:$AM$77,\"10दीउ४\"))","v":0},{"$f":"IF(B16=\"\",\"\",COUNTIF('Entry sheet-2-hin'!$AM$9:$AM$77,\"10दीउ५\"))","v":0},{"$f":"IF(B16=\"\",\"\",COUNTIF('Entry sheet-2-hin'!$AN$9:$AN$77,\"10सरल\"))","v":0},{"$f":"IF(B16=\"\",\"\",COUNTIF('Entry sheet-2-hin'!$AN$9:$AN$77,\"10सामान्य\"))","v":0},{"$f":"IF(B16=\"\",\"\",COUNTIF('Entry sheet-2-hin'!$AN$9:$AN$77,\"10कठिन\"))","v":0},0,0,{"$f":"IF(B16=\"\",\"\",R16/'Entry sheet-1-hin'!$C$6*100)","v":0}]
[{"$f":"IF('Entry sheet-1-hin'!A20=\"\",\"\",'Entry sheet-1-hin'!A20)","v":11},{"$f":"IF('Entry sheet-1-hin'!B20=\"\",\"\",'Entry sheet-1-hin'!B20)","v":"जय-जय भारत माता"},{"$f":"IF(B17=\"\",\"\",COUNTIF('Entry sheet-2-hin'!$AL$9:$AL$77,\"11स्म\"))","v":0},{"$f":"IF(B17=\"\",\"\",COUNTIF('Entry sheet-2-hin'!$AL$9:$AL$77,\"11सम\"))","v":1},{"$f":"IF(B17=\"\",\"\",COUNTIF('Entry sheet-2-hin'!$AL$9:$AL$77,\"11अ\"))","v":1},{"$f":"IF(B17=\"\",\"\",COUNTIF('Entry sheet-2-hin'!$AL$9:$AL$77,\"11रस\"))","v":0},{"$f":"IF(B17=\"\",\"\",COUNTIF('Entry sheet-2-hin'!$AM$9:$AM$77,\"11बवि\"))","v":0},{"$f":"IF(B17=\"\",\"\",COUNTIF('Entry sheet-2-hin'!$AM$9:$AM$77,\"11वनि\"))","v":0},{"$f":"IF(B17=\"\",\"\",COUNTIF('Entry sheet-2-hin'!$AM$9:$AM$77,\"11अलउ\"))","v":1},{"$f":"IF(B17=\"\",\"\",COUNTIF('Entry sheet-2-hin'!$AM$9:$AM$77,\"11लउ२\"))","v":1},{"$f":"IF(B17=\"\",\"\",COUNTIF('Entry sheet-2-hin'!$AM$9:$AM$77,\"11लउ३\"))","v":0},{"$f":"IF(B17=\"\",\"\",COUNTIF('Entry sheet-2-hin'!$AM$9:$AM$77,\"11दीउ४\"))","v":0},{"$f":"IF(B17=\"\",\"\",COUNTIF('Entry sheet-2-hin'!$AM$9:$AM$77,\"11दीउ५\"))","v":0},{"$f":"IF(B17=\"\",\"\",COUNTIF('Entry sheet-2-hin'!$AN$9:$AN$77,\"11सरल\"))","v":0},{"$f":"IF(B17=\"\",\"\",COUNTIF('Entry sheet-2-hin'!$AN$9:$AN$77,\"11सामान्य\"))","v":2},{"$f":"IF(B17=\"\",\"\",COUNTIF('Entry sheet-2-hin'!$AN$9:$AN$77,\"11कठिन\"))","v":0},2,3,{"$f":"IF(B17=\"\",\"\",R17/'Entry sheet-1-hin'!$C$6*100)","v":7.5}]
[{"$f":"IF('Entry sheet-1-hin'!A21=\"\",\"\",'Entry sheet-1-hin'!A21)","v":12},{"$f":"IF('Entry sheet-1-hin'!B21=\"\",\"\",'Entry sheet-1-hin'!B21)","v":"शिक्षा"},{"$f":"IF(B18=\"\",\"\",COUNTIF('Entry sheet-2-hin'!$AL$9:$AL$77,\"12स्म\"))","v":0},{"$f":"IF(B18=\"\",\"\",COUNTIF('Entry sheet-2-hin'!$AL$9:$AL$77,\"12सम\"))","v":1},{"$f":"IF(B18=\"\",\"\",COUNTIF('Entry sheet-2-hin'!$AL$9:$AL$77,\"12अ\"))","v":0},{"$f":"IF(B18=\"\",\"\",COUNTIF('Entry sheet-2-hin'!$AL$9:$AL$77,\"12रस\"))","v":0},{"$f":"IF(B18=\"\",\"\",COUNTIF('Entry sheet-2-hin'!$AM$9:$AM$77,\"12बवि\"))","v":0},{"$f":"IF(B18=\"\",\"\",COUNTIF('Entry sheet-2-hin'!$AM$9:$AM$77,\"12वनि\"))","v":0},{"$f":"IF(B18=\"\",\"\",COUNTIF('Entry sheet-2-hin'!$AM$9:$AM$77,\"12अलउ\"))","v":0},{"$f":"IF(B18=\"\",\"\",COUNTIF('Entry sheet-2-hin'!$AM$9:$AM$77,\"12लउ२\"))","v":0},{"$f":"IF(B18=\"\",\"\",COUNTIF('Entry sheet-2-hin'!$AM$9:$AM$77,\"12लउ३\"))","v":0},{"$f":"IF(B18=\"\",\"\",COUNTIF('Entry sheet-2-hin'!$AM$9:$AM$77,\"12दीउ४\"))","v":1},{"$f":"IF(B18=\"\",\"\",COUNTIF('Entry sheet-2-hin'!$AM$9:$AM$77,\"12दीउ५\"))","v":0},{"$f":"IF(B18=\"\",\"\",COUNTIF('Entry sheet-2-hin'!$AN$9:$AN$77,\"12सरल\"))","v":0},{"$f":"IF(B18=\"\",\"\",COUNTIF('Entry sheet-2-hin'!$AN$9:$AN$77,\"12सामान्य\"))","v":1},{"$f":"IF(B18=\"\",\"\",COUNTIF('Entry sheet-2-hin'!$AN$9:$AN$77,\"12कठिन\"))","v":0},1,4,{"$f":"IF(B18=\"\",\"\",R18/'Entry sheet-1-hin'!$C$6*100)","v":10}]
[{"$f":"IF('Entry sheet-1-hin'!A22=\"\",\"\",'Entry sheet-1-hin'!A22)","v":13},{"$f":"IF('Entry sheet-1-hin'!B22=\"\",\"\",'Entry sheet-1-hin'!B22)","v":"मेरी अभिलाषा है"},{"$f":"IF(B19=\"\",\"\",COUNTIF('Entry sheet-2-hin'!$AL$9:$AL$77,\"13स्म\"))","v":0},{"$f":"IF(B19=\"\",\"\",COUNTIF('Entry sheet-2-hin'!$AL$9:$AL$77,\"13सम\"))","v":0},{"$f":"IF(B19=\"\",\"\",COUNTIF('Entry sheet-2-hin'!$AL$9:$AL$77,\"13अ\"))","v":0},{"$f":"IF(B19=\"\",\"\",COUNTIF('Entry sheet-2-hin'!$AL$9:$AL$77,\"13रस\"))","v":1},{"$f":"IF(B19=\"\",\"\",COUNTIF('Entry sheet-2-hin'!$AM$9:$AM$77,\"13बवि\"))","v":0},{"$f":"IF(B19=\"\",\"\",COUNTIF('Entry sheet-2-hin'!$AM$9:$AM$77,\"13वनि\"))","v":0},{"$f":"IF(B19=\"\",\"\",COUNTIF('Entry sheet-2-hin'!$AM$9:$AM$77,\"13अलउ\"))","v":0},{"$f":"IF(B19=\"\",\"\",COUNTIF('Entry sheet-2-hin'!$AM$9:$AM$77,\"13लउ२\"))","v":0},{"$f":"IF(B19=\"\",\"\",COUNTIF('Entry sheet-2-hin'!$AM$9:$AM$77,\"13लउ३\"))","v":1},{"$f":"IF(B19=\"\",\"\",COUNTIF('Entry sheet-2-hin'!$AM$9:$AM$77,\"13दीउ४\"))","v":0},{"$f":"IF(B19=\"\",\"\",COUNTIF('Entry sheet-2-hin'!$AM$9:$AM$77,\"13दीउ५\"))","v":0},{"$f":"IF(B19=\"\",\"\",COUNTIF('Entry sheet-2-hin'!$AN$9:$AN$77,\"13सरल\"))","v":0},{"$f":"IF(B19=\"\",\"\",COUNTIF('Entry sheet-2-hin'!$AN$9:$AN$77,\"13सामान्य\"))","v":0},{"$f":"IF(B19=\"\",\"\",COUNTIF('Entry sheet-2-hin'!$AN$9:$AN$77,\"13कठिन\"))","v":1},1,3,{"$f":"IF(B19=\"\",\"\",R19/'Entry sheet-1-hin'!$C$6*100)","v":7.5}]
[{"$f":"IF('Entry sheet-1-hin'!A23=\"\",\"\",'Entry sheet-1-hin'!A23)","v":14},{"$f":"IF('Entry sheet-1-hin'!B23=\"\",\"\",'Entry sheet-1-hin'!B23)","v":"विनती"},{"$f":"IF(B20=\"\",\"\",COUNTIF('Entry sheet-2-hin'!$AL$9:$AL$77,\"14स्म\"))","v":0},{"$f":"IF(B20=\"\",\"\",COUNTIF('Entry sheet-2-hin'!$AL$9:$AL$77,\"14सम\"))","v":0},{"$f":"IF(B20=\"\",\"\",COUNTIF('Entry sheet-2-hin'!$AL$9:$AL$77,\"14अ\"))","v":0},{"$f":"IF(B20=\"\",\"\",COUNTIF('Entry sheet-2-hin'!$AL$9:$AL$77,\"14रस\"))","v":0},{"$f":"IF(B20=\"\",\"\",COUNTIF('Entry sheet-2-hin'!$AM$9:$AM$77,\"14बवि\"))","v":0},{"$f":"IF(B20=\"\",\"\",COUNTIF('Entry sheet-2-hin'!$AM$9:$AM$77,\"14वनि\"))","v":0},{"$f":"IF(B20=\"\",\"\",COUNTIF('Entry sheet-2-hin'!$AM$9:$AM$77,\"14अलउ\"))","v":0},{"$f":"IF(B20=\"\",\"\",COUNTIF('Entry sheet-2-hin'!$AM$9:$AM$77,\"14लउ२\"))","v":0},{"$f":"IF(B20=\"\",\"\",COUNTIF('Entry sheet-2-hin'!$AM$9:$AM$77,\"14लउ३\"))","v":0},{"$f":"IF(B20=\"\",\"\",COUNTIF('Entry sheet-2-hin'!$AM$9:$AM$77,\"14दीउ४\"))","v":0},{"$f":"IF(B20=\"\",\"\",COUNTIF('Entry sheet-2-hin'!$AM$9:$AM$77,\"14दीउ५\"))","v":0},{"$f":"IF(B20=\"\",\"\",COUNTIF('Entry sheet-2-hin'!$AN$9:$AN$77,\"14सरल\"))","v":0},{"$f":"IF(B20=\"\",\"\",COUNTIF('Entry sheet-2-hin'!$AN$9:$AN$77,\"14सामान्य\"))","v":0},{"$f":"IF(B20=\"\",\"\",COUNTIF('Entry sheet-2-hin'!$AN$9:$AN$77,\"14कठिन\"))","v":0},0,0,{"$f":"IF(B20=\"\",\"\",R20/'Entry sheet-1-hin'!$C$6*100)","v":0}]
[{"$f":"IF('Entry sheet-1-hin'!A24=\"\",\"\",'Entry sheet-1-hin'!A24)","v":15},{"$f":"IF('Entry sheet-1-hin'!B24=\"\",\"\",'Entry sheet-1-hin'!B24)","v":"कोई नहीं पराया"},{"$f":"IF(B21=\"\",\"\",COUNTIF('Entry sheet-2-hin'!$AL$9:$AL$77,\"15स्म\"))","v":0},{"$f":"IF(B21=\"\",\"\",COUNTIF('Entry sheet-2-hin'!$AL$9:$AL$77,\"15सम\"))","v":0},{"$f":"IF(B21=\"\",\"\",COUNTIF('Entry sheet-2-hin'!$AL$9:$AL$77,\"15अ\"))","v":0},{"$f":"IF(B21=\"\",\"\",COUNTIF('Entry sheet-2-hin'!$AL$9:$AL$77,\"15रस\"))","v":0},{"$f":"IF(B21=\"\",\"\",COUNTIF('Entry sheet-2-hin'!$AM$9:$AM$77,\"15बवि\"))","v":0},{"$f":"IF(B21=\"\",\"\",COUNTIF('Entry sheet-2-hin'!$AM$9:$AM$77,\"15वनि\"))","v":0},{"$f":"IF(B21=\"\",\"\",COUNTIF('Entry sheet-2-hin'!$AM$9:$AM$77,\"15अलउ\"))","v":0},{"$f":"IF(B21=\"\",\"\",COUNTIF('Entry sheet-2-hin'!$AM$9:$AM$77,\"15लउ२\"))","v":0},{"$f":"IF(B21=\"\",\"\",COUNTIF('Entry sheet-2-hin'!$AM$9:$AM$77,\"15लउ३\"))","v":0},{"$f":"IF(B21=\"\",\"\",COUNTIF('Entry sheet-2-hin'!$AM$9:$AM$77,\"15दीउ४\"))","v":0},{"$f":"IF(B21=\"\",\"\",COUNTIF('Entry sheet-2-hin'!$AM$9:$AM$77,\"15दीउ५\"))","v":0},{"$f":"IF(B21=\"\",\"\",COUNTIF('Entry sheet-2-hin'!$AN$9:$AN$77,\"15सरल\"))","v":0},{"$f":"IF(B21=\"\",\"\",COUNTIF('Entry sheet-2-hin'!$AN$9:$AN$77,\"15सामान्य\"))","v":0},{"$f":"IF(B21=\"\",\"\",COUNTIF('Entry sheet-2-hin'!$AN$9:$AN$77,\"15कठिन\"))","v":0},0,0,{"$f":"IF(B21=\"\",\"\",R21/'Entry sheet-1-hin'!$C$6*100)","v":0}]
[{"$f":"IF('Entry sheet-1-hin'!A25=\"\",\"\",'Entry sheet-1-hin'!A25)","v":16},{"$f":"IF('Entry sheet-1-hin'!B25=\"\",\"\",'Entry sheet-1-hin'!B25)","v":"कबीर के दोहे"},{"$f":"IF(B22=\"\",\"\",COUNTIF('Entry sheet-2-hin'!$AL$9:$AL$77,\"16स्म\"))","v":0},{"$f":"IF(B22=\"\",\"\",COUNTIF('Entry sheet-2-hin'!$AL$9:$AL$77,\"16सम\"))","v":0},{"$f":"IF(B22=\"\",\"\",COUNTIF('Entry sheet-2-hin'!$AL$9:$AL$77,\"16अ\"))","v":0},{"$f":"IF(B22=\"\",\"\",COUNTIF('Entry sheet-2-hin'!$AL$9:$AL$77,\"16रस\"))","v":0},{"$f":"IF(B22=\"\",\"\",COUNTIF('Entry sheet-2-hin'!$AM$9:$AM$77,\"16बवि\"))","v":0},{"$f":"IF(B22=\"\",\"\",COUNTIF('Entry sheet-2-hin'!$AM$9:$AM$77,\"16वनि\"))","v":0},{"$f":"IF(B22=\"\",\"\",COUNTIF('Entry sheet-2-hin'!$AM$9:$AM$77,\"16अलउ\"))","v":0},{"$f":"IF(B22=\"\",\"\",COUNTIF('Entry sheet-2-hin'!$AM$9:$AM$77,\"16लउ२\"))","v":0},{"$f":"IF(B22=\"\",\"\",COUNTIF('Entry sheet-2-hin'!$AM$9:$AM$77,\"16लउ३\"))","v":0},{"$f":"IF(B22=\"\",\"\",COUNTIF('Entry sheet-2-hin'!$AM$9:$AM$77,\"16दीउ४\"))","v":0},{"$f":"IF(B22=\"\",\"\",COUNTIF('Entry sheet-2-hin'!$AM$9:$AM$77,\"16दीउ५\"))","v":0},{"$f":"IF(B22=\"\",\"\",COUNTIF('Entry sheet-2-hin'!$AN$9:$AN$77,\"16सरल\"))","v":0},{"$f":"IF(B22=\"\",\"\",COUNTIF('Entry sheet-2-hin'!$AN$9:$AN$77,\"16सामान्य\"))","v":0},{"$f":"IF(B22=\"\",\"\",COUNTIF('Entry sheet-2-hin'!$AN$9:$AN$77,\"16कठिन\"))","v":0},0,0,{"$f":"IF(B22=\"\",\"\",R22/'Entry sheet-1-hin'!$C$6*100)","v":0}]
[{"$f":"IF('Entry sheet-1-hin'!A26=\"\",\"\",'Entry sheet-1-hin'!A26)","v":17},{"$f":"IF('Entry sheet-1-hin'!B26=\"\",\"\",'Entry sheet-1-hin'!B26)","v":"कजाकी"},{"$f":"IF(B23=\"\",\"\",COUNTIF('Entry sheet-2-hin'!$AL$9:$AL$77,\"17स्म\"))","v":1},{"$f":"IF(B23=\"\",\"\",COUNTIF('Entry sheet-2-hin'!$AL$9:$AL$77,\"17सम\"))","v":0},{"$f":"IF(B23=\"\",\"\",COUNTIF('Entry sheet-2-hin'!$AL$9:$AL$77,\"17अ\"))","v":0},{"$f":"IF(B23=\"\",\"\",COUNTIF('Entry sheet-2-hin'!$AL$9:$AL$77,\"17रस\"))","v":0},{"$f":"IF(B23=\"\",\"\",COUNTIF('Entry sheet-2-hin'!$AM$9:$AM$77,\"17बवि\"))","v":0},{"$f":"IF(B23=\"\",\"\",COUNTIF('Entry sheet-2-hin'!$AM$9:$AM$77,\"17वनि\"))","v":0},{"$f":"IF(B23=\"\",\"\",COUNTIF('Entry sheet-2-hin'!$AM$9:$AM$77,\"17अलउ\"))","v":0},{"$f":"IF(B23=\"\",\"\",COUNTIF('Entry sheet-2-hin'!$AM$9:$AM$77,\"17लउ२\"))","v":1},{"$f":"IF(B23=\"\",\"\",COUNTIF('Entry sheet-2-hin'!$AM$9:$AM$77,\"17लउ३\"))","v":0},{"$f":"IF(B23=\"\",\"\",COUNTIF('Entry sheet-2-hin'!$AM$9:$AM$77,\"17दीउ४\"))","v":0},{"$f":"IF(B23=\"\",\"\",COUNTIF('Entry sheet-2-hin'!$AM$9:$AM$77,\"17दीउ५\"))","v":0},{"$f":"IF(B23=\"\",\"\",COUNTIF('Entry sheet-2-hin'!$AN$9:$AN$77,\"17सरल\"))","v":0},{"$f":"IF(B23=\"\",\"\",COUNTIF('Entry sheet-2-hin'!$AN$9:$AN$77,\"17सामान्य\"))","v":1},{"$f":"IF(B23=\"\",\"\",COUNTIF('Entry sheet-2-hin'!$AN$9:$AN$77,\"17कठिन\"))","v":0},1,2,{"$f":"IF(B23=\"\",\"\",R23/'Entry sheet-1-hin'!$C$6*100)","v":5}]
[{"$f":"IF('Entry sheet-1-hin'!A27=\"\",\"\",'Entry sheet-1-hin'!A27)","v":18},{"$f":"IF('Entry sheet-1-hin'!B27=\"\",\"\",'Entry sheet-1-hin'!B27)","v":"वीर मालव जी"},{"$f":"IF(B24=\"\",\"\",COUNTIF('Entry sheet-2-hin'!$AL$9:$AL$77,\"18स्म\"))","v":0},{"$f":"IF(B24=\"\",\"\",COUNTIF('Entry sheet-2-hin'!$AL$9:$AL$77,\"18सम\"))","v":0},{"$f":"IF(B24=\"\",\"\",COUNTIF('Entry sheet-2-hin'!$AL$9:$AL$77,\"18अ\"))","v":0},{"$f":"IF(B24=\"\",\"\",COUNTIF('Entry sheet-2-hin'!$AL$9:$AL$77,\"18रस\"))","v":0},{"$f":"IF(B24=\"\",\"\",COUNTIF('Entry sheet-2-hin'!$AM$9:$AM$77,\"18बवि\"))","v":0},{"$f":"IF(B24=\"\",\"\",COUNTIF('Entry sheet-2-hin'!$AM$9:$AM$77,\"18वनि\"))","v":0},{"$f":"IF(B24=\"\",\"\",COUNTIF('Entry sheet-2-hin'!$AM$9:$AM$77,\"18अलउ\"))","v":0},{"$f":"IF(B24=\"\",\"\",COUNTIF('Entry sheet-2-hin'!$AM$9:$AM$77,\"18लउ२\"))","v":0},{"$f":"IF(B24=\"\",\"\",COUNTIF('Entry sheet-2-hin'!$AM$9:$AM$77,\"18लउ३\"))","v":0},{"$f":"IF(B24=\"\",\"\",COUNTIF('Entry sheet-2-hin'!$AM$9:$AM$77,\"18दीउ४\"))","v":0},{"$f":"IF(B24=\"\",\"\",COUNTIF('Entry sheet-2-hin'!$AM$9:$AM$77,\"18दीउ५\"))","v":0},{"$f":"IF(B24=\"\",\"\",COUNTIF('Entry sheet-2-hin'!$AN$9:$AN$77,\"18सरल\"))","v":0},{"$f":"IF(B24=\"\",\"\",COUNTIF('Entry sheet-2-hin'!$AN$9:$AN$77,\"18सामान्य\"))","v":0},{"$f":"IF(B24=\"\",\"\",COUNTIF('Entry sheet-2-hin'!$AN$9:$AN$77,\"18कठिन\"))","v":0},0,0,{"$f":"IF(B24=\"\",\"\",R24/'Entry sheet-1-hin'!$C$6*100)","v":0}]
[{"$f":"IF('Entry sheet-1-hin'!A28=\"\",\"\",'Entry sheet-1-hin'!A28)","v":19},{"$f":"IF('Entry sheet-1-hin'!B28=\"\",\"\",'Entry sheet-1-hin'!B28)","v":"वृक्ष हमारे जीवन-साथी"},{"$f":"IF(B25=\"\",\"\",COUNTIF('Entry sheet-2-hin'!$AL$9:$AL$77,\"19स्म\"))","v":0},{"$f":"IF(B25=\"\",\"\",COUNTIF('Entry sheet-2-hin'!$AL$9:$AL$77,\"19सम\"))","v":0},{"$f":"IF(B25=\"\",\"\",COUNTIF('Entry sheet-2-hin'!$AL$9:$AL$77,\"19अ\"))","v":0},{"$f":"IF(B25=\"\",\"\",COUNTIF('Entry sheet-2-hin'!$AL$9:$AL$77,\"19रस\"))","v":0},{"$f":"IF(B25=\"\",\"\",COUNTIF('Entry sheet-2-hin'!$AM$9:$AM$77,\"19बवि\"))","v":0},{"$f":"IF(B25=\"\",\"\",COUNTIF('Entry sheet-2-hin'!$AM$9:$AM$77,\"19वनि\"))","v":0},{"$f":"IF(B25=\"\",\"\",COUNTIF('Entry sheet-2-hin'!$AM$9:$AM$77,\"19अलउ\"))","v":0},{"$f":"IF(B25=\"\",\"\",COUNTIF('Entry sheet-2-hin'!$AM$9:$AM$77,\"19लउ२\"))","v":0},{"$f":"IF(B25=\"\",\"\",COUNTIF('Entry sheet-2-hin'!$AM$9:$AM$77,\"19लउ३\"))","v":0},{"$f":"IF(B25=\"\",\"\",COUNTIF('Entry sheet-2-hin'!$AM$9:$AM$77,\"19दीउ४\"))","v":0},{"$f":"IF(B25=\"\",\"\",COUNTIF('Entry sheet-2-hin'!$AM$9:$AM$77,\"19दीउ५\"))","v":0},{"$f":"IF(B25=\"\",\"\",COUNTIF('Entry sheet-2-hin'!$AN$9:$AN$77,\"19सरल\"))","v":0},{"$f":"IF(B25=\"\",\"\",COUNTIF('Entry sheet-2-hin'!$AN$9:$AN$77,\"19सामान्य\"))","v":0},{"$f":"IF(B25=\"\",\"\",COUNTIF('Entry sheet-2-hin'!$AN$9:$AN$77,\"19कठिन\"))","v":0},0,0,{"$f":"IF(B25=\"\",\"\",R25/'Entry sheet-1-hin'!$C$6*100)","v":0}]
[{"$f":"IF('Entry sheet-1-hin'!A29=\"\",\"\",'Entry sheet-1-hin'!A29)","v":20},{"$f":"IF('Entry sheet-1-hin'!B29=\"\",\"\",'Entry sheet-1-hin'!B29)","v":"अपठित गद्यांश"},{"$f":"IF(B26=\"\",\"\",COUNTIF('Entry sheet-2-hin'!$AL$9:$AL$77,\"20स्म\"))","v":0},{"$f":"IF(B26=\"\",\"\",COUNTIF('Entry sheet-2-hin'!$AL$9:$AL$77,\"20सम\"))","v":2},{"$f":"IF(B26=\"\",\"\",COUNTIF('Entry sheet-2-hin'!$AL$9:$AL$77,\"20अ\"))","v":0},{"$f":"IF(B26=\"\",\"\",COUNTIF('Entry sheet-2-hin'!$AL$9:$AL$77,\"20रस\"))","v":0},{"$f":"IF(B26=\"\",\"\",COUNTIF('Entry sheet-2-hin'!$AM$9:$AM$77,\"20बवि\"))","v":0},{"$f":"IF(B26=\"\",\"\",COUNTIF('Entry sheet-2-hin'!$AM$9:$AM$77,\"20वनि\"))","v":0},{"$f":"IF(B26=\"\",\"\",COUNTIF('Entry sheet-2-hin'!$AM$9:$AM$77,\"20अलउ\"))","v":2},{"$f":"IF(B26=\"\",\"\",COUNTIF('Entry sheet-2-hin'!$AM$9:$AM$77,\"20लउ२\"))","v":0},{"$f":"IF(B26=\"\",\"\",COUNTIF('Entry sheet-2-hin'!$AM$9:$AM$77,\"20लउ३\"))","v":0},{"$f":"IF(B26=\"\",\"\",COUNTIF('Entry sheet-2-hin'!$AM$9:$AM$77,\"20दीउ४\"))","v":0},{"$f":"IF(B26=\"\",\"\",COUNTIF('Entry sheet-2-hin'!$AM$9:$AM$77,\"20दीउ५\"))","v":0},{"$f":"IF(B26=\"\",\"\",COUNTIF('Entry sheet-2-hin'!$AN$9:$AN$77,\"20सरल\"))","v":2},{"$f":"IF(B26=\"\",\"\",COUNTIF('Entry sheet-2-hin'!$AN$9:$AN$77,\"20सामान्य\"))","v":0},{"$f":"IF(B26=\"\",\"\",COUNTIF('Entry sheet-2-hin'!$AN$9:$AN$77,\"20कठिन\"))","v":0},2,2,{"$f":"IF(B26=\"\",\"\",R26/'Entry sheet-1-hin'!$C$6*100)","v":5}]
[{"$f":"IF('Entry sheet-1-hin'!A30=\"\",\"\",'Entry sheet-1-hin'!A30)","v":21},{"$f":"IF('Entry sheet-1-hin'!B30=\"\",\"\",'Entry sheet-1-hin'!B30)","v":"अनुवाद"},{"$f":"IF(B27=\"\",\"\",COUNTIF('Entry sheet-2-hin'!$AL$9:$AL$77,\"21स्म\"))","v":0},{"$f":"IF(B27=\"\",\"\",COUNTIF('Entry sheet-2-hin'!$AL$9:$AL$77,\"21सम\"))","v":0},{"$f":"IF(B27=\"\",\"\",COUNTIF('Entry sheet-2-hin'!$AL$9:$AL$77,\"21अ\"))","v":2},{"$f":"IF(B27=\"\",\"\",COUNTIF('Entry sheet-2-hin'!$AL$9:$AL$77,\"21रस\"))","v":0},{"$f":"IF(B27=\"\",\"\",COUNTIF('Entry sheet-2-hin'!$AM$9:$AM$77,\"21बवि\"))","v":0},{"$f":"IF(B27=\"\",\"\",COUNTIF('Entry sheet-2-hin'!$AM$9:$AM$77,\"21वनि\"))","v":0},{"$f":"IF(B27=\"\",\"\",COUNTIF('Entry sheet-2-hin'!$AM$9:$AM$77,\"21अलउ\"))","v":2},{"$f":"IF(B27=\"\",\"\",COUNTIF('Entry sheet-2-hin'!$AM$9:$AM$77,\"21लउ२\"))","v":0},{"$f":"IF(B27=\"\",\"\",COUNTIF('Entry sheet-2-hin'!$AM$9:$AM$77,\"21लउ३\"))","v":0},{"$f":"IF(B27=\"\",\"\",COUNTIF('Entry sheet-2-hin'!$AM$9:$AM$77,\"21दीउ४\"))","v":0},{"$f":"IF(B27=\"\",\"\",COUNTIF('Entry sheet-2-hin'!$AM$9:$AM$77,\"21दीउ५\"))","v":0},{"$f":"IF(B27=\"\",\"\",COUNTIF('Entry sheet-2-hin'!$AN$9:$AN$77,\"21सरल\"))","v":2},{"$f":"IF(B27=\"\",\"\",COUNTIF('Entry sheet-2-hin'!$AN$9:$AN$77,\"21सामान्य\"))","v":0},{"$f":"IF(B27=\"\",\"\",COUNTIF('Entry sheet-2-hin'!$AN$9:$AN$77,\"21कठिन\"))","v":0},2,2,{"$f":"IF(B27=\"\",\"\",R27/'Entry sheet-1-hin'!$C$6*100)","v":5}]
[{"$f":"IF('Entry sheet-1-hin'!A31=\"\",\"\",'Entry sheet-1-hin'!A31)","v":22},{"$f":"IF('Entry sheet-1-hin'!B31=\"\",\"\",'Entry sheet-1-hin'!B31)","v":"पत्र लेखन"},{"$f":"IF(B28=\"\",\"\",COUNTIF('Entry sheet-2-hin'!$AL$9:$AL$77,\"22स्म\"))","v":0},{"$f":"IF(B28=\"\",\"\",COUNTIF('Entry sheet-2-hin'!$AL$9:$AL$77,\"22सम\"))","v":0},{"$f":"IF(B28=\"\",\"\",COUNTIF('Entry sheet-2-hin'!$AL$9:$AL$77,\"22अ\"))","v":1},{"$f":"IF(B28=\"\",\"\",COUNTIF('Entry sheet-2-hin'!$AL$9:$AL$77,\"22रस\"))","v":0},{"$f":"IF(B28=\"\",\"\",COUNTIF('Entry sheet-2-hin'!$AM$9:$AM$77,\"22बवि\"))","v":0},{"$f":"IF(B28=\"\",\"\",COUNTIF('Entry sheet-2-hin'!$AM$9:$AM$77,\"22वनि\"))","v":0},{"$f":"IF(B28=\"\",\"\",COUNTIF('Entry sheet-2-hin'!$AM$9:$AM$77,\"22अलउ\"))","v":0},{"$f":"IF(B28=\"\",\"\",COUNTIF('Entry sheet-2-hin'!$AM$9:$AM$77,\"22लउ२\"))","v":0},{"$f":"IF(B28=\"\",\"\",COUNTIF('Entry sheet-2-hin'!$AM$9:$AM$77,\"22लउ३\"))","v":0},{"$f":"IF(B28=\"\",\"\",COUNTIF('Entry sheet-2-hin'!$AM$9:$AM$77,\"22दीउ४\"))","v":1},{"$f":"IF(B28=\"\",\"\",COUNTIF('Entry sheet-2-hin'!$AM$9:$AM$77,\"22दीउ५\"))","v":0},{"$f":"IF(B28=\"\",\"\",COUNTIF('Entry sheet-2-hin'!$AN$9:$AN$77,\"22सरल\"))","v":0},{"$f":"IF(B28=\"\",\"\",COUNTIF('Entry sheet-2-hin'!$AN$9:$AN$77,\"22सामान्य\"))","v":0},{"$f":"IF(B28=\"\",\"\",COUNTIF('Entry sheet-2-hin'!$AN$9:$AN$77,\"22कठिन\"))","v":1},1,4,{"$f":"IF(B28=\"\",\"\",R28/'Entry sheet-1-hin'!$C$6*100)","v":10}]
[{"$f":"IF('Entry sheet-1-hin'!A32=\"\",\"\",'Entry sheet-1-hin'!A32)","v":23},{"$f":"IF('Entry sheet-1-hin'!B32=\"\",\"\",'Entry sheet-1-hin'!B32)","v":"निबंध रचना"},{"$f":"IF(B29=\"\",\"\",COUNTIF('Entry sheet-2-hin'!$AL$9:$AL$77,\"23स्म\"))","v":0},{"$f":"IF(B29=\"\",\"\",COUNTIF('Entry sheet-2-hin'!$AL$9:$AL$77,\"23सम\"))","v":0},{"$f":"IF(B29=\"\",\"\",COUNTIF('Entry sheet-2-hin'!$AL$9:$AL$77,\"23अ\"))","v":0},{"$f":"IF(B29=\"\",\"\",COUNTIF('Entry sheet-2-hin'!$AL$9:$AL$77,\"23रस\"))","v":0},{"$f":"IF(B29=\"\",\"\",COUNTIF('Entry sheet-2-hin'!$AM$9:$AM$77,\"23बवि\"))","v":0},{"$f":"IF(B29=\"\",\"\",COUNTIF('Entry sheet-2-hin'!$AM$9:$AM$77,\"23वनि\"))","v":0},{"$f":"IF(B29=\"\",\"\",COUNTIF('Entry sheet-2-hin'!$AM$9:$AM$77,\"23अलउ\"))","v":0},{"$f":"IF(B29=\"\",\"\",COUNTIF('Entry sheet-2-hin'!$AM$9:$AM$77,\"23लउ२\"))","v":0},{"$f":"IF(B29=\"\",\"\",COUNTIF('Entry sheet-2-hin'!$AM$9:$AM$77,\"23लउ३\"))","v":0},{"$f":"IF(B29=\"\",\"\",COUNTIF('Entry sheet-2-hin'!$AM$9:$AM$77,\"23दीउ४\"))","v":0},{"$f":"IF(B29=\"\",\"\",COUNTIF('Entry sheet-2-hin'!$AM$9:$AM$77,\"23दीउ५\"))","v":0},{"$f":"IF(B29=\"\",\"\",COUNTIF('Entry sheet-2-hin'!$AN$9:$AN$77,\"23सरल\"))","v":0},{"$f":"IF(B29=\"\",\"\",COUNTIF('Entry sheet-2-hin'!$AN$9:$AN$77,\"23सामान्य\"))","v":0},{"$f":"IF(B29=\"\",\"\",COUNTIF('Entry sheet-2-hin'!$AN$9:$AN$77,\"23कठिन\"))","v":0},0,0,{"$f":"IF(B29=\"\",\"\",R29/'Entry sheet-1-hin'!$C$6*100)","v":0}]
[{"$f":"IF('Entry sheet-1-hin'!A33=\"\",\"\",'Entry sheet-1-hin'!A33)","v":24},{"$f":"IF('Entry sheet-1-hin'!B33=\"\",\"\",'Entry sheet-1-hin'!B33)","v":"व्याकरण"},{"$f":"IF(B30=\"\",\"\",COUNTIF('Entry sheet-2-hin'!$AL$9:$AL$77,\"24स्म\"))","v":0},{"$f":"IF(B30=\"\",\"\",COUNTIF('Entry sheet-2-hin'!$AL$9:$AL$77,\"24सम\"))","v":4},{"$f":"IF(B30=\"\",\"\",COUNTIF('Entry sheet-2-hin'!$AL$9:$AL$77,\"24अ\"))","v":0},{"$f":"IF(B30=\"\",\"\",COUNTIF('Entry sheet-2-hin'!$AL$9:$AL$77,\"24रस\"))","v":0},{"$f":"IF(B30=\"\",\"\",COUNTIF('Entry sheet-2-hin'!$AM$9:$AM$77,\"24बवि\"))","v":4},{"$f":"IF(B30=\"\",\"\",COUNTIF('Entry sheet-2-hin'!$AM$9:$AM$77,\"24वनि\"))","v":0},{"$f":"IF(B30=\"\",\"\",COUNTIF('Entry sheet-2-hin'!$AM$9:$AM$77,\"24अलउ\"))","v":0},{"$f":"IF(B30=\"\",\"\",COUNTIF('Entry sheet-2-hin'!$AM$9:$AM$77,\"24लउ२\"))","v":0},{"$f":"IF(B30=\"\",\"\",COUNTIF('Entry sheet-2-hin'!$AM$9:$AM$77,\"24लउ३\"))","v":0},{"$f":"IF(B30=\"\",\"\",COUNTIF('Entry sheet-2-hin'!$AM$9:$AM$77,\"24दीउ४\"))","v":0},{"$f":"IF(B30=\"\",\"\",COUNTIF('Entry sheet-2-hin'!$AM$9:$AM$77,\"24दीउ५\"))","v":0},{"$f":"IF(B30=\"\",\"\",COUNTIF('Entry sheet-2-hin'!$AN$9:$AN$77,\"24सरल\"))","v":1},{"$f":"IF(B30=\"\",\"\",COUNTIF('Entry sheet-2-hin'!$AN$9:$AN$77,\"24सामान्य\"))","v":2},{"$f":"IF(B30=\"\",\"\",COUNTIF('Entry sheet-2-hin'!$AN$9:$AN$77,\"24कठिन\"))","v":1},4,4,{"$f":"IF(B30=\"\",\"\",R30/'Entry sheet-1-hin'!$C$6*100)","v":10}]
[{"$f":"IF('Entry sheet-1-hin'!A34=\"\",\"\",'Entry sheet-1-hin'!A34)","v":""},{"$f":"IF('Entry sheet-1-hin'!B34=\"\",\"\",'Entry sheet-1-hin'!B34)","v":""},{"$f":"IF(B31=\"\",\"\",COUNTIF('Entry sheet-2-hin'!$AL$9:$AL$77,\"25स्म\"))","v":""},{"$f":"IF(B31=\"\",\"\",COUNTIF('Entry sheet-2-hin'!$AL$9:$AL$77,\"25सम\"))","v":""},{"$f":"IF(B31=\"\",\"\",COUNTIF('Entry sheet-2-hin'!$AL$9:$AL$77,\"25अ\"))","v":""},{"$f":"IF(B31=\"\",\"\",COUNTIF('Entry sheet-2-hin'!$AL$9:$AL$77,\"25रस\"))","v":""},{"$f":"IF(B31=\"\",\"\",COUNTIF('Entry sheet-2-hin'!$AM$9:$AM$77,\"25बवि\"))","v":""},{"$f":"IF(B31=\"\",\"\",COUNTIF('Entry sheet-2-hin'!$AM$9:$AM$77,\"25वनि\"))","v":""},{"$f":"IF(B31=\"\",\"\",COUNTIF('Entry sheet-2-hin'!$AM$9:$AM$77,\"25अलउ\"))","v":""},{"$f":"IF(B31=\"\",\"\",COUNTIF('Entry sheet-2-hin'!$AM$9:$AM$77,\"25लउ२\"))","v":""},{"$f":"IF(B31=\"\",\"\",COUNTIF('Entry sheet-2-hin'!$AM$9:$AM$77,\"25लउ३\"))","v":""},{"$f":"IF(B31=\"\",\"\",COUNTIF('Entry sheet-2-hin'!$AM$9:$AM$77,\"25दीउ४\"))","v":""},{"$f":"IF(B31=\"\",\"\",COUNTIF('Entry sheet-2-hin'!$AM$9:$AM$77,\"25दीउ५\"))","v":""},{"$f":"IF(B31=\"\",\"\",COUNTIF('Entry sheet-2-hin'!$AN$9:$AN$77,\"25सरल\"))","v":""},{"$f":"IF(B31=\"\",\"\",COUNTIF('Entry sheet-2-hin'!$AN$9:$AN$77,\"25सामान्य\"))","v":""},{"$f":"IF(B31=\"\",\"\",COUNTIF('Entry sheet-2-hin'!$AN$9:$AN$77,\"25कठिन\"))","v":""},"","",{"$f":"IF(B31=\"\",\"\",R31/'Entry sheet-1-hin'!$C$6*100)","v":""}]
[{"$f":"IF('Entry sheet-1-hin'!A35=\"\",\"\",'Entry sheet-1-hin'!A35)","v":""},{"$f":"IF('Entry sheet-1-hin'!B35=\"\",\"\",'Entry sheet-1-hin'!B35)","v":""},{"$f":"IF(B32=\"\",\"\",COUNTIF('Entry sheet-2-hin'!$AL$9:$AL$77,\"26स्म\"))","v":""},{"$f":"IF(B32=\"\",\"\",COUNTIF('Entry sheet-2-hin'!$AL$9:$AL$77,\"26सम\"))","v":""},{"$f":"IF(B32=\"\",\"\",COUNTIF('Entry sheet-2-hin'!$AL$9:$AL$77,\"26अ\"))","v":""},{"$f":"IF(B32=\"\",\"\",COUNTIF('Entry sheet-2-hin'!$AL$9:$AL$77,\"26रस\"))","v":""},{"$f":"IF(B32=\"\",\"\",COUNTIF('Entry sheet-2-hin'!$AM$9:$AM$77,\"26बवि\"))","v":""},{"$f":"IF(B32=\"\",\"\",COUNTIF('Entry sheet-2-hin'!$AM$9:$AM$77,\"26वनि\"))","v":""},{"$f":"IF(B32=\"\",\"\",COUNTIF('Entry sheet-2-hin'!$AM$9:$AM$77,\"26अलउ\"))","v":""},{"$f":"IF(B32=\"\",\"\",COUNTIF('Entry sheet-2-hin'!$AM$9:$AM$77,\"26लउ२\"))","v":""},{"$f":"IF(B32=\"\",\"\",COUNTIF('Entry sheet-2-hin'!$AM$9:$AM$77,\"26लउ३\"))","v":""},{"$f":"IF(B32=\"\",\"\",COUNTIF('Entry sheet-2-hin'!$AM$9:$AM$77,\"26दीउ४\"))","v":""},{"$f":"IF(B32=\"\",\"\",COUNTIF('Entry sheet-2-hin'!$AM$9:$AM$77,\"26दीउ५\"))","v":""},{"$f":"IF(B32=\"\",\"\",COUNTIF('Entry sheet-2-hin'!$AN$9:$AN$77,\"26सरल\"))","v":""},{"$f":"IF(B32=\"\",\"\",COUNTIF('Entry sheet-2-hin'!$AN$9:$AN$77,\"26सामान्य\"))","v":""},{"$f":"IF(B32=\"\",\"\",COUNTIF('Entry sheet-2-hin'!$AN$9:$AN$77,\"26कठिन\"))","v":""},"","",{"$f":"IF(B32=\"\",\"\",R32/'Entry sheet-1-hin'!$C$6*100)","v":""}]
[{"$f":"IF('Entry sheet-1-hin'!A36=\"\",\"\",'Entry sheet-1-hin'!A36)","v":""},{"$f":"IF('Entry sheet-1-hin'!B36=\"\",\"\",'Entry sheet-1-hin'!B36)","v":""},{"$f":"IF(B33=\"\",\"\",COUNTIF('Entry sheet-2-hin'!$AL$9:$AL$77,\"27स्म\"))","v":""},{"$f":"IF(B33=\"\",\"\",COUNTIF('Entry sheet-2-hin'!$AL$9:$AL$77,\"27सम\"))","v":""},{"$f":"IF(B33=\"\",\"\",COUNTIF('Entry sheet-2-hin'!$AL$9:$AL$77,\"27अ\"))","v":""},{"$f":"IF(B33=\"\",\"\",COUNTIF('Entry sheet-2-hin'!$AL$9:$AL$77,\"27रस\"))","v":""},{"$f":"IF(B33=\"\",\"\",COUNTIF('Entry sheet-2-hin'!$AM$9:$AM$77,\"27बवि\"))","v":""},{"$f":"IF(B33=\"\",\"\",COUNTIF('Entry sheet-2-hin'!$AM$9:$AM$77,\"27वनि\"))","v":""},{"$f":"IF(B33=\"\",\"\",COUNTIF('Entry sheet-2-hin'!$AM$9:$AM$77,\"27अलउ\"))","v":""},{"$f":"IF(B33=\"\",\"\",COUNTIF('Entry sheet-2-hin'!$AM$9:$AM$77,\"27लउ२\"))","v":""},{"$f":"IF(B33=\"\",\"\",COUNTIF('Entry sheet-2-hin'!$AM$9:$AM$77,\"27लउ३\"))","v":""},{"$f":"IF(B33=\"\",\"\",COUNTIF('Entry sheet-2-hin'!$AM$9:$AM$77,\"27दीउ४\"))","v":""},{"$f":"IF(B33=\"\",\"\",COUNTIF('Entry sheet-2-hin'!$AM$9:$AM$77,\"27दीउ५\"))","v":""},{"$f":"IF(B33=\"\",\"\",COUNTIF('Entry sheet-2-hin'!$AN$9:$AN$77,\"27सरल\"))","v":""},{"$f":"IF(B33=\"\",\"\",COUNTIF('Entry sheet-2-hin'!$AN$9:$AN$77,\"27सामान्य\"))","v":""},{"$f":"IF(B33=\"\",\"\",COUNTIF('Entry sheet-2-hin'!$AN$9:$AN$77,\"27कठिन\"))","v":""},"","",{"$f":"IF(B33=\"\",\"\",R33/'Entry sheet-1-hin'!$C$6*100)","v":""}]
[{"$f":"IF('Entry sheet-1-hin'!A37=\"\",\"\",'Entry sheet-1-hin'!A37)","v":""},{"$f":"IF('Entry sheet-1-hin'!B37=\"\",\"\",'Entry sheet-1-hin'!B37)","v":""},{"$f":"IF(B34=\"\",\"\",COUNTIF('Entry sheet-2-hin'!$AL$9:$AL$77,\"28स्म\"))","v":""},{"$f":"IF(B34=\"\",\"\",COUNTIF('Entry sheet-2-hin'!$AL$9:$AL$77,\"28सम\"))","v":""},{"$f":"IF(B34=\"\",\"\",COUNTIF('Entry sheet-2-hin'!$AL$9:$AL$77,\"28अ\"))","v":""},{"$f":"IF(B34=\"\",\"\",COUNTIF('Entry sheet-2-hin'!$AL$9:$AL$77,\"28रस\"))","v":""},{"$f":"IF(B34=\"\",\"\",COUNTIF('Entry sheet-2-hin'!$AM$9:$AM$77,\"28बवि\"))","v":""},{"$f":"IF(B34=\"\",\"\",COUNTIF('Entry sheet-2-hin'!$AM$9:$AM$77,\"28वनि\"))","v":""},{"$f":"IF(B34=\"\",\"\",COUNTIF('Entry sheet-2-hin'!$AM$9:$AM$77,\"28अलउ\"))","v":""},{"$f":"IF(B34=\"\",\"\",COUNTIF('Entry sheet-2-hin'!$AM$9:$AM$77,\"28लउ२\"))","v":""},{"$f":"IF(B34=\"\",\"\",COUNTIF('Entry sheet-2-hin'!$AM$9:$AM$77,\"28लउ३\"))","v":""},{"$f":"IF(B34=\"\",\"\",COUNTIF('Entry sheet-2-hin'!$AM$9:$AM$77,\"28दीउ४\"))","v":""},{"$f":"IF(B34=\"\",\"\",COUNTIF('Entry sheet-2-hin'!$AM$9:$AM$77,\"28दीउ५\"))","v":""},{"$f":"IF(B34=\"\",\"\",COUNTIF('Entry sheet-2-hin'!$AN$9:$AN$77,\"28सरल\"))","v":""},{"$f":"IF(B34=\"\",\"\",COUNTIF('Entry sheet-2-hin'!$AN$9:$AN$77,\"28सामान्य\"))","v":""},{"$f":"IF(B34=\"\",\"\",COUNTIF('Entry sheet-2-hin'!$AN$9:$AN$77,\"28कठिन\"))","v":""},"","",{"$f":"IF(B34=\"\",\"\",R34/'Entry sheet-1-hin'!$C$6*100)","v":""}]
[{"$f":"IF('Entry sheet-1-hin'!A38=\"\",\"\",'Entry sheet-1-hin'!A38)","v":""},{"$f":"IF('Entry sheet-1-hin'!B38=\"\",\"\",'Entry sheet-1-hin'!B38)","v":""},{"$f":"IF(B35=\"\",\"\",COUNTIF('Entry sheet-2-hin'!$AL$9:$AL$77,\"29स्म\"))","v":""},{"$f":"IF(B35=\"\",\"\",COUNTIF('Entry sheet-2-hin'!$AL$9:$AL$77,\"29सम\"))","v":""},{"$f":"IF(B35=\"\",\"\",COUNTIF('Entry sheet-2-hin'!$AL$9:$AL$77,\"29अ\"))","v":""},{"$f":"IF(B35=\"\",\"\",COUNTIF('Entry sheet-2-hin'!$AL$9:$AL$77,\"29रस\"))","v":""},{"$f":"IF(B35=\"\",\"\",COUNTIF('Entry sheet-2-hin'!$AM$9:$AM$77,\"29बवि\"))","v":""},{"$f":"IF(B35=\"\",\"\",COUNTIF('Entry sheet-2-hin'!$AM$9:$AM$77,\"29वनि\"))","v":""},{"$f":"IF(B35=\"\",\"\",COUNTIF('Entry sheet-2-hin'!$AM$9:$AM$77,\"29अलउ\"))","v":""},{"$f":"IF(B35=\"\",\"\",COUNTIF('Entry sheet-2-hin'!$AM$9:$AM$77,\"29लउ२\"))","v":""},{"$f":"IF(B35=\"\",\"\",COUNTIF('Entry sheet-2-hin'!$AM$9:$AM$77,\"29लउ३\"))","v":""},{"$f":"IF(B35=\"\",\"\",COUNTIF('Entry sheet-2-hin'!$AM$9:$AM$77,\"29दीउ४\"))","v":""},{"$f":"IF(B35=\"\",\"\",COUNTIF('Entry sheet-2-hin'!$AM$9:$AM$77,\"29दीउ५\"))","v":""},{"$f":"IF(B35=\"\",\"\",COUNTIF('Entry sheet-2-hin'!$AN$9:$AN$77,\"29सरल\"))","v":""},{"$f":"IF(B35=\"\",\"\",COUNTIF('Entry sheet-2-hin'!$AN$9:$AN$77,\"29सामान्य\"))","v":""},{"$f":"IF(B35=\"\",\"\",COUNTIF('Entry sheet-2-hin'!$AN$9:$AN$77,\"29कठिन\"))","v":""},"","",{"$f":"IF(B35=\"\",\"\",R35/'Entry sheet-1-hin'!$C$6*100)","v":""}]
[{"$f":"IF('Entry sheet-1-hin'!A39=\"\",\"\",'Entry sheet-1-hin'!A39)","v":""},{"$f":"IF('Entry sheet-1-hin'!B39=\"\",\"\",'Entry sheet-1-hin'!B39)","v":""},{"$f":"IF(B36=\"\",\"\",COUNTIF('Entry sheet-2-hin'!$AL$9:$AL$77,\"30स्म\"))","v":""},{"$f":"IF(B36=\"\",\"\",COUNTIF('Entry sheet-2-hin'!$AL$9:$AL$77,\"30सम\"))","v":""},{"$f":"IF(B36=\"\",\"\",COUNTIF('Entry sheet-2-hin'!$AL$9:$AL$77,\"30अ\"))","v":""},{"$f":"IF(B36=\"\",\"\",COUNTIF('Entry sheet-2-hin'!$AL$9:$AL$77,\"30रस\"))","v":""},{"$f":"IF(B36=\"\",\"\",COUNTIF('Entry sheet-2-hin'!$AM$9:$AM$77,\"30बवि\"))","v":""},{"$f":"IF(B36=\"\",\"\",COUNTIF('Entry sheet-2-hin'!$AM$9:$AM$77,\"30वनि\"))","v":""},{"$f":"IF(B36=\"\",\"\",COUNTIF('Entry sheet-2-hin'!$AM$9:$AM$77,\"30अलउ\"))","v":""},{"$f":"IF(B36=\"\",\"\",COUNTIF('Entry sheet-2-hin'!$AM$9:$AM$77,\"30लउ२\"))","v":""},{"$f":"IF(B36=\"\",\"\",COUNTIF('Entry sheet-2-hin'!$AM$9:$AM$77,\"30लउ३\"))","v":""},{"$f":"IF(B36=\"\",\"\",COUNTIF('Entry sheet-2-hin'!$AM$9:$AM$77,\"30दीउ४\"))","v":""},{"$f":"IF(B36=\"\",\"\",COUNTIF('Entry sheet-2-hin'!$AM$9:$AM$77,\"30दीउ५\"))","v":""},{"$f":"IF(B36=\"\",\"\",COUNTIF('Entry sheet-2-hin'!$AN$9:$AN$77,\"30सरल\"))","v":""},{"$f":"IF(B36=\"\",\"\",COUNTIF('Entry sheet-2-hin'!$AN$9:$AN$77,\"30सामान्य\"))","v":""},{"$f":"IF(B36=\"\",\"\",COUNTIF('Entry sheet-2-hin'!$AN$9:$AN$77,\"30कठिन\"))","v":""},"","",{"$f":"IF(B36=\"\",\"\",R36/'Entry sheet-1-hin'!$C$6*100)","v":""}]
[{"$f":"IF('Entry sheet-1-hin'!A40=\"\",\"\",'Entry sheet-1-hin'!A40)","v":""},{"$f":"IF('Entry sheet-1-hin'!B40=\"\",\"\",'Entry sheet-1-hin'!B40)","v":""},{"$f":"IF(B37=\"\",\"\",COUNTIF('Entry sheet-2-hin'!$AL$9:$AL$68,\"31K\"))","v":""},{"$f":"IF(B37=\"\",\"\",COUNTIF('Entry sheet-2-hin'!$AL$9:$AL$68,\"31U\"))","v":""},{"$f":"IF(B37=\"\",\"\",COUNTIF('Entry sheet-2-hin'!$AL$9:$AL$68,\"31A\"))","v":""},{"$f":"IF(B37=\"\",\"\",COUNTIF('Entry sheet-2-hin'!$AL$9:$AL$68,\"31S\"))","v":""},{"$f":"IF(B37=\"\",\"\",COUNTIF('Entry sheet-2-hin'!$AM$9:$AM$68,\"31MC\"))","v":""},{"$f":"IF(B37=\"\",\"\",COUNTIF('Entry sheet-2-hin'!$AM$9:$AM$68,\"31OT\"))","v":""},{"$f":"IF(B37=\"\",\"\",COUNTIF('Entry sheet-2-hin'!$AM$9:$AM$68,\"31SA1\"))","v":""},{"$f":"IF(B37=\"\",\"\",COUNTIF('Entry sheet-2-hin'!$AM$9:$AM$68,\"31SA2\"))","v":""},{"$f":"IF(B37=\"\",\"\",COUNTIF('Entry sheet-2-hin'!$AM$9:$AM$68,\"31LA1\"))","v":""},{"$f":"IF(B37=\"\",\"\",COUNTIF('Entry sheet-2-hin'!$AM$9:$AM$68,\"31LA2\"))","v":""},{"$f":"IF(B37=\"\",\"\",COUNTIF('Entry sheet-2-hin'!$AM$9:$AM$77,\"22दीउ5\"))","v":""},{"$f":"IF(B37=\"\",\"\",COUNTIF('Entry sheet-2-hin'!$AN$9:$AN$68,\"31E\"))","v":""},{"$f":"IF(B37=\"\",\"\",COUNTIF('Entry sheet-2-hin'!$AN$9:$AN$68,\"31M\"))","v":""},{"$f":"IF(B37=\"\",\"\",COUNTIF('Entry sheet-2-hin'!$AN$9:$AN$68,\"31D\"))","v":""},"","",{"$f":"IF(B37=\"\",\"\",R37/'Entry sheet-1-hin'!$C$6*100)","v":""}]
[{"$f":"IF('Entry sheet-1-hin'!A41=\"\",\"\",'Entry sheet-1-hin'!A41)","v":""},{"$f":"IF('Entry sheet-1-hin'!B41=\"\",\"\",'Entry sheet-1-hin'!B41)","v":""},{"$f":"IF(B38=\"\",\"\",COUNTIF('Entry sheet-2-hin'!$AL$9:$AL$68,\"32K\"))","v":""},{"$f":"IF(B38=\"\",\"\",COUNTIF('Entry sheet-2-hin'!$AL$9:$AL$68,\"32U\"))","v":""},{"$f":"IF(B38=\"\",\"\",COUNTIF('Entry sheet-2-hin'!$AL$9:$AL$68,\"32A\"))","v":""},{"$f":"IF(B38=\"\",\"\",COUNTIF('Entry sheet-2-hin'!$AL$9:$AL$68,\"32S\"))","v":""},{"$f":"IF(B38=\"\",\"\",COUNTIF('Entry sheet-2-hin'!$AM$9:$AM$68,\"32MC\"))","v":""},{"$f":"IF(B38=\"\",\"\",COUNTIF('Entry sheet-2-hin'!$AM$9:$AM$68,\"32OT\"))","v":""},{"$f":"IF(B38=\"\",\"\",COUNTIF('Entry sheet-2-hin'!$AM$9:$AM$68,\"32SA1\"))","v":""},{"$f":"IF(B38=\"\",\"\",COUNTIF('Entry sheet-2-hin'!$AM$9:$AM$68,\"32SA2\"))","v":""},{"$f":"IF(B38=\"\",\"\",COUNTIF('Entry sheet-2-hin'!$AM$9:$AM$68,\"32LA1\"))","v":""},{"$f":"IF(B38=\"\",\"\",COUNTIF('Entry sheet-2-hin'!$AM$9:$AM$68,\"32LA2\"))","v":""},{"$f":"IF(B38=\"\",\"\",COUNTIF('Entry sheet-2-hin'!$AM$9:$AM$77,\"22दीउ5\"))","v":""},{"$f":"IF(B38=\"\",\"\",COUNTIF('Entry sheet-2-hin'!$AN$9:$AN$68,\"32E\"))","v":""},{"$f":"IF(B38=\"\",\"\",COUNTIF('Entry sheet-2-hin'!$AN$9:$AN$68,\"32M\"))","v":""},{"$f":"IF(B38=\"\",\"\",COUNTIF('Entry sheet-2-hin'!$AN$9:$AN$68,\"32D\"))","v":""},"","",{"$f":"IF(B38=\"\",\"\",R38/'Entry sheet-1-hin'!$C$6*100)","v":""}]
[{"$f":"IF('Entry sheet-1-hin'!A42=\"\",\"\",'Entry sheet-1-hin'!A42)","v":""},{"$f":"IF('Entry sheet-1-hin'!B42=\"\",\"\",'Entry sheet-1-hin'!B42)","v":""},{"$f":"IF(B39=\"\",\"\",COUNTIF('Entry sheet-2-hin'!$AL$9:$AL$68,\"33K\"))","v":""},{"$f":"IF(B39=\"\",\"\",COUNTIF('Entry sheet-2-hin'!$AL$9:$AL$68,\"33U\"))","v":""},{"$f":"IF(B39=\"\",\"\",COUNTIF('Entry sheet-2-hin'!$AL$9:$AL$68,\"33A\"))","v":""},{"$f":"IF(B39=\"\",\"\",COUNTIF('Entry sheet-2-hin'!$AL$9:$AL$68,\"33S\"))","v":""},{"$f":"IF(B39=\"\",\"\",COUNTIF('Entry sheet-2-hin'!$AM$9:$AM$68,\"33MC\"))","v":""},{"$f":"IF(B39=\"\",\"\",COUNTIF('Entry sheet-2-hin'!$AM$9:$AM$68,\"33OT\"))","v":""},{"$f":"IF(B39=\"\",\"\",COUNTIF('Entry sheet-2-hin'!$AM$9:$AM$68,\"33SA1\"))","v":""},{"$f":"IF(B39=\"\",\"\",COUNTIF('Entry sheet-2-hin'!$AM$9:$AM$68,\"33SA2\"))","v":""},{"$f":"IF(B39=\"\",\"\",COUNTIF('Entry sheet-2-hin'!$AM$9:$AM$68,\"33LA1\"))","v":""},{"$f":"IF(B39=\"\",\"\",COUNTIF('Entry sheet-2-hin'!$AM$9:$AM$68,\"33LA2\"))","v":""},{"$f":"IF(B39=\"\",\"\",COUNTIF('Entry sheet-2-hin'!$AM$9:$AM$77,\"22दीउ5\"))","v":""},{"$f":"IF(B39=\"\",\"\",COUNTIF('Entry sheet-2-hin'!$AN$9:$AN$68,\"33E\"))","v":""},{"$f":"IF(B39=\"\",\"\",COUNTIF('Entry sheet-2-hin'!$AN$9:$AN$68,\"33M\"))","v":""},{"$f":"IF(B39=\"\",\"\",COUNTIF('Entry sheet-2-hin'!$AN$9:$AN$68,\"33D\"))","v":""},"","",{"$f":"IF(B39=\"\",\"\",R39/'Entry sheet-1-hin'!$C$6*100)","v":""}]
[{"$f":"IF('Entry sheet-1-hin'!A43=\"\",\"\",'Entry sheet-1-hin'!A43)","v":""},{"$f":"IF('Entry sheet-1-hin'!B43=\"\",\"\",'Entry sheet-1-hin'!B43)","v":""},{"$f":"IF(B40=\"\",\"\",COUNTIF('Entry sheet-2-hin'!$AL$9:$AL$68,\"34K\"))","v":""},{"$f":"IF(B40=\"\",\"\",COUNTIF('Entry sheet-2-hin'!$AL$9:$AL$68,\"34U\"))","v":""},{"$f":"IF(B40=\"\",\"\",COUNTIF('Entry sheet-2-hin'!$AL$9:$AL$68,\"34A\"))","v":""},{"$f":"IF(B40=\"\",\"\",COUNTIF('Entry sheet-2-hin'!$AL$9:$AL$68,\"34S\"))","v":""},{"$f":"IF(B40=\"\",\"\",COUNTIF('Entry sheet-2-hin'!$AM$9:$AM$68,\"34MC\"))","v":""},{"$f":"IF(B40=\"\",\"\",COUNTIF('Entry sheet-2-hin'!$AM$9:$AM$68,\"34OT\"))","v":""},{"$f":"IF(B40=\"\",\"\",COUNTIF('Entry sheet-2-hin'!$AM$9:$AM$68,\"34SA1\"))","v":""},{"$f":"IF(B40=\"\",\"\",COUNTIF('Entry sheet-2-hin'!$AM$9:$AM$68,\"34SA2\"))","v":""},{"$f":"IF(B40=\"\",\"\",COUNTIF('Entry sheet-2-hin'!$AM$9:$AM$68,\"34LA1\"))","v":""},{"$f":"IF(B40=\"\",\"\",COUNTIF('Entry sheet-2-hin'!$AM$9:$AM$68,\"34LA2\"))","v":""},{"$f":"IF(B40=\"\",\"\",COUNTIF('Entry sheet-2-hin'!$AM$9:$AM$77,\"22दीउ5\"))","v":""},{"$f":"IF(B40=\"\",\"\",COUNTIF('Entry sheet-2-hin'!$AN$9:$AN$68,\"34E\"))","v":""},{"$f":"IF(B40=\"\",\"\",COUNTIF('Entry sheet-2-hin'!$AN$9:$AN$68,\"34M\"))","v":""},{"$f":"IF(B40=\"\",\"\",COUNTIF('Entry sheet-2-hin'!$AN$9:$AN$68,\"34D\"))","v":""},"","",{"$f":"IF(B40=\"\",\"\",R40/'Entry sheet-1-hin'!$C$6*100)","v":""}]
[{"$f":"IF('Entry sheet-1-hin'!A44=\"\",\"\",'Entry sheet-1-hin'!A44)","v":""},{"$f":"IF('Entry sheet-1-hin'!B44=\"\",\"\",'Entry sheet-1-hin'!B44)","v":""},{"$f":"IF(B41=\"\",\"\",COUNTIF('Entry sheet-2-hin'!$AL$9:$AL$68,\"35K\"))","v":""},{"$f":"IF(B41=\"\",\"\",COUNTIF('Entry sheet-2-hin'!$AL$9:$AL$68,\"35U\"))","v":""},{"$f":"IF(B41=\"\",\"\",COUNTIF('Entry sheet-2-hin'!$AL$9:$AL$68,\"35A\"))","v":""},{"$f":"IF(B41=\"\",\"\",COUNTIF('Entry sheet-2-hin'!$AL$9:$AL$68,\"35S\"))","v":""},{"$f":"IF(B41=\"\",\"\",COUNTIF('Entry sheet-2-hin'!$AM$9:$AM$68,\"35MC\"))","v":""},{"$f":"IF(B41=\"\",\"\",COUNTIF('Entry sheet-2-hin'!$AM$9:$AM$68,\"35OT\"))","v":""},{"$f":"IF(B41=\"\",\"\",COUNTIF('Entry sheet-2-hin'!$AM$9:$AM$68,\"35SA1\"))","v":""},{"$f":"IF(B41=\"\",\"\",COUNTIF('Entry sheet-2-hin'!$AM$9:$AM$68,\"35SA2\"))","v":""},{"$f":"IF(B41=\"\",\"\",COUNTIF('Entry sheet-2-hin'!$AM$9:$AM$68,\"35LA1\"))","v":""},{"$f":"IF(B41=\"\",\"\",COUNTIF('Entry sheet-2-hin'!$AM$9:$AM$68,\"35LA2\"))","v":""},{"$f":"IF(B41=\"\",\"\",COUNTIF('Entry sheet-2-hin'!$AM$9:$AM$77,\"22दीउ5\"))","v":""},{"$f":"IF(B41=\"\",\"\",COUNTIF('Entry sheet-2-hin'!$AN$9:$AN$68,\"35E\"))","v":""},{"$f":"IF(B41=\"\",\"\",COUNTIF('Entry sheet-2-hin'!$AN$9:$AN$68,\"35M\"))","v":""},{"$f":"IF(B41=\"\",\"\",COUNTIF('Entry sheet-2-hin'!$AN$9:$AN$68,\"35D\"))","v":""},"","",{"$f":"IF(B41=\"\",\"\",R41/'Entry sheet-1-hin'!$C$6*100)","v":""}]
[{"$f":"IF('Entry sheet-1-hin'!A45=\"\",\"\",'Entry sheet-1-hin'!A45)","v":""},{"$f":"IF('Entry sheet-1-hin'!B45=\"\",\"\",'Entry sheet-1-hin'!B45)","v":""},{"$f":"IF(B42=\"\",\"\",COUNTIF('Entry sheet-2-hin'!$AL$9:$AL$68,\"36K\"))","v":""},{"$f":"IF(B42=\"\",\"\",COUNTIF('Entry sheet-2-hin'!$AL$9:$AL$68,\"36U\"))","v":""},{"$f":"IF(B42=\"\",\"\",COUNTIF('Entry sheet-2-hin'!$AL$9:$AL$68,\"36A\"))","v":""},{"$f":"IF(B42=\"\",\"\",COUNTIF('Entry sheet-2-hin'!$AL$9:$AL$68,\"36S\"))","v":""},{"$f":"IF(B42=\"\",\"\",COUNTIF('Entry sheet-2-hin'!$AM$9:$AM$68,\"36MC\"))","v":""},{"$f":"IF(B42=\"\",\"\",COUNTIF('Entry sheet-2-hin'!$AM$9:$AM$68,\"36OT\"))","v":""},{"$f":"IF(B42=\"\",\"\",COUNTIF('Entry sheet-2-hin'!$AM$9:$AM$68,\"36SA1\"))","v":""},{"$f":"IF(B42=\"\",\"\",COUNTIF('Entry sheet-2-hin'!$AM$9:$AM$68,\"36SA2\"))","v":""},{"$f":"IF(B42=\"\",\"\",COUNTIF('Entry sheet-2-hin'!$AM$9:$AM$68,\"36LA1\"))","v":""},{"$f":"IF(B42=\"\",\"\",COUNTIF('Entry sheet-2-hin'!$AM$9:$AM$68,\"36LA2\"))","v":""},{"$f":"IF(B42=\"\",\"\",COUNTIF('Entry sheet-2-hin'!$AM$9:$AM$77,\"22दीउ5\"))","v":""},{"$f":"IF(B42=\"\",\"\",COUNTIF('Entry sheet-2-hin'!$AN$9:$AN$68,\"36E\"))","v":""},{"$f":"IF(B42=\"\",\"\",COUNTIF('Entry sheet-2-hin'!$AN$9:$AN$68,\"36M\"))","v":""},{"$f":"IF(B42=\"\",\"\",COUNTIF('Entry sheet-2-hin'!$AN$9:$AN$68,\"36D\"))","v":""},"","",{"$f":"IF(B42=\"\",\"\",R42/'Entry sheet-1-hin'!$C$6*100)","v":""}]
[{"$f":"IF('Entry sheet-1-hin'!A46=\"\",\"\",'Entry sheet-1-hin'!A46)","v":""},{"$f":"IF('Entry sheet-1-hin'!B46=\"\",\"\",'Entry sheet-1-hin'!B46)","v":""},{"$f":"IF(B43=\"\",\"\",COUNTIF('Entry sheet-2-hin'!$AL$9:$AL$68,\"37K\"))","v":""},{"$f":"IF(B43=\"\",\"\",COUNTIF('Entry sheet-2-hin'!$AL$9:$AL$68,\"37U\"))","v":""},{"$f":"IF(B43=\"\",\"\",COUNTIF('Entry sheet-2-hin'!$AL$9:$AL$68,\"37A\"))","v":""},{"$f":"IF(B43=\"\",\"\",COUNTIF('Entry sheet-2-hin'!$AL$9:$AL$68,\"37S\"))","v":""},{"$f":"IF(B43=\"\",\"\",COUNTIF('Entry sheet-2-hin'!$AM$9:$AM$68,\"37MC\"))","v":""},{"$f":"IF(B43=\"\",\"\",COUNTIF('Entry sheet-2-hin'!$AM$9:$AM$68,\"37OT\"))","v":""},{"$f":"IF(B43=\"\",\"\",COUNTIF('Entry sheet-2-hin'!$AM$9:$AM$68,\"37SA1\"))","v":""},{"$f":"IF(B43=\"\",\"\",COUNTIF('Entry sheet-2-hin'!$AM$9:$AM$68,\"37SA2\"))","v":""},{"$f":"IF(B43=\"\",\"\",COUNTIF('Entry sheet-2-hin'!$AM$9:$AM$68,\"37LA1\"))","v":""},{"$f":"IF(B43=\"\",\"\",COUNTIF('Entry sheet-2-hin'!$AM$9:$AM$68,\"37LA2\"))","v":""},{"$f":"IF(B43=\"\",\"\",COUNTIF('Entry sheet-2-hin'!$AM$9:$AM$77,\"22दीउ5\"))","v":""},{"$f":"IF(B43=\"\",\"\",COUNTIF('Entry sheet-2-hin'!$AN$9:$AN$68,\"37E\"))","v":""},{"$f":"IF(B43=\"\",\"\",COUNTIF('Entry sheet-2-hin'!$AN$9:$AN$68,\"37M\"))","v":""},{"$f":"IF(B43=\"\",\"\",COUNTIF('Entry sheet-2-hin'!$AN$9:$AN$68,\"37D\"))","v":""},"","",{"$f":"IF(B43=\"\",\"\",R43/'Entry sheet-1-hin'!$C$6*100)","v":""}]
[{"$f":"IF('Entry sheet-1-hin'!A47=\"\",\"\",'Entry sheet-1-hin'!A47)","v":""},{"$f":"IF('Entry sheet-1-hin'!B47=\"\",\"\",'Entry sheet-1-hin'!B47)","v":""},{"$f":"IF(B44=\"\",\"\",COUNTIF('Entry sheet-2-hin'!$AL$9:$AL$68,\"38K\"))","v":""},{"$f":"IF(B44=\"\",\"\",COUNTIF('Entry sheet-2-hin'!$AL$9:$AL$68,\"38U\"))","v":""},{"$f":"IF(B44=\"\",\"\",COUNTIF('Entry sheet-2-hin'!$AL$9:$AL$68,\"38A\"))","v":""},{"$f":"IF(B44=\"\",\"\",COUNTIF('Entry sheet-2-hin'!$AL$9:$AL$68,\"38S\"))","v":""},{"$f":"IF(B44=\"\",\"\",COUNTIF('Entry sheet-2-hin'!$AM$9:$AM$68,\"38MC\"))","v":""},{"$f":"IF(B44=\"\",\"\",COUNTIF('Entry sheet-2-hin'!$AM$9:$AM$68,\"38OT\"))","v":""},{"$f":"IF(B44=\"\",\"\",COUNTIF('Entry sheet-2-hin'!$AM$9:$AM$68,\"38SA1\"))","v":""},{"$f":"IF(B44=\"\",\"\",COUNTIF('Entry sheet-2-hin'!$AM$9:$AM$68,\"38SA2\"))","v":""},{"$f":"IF(B44=\"\",\"\",COUNTIF('Entry sheet-2-hin'!$AM$9:$AM$68,\"38LA1\"))","v":""},{"$f":"IF(B44=\"\",\"\",COUNTIF('Entry sheet-2-hin'!$AM$9:$AM$68,\"38LA2\"))","v":""},{"$f":"IF(B44=\"\",\"\",COUNTIF('Entry sheet-2-hin'!$AM$9:$AM$77,\"22दीउ5\"))","v":""},{"$f":"IF(B44=\"\",\"\",COUNTIF('Entry sheet-2-hin'!$AN$9:$AN$68,\"38E\"))","v":""},{"$f":"IF(B44=\"\",\"\",COUNTIF('Entry sheet-2-hin'!$AN$9:$AN$68,\"38M\"))","v":""},{"$f":"IF(B44=\"\",\"\",COUNTIF('Entry sheet-2-hin'!$AN$9:$AN$68,\"38D\"))","v":""},"","",{"$f":"IF(B44=\"\",\"\",R44/'Entry sheet-1-hin'!$C$6*100)","v":""}]
[{"$f":"IF('Entry sheet-1-hin'!A48=\"\",\"\",'Entry sheet-1-hin'!A48)","v":""},{"$f":"IF('Entry sheet-1-hin'!B48=\"\",\"\",'Entry sheet-1-hin'!B48)","v":""},{"$f":"IF(B45=\"\",\"\",COUNTIF('Entry sheet-2-hin'!$AL$9:$AL$68,\"39K\"))","v":""},{"$f":"IF(B45=\"\",\"\",COUNTIF('Entry sheet-2-hin'!$AL$9:$AL$68,\"39U\"))","v":""},{"$f":"IF(B45=\"\",\"\",COUNTIF('Entry sheet-2-hin'!$AL$9:$AL$68,\"39A\"))","v":""},{"$f":"IF(B45=\"\",\"\",COUNTIF('Entry sheet-2-hin'!$AL$9:$AL$68,\"39S\"))","v":""},{"$f":"IF(B45=\"\",\"\",COUNTIF('Entry sheet-2-hin'!$AM$9:$AM$68,\"39MC\"))","v":""},{"$f":"IF(B45=\"\",\"\",COUNTIF('Entry sheet-2-hin'!$AM$9:$AM$68,\"39OT\"))","v":""},{"$f":"IF(B45=\"\",\"\",COUNTIF('Entry sheet-2-hin'!$AM$9:$AM$68,\"39SA1\"))","v":""},{"$f":"IF(B45=\"\",\"\",COUNTIF('Entry sheet-2-hin'!$AM$9:$AM$68,\"39SA2\"))","v":""},{"$f":"IF(B45=\"\",\"\",COUNTIF('Entry sheet-2-hin'!$AM$9:$AM$68,\"39LA1\"))","v":""},{"$f":"IF(B45=\"\",\"\",COUNTIF('Entry sheet-2-hin'!$AM$9:$AM$68,\"39LA2\"))","v":""},{"$f":"IF(B45=\"\",\"\",COUNTIF('Entry sheet-2-hin'!$AM$9:$AM$77,\"22दीउ5\"))","v":""},{"$f":"IF(B45=\"\",\"\",COUNTIF('Entry sheet-2-hin'!$AN$9:$AN$68,\"39E\"))","v":""},{"$f":"IF(B45=\"\",\"\",COUNTIF('Entry sheet-2-hin'!$AN$9:$AN$68,\"39M\"))","v":""},{"$f":"IF(B45=\"\",\"\",COUNTIF('Entry sheet-2-hin'!$AN$9:$AN$68,\"39D\"))","v":""},"","",{"$f":"IF(B45=\"\",\"\",R45/'Entry sheet-1-hin'!$C$6*100)","v":""}]
[{"$f":"IF('Entry sheet-1-hin'!A49=\"\",\"\",'Entry sheet-1-hin'!A49)","v":""},{"$f":"IF('Entry sheet-1-hin'!B49=\"\",\"\",'Entry sheet-1-hin'!B49)","v":""},{"$f":"IF(B46=\"\",\"\",COUNTIF('Entry sheet-2-hin'!$AL$9:$AL$68,\"40K\"))","v":""},{"$f":"IF(B46=\"\",\"\",COUNTIF('Entry sheet-2-hin'!$AL$9:$AL$68,\"40U\"))","v":""},{"$f":"IF(B46=\"\",\"\",COUNTIF('Entry sheet-2-hin'!$AL$9:$AL$68,\"40A\"))","v":""},{"$f":"IF(B46=\"\",\"\",COUNTIF('Entry sheet-2-hin'!$AL$9:$AL$68,\"40S\"))","v":""},{"$f":"IF(B46=\"\",\"\",COUNTIF('Entry sheet-2-hin'!$AM$9:$AM$68,\"40MC\"))","v":""},{"$f":"IF(B46=\"\",\"\",COUNTIF('Entry sheet-2-hin'!$AM$9:$AM$68,\"40OT\"))","v":""},{"$f":"IF(B46=\"\",\"\",COUNTIF('Entry sheet-2-hin'!$AM$9:$AM$68,\"40SA1\"))","v":""},{"$f":"IF(B46=\"\",\"\",COUNTIF('Entry sheet-2-hin'!$AM$9:$AM$68,\"40SA2\"))","v":""},{"$f":"IF(B46=\"\",\"\",COUNTIF('Entry sheet-2-hin'!$AM$9:$AM$68,\"40LA1\"))","v":""},{"$f":"IF(B46=\"\",\"\",COUNTIF('Entry sheet-2-hin'!$AM$9:$AM$68,\"40LA2\"))","v":""},{"$f":"IF(B46=\"\",\"\",COUNTIF('Entry sheet-2-hin'!$AM$9:$AM$77,\"22दीउ5\"))","v":""},{"$f":"IF(B46=\"\",\"\",COUNTIF('Entry sheet-2-hin'!$AN$9:$AN$68,\"40E\"))","v":""},{"$f":"IF(B46=\"\",\"\",COUNTIF('Entry sheet-2-hin'!$AN$9:$AN$68,\"40M\"))","v":""},{"$f":"IF(B46=\"\",\"\",COUNTIF('Entry sheet-2-hin'!$AN$9:$AN$68,\"40D\"))","v":""},"","",{"$f":"IF(B46=\"\",\"\",R46/'Entry sheet-1-hin'!$C$6*100)","v":""}]
[{"$f":"IF('Entry sheet-1-hin'!A50=\"\",\"\",'Entry sheet-1-hin'!A50)","v":""},{"$f":"IF('Entry sheet-1-hin'!B50=\"\",\"\",'Entry sheet-1-hin'!B50)","v":""},{"$f":"IF(B47=\"\",\"\",COUNTIF('Entry sheet-2-hin'!$AL$9:$AL$68,\"41K\"))","v":""},{"$f":"IF(B47=\"\",\"\",COUNTIF('Entry sheet-2-hin'!$AL$9:$AL$68,\"41U\"))","v":""},{"$f":"IF(B47=\"\",\"\",COUNTIF('Entry sheet-2-hin'!$AL$9:$AL$68,\"41A\"))","v":""},{"$f":"IF(B47=\"\",\"\",COUNTIF('Entry sheet-2-hin'!$AL$9:$AL$68,\"41S\"))","v":""},{"$f":"IF(B47=\"\",\"\",COUNTIF('Entry sheet-2-hin'!$AM$9:$AM$68,\"41MC\"))","v":""},{"$f":"IF(B47=\"\",\"\",COUNTIF('Entry sheet-2-hin'!$AM$9:$AM$68,\"41OT\"))","v":""},{"$f":"IF(B47=\"\",\"\",COUNTIF('Entry sheet-2-hin'!$AM$9:$AM$68,\"41SA1\"))","v":""},{"$f":"IF(B47=\"\",\"\",COUNTIF('Entry sheet-2-hin'!$AM$9:$AM$68,\"41SA2\"))","v":""},{"$f":"IF(B47=\"\",\"\",COUNTIF('Entry sheet-2-hin'!$AM$9:$AM$68,\"41LA1\"))","v":""},{"$f":"IF(B47=\"\",\"\",COUNTIF('Entry sheet-2-hin'!$AM$9:$AM$68,\"41LA2\"))","v":""},{"$f":"IF(B47=\"\",\"\",COUNTIF('Entry sheet-2-hin'!$AM$9:$AM$77,\"22दीउ5\"))","v":""},{"$f":"IF(B47=\"\",\"\",COUNTIF('Entry sheet-2-hin'!$AN$9:$AN$68,\"41E\"))","v":""},{"$f":"IF(B47=\"\",\"\",COUNTIF('Entry sheet-2-hin'!$AN$9:$AN$68,\"41M\"))","v":""},{"$f":"IF(B47=\"\",\"\",COUNTIF('Entry sheet-2-hin'!$AN$9:$AN$68,\"41D\"))","v":""},"","",{"$f":"IF(B47=\"\",\"\",R47/'Entry sheet-1-hin'!$C$6*100)","v":""}]
[{"$f":"IF('Entry sheet-1-hin'!A51=\"\",\"\",'Entry sheet-1-hin'!A51)","v":""},{"$f":"IF('Entry sheet-1-hin'!B51=\"\",\"\",'Entry sheet-1-hin'!B51)","v":""},{"$f":"IF(B48=\"\",\"\",COUNTIF('Entry sheet-2-hin'!$AL$9:$AL$68,\"42K\"))","v":""},{"$f":"IF(B48=\"\",\"\",COUNTIF('Entry sheet-2-hin'!$AL$9:$AL$68,\"42U\"))","v":""},{"$f":"IF(B48=\"\",\"\",COUNTIF('Entry sheet-2-hin'!$AL$9:$AL$68,\"42A\"))","v":""},{"$f":"IF(B48=\"\",\"\",COUNTIF('Entry sheet-2-hin'!$AL$9:$AL$68,\"42S\"))","v":""},{"$f":"IF(B48=\"\",\"\",COUNTIF('Entry sheet-2-hin'!$AM$9:$AM$68,\"42MC\"))","v":""},{"$f":"IF(B48=\"\",\"\",COUNTIF('Entry sheet-2-hin'!$AM$9:$AM$68,\"42OT\"))","v":""},{"$f":"IF(B48=\"\",\"\",COUNTIF('Entry sheet-2-hin'!$AM$9:$AM$68,\"42SA1\"))","v":""},{"$f":"IF(B48=\"\",\"\",COUNTIF('Entry sheet-2-hin'!$AM$9:$AM$68,\"42SA2\"))","v":""},{"$f":"IF(B48=\"\",\"\",COUNTIF('Entry sheet-2-hin'!$AM$9:$AM$68,\"42LA1\"))","v":""},{"$f":"IF(B48=\"\",\"\",COUNTIF('Entry sheet-2-hin'!$AM$9:$AM$68,\"42LA2\"))","v":""},{"$f":"IF(B48=\"\",\"\",COUNTIF('Entry sheet-2-hin'!$AM$9:$AM$77,\"22दीउ5\"))","v":""},{"$f":"IF(B48=\"\",\"\",COUNTIF('Entry sheet-2-hin'!$AN$9:$AN$68,\"42E\"))","v":""},{"$f":"IF(B48=\"\",\"\",COUNTIF('Entry sheet-2-hin'!$AN$9:$AN$68,\"42M\"))","v":""},{"$f":"IF(B48=\"\",\"\",COUNTIF('Entry sheet-2-hin'!$AN$9:$AN$68,\"42D\"))","v":""},"","",{"$f":"IF(B48=\"\",\"\",R48/'Entry sheet-1-hin'!$C$6*100)","v":""}]
[{"$f":"IF('Entry sheet-1-hin'!A52=\"\",\"\",'Entry sheet-1-hin'!A52)","v":""},{"$f":"IF('Entry sheet-1-hin'!B52=\"\",\"\",'Entry sheet-1-hin'!B52)","v":""},{"$f":"IF(B49=\"\",\"\",COUNTIF('Entry sheet-2-hin'!$AL$9:$AL$68,\"43K\"))","v":""},{"$f":"IF(B49=\"\",\"\",COUNTIF('Entry sheet-2-hin'!$AL$9:$AL$68,\"43U\"))","v":""},{"$f":"IF(B49=\"\",\"\",COUNTIF('Entry sheet-2-hin'!$AL$9:$AL$68,\"43A\"))","v":""},{"$f":"IF(B49=\"\",\"\",COUNTIF('Entry sheet-2-hin'!$AL$9:$AL$68,\"43S\"))","v":""},{"$f":"IF(B49=\"\",\"\",COUNTIF('Entry sheet-2-hin'!$AM$9:$AM$68,\"43MC\"))","v":""},{"$f":"IF(B49=\"\",\"\",COUNTIF('Entry sheet-2-hin'!$AM$9:$AM$68,\"43OT\"))","v":""},{"$f":"IF(B49=\"\",\"\",COUNTIF('Entry sheet-2-hin'!$AM$9:$AM$68,\"43SA1\"))","v":""},{"$f":"IF(B49=\"\",\"\",COUNTIF('Entry sheet-2-hin'!$AM$9:$AM$68,\"43SA2\"))","v":""},{"$f":"IF(B49=\"\",\"\",COUNTIF('Entry sheet-2-hin'!$AM$9:$AM$68,\"43LA1\"))","v":""},{"$f":"IF(B49=\"\",\"\",COUNTIF('Entry sheet-2-hin'!$AM$9:$AM$68,\"43LA2\"))","v":""},{"$f":"IF(B49=\"\",\"\",COUNTIF('Entry sheet-2-hin'!$AM$9:$AM$77,\"22दीउ5\"))","v":""},{"$f":"IF(B49=\"\",\"\",COUNTIF('Entry sheet-2-hin'!$AN$9:$AN$68,\"43E\"))","v":""},{"$f":"IF(B49=\"\",\"\",COUNTIF('Entry sheet-2-hin'!$AN$9:$AN$68,\"43M\"))","v":""},{"$f":"IF(B49=\"\",\"\",COUNTIF('Entry sheet-2-hin'!$AN$9:$AN$68,\"43D\"))","v":""},"","",{"$f":"IF(B49=\"\",\"\",R49/'Entry sheet-1-hin'!$C$6*100)","v":""}]
[{"$f":"IF('Entry sheet-1-hin'!A53=\"\",\"\",'Entry sheet-1-hin'!A53)","v":""},{"$f":"IF('Entry sheet-1-hin'!B53=\"\",\"\",'Entry sheet-1-hin'!B53)","v":""},{"$f":"IF(B50=\"\",\"\",COUNTIF('Entry sheet-2-hin'!$AL$9:$AL$68,\"44K\"))","v":""},{"$f":"IF(B50=\"\",\"\",COUNTIF('Entry sheet-2-hin'!$AL$9:$AL$68,\"44U\"))","v":""},{"$f":"IF(B50=\"\",\"\",COUNTIF('Entry sheet-2-hin'!$AL$9:$AL$68,\"44A\"))","v":""},{"$f":"IF(B50=\"\",\"\",COUNTIF('Entry sheet-2-hin'!$AL$9:$AL$68,\"44S\"))","v":""},{"$f":"IF(B50=\"\",\"\",COUNTIF('Entry sheet-2-hin'!$AM$9:$AM$68,\"44MC\"))","v":""},{"$f":"IF(B50=\"\",\"\",COUNTIF('Entry sheet-2-hin'!$AM$9:$AM$68,\"44OT\"))","v":""},{"$f":"IF(B50=\"\",\"\",COUNTIF('Entry sheet-2-hin'!$AM$9:$AM$68,\"44SA1\"))","v":""},{"$f":"IF(B50=\"\",\"\",COUNTIF('Entry sheet-2-hin'!$AM$9:$AM$68,\"44SA2\"))","v":""},{"$f":"IF(B50=\"\",\"\",COUNTIF('Entry sheet-2-hin'!$AM$9:$AM$68,\"44LA1\"))","v":""},{"$f":"IF(B50=\"\",\"\",COUNTIF('Entry sheet-2-hin'!$AM$9:$AM$68,\"44LA2\"))","v":""},{"$f":"IF(B50=\"\",\"\",COUNTIF('Entry sheet-2-hin'!$AM$9:$AM$77,\"22दीउ5\"))","v":""},{"$f":"IF(B50=\"\",\"\",COUNTIF('Entry sheet-2-hin'!$AN$9:$AN$68,\"44E\"))","v":""},{"$f":"IF(B50=\"\",\"\",COUNTIF('Entry sheet-2-hin'!$AN$9:$AN$68,\"44M\"))","v":""},{"$f":"IF(B50=\"\",\"\",COUNTIF('Entry sheet-2-hin'!$AN$9:$AN$68,\"44D\"))","v":""},"","",{"$f":"IF(B50=\"\",\"\",R50/'Entry sheet-1-hin'!$C$6*100)","v":""}]
[{"$f":"IF('Entry sheet-1-hin'!A54=\"\",\"\",'Entry sheet-1-hin'!A54)","v":""},{"$f":"IF('Entry sheet-1-hin'!B54=\"\",\"\",'Entry sheet-1-hin'!B54)","v":""},{"$f":"IF(B51=\"\",\"\",COUNTIF('Entry sheet-2-hin'!$AL$9:$AL$68,\"45K\"))","v":""},{"$f":"IF(B51=\"\",\"\",COUNTIF('Entry sheet-2-hin'!$AL$9:$AL$68,\"45U\"))","v":""},{"$f":"IF(B51=\"\",\"\",COUNTIF('Entry sheet-2-hin'!$AL$9:$AL$68,\"45A\"))","v":""},{"$f":"IF(B51=\"\",\"\",COUNTIF('Entry sheet-2-hin'!$AL$9:$AL$68,\"45S\"))","v":""},{"$f":"IF(B51=\"\",\"\",COUNTIF('Entry sheet-2-hin'!$AM$9:$AM$68,\"45MC\"))","v":""},{"$f":"IF(B51=\"\",\"\",COUNTIF('Entry sheet-2-hin'!$AM$9:$AM$68,\"45OT\"))","v":""},{"$f":"IF(B51=\"\",\"\",COUNTIF('Entry sheet-2-hin'!$AM$9:$AM$68,\"45SA1\"))","v":""},{"$f":"IF(B51=\"\",\"\",COUNTIF('Entry sheet-2-hin'!$AM$9:$AM$68,\"45SA2\"))","v":""},{"$f":"IF(B51=\"\",\"\",COUNTIF('Entry sheet-2-hin'!$AM$9:$AM$68,\"45LA1\"))","v":""},{"$f":"IF(B51=\"\",\"\",COUNTIF('Entry sheet-2-hin'!$AM$9:$AM$68,\"45LA2\"))","v":""},{"$f":"IF(B51=\"\",\"\",COUNTIF('Entry sheet-2-hin'!$AM$9:$AM$77,\"22दीउ5\"))","v":""},{"$f":"IF(B51=\"\",\"\",COUNTIF('Entry sheet-2-hin'!$AN$9:$AN$68,\"45E\"))","v":""},{"$f":"IF(B51=\"\",\"\",COUNTIF('Entry sheet-2-hin'!$AN$9:$AN$68,\"45M\"))","v":""},{"$f":"IF(B51=\"\",\"\",COUNTIF('Entry sheet-2-hin'!$AN$9:$AN$68,\"45D\"))","v":""},"","",{"$f":"IF(B51=\"\",\"\",R51/'Entry sheet-1-hin'!$C$6*100)","v":""}]
[{"$f":"IF('Entry sheet-1-hin'!A55=\"\",\"\",'Entry sheet-1-hin'!A55)","v":""},{"$f":"IF('Entry sheet-1-hin'!B55=\"\",\"\",'Entry sheet-1-hin'!B55)","v":""},{"$f":"IF(B52=\"\",\"\",COUNTIF('Entry sheet-2-hin'!$AL$9:$AL$68,\"46K\"))","v":""},{"$f":"IF(B52=\"\",\"\",COUNTIF('Entry sheet-2-hin'!$AL$9:$AL$68,\"46U\"))","v":""},{"$f":"IF(B52=\"\",\"\",COUNTIF('Entry sheet-2-hin'!$AL$9:$AL$68,\"46A\"))","v":""},{"$f":"IF(B52=\"\",\"\",COUNTIF('Entry sheet-2-hin'!$AL$9:$AL$68,\"46S\"))","v":""},{"$f":"IF(B52=\"\",\"\",COUNTIF('Entry sheet-2-hin'!$AM$9:$AM$68,\"46MC\"))","v":""},{"$f":"IF(B52=\"\",\"\",COUNTIF('Entry sheet-2-hin'!$AM$9:$AM$68,\"46OT\"))","v":""},{"$f":"IF(B52=\"\",\"\",COUNTIF('Entry sheet-2-hin'!$AM$9:$AM$68,\"46SA1\"))","v":""},{"$f":"IF(B52=\"\",\"\",COUNTIF('Entry sheet-2-hin'!$AM$9:$AM$68,\"46SA2\"))","v":""},{"$f":"IF(B52=\"\",\"\",COUNTIF('Entry sheet-2-hin'!$AM$9:$AM$68,\"46LA1\"))","v":""},{"$f":"IF(B52=\"\",\"\",COUNTIF('Entry sheet-2-hin'!$AM$9:$AM$68,\"46LA2\"))","v":""},{"$f":"IF(B52=\"\",\"\",COUNTIF('Entry sheet-2-hin'!$AM$9:$AM$77,\"22दीउ5\"))","v":""},{"$f":"IF(B52=\"\",\"\",COUNTIF('Entry sheet-2-hin'!$AN$9:$AN$68,\"46E\"))","v":""},{"$f":"IF(B52=\"\",\"\",COUNTIF('Entry sheet-2-hin'!$AN$9:$AN$68,\"46M\"))","v":""},{"$f":"IF(B52=\"\",\"\",COUNTIF('Entry sheet-2-hin'!$AN$9:$AN$68,\"46D\"))","v":""},"","",{"$f":"IF(B52=\"\",\"\",R52/'Entry sheet-1-hin'!$C$6*100)","v":""}]
[{"$f":"IF('Entry sheet-1-hin'!A56=\"\",\"\",'Entry sheet-1-hin'!A56)","v":""},{"$f":"IF('Entry sheet-1-hin'!B56=\"\",\"\",'Entry sheet-1-hin'!B56)","v":""},{"$f":"IF(B53=\"\",\"\",COUNTIF('Entry sheet-2-hin'!$AL$9:$AL$68,\"47K\"))","v":""},{"$f":"IF(B53=\"\",\"\",COUNTIF('Entry sheet-2-hin'!$AL$9:$AL$68,\"47U\"))","v":""},{"$f":"IF(B53=\"\",\"\",COUNTIF('Entry sheet-2-hin'!$AL$9:$AL$68,\"47A\"))","v":""},{"$f":"IF(B53=\"\",\"\",COUNTIF('Entry sheet-2-hin'!$AL$9:$AL$68,\"47S\"))","v":""},{"$f":"IF(B53=\"\",\"\",COUNTIF('Entry sheet-2-hin'!$AM$9:$AM$68,\"47MC\"))","v":""},{"$f":"IF(B53=\"\",\"\",COUNTIF('Entry sheet-2-hin'!$AM$9:$AM$68,\"47OT\"))","v":""},{"$f":"IF(B53=\"\",\"\",COUNTIF('Entry sheet-2-hin'!$AM$9:$AM$68,\"47SA1\"))","v":""},{"$f":"IF(B53=\"\",\"\",COUNTIF('Entry sheet-2-hin'!$AM$9:$AM$68,\"47SA2\"))","v":""},{"$f":"IF(B53=\"\",\"\",COUNTIF('Entry sheet-2-hin'!$AM$9:$AM$68,\"47LA1\"))","v":""},{"$f":"IF(B53=\"\",\"\",COUNTIF('Entry sheet-2-hin'!$AM$9:$AM$68,\"47LA2\"))","v":""},{"$f":"IF(B53=\"\",\"\",COUNTIF('Entry sheet-2-hin'!$AM$9:$AM$77,\"22दीउ5\"))","v":""},{"$f":"IF(B53=\"\",\"\",COUNTIF('Entry sheet-2-hin'!$AN$9:$AN$68,\"47E\"))","v":""},{"$f":"IF(B53=\"\",\"\",COUNTIF('Entry sheet-2-hin'!$AN$9:$AN$68,\"47M\"))","v":""},{"$f":"IF(B53=\"\",\"\",COUNTIF('Entry sheet-2-hin'!$AN$9:$AN$68,\"47D\"))","v":""},"","",{"$f":"IF(B53=\"\",\"\",R53/'Entry sheet-1-hin'!$C$6*100)","v":""}]
[{"$f":"IF('Entry sheet-1-hin'!A57=\"\",\"\",'Entry sheet-1-hin'!A57)","v":""},{"$f":"IF('Entry sheet-1-hin'!B57=\"\",\"\",'Entry sheet-1-hin'!B57)","v":""},{"$f":"IF(B54=\"\",\"\",COUNTIF('Entry sheet-2-hin'!$AL$9:$AL$68,\"48K\"))","v":""},{"$f":"IF(B54=\"\",\"\",COUNTIF('Entry sheet-2-hin'!$AL$9:$AL$68,\"48U\"))","v":""},{"$f":"IF(B54=\"\",\"\",COUNTIF('Entry sheet-2-hin'!$AL$9:$AL$68,\"48A\"))","v":""},{"$f":"IF(B54=\"\",\"\",COUNTIF('Entry sheet-2-hin'!$AL$9:$AL$68,\"48S\"))","v":""},{"$f":"IF(B54=\"\",\"\",COUNTIF('Entry sheet-2-hin'!$AM$9:$AM$68,\"48MC\"))","v":""},{"$f":"IF(B54=\"\",\"\",COUNTIF('Entry sheet-2-hin'!$AM$9:$AM$68,\"48OT\"))","v":""},{"$f":"IF(B54=\"\",\"\",COUNTIF('Entry sheet-2-hin'!$AM$9:$AM$68,\"48SA1\"))","v":""},{"$f":"IF(B54=\"\",\"\",COUNTIF('Entry sheet-2-hin'!$AM$9:$AM$68,\"48SA2\"))","v":""},{"$f":"IF(B54=\"\",\"\",COUNTIF('Entry sheet-2-hin'!$AM$9:$AM$68,\"48LA1\"))","v":""},{"$f":"IF(B54=\"\",\"\",COUNTIF('Entry sheet-2-hin'!$AM$9:$AM$68,\"48LA2\"))","v":""},{"$f":"IF(B54=\"\",\"\",COUNTIF('Entry sheet-2-hin'!$AM$9:$AM$77,\"22दीउ5\"))","v":""},{"$f":"IF(B54=\"\",\"\",COUNTIF('Entry sheet-2-hin'!$AN$9:$AN$68,\"48E\"))","v":""},{"$f":"IF(B54=\"\",\"\",COUNTIF('Entry sheet-2-hin'!$AN$9:$AN$68,\"48M\"))","v":""},{"$f":"IF(B54=\"\",\"\",COUNTIF('Entry sheet-2-hin'!$AN$9:$AN$68,\"48D\"))","v":""},"","",{"$f":"IF(B54=\"\",\"\",R54/'Entry sheet-1-hin'!$C$6*100)","v":""}]
[{"$f":"IF('Entry sheet-1-hin'!A58=\"\",\"\",'Entry sheet-1-hin'!A58)","v":""},{"$f":"IF('Entry sheet-1-hin'!B58=\"\",\"\",'Entry sheet-1-hin'!B58)","v":""},{"$f":"IF(B55=\"\",\"\",COUNTIF('Entry sheet-2-hin'!$AL$9:$AL$68,\"49K\"))","v":""},{"$f":"IF(B55=\"\",\"\",COUNTIF('Entry sheet-2-hin'!$AL$9:$AL$68,\"49U\"))","v":""},{"$f":"IF(B55=\"\",\"\",COUNTIF('Entry sheet-2-hin'!$AL$9:$AL$68,\"49A\"))","v":""},{"$f":"IF(B55=\"\",\"\",COUNTIF('Entry sheet-2-hin'!$AL$9:$AL$68,\"49S\"))","v":""},{"$f":"IF(B55=\"\",\"\",COUNTIF('Entry sheet-2-hin'!$AM$9:$AM$68,\"49MC\"))","v":""},{"$f":"IF(B55=\"\",\"\",COUNTIF('Entry sheet-2-hin'!$AM$9:$AM$68,\"49OT\"))","v":""},{"$f":"IF(B55=\"\",\"\",COUNTIF('Entry sheet-2-hin'!$AM$9:$AM$68,\"49SA1\"))","v":""},{"$f":"IF(B55=\"\",\"\",COUNTIF('Entry sheet-2-hin'!$AM$9:$AM$68,\"49SA2\"))","v":""},{"$f":"IF(B55=\"\",\"\",COUNTIF('Entry sheet-2-hin'!$AM$9:$AM$68,\"49LA1\"))","v":""},{"$f":"IF(B55=\"\",\"\",COUNTIF('Entry sheet-2-hin'!$AM$9:$AM$68,\"49LA2\"))","v":""},{"$f":"IF(B55=\"\",\"\",COUNTIF('Entry sheet-2-hin'!$AM$9:$AM$77,\"22दीउ5\"))","v":""},{"$f":"IF(B55=\"\",\"\",COUNTIF('Entry sheet-2-hin'!$AN$9:$AN$68,\"49E\"))","v":""},{"$f":"IF(B55=\"\",\"\",COUNTIF('Entry sheet-2-hin'!$AN$9:$AN$68,\"49M\"))","v":""},{"$f":"IF(B55=\"\",\"\",COUNTIF('Entry sheet-2-hin'!$AN$9:$AN$68,\"49D\"))","v":""},"","",{"$f":"IF(B55=\"\",\"\",R55/'Entry sheet-1-hin'!$C$6*100)","v":""}]
[{"$f":"IF('Entry sheet-1-hin'!A59=\"\",\"\",'Entry sheet-1-hin'!A59)","v":""},{"$f":"IF('Entry sheet-1-hin'!B59=\"\",\"\",'Entry sheet-1-hin'!B59)","v":""},{"$f":"IF(B56=\"\",\"\",COUNTIF('Entry sheet-2-hin'!$AL$9:$AL$68,\"50K\"))","v":""},{"$f":"IF(B56=\"\",\"\",COUNTIF('Entry sheet-2-hin'!$AL$9:$AL$68,\"50U\"))","v":""},{"$f":"IF(B56=\"\",\"\",COUNTIF('Entry sheet-2-hin'!$AL$9:$AL$68,\"50A\"))","v":""},{"$f":"IF(B56=\"\",\"\",COUNTIF('Entry sheet-2-hin'!$AL$9:$AL$68,\"50S\"))","v":""},{"$f":"IF(B56=\"\",\"\",COUNTIF('Entry sheet-2-hin'!$AM$9:$AM$68,\"50MC\"))","v":""},{"$f":"IF(B56=\"\",\"\",COUNTIF('Entry sheet-2-hin'!$AM$9:$AM$68,\"50OT\"))","v":""},{"$f":"IF(B56=\"\",\"\",COUNTIF('Entry sheet-2-hin'!$AM$9:$AM$68,\"50SA1\"))","v":""},{"$f":"IF(B56=\"\",\"\",COUNTIF('Entry sheet-2-hin'!$AM$9:$AM$68,\"50SA2\"))","v":""},{"$f":"IF(B56=\"\",\"\",COUNTIF('Entry sheet-2-hin'!$AM$9:$AM$68,\"50LA1\"))","v":""},{"$f":"IF(B56=\"\",\"\",COUNTIF('Entry sheet-2-hin'!$AM$9:$AM$68,\"50LA2\"))","v":""},{"$f":"IF(B56=\"\",\"\",COUNTIF('Entry sheet-2-hin'!$AM$9:$AM$77,\"22दीउ5\"))","v":""},{"$f":"IF(B56=\"\",\"\",COUNTIF('Entry sheet-2-hin'!$AN$9:$AN$68,\"50E\"))","v":""},{"$f":"IF(B56=\"\",\"\",COUNTIF('Entry sheet-2-hin'!$AN$9:$AN$68,\"50M\"))","v":""},{"$f":"IF(B56=\"\",\"\",COUNTIF('Entry sheet-2-hin'!$AN$9:$AN$68,\"50D\"))","v":""},"","",{"$f":"IF(B56=\"\",\"\",R56/'Entry sheet-1-hin'!$C$6*100)","v":""}]
["MlÄÖ",null,{"$f":"SUM(C7:C56)","v":3},{"$f":"SUM(D7:D56)","v":14},7,1,4,4,8,5,2,2,0,11,11,3,25,40,{"$f":"IF(R57=\"\",\"\",R57/'Entry sheet-1-hin'!$C$6*100)","v":100}]
[]
[null,null,null,null,null,null,null,null,null,null,null,null,null,null,"हस्ताक्षर"]
[null,null,null,null,null,null,null,null,null,null,null,{"$f":"IF('Entry sheet-1-hin'!C7=\"\",\"\",\"(\"&'Entry sheet-1-hin'!C7&\")\")","v":"(नागलिंगय्या)"}]
[]
[]
[]
[]
[]
[]
[]
[]
[]
[]
[]
["पाठों पर प्रतिशत अंक बँटवार"]

{"sheet":"PARTWISE","index":18,"n_rows":24,"n_cols":8,"rows_kept":24,"cut":false,"hidden":false,"merged":[[22,5,22,6],[23,5,23,6],[10,0,10,2],[10,3,10,4],[10,5,10,6],[10,7,10,8],[6,3,6,4],[6,5,6,6],[6,7,6,8],[7,3,7,4],[7,5,7,6],[7,7,7,8],[8,3,8,4],[9,3,9,4],[8,5,8,6],[9,5,9,6],[8,7,8,8],[9,7,9,8],[0,0,0,9],[1,0,1,9],[3,0,3,8],[4,1,4,2],[5,3,5,4],[5,5,5,6],[5,7,5,8],[4,7,4,8],[4,5,4,6],[4,3,4,4]]}
[{"$f":"IF('Entry sheet-1-hin'!C2=\"\",\"\",'Entry sheet-1-hin'!C2)","v":"सरकारी पदवि पूर्व कॉलेंज (प्रौ.शा.वि) गुरुगुंटा, ता : लिंगसुगूर"}]
[{"$f":"IF('Entry sheet-1-hin'!C3=\"\",\"\",'Entry sheet-1-hin'!C3)","v":"संकलनात्मक परीक्षा - १   २०१५-१६"}]
[{"$f":"uddista!A3","v":"कक्षा"},{"$f":"IF('Entry sheet-1-hin'!C4=\"\",\"\",'Entry sheet-1-hin'!C4)","v":"9वीं "},null,null,null,null,null,{"$f":"'Entry sheet-1-hin'!A5&IF('Entry sheet-1-hin'!C5=\"\",\"\",'Entry sheet-1-hin'!C5)","v":"विषयहिंदी"}]
["विषय वस्तु के आधार पर"]
[{"$f":"uddista!A5","v":"क्र.सं"},{"$f":"'Entry sheet-1-hin'!E19","v":"विषय वस्तु"},null,{"$f":"'Entry sheet-1-hin'!G9","v":"प्रतिशत"},null,{"$f":"uddista!F5","v":"अंक"},null,{"$f":"uddista!H5","v":"प्रश्‍न"}]
[1,{"$f":"'Entry sheet-1-hin'!E20","v":"गद्य"},"ग",{"$f":"IF(F6=\"\",\"\",F6/'Entry sheet-1-hin'!$C$6*100)","v":50},null,{"$f":"IF('Entry sheet-2-hin'!Q7=\"\",\"\",'Entry sheet-2-hin'!Q7)","v":20},null,{"$f":"IF(F6=\"\",\"\",COUNTIF('Entry sheet-2-hin'!$AD$9:$AD$77,\"ग\"))","v":12}]
[2,{"$f":"'Entry sheet-1-hin'!E21","v":"पद्य"},"प",{"$f":"IF(F7=\"\",\"\",F7/'Entry sheet-1-hin'!$C$6*100)","v":15},null,{"$f":"IF('Entry sheet-2-hin'!R7=\"\",\"\",'Entry sheet-2-hin'!R7)","v":6},null,{"$f":"IF(F7=\"\",\"\",COUNTIF('Entry sheet-2-hin'!$AD$9:$AD$77,\"प\"))","v":3}]
[3,{"$f":"'Entry sheet-1-hin'!E22","v":"व्याकरण"},"व्या",{"$f":"IF(F8=\"\",\"\",F8/'Entry sheet-1-hin'!$C$6*100)","v":10},null,{"$f":"IF('Entry sheet-2-hin'!S7=\"\",\"\",'Entry sheet-2-hin'!S7)","v":4},null,{"$f":"IF(F8=\"\",\"\",COUNTIF('Entry sheet-2-hin'!$AD$9:$AD$77,\"व्या\"))","v":4}]
[4,{"$f":"'Entry sheet-1-hin'!E23","v":"रचना"},"र",{"$f":"IF(F9=\"\",\"\",F9/'Entry sheet-1-hin'!$C$6*100)","v":20},null,{"$f":"IF('Entry sheet-2-hin'!T7=\"\",\"\",'Entry sheet-2-hin'!T7)","v":8},null,{"$f":"IF(F9=\"\",\"\",COUNTIF('Entry sheet-2-hin'!$AD$9:$AD$77,\"र\"))","v":5}]
[5,{"$f":"'Entry sheet-1-hin'!E24","v":"पूरक वाचन"},"पूवा",{"$f":"IF(F10=\"\",\"\",F10/'Entry sheet-1-hin'!$C$6*100)","v":5},null,{"$f":"IF('Entry sheet-2-hin'!U7=\"\",\"\",'Entry sheet-2-hin'!U7)","v":2},null,{"$f":"IF(F10=\"\",\"\",COUNTIF('Entry sheet-2-hin'!$AD$9:$AD$77,\"पूवा\"))","v":1}]
[{"$f":"uddista!A10","v":"कुल"},null,null,{"$f":"IF(SUM(D6:D10)=\"\",\"\",SUM(D6:D10))","v":100},null,{"$f":"IF(SUM(F6:F10)=\"\",\"\",SUM(F6:F10))","v":40},null,{"$f":"IF(SUM(H6:H10)=\"\",\"\",SUM(H6:H10))","v":25}]
[]
[]
[]
[]
[]
[]
[]
[]
[]
[]
[null,"nagalingaiah.h@gmail.com      Mo :9035172763"]
[null,null,null,null,null,"हस्ताक्षर"]
[null,null,null,null,null,{"$f":"IF('Entry sheet-1-hin'!C7=\"\",\"\",\"(\"&'Entry sheet-1-hin'!C7&\")\")","v":"(नागलिंगय्या)"}]

{"sheet":"blue print","index":19,"n_rows":63,"n_cols":74,"rows_kept":63,"cut":false,"hidden":false,"merged":[[5,56,6,57],[2,2,2,11],[2,66,2,73],[5,18,6,19],[61,65,61,66],[4,16,4,29],[4,30,4,43],[4,44,4,57],[5,58,6,59],[5,62,6,63],[5,64,6,65],[5,66,6,67],[5,68,6,69],[4,58,4,71],[5,70,6,71],[4,73,7,73],[62,63,62,68],[5,38,6,39],[5,2,6,3],[5,10,6,11],[5,16,6,17],[5,20,6,21],[5,22,6,23],[5,24,6,25],[5,26,6,27],[5,12,6,13],[5,30,6,31],[5,34,6,35],[5,36,6,37],[5,14,6,15],[5,28,6,29],[5,42,6,43],[4,1,7,1],[5,6,6,7],[5,8,6,9],[5,4,6,5],[4,2,4,15],[58,0,58,1],[0,0,0,73],[1,0,1,73],[3,0,3,73],[5,32,6,33],[5,46,6,47],[5,60,6,61],[4,72,7,72],[5,40,6,41],[5,44,6,45],[5,52,6,53],[5,54,6,55],[5,48,6,49],[5,50,6,51],[2,0,2,1],[4,0,7,0]]}
[{"$f":"'Entry sheet-1-hin'!C2","v":"सरकारी पदवि पूर्व कॉलेंज (प्रौ.शा.वि) गुरुगुंटा, ता : लिंगसुगूर"}]
[{"$f":"'Entry sheet-1-hin'!C3","v":"संकलनात्मक परीक्षा - १   २०१५-१६"}]
[{"$f":"'Entry sheet-1-hin'!A4:B4","v":"कक्षा"},null,{"$f":"'Entry sheet-1-hin'!C4:P4","v":"9वीं "},null,null,null,null,null,null,null,null,null,null,null,null,null,null,null,null,null,null,null,null,null,null,null,null,null,null,null,null,null,null,null,null,null,null,null,null,null,null,null,null,null,null,null,null,null,null,null,null,null,null,null,null,null,null,null,null,null,null,null,null,null,null,null,{"$f":"'Entry sheet-1-hin'!A5&'Entry sheet-1-hin'!C5","v":"विषयहिंदी"}]
["नील नक्षा"]
["क्र.सं","पाठ का नाम","स्मरण",null,null,null,null,null,null,null,null,null,null,null,null,null,"समझना",null,null,null,null,null,null,null,null,null,null,null,null,null,"अभिव्यक्ति",null,null,null,null,null,null,null,null,null,null,null,null,null,"रसग्रहण",null,null,null,null,null,null,null,null,null,null,null,null,null,"कुल",null,null,null,null,null,null,null,null,null,null,null,null,null,"कुल प्रश्‍नों की संख्या","कुल अंक"]
[null,null,"ब.वि",null,"व.नि (जो,अ)",null,"अ.ल.उ",null,"ल.उ-2",null,"ल.उ-3",null,"दी.उ4",null,"दी.उ5",null,"ब.वि",null,"व.नि (जो,अ)",null,"अ.ल.उ",null,"ल.उ-2",null,"ल.उ-3",null,"दी.उ4",null,"दी.उ5",null,"ब.वि",null,"व.नि (जो,अ)",null,"अ.ल.उ",null,"ल.उ-2",null,"ल.उ-3",null,"दी.उ4",null,"दी.उ5",null,"ब.वि",null,"व.नि (जो,अ)",null,"अ.ल.उ",null,"ल.उ-2",null,"ल.उ-3",null,"दी.उ4",null,"दी.उ5",null,"ब.वि",null,"व.नि (जोडकर,अनुरूपता)",null,"अ.ल.उ",null,"ल.उ-२",null,"ल.उ-३",null,"दी.उ-4",null,"दी.उ-5"]
[]
[null,null,"प्र","अ","प्र","अ","प्र","अ","प्र","अ","प्र","अ","प्र","अ","प्र","अ","प्र","अ","प्र","अ","प्र","अ","प्र","अ","प्र","अ","प्र","अ","प्र","अ","प्र","अ","प्र","अ","प्र","अ","प्र","अ","प्र","अ","प्र","अ","प्र","अ","प्र","अ","प्र","अ","प्र","अ","प्र","अ","प्र","अ","प्र","अ","प्र","अ","प्र","अ","प्र","अ","प्र","अ","प्र","अ","प्र","अ","प्र","अ","प्र","अ"]
[{"$f":"IF('Entry sheet-1-hin'!A10=\"\",\"\",'Entry sheet-1-hin'!A10)","v":1},{"$f":"IF('Entry sheet-1-hin'!B10=\"\",\"\",'Entry sheet-1-hin'!B10)","v":"स्वामी विवेकानंद"},{"$f":"IF(B9=\"\",\"\",IF(AND(COUNTIF('Entry sheet-2-hin'!$AO$9:$AO$77,\"1स्मबवि\")=0),\"\",COUNTIF('Entry sheet-2-hin'!$AO$9:$AO$77,\"1स्मबवि\")))","v":""},{"$f":"IF(C9=\"\",\"\",C9)","v":""},{"$f":"IF(B9=\"\",\"\",IF(AND(COUNTIF('Entry sheet-2-hin'!$AO$9:$AO$77,\"1स्मवनि\")=0),\"\",COUNTIF('Entry sheet-2-hin'!$AO$9:$AO$77,\"1स्मवनि\")))","v":""},{"$f":"IF(E9=\"\",\"\",E9)","v":""},{"$f":"IF(B9=\"\",\"\",IF(AND(COUNTIF('Entry sheet-2-hin'!$AO$9:$AO$77,\"1स्मअलउ\")=0),\"\",COUNTIF('Entry sheet-2-hin'!$AO$9:$AO$77,\"1स्मअलउ\")))","v":1},{"$f":"IF(G9=\"\",\"\",G9)","v":1},{"$f":"IF(B9=\"\",\"\",IF(AND(COUNTIF('Entry sheet-2-hin'!$AO$9:$AO$77,\"1स्मलउ२\")=0),\"\",COUNTIF('Entry sheet-2-hin'!$AO$9:$AO$77,\"1स्मलउ२\")))","v":""},{"$f":"IF(I9=\"\",\"\",I9*2)","v":""},{"$f":"IF(B9=\"\",\"\",IF(AND(COUNTIF('Entry sheet-2-hin'!$AO$9:$AO$77,\"1स्मलउ३\")=0),\"\",COUNTIF('Entry sheet-2-hin'!$AO$9:$AO$77,\"1स्मलउ३\")))","v":""},{"$f":"IF(K9=\"\",\"\",K9*3)","v":""},{"$f":"IF(B9=\"\",\"\",IF(AND(COUNTIF('Entry sheet-2-hin'!$AO$9:$AO$77,\"1स्मदीउ४\")=0),\"\",COUNTIF('Entry sheet-2-hin'!$AO$9:$AO$77,\"1स्मदीउ४\")))","v":""},{"$f":"IF(M9=\"\",\"\",M9*4)","v":""},{"$f":"IF(B9=\"\",\"\",IF(AND(COUNTIF('Entry sheet-2-hin'!$AO$9:$AO$77,\"1स्मदीउ5\")=0),\"\",COUNTIF('Entry sheet-2-hin'!$AO$9:$AO$77,\"1स्मदीउ5\")))","v":""},{"$f":"IF(O9=\"\",\"\",O9*5)","v":""},{"$f":"IF(B9=\"\",\"\",IF(AND(COUNTIF('Entry sheet-2-hin'!$AO$9:$AO$77,\"1समबवि\")=0),\"\",COUNTIF('Entry sheet-2-hin'!$AO$9:$AO$77,\"1समबवि\")))","v":""},{"$f":"IF(Q9=\"\",\"\",Q9)","v":""},{"$f":"IF(B9=\"\",\"\",IF(AND(COUNTIF('Entry sheet-2-hin'!$AO$9:$AO$77,\"1समवनि\")=0),\"\",COUNTIF('Entry sheet-2-hin'!$AO$9:$AO$77,\"1समवनि\")))","v":1},{"$f":"IF(S9=\"\",\"\",S9)","v":1},{"$f":"IF(B9=\"\",\"\",IF(AND(COUNTIF('Entry sheet-2-hin'!$AO$9:$AO$77,\"1समअलउ\")=0),\"\",COUNTIF('Entry sheet-2-hin'!$AO$9:$AO$77,\"1समअलउ\")))","v":""},{"$f":"IF(U9=\"\",\"\",U9)","v":""},{"$f":"IF(B9=\"\",\"\",IF(AND(COUNTIF('Entry sheet-2-hin'!$AO$9:$AO$77,\"1समलउ२\")=0),\"\",COUNTIF('Entry sheet-2-hin'!$AO$9:$AO$77,\"1समलउ२\")))","v":""},{"$f":"IF(W9=\"\",\"\",W9*2)","v":""},{"$f":"IF(B9=\"\",\"\",IF(AND(COUNTIF('Entry sheet-2-hin'!$AO$9:$AO$77,\"1समलउ३\")=0),\"\",COUNTIF('Entry sheet-2-hin'!$AO$9:$AO$77,\"1समलउ३\")))","v":""},{"$f":"IF(Y9=\"\",\"\",Y9*3)","v":""},{"$f":"IF(B9=\"\",\"\",IF(AND(COUNTIF('Entry sheet-2-hin'!$AO$9:$AO$77,\"1समदीउ४\")=0),\"\",COUNTIF('Entry sheet-2-hin'!$AO$9:$AO$77,\"1समदीउ४\")))","v":""},{"$f":"IF(AA9=\"\",\"\",AA9*4)","v":""},{"$f":"IF(B9=\"\",\"\",IF(AND(COUNTIF('Entry sheet-2-hin'!$AO$9:$AO$77,\"1समदीउ5\")=0),\"\",COUNTIF('Entry sheet-2-hin'!$AO$9:$AO$77,\"1समदीउ5\")))","v":""},{"$f":"IF(AC9=\"\",\"\",AC9*5)","v":""},{"$f":"IF(B9=\"\",\"\",IF(AND(COUNTIF('Entry sheet-2-hin'!$AO$9:$AO$77,\"1अबवि\")=0),\"\",COUNTIF('Entry sheet-2-hin'!$AO$9:$AO$77,\"1अबवि\")))","v":""},{"$f":"IF(AE9=\"\",\"\",AE9)","v":""},{"$f":"IF(B9=\"\",\"\",IF(AND(COUNTIF('Entry sheet-2-hin'!$AO$9:$AO$77,\"1अवनि\")=0),\"\",COUNTIF('Entry sheet-2-hin'!$AO$9:$AO$77,\"1अवनि\")))","v":""},{"$f":"IF(AG9=\"\",\"\",AG9)","v":""},{"$f":"IF(B9=\"\",\"\",IF(AND(COUNTIF('Entry sheet-2-hin'!$AO$9:$AO$77,\"1अअलउ\")=0),\"\",COUNTIF('Entry sheet-2-hin'!$AO$9:$AO$77,\"1अअलउ\")))","v":""},{"$f":"IF(AI9=\"\",\"\",AI9)","v":""},{"$f":"IF(B9=\"\",\"\",IF(AND(COUNTIF('Entry sheet-2-hin'!$AO$9:$AO$77,\"1अलउ२\")=0),\"\",COUNTIF('Entry sheet-2-hin'!$AO$9:$AO$77,\"1अलउ२\")))","v":1},{"$f":"IF(AK9=\"\",\"\",AK9*2)","v":2},{"$f":"IF(B9=\"\",\"\",IF(AND(COUNTIF('Entry sheet-2-hin'!$AO$9:$AO$77,\"1अलउ३\")=0),\"\",COUNTIF('Entry sheet-2-hin'!$AO$9:$AO$77,\"1अलउ३\")))","v":""},{"$f":"IF(AM9=\"\",\"\",AM9*3)","v":""},{"$f":"IF(B9=\"\",\"\",IF(AND(COUNTIF('Entry sheet-2-hin'!$AO$9:$AO$77,\"1अदीउ४\")=0),\"\",COUNTIF('Entry sheet-2-hin'!$AO$9:$AO$77,\"1अदीउ४\")))","v":""},{"$f":"IF(AO9=\"\",\"\",AO9*4)","v":""},{"$f":"IF(B9=\"\",\"\",IF(AND(COUNTIF('Entry sheet-2-hin'!$AO$9:$AO$77,\"1अदीउ५\")=0),\"\",COUNTIF('Entry sheet-2-hin'!$AO$9:$AO$77,\"1अदीउ५\")))","v":""},{"$f":"IF(AQ9=\"\",\"\",AQ9*5)","v":""},{"$f":"IF(B9=\"\",\"\",IF(AND(COUNTIF('Entry sheet-2-hin'!$AO$9:$AO$77,\"1रसबवि\")=0),\"\",COUNTIF('Entry sheet-2-hin'!$AO$9:$AO$77,\"1रसबवि\")))","v":""},{"$f":"IF(AS9=\"\",\"\",AS9)","v":""},{"$f":"IF(B9=\"\",\"\",IF(AND(COUNTIF('Entry sheet-2-hin'!$AO$9:$AO$77,\"1रसवनि\")=0),\"\",COUNTIF('Entry sheet-2-hin'!$AO$9:$AO$77,\"1रसवनि\")))","v":""},{"$f":"IF(AU9=\"\",\"\",AU9)","v":""},{"$f":"IF(B9=\"\",\"\",IF(AND(COUNTIF('Entry sheet-2-hin'!$AO$9:$AO$77,\"1रसअलउ\")=0),\"\",COUNTIF('Entry sheet-2-hin'!$AO$9:$AO$77,\"1रसअलउ\")))","v":""},{"$f":"IF(AW9=\"\",\"\",AW9)","v":""},{"$f":"IF(B9=\"\",\"\",IF(AND(COUNTIF('Entry sheet-2-hin'!$AO$9:$AO$77,\"1रसलउ२\")=0),\"\",COUNTIF('Entry sheet-2-hin'!$AO$9:$AO$77,\"1रसलउ२\")))","v":""},{"$f":"IF(AY9=\"\",\"\",AY9*2)","v":""},{"$f":"IF(B9=\"\",\"\",IF(AND(COUNTIF('Entry sheet-2-hin'!$AO$9:$AO$77,\"1रसलउ३\")=0),\"\",COUNTIF('Entry sheet-2-hin'!$AO$9:$AO$77,\"1रसलउ३\")))","v":""},{"$f":"IF(BA9=\"\",\"\",BA9*3)","v":""},{"$f":"IF(B9=\"\",\"\",IF(AND(COUNTIF('Entry sheet-2-hin'!$AO$9:$AO$77,\"1रसदीउ४\")=0),\"\",COUNTIF('Entry sheet-2-hin'!$AO$9:$AO$77,\"1रसदीउ४\")))","v":""},{"$f":"IF(BC9=\"\",\"\",BC9*4)","v":""},{"$f":"IF(B9=\"\",\"\",IF(AND(COUNTIF('Entry sheet-2-hin'!$AO$9:$AO$77,\"1रसदीउ5\")=0),\"\",COUNTIF('Entry sheet-2-hin'!$AO$9:$AO$77,\"1रसदीउ5\")))","v":""},{"$f":"IF(BE9=\"\",\"\",BE9*5)","v":""},{"$f":"IF(B9=\"\",\"\",SUM(D9,R9,AF9,AT9))","v":0},{"$f":"IF(BG9=\"\",\"\",SUM(D9,R9,AF9,AT9))","v":0},{"$f":"IF(B9=\"\",\"\",SUM(F9,T9,AH9,AV9))","v":1},{"$f":"IF(BI9=\"\",\"\",SUM(F9,T9,AH9,AV9))","v":1},{"$f":"IF(B9=\"\",\"\",SUM(H9,V9,AJ9,AX9))","v":1},{"$f":"IF(BK9=\"\",\"\",SUM(H9,V9,AJ9,AX9))","v":1},{"$f":"IF(B9=\"\",\"\",SUM(J9,X9,AL9,AZ9)/2)","v":1},{"$f":"IF(BM9=\"\",\"\",SUM(J9,X9,AL9,AZ9))","v":2},{"$f":"IF(B9=\"\",\"\",SUM(L9,Z9,AN9,BB9)/3)","v":0},{"$f":"IF(BO9=\"\",\"\",SUM(L9,Z9,AN9,BB9))","v":0},{"$f":"IF(B9=\"\",\"\",SUM(N9,AB9,AP9,BD9)/4)","v":0},{"$f":"IF(BQ9=\"\",\"\",SUM(N9,AB9,AP9,BD9))","v":0},{"$f":"IF(B9=\"\",\"\",SUM(P9,AD9,AR9,BF9)/5)","v":0},{"$f":"IF(BS9=\"\",\"\",SUM(P9,AD9,AR9,BF9))","v":0},{"$f":"IF(B9=\"\",\"\",SUM(BG9,BI9,BK9,BM9,BO9,BQ9,BS9))","v":3},{"$f":"IF(B9=\"\",\"\",SUM(BH9,BJ9,BL9,BN9,BP9,BR9,BT9))","v":4}]
[{"$f":"IF('Entry sheet-1-hin'!A11=\"\",\"\",'Entry sheet-1-hin'!A11)","v":2},{"$f":"IF('Entry sheet-1-hin'!B11=\"\",\"\",'Entry sheet-1-hin'!B11)","v":"गुलाब सिंह"},{"$f":"IF(B10=\"\",\"\",IF(AND(COUNTIF('Entry sheet-2-hin'!$AO$9:$AO$77,\"2स्मबवि\")=0),\"\",COUNTIF('Entry sheet-2-hin'!$AO$9:$AO$77,\"2स्मबवि\")))","v":""},{"$f":"IF(C10=\"\",\"\",C10)","v":""},{"$f":"IF(B10=\"\",\"\",IF(AND(COUNTIF('Entry sheet-2-hin'!$AO$9:$AO$77,\"2स्मवनि\")=0),\"\",COUNTIF('Entry sheet-2-hin'!$AO$9:$AO$77,\"2स्मवनि\")))","v":""},{"$f":"IF(E10=\"\",\"\",E10)","v":""},{"$f":"IF(B10=\"\",\"\",IF(AND(COUNTIF('Entry sheet-2-hin'!$AO$9:$AO$77,\"2स्मअलउ\")=0),\"\",COUNTIF('Entry sheet-2-hin'!$AO$9:$AO$77,\"2स्मअलउ\")))","v":1},{"$f":"IF(G10=\"\",\"\",G10)","v":1},{"$f":"IF(B10=\"\",\"\",IF(AND(COUNTIF('Entry sheet-2-hin'!$AO$9:$AO$77,\"2स्मलउ२\")=0),\"\",COUNTIF('Entry sheet-2-hin'!$AO$9:$AO$77,\"2स्मलउ२\")))","v":""},{"$f":"IF(I10=\"\",\"\",I10*2)","v":""},{"$f":"IF(B10=\"\",\"\",IF(AND(COUNTIF('Entry sheet-2-hin'!$AO$9:$AO$77,\"2स्मलउ३\")=0),\"\",COUNTIF('Entry sheet-2-hin'!$AO$9:$AO$77,\"2स्मलउ३\")))","v":""},{"$f":"IF(K10=\"\",\"\",K10*3)","v":""},{"$f":"IF(B10=\"\",\"\",IF(AND(COUNTIF('Entry sheet-2-hin'!$AO$9:$AO$77,\"2स्मदीउ४\")=0),\"\",COUNTIF('Entry sheet-2-hin'!$AO$9:$AO$77,\"2स्मदीउ४\")))","v":""},{"$f":"IF(M10=\"\",\"\",M10*4)","v":""},{"$f":"IF(B10=\"\",\"\",IF(AND(COUNTIF('Entry sheet-2-hin'!$AO$9:$AO$77,\"2स्मदीउ5\")=0),\"\",COUNTIF('Entry sheet-2-hin'!$AO$9:$AO$77,\"2स्मदीउ5\")))","v":""},{"$f":"IF(O10=\"\",\"\",O10*5)","v":""},{"$f":"IF(B10=\"\",\"\",IF(AND(COUNTIF('Entry sheet-2-hin'!$AO$9:$AO$77,\"2समबवि\")=0),\"\",COUNTIF('Entry sheet-2-hin'!$AO$9:$AO$77,\"2समबवि\")))","v":""},{"$f":"IF(Q10=\"\",\"\",Q10)","v":""},{"$f":"IF(B10=\"\",\"\",IF(AND(COUNTIF('Entry sheet-2-hin'!$AO$9:$AO$77,\"2समवनि\")=0),\"\",COUNTIF('Entry sheet-2-hin'!$AO$9:$AO$77,\"2समवनि\")))","v":""},{"$f":"IF(S10=\"\",\"\",S10)","v":""},{"$f":"IF(B10=\"\",\"\",IF(AND(COUNTIF('Entry sheet-2-hin'!$AO$9:$AO$77,\"2समअलउ\")=0),\"\",COUNTIF('Entry sheet-2-hin'!$AO$9:$AO$77,\"2समअलउ\")))","v":""},{"$f":"IF(U10=\"\",\"\",U10)","v":""},{"$f":"IF(B10=\"\",\"\",IF(AND(COUNTIF('Entry sheet-2-hin'!$AO$9:$AO$77,\"2समलउ२\")=0),\"\",COUNTIF('Entry sheet-2-hin'!$AO$9:$AO$77,\"2समलउ२\")))","v":""},{"$f":"IF(W10=\"\",\"\",W10*2)","v":""},{"$f":"IF(B10=\"\",\"\",IF(AND(COUNTIF('Entry sheet-2-hin'!$AO$9:$AO$77,\"2समलउ३\")=0),\"\",COUNTIF('Entry sheet-2-hin'!$AO$9:$AO$77,\"2समलउ३\")))","v":""},{"$f":"IF(Y10=\"\",\"\",Y10*3)","v":""},{"$f":"IF(B10=\"\",\"\",IF(AND(COUNTIF('Entry sheet-2-hin'!$AO$9:$AO$77,\"2समदीउ४\")=0),\"\",COUNTIF('Entry sheet-2-hin'!$AO$9:$AO$77,\"2समदीउ४\")))","v":""},{"$f":"IF(AA10=\"\",\"\",AA10*4)","v":""},{"$f":"IF(B10=\"\",\"\",IF(AND(COUNTIF('Entry sheet-2-hin'!$AO$9:$AO$77,\"2समदीउ5\")=0),\"\",COUNTIF('Entry sheet-2-hin'!$AO$9:$AO$77,\"2समदीउ5\")))","v":""},{"$f":"IF(AC10=\"\",\"\",AC10*5)","v":""},{"$f":"IF(B10=\"\",\"\",IF(AND(COUNTIF('Entry sheet-2-hin'!$AO$9:$AO$77,\"2अबवि\")=0),\"\",COUNTIF('Entry sheet-2-hin'!$AO$9:$AO$77,\"2अबवि\")))","v":""},{"$f":"IF(AE10=\"\",\"\",AE10)","v":""},{"$f":"IF(B10=\"\",\"\",IF(AND(COUNTIF('Entry sheet-2-hin'!$AO$9:$AO$77,\"2अवनि\")=0),\"\",COUNTIF('Entry sheet-2-hin'!$AO$9:$AO$77,\"2अवनि\")))","v":""},{"$f":"IF(AG10=\"\",\"\",AG10)","v":""},{"$f":"IF(B10=\"\",\"\",IF(AND(COUNTIF('Entry sheet-2-hin'!$AO$9:$AO$77,\"2अअलउ\")=0),\"\",COUNTIF('Entry sheet-2-hin'!$AO$9:$AO$77,\"2अअलउ\")))","v":""},{"$f":"IF(AI10=\"\",\"\",AI10)","v":""},{"$f":"IF(B10=\"\",\"\",IF(AND(COUNTIF('Entry sheet-2-hin'!$AO$9:$AO$77,\"2अलउ२\")=0),\"\",COUNTIF('Entry sheet-2-hin'!$AO$9:$AO$77,\"2अलउ२\")))","v":1},{"$f":"IF(AK10=\"\",\"\",AK10*2)","v":2},{"$f":"IF(B10=\"\",\"\",IF(AND(COUNTIF('Entry sheet-2-hin'!$AO$9:$AO$77,\"2अलउ३\")=0),\"\",COUNTIF('Entry sheet-2-hin'!$AO$9:$AO$77,\"2अलउ३\")))","v":""},{"$f":"IF(AM10=\"\",\"\",AM10*3)","v":""},{"$f":"IF(B10=\"\",\"\",IF(AND(COUNTIF('Entry sheet-2-hin'!$AO$9:$AO$77,\"2अदीउ४\")=0),\"\",COUNTIF('Entry sheet-2-hin'!$AO$9:$AO$77,\"2अदीउ४\")))","v":""},{"$f":"IF(AO10=\"\",\"\",AO10*4)","v":""},{"$f":"IF(B10=\"\",\"\",IF(AND(COUNTIF('Entry sheet-2-hin'!$AO$9:$AO$77,\"2अदीउ५\")=0),\"\",COUNTIF('Entry sheet-2-hin'!$AO$9:$AO$77,\"2अदीउ५\")))","v":""},{"$f":"IF(AQ10=\"\",\"\",AQ10*5)","v":""},{"$f":"IF(B10=\"\",\"\",IF(AND(COUNTIF('Entry sheet-2-hin'!$AO$9:$AO$77,\"2रसबवि\")=0),\"\",COUNTIF('Entry sheet-2-hin'!$AO$9:$AO$77,\"2रसबवि\")))","v":""},{"$f":"IF(AS10=\"\",\"\",AS10)","v":""},{"$f":"IF(B10=\"\",\"\",IF(AND(COUNTIF('Entry sheet-2-hin'!$AO$9:$AO$77,\"2रसवनि\")=0),\"\",COUNTIF('Entry sheet-2-hin'!$AO$9:$AO$77,\"2रसवनि\")))","v":""},{"$f":"IF(AU10=\"\",\"\",AU10)","v":""},{"$f":"IF(B10=\"\",\"\",IF(AND(COUNTIF('Entry sheet-2-hin'!$AO$9:$AO$77,\"2रसअलउ\")=0),\"\",COUNTIF('Entry sheet-2-hin'!$AO$9:$AO$77,\"2रसअलउ\")))","v":""},{"$f":"IF(AW10=\"\",\"\",AW10)","v":""},{"$f":"IF(B10=\"\",\"\",IF(AND(COUNTIF('Entry sheet-2-hin'!$AO$9:$AO$77,\"2रसलउ२\")=0),\"\",COUNTIF('Entry sheet-2-hin'!$AO$9:$AO$77,\"2रसलउ२\")))","v":""},{"$f":"IF(AY10=\"\",\"\",AY10*2)","v":""},{"$f":"IF(B10=\"\",\"\",IF(AND(COUNTIF('Entry sheet-2-hin'!$AO$9:$AO$77,\"2रसलउ३\")=0),\"\",COUNTIF('Entry sheet-2-hin'!$AO$9:$AO$77,\"2रसलउ३\")))","v":""},{"$f":"IF(BA10=\"\",\"\",BA10*3)","v":""},{"$f":"IF(B10=\"\",\"\",IF(AND(COUNTIF('Entry sheet-2-hin'!$AO$9:$AO$77,\"2रसदीउ४\")=0),\"\",COUNTIF('Entry sheet-2-hin'!$AO$9:$AO$77,\"2रसदीउ४\")))","v":""},{"$f":"IF(BC10=\"\",\"\",BC10*4)","v":""},{"$f":"IF(B10=\"\",\"\",IF(AND(COUNTIF('Entry sheet-2-hin'!$AO$9:$AO$77,\"2रसदीउ5\")=0),\"\",COUNTIF('Entry sheet-2-hin'!$AO$9:$AO$77,\"2रसदीउ5\")))","v":""},{"$f":"IF(BE10=\"\",\"\",BE10*5)","v":""},{"$f":"IF(B10=\"\",\"\",SUM(D10,R10,AF10,AT10))","v":0},{"$f":"IF(BG10=\"\",\"\",SUM(D10,R10,AF10,AT10))","v":0},{"$f":"IF(B10=\"\",\"\",SUM(F10,T10,AH10,AV10))","v":0},{"$f":"IF(BI10=\"\",\"\",SUM(F10,T10,AH10,AV10))","v":0},{"$f":"IF(B10=\"\",\"\",SUM(H10,V10,AJ10,AX10))","v":1},{"$f":"IF(BK10=\"\",\"\",SUM(H10,V10,AJ10,AX10))","v":1},{"$f":"IF(B10=\"\",\"\",SUM(J10,X10,AL10,AZ10)/2)","v":1},{"$f":"IF(BM10=\"\",\"\",SUM(J10,X10,AL10,AZ10))","v":2},{"$f":"IF(B10=\"\",\"\",SUM(L10,Z10,AN10,BB10)/3)","v":0},{"$f":"IF(BO10=\"\",\"\",SUM(L10,Z10,AN10,BB10))","v":0},{"$f":"IF(B10=\"\",\"\",SUM(N10,AB10,AP10,BD10)/4)","v":0},{"$f":"IF(BQ10=\"\",\"\",SUM(N10,AB10,AP10,BD10))","v":0},{"$f":"IF(B10=\"\",\"\",SUM(P10,AD10,AR10,BF10)/5)","v":0},{"$f":"IF(BS10=\"\",\"\",SUM(P10,AD10,AR10,BF10))","v":0},{"$f":"IF(B10=\"\",\"\",SUM(BG10,BI10,BK10,BM10,BO10,BQ10,BS10))","v":2},{"$f":"IF(B10=\"\",\"\",SUM(BH10,BJ10,BL10,BN10,BP10,BR10,BT10))","v":3}]
[{"$f":"IF('Entry sheet-1-hin'!A12=\"\",\"\",'Entry sheet-1-hin'!A12)","v":3},{"$f":"IF('Entry sheet-1-hin'!B12=\"\",\"\",'Entry sheet-1-hin'!B12)","v":"बस की यात्रा"},{"$f":"IF(B11=\"\",\"\",IF(AND(COUNTIF('Entry sheet-2-hin'!$AO$9:$AO$77,\"3स्मबवि\")=0),\"\",COUNTIF('Entry sheet-2-hin'!$AO$9:$AO$77,\"3स्मबवि\")))","v":""},"",{"$f":"IF(B11=\"\",\"\",IF(AND(COUNTIF('Entry sheet-2-hin'!$AO$9:$AO$77,\"3स्मवनि\")=0),\"\",COUNTIF('Entry sheet-2-hin'!$AO$9:$AO$77,\"3स्मवनि\")))","v":""},"",{"$f":"IF(B11=\"\",\"\",IF(AND(COUNTIF('Entry sheet-2-hin'!$AO$9:$AO$77,\"3स्मअलउ\")=0),\"\",COUNTIF('Entry sheet-2-hin'!$AO$9:$AO$77,\"3स्मअलउ\")))","v":""},"",{"$f":"IF(B11=\"\",\"\",IF(AND(COUNTIF('Entry sheet-2-hin'!$AO$9:$AO$77,\"3स्मलउ२\")=0),\"\",COUNTIF('Entry sheet-2-hin'!$AO$9:$AO$77,\"3स्मलउ२\")))","v":""},"",{"$f":"IF(B11=\"\",\"\",IF(AND(COUNTIF('Entry sheet-2-hin'!$AO$9:$AO$77,\"3स्मलउ३\")=0),\"\",COUNTIF('Entry sheet-2-hin'!$AO$9:$AO$77,\"3स्मलउ३\")))","v":""},"",{"$f":"IF(B11=\"\",\"\",IF(AND(COUNTIF('Entry sheet-2-hin'!$AO$9:$AO$77,\"3स्मदीउ४\")=0),\"\",COUNTIF('Entry sheet-2-hin'!$AO$9:$AO$77,\"3स्मदीउ४\")))","v":""},"",{"$f":"IF(B11=\"\",\"\",IF(AND(COUNTIF('Entry sheet-2-hin'!$AO$9:$AO$77,\"3स्मदीउ5\")=0),\"\",COUNTIF('Entry sheet-2-hin'!$AO$9:$AO$77,\"3स्मदीउ5\")))","v":""},"",{"$f":"IF(B11=\"\",\"\",IF(AND(COUNTIF('Entry sheet-2-hin'!$AO$9:$AO$77,\"3समबवि\")=0),\"\",COUNTIF('Entry sheet-2-hin'!$AO$9:$AO$77,\"3समबवि\")))","v":""},"",{"$f":"IF(B11=\"\",\"\",IF(AND(COUNTIF('Entry sheet-2-hin'!$AO$9:$AO$77,\"3समवनि\")=0),\"\",COUNTIF('Entry sheet-2-hin'!$AO$9:$AO$77,\"3समवनि\")))","v":2},2,{"$f":"IF(B11=\"\",\"\",IF(AND(COUNTIF('Entry sheet-2-hin'!$AO$9:$AO$77,\"3समअलउ\")=0),\"\",COUNTIF('Entry sheet-2-hin'!$AO$9:$AO$77,\"3समअलउ\")))","v":""},"",{"$f":"IF(B11=\"\",\"\",IF(AND(COUNTIF('Entry sheet-2-hin'!$AO$9:$AO$77,\"3समलउ२\")=0),\"\",COUNTIF('Entry sheet-2-hin'!$AO$9:$AO$77,\"3समलउ२\")))","v":""},"",{"$f":"IF(B11=\"\",\"\",IF(AND(COUNTIF('Entry sheet-2-hin'!$AO$9:$AO$77,\"3समलउ३\")=0),\"\",COUNTIF('Entry sheet-2-hin'!$AO$9:$AO$77,\"3समलउ३\")))","v":""},"",{"$f":"IF(B11=\"\",\"\",IF(AND(COUNTIF('Entry sheet-2-hin'!$AO$9:$AO$77,\"3समदीउ४\")=0),\"\",COUNTIF('Entry sheet-2-hin'!$AO$9:$AO$77,\"3समदीउ४\")))","v":""},"",{"$f":"IF(B11=\"\",\"\",IF(AND(COUNTIF('Entry sheet-2-hin'!$AO$9:$AO$77,\"3समदीउ5\")=0),\"\",COUNTIF('Entry sheet-2-hin'!$AO$9:$AO$77,\"3समदीउ5\")))","v":""},"",{"$f":"IF(B11=\"\",\"\",IF(AND(COUNTIF('Entry sheet-2-hin'!$AO$9:$AO$77,\"3अबवि\")=0),\"\",COUNTIF('Entry sheet-2-hin'!$AO$9:$AO$77,\"3अबवि\")))","v":""},"",{"$f":"IF(B11=\"\",\"\",IF(AND(COUNTIF('Entry sheet-2-hin'!$AO$9:$AO$77,\"3अवनि\")=0),\"\",COUNTIF('Entry sheet-2-hin'!$AO$9:$AO$77,\"3अवनि\")))","v":""},"",{"$f":"IF(B11=\"\",\"\",IF(AND(COUNTIF('Entry sheet-2-hin'!$AO$9:$AO$77,\"3अअलउ\")=0),\"\",COUNTIF('Entry sheet-2-hin'!$AO$9:$AO$77,\"3अअलउ\")))","v":""},"",{"$f":"IF(B11=\"\",\"\",IF(AND(COUNTIF('Entry sheet-2-hin'!$AO$9:$AO$77,\"3अलउ२\")=0),\"\",COUNTIF('Entry sheet-2-hin'!$AO$9:$AO$77,\"3अलउ२\")))","v":1},2,{"$f":"IF(B11=\"\",\"\",IF(AND(COUNTIF('Entry sheet-2-hin'!$AO$9:$AO$77,\"3अलउ३\")=0),\"\",COUNTIF('Entry sheet-2-hin'!$AO$9:$AO$77,\"3अलउ३\")))","v":""},"",{"$f":"IF(B11=\"\",\"\",IF(AND(COUNTIF('Entry sheet-2-hin'!$AO$9:$AO$77,\"3अदीउ४\")=0),\"\",COUNTIF('Entry sheet-2-hin'!$AO$9:$AO$77,\"3अदीउ४\")))","v":""},"",{"$f":"IF(B11=\"\",\"\",IF(AND(COUNTIF('Entry sheet-2-hin'!$AO$9:$AO$77,\"3अदीउ५\")=0),\"\",COUNTIF('Entry sheet-2-hin'!$AO$9:$AO$77,\"3अदीउ५\")))","v":""},"",{"$f":"IF(B11=\"\",\"\",IF(AND(COUNTIF('Entry sheet-2-hin'!$AO$9:$AO$77,\"3रसबवि\")=0),\"\",COUNTIF('Entry sheet-2-hin'!$AO$9:$AO$77,\"3रसबवि\")))","v":""},"",{"$f":"IF(B11=\"\",\"\",IF(AND(COUNTIF('Entry sheet-2-hin'!$AO$9:$AO$77,\"3रसवनि\")=0),\"\",COUNTIF('Entry sheet-2-hin'!$AO$9:$AO$77,\"3रसवनि\")))","v":""},"",{"$f":"IF(B11=\"\",\"\",IF(AND(COUNTIF('Entry sheet-2-hin'!$AO$9:$AO$77,\"3रसअलउ\")=0),\"\",COUNTIF('Entry sheet-2-hin'!$AO$9:$AO$77,\"3रसअलउ\")))","v":""},"",{"$f":"IF(B11=\"\",\"\",IF(AND(COUNTIF('Entry sheet-2-hin'!$AO$9:$AO$77,\"3रसलउ२\")=0),\"\",COUNTIF('Entry sheet-2-hin'!$AO$9:$AO$77,\"3रसलउ२\")))","v":""},"",{"$f":"IF(B11=\"\",\"\",IF(AND(COUNTIF('Entry sheet-2-hin'!$AO$9:$AO$77,\"3रसलउ३\")=0),\"\",COUNTIF('Entry sheet-2-hin'!$AO$9:$AO$77,\"3रसलउ३\")))","v":""},"",{"$f":"IF(B11=\"\",\"\",IF(AND(COUNTIF('Entry sheet-2-hin'!$AO$9:$AO$77,\"3रसदीउ४\")=0),\"\",COUNTIF('Entry sheet-2-hin'!$AO$9:$AO$77,\"3रसदीउ४\")))","v":""},"",{"$f":"IF(B11=\"\",\"\",IF(AND(COUNTIF('Entry sheet-2-hin'!$AO$9:$AO$77,\"3रसदीउ5\")=0),\"\",COUNTIF('Entry sheet-2-hin'!$AO$9:$AO$77,\"3रसदीउ5\")))","v":""},"",0,0,2,2,0,0,1,2,0,0,0,0,0,0,3,4]
[{"$f":"IF('Entry sheet-1-hin'!A13=\"\",\"\",'Entry sheet-1-hin'!A13)","v":4},{"$f":"IF('Entry sheet-1-hin'!B13=\"\",\"\",'Entry sheet-1-hin'!B13)","v":"मौसी"},{"$f":"IF(B12=\"\",\"\",IF(AND(COUNTIF('Entry sheet-2-hin'!$AO$9:$AO$77,\"4स्मबवि\")=0),\"\",COUNTIF('Entry sheet-2-hin'!$AO$9:$AO$77,\"4स्मबवि\")))","v":""},"",{"$f":"IF(B12=\"\",\"\",IF(AND(COUNTIF('Entry sheet-2-hin'!$AO$9:$AO$77,\"4स्मवनि\")=0),\"\",COUNTIF('Entry sheet-2-hin'!$AO$9:$AO$77,\"4स्मवनि\")))","v":""},"",{"$f":"IF(B12=\"\",\"\",IF(AND(COUNTIF('Entry sheet-2-hin'!$AO$9:$AO$77,\"4स्मअलउ\")=0),\"\",COUNTIF('Entry sheet-2-hin'!$AO$9:$AO$77,\"4स्मअलउ\")))","v":""},"",{"$f":"IF(B12=\"\",\"\",IF(AND(COUNTIF('Entry sheet-2-hin'!$AO$9:$AO$77,\"4स्मलउ२\")=0),\"\",COUNTIF('Entry sheet-2-hin'!$AO$9:$AO$77,\"4स्मलउ२\")))","v":""},"",{"$f":"IF(B12=\"\",\"\",IF(AND(COUNTIF('Entry sheet-2-hin'!$AO$9:$AO$77,\"4स्मलउ३\")=0),\"\",COUNTIF('Entry sheet-2-hin'!$AO$9:$AO$77,\"4स्मलउ३\")))","v":""},"",{"$f":"IF(B12=\"\",\"\",IF(AND(COUNTIF('Entry sheet-2-hin'!$AO$9:$AO$77,\"4स्मदीउ४\")=0),\"\",COUNTIF('Entry sheet-2-hin'!$AO$9:$AO$77,\"4स्मदीउ४\")))","v":""},"",{"$f":"IF(B12=\"\",\"\",IF(AND(COUNTIF('Entry sheet-2-hin'!$AO$9:$AO$77,\"4स्मदीउ5\")=0),\"\",COUNTIF('Entry sheet-2-hin'!$AO$9:$AO$77,\"4स्मदीउ5\")))","v":""},"",{"$f":"IF(B12=\"\",\"\",IF(AND(COUNTIF('Entry sheet-2-hin'!$AO$9:$AO$77,\"4समबवि\")=0),\"\",COUNTIF('Entry sheet-2-hin'!$AO$9:$AO$77,\"4समबवि\")))","v":""},"",{"$f":"IF(B12=\"\",\"\",IF(AND(COUNTIF('Entry sheet-2-hin'!$AO$9:$AO$77,\"4समवनि\")=0),\"\",COUNTIF('Entry sheet-2-hin'!$AO$9:$AO$77,\"4समवनि\")))","v":1},1,{"$f":"IF(B12=\"\",\"\",IF(AND(COUNTIF('Entry sheet-2-hin'!$AO$9:$AO$77,\"4समअलउ\")=0),\"\",COUNTIF('Entry sheet-2-hin'!$AO$9:$AO$77,\"4समअलउ\")))","v":1},1,{"$f":"IF(B12=\"\",\"\",IF(AND(COUNTIF('Entry sheet-2-hin'!$AO$9:$AO$77,\"4समलउ२\")=0),\"\",COUNTIF('Entry sheet-2-hin'!$AO$9:$AO$77,\"4समलउ२\")))","v":""},"",{"$f":"IF(B12=\"\",\"\",IF(AND(COUNTIF('Entry sheet-2-hin'!$AO$9:$AO$77,\"4समलउ३\")=0),\"\",COUNTIF('Entry sheet-2-hin'!$AO$9:$AO$77,\"4समलउ३\")))","v":1},3,{"$f":"IF(B12=\"\",\"\",IF(AND(COUNTIF('Entry sheet-2-hin'!$AO$9:$AO$77,\"4समदीउ४\")=0),\"\",COUNTIF('Entry sheet-2-hin'!$AO$9:$AO$77,\"4समदीउ४\")))","v":""},"",{"$f":"IF(B12=\"\",\"\",IF(AND(COUNTIF('Entry sheet-2-hin'!$AO$9:$AO$77,\"4समदीउ5\")=0),\"\",COUNTIF('Entry sheet-2-hin'!$AO$9:$AO$77,\"4समदीउ5\")))","v":""},"",{"$f":"IF(B12=\"\",\"\",IF(AND(COUNTIF('Entry sheet-2-hin'!$AO$9:$AO$77,\"4अबवि\")=0),\"\",COUNTIF('Entry sheet-2-hin'!$AO$9:$AO$77,\"4अबवि\")))","v":""},"",{"$f":"IF(B12=\"\",\"\",IF(AND(COUNTIF('Entry sheet-2-hin'!$AO$9:$AO$77,\"4अवनि\")=0),\"\",COUNTIF('Entry sheet-2-hin'!$AO$9:$AO$77,\"4अवनि\")))","v":""},"",{"$f":"IF(B12=\"\",\"\",IF(AND(COUNTIF('Entry sheet-2-hin'!$AO$9:$AO$77,\"4अअलउ\")=0),\"\",COUNTIF('Entry sheet-2-hin'!$AO$9:$AO$77,\"4अअलउ\")))","v":""},"",{"$f":"IF(B12=\"\",\"\",IF(AND(COUNTIF('Entry sheet-2-hin'!$AO$9:$AO$77,\"4अलउ२\")=0),\"\",COUNTIF('Entry sheet-2-hin'!$AO$9:$AO$77,\"4अलउ२\")))","v":""},"",{"$f":"IF(B12=\"\",\"\",IF(AND(COUNTIF('Entry sheet-2-hin'!$AO$9:$AO$77,\"4अलउ३\")=0),\"\",COUNTIF('Entry sheet-2-hin'!$AO$9:$AO$77,\"4अलउ३\")))","v":""},"",{"$f":"IF(B12=\"\",\"\",IF(AND(COUNTIF('Entry sheet-2-hin'!$AO$9:$AO$77,\"4अदीउ४\")=0),\"\",COUNTIF('Entry sheet-2-hin'!$AO$9:$AO$77,\"4अदीउ४\")))","v":""},"",{"$f":"IF(B12=\"\",\"\",IF(AND(COUNTIF('Entry sheet-2-hin'!$AO$9:$AO$77,\"4अदीउ५\")=0),\"\",COUNTIF('Entry sheet-2-hin'!$AO$9:$AO$77,\"4अदीउ५\")))","v":""},"",{"$f":"IF(B12=\"\",\"\",IF(AND(COUNTIF('Entry sheet-2-hin'!$AO$9:$AO$77,\"4रसबवि\")=0),\"\",COUNTIF('Entry sheet-2-hin'!$AO$9:$AO$77,\"4रसबवि\")))","v":""},"",{"$f":"IF(B12=\"\",\"\",IF(AND(COUNTIF('Entry sheet-2-hin'!$AO$9:$AO$77,\"4रसवनि\")=0),\"\",COUNTIF('Entry sheet-2-hin'!$AO$9:$AO$77,\"4रसवनि\")))","v":""},"",{"$f":"IF(B12=\"\",\"\",IF(AND(COUNTIF('Entry sheet-2-hin'!$AO$9:$AO$77,\"4रसअलउ\")=0),\"\",COUNTIF('Entry sheet-2-hin'!$AO$9:$AO$77,\"4रसअलउ\")))","v":""},"",{"$f":"IF(B12=\"\",\"\",IF(AND(COUNTIF('Entry sheet-2-hin'!$AO$9:$AO$77,\"4रसलउ२\")=0),\"\",COUNTIF('Entry sheet-2-hin'!$AO$9:$AO$77,\"4रसलउ२\")))","v":""},"",{"$f":"IF(B12=\"\",\"\",IF(AND(COUNTIF('Entry sheet-2-hin'!$AO$9:$AO$77,\"4रसलउ३\")=0),\"\",COUNTIF('Entry sheet-2-hin'!$AO$9:$AO$77,\"4रसलउ३\")))","v":""},"",{"$f":"IF(B12=\"\",\"\",IF(AND(COUNTIF('Entry sheet-2-hin'!$AO$9:$AO$77,\"4रसदीउ४\")=0),\"\",COUNTIF('Entry sheet-2-hin'!$AO$9:$AO$77,\"4रसदीउ४\")))","v":""},"",{"$f":"IF(B12=\"\",\"\",IF(AND(COUNTIF('Entry sheet-2-hin'!$AO$9:$AO$77,\"4रसदीउ5\")=0),\"\",COUNTIF('Entry sheet-2-hin'!$AO$9:$AO$77,\"4रसदीउ5\")))","v":""},"",0,0,1,1,1,1,0,0,1,3,0,0,0,0,3,5]
[{"$f":"IF('Entry sheet-1-hin'!A14=\"\",\"\",'Entry sheet-1-hin'!A14)","v":5},{"$f":"IF('Entry sheet-1-hin'!B14=\"\",\"\",'Entry sheet-1-hin'!B14)","v":"मेरा बचपन"},{"$f":"IF(B13=\"\",\"\",IF(AND(COUNTIF('Entry sheet-2-hin'!$AO$9:$AO$77,\"5स्मबवि\")=0),\"\",COUNTIF('Entry sheet-2-hin'!$AO$9:$AO$77,\"5स्मबवि\")))","v":""},"",{"$f":"IF(B13=\"\",\"\",IF(AND(COUNTIF('Entry sheet-2-hin'!$AO$9:$AO$77,\"5स्मवनि\")=0),\"\",COUNTIF('Entry sheet-2-hin'!$AO$9:$AO$77,\"5स्मवनि\")))","v":""},"",{"$f":"IF(B13=\"\",\"\",IF(AND(COUNTIF('Entry sheet-2-hin'!$AO$9:$AO$77,\"5स्मअलउ\")=0),\"\",COUNTIF('Entry sheet-2-hin'!$AO$9:$AO$77,\"5स्मअलउ\")))","v":""},"",{"$f":"IF(B13=\"\",\"\",IF(AND(COUNTIF('Entry sheet-2-hin'!$AO$9:$AO$77,\"5स्मलउ२\")=0),\"\",COUNTIF('Entry sheet-2-hin'!$AO$9:$AO$77,\"5स्मलउ२\")))","v":""},"",{"$f":"IF(B13=\"\",\"\",IF(AND(COUNTIF('Entry sheet-2-hin'!$AO$9:$AO$77,\"5स्मलउ३\")=0),\"\",COUNTIF('Entry sheet-2-hin'!$AO$9:$AO$77,\"5स्मलउ३\")))","v":""},"",{"$f":"IF(B13=\"\",\"\",IF(AND(COUNTIF('Entry sheet-2-hin'!$AO$9:$AO$77,\"5स्मदीउ४\")=0),\"\",COUNTIF('Entry sheet-2-hin'!$AO$9:$AO$77,\"5स्मदीउ४\")))","v":""},"",{"$f":"IF(B13=\"\",\"\",IF(AND(COUNTIF('Entry sheet-2-hin'!$AO$9:$AO$77,\"5स्मदीउ5\")=0),\"\",COUNTIF('Entry sheet-2-hin'!$AO$9:$AO$77,\"5स्मदीउ5\")))","v":""},"",{"$f":"IF(B13=\"\",\"\",IF(AND(COUNTIF('Entry sheet-2-hin'!$AO$9:$AO$77,\"5समबवि\")=0),\"\",COUNTIF('Entry sheet-2-hin'!$AO$9:$AO$77,\"5समबवि\")))","v":""},"",{"$f":"IF(B13=\"\",\"\",IF(AND(COUNTIF('Entry sheet-2-hin'!$AO$9:$AO$77,\"5समवनि\")=0),\"\",COUNTIF('Entry sheet-2-hin'!$AO$9:$AO$77,\"5समवनि\")))","v":""},"",{"$f":"IF(B13=\"\",\"\",IF(AND(COUNTIF('Entry sheet-2-hin'!$AO$9:$AO$77,\"5समअलउ\")=0),\"\",COUNTIF('Entry sheet-2-hin'!$AO$9:$AO$77,\"5समअलउ\")))","v":""},"",{"$f":"IF(B13=\"\",\"\",IF(AND(COUNTIF('Entry sheet-2-hin'!$AO$9:$AO$77,\"5समलउ२\")=0),\"\",COUNTIF('Entry sheet-2-hin'!$AO$9:$AO$77,\"5समलउ२\")))","v":""},"",{"$f":"IF(B13=\"\",\"\",IF(AND(COUNTIF('Entry sheet-2-hin'!$AO$9:$AO$77,\"5समलउ३\")=0),\"\",COUNTIF('Entry sheet-2-hin'!$AO$9:$AO$77,\"5समलउ३\")))","v":""},"",{"$f":"IF(B13=\"\",\"\",IF(AND(COUNTIF('Entry sheet-2-hin'!$AO$9:$AO$77,\"5समदीउ४\")=0),\"\",COUNTIF('Entry sheet-2-hin'!$AO$9:$AO$77,\"5समदीउ४\")))","v":""},"",{"$f":"IF(B13=\"\",\"\",IF(AND(COUNTIF('Entry sheet-2-hin'!$AO$9:$AO$77,\"5समदीउ5\")=0),\"\",COUNTIF('Entry sheet-2-hin'!$AO$9:$AO$77,\"5समदीउ5\")))","v":""},"",{"$f":"IF(B13=\"\",\"\",IF(AND(COUNTIF('Entry sheet-2-hin'!$AO$9:$AO$77,\"5अबवि\")=0),\"\",COUNTIF('Entry sheet-2-hin'!$AO$9:$AO$77,\"5अबवि\")))","v":""},"",{"$f":"IF(B13=\"\",\"\",IF(AND(COUNTIF('Entry sheet-2-hin'!$AO$9:$AO$77,\"5अवनि\")=0),\"\",COUNTIF('Entry sheet-2-hin'!$AO$9:$AO$77,\"5अवनि\")))","v":""},"",{"$f":"IF(B13=\"\",\"\",IF(AND(COUNTIF('Entry sheet-2-hin'!$AO$9:$AO$77,\"5अअलउ\")=0),\"\",COUNTIF('Entry sheet-2-hin'!$AO$9:$AO$77,\"5अअलउ\")))","v":""},"",{"$f":"IF(B13=\"\",\"\",IF(AND(COUNTIF('Entry sheet-2-hin'!$AO$9:$AO$77,\"5अलउ२\")=0),\"\",COUNTIF('Entry sheet-2-hin'!$AO$9:$AO$77,\"5अलउ२\")))","v":""},"",{"$f":"IF(B13=\"\",\"\",IF(AND(COUNTIF('Entry sheet-2-hin'!$AO$9:$AO$77,\"5अलउ३\")=0),\"\",COUNTIF('Entry sheet-2-hin'!$AO$9:$AO$77,\"5अलउ३\")))","v":""},"",{"$f":"IF(B13=\"\",\"\",IF(AND(COUNTIF('Entry sheet-2-hin'!$AO$9:$AO$77,\"5अदीउ४\")=0),\"\",COUNTIF('Entry sheet-2-hin'!$AO$9:$AO$77,\"5अदीउ४\")))","v":""},"",{"$f":"IF(B13=\"\",\"\",IF(AND(COUNTIF('Entry sheet-2-hin'!$AO$9:$AO$77,\"5अदीउ५\")=0),\"\",COUNTIF('Entry sheet-2-hin'!$AO$9:$AO$77,\"5अदीउ५\")))","v":""},"",{"$f":"IF(B13=\"\",\"\",IF(AND(COUNTIF('Entry sheet-2-hin'!$AO$9:$AO$77,\"5रसबवि\")=0),\"\",COUNTIF('Entry sheet-2-hin'!$AO$9:$AO$77,\"5रसबवि\")))","v":""},"",{"$f":"IF(B13=\"\",\"\",IF(AND(COUNTIF('Entry sheet-2-hin'!$AO$9:$AO$77,\"5रसवनि\")=0),\"\",COUNTIF('Entry sheet-2-hin'!$AO$9:$AO$77,\"5रसवनि\")))","v":""},"",{"$f":"IF(B13=\"\",\"\",IF(AND(COUNTIF('Entry sheet-2-hin'!$AO$9:$AO$77,\"5रसअलउ\")=0),\"\",COUNTIF('Entry sheet-2-hin'!$AO$9:$AO$77,\"5रसअलउ\")))","v":""},"",{"$f":"IF(B13=\"\",\"\",IF(AND(COUNTIF('Entry sheet-2-hin'!$AO$9:$AO$77,\"5रसलउ२\")=0),\"\",COUNTIF('Entry sheet-2-hin'!$AO$9:$AO$77,\"5रसलउ२\")))","v":""},"",{"$f":"IF(B13=\"\",\"\",IF(AND(COUNTIF('Entry sheet-2-hin'!$AO$9:$AO$77,\"5रसलउ३\")=0),\"\",COUNTIF('Entry sheet-2-hin'!$AO$9:$AO$77,\"5रसलउ३\")))","v":""},"",{"$f":"IF(B13=\"\",\"\",IF(AND(COUNTIF('Entry sheet-2-hin'!$AO$9:$AO$77,\"5रसदीउ४\")=0),\"\",COUNTIF('Entry sheet-2-hin'!$AO$9:$AO$77,\"5रसदीउ४\")))","v":""},"",{"$f":"IF(B13=\"\",\"\",IF(AND(COUNTIF('Entry sheet-2-hin'!$AO$9:$AO$77,\"5रसदीउ5\")=0),\"\",COUNTIF('Entry sheet-2-hin'!$AO$9:$AO$77,\"5रसदीउ5\")))","v":""},"",0,0,0,0,0,0,0,0,0,0,0,0,0,0,0,0]
[{"$f":"IF('Entry sheet-1-hin'!A15=\"\",\"\",'Entry sheet-1-hin'!A15)","v":6},{"$f":"IF('Entry sheet-1-hin'!B15=\"\",\"\",'Entry sheet-1-hin'!B15)","v":"भीम और राक्षस"},{"$f":"IF(B14=\"\",\"\",IF(AND(COUNTIF('Entry sheet-2-hin'!$AO$9:$AO$77,\"6स्मबवि\")=0),\"\",COUNTIF('Entry sheet-2-hin'!$AO$9:$AO$77,\"6स्मबवि\")))","v":""},"",{"$f":"IF(B14=\"\",\"\",IF(AND(COUNTIF('Entry sheet-2-hin'!$AO$9:$AO$77,\"6स्मवनि\")=0),\"\",COUNTIF('Entry sheet-2-hin'!$AO$9:$AO$77,\"6स्मवनि\")))","v":""},"",{"$f":"IF(B14=\"\",\"\",IF(AND(COUNTIF('Entry sheet-2-hin'!$AO$9:$AO$77,\"6स्मअलउ\")=0),\"\",COUNTIF('Entry sheet-2-hin'!$AO$9:$AO$77,\"6स्मअलउ\")))","v":""},"",{"$f":"IF(B14=\"\",\"\",IF(AND(COUNTIF('Entry sheet-2-hin'!$AO$9:$AO$77,\"6स्मलउ२\")=0),\"\",COUNTIF('Entry sheet-2-hin'!$AO$9:$AO$77,\"6स्मलउ२\")))","v":""},"",{"$f":"IF(B14=\"\",\"\",IF(AND(COUNTIF('Entry sheet-2-hin'!$AO$9:$AO$77,\"6स्मलउ३\")=0),\"\",COUNTIF('Entry sheet-2-hin'!$AO$9:$AO$77,\"6स्मलउ३\")))","v":""},"",{"$f":"IF(B14=\"\",\"\",IF(AND(COUNTIF('Entry sheet-2-hin'!$AO$9:$AO$77,\"6स्मदीउ४\")=0),\"\",COUNTIF('Entry sheet-2-hin'!$AO$9:$AO$77,\"6स्मदीउ४\")))","v":""},"",{"$f":"IF(B14=\"\",\"\",IF(AND(COUNTIF('Entry sheet-2-hin'!$AO$9:$AO$77,\"6स्मदीउ5\")=0),\"\",COUNTIF('Entry sheet-2-hin'!$AO$9:$AO$77,\"6स्मदीउ5\")))","v":""},"",{"$f":"IF(B14=\"\",\"\",IF(AND(COUNTIF('Entry sheet-2-hin'!$AO$9:$AO$77,\"6समबवि\")=0),\"\",COUNTIF('Entry sheet-2-hin'!$AO$9:$AO$77,\"6समबवि\")))","v":""},"",{"$f":"IF(B14=\"\",\"\",IF(AND(COUNTIF('Entry sheet-2-hin'!$AO$9:$AO$77,\"6समवनि\")=0),\"\",COUNTIF('Entry sheet-2-hin'!$AO$9:$AO$77,\"6समवनि\")))","v":""},"",{"$f":"IF(B14=\"\",\"\",IF(AND(COUNTIF('Entry sheet-2-hin'!$AO$9:$AO$77,\"6समअलउ\")=0),\"\",COUNTIF('Entry sheet-2-hin'!$AO$9:$AO$77,\"6समअलउ\")))","v":""},"",{"$f":"IF(B14=\"\",\"\",IF(AND(COUNTIF('Entry sheet-2-hin'!$AO$9:$AO$77,\"6समलउ२\")=0),\"\",COUNTIF('Entry sheet-2-hin'!$AO$9:$AO$77,\"6समलउ२\")))","v":""},"",{"$f":"IF(B14=\"\",\"\",IF(AND(COUNTIF('Entry sheet-2-hin'!$AO$9:$AO$77,\"6समलउ३\")=0),\"\",COUNTIF('Entry sheet-2-hin'!$AO$9:$AO$77,\"6समलउ३\")))","v":""},"",{"$f":"IF(B14=\"\",\"\",IF(AND(COUNTIF('Entry sheet-2-hin'!$AO$9:$AO$77,\"6समदीउ४\")=0),\"\",COUNTIF('Entry sheet-2-hin'!$AO$9:$AO$77,\"6समदीउ४\")))","v":""},"",{"$f":"IF(B14=\"\",\"\",IF(AND(COUNTIF('Entry sheet-2-hin'!$AO$9:$AO$77,\"6समदीउ5\")=0),\"\",COUNTIF('Entry sheet-2-hin'!$AO$9:$AO$77,\"6समदीउ5\")))","v":""},"",{"$f":"IF(B14=\"\",\"\",IF(AND(COUNTIF('Entry sheet-2-hin'!$AO$9:$AO$77,\"6अबवि\")=0),\"\",COUNTIF('Entry sheet-2-hin'!$AO$9:$AO$77,\"6अबवि\")))","v":""},"",{"$f":"IF(B14=\"\",\"\",IF(AND(COUNTIF('Entry sheet-2-hin'!$AO$9:$AO$77,\"6अवनि\")=0),\"\",COUNTIF('Entry sheet-2-hin'!$AO$9:$AO$77,\"6अवनि\")))","v":""},"",{"$f":"IF(B14=\"\",\"\",IF(AND(COUNTIF('Entry sheet-2-hin'!$AO$9:$AO$77,\"6अअलउ\")=0),\"\",COUNTIF('Entry sheet-2-hin'!$AO$9:$AO$77,\"6अअलउ\")))","v":""},"",{"$f":"IF(B14=\"\",\"\",IF(AND(COUNTIF('Entry sheet-2-hin'!$AO$9:$AO$77,\"6अलउ२\")=0),\"\",COUNTIF('Entry sheet-2-hin'!$AO$9:$AO$77,\"6अलउ२\")))","v":""},"",{"$f":"IF(B14=\"\",\"\",IF(AND(COUNTIF('Entry sheet-2-hin'!$AO$9:$AO$77,\"6अलउ३\")=0),\"\",COUNTIF('Entry sheet-2-hin'!$AO$9:$AO$77,\"6अलउ३\")))","v":""},"",{"$f":"IF(B14=\"\",\"\",IF(AND(COUNTIF('Entry sheet-2-hin'!$AO$9:$AO$77,\"6अदीउ४\")=0),\"\",COUNTIF('Entry sheet-2-hin'!$AO$9:$AO$77,\"6अदीउ४\")))","v":""},"",{"$f":"IF(B14=\"\",\"\",IF(AND(COUNTIF('Entry sheet-2-hin'!$AO$9:$AO$77,\"6अदीउ५\")=0),\"\",COUNTIF('Entry sheet-2-hin'!$AO$9:$AO$77,\"6अदीउ५\")))","v":""},"",{"$f":"IF(B14=\"\",\"\",IF(AND(COUNTIF('Entry sheet-2-hin'!$AO$9:$AO$77,\"6रसबवि\")=0),\"\",COUNTIF('Entry sheet-2-hin'!$AO$9:$AO$77,\"6रसबवि\")))","v":""},"",{"$f":"IF(B14=\"\",\"\",IF(AND(COUNTIF('Entry sheet-2-hin'!$AO$9:$AO$77,\"6रसवनि\")=0),\"\",COUNTIF('Entry sheet-2-hin'!$AO$9:$AO$77,\"6रसवनि\")))","v":""},"",{"$f":"IF(B14=\"\",\"\",IF(AND(COUNTIF('Entry sheet-2-hin'!$AO$9:$AO$77,\"6रसअलउ\")=0),\"\",COUNTIF('Entry sheet-2-hin'!$AO$9:$AO$77,\"6रसअलउ\")))","v":""},"",{"$f":"IF(B14=\"\",\"\",IF(AND(COUNTIF('Entry sheet-2-hin'!$AO$9:$AO$77,\"6रसलउ२\")=0),\"\",COUNTIF('Entry sheet-2-hin'!$AO$9:$AO$77,\"6रसलउ२\")))","v":""},"",{"$f":"IF(B14=\"\",\"\",IF(AND(COUNTIF('Entry sheet-2-hin'!$AO$9:$AO$77,\"6रसलउ३\")=0),\"\",COUNTIF('Entry sheet-2-hin'!$AO$9:$AO$77,\"6रसलउ३\")))","v":""},"",{"$f":"IF(B14=\"\",\"\",IF(AND(COUNTIF('Entry sheet-2-hin'!$AO$9:$AO$77,\"6रसदीउ४\")=0),\"\",COUNTIF('Entry sheet-2-hin'!$AO$9:$AO$77,\"6रसदीउ४\")))","v":""},"",{"$f":"IF(B14=\"\",\"\",IF(AND(COUNTIF('Entry sheet-2-hin'!$AO$9:$AO$77,\"6रसदीउ5\")=0),\"\",COUNTIF('Entry sheet-2-hin'!$AO$9:$AO$77,\"6रसदीउ5\")))","v":""},"",0,0,0,0,0,0,0,0,0,0,0,0,0,0,0,0]
[{"$f":"IF('Entry sheet-1-hin'!A16=\"\",\"\",'Entry sheet-1-hin'!A16)","v":7},{"$f":"IF('Entry sheet-1-hin'!B16=\"\",\"\",'Entry sheet-1-hin'!B16)","v":"बाहुबली"},{"$f":"IF(B15=\"\",\"\",IF(AND(COUNTIF('Entry sheet-2-hin'!$AO$9:$AO$77,\"7स्मबवि\")=0),\"\",COUNTIF('Entry sheet-2-hin'!$AO$9:$AO$77,\"7स्मबवि\")))","v":""},"",{"$f":"IF(B15=\"\",\"\",IF(AND(COUNTIF('Entry sheet-2-hin'!$AO$9:$AO$77,\"7स्मवनि\")=0),\"\",COUNTIF('Entry sheet-2-hin'!$AO$9:$AO$77,\"7स्मवनि\")))","v":""},"",{"$f":"IF(B15=\"\",\"\",IF(AND(COUNTIF('Entry sheet-2-hin'!$AO$9:$AO$77,\"7स्मअलउ\")=0),\"\",COUNTIF('Entry sheet-2-hin'!$AO$9:$AO$77,\"7स्मअलउ\")))","v":""},"",{"$f":"IF(B15=\"\",\"\",IF(AND(COUNTIF('Entry sheet-2-hin'!$AO$9:$AO$77,\"7स्मलउ२\")=0),\"\",COUNTIF('Entry sheet-2-hin'!$AO$9:$AO$77,\"7स्मलउ२\")))","v":""},"",{"$f":"IF(B15=\"\",\"\",IF(AND(COUNTIF('Entry sheet-2-hin'!$AO$9:$AO$77,\"7स्मलउ३\")=0),\"\",COUNTIF('Entry sheet-2-hin'!$AO$9:$AO$77,\"7स्मलउ३\")))","v":""},"",{"$f":"IF(B15=\"\",\"\",IF(AND(COUNTIF('Entry sheet-2-hin'!$AO$9:$AO$77,\"7स्मदीउ४\")=0),\"\",COUNTIF('Entry sheet-2-hin'!$AO$9:$AO$77,\"7स्मदीउ४\")))","v":""},"",{"$f":"IF(B15=\"\",\"\",IF(AND(COUNTIF('Entry sheet-2-hin'!$AO$9:$AO$77,\"7स्मदीउ5\")=0),\"\",COUNTIF('Entry sheet-2-hin'!$AO$9:$AO$77,\"7स्मदीउ5\")))","v":""},"",{"$f":"IF(B15=\"\",\"\",IF(AND(COUNTIF('Entry sheet-2-hin'!$AO$9:$AO$77,\"7समबवि\")=0),\"\",COUNTIF('Entry sheet-2-hin'!$AO$9:$AO$77,\"7समबवि\")))","v":""},"",{"$f":"IF(B15=\"\",\"\",IF(AND(COUNTIF('Entry sheet-2-hin'!$AO$9:$AO$77,\"7समवनि\")=0),\"\",COUNTIF('Entry sheet-2-hin'!$AO$9:$AO$77,\"7समवनि\")))","v":""},"",{"$f":"IF(B15=\"\",\"\",IF(AND(COUNTIF('Entry sheet-2-hin'!$AO$9:$AO$77,\"7समअलउ\")=0),\"\",COUNTIF('Entry sheet-2-hin'!$AO$9:$AO$77,\"7समअलउ\")))","v":""},"",{"$f":"IF(B15=\"\",\"\",IF(AND(COUNTIF('Entry sheet-2-hin'!$AO$9:$AO$77,\"7समलउ२\")=0),\"\",COUNTIF('Entry sheet-2-hin'!$AO$9:$AO$77,\"7समलउ२\")))","v":""},"",{"$f":"IF(B15=\"\",\"\",IF(AND(COUNTIF('Entry sheet-2-hin'!$AO$9:$AO$77,\"7समलउ३\")=0),\"\",COUNTIF('Entry sheet-2-hin'!$AO$9:$AO$77,\"7समलउ३\")))","v":""},"",{"$f":"IF(B15=\"\",\"\",IF(AND(COUNTIF('Entry sheet-2-hin'!$AO$9:$AO$77,\"7समदीउ४\")=0),\"\",COUNTIF('Entry sheet-2-hin'!$AO$9:$AO$77,\"7समदीउ४\")))","v":""},"",{"$f":"IF(B15=\"\",\"\",IF(AND(COUNTIF('Entry sheet-2-hin'!$AO$9:$AO$77,\"7समदीउ5\")=0),\"\",COUNTIF('Entry sheet-2-hin'!$AO$9:$AO$77,\"7समदीउ5\")))","v":""},"",{"$f":"IF(B15=\"\",\"\",IF(AND(COUNTIF('Entry sheet-2-hin'!$AO$9:$AO$77,\"7अबवि\")=0),\"\",COUNTIF('Entry sheet-2-hin'!$AO$9:$AO$77,\"7अबवि\")))","v":""},"",{"$f":"IF(B15=\"\",\"\",IF(AND(COUNTIF('Entry sheet-2-hin'!$AO$9:$AO$77,\"7अवनि\")=0),\"\",COUNTIF('Entry sheet-2-hin'!$AO$9:$AO$77,\"7अवनि\")))","v":""},"",{"$f":"IF(B15=\"\",\"\",IF(AND(COUNTIF('Entry sheet-2-hin'!$AO$9:$AO$77,\"7अअलउ\")=0),\"\",COUNTIF('Entry sheet-2-hin'!$AO$9:$AO$77,\"7अअलउ\")))","v":""},"",{"$f":"IF(B15=\"\",\"\",IF(AND(COUNTIF('Entry sheet-2-hin'!$AO$9:$AO$77,\"7अलउ२\")=0),\"\",COUNTIF('Entry sheet-2-hin'!$AO$9:$AO$77,\"7अलउ२\")))","v":""},"",{"$f":"IF(B15=\"\",\"\",IF(AND(COUNTIF('Entry sheet-2-hin'!$AO$9:$AO$77,\"7अलउ३\")=0),\"\",COUNTIF('Entry sheet-2-hin'!$AO$9:$AO$77,\"7अलउ३\")))","v":""},"",{"$f":"IF(B15=\"\",\"\",IF(AND(COUNTIF('Entry sheet-2-hin'!$AO$9:$AO$77,\"7अदीउ४\")=0),\"\",COUNTIF('Entry sheet-2-hin'!$AO$9:$AO$77,\"7अदीउ४\")))","v":""},"",{"$f":"IF(B15=\"\",\"\",IF(AND(COUNTIF('Entry sheet-2-hin'!$AO$9:$AO$77,\"7अदीउ५\")=0),\"\",COUNTIF('Entry sheet-2-hin'!$AO$9:$AO$77,\"7अदीउ५\")))","v":""},"",{"$f":"IF(B15=\"\",\"\",IF(AND(COUNTIF('Entry sheet-2-hin'!$AO$9:$AO$77,\"7रसबवि\")=0),\"\",COUNTIF('Entry sheet-2-hin'!$AO$9:$AO$77,\"7रसबवि\")))","v":""},"",{"$f":"IF(B15=\"\",\"\",IF(AND(COUNTIF('Entry sheet-2-hin'!$AO$9:$AO$77,\"7रसवनि\")=0),\"\",COUNTIF('Entry sheet-2-hin'!$AO$9:$AO$77,\"7रसवनि\")))","v":""},"",{"$f":"IF(B15=\"\",\"\",IF(AND(COUNTIF('Entry sheet-2-hin'!$AO$9:$AO$77,\"7रसअलउ\")=0),\"\",COUNTIF('Entry sheet-2-hin'!$AO$9:$AO$77,\"7रसअलउ\")))","v":""},"",{"$f":"IF(B15=\"\",\"\",IF(AND(COUNTIF('Entry sheet-2-hin'!$AO$9:$AO$77,\"7रसलउ२\")=0),\"\",COUNTIF('Entry sheet-2-hin'!$AO$9:$AO$77,\"7रसलउ२\")))","v":""},"",{"$f":"IF(B15=\"\",\"\",IF(AND(COUNTIF('Entry sheet-2-hin'!$AO$9:$AO$77,\"7रसलउ३\")=0),\"\",COUNTIF('Entry sheet-2-hin'!$AO$9:$AO$77,\"7रसलउ३\")))","v":""},"",{"$f":"IF(B15=\"\",\"\",IF(AND(COUNTIF('Entry sheet-2-hin'!$AO$9:$AO$77,\"7रसदीउ४\")=0),\"\",COUNTIF('Entry sheet-2-hin'!$AO$9:$AO$77,\"7रसदीउ४\")))","v":""},"",{"$f":"IF(B15=\"\",\"\",IF(AND(COUNTIF('Entry sheet-2-hin'!$AO$9:$AO$77,\"7रसदीउ5\")=0),\"\",COUNTIF('Entry sheet-2-hin'!$AO$9:$AO$77,\"7रसदीउ5\")))","v":""},"",0,0,0,0,0,0,0,0,0,0,0,0,0,0,0,0]
[{"$f":"IF('Entry sheet-1-hin'!A17=\"\",\"\",'Entry sheet-1-hin'!A17)","v":8},{"$f":"IF('Entry sheet-1-hin'!B17=\"\",\"\",'Entry sheet-1-hin'!B17)","v":"हामिद खाँ"},{"$f":"IF(B16=\"\",\"\",IF(AND(COUNTIF('Entry sheet-2-hin'!$AO$9:$AO$77,\"8स्मबवि\")=0),\"\",COUNTIF('Entry sheet-2-hin'!$AO$9:$AO$77,\"8स्मबवि\")))","v":""},"",{"$f":"IF(B16=\"\",\"\",IF(AND(COUNTIF('Entry sheet-2-hin'!$AO$9:$AO$77,\"8स्मवनि\")=0),\"\",COUNTIF('Entry sheet-2-hin'!$AO$9:$AO$77,\"8स्मवनि\")))","v":""},"",{"$f":"IF(B16=\"\",\"\",IF(AND(COUNTIF('Entry sheet-2-hin'!$AO$9:$AO$77,\"8स्मअलउ\")=0),\"\",COUNTIF('Entry sheet-2-hin'!$AO$9:$AO$77,\"8स्मअलउ\")))","v":""},"",{"$f":"IF(B16=\"\",\"\",IF(AND(COUNTIF('Entry sheet-2-hin'!$AO$9:$AO$77,\"8स्मलउ२\")=0),\"\",COUNTIF('Entry sheet-2-hin'!$AO$9:$AO$77,\"8स्मलउ२\")))","v":""},"",{"$f":"IF(B16=\"\",\"\",IF(AND(COUNTIF('Entry sheet-2-hin'!$AO$9:$AO$77,\"8स्मलउ३\")=0),\"\",COUNTIF('Entry sheet-2-hin'!$AO$9:$AO$77,\"8स्मलउ३\")))","v":""},"",{"$f":"IF(B16=\"\",\"\",IF(AND(COUNTIF('Entry sheet-2-hin'!$AO$9:$AO$77,\"8स्मदीउ४\")=0),\"\",COUNTIF('Entry sheet-2-hin'!$AO$9:$AO$77,\"8स्मदीउ४\")))","v":""},"",{"$f":"IF(B16=\"\",\"\",IF(AND(COUNTIF('Entry sheet-2-hin'!$AO$9:$AO$77,\"8स्मदीउ5\")=0),\"\",COUNTIF('Entry sheet-2-hin'!$AO$9:$AO$77,\"8स्मदीउ5\")))","v":""},"",{"$f":"IF(B16=\"\",\"\",IF(AND(COUNTIF('Entry sheet-2-hin'!$AO$9:$AO$77,\"8समबवि\")=0),\"\",COUNTIF('Entry sheet-2-hin'!$AO$9:$AO$77,\"8समबवि\")))","v":""},"",{"$f":"IF(B16=\"\",\"\",IF(AND(COUNTIF('Entry sheet-2-hin'!$AO$9:$AO$77,\"8समवनि\")=0),\"\",COUNTIF('Entry sheet-2-hin'!$AO$9:$AO$77,\"8समवनि\")))","v":""},"",{"$f":"IF(B16=\"\",\"\",IF(AND(COUNTIF('Entry sheet-2-hin'!$AO$9:$AO$77,\"8समअलउ\")=0),\"\",COUNTIF('Entry sheet-2-hin'!$AO$9:$AO$77,\"8समअलउ\")))","v":""},"",{"$f":"IF(B16=\"\",\"\",IF(AND(COUNTIF('Entry sheet-2-hin'!$AO$9:$AO$77,\"8समलउ२\")=0),\"\",COUNTIF('Entry sheet-2-hin'!$AO$9:$AO$77,\"8समलउ२\")))","v":""},"",{"$f":"IF(B16=\"\",\"\",IF(AND(COUNTIF('Entry sheet-2-hin'!$AO$9:$AO$77,\"8समलउ३\")=0),\"\",COUNTIF('Entry sheet-2-hin'!$AO$9:$AO$77,\"8समलउ३\")))","v":""},"",{"$f":"IF(B16=\"\",\"\",IF(AND(COUNTIF('Entry sheet-2-hin'!$AO$9:$AO$77,\"8समदीउ४\")=0),\"\",COUNTIF('Entry sheet-2-hin'!$AO$9:$AO$77,\"8समदीउ४\")))","v":""},"",{"$f":"IF(B16=\"\",\"\",IF(AND(COUNTIF('Entry sheet-2-hin'!$AO$9:$AO$77,\"8समदीउ5\")=0),\"\",COUNTIF('Entry sheet-2-hin'!$AO$9:$AO$77,\"8समदीउ5\")))","v":""},"",{"$f":"IF(B16=\"\",\"\",IF(AND(COUNTIF('Entry sheet-2-hin'!$AO$9:$AO$77,\"8अबवि\")=0),\"\",COUNTIF('Entry sheet-2-hin'!$AO$9:$AO$77,\"8अबवि\")))","v":""},"",{"$f":"IF(B16=\"\",\"\",IF(AND(COUNTIF('Entry sheet-2-hin'!$AO$9:$AO$77,\"8अवनि\")=0),\"\",COUNTIF('Entry sheet-2-hin'!$AO$9:$AO$77,\"8अवनि\")))","v":""},"",{"$f":"IF(B16=\"\",\"\",IF(AND(COUNTIF('Entry sheet-2-hin'!$AO$9:$AO$77,\"8अअलउ\")=0),\"\",COUNTIF('Entry sheet-2-hin'!$AO$9:$AO$77,\"8अअलउ\")))","v":""},"",{"$f":"IF(B16=\"\",\"\",IF(AND(COUNTIF('Entry sheet-2-hin'!$AO$9:$AO$77,\"8अलउ२\")=0),\"\",COUNTIF('Entry sheet-2-hin'!$AO$9:$AO$77,\"8अलउ२\")))","v":""},"",{"$f":"IF(B16=\"\",\"\",IF(AND(COUNTIF('Entry sheet-2-hin'!$AO$9:$AO$77,\"8अलउ३\")=0),\"\",COUNTIF('Entry sheet-2-hin'!$AO$9:$AO$77,\"8अलउ३\")))","v":""},"",{"$f":"IF(B16=\"\",\"\",IF(AND(COUNTIF('Entry sheet-2-hin'!$AO$9:$AO$77,\"8अदीउ४\")=0),\"\",COUNTIF('Entry sheet-2-hin'!$AO$9:$AO$77,\"8अदीउ४\")))","v":""},"",{"$f":"IF(B16=\"\",\"\",IF(AND(COUNTIF('Entry sheet-2-hin'!$AO$9:$AO$77,\"8अदीउ५\")=0),\"\",COUNTIF('Entry sheet-2-hin'!$AO$9:$AO$77,\"8अदीउ५\")))","v":""},"",{"$f":"IF(B16=\"\",\"\",IF(AND(COUNTIF('Entry sheet-2-hin'!$AO$9:$AO$77,\"8रसबवि\")=0),\"\",COUNTIF('Entry sheet-2-hin'!$AO$9:$AO$77,\"8रसबवि\")))","v":""},"",{"$f":"IF(B16=\"\",\"\",IF(AND(COUNTIF('Entry sheet-2-hin'!$AO$9:$AO$77,\"8रसवनि\")=0),\"\",COUNTIF('Entry sheet-2-hin'!$AO$9:$AO$77,\"8रसवनि\")))","v":""},"",{"$f":"IF(B16=\"\",\"\",IF(AND(COUNTIF('Entry sheet-2-hin'!$AO$9:$AO$77,\"8रसअलउ\")=0),\"\",COUNTIF('Entry sheet-2-hin'!$AO$9:$AO$77,\"8रसअलउ\")))","v":""},"",{"$f":"IF(B16=\"\",\"\",IF(AND(COUNTIF('Entry sheet-2-hin'!$AO$9:$AO$77,\"8रसलउ२\")=0),\"\",COUNTIF('Entry sheet-2-hin'!$AO$9:$AO$77,\"8रसलउ२\")))","v":""},"",{"$f":"IF(B16=\"\",\"\",IF(AND(COUNTIF('Entry sheet-2-hin'!$AO$9:$AO$77,\"8रसलउ३\")=0),\"\",COUNTIF('Entry sheet-2-hin'!$AO$9:$AO$77,\"8रसलउ३\")))","v":""},"",{"$f":"IF(B16=\"\",\"\",IF(AND(COUNTIF('Entry sheet-2-hin'!$AO$9:$AO$77,\"8रसदीउ४\")=0),\"\",COUNTIF('Entry sheet-2-hin'!$AO$9:$AO$77,\"8रसदीउ४\")))","v":""},"",{"$f":"IF(B16=\"\",\"\",IF(AND(COUNTIF('Entry sheet-2-hin'!$AO$9:$AO$77,\"8रसदीउ5\")=0),\"\",COUNTIF('Entry sheet-2-hin'!$AO$9:$AO$77,\"8रसदीउ5\")))","v":""},"",0,0,0,0,0,0,0,0,0,0,0,0,0,0,0,0]
[{"$f":"IF('Entry sheet-1-hin'!A18=\"\",\"\",'Entry sheet-1-hin'!A18)","v":9},{"$f":"IF('Entry sheet-1-hin'!B18=\"\",\"\",'Entry sheet-1-hin'!B18)","v":"खेलो- कूदो-स्वस्थ रहो"},{"$f":"IF(B17=\"\",\"\",IF(AND(COUNTIF('Entry sheet-2-hin'!$AO$9:$AO$77,\"9स्मबवि\")=0),\"\",COUNTIF('Entry sheet-2-hin'!$AO$9:$AO$77,\"9स्मबवि\")))","v":""},"",{"$f":"IF(B17=\"\",\"\",IF(AND(COUNTIF('Entry sheet-2-hin'!$AO$9:$AO$77,\"9स्मवनि\")=0),\"\",COUNTIF('Entry sheet-2-hin'!$AO$9:$AO$77,\"9स्मवनि\")))","v":""},"",{"$f":"IF(B17=\"\",\"\",IF(AND(COUNTIF('Entry sheet-2-hin'!$AO$9:$AO$77,\"9स्मअलउ\")=0),\"\",COUNTIF('Entry sheet-2-hin'!$AO$9:$AO$77,\"9स्मअलउ\")))","v":""},"",{"$f":"IF(B17=\"\",\"\",IF(AND(COUNTIF('Entry sheet-2-hin'!$AO$9:$AO$77,\"9स्मलउ२\")=0),\"\",COUNTIF('Entry sheet-2-hin'!$AO$9:$AO$77,\"9स्मलउ२\")))","v":""},"",{"$f":"IF(B17=\"\",\"\",IF(AND(COUNTIF('Entry sheet-2-hin'!$AO$9:$AO$77,\"9स्मलउ३\")=0),\"\",COUNTIF('Entry sheet-2-hin'!$AO$9:$AO$77,\"9स्मलउ३\")))","v":""},"",{"$f":"IF(B17=\"\",\"\",IF(AND(COUNTIF('Entry sheet-2-hin'!$AO$9:$AO$77,\"9स्मदीउ४\")=0),\"\",COUNTIF('Entry sheet-2-hin'!$AO$9:$AO$77,\"9स्मदीउ४\")))","v":""},"",{"$f":"IF(B17=\"\",\"\",IF(AND(COUNTIF('Entry sheet-2-hin'!$AO$9:$AO$77,\"9स्मदीउ5\")=0),\"\",COUNTIF('Entry sheet-2-hin'!$AO$9:$AO$77,\"9स्मदीउ5\")))","v":""},"",{"$f":"IF(B17=\"\",\"\",IF(AND(COUNTIF('Entry sheet-2-hin'!$AO$9:$AO$77,\"9समबवि\")=0),\"\",COUNTIF('Entry sheet-2-hin'!$AO$9:$AO$77,\"9समबवि\")))","v":""},"",{"$f":"IF(B17=\"\",\"\",IF(AND(COUNTIF('Entry sheet-2-hin'!$AO$9:$AO$77,\"9समवनि\")=0),\"\",COUNTIF('Entry sheet-2-hin'!$AO$9:$AO$77,\"9समवनि\")))","v":""},"",{"$f":"IF(B17=\"\",\"\",IF(AND(COUNTIF('Entry sheet-2-hin'!$AO$9:$AO$77,\"9समअलउ\")=0),\"\",COUNTIF('Entry sheet-2-hin'!$AO$9:$AO$77,\"9समअलउ\")))","v":""},"",{"$f":"IF(B17=\"\",\"\",IF(AND(COUNTIF('Entry sheet-2-hin'!$AO$9:$AO$77,\"9समलउ२\")=0),\"\",COUNTIF('Entry sheet-2-hin'!$AO$9:$AO$77,\"9समलउ२\")))","v":""},"",{"$f":"IF(B17=\"\",\"\",IF(AND(COUNTIF('Entry sheet-2-hin'!$AO$9:$AO$77,\"9समलउ३\")=0),\"\",COUNTIF('Entry sheet-2-hin'!$AO$9:$AO$77,\"9समलउ३\")))","v":""},"",{"$f":"IF(B17=\"\",\"\",IF(AND(COUNTIF('Entry sheet-2-hin'!$AO$9:$AO$77,\"9समदीउ४\")=0),\"\",COUNTIF('Entry sheet-2-hin'!$AO$9:$AO$77,\"9समदीउ४\")))","v":""},"",{"$f":"IF(B17=\"\",\"\",IF(AND(COUNTIF('Entry sheet-2-hin'!$AO$9:$AO$77,\"9समदीउ5\")=0),\"\",COUNTIF('Entry sheet-2-hin'!$AO$9:$AO$77,\"9समदीउ5\")))","v":""},"",{"$f":"IF(B17=\"\",\"\",IF(AND(COUNTIF('Entry sheet-2-hin'!$AO$9:$AO$77,\"9अबवि\")=0),\"\",COUNTIF('Entry sheet-2-hin'!$AO$9:$AO$77,\"9अबवि\")))","v":""},"",{"$f":"IF(B17=\"\",\"\",IF(AND(COUNTIF('Entry sheet-2-hin'!$AO$9:$AO$77,\"9अवनि\")=0),\"\",COUNTIF('Entry sheet-2-hin'!$AO$9:$AO$77,\"9अवनि\")))","v":""},"",{"$f":"IF(B17=\"\",\"\",IF(AND(COUNTIF('Entry sheet-2-hin'!$AO$9:$AO$77,\"9अअलउ\")=0),\"\",COUNTIF('Entry sheet-2-hin'!$AO$9:$AO$77,\"9अअलउ\")))","v":""},"",{"$f":"IF(B17=\"\",\"\",IF(AND(COUNTIF('Entry sheet-2-hin'!$AO$9:$AO$77,\"9अलउ२\")=0),\"\",COUNTIF('Entry sheet-2-hin'!$AO$9:$AO$77,\"9अलउ२\")))","v":""},"",{"$f":"IF(B17=\"\",\"\",IF(AND(COUNTIF('Entry sheet-2-hin'!$AO$9:$AO$77,\"9अलउ३\")=0),\"\",COUNTIF('Entry sheet-2-hin'!$AO$9:$AO$77,\"9अलउ३\")))","v":""},"",{"$f":"IF(B17=\"\",\"\",IF(AND(COUNTIF('Entry sheet-2-hin'!$AO$9:$AO$77,\"9अदीउ४\")=0),\"\",COUNTIF('Entry sheet-2-hin'!$AO$9:$AO$77,\"9अदीउ४\")))","v":""},"",{"$f":"IF(B17=\"\",\"\",IF(AND(COUNTIF('Entry sheet-2-hin'!$AO$9:$AO$77,\"9अदीउ५\")=0),\"\",COUNTIF('Entry sheet-2-hin'!$AO$9:$AO$77,\"9अदीउ५\")))","v":""},"",{"$f":"IF(B17=\"\",\"\",IF(AND(COUNTIF('Entry sheet-2-hin'!$AO$9:$AO$77,\"9रसबवि\")=0),\"\",COUNTIF('Entry sheet-2-hin'!$AO$9:$AO$77,\"9रसबवि\")))","v":""},"",{"$f":"IF(B17=\"\",\"\",IF(AND(COUNTIF('Entry sheet-2-hin'!$AO$9:$AO$77,\"9रसवनि\")=0),\"\",COUNTIF('Entry sheet-2-hin'!$AO$9:$AO$77,\"9रसवनि\")))","v":""},"",{"$f":"IF(B17=\"\",\"\",IF(AND(COUNTIF('Entry sheet-2-hin'!$AO$9:$AO$77,\"9रसअलउ\")=0),\"\",COUNTIF('Entry sheet-2-hin'!$AO$9:$AO$77,\"9रसअलउ\")))","v":""},"",{"$f":"IF(B17=\"\",\"\",IF(AND(COUNTIF('Entry sheet-2-hin'!$AO$9:$AO$77,\"9रसलउ२\")=0),\"\",COUNTIF('Entry sheet-2-hin'!$AO$9:$AO$77,\"9रसलउ२\")))","v":""},"",{"$f":"IF(B17=\"\",\"\",IF(AND(COUNTIF('Entry sheet-2-hin'!$AO$9:$AO$77,\"9रसलउ३\")=0),\"\",COUNTIF('Entry sheet-2-hin'!$AO$9:$AO$77,\"9रसलउ३\")))","v":""},"",{"$f":"IF(B17=\"\",\"\",IF(AND(COUNTIF('Entry sheet-2-hin'!$AO$9:$AO$77,\"9रसदीउ४\")=0),\"\",COUNTIF('Entry sheet-2-hin'!$AO$9:$AO$77,\"9रसदीउ४\")))","v":""},"",{"$f":"IF(B17=\"\",\"\",IF(AND(COUNTIF('Entry sheet-2-hin'!$AO$9:$AO$77,\"9रसदीउ5\")=0),\"\",COUNTIF('Entry sheet-2-hin'!$AO$9:$AO$77,\"9रसदीउ5\")))","v":""},"",0,0,0,0,0,0,0,0,0,0,0,0,0,0,0,0]
[{"$f":"IF('Entry sheet-1-hin'!A19=\"\",\"\",'Entry sheet-1-hin'!A19)","v":10},{"$f":"IF('Entry sheet-1-hin'!B19=\"\",\"\",'Entry sheet-1-hin'!B19)","v":"हिमालय की बेटियाँ"},{"$f":"IF(B8=\"\",\"\",IF(AND(COUNTIF('Entry sheet-2-hin'!$AO$9:$AO$77,\"10स्मबवि\")=0),\"\",COUNTIF('Entry sheet-2-hin'!$AO$9:$AO$77,\"10स्मबवि\")))","v":""},"",{"$f":"IF(B18=\"\",\"\",IF(AND(COUNTIF('Entry sheet-2-hin'!$AO$9:$AO$77,\"10स्मवनि\")=0),\"\",COUNTIF('Entry sheet-2-hin'!$AO$9:$AO$77,\"10स्मवनि\")))","v":""},"",{"$f":"IF(B18=\"\",\"\",IF(AND(COUNTIF('Entry sheet-2-hin'!$AO$9:$AO$77,\"10स्मअलउ\")=0),\"\",COUNTIF('Entry sheet-2-hin'!$AO$9:$AO$77,\"10स्मअलउ\")))","v":""},"",{"$f":"IF(B18=\"\",\"\",IF(AND(COUNTIF('Entry sheet-2-hin'!$AO$9:$AO$77,\"10स्मलउ२\")=0),\"\",COUNTIF('Entry sheet-2-hin'!$AO$9:$AO$77,\"10स्मलउ२\")))","v":""},"",{"$f":"IF(B18=\"\",\"\",IF(AND(COUNTIF('Entry sheet-2-hin'!$AO$9:$AO$77,\"10स्मलउ३\")=0),\"\",COUNTIF('Entry sheet-2-hin'!$AO$9:$AO$77,\"10स्मलउ३\")))","v":""},"",{"$f":"IF(B18=\"\",\"\",IF(AND(COUNTIF('Entry sheet-2-hin'!$AO$9:$AO$77,\"10स्मदीउ४\")=0),\"\",COUNTIF('Entry sheet-2-hin'!$AO$9:$AO$77,\"10स्मदीउ४\")))","v":""},"",{"$f":"IF(B18=\"\",\"\",IF(AND(COUNTIF('Entry sheet-2-hin'!$AO$9:$AO$77,\"10स्मदीउ5\")=0),\"\",COUNTIF('Entry sheet-2-hin'!$AO$9:$AO$77,\"10स्मदीउ5\")))","v":""},"",{"$f":"IF(B18=\"\",\"\",IF(AND(COUNTIF('Entry sheet-2-hin'!$AO$9:$AO$77,\"10समबवि\")=0),\"\",COUNTIF('Entry sheet-2-hin'!$AO$9:$AO$77,\"10समबवि\")))","v":""},"",{"$f":"IF(B18=\"\",\"\",IF(AND(COUNTIF('Entry sheet-2-hin'!$AO$9:$AO$77,\"10समवनि\")=0),\"\",COUNTIF('Entry sheet-2-hin'!$AO$9:$AO$77,\"10समवनि\")))","v":""},"",{"$f":"IF(B18=\"\",\"\",IF(AND(COUNTIF('Entry sheet-2-hin'!$AO$9:$AO$77,\"10समअलउ\")=0),\"\",COUNTIF('Entry sheet-2-hin'!$AO$9:$AO$77,\"10समअलउ\")))","v":""},"",{"$f":"IF(B18=\"\",\"\",IF(AND(COUNTIF('Entry sheet-2-hin'!$AO$9:$AO$77,\"10समलउ२\")=0),\"\",COUNTIF('Entry sheet-2-hin'!$AO$9:$AO$77,\"10समलउ२\")))","v":""},"",{"$f":"IF(B18=\"\",\"\",IF(AND(COUNTIF('Entry sheet-2-hin'!$AO$9:$AO$77,\"10समलउ३\")=0),\"\",COUNTIF('Entry sheet-2-hin'!$AO$9:$AO$77,\"10समलउ३\")))","v":""},"",{"$f":"IF(B18=\"\",\"\",IF(AND(COUNTIF('Entry sheet-2-hin'!$AO$9:$AO$77,\"10समदीउ४\")=0),\"\",COUNTIF('Entry sheet-2-hin'!$AO$9:$AO$77,\"10समदीउ४\")))","v":""},"",{"$f":"IF(B18=\"\",\"\",IF(AND(COUNTIF('Entry sheet-2-hin'!$AO$9:$AO$77,\"10समदीउ5\")=0),\"\",COUNTIF('Entry sheet-2-hin'!$AO$9:$AO$77,\"10समदीउ5\")))","v":""},"",{"$f":"IF(B18=\"\",\"\",IF(AND(COUNTIF('Entry sheet-2-hin'!$AO$9:$AO$77,\"10अबवि\")=0),\"\",COUNTIF('Entry sheet-2-hin'!$AO$9:$AO$77,\"10अबवि\")))","v":""},"",{"$f":"IF(B18=\"\",\"\",IF(AND(COUNTIF('Entry sheet-2-hin'!$AO$9:$AO$77,\"10अवनि\")=0),\"\",COUNTIF('Entry sheet-2-hin'!$AO$9:$AO$77,\"10अवनि\")))","v":""},"",{"$f":"IF(B18=\"\",\"\",IF(AND(COUNTIF('Entry sheet-2-hin'!$AO$9:$AO$77,\"10अअलउ\")=0),\"\",COUNTIF('Entry sheet-2-hin'!$AO$9:$AO$77,\"10अअलउ\")))","v":""},"",{"$f":"IF(B18=\"\",\"\",IF(AND(COUNTIF('Entry sheet-2-hin'!$AO$9:$AO$77,\"10अलउ२\")=0),\"\",COUNTIF('Entry sheet-2-hin'!$AO$9:$AO$77,\"10अलउ२\")))","v":""},"",{"$f":"IF(B18=\"\",\"\",IF(AND(COUNTIF('Entry sheet-2-hin'!$AO$9:$AO$77,\"10अलउ३\")=0),\"\",COUNTIF('Entry sheet-2-hin'!$AO$9:$AO$77,\"10अलउ३\")))","v":""},"",{"$f":"IF(B18=\"\",\"\",IF(AND(COUNTIF('Entry sheet-2-hin'!$AO$9:$AO$77,\"10अदीउ४\")=0),\"\",COUNTIF('Entry sheet-2-hin'!$AO$9:$AO$77,\"10अदीउ४\")))","v":""},"",{"$f":"IF(B18=\"\",\"\",IF(AND(COUNTIF('Entry sheet-2-hin'!$AO$9:$AO$77,\"10अदीउ५\")=0),\"\",COUNTIF('Entry sheet-2-hin'!$AO$9:$AO$77,\"10अदीउ५\")))","v":""},"",{"$f":"IF(B18=\"\",\"\",IF(AND(COUNTIF('Entry sheet-2-hin'!$AO$9:$AO$77,\"10रसबवि\")=0),\"\",COUNTIF('Entry sheet-2-hin'!$AO$9:$AO$77,\"10रसबवि\")))","v":""},"",{"$f":"IF(B18=\"\",\"\",IF(AND(COUNTIF('Entry sheet-2-hin'!$AO$9:$AO$77,\"10रसवनि\")=0),\"\",COUNTIF('Entry sheet-2-hin'!$AO$9:$AO$77,\"10रसवनि\")))","v":""},"",{"$f":"IF(B18=\"\",\"\",IF(AND(COUNTIF('Entry sheet-2-hin'!$AO$9:$AO$77,\"10रसअलउ\")=0),\"\",COUNTIF('Entry sheet-2-hin'!$AO$9:$AO$77,\"10रसअलउ\")))","v":""},"",{"$f":"IF(B18=\"\",\"\",IF(AND(COUNTIF('Entry sheet-2-hin'!$AO$9:$AO$77,\"10रसलउ२\")=0),\"\",COUNTIF('Entry sheet-2-hin'!$AO$9:$AO$77,\"10रसलउ२\")))","v":""},"",{"$f":"IF(B18=\"\",\"\",IF(AND(COUNTIF('Entry sheet-2-hin'!$AO$9:$AO$77,\"10रसलउ३\")=0),\"\",COUNTIF('Entry sheet-2-hin'!$AO$9:$AO$77,\"10रसलउ३\")))","v":""},"",{"$f":"IF(B18=\"\",\"\",IF(AND(COUNTIF('Entry sheet-2-hin'!$AO$9:$AO$77,\"10रसदीउ४\")=0),\"\",COUNTIF('Entry sheet-2-hin'!$AO$9:$AO$77,\"10रसदीउ४\")))","v":""},"",{"$f":"IF(B18=\"\",\"\",IF(AND(COUNTIF('Entry sheet-2-hin'!$AO$9:$AO$77,\"10रसदीउ5\")=0),\"\",COUNTIF('Entry sheet-2-hin'!$AO$9:$AO$77,\"10रसदीउ5\")))","v":""},"",0,0,0,0,0,0,0,0,0,0,0,0,0,0,0,0]
[{"$f":"IF('Entry sheet-1-hin'!A20=\"\",\"\",'Entry sheet-1-hin'!A20)","v":11},{"$f":"IF('Entry sheet-1-hin'!B20=\"\",\"\",'Entry sheet-1-hin'!B20)","v":"जय-जय भारत माता"},{"$f":"IF(B19=\"\",\"\",IF(AND(COUNTIF('Entry sheet-2-hin'!$AO$9:$AO$77,\"11स्मबवि\")=0),\"\",COUNTIF('Entry sheet-2-hin'!$AO$9:$AO$77,\"11स्मबवि\")))","v":""},"",{"$f":"IF(B19=\"\",\"\",IF(AND(COUNTIF('Entry sheet-2-hin'!$AO$9:$AO$77,\"11स्मवनि\")=0),\"\",COUNTIF('Entry sheet-2-hin'!$AO$9:$AO$77,\"11स्मवनि\")))","v":""},"",{"$f":"IF(B19=\"\",\"\",IF(AND(COUNTIF('Entry sheet-2-hin'!$AO$9:$AO$77,\"11स्मअलउ\")=0),\"\",COUNTIF('Entry sheet-2-hin'!$AO$9:$AO$77,\"11स्मअलउ\")))","v":""},"",{"$f":"IF(B19=\"\",\"\",IF(AND(COUNTIF('Entry sheet-2-hin'!$AO$9:$AO$77,\"11स्मलउ२\")=0),\"\",COUNTIF('Entry sheet-2-hin'!$AO$9:$AO$77,\"11स्मलउ२\")))","v":""},"",{"$f":"IF(B19=\"\",\"\",IF(AND(COUNTIF('Entry sheet-2-hin'!$AO$9:$AO$77,\"11स्मलउ३\")=0),\"\",COUNTIF('Entry sheet-2-hin'!$AO$9:$AO$77,\"11स्मलउ३\")))","v":""},"",{"$f":"IF(B19=\"\",\"\",IF(AND(COUNTIF('Entry sheet-2-hin'!$AO$9:$AO$77,\"11स्मदीउ४\")=0),\"\",COUNTIF('Entry sheet-2-hin'!$AO$9:$AO$77,\"11स्मदीउ४\")))","v":""},"",{"$f":"IF(B19=\"\",\"\",IF(AND(COUNTIF('Entry sheet-2-hin'!$AO$9:$AO$77,\"11स्मदीउ5\")=0),\"\",COUNTIF('Entry sheet-2-hin'!$AO$9:$AO$77,\"11स्मदीउ5\")))","v":""},"",{"$f":"IF(B19=\"\",\"\",IF(AND(COUNTIF('Entry sheet-2-hin'!$AO$9:$AO$77,\"11समबवि\")=0),\"\",COUNTIF('Entry sheet-2-hin'!$AO$9:$AO$77,\"11समबवि\")))","v":""},"",{"$f":"IF(B19=\"\",\"\",IF(AND(COUNTIF('Entry sheet-2-hin'!$AO$9:$AO$77,\"11समवनि\")=0),\"\",COUNTIF('Entry sheet-2-hin'!$AO$9:$AO$77,\"11समवनि\")))","v":""},"",{"$f":"IF(B19=\"\",\"\",IF(AND(COUNTIF('Entry sheet-2-hin'!$AO$9:$AO$77,\"11समअलउ\")=0),\"\",COUNTIF('Entry sheet-2-hin'!$AO$9:$AO$77,\"11समअलउ\")))","v":1},1,{"$f":"IF(B19=\"\",\"\",IF(AND(COUNTIF('Entry sheet-2-hin'!$AO$9:$AO$77,\"11समलउ२\")=0),\"\",COUNTIF('Entry sheet-2-hin'!$AO$9:$AO$77,\"11समलउ२\")))","v":""},"",{"$f":"IF(B19=\"\",\"\",IF(AND(COUNTIF('Entry sheet-2-hin'!$AO$9:$AO$77,\"11समलउ३\")=0),\"\",COUNTIF('Entry sheet-2-hin'!$AO$9:$AO$77,\"11समलउ३\")))","v":""},"",{"$f":"IF(B19=\"\",\"\",IF(AND(COUNTIF('Entry sheet-2-hin'!$AO$9:$AO$77,\"11समदीउ४\")=0),\"\",COUNTIF('Entry sheet-2-hin'!$AO$9:$AO$77,\"11समदीउ४\")))","v":""},"",{"$f":"IF(B19=\"\",\"\",IF(AND(COUNTIF('Entry sheet-2-hin'!$AO$9:$AO$77,\"11समदीउ5\")=0),\"\",COUNTIF('Entry sheet-2-hin'!$AO$9:$AO$77,\"11समदीउ5\")))","v":""},"",{"$f":"IF(B19=\"\",\"\",IF(AND(COUNTIF('Entry sheet-2-hin'!$AO$9:$AO$77,\"11अबवि\")=0),\"\",COUNTIF('Entry sheet-2-hin'!$AO$9:$AO$77,\"11अबवि\")))","v":""},"",{"$f":"IF(B19=\"\",\"\",IF(AND(COUNTIF('Entry sheet-2-hin'!$AO$9:$AO$77,\"11अवनि\")=0),\"\",COUNTIF('Entry sheet-2-hin'!$AO$9:$AO$77,\"11अवनि\")))","v":""},"",{"$f":"IF(B19=\"\",\"\",IF(AND(COUNTIF('Entry sheet-2-hin'!$AO$9:$AO$77,\"11अअलउ\")=0),\"\",COUNTIF('Entry sheet-2-hin'!$AO$9:$AO$77,\"11अअलउ\")))","v":""},"",{"$f":"IF(B19=\"\",\"\",IF(AND(COUNTIF('Entry sheet-2-hin'!$AO$9:$AO$77,\"11अलउ२\")=0),\"\",COUNTIF('Entry sheet-2-hin'!$AO$9:$AO$77,\"11अलउ२\")))","v":1},2,{"$f":"IF(B19=\"\",\"\",IF(AND(COUNTIF('Entry sheet-2-hin'!$AO$9:$AO$77,\"11अलउ३\")=0),\"\",COUNTIF('Entry sheet-2-hin'!$AO$9:$AO$77,\"11अलउ३\")))","v":""},"",{"$f":"IF(B19=\"\",\"\",IF(AND(COUNTIF('Entry sheet-2-hin'!$AO$9:$AO$77,\"11अदीउ४\")=0),\"\",COUNTIF('Entry sheet-2-hin'!$AO$9:$AO$77,\"11अदीउ४\")))","v":""},"",{"$f":"IF(B19=\"\",\"\",IF(AND(COUNTIF('Entry sheet-2-hin'!$AO$9:$AO$77,\"11अदीउ५\")=0),\"\",COUNTIF('Entry sheet-2-hin'!$AO$9:$AO$77,\"11अदीउ५\")))","v":""},"",{"$f":"IF(B19=\"\",\"\",IF(AND(COUNTIF('Entry sheet-2-hin'!$AO$9:$AO$77,\"11रसबवि\")=0),\"\",COUNTIF('Entry sheet-2-hin'!$AO$9:$AO$77,\"11रसबवि\")))","v":""},"",{"$f":"IF(B19=\"\",\"\",IF(AND(COUNTIF('Entry sheet-2-hin'!$AO$9:$AO$77,\"11रसवनि\")=0),\"\",COUNTIF('Entry sheet-2-hin'!$AO$9:$AO$77,\"11रसवनि\")))","v":""},"",{"$f":"IF(B19=\"\",\"\",IF(AND(COUNTIF('Entry sheet-2-hin'!$AO$9:$AO$77,\"11रसअलउ\")=0),\"\",COUNTIF('Entry sheet-2-hin'!$AO$9:$AO$77,\"11रसअलउ\")))","v":""},"",{"$f":"IF(B19=\"\",\"\",IF(AND(COUNTIF('Entry sheet-2-hin'!$AO$9:$AO$77,\"11रसलउ२\")=0),\"\",COUNTIF('Entry sheet-2-hin'!$AO$9:$AO$77,\"11रसलउ२\")))","v":""},"",{"$f":"IF(B19=\"\",\"\",IF(AND(COUNTIF('Entry sheet-2-hin'!$AO$9:$AO$77,\"11रसलउ३\")=0),\"\",COUNTIF('Entry sheet-2-hin'!$AO$9:$AO$77,\"11रसलउ३\")))","v":""},"",{"$f":"IF(B19=\"\",\"\",IF(AND(COUNTIF('Entry sheet-2-hin'!$AO$9:$AO$77,\"11रसदीउ४\")=0),\"\",COUNTIF('Entry sheet-2-hin'!$AO$9:$AO$77,\"11रसदीउ४\")))","v":""},"",{"$f":"IF(B19=\"\",\"\",IF(AND(COUNTIF('Entry sheet-2-hin'!$AO$9:$AO$77,\"11रसदीउ5\")=0),\"\",COUNTIF('Entry sheet-2-hin'!$AO$9:$AO$77,\"11रसदीउ5\")))","v":""},"",0,0,0,0,1,1,1,2,0,0,0,0,0,0,2,3]
[{"$f":"IF('Entry sheet-1-hin'!A21=\"\",\"\",'Entry sheet-1-hin'!A21)","v":12},{"$f":"IF('Entry sheet-1-hin'!B21=\"\",\"\",'Entry sheet-1-hin'!B21)","v":"शिक्षा"},{"$f":"IF(B20=\"\",\"\",IF(AND(COUNTIF('Entry sheet-2-hin'!$AO$9:$AO$77,\"12स्मबवि\")=0),\"\",COUNTIF('Entry sheet-2-hin'!$AO$9:$AO$77,\"12स्मबवि\")))","v":""},"",{"$f":"IF(B20=\"\",\"\",IF(AND(COUNTIF('Entry sheet-2-hin'!$AO$9:$AO$77,\"12स्मवनि\")=0),\"\",COUNTIF('Entry sheet-2-hin'!$AO$9:$AO$77,\"12स्मवनि\")))","v":""},"",{"$f":"IF(B20=\"\",\"\",IF(AND(COUNTIF('Entry sheet-2-hin'!$AO$9:$AO$77,\"12स्मअलउ\")=0),\"\",COUNTIF('Entry sheet-2-hin'!$AO$9:$AO$77,\"12स्मअलउ\")))","v":""},"",{"$f":"IF(B20=\"\",\"\",IF(AND(COUNTIF('Entry sheet-2-hin'!$AO$9:$AO$77,\"12स्मलउ२\")=0),\"\",COUNTIF('Entry sheet-2-hin'!$AO$9:$AO$77,\"12स्मलउ२\")))","v":""},"",{"$f":"IF(B20=\"\",\"\",IF(AND(COUNTIF('Entry sheet-2-hin'!$AO$9:$AO$77,\"12स्मलउ३\")=0),\"\",COUNTIF('Entry sheet-2-hin'!$AO$9:$AO$77,\"12स्मलउ३\")))","v":""},"",{"$f":"IF(B20=\"\",\"\",IF(AND(COUNTIF('Entry sheet-2-hin'!$AO$9:$AO$77,\"12स्मदीउ४\")=0),\"\",COUNTIF('Entry sheet-2-hin'!$AO$9:$AO$77,\"12स्मदीउ४\")))","v":""},"",{"$f":"IF(B20=\"\",\"\",IF(AND(COUNTIF('Entry sheet-2-hin'!$AO$9:$AO$77,\"12स्मदीउ5\")=0),\"\",COUNTIF('Entry sheet-2-hin'!$AO$9:$AO$77,\"12स्मदीउ5\")))","v":""},"",{"$f":"IF(B20=\"\",\"\",IF(AND(COUNTIF('Entry sheet-2-hin'!$AO$9:$AO$77,\"12समबवि\")=0),\"\",COUNTIF('Entry sheet-2-hin'!$AO$9:$AO$77,\"12समबवि\")))","v":""},"",{"$f":"IF(B20=\"\",\"\",IF(AND(COUNTIF('Entry sheet-2-hin'!$AO$9:$AO$77,\"12समवनि\")=0),\"\",COUNTIF('Entry sheet-2-hin'!$AO$9:$AO$77,\"12समवनि\")))","v":""},"",{"$f":"IF(B20=\"\",\"\",IF(AND(COUNTIF('Entry sheet-2-hin'!$AO$9:$AO$77,\"12समअलउ\")=0),\"\",COUNTIF('Entry sheet-2-hin'!$AO$9:$AO$77,\"12समअलउ\")))","v":""},"",{"$f":"IF(B20=\"\",\"\",IF(AND(COUNTIF('Entry sheet-2-hin'!$AO$9:$AO$77,\"12समलउ२\")=0),\"\",COUNTIF('Entry sheet-2-hin'!$AO$9:$AO$77,\"12समलउ२\")))","v":""},"",{"$f":"IF(B20=\"\",\"\",IF(AND(COUNTIF('Entry sheet-2-hin'!$AO$9:$AO$77,\"12समलउ३\")=0),\"\",COUNTIF('Entry sheet-2-hin'!$AO$9:$AO$77,\"12समलउ३\")))","v":""},"",{"$f":"IF(B20=\"\",\"\",IF(AND(COUNTIF('Entry sheet-2-hin'!$AO$9:$AO$77,\"12समदीउ४\")=0),\"\",COUNTIF('Entry sheet-2-hin'!$AO$9:$AO$77,\"12समदीउ४\")))","v":1},4,{"$f":"IF(B20=\"\",\"\",IF(AND(COUNTIF('Entry sheet-2-hin'!$AO$9:$AO$77,\"12समदीउ5\")=0),\"\",COUNTIF('Entry sheet-2-hin'!$AO$9:$AO$77,\"12समदीउ5\")))","v":""},"",{"$f":"IF(B20=\"\",\"\",IF(AND(COUNTIF('Entry sheet-2-hin'!$AO$9:$AO$77,\"12अबवि\")=0),\"\",COUNTIF('Entry sheet-2-hin'!$AO$9:$AO$77,\"12अबवि\")))","v":""},"",{"$f":"IF(B20=\"\",\"\",IF(AND(COUNTIF('Entry sheet-2-hin'!$AO$9:$AO$77,\"12अवनि\")=0),\"\",COUNTIF('Entry sheet-2-hin'!$AO$9:$AO$77,\"12अवनि\")))","v":""},"",{"$f":"IF(B20=\"\",\"\",IF(AND(COUNTIF('Entry sheet-2-hin'!$AO$9:$AO$77,\"12अअलउ\")=0),\"\",COUNTIF('Entry sheet-2-hin'!$AO$9:$AO$77,\"12अअलउ\")))","v":""},"",{"$f":"IF(B20=\"\",\"\",IF(AND(COUNTIF('Entry sheet-2-hin'!$AO$9:$AO$77,\"12अलउ२\")=0),\"\",COUNTIF('Entry sheet-2-hin'!$AO$9:$AO$77,\"12अलउ२\")))","v":""},"",{"$f":"IF(B20=\"\",\"\",IF(AND(COUNTIF('Entry sheet-2-hin'!$AO$9:$AO$77,\"12अलउ३\")=0),\"\",COUNTIF('Entry sheet-2-hin'!$AO$9:$AO$77,\"12अलउ३\")))","v":""},"",{"$f":"IF(B20=\"\",\"\",IF(AND(COUNTIF('Entry sheet-2-hin'!$AO$9:$AO$77,\"12अदीउ४\")=0),\"\",COUNTIF('Entry sheet-2-hin'!$AO$9:$AO$77,\"12अदीउ४\")))","v":""},"",{"$f":"IF(B20=\"\",\"\",IF(AND(COUNTIF('Entry sheet-2-hin'!$AO$9:$AO$77,\"12अदीउ५\")=0),\"\",COUNTIF('Entry sheet-2-hin'!$AO$9:$AO$77,\"12अदीउ५\")))","v":""},"",{"$f":"IF(B20=\"\",\"\",IF(AND(COUNTIF('Entry sheet-2-hin'!$AO$9:$AO$77,\"12रसबवि\")=0),\"\",COUNTIF('Entry sheet-2-hin'!$AO$9:$AO$77,\"12रसबवि\")))","v":""},"",{"$f":"IF(B20=\"\",\"\",IF(AND(COUNTIF('Entry sheet-2-hin'!$AO$9:$AO$77,\"12रसवनि\")=0),\"\",COUNTIF('Entry sheet-2-hin'!$AO$9:$AO$77,\"12रसवनि\")))","v":""},"",{"$f":"IF(B20=\"\",\"\",IF(AND(COUNTIF('Entry sheet-2-hin'!$AO$9:$AO$77,\"12रसअलउ\")=0),\"\",COUNTIF('Entry sheet-2-hin'!$AO$9:$AO$77,\"12रसअलउ\")))","v":""},"",{"$f":"IF(B20=\"\",\"\",IF(AND(COUNTIF('Entry sheet-2-hin'!$AO$9:$AO$77,\"12रसलउ२\")=0),\"\",COUNTIF('Entry sheet-2-hin'!$AO$9:$AO$77,\"12रसलउ२\")))","v":""},"",{"$f":"IF(B20=\"\",\"\",IF(AND(COUNTIF('Entry sheet-2-hin'!$AO$9:$AO$77,\"12रसलउ३\")=0),\"\",COUNTIF('Entry sheet-2-hin'!$AO$9:$AO$77,\"12रसलउ३\")))","v":""},"",{"$f":"IF(B20=\"\",\"\",IF(AND(COUNTIF('Entry sheet-2-hin'!$AO$9:$AO$77,\"12रसदीउ४\")=0),\"\",COUNTIF('Entry sheet-2-hin'!$AO$9:$AO$77,\"12रसदीउ४\")))","v":""},"",{"$f":"IF(B20=\"\",\"\",IF(AND(COUNTIF('Entry sheet-2-hin'!$AO$9:$AO$77,\"12रसदीउ5\")=0),\"\",COUNTIF('Entry sheet-2-hin'!$AO$9:$AO$77,\"12रसदीउ5\")))","v":""},"",0,0,0,0,0,0,0,0,0,0,1,4,0,0,1,4]
[{"$f":"IF('Entry sheet-1-hin'!A22=\"\",\"\",'Entry sheet-1-hin'!A22)","v":13},{"$f":"IF('Entry sheet-1-hin'!B22=\"\",\"\",'Entry sheet-1-hin'!B22)","v":"मेरी अभिलाषा है"},{"$f":"IF(B21=\"\",\"\",IF(AND(COUNTIF('Entry sheet-2-hin'!$AO$9:$AO$77,\"13स्मबवि\")=0),\"\",COUNTIF('Entry sheet-2-hin'!$AO$9:$AO$77,\"13स्मबवि\")))","v":""},"",{"$f":"IF(B21=\"\",\"\",IF(AND(COUNTIF('Entry sheet-2-hin'!$AO$9:$AO$77,\"13स्मवनि\")=0),\"\",COUNTIF('Entry sheet-2-hin'!$AO$9:$AO$77,\"13स्मवनि\")))","v":""},"",{"$f":"IF(B21=\"\",\"\",IF(AND(COUNTIF('Entry sheet-2-hin'!$AO$9:$AO$77,\"13स्मअलउ\")=0),\"\",COUNTIF('Entry sheet-2-hin'!$AO$9:$AO$77,\"13स्मअलउ\")))","v":""},"",{"$f":"IF(B21=\"\",\"\",IF(AND(COUNTIF('Entry sheet-2-hin'!$AO$9:$AO$77,\"13स्मलउ२\")=0),\"\",COUNTIF('Entry sheet-2-hin'!$AO$9:$AO$77,\"13स्मलउ२\")))","v":""},"",{"$f":"IF(B21=\"\",\"\",IF(AND(COUNTIF('Entry sheet-2-hin'!$AO$9:$AO$77,\"13स्मलउ३\")=0),\"\",COUNTIF('Entry sheet-2-hin'!$AO$9:$AO$77,\"13स्मलउ३\")))","v":""},"",{"$f":"IF(B21=\"\",\"\",IF(AND(COUNTIF('Entry sheet-2-hin'!$AO$9:$AO$77,\"13स्मदीउ४\")=0),\"\",COUNTIF('Entry sheet-2-hin'!$AO$9:$AO$77,\"13स्मदीउ४\")))","v":""},"",{"$f":"IF(B21=\"\",\"\",IF(AND(COUNTIF('Entry sheet-2-hin'!$AO$9:$AO$77,\"13स्मदीउ5\")=0),\"\",COUNTIF('Entry sheet-2-hin'!$AO$9:$AO$77,\"13स्मदीउ5\")))","v":""},"",{"$f":"IF(B21=\"\",\"\",IF(AND(COUNTIF('Entry sheet-2-hin'!$AO$9:$AO$77,\"13समबवि\")=0),\"\",COUNTIF('Entry sheet-2-hin'!$AO$9:$AO$77,\"13समबवि\")))","v":""},"",{"$f":"IF(B21=\"\",\"\",IF(AND(COUNTIF('Entry sheet-2-hin'!$AO$9:$AO$77,\"13समवनि\")=0),\"\",COUNTIF('Entry sheet-2-hin'!$AO$9:$AO$77,\"13समवनि\")))","v":""},"",{"$f":"IF(B21=\"\",\"\",IF(AND(COUNTIF('Entry sheet-2-hin'!$AO$9:$AO$77,\"13समअलउ\")=0),\"\",COUNTIF('Entry sheet-2-hin'!$AO$9:$AO$77,\"13समअलउ\")))","v":""},"",{"$f":"IF(B21=\"\",\"\",IF(AND(COUNTIF('Entry sheet-2-hin'!$AO$9:$AO$77,\"13समलउ२\")=0),\"\",COUNTIF('Entry sheet-2-hin'!$AO$9:$AO$77,\"13समलउ२\")))","v":""},"",{"$f":"IF(B21=\"\",\"\",IF(AND(COUNTIF('Entry sheet-2-hin'!$AO$9:$AO$77,\"13समलउ३\")=0),\"\",COUNTIF('Entry sheet-2-hin'!$AO$9:$AO$77,\"13समलउ३\")))","v":""},"",{"$f":"IF(B21=\"\",\"\",IF(AND(COUNTIF('Entry sheet-2-hin'!$AO$9:$AO$77,\"13समदीउ४\")=0),\"\",COUNTIF('Entry sheet-2-hin'!$AO$9:$AO$77,\"13समदीउ४\")))","v":""},"",{"$f":"IF(B21=\"\",\"\",IF(AND(COUNTIF('Entry sheet-2-hin'!$AO$9:$AO$77,\"13समदीउ5\")=0),\"\",COUNTIF('Entry sheet-2-hin'!$AO$9:$AO$77,\"13समदीउ5\")))","v":""},"",{"$f":"IF(B21=\"\",\"\",IF(AND(COUNTIF('Entry sheet-2-hin'!$AO$9:$AO$77,\"13अबवि\")=0),\"\",COUNTIF('Entry sheet-2-hin'!$AO$9:$AO$77,\"13अबवि\")))","v":""},"",{"$f":"IF(B21=\"\",\"\",IF(AND(COUNTIF('Entry sheet-2-hin'!$AO$9:$AO$77,\"13अवनि\")=0),\"\",COUNTIF('Entry sheet-2-hin'!$AO$9:$AO$77,\"13अवनि\")))","v":""},"",{"$f":"IF(B21=\"\",\"\",IF(AND(COUNTIF('Entry sheet-2-hin'!$AO$9:$AO$77,\"13अअलउ\")=0),\"\",COUNTIF('Entry sheet-2-hin'!$AO$9:$AO$77,\"13अअलउ\")))","v":""},"",{"$f":"IF(B21=\"\",\"\",IF(AND(COUNTIF('Entry sheet-2-hin'!$AO$9:$AO$77,\"13अलउ२\")=0),\"\",COUNTIF('Entry sheet-2-hin'!$AO$9:$AO$77,\"13अलउ२\")))","v":""},"",{"$f":"IF(B21=\"\",\"\",IF(AND(COUNTIF('Entry sheet-2-hin'!$AO$9:$AO$77,\"13अलउ३\")=0),\"\",COUNTIF('Entry sheet-2-hin'!$AO$9:$AO$77,\"13अलउ३\")))","v":""},"",{"$f":"IF(B21=\"\",\"\",IF(AND(COUNTIF('Entry sheet-2-hin'!$AO$9:$AO$77,\"13अदीउ४\")=0),\"\",COUNTIF('Entry sheet-2-hin'!$AO$9:$AO$77,\"13अदीउ४\")))","v":""},"",{"$f":"IF(B21=\"\",\"\",IF(AND(COUNTIF('Entry sheet-2-hin'!$AO$9:$AO$77,\"13अदीउ५\")=0),\"\",COUNTIF('Entry sheet-2-hin'!$AO$9:$AO$77,\"13अदीउ५\")))","v":""},"",{"$f":"IF(B21=\"\",\"\",IF(AND(COUNTIF('Entry sheet-2-hin'!$AO$9:$AO$77,\"13रसबवि\")=0),\"\",COUNTIF('Entry sheet-2-hin'!$AO$9:$AO$77,\"13रसबवि\")))","v":""},"",{"$f":"IF(B21=\"\",\"\",IF(AND(COUNTIF('Entry sheet-2-hin'!$AO$9:$AO$77,\"13रसवनि\")=0),\"\",COUNTIF('Entry sheet-2-hin'!$AO$9:$AO$77,\"13रसवनि\")))","v":""},"",{"$f":"IF(B21=\"\",\"\",IF(AND(COUNTIF('Entry sheet-2-hin'!$AO$9:$AO$77,\"13रसअलउ\")=0),\"\",COUNTIF('Entry sheet-2-hin'!$AO$9:$AO$77,\"13रसअलउ\")))","v":""},"",{"$f":"IF(B21=\"\",\"\",IF(AND(COUNTIF('Entry sheet-2-hin'!$AO$9:$AO$77,\"13रसलउ२\")=0),\"\",COUNTIF('Entry sheet-2-hin'!$AO$9:$AO$77,\"13रसलउ२\")))","v":""},"",{"$f":"IF(B21=\"\",\"\",IF(AND(COUNTIF('Entry sheet-2-hin'!$AO$9:$AO$77,\"13रसलउ३\")=0),\"\",COUNTIF('Entry sheet-2-hin'!$AO$9:$AO$77,\"13रसलउ३\")))","v":1},3,{"$f":"IF(B21=\"\",\"\",IF(AND(COUNTIF('Entry sheet-2-hin'!$AO$9:$AO$77,\"13रसदीउ४\")=0),\"\",COUNTIF('Entry sheet-2-hin'!$AO$9:$AO$77,\"13रसदीउ४\")))","v":""},"",{"$f":"IF(B21=\"\",\"\",IF(AND(COUNTIF('Entry sheet-2-hin'!$AO$9:$AO$77,\"13रसदीउ5\")=0),\"\",COUNTIF('Entry sheet-2-hin'!$AO$9:$AO$77,\"13रसदीउ5\")))","v":""},"",0,0,0,0,0,0,0,0,1,3,0,0,0,0,1,3]
[{"$f":"IF('Entry sheet-1-hin'!A23=\"\",\"\",'Entry sheet-1-hin'!A23)","v":14},{"$f":"IF('Entry sheet-1-hin'!B23=\"\",\"\",'Entry sheet-1-hin'!B23)","v":"विनती"},{"$f":"IF(B22=\"\",\"\",IF(AND(COUNTIF('Entry sheet-2-hin'!$AO$9:$AO$77,\"14स्मबवि\")=0),\"\",COUNTIF('Entry sheet-2-hin'!$AO$9:$AO$77,\"14स्मबवि\")))","v":""},"",{"$f":"IF(B22=\"\",\"\",IF(AND(COUNTIF('Entry sheet-2-hin'!$AO$9:$AO$77,\"14स्मवनि\")=0),\"\",COUNTIF('Entry sheet-2-hin'!$AO$9:$AO$77,\"14स्मवनि\")))","v":""},"",{"$f":"IF(B22=\"\",\"\",IF(AND(COUNTIF('Entry sheet-2-hin'!$AO$9:$AO$77,\"14स्मअलउ\")=0),\"\",COUNTIF('Entry sheet-2-hin'!$AO$9:$AO$77,\"14स्मअलउ\")))","v":""},"",{"$f":"IF(B22=\"\",\"\",IF(AND(COUNTIF('Entry sheet-2-hin'!$AO$9:$AO$77,\"14स्मलउ२\")=0),\"\",COUNTIF('Entry sheet-2-hin'!$AO$9:$AO$77,\"14स्मलउ२\")))","v":""},"",{"$f":"IF(B22=\"\",\"\",IF(AND(COUNTIF('Entry sheet-2-hin'!$AO$9:$AO$77,\"14स्मलउ३\")=0),\"\",COUNTIF('Entry sheet-2-hin'!$AO$9:$AO$77,\"14स्मलउ३\")))","v":""},"",{"$f":"IF(B22=\"\",\"\",IF(AND(COUNTIF('Entry sheet-2-hin'!$AO$9:$AO$77,\"14स्मदीउ४\")=0),\"\",COUNTIF('Entry sheet-2-hin'!$AO$9:$AO$77,\"14स्मदीउ४\")))","v":""},"",{"$f":"IF(B22=\"\",\"\",IF(AND(COUNTIF('Entry sheet-2-hin'!$AO$9:$AO$77,\"14स्मदीउ5\")=0),\"\",COUNTIF('Entry sheet-2-hin'!$AO$9:$AO$77,\"14स्मदीउ5\")))","v":""},"",{"$f":"IF(B22=\"\",\"\",IF(AND(COUNTIF('Entry sheet-2-hin'!$AO$9:$AO$77,\"14समबवि\")=0),\"\",COUNTIF('Entry sheet-2-hin'!$AO$9:$AO$77,\"14समबवि\")))","v":""},"",{"$f":"IF(B22=\"\",\"\",IF(AND(COUNTIF('Entry sheet-2-hin'!$AO$9:$AO$77,\"14समवनि\")=0),\"\",COUNTIF('Entry sheet-2-hin'!$AO$9:$AO$77,\"14समवनि\")))","v":""},"",{"$f":"IF(B22=\"\",\"\",IF(AND(COUNTIF('Entry sheet-2-hin'!$AO$9:$AO$77,\"14समअलउ\")=0),\"\",COUNTIF('Entry sheet-2-hin'!$AO$9:$AO$77,\"14समअलउ\")))","v":""},"",{"$f":"IF(B22=\"\",\"\",IF(AND(COUNTIF('Entry sheet-2-hin'!$AO$9:$AO$77,\"14समलउ२\")=0),\"\",COUNTIF('Entry sheet-2-hin'!$AO$9:$AO$77,\"14समलउ२\")))","v":""},"",{"$f":"IF(B22=\"\",\"\",IF(AND(COUNTIF('Entry sheet-2-hin'!$AO$9:$AO$77,\"14समलउ३\")=0),\"\",COUNTIF('Entry sheet-2-hin'!$AO$9:$AO$77,\"14समलउ३\")))","v":""},"",{"$f":"IF(B22=\"\",\"\",IF(AND(COUNTIF('Entry sheet-2-hin'!$AO$9:$AO$77,\"14समदीउ४\")=0),\"\",COUNTIF('Entry sheet-2-hin'!$AO$9:$AO$77,\"14समदीउ४\")))","v":""},"",{"$f":"IF(B22=\"\",\"\",IF(AND(COUNTIF('Entry sheet-2-hin'!$AO$9:$AO$77,\"14समदीउ5\")=0),\"\",COUNTIF('Entry sheet-2-hin'!$AO$9:$AO$77,\"14समदीउ5\")))","v":""},"",{"$f":"IF(B22=\"\",\"\",IF(AND(COUNTIF('Entry sheet-2-hin'!$AO$9:$AO$77,\"14अबवि\")=0),\"\",COUNTIF('Entry sheet-2-hin'!$AO$9:$AO$77,\"14अबवि\")))","v":""},"",{"$f":"IF(B22=\"\",\"\",IF(AND(COUNTIF('Entry sheet-2-hin'!$AO$9:$AO$77,\"14अवनि\")=0),\"\",COUNTIF('Entry sheet-2-hin'!$AO$9:$AO$77,\"14अवनि\")))","v":""},"",{"$f":"IF(B22=\"\",\"\",IF(AND(COUNTIF('Entry sheet-2-hin'!$AO$9:$AO$77,\"14अअलउ\")=0),\"\",COUNTIF('Entry sheet-2-hin'!$AO$9:$AO$77,\"14अअलउ\")))","v":""},"",{"$f":"IF(B22=\"\",\"\",IF(AND(COUNTIF('Entry sheet-2-hin'!$AO$9:$AO$77,\"14अलउ२\")=0),\"\",COUNTIF('Entry sheet-2-hin'!$AO$9:$AO$77,\"14अलउ२\")))","v":""},"",{"$f":"IF(B22=\"\",\"\",IF(AND(COUNTIF('Entry sheet-2-hin'!$AO$9:$AO$77,\"14अलउ३\")=0),\"\",COUNTIF('Entry sheet-2-hin'!$AO$9:$AO$77,\"14अलउ३\")))","v":""},"",{"$f":"IF(B22=\"\",\"\",IF(AND(COUNTIF('Entry sheet-2-hin'!$AO$9:$AO$77,\"14अदीउ४\")=0),\"\",COUNTIF('Entry sheet-2-hin'!$AO$9:$AO$77,\"14अदीउ४\")))","v":""},"",{"$f":"IF(B22=\"\",\"\",IF(AND(COUNTIF('Entry sheet-2-hin'!$AO$9:$AO$77,\"14अदीउ५\")=0),\"\",COUNTIF('Entry sheet-2-hin'!$AO$9:$AO$77,\"14अदीउ५\")))","v":""},"",{"$f":"IF(B22=\"\",\"\",IF(AND(COUNTIF('Entry sheet-2-hin'!$AO$9:$AO$77,\"14रसबवि\")=0),\"\",COUNTIF('Entry sheet-2-hin'!$AO$9:$AO$77,\"14रसबवि\")))","v":""},"",{"$f":"IF(B22=\"\",\"\",IF(AND(COUNTIF('Entry sheet-2-hin'!$AO$9:$AO$77,\"14रसवनि\")=0),\"\",COUNTIF('Entry sheet-2-hin'!$AO$9:$AO$77,\"14रसवनि\")))","v":""},"",{"$f":"IF(B22=\"\",\"\",IF(AND(COUNTIF('Entry sheet-2-hin'!$AO$9:$AO$77,\"14रसअलउ\")=0),\"\",COUNTIF('Entry sheet-2-hin'!$AO$9:$AO$77,\"14रसअलउ\")))","v":""},"",{"$f":"IF(B22=\"\",\"\",IF(AND(COUNTIF('Entry sheet-2-hin'!$AO$9:$AO$77,\"14रसलउ२\")=0),\"\",COUNTIF('Entry sheet-2-hin'!$AO$9:$AO$77,\"14रसलउ२\")))","v":""},"",{"$f":"IF(B22=\"\",\"\",IF(AND(COUNTIF('Entry sheet-2-hin'!$AO$9:$AO$77,\"14रसलउ३\")=0),\"\",COUNTIF('Entry sheet-2-hin'!$AO$9:$AO$77,\"14रसलउ३\")))","v":""},"",{"$f":"IF(B22=\"\",\"\",IF(AND(COUNTIF('Entry sheet-2-hin'!$AO$9:$AO$77,\"14रसदीउ४\")=0),\"\",COUNTIF('Entry sheet-2-hin'!$AO$9:$AO$77,\"14रसदीउ४\")))","v":""},"",{"$f":"IF(B22=\"\",\"\",IF(AND(COUNTIF('Entry sheet-2-hin'!$AO$9:$AO$77,\"14रसदीउ5\")=0),\"\",COUNTIF('Entry sheet-2-hin'!$AO$9:$AO$77,\"14रसदीउ5\")))","v":""},"",0,0,0,0,0,0,0,0,0,0,0,0,0,0,0,0]
[{"$f":"IF('Entry sheet-1-hin'!A24=\"\",\"\",'Entry sheet-1-hin'!A24)","v":15},{"$f":"IF('Entry sheet-1-hin'!B24=\"\",\"\",'Entry sheet-1-hin'!B24)","v":"कोई नहीं पराया"},{"$f":"IF(B23=\"\",\"\",IF(AND(COUNTIF('Entry sheet-2-hin'!$AO$9:$AO$77,\"15स्मबवि\")=0),\"\",COUNTIF('Entry sheet-2-hin'!$AO$9:$AO$77,\"15स्मबवि\")))","v":""},"",{"$f":"IF(B23=\"\",\"\",IF(AND(COUNTIF('Entry sheet-2-hin'!$AO$9:$AO$77,\"15स्मवनि\")=0),\"\",COUNTIF('Entry sheet-2-hin'!$AO$9:$AO$77,\"15स्मवनि\")))","v":""},"",{"$f":"IF(B23=\"\",\"\",IF(AND(COUNTIF('Entry sheet-2-hin'!$AO$9:$AO$77,\"15स्मअलउ\")=0),\"\",COUNTIF('Entry sheet-2-hin'!$AO$9:$AO$77,\"15स्मअलउ\")))","v":""},"",{"$f":"IF(B23=\"\",\"\",IF(AND(COUNTIF('Entry sheet-2-hin'!$AO$9:$AO$77,\"15स्मलउ२\")=0),\"\",COUNTIF('Entry sheet-2-hin'!$AO$9:$AO$77,\"15स्मलउ२\")))","v":""},"",{"$f":"IF(B23=\"\",\"\",IF(AND(COUNTIF('Entry sheet-2-hin'!$AO$9:$AO$77,\"15स्मलउ३\")=0),\"\",COUNTIF('Entry sheet-2-hin'!$AO$9:$AO$77,\"15स्मलउ३\")))","v":""},"",{"$f":"IF(B23=\"\",\"\",IF(AND(COUNTIF('Entry sheet-2-hin'!$AO$9:$AO$77,\"15स्मदीउ४\")=0),\"\",COUNTIF('Entry sheet-2-hin'!$AO$9:$AO$77,\"15स्मदीउ४\")))","v":""},"",{"$f":"IF(B23=\"\",\"\",IF(AND(COUNTIF('Entry sheet-2-hin'!$AO$9:$AO$77,\"15स्मदीउ5\")=0),\"\",COUNTIF('Entry sheet-2-hin'!$AO$9:$AO$77,\"15स्मदीउ5\")))","v":""},"",{"$f":"IF(B23=\"\",\"\",IF(AND(COUNTIF('Entry sheet-2-hin'!$AO$9:$AO$77,\"15समबवि\")=0),\"\",COUNTIF('Entry sheet-2-hin'!$AO$9:$AO$77,\"15समबवि\")))","v":""},"",{"$f":"IF(B23=\"\",\"\",IF(AND(COUNTIF('Entry sheet-2-hin'!$AO$9:$AO$77,\"15समवनि\")=0),\"\",COUNTIF('Entry sheet-2-hin'!$AO$9:$AO$77,\"15समवनि\")))","v":""},"",{"$f":"IF(B23=\"\",\"\",IF(AND(COUNTIF('Entry sheet-2-hin'!$AO$9:$AO$77,\"15समअलउ\")=0),\"\",COUNTIF('Entry sheet-2-hin'!$AO$9:$AO$77,\"15समअलउ\")))","v":""},"",{"$f":"IF(B23=\"\",\"\",IF(AND(COUNTIF('Entry sheet-2-hin'!$AO$9:$AO$77,\"15समलउ२\")=0),\"\",COUNTIF('Entry sheet-2-hin'!$AO$9:$AO$77,\"15समलउ२\")))","v":""},"",{"$f":"IF(B23=\"\",\"\",IF(AND(COUNTIF('Entry sheet-2-hin'!$AO$9:$AO$77,\"15समलउ३\")=0),\"\",COUNTIF('Entry sheet-2-hin'!$AO$9:$AO$77,\"15समलउ३\")))","v":""},"",{"$f":"IF(B23=\"\",\"\",IF(AND(COUNTIF('Entry sheet-2-hin'!$AO$9:$AO$77,\"15समदीउ४\")=0),\"\",COUNTIF('Entry sheet-2-hin'!$AO$9:$AO$77,\"15समदीउ४\")))","v":""},"",{"$f":"IF(B23=\"\",\"\",IF(AND(COUNTIF('Entry sheet-2-hin'!$AO$9:$AO$77,\"15समदीउ5\")=0),\"\",COUNTIF('Entry sheet-2-hin'!$AO$9:$AO$77,\"15समदीउ5\")))","v":""},"",{"$f":"IF(B23=\"\",\"\",IF(AND(COUNTIF('Entry sheet-2-hin'!$AO$9:$AO$77,\"15अबवि\")=0),\"\",COUNTIF('Entry sheet-2-hin'!$AO$9:$AO$77,\"15अबवि\")))","v":""},"",{"$f":"IF(B23=\"\",\"\",IF(AND(COUNTIF('Entry sheet-2-hin'!$AO$9:$AO$77,\"15अवनि\")=0),\"\",COUNTIF('Entry sheet-2-hin'!$AO$9:$AO$77,\"15अवनि\")))","v":""},"",{"$f":"IF(B23=\"\",\"\",IF(AND(COUNTIF('Entry sheet-2-hin'!$AO$9:$AO$77,\"15अअलउ\")=0),\"\",COUNTIF('Entry sheet-2-hin'!$AO$9:$AO$77,\"15अअलउ\")))","v":""},"",{"$f":"IF(B23=\"\",\"\",IF(AND(COUNTIF('Entry sheet-2-hin'!$AO$9:$AO$77,\"15अलउ२\")=0),\"\",COUNTIF('Entry sheet-2-hin'!$AO$9:$AO$77,\"15अलउ२\")))","v":""},"",{"$f":"IF(B23=\"\",\"\",IF(AND(COUNTIF('Entry sheet-2-hin'!$AO$9:$AO$77,\"15अलउ३\")=0),\"\",COUNTIF('Entry sheet-2-hin'!$AO$9:$AO$77,\"15अलउ३\")))","v":""},"",{"$f":"IF(B23=\"\",\"\",IF(AND(COUNTIF('Entry sheet-2-hin'!$AO$9:$AO$77,\"15अदीउ४\")=0),\"\",COUNTIF('Entry sheet-2-hin'!$AO$9:$AO$77,\"15अदीउ४\")))","v":""},"",{"$f":"IF(B23=\"\",\"\",IF(AND(COUNTIF('Entry sheet-2-hin'!$AO$9:$AO$77,\"15अदीउ५\")=0),\"\",COUNTIF('Entry sheet-2-hin'!$AO$9:$AO$77,\"15अदीउ५\")))","v":""},"",{"$f":"IF(B23=\"\",\"\",IF(AND(COUNTIF('Entry sheet-2-hin'!$AO$9:$AO$77,\"15रसबवि\")=0),\"\",COUNTIF('Entry sheet-2-hin'!$AO$9:$AO$77,\"15रसबवि\")))","v":""},"",{"$f":"IF(B23=\"\",\"\",IF(AND(COUNTIF('Entry sheet-2-hin'!$AO$9:$AO$77,\"15रसवनि\")=0),\"\",COUNTIF('Entry sheet-2-hin'!$AO$9:$AO$77,\"15रसवनि\")))","v":""},"",{"$f":"IF(B23=\"\",\"\",IF(AND(COUNTIF('Entry sheet-2-hin'!$AO$9:$AO$77,\"15रसअलउ\")=0),\"\",COUNTIF('Entry sheet-2-hin'!$AO$9:$AO$77,\"15रसअलउ\")))","v":""},"",{"$f":"IF(B23=\"\",\"\",IF(AND(COUNTIF('Entry sheet-2-hin'!$AO$9:$AO$77,\"15रसलउ२\")=0),\"\",COUNTIF('Entry sheet-2-hin'!$AO$9:$AO$77,\"15रसलउ२\")))","v":""},"",{"$f":"IF(B23=\"\",\"\",IF(AND(COUNTIF('Entry sheet-2-hin'!$AO$9:$AO$77,\"15रसलउ३\")=0),\"\",COUNTIF('Entry sheet-2-hin'!$AO$9:$AO$77,\"15रसलउ३\")))","v":""},"",{"$f":"IF(B23=\"\",\"\",IF(AND(COUNTIF('Entry sheet-2-hin'!$AO$9:$AO$77,\"15रसदीउ४\")=0),\"\",COUNTIF('Entry sheet-2-hin'!$AO$9:$AO$77,\"15रसदीउ४\")))","v":""},"",{"$f":"IF(B23=\"\",\"\",IF(AND(COUNTIF('Entry sheet-2-hin'!$AO$9:$AO$77,\"15रसदीउ5\")=0),\"\",COUNTIF('Entry sheet-2-hin'!$AO$9:$AO$77,\"15रसदीउ5\")))","v":""},"",0,0,0,0,0,0,0,0,0,0,0,0,0,0,0,0]
[{"$f":"IF('Entry sheet-1-hin'!A25=\"\",\"\",'Entry sheet-1-hin'!A25)","v":16},{"$f":"IF('Entry sheet-1-hin'!B25=\"\",\"\",'Entry sheet-1-hin'!B25)","v":"कबीर के दोहे"},{"$f":"IF(B24=\"\",\"\",IF(AND(COUNTIF('Entry sheet-2-hin'!$AO$9:$AO$77,\"16स्मबवि\")=0),\"\",COUNTIF('Entry sheet-2-hin'!$AO$9:$AO$77,\"16स्मबवि\")))","v":""},"",{"$f":"IF(B24=\"\",\"\",IF(AND(COUNTIF('Entry sheet-2-hin'!$AO$9:$AO$77,\"16स्मवनि\")=0),\"\",COUNTIF('Entry sheet-2-hin'!$AO$9:$AO$77,\"16स्मवनि\")))","v":""},"",{"$f":"IF(B24=\"\",\"\",IF(AND(COUNTIF('Entry sheet-2-hin'!$AO$9:$AO$77,\"16स्मअलउ\")=0),\"\",COUNTIF('Entry sheet-2-hin'!$AO$9:$AO$77,\"16स्मअलउ\")))","v":""},"",{"$f":"IF(B24=\"\",\"\",IF(AND(COUNTIF('Entry sheet-2-hin'!$AO$9:$AO$77,\"16स्मलउ२\")=0),\"\",COUNTIF('Entry sheet-2-hin'!$AO$9:$AO$77,\"16स्मलउ२\")))","v":""},"",{"$f":"IF(B24=\"\",\"\",IF(AND(COUNTIF('Entry sheet-2-hin'!$AO$9:$AO$77,\"16स्मलउ३\")=0),\"\",COUNTIF('Entry sheet-2-hin'!$AO$9:$AO$77,\"16स्मलउ३\")))","v":""},"",{"$f":"IF(B24=\"\",\"\",IF(AND(COUNTIF('Entry sheet-2-hin'!$AO$9:$AO$77,\"16स्मदीउ४\")=0),\"\",COUNTIF('Entry sheet-2-hin'!$AO$9:$AO$77,\"16स्मदीउ४\")))","v":""},"",{"$f":"IF(B24=\"\",\"\",IF(AND(COUNTIF('Entry sheet-2-hin'!$AO$9:$AO$77,\"16स्मदीउ5\")=0),\"\",COUNTIF('Entry sheet-2-hin'!$AO$9:$AO$77,\"16स्मदीउ5\")))","v":""},"",{"$f":"IF(B24=\"\",\"\",IF(AND(COUNTIF('Entry sheet-2-hin'!$AO$9:$AO$77,\"16समबवि\")=0),\"\",COUNTIF('Entry sheet-2-hin'!$AO$9:$AO$77,\"16समबवि\")))","v":""},"",{"$f":"IF(B24=\"\",\"\",IF(AND(COUNTIF('Entry sheet-2-hin'!$AO$9:$AO$77,\"16समवनि\")=0),\"\",COUNTIF('Entry sheet-2-hin'!$AO$9:$AO$77,\"16समवनि\")))","v":""},"",{"$f":"IF(B24=\"\",\"\",IF(AND(COUNTIF('Entry sheet-2-hin'!$AO$9:$AO$77,\"16समअलउ\")=0),\"\",COUNTIF('Entry sheet-2-hin'!$AO$9:$AO$77,\"16समअलउ\")))","v":""},"",{"$f":"IF(B24=\"\",\"\",IF(AND(COUNTIF('Entry sheet-2-hin'!$AO$9:$AO$77,\"16समलउ२\")=0),\"\",COUNTIF('Entry sheet-2-hin'!$AO$9:$AO$77,\"16समलउ२\")))","v":""},"",{"$f":"IF(B24=\"\",\"\",IF(AND(COUNTIF('Entry sheet-2-hin'!$AO$9:$AO$77,\"16समलउ३\")=0),\"\",COUNTIF('Entry sheet-2-hin'!$AO$9:$AO$77,\"16समलउ३\")))","v":""},"",{"$f":"IF(B24=\"\",\"\",IF(AND(COUNTIF('Entry sheet-2-hin'!$AO$9:$AO$77,\"16समदीउ४\")=0),\"\",COUNTIF('Entry sheet-2-hin'!$AO$9:$AO$77,\"16समदीउ४\")))","v":""},"",{"$f":"IF(B24=\"\",\"\",IF(AND(COUNTIF('Entry sheet-2-hin'!$AO$9:$AO$77,\"16समदीउ5\")=0),\"\",COUNTIF('Entry sheet-2-hin'!$AO$9:$AO$77,\"16समदीउ5\")))","v":""},"",{"$f":"IF(B24=\"\",\"\",IF(AND(COUNTIF('Entry sheet-2-hin'!$AO$9:$AO$77,\"16अबवि\")=0),\"\",COUNTIF('Entry sheet-2-hin'!$AO$9:$AO$77,\"16अबवि\")))","v":""},"",{"$f":"IF(B24=\"\",\"\",IF(AND(COUNTIF('Entry sheet-2-hin'!$AO$9:$AO$77,\"16अवनि\")=0),\"\",COUNTIF('Entry sheet-2-hin'!$AO$9:$AO$77,\"16अवनि\")))","v":""},"",{"$f":"IF(B24=\"\",\"\",IF(AND(COUNTIF('Entry sheet-2-hin'!$AO$9:$AO$77,\"16अअलउ\")=0),\"\",COUNTIF('Entry sheet-2-hin'!$AO$9:$AO$77,\"16अअलउ\")))","v":""},"",{"$f":"IF(B24=\"\",\"\",IF(AND(COUNTIF('Entry sheet-2-hin'!$AO$9:$AO$77,\"16अलउ२\")=0),\"\",COUNTIF('Entry sheet-2-hin'!$AO$9:$AO$77,\"16अलउ२\")))","v":""},"",{"$f":"IF(B24=\"\",\"\",IF(AND(COUNTIF('Entry sheet-2-hin'!$AO$9:$AO$77,\"16अलउ३\")=0),\"\",COUNTIF('Entry sheet-2-hin'!$AO$9:$AO$77,\"16अलउ३\")))","v":""},"",{"$f":"IF(B24=\"\",\"\",IF(AND(COUNTIF('Entry sheet-2-hin'!$AO$9:$AO$77,\"16अदीउ४\")=0),\"\",COUNTIF('Entry sheet-2-hin'!$AO$9:$AO$77,\"16अदीउ४\")))","v":""},"",{"$f":"IF(B24=\"\",\"\",IF(AND(COUNTIF('Entry sheet-2-hin'!$AO$9:$AO$77,\"16अदीउ५\")=0),\"\",COUNTIF('Entry sheet-2-hin'!$AO$9:$AO$77,\"16अदीउ५\")))","v":""},"",{"$f":"IF(B24=\"\",\"\",IF(AND(COUNTIF('Entry sheet-2-hin'!$AO$9:$AO$77,\"16रसबवि\")=0),\"\",COUNTIF('Entry sheet-2-hin'!$AO$9:$AO$77,\"16रसबवि\")))","v":""},"",{"$f":"IF(B24=\"\",\"\",IF(AND(COUNTIF('Entry sheet-2-hin'!$AO$9:$AO$77,\"16रसवनि\")=0),\"\",COUNTIF('Entry sheet-2-hin'!$AO$9:$AO$77,\"16रसवनि\")))","v":""},"",{"$f":"IF(B24=\"\",\"\",IF(AND(COUNTIF('Entry sheet-2-hin'!$AO$9:$AO$77,\"16रसअलउ\")=0),\"\",COUNTIF('Entry sheet-2-hin'!$AO$9:$AO$77,\"16रसअलउ\")))","v":""},"",{"$f":"IF(B24=\"\",\"\",IF(AND(COUNTIF('Entry sheet-2-hin'!$AO$9:$AO$77,\"16रसलउ२\")=0),\"\",COUNTIF('Entry sheet-2-hin'!$AO$9:$AO$77,\"16रसलउ२\")))","v":""},"",{"$f":"IF(B24=\"\",\"\",IF(AND(COUNTIF('Entry sheet-2-hin'!$AO$9:$AO$77,\"16रसलउ३\")=0),\"\",COUNTIF('Entry sheet-2-hin'!$AO$9:$AO$77,\"16रसलउ३\")))","v":""},"",{"$f":"IF(B24=\"\",\"\",IF(AND(COUNTIF('Entry sheet-2-hin'!$AO$9:$AO$77,\"16रसदीउ४\")=0),\"\",COUNTIF('Entry sheet-2-hin'!$AO$9:$AO$77,\"16रसदीउ४\")))","v":""},"",{"$f":"IF(B24=\"\",\"\",IF(AND(COUNTIF('Entry sheet-2-hin'!$AO$9:$AO$77,\"16रसदीउ5\")=0),\"\",COUNTIF('Entry sheet-2-hin'!$AO$9:$AO$77,\"16रसदीउ5\")))","v":""},"",0,0,0,0,0,0,0,0,0,0,0,0,0,0,0,0]
[{"$f":"IF('Entry sheet-1-hin'!A26=\"\",\"\",'Entry sheet-1-hin'!A26)","v":17},{"$f":"IF('Entry sheet-1-hin'!B26=\"\",\"\",'Entry sheet-1-hin'!B26)","v":"कजाकी"},{"$f":"IF(B25=\"\",\"\",IF(AND(COUNTIF('Entry sheet-2-hin'!$AO$9:$AO$77,\"17स्मबवि\")=0),\"\",COUNTIF('Entry sheet-2-hin'!$AO$9:$AO$77,\"17स्मबवि\")))","v":""},"",{"$f":"IF(B25=\"\",\"\",IF(AND(COUNTIF('Entry sheet-2-hin'!$AO$9:$AO$77,\"17स्मवनि\")=0),\"\",COUNTIF('Entry sheet-2-hin'!$AO$9:$AO$77,\"17स्मवनि\")))","v":""},"",{"$f":"IF(B25=\"\",\"\",IF(AND(COUNTIF('Entry sheet-2-hin'!$AO$9:$AO$77,\"17स्मअलउ\")=0),\"\",COUNTIF('Entry sheet-2-hin'!$AO$9:$AO$77,\"17स्मअलउ\")))","v":""},"",{"$f":"IF(B25=\"\",\"\",IF(AND(COUNTIF('Entry sheet-2-hin'!$AO$9:$AO$77,\"17स्मलउ२\")=0),\"\",COUNTIF('Entry sheet-2-hin'!$AO$9:$AO$77,\"17स्मलउ२\")))","v":1},2,{"$f":"IF(B25=\"\",\"\",IF(AND(COUNTIF('Entry sheet-2-hin'!$AO$9:$AO$77,\"17स्मलउ३\")=0),\"\",COUNTIF('Entry sheet-2-hin'!$AO$9:$AO$77,\"17स्मलउ३\")))","v":""},"",{"$f":"IF(B25=\"\",\"\",IF(AND(COUNTIF('Entry sheet-2-hin'!$AO$9:$AO$77,\"17स्मदीउ४\")=0),\"\",COUNTIF('Entry sheet-2-hin'!$AO$9:$AO$77,\"17स्मदीउ४\")))","v":""},"",{"$f":"IF(B25=\"\",\"\",IF(AND(COUNTIF('Entry sheet-2-hin'!$AO$9:$AO$77,\"17स्मदीउ5\")=0),\"\",COUNTIF('Entry sheet-2-hin'!$AO$9:$AO$77,\"17स्मदीउ5\")))","v":""},"",{"$f":"IF(B25=\"\",\"\",IF(AND(COUNTIF('Entry sheet-2-hin'!$AO$9:$AO$77,\"17समबवि\")=0),\"\",COUNTIF('Entry sheet-2-hin'!$AO$9:$AO$77,\"17समबवि\")))","v":""},"",{"$f":"IF(B25=\"\",\"\",IF(AND(COUNTIF('Entry sheet-2-hin'!$AO$9:$AO$77,\"17समवनि\")=0),\"\",COUNTIF('Entry sheet-2-hin'!$AO$9:$AO$77,\"17समवनि\")))","v":""},"",{"$f":"IF(B25=\"\",\"\",IF(AND(COUNTIF('Entry sheet-2-hin'!$AO$9:$AO$77,\"17समअलउ\")=0),\"\",COUNTIF('Entry sheet-2-hin'!$AO$9:$AO$77,\"17समअलउ\")))","v":""},"",{"$f":"IF(B25=\"\",\"\",IF(AND(COUNTIF('Entry sheet-2-hin'!$AO$9:$AO$77,\"17समलउ२\")=0),\"\",COUNTIF('Entry sheet-2-hin'!$AO$9:$AO$77,\"17समलउ२\")))","v":""},"",{"$f":"IF(B25=\"\",\"\",IF(AND(COUNTIF('Entry sheet-2-hin'!$AO$9:$AO$77,\"17समलउ३\")=0),\"\",COUNTIF('Entry sheet-2-hin'!$AO$9:$AO$77,\"17समलउ३\")))","v":""},"",{"$f":"IF(B25=\"\",\"\",IF(AND(COUNTIF('Entry sheet-2-hin'!$AO$9:$AO$77,\"17समदीउ४\")=0),\"\",COUNTIF('Entry sheet-2-hin'!$AO$9:$AO$77,\"17समदीउ४\")))","v":""},"",{"$f":"IF(B25=\"\",\"\",IF(AND(COUNTIF('Entry sheet-2-hin'!$AO$9:$AO$77,\"17समदीउ5\")=0),\"\",COUNTIF('Entry sheet-2-hin'!$AO$9:$AO$77,\"17समदीउ5\")))","v":""},"",{"$f":"IF(B25=\"\",\"\",IF(AND(COUNTIF('Entry sheet-2-hin'!$AO$9:$AO$77,\"17अबवि\")=0),\"\",COUNTIF('Entry sheet-2-hin'!$AO$9:$AO$77,\"17अबवि\")))","v":""},"",{"$f":"IF(B25=\"\",\"\",IF(AND(COUNTIF('Entry sheet-2-hin'!$AO$9:$AO$77,\"17अवनि\")=0),\"\",COUNTIF('Entry sheet-2-hin'!$AO$9:$AO$77,\"17अवनि\")))","v":""},"",{"$f":"IF(B25=\"\",\"\",IF(AND(COUNTIF('Entry sheet-2-hin'!$AO$9:$AO$77,\"17अअलउ\")=0),\"\",COUNTIF('Entry sheet-2-hin'!$AO$9:$AO$77,\"17अअलउ\")))","v":""},"",{"$f":"IF(B25=\"\",\"\",IF(AND(COUNTIF('Entry sheet-2-hin'!$AO$9:$AO$77,\"17अलउ२\")=0),\"\",COUNTIF('Entry sheet-2-hin'!$AO$9:$AO$77,\"17अलउ२\")))","v":""},"",{"$f":"IF(B25=\"\",\"\",IF(AND(COUNTIF('Entry sheet-2-hin'!$AO$9:$AO$77,\"17अलउ३\")=0),\"\",COUNTIF('Entry sheet-2-hin'!$AO$9:$AO$77,\"17अलउ३\")))","v":""},"",{"$f":"IF(B25=\"\",\"\",IF(AND(COUNTIF('Entry sheet-2-hin'!$AO$9:$AO$77,\"17अदीउ४\")=0),\"\",COUNTIF('Entry sheet-2-hin'!$AO$9:$AO$77,\"17अदीउ४\")))","v":""},"",{"$f":"IF(B25=\"\",\"\",IF(AND(COUNTIF('Entry sheet-2-hin'!$AO$9:$AO$77,\"17अदीउ५\")=0),\"\",COUNTIF('Entry sheet-2-hin'!$AO$9:$AO$77,\"17अदीउ५\")))","v":""},"",{"$f":"IF(B25=\"\",\"\",IF(AND(COUNTIF('Entry sheet-2-hin'!$AO$9:$AO$77,\"17रसबवि\")=0),\"\",COUNTIF('Entry sheet-2-hin'!$AO$9:$AO$77,\"17रसबवि\")))","v":""},"",{"$f":"IF(B25=\"\",\"\",IF(AND(COUNTIF('Entry sheet-2-hin'!$AO$9:$AO$77,\"17रसवनि\")=0),\"\",COUNTIF('Entry sheet-2-hin'!$AO$9:$AO$77,\"17रसवनि\")))","v":""},"",{"$f":"IF(B25=\"\",\"\",IF(AND(COUNTIF('Entry sheet-2-hin'!$AO$9:$AO$77,\"17रसअलउ\")=0),\"\",COUNTIF('Entry sheet-2-hin'!$AO$9:$AO$77,\"17रसअलउ\")))","v":""},"",{"$f":"IF(B25=\"\",\"\",IF(AND(COUNTIF('Entry sheet-2-hin'!$AO$9:$AO$77,\"17रसलउ२\")=0),\"\",COUNTIF('Entry sheet-2-hin'!$AO$9:$AO$77,\"17रसलउ२\")))","v":""},"",{"$f":"IF(B25=\"\",\"\",IF(AND(COUNTIF('Entry sheet-2-hin'!$AO$9:$AO$77,\"17रसलउ३\")=0),\"\",COUNTIF('Entry sheet-2-hin'!$AO$9:$AO$77,\"17रसलउ३\")))","v":""},"",{"$f":"IF(B25=\"\",\"\",IF(AND(COUNTIF('Entry sheet-2-hin'!$AO$9:$AO$77,\"17रसदीउ४\")=0),\"\",COUNTIF('Entry sheet-2-hin'!$AO$9:$AO$77,\"17रसदीउ४\")))","v":""},"",{"$f":"IF(B25=\"\",\"\",IF(AND(COUNTIF('Entry sheet-2-hin'!$AO$9:$AO$77,\"17रसदीउ5\")=0),\"\",COUNTIF('Entry sheet-2-hin'!$AO$9:$AO$77,\"17रसदीउ5\")))","v":""},"",0,0,0,0,0,0,1,2,0,0,0,0,0,0,1,2]
[{"$f":"IF('Entry sheet-1-hin'!A27=\"\",\"\",'Entry sheet-1-hin'!A27)","v":18},{"$f":"IF('Entry sheet-1-hin'!B27=\"\",\"\",'Entry sheet-1-hin'!B27)","v":"वीर मालव जी"},{"$f":"IF(B26=\"\",\"\",IF(AND(COUNTIF('Entry sheet-2-hin'!$AO$9:$AO$77,\"18स्मबवि\")=0),\"\",COUNTIF('Entry sheet-2-hin'!$AO$9:$AO$77,\"18स्मबवि\")))","v":""},"",{"$f":"IF(B26=\"\",\"\",IF(AND(COUNTIF('Entry sheet-2-hin'!$AO$9:$AO$77,\"18स्मवनि\")=0),\"\",COUNTIF('Entry sheet-2-hin'!$AO$9:$AO$77,\"18स्मवनि\")))","v":""},"",{"$f":"IF(B26=\"\",\"\",IF(AND(COUNTIF('Entry sheet-2-hin'!$AO$9:$AO$77,\"18स्मअलउ\")=0),\"\",COUNTIF('Entry sheet-2-hin'!$AO$9:$AO$77,\"18स्मअलउ\")))","v":""},"",{"$f":"IF(B26=\"\",\"\",IF(AND(COUNTIF('Entry sheet-2-hin'!$AO$9:$AO$77,\"18स्मलउ२\")=0),\"\",COUNTIF('Entry sheet-2-hin'!$AO$9:$AO$77,\"18स्मलउ२\")))","v":""},"",{"$f":"IF(B26=\"\",\"\",IF(AND(COUNTIF('Entry sheet-2-hin'!$AO$9:$AO$77,\"18स्मलउ३\")=0),\"\",COUNTIF('Entry sheet-2-hin'!$AO$9:$AO$77,\"18स्मलउ३\")))","v":""},"",{"$f":"IF(B26=\"\",\"\",IF(AND(COUNTIF('Entry sheet-2-hin'!$AO$9:$AO$77,\"18स्मदीउ४\")=0),\"\",COUNTIF('Entry sheet-2-hin'!$AO$9:$AO$77,\"18स्मदीउ४\")))","v":""},"",{"$f":"IF(B26=\"\",\"\",IF(AND(COUNTIF('Entry sheet-2-hin'!$AO$9:$AO$77,\"18स्मदीउ5\")=0),\"\",COUNTIF('Entry sheet-2-hin'!$AO$9:$AO$77,\"18स्मदीउ5\")))","v":""},"",{"$f":"IF(B26=\"\",\"\",IF(AND(COUNTIF('Entry sheet-2-hin'!$AO$9:$AO$77,\"18समबवि\")=0),\"\",COUNTIF('Entry sheet-2-hin'!$AO$9:$AO$77,\"18समबवि\")))","v":""},"",{"$f":"IF(B26=\"\",\"\",IF(AND(COUNTIF('Entry sheet-2-hin'!$AO$9:$AO$77,\"18समवनि\")=0),\"\",COUNTIF('Entry sheet-2-hin'!$AO$9:$AO$77,\"18समवनि\")))","v":""},"",{"$f":"IF(B26=\"\",\"\",IF(AND(COUNTIF('Entry sheet-2-hin'!$AO$9:$AO$77,\"18समअलउ\")=0),\"\",COUNTIF('Entry sheet-2-hin'!$AO$9:$AO$77,\"18समअलउ\")))","v":""},"",{"$f":"IF(B26=\"\",\"\",IF(AND(COUNTIF('Entry sheet-2-hin'!$AO$9:$AO$77,\"18समलउ२\")=0),\"\",COUNTIF('Entry sheet-2-hin'!$AO$9:$AO$77,\"18समलउ२\")))","v":""},"",{"$f":"IF(B26=\"\",\"\",IF(AND(COUNTIF('Entry sheet-2-hin'!$AO$9:$AO$77,\"18समलउ३\")=0),\"\",COUNTIF('Entry sheet-2-hin'!$AO$9:$AO$77,\"18समलउ३\")))","v":""},"",{"$f":"IF(B26=\"\",\"\",IF(AND(COUNTIF('Entry sheet-2-hin'!$AO$9:$AO$77,\"18समदीउ४\")=0),\"\",COUNTIF('Entry sheet-2-hin'!$AO$9:$AO$77,\"18समदीउ४\")))","v":""},"",{"$f":"IF(B26=\"\",\"\",IF(AND(COUNTIF('Entry sheet-2-hin'!$AO$9:$AO$77,\"18समदीउ5\")=0),\"\",COUNTIF('Entry sheet-2-hin'!$AO$9:$AO$77,\"18समदीउ5\")))","v":""},"",{"$f":"IF(B26=\"\",\"\",IF(AND(COUNTIF('Entry sheet-2-hin'!$AO$9:$AO$77,\"18अबवि\")=0),\"\",COUNTIF('Entry sheet-2-hin'!$AO$9:$AO$77,\"18अबवि\")))","v":""},"",{"$f":"IF(B26=\"\",\"\",IF(AND(COUNTIF('Entry sheet-2-hin'!$AO$9:$AO$77,\"18अवनि\")=0),\"\",COUNTIF('Entry sheet-2-hin'!$AO$9:$AO$77,\"18अवनि\")))","v":""},"",{"$f":"IF(B26=\"\",\"\",IF(AND(COUNTIF('Entry sheet-2-hin'!$AO$9:$AO$77,\"18अअलउ\")=0),\"\",COUNTIF('Entry sheet-2-hin'!$AO$9:$AO$77,\"18अअलउ\")))","v":""},"",{"$f":"IF(B26=\"\",\"\",IF(AND(COUNTIF('Entry sheet-2-hin'!$AO$9:$AO$77,\"18अलउ२\")=0),\"\",COUNTIF('Entry sheet-2-hin'!$AO$9:$AO$77,\"18अलउ२\")))","v":""},"",{"$f":"IF(B26=\"\",\"\",IF(AND(COUNTIF('Entry sheet-2-hin'!$AO$9:$AO$77,\"18अलउ३\")=0),\"\",COUNTIF('Entry sheet-2-hin'!$AO$9:$AO$77,\"18अलउ३\")))","v":""},"",{"$f":"IF(B26=\"\",\"\",IF(AND(COUNTIF('Entry sheet-2-hin'!$AO$9:$AO$77,\"18अदीउ४\")=0),\"\",COUNTIF('Entry sheet-2-hin'!$AO$9:$AO$77,\"18अदीउ४\")))","v":""},"",{"$f":"IF(B26=\"\",\"\",IF(AND(COUNTIF('Entry sheet-2-hin'!$AO$9:$AO$77,\"18अदीउ५\")=0),\"\",COUNTIF('Entry sheet-2-hin'!$AO$9:$AO$77,\"18अदीउ५\")))","v":""},"",{"$f":"IF(B26=\"\",\"\",IF(AND(COUNTIF('Entry sheet-2-hin'!$AO$9:$AO$77,\"18रसबवि\")=0),\"\",COUNTIF('Entry sheet-2-hin'!$AO$9:$AO$77,\"18रसबवि\")))","v":""},"",{"$f":"IF(B26=\"\",\"\",IF(AND(COUNTIF('Entry sheet-2-hin'!$AO$9:$AO$77,\"18रसवनि\")=0),\"\",COUNTIF('Entry sheet-2-hin'!$AO$9:$AO$77,\"18रसवनि\")))","v":""},"",{"$f":"IF(B26=\"\",\"\",IF(AND(COUNTIF('Entry sheet-2-hin'!$AO$9:$AO$77,\"18रसअलउ\")=0),\"\",COUNTIF('Entry sheet-2-hin'!$AO$9:$AO$77,\"18रसअलउ\")))","v":""},"",{"$f":"IF(B26=\"\",\"\",IF(AND(COUNTIF('Entry sheet-2-hin'!$AO$9:$AO$77,\"18रसलउ२\")=0),\"\",COUNTIF('Entry sheet-2-hin'!$AO$9:$AO$77,\"18रसलउ२\")))","v":""},"",{"$f":"IF(B26=\"\",\"\",IF(AND(COUNTIF('Entry sheet-2-hin'!$AO$9:$AO$77,\"18रसलउ३\")=0),\"\",COUNTIF('Entry sheet-2-hin'!$AO$9:$AO$77,\"18रसलउ३\")))","v":""},"",{"$f":"IF(B26=\"\",\"\",IF(AND(COUNTIF('Entry sheet-2-hin'!$AO$9:$AO$77,\"18रसदीउ४\")=0),\"\",COUNTIF('Entry sheet-2-hin'!$AO$9:$AO$77,\"18रसदीउ४\")))","v":""},"",{"$f":"IF(B26=\"\",\"\",IF(AND(COUNTIF('Entry sheet-2-hin'!$AO$9:$AO$77,\"18रसदीउ5\")=0),\"\",COUNTIF('Entry sheet-2-hin'!$AO$9:$AO$77,\"18रसदीउ5\")))","v":""},"",0,0,0,0,0,0,0,0,0,0,0,0,0,0,0,0]
[{"$f":"IF('Entry sheet-1-hin'!A28=\"\",\"\",'Entry sheet-1-hin'!A28)","v":19},{"$f":"IF('Entry sheet-1-hin'!B28=\"\",\"\",'Entry sheet-1-hin'!B28)","v":"वृक्ष हमारे जीवन-साथी"},{"$f":"IF(B27=\"\",\"\",IF(AND(COUNTIF('Entry sheet-2-hin'!$AO$9:$AO$77,\"19स्मबवि\")=0),\"\",COUNTIF('Entry sheet-2-hin'!$AO$9:$AO$77,\"19स्मबवि\")))","v":""},"",{"$f":"IF(B27=\"\",\"\",IF(AND(COUNTIF('Entry sheet-2-hin'!$AO$9:$AO$77,\"19स्मवनि\")=0),\"\",COUNTIF('Entry sheet-2-hin'!$AO$9:$AO$77,\"19स्मवनि\")))","v":""},"",{"$f":"IF(B27=\"\",\"\",IF(AND(COUNTIF('Entry sheet-2-hin'!$AO$9:$AO$77,\"19स्मअलउ\")=0),\"\",COUNTIF('Entry sheet-2-hin'!$AO$9:$AO$77,\"19स्मअलउ\")))","v":""},"",{"$f":"IF(B27=\"\",\"\",IF(AND(COUNTIF('Entry sheet-2-hin'!$AO$9:$AO$77,\"19स्मलउ२\")=0),\"\",COUNTIF('Entry sheet-2-hin'!$AO$9:$AO$77,\"19स्मलउ२\")))","v":""},"",{"$f":"IF(B27=\"\",\"\",IF(AND(COUNTIF('Entry sheet-2-hin'!$AO$9:$AO$77,\"19स्मलउ३\")=0),\"\",COUNTIF('Entry sheet-2-hin'!$AO$9:$AO$77,\"19स्मलउ३\")))","v":""},"",{"$f":"IF(B27=\"\",\"\",IF(AND(COUNTIF('Entry sheet-2-hin'!$AO$9:$AO$77,\"19स्मदीउ४\")=0),\"\",COUNTIF('Entry sheet-2-hin'!$AO$9:$AO$77,\"19स्मदीउ४\")))","v":""},"",{"$f":"IF(B27=\"\",\"\",IF(AND(COUNTIF('Entry sheet-2-hin'!$AO$9:$AO$77,\"19स्मदीउ5\")=0),\"\",COUNTIF('Entry sheet-2-hin'!$AO$9:$AO$77,\"19स्मदीउ5\")))","v":""},"",{"$f":"IF(B27=\"\",\"\",IF(AND(COUNTIF('Entry sheet-2-hin'!$AO$9:$AO$77,\"19समबवि\")=0),\"\",COUNTIF('Entry sheet-2-hin'!$AO$9:$AO$77,\"19समबवि\")))","v":""},"",{"$f":"IF(B27=\"\",\"\",IF(AND(COUNTIF('Entry sheet-2-hin'!$AO$9:$AO$77,\"19समवनि\")=0),\"\",COUNTIF('Entry sheet-2-hin'!$AO$9:$AO$77,\"19समवनि\")))","v":""},"",{"$f":"IF(B27=\"\",\"\",IF(AND(COUNTIF('Entry sheet-2-hin'!$AO$9:$AO$77,\"19समअलउ\")=0),\"\",COUNTIF('Entry sheet-2-hin'!$AO$9:$AO$77,\"19समअलउ\")))","v":""},"",{"$f":"IF(B27=\"\",\"\",IF(AND(COUNTIF('Entry sheet-2-hin'!$AO$9:$AO$77,\"19समलउ२\")=0),\"\",COUNTIF('Entry sheet-2-hin'!$AO$9:$AO$77,\"19समलउ२\")))","v":""},"",{"$f":"IF(B27=\"\",\"\",IF(AND(COUNTIF('Entry sheet-2-hin'!$AO$9:$AO$77,\"19समलउ३\")=0),\"\",COUNTIF('Entry sheet-2-hin'!$AO$9:$AO$77,\"19समलउ३\")))","v":""},"",{"$f":"IF(B27=\"\",\"\",IF(AND(COUNTIF('Entry sheet-2-hin'!$AO$9:$AO$77,\"19समदीउ४\")=0),\"\",COUNTIF('Entry sheet-2-hin'!$AO$9:$AO$77,\"19समदीउ४\")))","v":""},"",{"$f":"IF(B27=\"\",\"\",IF(AND(COUNTIF('Entry sheet-2-hin'!$AO$9:$AO$77,\"19समदीउ5\")=0),\"\",COUNTIF('Entry sheet-2-hin'!$AO$9:$AO$77,\"19समदीउ5\")))","v":""},"",{"$f":"IF(B27=\"\",\"\",IF(AND(COUNTIF('Entry sheet-2-hin'!$AO$9:$AO$77,\"19अबवि\")=0),\"\",COUNTIF('Entry sheet-2-hin'!$AO$9:$AO$77,\"19अबवि\")))","v":""},"",{"$f":"IF(B27=\"\",\"\",IF(AND(COUNTIF('Entry sheet-2-hin'!$AO$9:$AO$77,\"19अवनि\")=0),\"\",COUNTIF('Entry sheet-2-hin'!$AO$9:$AO$77,\"19अवनि\")))","v":""},"",{"$f":"IF(B27=\"\",\"\",IF(AND(COUNTIF('Entry sheet-2-hin'!$AO$9:$AO$77,\"19अअलउ\")=0),\"\",COUNTIF('Entry sheet-2-hin'!$AO$9:$AO$77,\"19अअलउ\")))","v":""},"",{"$f":"IF(B27=\"\",\"\",IF(AND(COUNTIF('Entry sheet-2-hin'!$AO$9:$AO$77,\"19अलउ२\")=0),\"\",COUNTIF('Entry sheet-2-hin'!$AO$9:$AO$77,\"19अलउ२\")))","v":""},"",{"$f":"IF(B27=\"\",\"\",IF(AND(COUNTIF('Entry sheet-2-hin'!$AO$9:$AO$77,\"19अलउ३\")=0),\"\",COUNTIF('Entry sheet-2-hin'!$AO$9:$AO$77,\"19अलउ३\")))","v":""},"",{"$f":"IF(B27=\"\",\"\",IF(AND(COUNTIF('Entry sheet-2-hin'!$AO$9:$AO$77,\"19अदीउ४\")=0),\"\",COUNTIF('Entry sheet-2-hin'!$AO$9:$AO$77,\"19अदीउ४\")))","v":""},"",{"$f":"IF(B27=\"\",\"\",IF(AND(COUNTIF('Entry sheet-2-hin'!$AO$9:$AO$77,\"19अदीउ५\")=0),\"\",COUNTIF('Entry sheet-2-hin'!$AO$9:$AO$77,\"19अदीउ५\")))","v":""},"",{"$f":"IF(B27=\"\",\"\",IF(AND(COUNTIF('Entry sheet-2-hin'!$AO$9:$AO$77,\"19रसबवि\")=0),\"\",COUNTIF('Entry sheet-2-hin'!$AO$9:$AO$77,\"19रसबवि\")))","v":""},"",{"$f":"IF(B27=\"\",\"\",IF(AND(COUNTIF('Entry sheet-2-hin'!$AO$9:$AO$77,\"19रसवनि\")=0),\"\",COUNTIF('Entry sheet-2-hin'!$AO$9:$AO$77,\"19रसवनि\")))","v":""},"",{"$f":"IF(B27=\"\",\"\",IF(AND(COUNTIF('Entry sheet-2-hin'!$AO$9:$AO$77,\"19रसअलउ\")=0),\"\",COUNTIF('Entry sheet-2-hin'!$AO$9:$AO$77,\"19रसअलउ\")))","v":""},"",{"$f":"IF(B27=\"\",\"\",IF(AND(COUNTIF('Entry sheet-2-hin'!$AO$9:$AO$77,\"19रसलउ२\")=0),\"\",COUNTIF('Entry sheet-2-hin'!$AO$9:$AO$77,\"19रसलउ२\")))","v":""},"",{"$f":"IF(B27=\"\",\"\",IF(AND(COUNTIF('Entry sheet-2-hin'!$AO$9:$AO$77,\"19रसलउ३\")=0),\"\",COUNTIF('Entry sheet-2-hin'!$AO$9:$AO$77,\"19रसलउ३\")))","v":""},"",{"$f":"IF(B27=\"\",\"\",IF(AND(COUNTIF('Entry sheet-2-hin'!$AO$9:$AO$77,\"19रसदीउ४\")=0),\"\",COUNTIF('Entry sheet-2-hin'!$AO$9:$AO$77,\"19रसदीउ४\")))","v":""},"",{"$f":"IF(B27=\"\",\"\",IF(AND(COUNTIF('Entry sheet-2-hin'!$AO$9:$AO$77,\"19रसदीउ5\")=0),\"\",COUNTIF('Entry sheet-2-hin'!$AO$9:$AO$77,\"19रसदीउ5\")))","v":""},"",0,0,0,0,0,0,0,0,0,0,0,0,0,0,0,0]
[{"$f":"IF('Entry sheet-1-hin'!A29=\"\",\"\",'Entry sheet-1-hin'!A29)","v":20},{"$f":"IF('Entry sheet-1-hin'!B29=\"\",\"\",'Entry sheet-1-hin'!B29)","v":"अपठित गद्यांश"},{"$f":"IF(B28=\"\",\"\",IF(AND(COUNTIF('Entry sheet-2-hin'!$AO$9:$AO$77,\"20स्मबवि\")=0),\"\",COUNTIF('Entry sheet-2-hin'!$AO$9:$AO$77,\"20स्मबवि\")))","v":""},"",{"$f":"IF(B28=\"\",\"\",IF(AND(COUNTIF('Entry sheet-2-hin'!$AO$9:$AO$77,\"20स्मवनि\")=0),\"\",COUNTIF('Entry sheet-2-hin'!$AO$9:$AO$77,\"20स्मवनि\")))","v":""},"",{"$f":"IF(B28=\"\",\"\",IF(AND(COUNTIF('Entry sheet-2-hin'!$AO$9:$AO$77,\"20स्मअलउ\")=0),\"\",COUNTIF('Entry sheet-2-hin'!$AO$9:$AO$77,\"20स्मअलउ\")))","v":""},"",{"$f":"IF(B28=\"\",\"\",IF(AND(COUNTIF('Entry sheet-2-hin'!$AO$9:$AO$77,\"20स्मलउ२\")=0),\"\",COUNTIF('Entry sheet-2-hin'!$AO$9:$AO$77,\"20स्मलउ२\")))","v":""},"",{"$f":"IF(B28=\"\",\"\",IF(AND(COUNTIF('Entry sheet-2-hin'!$AO$9:$AO$77,\"20स्मलउ३\")=0),\"\",COUNTIF('Entry sheet-2-hin'!$AO$9:$AO$77,\"20स्मलउ३\")))","v":""},"",{"$f":"IF(B28=\"\",\"\",IF(AND(COUNTIF('Entry sheet-2-hin'!$AO$9:$AO$77,\"20स्मदीउ४\")=0),\"\",COUNTIF('Entry sheet-2-hin'!$AO$9:$AO$77,\"20स्मदीउ४\")))","v":""},"",{"$f":"IF(B28=\"\",\"\",IF(AND(COUNTIF('Entry sheet-2-hin'!$AO$9:$AO$77,\"20स्मदीउ5\")=0),\"\",COUNTIF('Entry sheet-2-hin'!$AO$9:$AO$77,\"20स्मदीउ5\")))","v":""},"",{"$f":"IF(B28=\"\",\"\",IF(AND(COUNTIF('Entry sheet-2-hin'!$AO$9:$AO$77,\"20समबवि\")=0),\"\",COUNTIF('Entry sheet-2-hin'!$AO$9:$AO$77,\"20समबवि\")))","v":""},"",{"$f":"IF(B28=\"\",\"\",IF(AND(COUNTIF('Entry sheet-2-hin'!$AO$9:$AO$77,\"20समवनि\")=0),\"\",COUNTIF('Entry sheet-2-hin'!$AO$9:$AO$77,\"20समवनि\")))","v":""},"",{"$f":"IF(B28=\"\",\"\",IF(AND(COUNTIF('Entry sheet-2-hin'!$AO$9:$AO$77,\"20समअलउ\")=0),\"\",COUNTIF('Entry sheet-2-hin'!$AO$9:$AO$77,\"20समअलउ\")))","v":2},2,{"$f":"IF(B28=\"\",\"\",IF(AND(COUNTIF('Entry sheet-2-hin'!$AO$9:$AO$77,\"20समलउ२\")=0),\"\",COUNTIF('Entry sheet-2-hin'!$AO$9:$AO$77,\"20समलउ२\")))","v":""},"",{"$f":"IF(B28=\"\",\"\",IF(AND(COUNTIF('Entry sheet-2-hin'!$AO$9:$AO$77,\"20समलउ३\")=0),\"\",COUNTIF('Entry sheet-2-hin'!$AO$9:$AO$77,\"20समलउ३\")))","v":""},"",{"$f":"IF(B28=\"\",\"\",IF(AND(COUNTIF('Entry sheet-2-hin'!$AO$9:$AO$77,\"20समदीउ४\")=0),\"\",COUNTIF('Entry sheet-2-hin'!$AO$9:$AO$77,\"20समदीउ४\")))","v":""},"",{"$f":"IF(B28=\"\",\"\",IF(AND(COUNTIF('Entry sheet-2-hin'!$AO$9:$AO$77,\"20समदीउ5\")=0),\"\",COUNTIF('Entry sheet-2-hin'!$AO$9:$AO$77,\"20समदीउ5\")))","v":""},"",{"$f":"IF(B28=\"\",\"\",IF(AND(COUNTIF('Entry sheet-2-hin'!$AO$9:$AO$77,\"20अबवि\")=0),\"\",COUNTIF('Entry sheet-2-hin'!$AO$9:$AO$77,\"20अबवि\")))","v":""},"",{"$f":"IF(B28=\"\",\"\",IF(AND(COUNTIF('Entry sheet-2-hin'!$AO$9:$AO$77,\"20अवनि\")=0),\"\",COUNTIF('Entry sheet-2-hin'!$AO$9:$AO$77,\"20अवनि\")))","v":""},"",{"$f":"IF(B28=\"\",\"\",IF(AND(COUNTIF('Entry sheet-2-hin'!$AO$9:$AO$77,\"20अअलउ\")=0),\"\",COUNTIF('Entry sheet-2-hin'!$AO$9:$AO$77,\"20अअलउ\")))","v":""},"",{"$f":"IF(B28=\"\",\"\",IF(AND(COUNTIF('Entry sheet-2-hin'!$AO$9:$AO$77,\"20अलउ२\")=0),\"\",COUNTIF('Entry sheet-2-hin'!$AO$9:$AO$77,\"20अलउ२\")))","v":""},"",{"$f":"IF(B28=\"\",\"\",IF(AND(COUNTIF('Entry sheet-2-hin'!$AO$9:$AO$77,\"20अलउ३\")=0),\"\",COUNTIF('Entry sheet-2-hin'!$AO$9:$AO$77,\"20अलउ३\")))","v":""},"",{"$f":"IF(B28=\"\",\"\",IF(AND(COUNTIF('Entry sheet-2-hin'!$AO$9:$AO$77,\"20अदीउ४\")=0),\"\",COUNTIF('Entry sheet-2-hin'!$AO$9:$AO$77,\"20अदीउ४\")))","v":""},"",{"$f":"IF(B28=\"\",\"\",IF(AND(COUNTIF('Entry sheet-2-hin'!$AO$9:$AO$77,\"20अदीउ५\")=0),\"\",COUNTIF('Entry sheet-2-hin'!$AO$9:$AO$77,\"20अदीउ५\")))","v":""},"",{"$f":"IF(B28=\"\",\"\",IF(AND(COUNTIF('Entry sheet-2-hin'!$AO$9:$AO$77,\"20रसबवि\")=0),\"\",COUNTIF('Entry sheet-2-hin'!$AO$9:$AO$77,\"20रसबवि\")))","v":""},"",{"$f":"IF(B28=\"\",\"\",IF(AND(COUNTIF('Entry sheet-2-hin'!$AO$9:$AO$77,\"20रसवनि\")=0),\"\",COUNTIF('Entry sheet-2-hin'!$AO$9:$AO$77,\"20रसवनि\")))","v":""},"",{"$f":"IF(B28=\"\",\"\",IF(AND(COUNTIF('Entry sheet-2-hin'!$AO$9:$AO$77,\"20रसअलउ\")=0),\"\",COUNTIF('Entry sheet-2-hin'!$AO$9:$AO$77,\"20रसअलउ\")))","v":""},"",{"$f":"IF(B28=\"\",\"\",IF(AND(COUNTIF('Entry sheet-2-hin'!$AO$9:$AO$77,\"20रसलउ२\")=0),\"\",COUNTIF('Entry sheet-2-hin'!$AO$9:$AO$77,\"20रसलउ२\")))","v":""},"",{"$f":"IF(B28=\"\",\"\",IF(AND(COUNTIF('Entry sheet-2-hin'!$AO$9:$AO$77,\"20रसलउ३\")=0),\"\",COUNTIF('Entry sheet-2-hin'!$AO$9:$AO$77,\"20रसलउ३\")))","v":""},"",{"$f":"IF(B28=\"\",\"\",IF(AND(COUNTIF('Entry sheet-2-hin'!$AO$9:$AO$77,\"20रसदीउ४\")=0),\"\",COUNTIF('Entry sheet-2-hin'!$AO$9:$AO$77,\"20रसदीउ४\")))","v":""},"",{"$f":"IF(B28=\"\",\"\",IF(AND(COUNTIF('Entry sheet-2-hin'!$AO$9:$AO$77,\"20रसदीउ5\")=0),\"\",COUNTIF('Entry sheet-2-hin'!$AO$9:$AO$77,\"20रसदीउ5\")))","v":""},"",0,0,0,0,2,2,0,0,0,0,0,0,0,0,2,2]
[{"$f":"IF('Entry sheet-1-hin'!A30=\"\",\"\",'Entry sheet-1-hin'!A30)","v":21},{"$f":"IF('Entry sheet-1-hin'!B30=\"\",\"\",'Entry sheet-1-hin'!B30)","v":"अनुवाद"},{"$f":"IF(B29=\"\",\"\",IF(AND(COUNTIF('Entry sheet-2-hin'!$AO$9:$AO$77,\"21स्मबवि\")=0),\"\",COUNTIF('Entry sheet-2-hin'!$AO$9:$AO$77,\"21स्मबवि\")))","v":""},"",{"$f":"IF(B29=\"\",\"\",IF(AND(COUNTIF('Entry sheet-2-hin'!$AO$9:$AO$77,\"21स्मवनि\")=0),\"\",COUNTIF('Entry sheet-2-hin'!$AO$9:$AO$77,\"21स्मवनि\")))","v":""},"",{"$f":"IF(B29=\"\",\"\",IF(AND(COUNTIF('Entry sheet-2-hin'!$AO$9:$AO$77,\"21स्मअलउ\")=0),\"\",COUNTIF('Entry sheet-2-hin'!$AO$9:$AO$77,\"21स्मअलउ\")))","v":""},"",{"$f":"IF(B29=\"\",\"\",IF(AND(COUNTIF('Entry sheet-2-hin'!$AO$9:$AO$77,\"21स्मलउ२\")=0),\"\",COUNTIF('Entry sheet-2-hin'!$AO$9:$AO$77,\"21स्मलउ२\")))","v":""},"",{"$f":"IF(B29=\"\",\"\",IF(AND(COUNTIF('Entry sheet-2-hin'!$AO$9:$AO$77,\"21स्मलउ३\")=0),\"\",COUNTIF('Entry sheet-2-hin'!$AO$9:$AO$77,\"21स्मलउ३\")))","v":""},"",{"$f":"IF(B29=\"\",\"\",IF(AND(COUNTIF('Entry sheet-2-hin'!$AO$9:$AO$77,\"21स्मदीउ४\")=0),\"\",COUNTIF('Entry sheet-2-hin'!$AO$9:$AO$77,\"21स्मदीउ४\")))","v":""},"",{"$f":"IF(B29=\"\",\"\",IF(AND(COUNTIF('Entry sheet-2-hin'!$AO$9:$AO$77,\"21स्मदीउ5\")=0),\"\",COUNTIF('Entry sheet-2-hin'!$AO$9:$AO$77,\"21स्मदीउ5\")))","v":""},"",{"$f":"IF(B29=\"\",\"\",IF(AND(COUNTIF('Entry sheet-2-hin'!$AO$9:$AO$77,\"21समबवि\")=0),\"\",COUNTIF('Entry sheet-2-hin'!$AO$9:$AO$77,\"21समबवि\")))","v":""},"",{"$f":"IF(B29=\"\",\"\",IF(AND(COUNTIF('Entry sheet-2-hin'!$AO$9:$AO$77,\"21समवनि\")=0),\"\",COUNTIF('Entry sheet-2-hin'!$AO$9:$AO$77,\"21समवनि\")))","v":""},"",{"$f":"IF(B29=\"\",\"\",IF(AND(COUNTIF('Entry sheet-2-hin'!$AO$9:$AO$77,\"21समअलउ\")=0),\"\",COUNTIF('Entry sheet-2-hin'!$AO$9:$AO$77,\"21समअलउ\")))","v":""},"",{"$f":"IF(B29=\"\",\"\",IF(AND(COUNTIF('Entry sheet-2-hin'!$AO$9:$AO$77,\"21समलउ२\")=0),\"\",COUNTIF('Entry sheet-2-hin'!$AO$9:$AO$77,\"21समलउ२\")))","v":""},"",{"$f":"IF(B29=\"\",\"\",IF(AND(COUNTIF('Entry sheet-2-hin'!$AO$9:$AO$77,\"21समलउ३\")=0),\"\",COUNTIF('Entry sheet-2-hin'!$AO$9:$AO$77,\"21समलउ३\")))","v":""},"",{"$f":"IF(B29=\"\",\"\",IF(AND(COUNTIF('Entry sheet-2-hin'!$AO$9:$AO$77,\"21समदीउ४\")=0),\"\",COUNTIF('Entry sheet-2-hin'!$AO$9:$AO$77,\"21समदीउ४\")))","v":""},"",{"$f":"IF(B29=\"\",\"\",IF(AND(COUNTIF('Entry sheet-2-hin'!$AO$9:$AO$77,\"21समदीउ5\")=0),\"\",COUNTIF('Entry sheet-2-hin'!$AO$9:$AO$77,\"21समदीउ5\")))","v":""},"",{"$f":"IF(B29=\"\",\"\",IF(AND(COUNTIF('Entry sheet-2-hin'!$AO$9:$AO$77,\"21अबवि\")=0),\"\",COUNTIF('Entry sheet-2-hin'!$AO$9:$AO$77,\"21अबवि\")))","v":""},"",{"$f":"IF(B29=\"\",\"\",IF(AND(COUNTIF('Entry sheet-2-hin'!$AO$9:$AO$77,\"21अवनि\")=0),\"\",COUNTIF('Entry sheet-2-hin'!$AO$9:$AO$77,\"21अवनि\")))","v":""},"",{"$f":"IF(B29=\"\",\"\",IF(AND(COUNTIF('Entry sheet-2-hin'!$AO$9:$AO$77,\"21अअलउ\")=0),\"\",COUNTIF('Entry sheet-2-hin'!$AO$9:$AO$77,\"21अअलउ\")))","v":2},2,{"$f":"IF(B29=\"\",\"\",IF(AND(COUNTIF('Entry sheet-2-hin'!$AO$9:$AO$77,\"21अलउ२\")=0),\"\",COUNTIF('Entry sheet-2-hin'!$AO$9:$AO$77,\"21अलउ२\")))","v":""},"",{"$f":"IF(B29=\"\",\"\",IF(AND(COUNTIF('Entry sheet-2-hin'!$AO$9:$AO$77,\"21अलउ३\")=0),\"\",COUNTIF('Entry sheet-2-hin'!$AO$9:$AO$77,\"21अलउ३\")))","v":""},"",{"$f":"IF(B29=\"\",\"\",IF(AND(COUNTIF('Entry sheet-2-hin'!$AO$9:$AO$77,\"21अदीउ४\")=0),\"\",COUNTIF('Entry sheet-2-hin'!$AO$9:$AO$77,\"21अदीउ४\")))","v":""},"",{"$f":"IF(B29=\"\",\"\",IF(AND(COUNTIF('Entry sheet-2-hin'!$AO$9:$AO$77,\"21अदीउ५\")=0),\"\",COUNTIF('Entry sheet-2-hin'!$AO$9:$AO$77,\"21अदीउ५\")))","v":""},"",{"$f":"IF(B29=\"\",\"\",IF(AND(COUNTIF('Entry sheet-2-hin'!$AO$9:$AO$77,\"21रसबवि\")=0),\"\",COUNTIF('Entry sheet-2-hin'!$AO$9:$AO$77,\"21रसबवि\")))","v":""},"",{"$f":"IF(B29=\"\",\"\",IF(AND(COUNTIF('Entry sheet-2-hin'!$AO$9:$AO$77,\"21रसवनि\")=0),\"\",COUNTIF('Entry sheet-2-hin'!$AO$9:$AO$77,\"21रसवनि\")))","v":""},"",{"$f":"IF(B29=\"\",\"\",IF(AND(COUNTIF('Entry sheet-2-hin'!$AO$9:$AO$77,\"21रसअलउ\")=0),\"\",COUNTIF('Entry sheet-2-hin'!$AO$9:$AO$77,\"21रसअलउ\")))","v":""},"",{"$f":"IF(B29=\"\",\"\",IF(AND(COUNTIF('Entry sheet-2-hin'!$AO$9:$AO$77,\"21रसलउ२\")=0),\"\",COUNTIF('Entry sheet-2-hin'!$AO$9:$AO$77,\"21रसलउ२\")))","v":""},"",{"$f":"IF(B29=\"\",\"\",IF(AND(COUNTIF('Entry sheet-2-hin'!$AO$9:$AO$77,\"21रसलउ३\")=0),\"\",COUNTIF('Entry sheet-2-hin'!$AO$9:$AO$77,\"21रसलउ३\")))","v":""},"",{"$f":"IF(B29=\"\",\"\",IF(AND(COUNTIF('Entry sheet-2-hin'!$AO$9:$AO$77,\"21रसदीउ४\")=0),\"\",COUNTIF('Entry sheet-2-hin'!$AO$9:$AO$77,\"21रसदीउ४\")))","v":""},"",{"$f":"IF(B29=\"\",\"\",IF(AND(COUNTIF('Entry sheet-2-hin'!$AO$9:$AO$77,\"21रसदीउ5\")=0),\"\",COUNTIF('Entry sheet-2-hin'!$AO$9:$AO$77,\"21रसदीउ5\")))","v":""},"",0,0,0,0,2,2,0,0,0,0,0,0,0,0,2,2]
[{"$f":"IF('Entry sheet-1-hin'!A31=\"\",\"\",'Entry sheet-1-hin'!A31)","v":22},{"$f":"IF('Entry sheet-1-hin'!B31=\"\",\"\",'Entry sheet-1-hin'!B31)","v":"पत्र लेखन"},{"$f":"IF(B30=\"\",\"\",IF(AND(COUNTIF('Entry sheet-2-hin'!$AO$9:$AO$77,\"22स्मबवि\")=0),\"\",COUNTIF('Entry sheet-2-hin'!$AO$9:$AO$77,\"22स्मबवि\")))","v":""},"",{"$f":"IF(B30=\"\",\"\",IF(AND(COUNTIF('Entry sheet-2-hin'!$AO$9:$AO$77,\"22स्मवनि\")=0),\"\",COUNTIF('Entry sheet-2-hin'!$AO$9:$AO$77,\"22स्मवनि\")))","v":""},"",{"$f":"IF(B30=\"\",\"\",IF(AND(COUNTIF('Entry sheet-2-hin'!$AO$9:$AO$77,\"22स्मअलउ\")=0),\"\",COUNTIF('Entry sheet-2-hin'!$AO$9:$AO$77,\"22स्मअलउ\")))","v":""},"",{"$f":"IF(B30=\"\",\"\",IF(AND(COUNTIF('Entry sheet-2-hin'!$AO$9:$AO$77,\"22स्मलउ२\")=0),\"\",COUNTIF('Entry sheet-2-hin'!$AO$9:$AO$77,\"22स्मलउ२\")))","v":""},"",{"$f":"IF(B30=\"\",\"\",IF(AND(COUNTIF('Entry sheet-2-hin'!$AO$9:$AO$77,\"22स्मलउ३\")=0),\"\",COUNTIF('Entry sheet-2-hin'!$AO$9:$AO$77,\"22स्मलउ३\")))","v":""},"",{"$f":"IF(B30=\"\",\"\",IF(AND(COUNTIF('Entry sheet-2-hin'!$AO$9:$AO$77,\"22स्मदीउ४\")=0),\"\",COUNTIF('Entry sheet-2-hin'!$AO$9:$AO$77,\"22स्मदीउ४\")))","v":""},"",{"$f":"IF(B30=\"\",\"\",IF(AND(COUNTIF('Entry sheet-2-hin'!$AO$9:$AO$77,\"22स्मदीउ5\")=0),\"\",COUNTIF('Entry sheet-2-hin'!$AO$9:$AO$77,\"22स्मदीउ5\")))","v":""},"",{"$f":"IF(B30=\"\",\"\",IF(AND(COUNTIF('Entry sheet-2-hin'!$AO$9:$AO$77,\"22समबवि\")=0),\"\",COUNTIF('Entry sheet-2-hin'!$AO$9:$AO$77,\"22समबवि\")))","v":""},"",{"$f":"IF(B30=\"\",\"\",IF(AND(COUNTIF('Entry sheet-2-hin'!$AO$9:$AO$77,\"22समवनि\")=0),\"\",COUNTIF('Entry sheet-2-hin'!$AO$9:$AO$77,\"22समवनि\")))","v":""},"",{"$f":"IF(B30=\"\",\"\",IF(AND(COUNTIF('Entry sheet-2-hin'!$AO$9:$AO$77,\"22समअलउ\")=0),\"\",COUNTIF('Entry sheet-2-hin'!$AO$9:$AO$77,\"22समअलउ\")))","v":""},"",{"$f":"IF(B30=\"\",\"\",IF(AND(COUNTIF('Entry sheet-2-hin'!$AO$9:$AO$77,\"22समलउ२\")=0),\"\",COUNTIF('Entry sheet-2-hin'!$AO$9:$AO$77,\"22समलउ२\")))","v":""},"",{"$f":"IF(B30=\"\",\"\",IF(AND(COUNTIF('Entry sheet-2-hin'!$AO$9:$AO$77,\"22समलउ३\")=0),\"\",COUNTIF('Entry sheet-2-hin'!$AO$9:$AO$77,\"22समलउ३\")))","v":""},"",{"$f":"IF(B30=\"\",\"\",IF(AND(COUNTIF('Entry sheet-2-hin'!$AO$9:$AO$77,\"22समदीउ४\")=0),\"\",COUNTIF('Entry sheet-2-hin'!$AO$9:$AO$77,\"22समदीउ४\")))","v":""},"",{"$f":"IF(B30=\"\",\"\",IF(AND(COUNTIF('Entry sheet-2-hin'!$AO$9:$AO$77,\"22समदीउ5\")=0),\"\",COUNTIF('Entry sheet-2-hin'!$AO$9:$AO$77,\"22समदीउ5\")))","v":""},"",{"$f":"IF(B30=\"\",\"\",IF(AND(COUNTIF('Entry sheet-2-hin'!$AO$9:$AO$77,\"22अबवि\")=0),\"\",COUNTIF('Entry sheet-2-hin'!$AO$9:$AO$77,\"22अबवि\")))","v":""},"",{"$f":"IF(B30=\"\",\"\",IF(AND(COUNTIF('Entry sheet-2-hin'!$AO$9:$AO$77,\"22अवनि\")=0),\"\",COUNTIF('Entry sheet-2-hin'!$AO$9:$AO$77,\"22अवनि\")))","v":""},"",{"$f":"IF(B30=\"\",\"\",IF(AND(COUNTIF('Entry sheet-2-hin'!$AO$9:$AO$77,\"22अअलउ\")=0),\"\",COUNTIF('Entry sheet-2-hin'!$AO$9:$AO$77,\"22अअलउ\")))","v":""},"",{"$f":"IF(B30=\"\",\"\",IF(AND(COUNTIF('Entry sheet-2-hin'!$AO$9:$AO$77,\"22अलउ२\")=0),\"\",COUNTIF('Entry sheet-2-hin'!$AO$9:$AO$77,\"22अलउ२\")))","v":""},"",{"$f":"IF(B30=\"\",\"\",IF(AND(COUNTIF('Entry sheet-2-hin'!$AO$9:$AO$77,\"22अलउ३\")=0),\"\",COUNTIF('Entry sheet-2-hin'!$AO$9:$AO$77,\"22अलउ३\")))","v":""},"",{"$f":"IF(B30=\"\",\"\",IF(AND(COUNTIF('Entry sheet-2-hin'!$AO$9:$AO$77,\"22अदीउ४\")=0),\"\",COUNTIF('Entry sheet-2-hin'!$AO$9:$AO$77,\"22अदीउ४\")))","v":1},4,{"$f":"IF(B30=\"\",\"\",IF(AND(COUNTIF('Entry sheet-2-hin'!$AO$9:$AO$77,\"22अदीउ५\")=0),\"\",COUNTIF('Entry sheet-2-hin'!$AO$9:$AO$77,\"22अदीउ५\")))","v":""},"",{"$f":"IF(B30=\"\",\"\",IF(AND(COUNTIF('Entry sheet-2-hin'!$AO$9:$AO$77,\"22रसबवि\")=0),\"\",COUNTIF('Entry sheet-2-hin'!$AO$9:$AO$77,\"22रसबवि\")))","v":""},"",{"$f":"IF(B30=\"\",\"\",IF(AND(COUNTIF('Entry sheet-2-hin'!$AO$9:$AO$77,\"22रसवनि\")=0),\"\",COUNTIF('Entry sheet-2-hin'!$AO$9:$AO$77,\"22रसवनि\")))","v":""},"",{"$f":"IF(B30=\"\",\"\",IF(AND(COUNTIF('Entry sheet-2-hin'!$AO$9:$AO$77,\"22रसअलउ\")=0),\"\",COUNTIF('Entry sheet-2-hin'!$AO$9:$AO$77,\"22रसअलउ\")))","v":""},"",{"$f":"IF(B30=\"\",\"\",IF(AND(COUNTIF('Entry sheet-2-hin'!$AO$9:$AO$77,\"22रसलउ२\")=0),\"\",COUNTIF('Entry sheet-2-hin'!$AO$9:$AO$77,\"22रसलउ२\")))","v":""},"",{"$f":"IF(B30=\"\",\"\",IF(AND(COUNTIF('Entry sheet-2-hin'!$AO$9:$AO$77,\"22रसलउ३\")=0),\"\",COUNTIF('Entry sheet-2-hin'!$AO$9:$AO$77,\"22रसलउ३\")))","v":""},"",{"$f":"IF(B30=\"\",\"\",IF(AND(COUNTIF('Entry sheet-2-hin'!$AO$9:$AO$77,\"22रसदीउ४\")=0),\"\",COUNTIF('Entry sheet-2-hin'!$AO$9:$AO$77,\"22रसदीउ४\")))","v":""},"",{"$f":"IF(B30=\"\",\"\",IF(AND(COUNTIF('Entry sheet-2-hin'!$AO$9:$AO$77,\"22रसदीउ5\")=0),\"\",COUNTIF('Entry sheet-2-hin'!$AO$9:$AO$77,\"22रसदीउ5\")))","v":""},"",0,0,0,0,0,0,0,0,0,0,1,4,0,0,1,4]
[{"$f":"IF('Entry sheet-1-hin'!A32=\"\",\"\",'Entry sheet-1-hin'!A32)","v":23},{"$f":"IF('Entry sheet-1-hin'!B32=\"\",\"\",'Entry sheet-1-hin'!B32)","v":"निबंध रचना"},{"$f":"IF(B31=\"\",\"\",IF(AND(COUNTIF('Entry sheet-2-hin'!$AO$9:$AO$77,\"23स्मबवि\")=0),\"\",COUNTIF('Entry sheet-2-hin'!$AO$9:$AO$77,\"23स्मबवि\")))","v":""},"",{"$f":"IF(B31=\"\",\"\",IF(AND(COUNTIF('Entry sheet-2-hin'!$AO$9:$AO$77,\"23स्मवनि\")=0),\"\",COUNTIF('Entry sheet-2-hin'!$AO$9:$AO$77,\"23स्मवनि\")))","v":""},"",{"$f":"IF(B31=\"\",\"\",IF(AND(COUNTIF('Entry sheet-2-hin'!$AO$9:$AO$77,\"23स्मअलउ\")=0),\"\",COUNTIF('Entry sheet-2-hin'!$AO$9:$AO$77,\"23स्मअलउ\")))","v":""},"",{"$f":"IF(B31=\"\",\"\",IF(AND(COUNTIF('Entry sheet-2-hin'!$AO$9:$AO$77,\"23स्मलउ२\")=0),\"\",COUNTIF('Entry sheet-2-hin'!$AO$9:$AO$77,\"23स्मलउ२\")))","v":""},"",{"$f":"IF(B31=\"\",\"\",IF(AND(COUNTIF('Entry sheet-2-hin'!$AO$9:$AO$77,\"23स्मलउ३\")=0),\"\",COUNTIF('Entry sheet-2-hin'!$AO$9:$AO$77,\"23स्मलउ३\")))","v":""},"",{"$f":"IF(B31=\"\",\"\",IF(AND(COUNTIF('Entry sheet-2-hin'!$AO$9:$AO$77,\"23स्मदीउ४\")=0),\"\",COUNTIF('Entry sheet-2-hin'!$AO$9:$AO$77,\"23स्मदीउ४\")))","v":""},"",{"$f":"IF(B31=\"\",\"\",IF(AND(COUNTIF('Entry sheet-2-hin'!$AO$9:$AO$77,\"23स्मदीउ5\")=0),\"\",COUNTIF('Entry sheet-2-hin'!$AO$9:$AO$77,\"23स्मदीउ5\")))","v":""},"",{"$f":"IF(B31=\"\",\"\",IF(AND(COUNTIF('Entry sheet-2-hin'!$AO$9:$AO$77,\"23समबवि\")=0),\"\",COUNTIF('Entry sheet-2-hin'!$AO$9:$AO$77,\"23समबवि\")))","v":""},"",{"$f":"IF(B31=\"\",\"\",IF(AND(COUNTIF('Entry sheet-2-hin'!$AO$9:$AO$77,\"23समवनि\")=0),\"\",COUNTIF('Entry sheet-2-hin'!$AO$9:$AO$77,\"23समवनि\")))","v":""},"",{"$f":"IF(B31=\"\",\"\",IF(AND(COUNTIF('Entry sheet-2-hin'!$AO$9:$AO$77,\"23समअलउ\")=0),\"\",COUNTIF('Entry sheet-2-hin'!$AO$9:$AO$77,\"23समअलउ\")))","v":""},"",{"$f":"IF(B31=\"\",\"\",IF(AND(COUNTIF('Entry sheet-2-hin'!$AO$9:$AO$77,\"23समलउ२\")=0),\"\",COUNTIF('Entry sheet-2-hin'!$AO$9:$AO$77,\"23समलउ२\")))","v":""},"",{"$f":"IF(B31=\"\",\"\",IF(AND(COUNTIF('Entry sheet-2-hin'!$AO$9:$AO$77,\"23समलउ३\")=0),\"\",COUNTIF('Entry sheet-2-hin'!$AO$9:$AO$77,\"23समलउ३\")))","v":""},"",{"$f":"IF(B31=\"\",\"\",IF(AND(COUNTIF('Entry sheet-2-hin'!$AO$9:$AO$77,\"23समदीउ४\")=0),\"\",COUNTIF('Entry sheet-2-hin'!$AO$9:$AO$77,\"23समदीउ४\")))","v":""},"",{"$f":"IF(B31=\"\",\"\",IF(AND(COUNTIF('Entry sheet-2-hin'!$AO$9:$AO$77,\"23समदीउ5\")=0),\"\",COUNTIF('Entry sheet-2-hin'!$AO$9:$AO$77,\"23समदीउ5\")))","v":""},"",{"$f":"IF(B31=\"\",\"\",IF(AND(COUNTIF('Entry sheet-2-hin'!$AO$9:$AO$77,\"23अबवि\")=0),\"\",COUNTIF('Entry sheet-2-hin'!$AO$9:$AO$77,\"23अबवि\")))","v":""},"",{"$f":"IF(B31=\"\",\"\",IF(AND(COUNTIF('Entry sheet-2-hin'!$AO$9:$AO$77,\"23अवनि\")=0),\"\",COUNTIF('Entry sheet-2-hin'!$AO$9:$AO$77,\"23अवनि\")))","v":""},"",{"$f":"IF(B31=\"\",\"\",IF(AND(COUNTIF('Entry sheet-2-hin'!$AO$9:$AO$77,\"23अअलउ\")=0),\"\",COUNTIF('Entry sheet-2-hin'!$AO$9:$AO$77,\"23अअलउ\")))","v":""},"",{"$f":"IF(B31=\"\",\"\",IF(AND(COUNTIF('Entry sheet-2-hin'!$AO$9:$AO$77,\"23अलउ२\")=0),\"\",COUNTIF('Entry sheet-2-hin'!$AO$9:$AO$77,\"23अलउ२\")))","v":""},"",{"$f":"IF(B31=\"\",\"\",IF(AND(COUNTIF('Entry sheet-2-hin'!$AO$9:$AO$77,\"23अलउ३\")=0),\"\",COUNTIF('Entry sheet-2-hin'!$AO$9:$AO$77,\"23अलउ३\")))","v":""},"",{"$f":"IF(B31=\"\",\"\",IF(AND(COUNTIF('Entry sheet-2-hin'!$AO$9:$AO$77,\"23अदीउ४\")=0),\"\",COUNTIF('Entry sheet-2-hin'!$AO$9:$AO$77,\"23अदीउ४\")))","v":""},"",{"$f":"IF(B31=\"\",\"\",IF(AND(COUNTIF('Entry sheet-2-hin'!$AO$9:$AO$77,\"23अदीउ५\")=0),\"\",COUNTIF('Entry sheet-2-hin'!$AO$9:$AO$77,\"23अदीउ५\")))","v":""},"",{"$f":"IF(B31=\"\",\"\",IF(AND(COUNTIF('Entry sheet-2-hin'!$AO$9:$AO$77,\"23रसबवि\")=0),\"\",COUNTIF('Entry sheet-2-hin'!$AO$9:$AO$77,\"23रसबवि\")))","v":""},"",{"$f":"IF(B31=\"\",\"\",IF(AND(COUNTIF('Entry sheet-2-hin'!$AO$9:$AO$77,\"23रसवनि\")=0),\"\",COUNTIF('Entry sheet-2-hin'!$AO$9:$AO$77,\"23रसवनि\")))","v":""},"",{"$f":"IF(B31=\"\",\"\",IF(AND(COUNTIF('Entry sheet-2-hin'!$AO$9:$AO$77,\"23रसअलउ\")=0),\"\",COUNTIF('Entry sheet-2-hin'!$AO$9:$AO$77,\"23रसअलउ\")))","v":""},"",{"$f":"IF(B31=\"\",\"\",IF(AND(COUNTIF('Entry sheet-2-hin'!$AO$9:$AO$77,\"23रसलउ२\")=0),\"\",COUNTIF('Entry sheet-2-hin'!$AO$9:$AO$77,\"23रसलउ२\")))","v":""},"",{"$f":"IF(B31=\"\",\"\",IF(AND(COUNTIF('Entry sheet-2-hin'!$AO$9:$AO$77,\"23रसलउ३\")=0),\"\",COUNTIF('Entry sheet-2-hin'!$AO$9:$AO$77,\"23रसलउ३\")))","v":""},"",{"$f":"IF(B31=\"\",\"\",IF(AND(COUNTIF('Entry sheet-2-hin'!$AO$9:$AO$77,\"23रसदीउ४\")=0),\"\",COUNTIF('Entry sheet-2-hin'!$AO$9:$AO$77,\"23रसदीउ४\")))","v":""},"",{"$f":"IF(B31=\"\",\"\",IF(AND(COUNTIF('Entry sheet-2-hin'!$AO$9:$AO$77,\"23रसदीउ5\")=0),\"\",COUNTIF('Entry sheet-2-hin'!$AO$9:$AO$77,\"23रसदीउ5\")))","v":""},"",0,0,0,0,0,0,0,0,0,0,0,0,0,0,0,0]
[{"$f":"IF('Entry sheet-1-hin'!A33=\"\",\"\",'Entry sheet-1-hin'!A33)","v":24},{"$f":"IF('Entry sheet-1-hin'!B33=\"\",\"\",'Entry sheet-1-hin'!B33)","v":"व्याकरण"},{"$f":"IF(B32=\"\",\"\",IF(AND(COUNTIF('Entry sheet-2-hin'!$AO$9:$AO$77,\"24स्मबवि\")=0),\"\",COUNTIF('Entry sheet-2-hin'!$AO$9:$AO$77,\"24स्मबवि\")))","v":""},"",{"$f":"IF(B32=\"\",\"\",IF(AND(COUNTIF('Entry sheet-2-hin'!$AO$9:$AO$77,\"24स्मवनि\")=0),\"\",COUNTIF('Entry sheet-2-hin'!$AO$9:$AO$77,\"24स्मवनि\")))","v":""},"",{"$f":"IF(B32=\"\",\"\",IF(AND(COUNTIF('Entry sheet-2-hin'!$AO$9:$AO$77,\"24स्मअलउ\")=0),\"\",COUNTIF('Entry sheet-2-hin'!$AO$9:$AO$77,\"24स्मअलउ\")))","v":""},"",{"$f":"IF(B32=\"\",\"\",IF(AND(COUNTIF('Entry sheet-2-hin'!$AO$9:$AO$77,\"24स्मलउ२\")=0),\"\",COUNTIF('Entry sheet-2-hin'!$AO$9:$AO$77,\"24स्मलउ२\")))","v":""},"",{"$f":"IF(B32=\"\",\"\",IF(AND(COUNTIF('Entry sheet-2-hin'!$AO$9:$AO$77,\"24स्मलउ३\")=0),\"\",COUNTIF('Entry sheet-2-hin'!$AO$9:$AO$77,\"24स्मलउ३\")))","v":""},"",{"$f":"IF(B32=\"\",\"\",IF(AND(COUNTIF('Entry sheet-2-hin'!$AO$9:$AO$77,\"24स्मदीउ४\")=0),\"\",COUNTIF('Entry sheet-2-hin'!$AO$9:$AO$77,\"24स्मदीउ४\")))","v":""},"",{"$f":"IF(B32=\"\",\"\",IF(AND(COUNTIF('Entry sheet-2-hin'!$AO$9:$AO$77,\"24स्मदीउ5\")=0),\"\",COUNTIF('Entry sheet-2-hin'!$AO$9:$AO$77,\"24स्मदीउ5\")))","v":""},"",{"$f":"IF(B32=\"\",\"\",IF(AND(COUNTIF('Entry sheet-2-hin'!$AO$9:$AO$77,\"24समबवि\")=0),\"\",COUNTIF('Entry sheet-2-hin'!$AO$9:$AO$77,\"24समबवि\")))","v":4},4,{"$f":"IF(B32=\"\",\"\",IF(AND(COUNTIF('Entry sheet-2-hin'!$AO$9:$AO$77,\"24समवनि\")=0),\"\",COUNTIF('Entry sheet-2-hin'!$AO$9:$AO$77,\"24समवनि\")))","v":""},"",{"$f":"IF(B32=\"\",\"\",IF(AND(COUNTIF('Entry sheet-2-hin'!$AO$9:$AO$77,\"24समअलउ\")=0),\"\",COUNTIF('Entry sheet-2-hin'!$AO$9:$AO$77,\"24समअलउ\")))","v":""},"",{"$f":"IF(B32=\"\",\"\",IF(AND(COUNTIF('Entry sheet-2-hin'!$AO$9:$AO$77,\"24समलउ२\")=0),\"\",COUNTIF('Entry sheet-2-hin'!$AO$9:$AO$77,\"24समलउ२\")))","v":""},"",{"$f":"IF(B32=\"\",\"\",IF(AND(COUNTIF('Entry sheet-2-hin'!$AO$9:$AO$77,\"24समलउ३\")=0),\"\",COUNTIF('Entry sheet-2-hin'!$AO$9:$AO$77,\"24समलउ३\")))","v":""},"",{"$f":"IF(B32=\"\",\"\",IF(AND(COUNTIF('Entry sheet-2-hin'!$AO$9:$AO$77,\"24समदीउ४\")=0),\"\",COUNTIF('Entry sheet-2-hin'!$AO$9:$AO$77,\"24समदीउ४\")))","v":""},"",{"$f":"IF(B32=\"\",\"\",IF(AND(COUNTIF('Entry sheet-2-hin'!$AO$9:$AO$77,\"24समदीउ5\")=0),\"\",COUNTIF('Entry sheet-2-hin'!$AO$9:$AO$77,\"24समदीउ5\")))","v":""},"",{"$f":"IF(B32=\"\",\"\",IF(AND(COUNTIF('Entry sheet-2-hin'!$AO$9:$AO$77,\"24अबवि\")=0),\"\",COUNTIF('Entry sheet-2-hin'!$AO$9:$AO$77,\"24अबवि\")))","v":""},"",{"$f":"IF(B32=\"\",\"\",IF(AND(COUNTIF('Entry sheet-2-hin'!$AO$9:$AO$77,\"24अवनि\")=0),\"\",COUNTIF('Entry sheet-2-hin'!$AO$9:$AO$77,\"24अवनि\")))","v":""},"",{"$f":"IF(B32=\"\",\"\",IF(AND(COUNTIF('Entry sheet-2-hin'!$AO$9:$AO$77,\"24अअलउ\")=0),\"\",COUNTIF('Entry sheet-2-hin'!$AO$9:$AO$77,\"24अअलउ\")))","v":""},"",{"$f":"IF(B32=\"\",\"\",IF(AND(COUNTIF('Entry sheet-2-hin'!$AO$9:$AO$77,\"24अलउ२\")=0),\"\",COUNTIF('Entry sheet-2-hin'!$AO$9:$AO$77,\"24अलउ२\")))","v":""},"",{"$f":"IF(B32=\"\",\"\",IF(AND(COUNTIF('Entry sheet-2-hin'!$AO$9:$AO$77,\"24अलउ३\")=0),\"\",COUNTIF('Entry sheet-2-hin'!$AO$9:$AO$77,\"24अलउ३\")))","v":""},"",{"$f":"IF(B32=\"\",\"\",IF(AND(COUNTIF('Entry sheet-2-hin'!$AO$9:$AO$77,\"24अदीउ४\")=0),\"\",COUNTIF('Entry sheet-2-hin'!$AO$9:$AO$77,\"24अदीउ४\")))","v":""},"",{"$f":"IF(B32=\"\",\"\",IF(AND(COUNTIF('Entry sheet-2-hin'!$AO$9:$AO$77,\"24अदीउ५\")=0),\"\",COUNTIF('Entry sheet-2-hin'!$AO$9:$AO$77,\"24अदीउ५\")))","v":""},"",{"$f":"IF(B32=\"\",\"\",IF(AND(COUNTIF('Entry sheet-2-hin'!$AO$9:$AO$77,\"24रसबवि\")=0),\"\",COUNTIF('Entry sheet-2-hin'!$AO$9:$AO$77,\"24रसबवि\")))","v":""},"",{"$f":"IF(B32=\"\",\"\",IF(AND(COUNTIF('Entry sheet-2-hin'!$AO$9:$AO$77,\"24रसवनि\")=0),\"\",COUNTIF('Entry sheet-2-hin'!$AO$9:$AO$77,\"24रसवनि\")))","v":""},"",{"$f":"IF(B32=\"\",\"\",IF(AND(COUNTIF('Entry sheet-2-hin'!$AO$9:$AO$77,\"24रसअलउ\")=0),\"\",COUNTIF('Entry sheet-2-hin'!$AO$9:$AO$77,\"24रसअलउ\")))","v":""},"",{"$f":"IF(B32=\"\",\"\",IF(AND(COUNTIF('Entry sheet-2-hin'!$AO$9:$AO$77,\"24रसलउ२\")=0),\"\",COUNTIF('Entry sheet-2-hin'!$AO$9:$AO$77,\"24रसलउ२\")))","v":""},"",{"$f":"IF(B32=\"\",\"\",IF(AND(COUNTIF('Entry sheet-2-hin'!$AO$9:$AO$77,\"24रसलउ३\")=0),\"\",COUNTIF('Entry sheet-2-hin'!$AO$9:$AO$77,\"24रसलउ३\")))","v":""},"",{"$f":"IF(B32=\"\",\"\",IF(AND(COUNTIF('Entry sheet-2-hin'!$AO$9:$AO$77,\"24रसदीउ४\")=0),\"\",COUNTIF('Entry sheet-2-hin'!$AO$9:$AO$77,\"24रसदीउ४\")))","v":""},"",{"$f":"IF(B32=\"\",\"\",IF(AND(COUNTIF('Entry sheet-2-hin'!$AO$9:$AO$77,\"24रसदीउ5\")=0),\"\",COUNTIF('Entry sheet-2-hin'!$AO$9:$AO$77,\"24रसदीउ5\")))","v":""},"",4,4,0,0,0,0,0,0,0,0,0,0,0,0,4,4]
[{"$f":"IF('Entry sheet-1-hin'!A34=\"\",\"\",'Entry sheet-1-hin'!A34)","v":""},{"$f":"IF('Entry sheet-1-hin'!B34=\"\",\"\",'Entry sheet-1-hin'!B34)","v":""},{"$f":"IF(B33=\"\",\"\",IF(AND(COUNTIF('Entry sheet-2-hin'!$AO$9:$AO$68,\"25KMCC\")=0,COUNTIF('Entry sheet-2-hin'!$AO$9:$AO$68,\"25KMC\")=0),\"\",IF(COUNTIF('Entry sheet-2-hin'!$AO$9:$AO$68,\"25KMCC\")=0,COUNTIF('Entry sheet-2-hin'!$AO$9:$AO$68,\"25KMC\"),COUNTIF('Entry sheet-2-hin'!$AO$9:$AO$68,\"25KMCC\")&\"*\")))","v":""},"",{"$f":"IF(B33=\"\",\"\",IF(AND(COUNTIF('Entry sheet-2-hin'!$AO$9:$AO$68,\"25KOTC\")=0,COUNTIF('Entry sheet-2-hin'!$AO$9:$AO$68,\"25KOT\")=0),\"\",IF(COUNTIF('Entry sheet-2-hin'!$AO$9:$AO$68,\"25KOTC\")=0,COUNTIF('Entry sheet-2-hin'!$AO$9:$AO$68,\"25KOT\"),COUNTIF('Entry sheet-2-hin'!$AO$9:$AO$68,\"25KOTC\")&\"*\")))","v":""},"",{"$f":"IF(B33=\"\",\"\",IF(AND(COUNTIF('Entry sheet-2-hin'!$AO$9:$AO$68,\"25KSA1C\")=0,COUNTIF('Entry sheet-2-hin'!$AO$9:$AO$68,\"25KSA1\")=0),\"\",IF(COUNTIF('Entry sheet-2-hin'!$AO$9:$AO$68,\"25KSA1C\")=0,COUNTIF('Entry sheet-2-hin'!$AO$9:$AO$68,\"25KSA1\"),COUNTIF('Entry sheet-2-hin'!$AO$9:$AO$68,\"25KSA1C\")&\"*\")))","v":""},{"$f":"IF(G33=\"\",\"\",IF(COUNTIF('Entry sheet-2-hin'!$AO$9:$AO$68,\"25KSA1C\")=0,COUNTIF('Entry sheet-2-hin'!$AO$9:$AO$68,\"25KSA1\")*1,COUNTIF('Entry sheet-2-hin'!$AO$9:$AO$68,\"25KSA1C\")*1))","v":""},{"$f":"IF(B33=\"\",\"\",IF(AND(COUNTIF('Entry sheet-2-hin'!$AO$9:$AO$68,\"25KSA2C\")=0,COUNTIF('Entry sheet-2-hin'!$AO$9:$AO$68,\"25KSA2\")=0),\"\",IF(COUNTIF('Entry sheet-2-hin'!$AO$9:$AO$68,\"25KSA2C\")=0,COUNTIF('Entry sheet-2-hin'!$AO$9:$AO$68,\"25KSA2\"),COUNTIF('Entry sheet-2-hin'!$AO$9:$AO$68,\"25KSA2C\")&\"*\")))","v":""},{"$f":"IF(I33=\"\",\"\",IF(COUNTIF('Entry sheet-2-hin'!$AO$9:$AO$68,\"25KSA2C\")=0,COUNTIF('Entry sheet-2-hin'!$AO$9:$AO$68,\"25KSA2\")*2,COUNTIF('Entry sheet-2-hin'!$AO$9:$AO$68,\"25KSA2C\")*2))","v":""},{"$f":"IF(B33=\"\",\"\",IF(AND(COUNTIF('Entry sheet-2-hin'!$AO$9:$AO$68,\"25KLA1C\")=0,COUNTIF('Entry sheet-2-hin'!$AO$9:$AO$68,\"25KLA1\")=0),\"\",IF(COUNTIF('Entry sheet-2-hin'!$AO$9:$AO$68,\"25KLA1C\")=0,COUNTIF('Entry sheet-2-hin'!$AO$9:$AO$68,\"25KLA1\"),COUNTIF('Entry sheet-2-hin'!$AO$9:$AO$68,\"25KLA1C\")&\"*\")))","v":""},{"$f":"IF(K33=\"\",\"\",IF(COUNTIF('Entry sheet-2-hin'!$AO$9:$AO$68,\"25KLA1C\")=0,COUNTIF('Entry sheet-2-hin'!$AO$9:$AO$68,\"25KLA1\")*3,COUNTIF('Entry sheet-2-hin'!$AO$9:$AO$68,\"25KLA1C\")*3))","v":""},{"$f":"IF(B33=\"\",\"\",IF(AND(COUNTIF('Entry sheet-2-hin'!$AO$9:$AO$68,\"1स्मदीउ४\")=0),\"\",COUNTIF('Entry sheet-2-hin'!$AO$9:$AO$68,\"1स्मदीउ४\")))","v":""},"",{"$f":"IF(B33=\"\",\"\",IF(AND(COUNTIF('Entry sheet-2-hin'!$AO$9:$AO$68,\"1स्मदीउ5\")=0),\"\",COUNTIF('Entry sheet-2-hin'!$AO$9:$AO$68,\"1स्मदीउ5\")))","v":""},{"$f":"IF(O33=\"\",\"\",IF(COUNTIF('Entry sheet-2-hin'!$AO$9:$AO$68,\"1स्मदीउ5C\")=0,COUNTIF('Entry sheet-2-hin'!$AO$9:$AO$68,\"1स्मदीउ5\")*5,COUNTIF('Entry sheet-2-hin'!$AO$9:$AO$68,\"1स्मदीउ5C\")*5))","v":""},{"$f":"IF(B33=\"\",\"\",IF(AND(COUNTIF('Entry sheet-2-hin'!$AO$9:$AO$68,\"25UMCC\")=0,COUNTIF('Entry sheet-2-hin'!$AO$9:$AO$68,\"25UMC\")=0),\"\",IF(COUNTIF('Entry sheet-2-hin'!$AO$9:$AO$68,\"25UMCC\")=0,COUNTIF('Entry sheet-2-hin'!$AO$9:$AO$68,\"25UMC\"),COUNTIF('Entry sheet-2-hin'!$AO$9:$AO$68,\"25UMCC\")&\"*\")))","v":""},"",{"$f":"IF(B33=\"\",\"\",IF(AND(COUNTIF('Entry sheet-2-hin'!$AO$9:$AO$68,\"1समवनि\")=0),\"\",COUNTIF('Entry sheet-2-hin'!$AO$9:$AO$68,\"1समवनि\")))","v":""},"",{"$f":"IF(B33=\"\",\"\",IF(AND(COUNTIF('Entry sheet-2-hin'!$AO$9:$AO$68,\"1समअलउ\")=0),\"\",COUNTIF('Entry sheet-2-hin'!$AO$9:$AO$68,\"1समअलउ\")))","v":""},"",{"$f":"IF(B33=\"\",\"\",IF(AND(COUNTIF('Entry sheet-2-hin'!$AO$9:$AO$68,\"25USA2C\")=0,COUNTIF('Entry sheet-2-hin'!$AO$9:$AO$68,\"25USA2\")=0),\"\",IF(COUNTIF('Entry sheet-2-hin'!$AO$9:$AO$68,\"25USA2C\")=0,COUNTIF('Entry sheet-2-hin'!$AO$9:$AO$68,\"25USA2\"),COUNTIF('Entry sheet-2-hin'!$AO$9:$AO$68,\"25USA2C\")&\"*\")))","v":""},{"$f":"IF(W33=\"\",\"\",IF(COUNTIF('Entry sheet-2-hin'!$AO$9:$AO$68,\"25USA2C\")=0,COUNTIF('Entry sheet-2-hin'!$AO$9:$AO$68,\"25USA2\")*2,COUNTIF('Entry sheet-2-hin'!$AO$9:$AO$68,\"25USA2C\")*2))","v":""},{"$f":"IF(B33=\"\",\"\",IF(AND(COUNTIF('Entry sheet-2-hin'!$AO$9:$AO$68,\"25ULA1C\")=0,COUNTIF('Entry sheet-2-hin'!$AO$9:$AO$68,\"25ULA1\")=0),\"\",IF(COUNTIF('Entry sheet-2-hin'!$AO$9:$AO$68,\"25ULA1C\")=0,COUNTIF('Entry sheet-2-hin'!$AO$9:$AO$68,\"25ULA1\"),COUNTIF('Entry sheet-2-hin'!$AO$9:$AO$68,\"25ULA1C\")&\"*\")))","v":""},{"$f":"IF(Y33=\"\",\"\",IF(COUNTIF('Entry sheet-2-hin'!$AO$9:$AO$68,\"25ULA1C\")=0,COUNTIF('Entry sheet-2-hin'!$AO$9:$AO$68,\"25ULA1\")*3,COUNTIF('Entry sheet-2-hin'!$AO$9:$AO$68,\"25ULA1C\")*3))","v":""},{"$f":"IF(B33=\"\",\"\",IF(AND(COUNTIF('Entry sheet-2-hin'!$AO$9:$AO$68,\"1समदीउ४\")=0),\"\",COUNTIF('Entry sheet-2-hin'!$AO$9:$AO$68,\"1समदीउ४\")))","v":""},"",{"$f":"IF(B33=\"\",\"\",IF(AND(COUNTIF('Entry sheet-2-hin'!$AO$9:$AO$68,\"1समदीउ5\")=0),\"\",COUNTIF('Entry sheet-2-hin'!$AO$9:$AO$68,\"1समदीउ5\")))","v":""},{"$f":"IF(AC33=\"\",\"\",IF(COUNTIF('Entry sheet-2-hin'!$AO$9:$AO$68,\"1समदीउ5C\")=0,COUNTIF('Entry sheet-2-hin'!$AO$9:$AO$68,\"1समदीउ5\")*5,COUNTIF('Entry sheet-2-hin'!$AO$9:$AO$68,\"1समदीउ5C\")*5))","v":""},{"$f":"IF(B33=\"\",\"\",IF(AND(COUNTIF('Entry sheet-2-hin'!$AO$9:$AO$68,\"1अबवि\")=0),\"\",COUNTIF('Entry sheet-2-hin'!$AO$9:$AO$68,\"1अबवि\")))","v":""},{"$f":"IF(AE33=\"\",\"\",IF(COUNTIF('Entry sheet-2-hin'!$AO$9:$AO$68,\"25AMCC\")=0,COUNTIF('Entry sheet-2-hin'!$AO$9:$AO$68,\"25AMC\")*1,COUNTIF('Entry sheet-2-hin'!$AO$9:$AO$68,\"25AMCC\")*1))","v":""},{"$f":"IF(B33=\"\",\"\",IF(AND(COUNTIF('Entry sheet-2-hin'!$AO$9:$AO$68,\"25AOTC\")=0,COUNTIF('Entry sheet-2-hin'!$AO$9:$AO$68,\"25AOT\")=0),\"\",IF(COUNTIF('Entry sheet-2-hin'!$AO$9:$AO$68,\"25AOTC\")=0,COUNTIF('Entry sheet-2-hin'!$AO$9:$AO$68,\"25AOT\"),COUNTIF('Entry sheet-2-hin'!$AO$9:$AO$68,\"25AOTC\")&\"*\")))","v":""},{"$f":"IF(AG33=\"\",\"\",IF(COUNTIF('Entry sheet-2-hin'!$AO$9:$AO$68,\"25AOTC\")=0,COUNTIF('Entry sheet-2-hin'!$AO$9:$AO$68,\"25AOT\")*1,COUNTIF('Entry sheet-2-hin'!$AO$9:$AO$68,\"25AOTC\")*1))","v":""},{"$f":"IF(B33=\"\",\"\",IF(AND(COUNTIF('Entry sheet-2-hin'!$AO$9:$AO$68,\"1अअलउ\")=0),\"\",COUNTIF('Entry sheet-2-hin'!$AO$9:$AO$68,\"1अअलउ\")))","v":""},{"$f":"IF(AI33=\"\",\"\",IF(COUNTIF('Entry sheet-2-hin'!$AO$9:$AO$68,\"25ASA1C\")=0,COUNTIF('Entry sheet-2-hin'!$AO$9:$AO$68,\"25ASA1\")*1,COUNTIF('Entry sheet-2-hin'!$AO$9:$AO$68,\"25ASA1C\")*1))","v":""},{"$f":"IF(B33=\"\",\"\",IF(AND(COUNTIF('Entry sheet-2-hin'!$AO$9:$AO$68,\"25ASA2C\")=0,COUNTIF('Entry sheet-2-hin'!$AO$9:$AO$68,\"25ASA2\")=0),\"\",IF(COUNTIF('Entry sheet-2-hin'!$AO$9:$AO$68,\"25ASA2C\")=0,COUNTIF('Entry sheet-2-hin'!$AO$9:$AO$68,\"25ASA2\"),COUNTIF('Entry sheet-2-hin'!$AO$9:$AO$68,\"25ASA2C\")&\"*\")))","v":""},"",{"$f":"IF(B33=\"\",\"\",IF(AND(COUNTIF('Entry sheet-2-hin'!$AO$9:$AO$68,\"25ALA1C\")=0,COUNTIF('Entry sheet-2-hin'!$AO$9:$AO$68,\"25ALA1\")=0),\"\",IF(COUNTIF('Entry sheet-2-hin'!$AO$9:$AO$68,\"25ALA1C\")=0,COUNTIF('Entry sheet-2-hin'!$AO$9:$AO$68,\"25ALA1\"),COUNTIF('Entry sheet-2-hin'!$AO$9:$AO$68,\"25ALA1C\")&\"*\")))","v":""},"",{"$f":"IF(B33=\"\",\"\",IF(AND(COUNTIF('Entry sheet-2-hin'!$AO$9:$AO$68,\"25ALA2C\")=0,COUNTIF('Entry sheet-2-hin'!$AO$9:$AO$68,\"25ALA2\")=0),\"\",IF(COUNTIF('Entry sheet-2-hin'!$AO$9:$AO$68,\"25ALA2C\")=0,COUNTIF('Entry sheet-2-hin'!$AO$9:$AO$68,\"25ALA2\"),COUNTIF('Entry sheet-2-hin'!$AO$9:$AO$68,\"25ALA2C\")&\"*\")))","v":""},{"$f":"IF(AO33=\"\",\"\",IF(COUNTIF('Entry sheet-2-hin'!$AO$9:$AO$68,\"25ALA2C\")=0,COUNTIF('Entry sheet-2-hin'!$AO$9:$AO$68,\"25ALA2\")*4,COUNTIF('Entry sheet-2-hin'!$AO$9:$AO$68,\"25ALA2C\")*4))","v":""},{"$f":"IF(B33=\"\",\"\",IF(AND(COUNTIF('Entry sheet-2-hin'!$AO$9:$AO$68,\"1अदीउ5\")=0),\"\",COUNTIF('Entry sheet-2-hin'!$AO$9:$AO$68,\"1अदीउ5\")))","v":""},{"$f":"IF(AQ33=\"\",\"\",IF(COUNTIF('Entry sheet-2-hin'!$AO$9:$AO$68,\"1अदीउ5C\")=0,COUNTIF('Entry sheet-2-hin'!$AO$9:$AO$68,\"1अदीउ5\")*5,COUNTIF('Entry sheet-2-hin'!$AO$9:$AO$68,\"1अदीउ5C\")*5))","v":""},{"$f":"IF(B33=\"\",\"\",IF(AND(COUNTIF('Entry sheet-2-hin'!$AO$9:$AO$68,\"1रसबवि\")=0),\"\",COUNTIF('Entry sheet-2-hin'!$AO$9:$AO$68,\"1रसबवि\")))","v":""},{"$f":"IF(AS33=\"\",\"\",IF(COUNTIF('Entry sheet-2-hin'!$AO$9:$AO$68,\"25SMCC\")=0,COUNTIF('Entry sheet-2-hin'!$AO$9:$AO$68,\"25SMC\")*1,COUNTIF('Entry sheet-2-hin'!$AO$9:$AO$68,\"25SMCC\")*1))","v":""},{"$f":"IF(B33=\"\",\"\",IF(AND(COUNTIF('Entry sheet-2-hin'!$AO$9:$AO$68,\"25SOTC\")=0,COUNTIF('Entry sheet-2-hin'!$AO$9:$AO$68,\"25SOT\")=0),\"\",IF(COUNTIF('Entry sheet-2-hin'!$AO$9:$AO$68,\"25SOTC\")=0,COUNTIF('Entry sheet-2-hin'!$AO$9:$AO$68,\"25SOT\"),COUNTIF('Entry sheet-2-hin'!$AO$9:$AO$68,\"25SOTC\")&\"*\")))","v":""},{"$f":"IF(AU33=\"\",\"\",IF(COUNTIF('Entry sheet-2-hin'!$AO$9:$AO$68,\"25SOTC\")=0,COUNTIF('Entry sheet-2-hin'!$AO$9:$AO$68,\"25SOT\")*1,COUNTIF('Entry sheet-2-hin'!$AO$9:$AO$68,\"25SOTC\")*1))","v":""},{"$f":"IF(B33=\"\",\"\",IF(AND(COUNTIF('Entry sheet-2-hin'!$AO$9:$AO$68,\"1रसअलउ\")=0),\"\",COUNTIF('Entry sheet-2-hin'!$AO$9:$AO$68,\"1रसअलउ\")))","v":""},"",{"$f":"IF(B33=\"\",\"\",IF(AND(COUNTIF('Entry sheet-2-hin'!$AO$9:$AO$68,\"1रसलउ२\")=0),\"\",COUNTIF('Entry sheet-2-hin'!$AO$9:$AO$68,\"1रसलउ२\")))","v":""},{"$f":"IF(AY33=\"\",\"\",IF(COUNTIF('Entry sheet-2-hin'!$AO$9:$AO$68,\"25SSA2C\")=0,COUNTIF('Entry sheet-2-hin'!$AO$9:$AO$68,\"25SSA2\")*2,COUNTIF('Entry sheet-2-hin'!$AO$9:$AO$68,\"25SSA2C\")*2))","v":""},{"$f":"IF(B33=\"\",\"\",IF(AND(COUNTIF('Entry sheet-2-hin'!$AO$9:$AO$68,\"25SLA1C\")=0,COUNTIF('Entry sheet-2-hin'!$AO$9:$AO$68,\"25SLA1\")=0),\"\",IF(COUNTIF('Entry sheet-2-hin'!$AO$9:$AO$68,\"25SLA1C\")=0,COUNTIF('Entry sheet-2-hin'!$AO$9:$AO$68,\"25SLA1\"),COUNTIF('Entry sheet-2-hin'!$AO$9:$AO$68,\"25SLA1C\")&\"*\")))","v":""},{"$f":"IF(BA33=\"\",\"\",IF(COUNTIF('Entry sheet-2-hin'!$AO$9:$AO$68,\"25SLA1C\")=0,COUNTIF('Entry sheet-2-hin'!$AO$9:$AO$68,\"25SLA1\")*3,COUNTIF('Entry sheet-2-hin'!$AO$9:$AO$68,\"25SLA1C\")*3))","v":""},{"$f":"IF(B33=\"\",\"\",IF(AND(COUNTIF('Entry sheet-2-hin'!$AO$9:$AO$68,\"25SLA2C\")=0,COUNTIF('Entry sheet-2-hin'!$AO$9:$AO$68,\"25SLA2\")=0),\"\",IF(COUNTIF('Entry sheet-2-hin'!$AO$9:$AO$68,\"25SLA2C\")=0,COUNTIF('Entry sheet-2-hin'!$AO$9:$AO$68,\"25SLA2\"),COUNTIF('Entry sheet-2-hin'!$AO$9:$AO$68,\"25SLA2C\")&\"*\")))","v":""},"",{"$f":"IF(B33=\"\",\"\",IF(AND(COUNTIF('Entry sheet-2-hin'!$AO$9:$AO$68,\"1रसदीउ5\")=0),\"\",COUNTIF('Entry sheet-2-hin'!$AO$9:$AO$68,\"1रसदीउ5\")))","v":""},"","","","","","","","","","","","","","","","",""]
[{"$f":"IF('Entry sheet-1-hin'!A35=\"\",\"\",'Entry sheet-1-hin'!A35)","v":""},{"$f":"IF('Entry sheet-1-hin'!B35=\"\",\"\",'Entry sheet-1-hin'!B35)","v":""},{"$f":"IF(B34=\"\",\"\",IF(AND(COUNTIF('Entry sheet-2-hin'!$AO$9:$AO$68,\"26KMCC\")=0,COUNTIF('Entry sheet-2-hin'!$AO$9:$AO$68,\"26KMC\")=0),\"\",IF(COUNTIF('Entry sheet-2-hin'!$AO$9:$AO$68,\"26KMCC\")=0,COUNTIF('Entry sheet-2-hin'!$AO$9:$AO$68,\"26KMC\"),COUNTIF('Entry sheet-2-hin'!$AO$9:$AO$68,\"26KMCC\")&\"*\")))","v":""},"",{"$f":"IF(B34=\"\",\"\",IF(AND(COUNTIF('Entry sheet-2-hin'!$AO$9:$AO$68,\"26KOTC\")=0,COUNTIF('Entry sheet-2-hin'!$AO$9:$AO$68,\"26KOT\")=0),\"\",IF(COUNTIF('Entry sheet-2-hin'!$AO$9:$AO$68,\"26KOTC\")=0,COUNTIF('Entry sheet-2-hin'!$AO$9:$AO$68,\"26KOT\"),COUNTIF('Entry sheet-2-hin'!$AO$9:$AO$68,\"26KOTC\")&\"*\")))","v":""},"",{"$f":"IF(B34=\"\",\"\",IF(AND(COUNTIF('Entry sheet-2-hin'!$AO$9:$AO$68,\"26KSA1C\")=0,COUNTIF('Entry sheet-2-hin'!$AO$9:$AO$68,\"26KSA1\")=0),\"\",IF(COUNTIF('Entry sheet-2-hin'!$AO$9:$AO$68,\"26KSA1C\")=0,COUNTIF('Entry sheet-2-hin'!$AO$9:$AO$68,\"26KSA1\"),COUNTIF('Entry sheet-2-hin'!$AO$9:$AO$68,\"26KSA1C\")&\"*\")))","v":""},{"$f":"IF(G34=\"\",\"\",IF(COUNTIF('Entry sheet-2-hin'!$AO$9:$AO$68,\"26KSA1C\")=0,COUNTIF('Entry sheet-2-hin'!$AO$9:$AO$68,\"26KSA1\")*1,COUNTIF('Entry sheet-2-hin'!$AO$9:$AO$68,\"26KSA1C\")*1))","v":""},{"$f":"IF(B34=\"\",\"\",IF(AND(COUNTIF('Entry sheet-2-hin'!$AO$9:$AO$68,\"26KSA2C\")=0,COUNTIF('Entry sheet-2-hin'!$AO$9:$AO$68,\"26KSA2\")=0),\"\",IF(COUNTIF('Entry sheet-2-hin'!$AO$9:$AO$68,\"26KSA2C\")=0,COUNTIF('Entry sheet-2-hin'!$AO$9:$AO$68,\"26KSA2\"),COUNTIF('Entry sheet-2-hin'!$AO$9:$AO$68,\"26KSA2C\")&\"*\")))","v":""},{"$f":"IF(I34=\"\",\"\",IF(COUNTIF('Entry sheet-2-hin'!$AO$9:$AO$68,\"26KSA2C\")=0,COUNTIF('Entry sheet-2-hin'!$AO$9:$AO$68,\"26KSA2\")*2,COUNTIF('Entry sheet-2-hin'!$AO$9:$AO$68,\"26KSA2C\")*2))","v":""},{"$f":"IF(B34=\"\",\"\",IF(AND(COUNTIF('Entry sheet-2-hin'!$AO$9:$AO$68,\"26KLA1C\")=0,COUNTIF('Entry sheet-2-hin'!$AO$9:$AO$68,\"26KLA1\")=0),\"\",IF(COUNTIF('Entry sheet-2-hin'!$AO$9:$AO$68,\"26KLA1C\")=0,COUNTIF('Entry sheet-2-hin'!$AO$9:$AO$68,\"26KLA1\"),COUNTIF('Entry sheet-2-hin'!$AO$9:$AO$68,\"26KLA1C\")&\"*\")))","v":""},{"$f":"IF(K34=\"\",\"\",IF(COUNTIF('Entry sheet-2-hin'!$AO$9:$AO$68,\"26KLA1C\")=0,COUNTIF('Entry sheet-2-hin'!$AO$9:$AO$68,\"26KLA1\")*3,COUNTIF('Entry sheet-2-hin'!$AO$9:$AO$68,\"26KLA1C\")*3))","v":""},{"$f":"IF(B34=\"\",\"\",IF(AND(COUNTIF('Entry sheet-2-hin'!$AO$9:$AO$68,\"1स्मदीउ४\")=0),\"\",COUNTIF('Entry sheet-2-hin'!$AO$9:$AO$68,\"1स्मदीउ४\")))","v":""},"",{"$f":"IF(B34=\"\",\"\",IF(AND(COUNTIF('Entry sheet-2-hin'!$AO$9:$AO$68,\"1स्मदीउ5\")=0),\"\",COUNTIF('Entry sheet-2-hin'!$AO$9:$AO$68,\"1स्मदीउ5\")))","v":""},{"$f":"IF(O34=\"\",\"\",IF(COUNTIF('Entry sheet-2-hin'!$AO$9:$AO$68,\"1स्मदीउ5C\")=0,COUNTIF('Entry sheet-2-hin'!$AO$9:$AO$68,\"1स्मदीउ5\")*5,COUNTIF('Entry sheet-2-hin'!$AO$9:$AO$68,\"1स्मदीउ5C\")*5))","v":""},{"$f":"IF(B34=\"\",\"\",IF(AND(COUNTIF('Entry sheet-2-hin'!$AO$9:$AO$68,\"26UMCC\")=0,COUNTIF('Entry sheet-2-hin'!$AO$9:$AO$68,\"26UMC\")=0),\"\",IF(COUNTIF('Entry sheet-2-hin'!$AO$9:$AO$68,\"26UMCC\")=0,COUNTIF('Entry sheet-2-hin'!$AO$9:$AO$68,\"26UMC\"),COUNTIF('Entry sheet-2-hin'!$AO$9:$AO$68,\"26UMCC\")&\"*\")))","v":""},"",{"$f":"IF(B34=\"\",\"\",IF(AND(COUNTIF('Entry sheet-2-hin'!$AO$9:$AO$68,\"1समवनि\")=0),\"\",COUNTIF('Entry sheet-2-hin'!$AO$9:$AO$68,\"1समवनि\")))","v":""},"",{"$f":"IF(B34=\"\",\"\",IF(AND(COUNTIF('Entry sheet-2-hin'!$AO$9:$AO$68,\"1समअलउ\")=0),\"\",COUNTIF('Entry sheet-2-hin'!$AO$9:$AO$68,\"1समअलउ\")))","v":""},"",{"$f":"IF(B34=\"\",\"\",IF(AND(COUNTIF('Entry sheet-2-hin'!$AO$9:$AO$68,\"26USA2C\")=0,COUNTIF('Entry sheet-2-hin'!$AO$9:$AO$68,\"26USA2\")=0),\"\",IF(COUNTIF('Entry sheet-2-hin'!$AO$9:$AO$68,\"26USA2C\")=0,COUNTIF('Entry sheet-2-hin'!$AO$9:$AO$68,\"26USA2\"),COUNTIF('Entry sheet-2-hin'!$AO$9:$AO$68,\"26USA2C\")&\"*\")))","v":""},{"$f":"IF(W34=\"\",\"\",IF(COUNTIF('Entry sheet-2-hin'!$AO$9:$AO$68,\"26USA2C\")=0,COUNTIF('Entry sheet-2-hin'!$AO$9:$AO$68,\"26USA2\")*2,COUNTIF('Entry sheet-2-hin'!$AO$9:$AO$68,\"26USA2C\")*2))","v":""},{"$f":"IF(B34=\"\",\"\",IF(AND(COUNTIF('Entry sheet-2-hin'!$AO$9:$AO$68,\"26ULA1C\")=0,COUNTIF('Entry sheet-2-hin'!$AO$9:$AO$68,\"26ULA1\")=0),\"\",IF(COUNTIF('Entry sheet-2-hin'!$AO$9:$AO$68,\"26ULA1C\")=0,COUNTIF('Entry sheet-2-hin'!$AO$9:$AO$68,\"26ULA1\"),COUNTIF('Entry sheet-2-hin'!$AO$9:$AO$68,\"26ULA1C\")&\"*\")))","v":""},{"$f":"IF(Y34=\"\",\"\",IF(COUNTIF('Entry sheet-2-hin'!$AO$9:$AO$68,\"26ULA1C\")=0,COUNTIF('Entry sheet-2-hin'!$AO$9:$AO$68,\"26ULA1\")*3,COUNTIF('Entry sheet-2-hin'!$AO$9:$AO$68,\"26ULA1C\")*3))","v":""},{"$f":"IF(B34=\"\",\"\",IF(AND(COUNTIF('Entry sheet-2-hin'!$AO$9:$AO$68,\"1समदीउ४\")=0),\"\",COUNTIF('Entry sheet-2-hin'!$AO$9:$AO$68,\"1समदीउ४\")))","v":""},"",{"$f":"IF(B34=\"\",\"\",IF(AND(COUNTIF('Entry sheet-2-hin'!$AO$9:$AO$68,\"1समदीउ5\")=0),\"\",COUNTIF('Entry sheet-2-hin'!$AO$9:$AO$68,\"1समदीउ5\")))","v":""},{"$f":"IF(AC34=\"\",\"\",IF(COUNTIF('Entry sheet-2-hin'!$AO$9:$AO$68,\"1समदीउ5C\")=0,COUNTIF('Entry sheet-2-hin'!$AO$9:$AO$68,\"1समदीउ5\")*5,COUNTIF('Entry sheet-2-hin'!$AO$9:$AO$68,\"1समदीउ5C\")*5))","v":""},{"$f":"IF(B34=\"\",\"\",IF(AND(COUNTIF('Entry sheet-2-hin'!$AO$9:$AO$68,\"1अबवि\")=0),\"\",COUNTIF('Entry sheet-2-hin'!$AO$9:$AO$68,\"1अबवि\")))","v":""},{"$f":"IF(AE34=\"\",\"\",IF(COUNTIF('Entry sheet-2-hin'!$AO$9:$AO$68,\"26AMCC\")=0,COUNTIF('Entry sheet-2-hin'!$AO$9:$AO$68,\"26AMC\")*1,COUNTIF('Entry sheet-2-hin'!$AO$9:$AO$68,\"26AMCC\")*1))","v":""},{"$f":"IF(B34=\"\",\"\",IF(AND(COUNTIF('Entry sheet-2-hin'!$AO$9:$AO$68,\"26AOTC\")=0,COUNTIF('Entry sheet-2-hin'!$AO$9:$AO$68,\"26AOT\")=0),\"\",IF(COUNTIF('Entry sheet-2-hin'!$AO$9:$AO$68,\"26AOTC\")=0,COUNTIF('Entry sheet-2-hin'!$AO$9:$AO$68,\"26AOT\"),COUNTIF('Entry sheet-2-hin'!$AO$9:$AO$68,\"26AOTC\")&\"*\")))","v":""},{"$f":"IF(AG34=\"\",\"\",IF(COUNTIF('Entry sheet-2-hin'!$AO$9:$AO$68,\"26AOTC\")=0,COUNTIF('Entry sheet-2-hin'!$AO$9:$AO$68,\"26AOT\")*1,COUNTIF('Entry sheet-2-hin'!$AO$9:$AO$68,\"26AOTC\")*1))","v":""},{"$f":"IF(B34=\"\",\"\",IF(AND(COUNTIF('Entry sheet-2-hin'!$AO$9:$AO$68,\"1अअलउ\")=0),\"\",COUNTIF('Entry sheet-2-hin'!$AO$9:$AO$68,\"1अअलउ\")))","v":""},{"$f":"IF(AI34=\"\",\"\",IF(COUNTIF('Entry sheet-2-hin'!$AO$9:$AO$68,\"26ASA1C\")=0,COUNTIF('Entry sheet-2-hin'!$AO$9:$AO$68,\"26ASA1\")*1,COUNTIF('Entry sheet-2-hin'!$AO$9:$AO$68,\"26ASA1C\")*1))","v":""},{"$f":"IF(B34=\"\",\"\",IF(AND(COUNTIF('Entry sheet-2-hin'!$AO$9:$AO$68,\"26ASA2C\")=0,COUNTIF('Entry sheet-2-hin'!$AO$9:$AO$68,\"26ASA2\")=0),\"\",IF(COUNTIF('Entry sheet-2-hin'!$AO$9:$AO$68,\"26ASA2C\")=0,COUNTIF('Entry sheet-2-hin'!$AO$9:$AO$68,\"26ASA2\"),COUNTIF('Entry sheet-2-hin'!$AO$9:$AO$68,\"26ASA2C\")&\"*\")))","v":""},"",{"$f":"IF(B34=\"\",\"\",IF(AND(COUNTIF('Entry sheet-2-hin'!$AO$9:$AO$68,\"26ALA1C\")=0,COUNTIF('Entry sheet-2-hin'!$AO$9:$AO$68,\"26ALA1\")=0),\"\",IF(COUNTIF('Entry sheet-2-hin'!$AO$9:$AO$68,\"26ALA1C\")=0,COUNTIF('Entry sheet-2-hin'!$AO$9:$AO$68,\"26ALA1\"),COUNTIF('Entry sheet-2-hin'!$AO$9:$AO$68,\"26ALA1C\")&\"*\")))","v":""},"",{"$f":"IF(B34=\"\",\"\",IF(AND(COUNTIF('Entry sheet-2-hin'!$AO$9:$AO$68,\"26ALA2C\")=0,COUNTIF('Entry sheet-2-hin'!$AO$9:$AO$68,\"26ALA2\")=0),\"\",IF(COUNTIF('Entry sheet-2-hin'!$AO$9:$AO$68,\"26ALA2C\")=0,COUNTIF('Entry sheet-2-hin'!$AO$9:$AO$68,\"26ALA2\"),COUNTIF('Entry sheet-2-hin'!$AO$9:$AO$68,\"26ALA2C\")&\"*\")))","v":""},{"$f":"IF(AO34=\"\",\"\",IF(COUNTIF('Entry sheet-2-hin'!$AO$9:$AO$68,\"26ALA2C\")=0,COUNTIF('Entry sheet-2-hin'!$AO$9:$AO$68,\"26ALA2\")*4,COUNTIF('Entry sheet-2-hin'!$AO$9:$AO$68,\"26ALA2C\")*4))","v":""},{"$f":"IF(B34=\"\",\"\",IF(AND(COUNTIF('Entry sheet-2-hin'!$AO$9:$AO$68,\"1अदीउ5\")=0),\"\",COUNTIF('Entry sheet-2-hin'!$AO$9:$AO$68,\"1अदीउ5\")))","v":""},{"$f":"IF(AQ34=\"\",\"\",IF(COUNTIF('Entry sheet-2-hin'!$AO$9:$AO$68,\"1अदीउ5C\")=0,COUNTIF('Entry sheet-2-hin'!$AO$9:$AO$68,\"1अदीउ5\")*5,COUNTIF('Entry sheet-2-hin'!$AO$9:$AO$68,\"1अदीउ5C\")*5))","v":""},{"$f":"IF(B34=\"\",\"\",IF(AND(COUNTIF('Entry sheet-2-hin'!$AO$9:$AO$68,\"1रसबवि\")=0),\"\",COUNTIF('Entry sheet-2-hin'!$AO$9:$AO$68,\"1रसबवि\")))","v":""},{"$f":"IF(AS34=\"\",\"\",IF(COUNTIF('Entry sheet-2-hin'!$AO$9:$AO$68,\"26SMCC\")=0,COUNTIF('Entry sheet-2-hin'!$AO$9:$AO$68,\"26SMC\")*1,COUNTIF('Entry sheet-2-hin'!$AO$9:$AO$68,\"26SMCC\")*1))","v":""},{"$f":"IF(B34=\"\",\"\",IF(AND(COUNTIF('Entry sheet-2-hin'!$AO$9:$AO$68,\"26SOTC\")=0,COUNTIF('Entry sheet-2-hin'!$AO$9:$AO$68,\"26SOT\")=0),\"\",IF(COUNTIF('Entry sheet-2-hin'!$AO$9:$AO$68,\"26SOTC\")=0,COUNTIF('Entry sheet-2-hin'!$AO$9:$AO$68,\"26SOT\"),COUNTIF('Entry sheet-2-hin'!$AO$9:$AO$68,\"26SOTC\")&\"*\")))","v":""},{"$f":"IF(AU34=\"\",\"\",IF(COUNTIF('Entry sheet-2-hin'!$AO$9:$AO$68,\"26SOTC\")=0,COUNTIF('Entry sheet-2-hin'!$AO$9:$AO$68,\"26SOT\")*1,COUNTIF('Entry sheet-2-hin'!$AO$9:$AO$68,\"26SOTC\")*1))","v":""},{"$f":"IF(B34=\"\",\"\",IF(AND(COUNTIF('Entry sheet-2-hin'!$AO$9:$AO$68,\"1रसअलउ\")=0),\"\",COUNTIF('Entry sheet-2-hin'!$AO$9:$AO$68,\"1रसअलउ\")))","v":""},"",{"$f":"IF(B34=\"\",\"\",IF(AND(COUNTIF('Entry sheet-2-hin'!$AO$9:$AO$68,\"1रसलउ२\")=0),\"\",COUNTIF('Entry sheet-2-hin'!$AO$9:$AO$68,\"1रसलउ२\")))","v":""},{"$f":"IF(AY34=\"\",\"\",IF(COUNTIF('Entry sheet-2-hin'!$AO$9:$AO$68,\"26SSA2C\")=0,COUNTIF('Entry sheet-2-hin'!$AO$9:$AO$68,\"26SSA2\")*2,COUNTIF('Entry sheet-2-hin'!$AO$9:$AO$68,\"26SSA2C\")*2))","v":""},{"$f":"IF(B34=\"\",\"\",IF(AND(COUNTIF('Entry sheet-2-hin'!$AO$9:$AO$68,\"26SLA1C\")=0,COUNTIF('Entry sheet-2-hin'!$AO$9:$AO$68,\"26SLA1\")=0),\"\",IF(COUNTIF('Entry sheet-2-hin'!$AO$9:$AO$68,\"26SLA1C\")=0,COUNTIF('Entry sheet-2-hin'!$AO$9:$AO$68,\"26SLA1\"),COUNTIF('Entry sheet-2-hin'!$AO$9:$AO$68,\"26SLA1C\")&\"*\")))","v":""},{"$f":"IF(BA34=\"\",\"\",IF(COUNTIF('Entry sheet-2-hin'!$AO$9:$AO$68,\"26SLA1C\")=0,COUNTIF('Entry sheet-2-hin'!$AO$9:$AO$68,\"26SLA1\")*3,COUNTIF('Entry sheet-2-hin'!$AO$9:$AO$68,\"26SLA1C\")*3))","v":""},{"$f":"IF(B34=\"\",\"\",IF(AND(COUNTIF('Entry sheet-2-hin'!$AO$9:$AO$68,\"26SLA2C\")=0,COUNTIF('Entry sheet-2-hin'!$AO$9:$AO$68,\"26SLA2\")=0),\"\",IF(COUNTIF('Entry sheet-2-hin'!$AO$9:$AO$68,\"26SLA2C\")=0,COUNTIF('Entry sheet-2-hin'!$AO$9:$AO$68,\"26SLA2\"),COUNTIF('Entry sheet-2-hin'!$AO$9:$AO$68,\"26SLA2C\")&\"*\")))","v":""},"",{"$f":"IF(B34=\"\",\"\",IF(AND(COUNTIF('Entry sheet-2-hin'!$AO$9:$AO$68,\"1रसदीउ5\")=0),\"\",COUNTIF('Entry sheet-2-hin'!$AO$9:$AO$68,\"1रसदीउ5\")))","v":""},"","","","","","","","","","","","","","","","",""]
[{"$f":"IF('Entry sheet-1-hin'!A36=\"\",\"\",'Entry sheet-1-hin'!A36)","v":""},{"$f":"IF('Entry sheet-1-hin'!B36=\"\",\"\",'Entry sheet-1-hin'!B36)","v":""},{"$f":"IF(B35=\"\",\"\",IF(AND(COUNTIF('Entry sheet-2-hin'!$AO$9:$AO$68,\"27KMCC\")=0,COUNTIF('Entry sheet-2-hin'!$AO$9:$AO$68,\"27KMC\")=0),\"\",IF(COUNTIF('Entry sheet-2-hin'!$AO$9:$AO$68,\"27KMCC\")=0,COUNTIF('Entry sheet-2-hin'!$AO$9:$AO$68,\"27KMC\"),COUNTIF('Entry sheet-2-hin'!$AO$9:$AO$68,\"27KMCC\")&\"*\")))","v":""},"",{"$f":"IF(B35=\"\",\"\",IF(AND(COUNTIF('Entry sheet-2-hin'!$AO$9:$AO$68,\"27KOTC\")=0,COUNTIF('Entry sheet-2-hin'!$AO$9:$AO$68,\"27KOT\")=0),\"\",IF(COUNTIF('Entry sheet-2-hin'!$AO$9:$AO$68,\"27KOTC\")=0,COUNTIF('Entry sheet-2-hin'!$AO$9:$AO$68,\"27KOT\"),COUNTIF('Entry sheet-2-hin'!$AO$9:$AO$68,\"27KOTC\")&\"*\")))","v":""},"",{"$f":"IF(B35=\"\",\"\",IF(AND(COUNTIF('Entry sheet-2-hin'!$AO$9:$AO$68,\"27KSA1C\")=0,COUNTIF('Entry sheet-2-hin'!$AO$9:$AO$68,\"27KSA1\")=0),\"\",IF(COUNTIF('Entry sheet-2-hin'!$AO$9:$AO$68,\"27KSA1C\")=0,COUNTIF('Entry sheet-2-hin'!$AO$9:$AO$68,\"27KSA1\"),COUNTIF('Entry sheet-2-hin'!$AO$9:$AO$68,\"27KSA1C\")&\"*\")))","v":""},{"$f":"IF(G35=\"\",\"\",IF(COUNTIF('Entry sheet-2-hin'!$AO$9:$AO$68,\"27KSA1C\")=0,COUNTIF('Entry sheet-2-hin'!$AO$9:$AO$68,\"27KSA1\")*1,COUNTIF('Entry sheet-2-hin'!$AO$9:$AO$68,\"27KSA1C\")*1))","v":""},{"$f":"IF(B35=\"\",\"\",IF(AND(COUNTIF('Entry sheet-2-hin'!$AO$9:$AO$68,\"27KSA2C\")=0,COUNTIF('Entry sheet-2-hin'!$AO$9:$AO$68,\"27KSA2\")=0),\"\",IF(COUNTIF('Entry sheet-2-hin'!$AO$9:$AO$68,\"27KSA2C\")=0,COUNTIF('Entry sheet-2-hin'!$AO$9:$AO$68,\"27KSA2\"),COUNTIF('Entry sheet-2-hin'!$AO$9:$AO$68,\"27KSA2C\")&\"*\")))","v":""},{"$f":"IF(I35=\"\",\"\",IF(COUNTIF('Entry sheet-2-hin'!$AO$9:$AO$68,\"27KSA2C\")=0,COUNTIF('Entry sheet-2-hin'!$AO$9:$AO$68,\"27KSA2\")*2,COUNTIF('Entry sheet-2-hin'!$AO$9:$AO$68,\"27KSA2C\")*2))","v":""},{"$f":"IF(B35=\"\",\"\",IF(AND(COUNTIF('Entry sheet-2-hin'!$AO$9:$AO$68,\"27KLA1C\")=0,COUNTIF('Entry sheet-2-hin'!$AO$9:$AO$68,\"27KLA1\")=0),\"\",IF(COUNTIF('Entry sheet-2-hin'!$AO$9:$AO$68,\"27KLA1C\")=0,COUNTIF('Entry sheet-2-hin'!$AO$9:$AO$68,\"27KLA1\"),COUNTIF('Entry sheet-2-hin'!$AO$9:$AO$68,\"27KLA1C\")&\"*\")))","v":""},{"$f":"IF(K35=\"\",\"\",IF(COUNTIF('Entry sheet-2-hin'!$AO$9:$AO$68,\"27KLA1C\")=0,COUNTIF('Entry sheet-2-hin'!$AO$9:$AO$68,\"27KLA1\")*3,COUNTIF('Entry sheet-2-hin'!$AO$9:$AO$68,\"27KLA1C\")*3))","v":""},{"$f":"IF(B35=\"\",\"\",IF(AND(COUNTIF('Entry sheet-2-hin'!$AO$9:$AO$68,\"1स्मदीउ४\")=0),\"\",COUNTIF('Entry sheet-2-hin'!$AO$9:$AO$68,\"1स्मदीउ४\")))","v":""},"",{"$f":"IF(B35=\"\",\"\",IF(AND(COUNTIF('Entry sheet-2-hin'!$AO$9:$AO$68,\"1स्मदीउ5\")=0),\"\",COUNTIF('Entry sheet-2-hin'!$AO$9:$AO$68,\"1स्मदीउ5\")))","v":""},{"$f":"IF(O35=\"\",\"\",IF(COUNTIF('Entry sheet-2-hin'!$AO$9:$AO$68,\"1स्मदीउ5C\")=0,COUNTIF('Entry sheet-2-hin'!$AO$9:$AO$68,\"1स्मदीउ5\")*5,COUNTIF('Entry sheet-2-hin'!$AO$9:$AO$68,\"1स्मदीउ5C\")*5))","v":""},{"$f":"IF(B35=\"\",\"\",IF(AND(COUNTIF('Entry sheet-2-hin'!$AO$9:$AO$68,\"27UMCC\")=0,COUNTIF('Entry sheet-2-hin'!$AO$9:$AO$68,\"27UMC\")=0),\"\",IF(COUNTIF('Entry sheet-2-hin'!$AO$9:$AO$68,\"27UMCC\")=0,COUNTIF('Entry sheet-2-hin'!$AO$9:$AO$68,\"27UMC\"),COUNTIF('Entry sheet-2-hin'!$AO$9:$AO$68,\"27UMCC\")&\"*\")))","v":""},"",{"$f":"IF(B35=\"\",\"\",IF(AND(COUNTIF('Entry sheet-2-hin'!$AO$9:$AO$68,\"1समवनि\")=0),\"\",COUNTIF('Entry sheet-2-hin'!$AO$9:$AO$68,\"1समवनि\")))","v":""},"",{"$f":"IF(B35=\"\",\"\",IF(AND(COUNTIF('Entry sheet-2-hin'!$AO$9:$AO$68,\"1समअलउ\")=0),\"\",COUNTIF('Entry sheet-2-hin'!$AO$9:$AO$68,\"1समअलउ\")))","v":""},"",{"$f":"IF(B35=\"\",\"\",IF(AND(COUNTIF('Entry sheet-2-hin'!$AO$9:$AO$68,\"27USA2C\")=0,COUNTIF('Entry sheet-2-hin'!$AO$9:$AO$68,\"27USA2\")=0),\"\",IF(COUNTIF('Entry sheet-2-hin'!$AO$9:$AO$68,\"27USA2C\")=0,COUNTIF('Entry sheet-2-hin'!$AO$9:$AO$68,\"27USA2\"),COUNTIF('Entry sheet-2-hin'!$AO$9:$AO$68,\"27USA2C\")&\"*\")))","v":""},{"$f":"IF(W35=\"\",\"\",IF(COUNTIF('Entry sheet-2-hin'!$AO$9:$AO$68,\"27USA2C\")=0,COUNTIF('Entry sheet-2-hin'!$AO$9:$AO$68,\"27USA2\")*2,COUNTIF('Entry sheet-2-hin'!$AO$9:$AO$68,\"27USA2C\")*2))","v":""},{"$f":"IF(B35=\"\",\"\",IF(AND(COUNTIF('Entry sheet-2-hin'!$AO$9:$AO$68,\"27ULA1C\")=0,COUNTIF('Entry sheet-2-hin'!$AO$9:$AO$68,\"27ULA1\")=0),\"\",IF(COUNTIF('Entry sheet-2-hin'!$AO$9:$AO$68,\"27ULA1C\")=0,COUNTIF('Entry sheet-2-hin'!$AO$9:$AO$68,\"27ULA1\"),COUNTIF('Entry sheet-2-hin'!$AO$9:$AO$68,\"27ULA1C\")&\"*\")))","v":""},{"$f":"IF(Y35=\"\",\"\",IF(COUNTIF('Entry sheet-2-hin'!$AO$9:$AO$68,\"27ULA1C\")=0,COUNTIF('Entry sheet-2-hin'!$AO$9:$AO$68,\"27ULA1\")*3,COUNTIF('Entry sheet-2-hin'!$AO$9:$AO$68,\"27ULA1C\")*3))","v":""},{"$f":"IF(B35=\"\",\"\",IF(AND(COUNTIF('Entry sheet-2-hin'!$AO$9:$AO$68,\"1समदीउ४\")=0),\"\",COUNTIF('Entry sheet-2-hin'!$AO$9:$AO$68,\"1समदीउ४\")))","v":""},"",{"$f":"IF(B35=\"\",\"\",IF(AND(COUNTIF('Entry sheet-2-hin'!$AO$9:$AO$68,\"1समदीउ5\")=0),\"\",COUNTIF('Entry sheet-2-hin'!$AO$9:$AO$68,\"1समदीउ5\")))","v":""},{"$f":"IF(AC35=\"\",\"\",IF(COUNTIF('Entry sheet-2-hin'!$AO$9:$AO$68,\"1समदीउ5C\")=0,COUNTIF('Entry sheet-2-hin'!$AO$9:$AO$68,\"1समदीउ5\")*5,COUNTIF('Entry sheet-2-hin'!$AO$9:$AO$68,\"1समदीउ5C\")*5))","v":""},{"$f":"IF(B35=\"\",\"\",IF(AND(COUNTIF('Entry sheet-2-hin'!$AO$9:$AO$68,\"1अबवि\")=0),\"\",COUNTIF('Entry sheet-2-hin'!$AO$9:$AO$68,\"1अबवि\")))","v":""},{"$f":"IF(AE35=\"\",\"\",IF(COUNTIF('Entry sheet-2-hin'!$AO$9:$AO$68,\"27AMCC\")=0,COUNTIF('Entry sheet-2-hin'!$AO$9:$AO$68,\"27AMC\")*1,COUNTIF('Entry sheet-2-hin'!$AO$9:$AO$68,\"27AMCC\")*1))","v":""},{"$f":"IF(B35=\"\",\"\",IF(AND(COUNTIF('Entry sheet-2-hin'!$AO$9:$AO$68,\"27AOTC\")=0,COUNTIF('Entry sheet-2-hin'!$AO$9:$AO$68,\"27AOT\")=0),\"\",IF(COUNTIF('Entry sheet-2-hin'!$AO$9:$AO$68,\"27AOTC\")=0,COUNTIF('Entry sheet-2-hin'!$AO$9:$AO$68,\"27AOT\"),COUNTIF('Entry sheet-2-hin'!$AO$9:$AO$68,\"27AOTC\")&\"*\")))","v":""},{"$f":"IF(AG35=\"\",\"\",IF(COUNTIF('Entry sheet-2-hin'!$AO$9:$AO$68,\"27AOTC\")=0,COUNTIF('Entry sheet-2-hin'!$AO$9:$AO$68,\"27AOT\")*1,COUNTIF('Entry sheet-2-hin'!$AO$9:$AO$68,\"27AOTC\")*1))","v":""},{"$f":"IF(B35=\"\",\"\",IF(AND(COUNTIF('Entry sheet-2-hin'!$AO$9:$AO$68,\"1अअलउ\")=0),\"\",COUNTIF('Entry sheet-2-hin'!$AO$9:$AO$68,\"1अअलउ\")))","v":""},{"$f":"IF(AI35=\"\",\"\",IF(COUNTIF('Entry sheet-2-hin'!$AO$9:$AO$68,\"27ASA1C\")=0,COUNTIF('Entry sheet-2-hin'!$AO$9:$AO$68,\"27ASA1\")*1,COUNTIF('Entry sheet-2-hin'!$AO$9:$AO$68,\"27ASA1C\")*1))","v":""},{"$f":"IF(B35=\"\",\"\",IF(AND(COUNTIF('Entry sheet-2-hin'!$AO$9:$AO$68,\"27ASA2C\")=0,COUNTIF('Entry sheet-2-hin'!$AO$9:$AO$68,\"27ASA2\")=0),\"\",IF(COUNTIF('Entry sheet-2-hin'!$AO$9:$AO$68,\"27ASA2C\")=0,COUNTIF('Entry sheet-2-hin'!$AO$9:$AO$68,\"27ASA2\"),COUNTIF('Entry sheet-2-hin'!$AO$9:$AO$68,\"27ASA2C\")&\"*\")))","v":""},"",{"$f":"IF(B35=\"\",\"\",IF(AND(COUNTIF('Entry sheet-2-hin'!$AO$9:$AO$68,\"27ALA1C\")=0,COUNTIF('Entry sheet-2-hin'!$AO$9:$AO$68,\"27ALA1\")=0),\"\",IF(COUNTIF('Entry sheet-2-hin'!$AO$9:$AO$68,\"27ALA1C\")=0,COUNTIF('Entry sheet-2-hin'!$AO$9:$AO$68,\"27ALA1\"),COUNTIF('Entry sheet-2-hin'!$AO$9:$AO$68,\"27ALA1C\")&\"*\")))","v":""},"",{"$f":"IF(B35=\"\",\"\",IF(AND(COUNTIF('Entry sheet-2-hin'!$AO$9:$AO$68,\"27ALA2C\")=0,COUNTIF('Entry sheet-2-hin'!$AO$9:$AO$68,\"27ALA2\")=0),\"\",IF(COUNTIF('Entry sheet-2-hin'!$AO$9:$AO$68,\"27ALA2C\")=0,COUNTIF('Entry sheet-2-hin'!$AO$9:$AO$68,\"27ALA2\"),COUNTIF('Entry sheet-2-hin'!$AO$9:$AO$68,\"27ALA2C\")&\"*\")))","v":""},{"$f":"IF(AO35=\"\",\"\",IF(COUNTIF('Entry sheet-2-hin'!$AO$9:$AO$68,\"27ALA2C\")=0,COUNTIF('Entry sheet-2-hin'!$AO$9:$AO$68,\"27ALA2\")*4,COUNTIF('Entry sheet-2-hin'!$AO$9:$AO$68,\"27ALA2C\")*4))","v":""},{"$f":"IF(B35=\"\",\"\",IF(AND(COUNTIF('Entry sheet-2-hin'!$AO$9:$AO$68,\"1अदीउ5\")=0),\"\",COUNTIF('Entry sheet-2-hin'!$AO$9:$AO$68,\"1अदीउ5\")))","v":""},{"$f":"IF(AQ35=\"\",\"\",IF(COUNTIF('Entry sheet-2-hin'!$AO$9:$AO$68,\"1अदीउ5C\")=0,COUNTIF('Entry sheet-2-hin'!$AO$9:$AO$68,\"1अदीउ5\")*5,COUNTIF('Entry sheet-2-hin'!$AO$9:$AO$68,\"1अदीउ5C\")*5))","v":""},{"$f":"IF(B35=\"\",\"\",IF(AND(COUNTIF('Entry sheet-2-hin'!$AO$9:$AO$68,\"1रसबवि\")=0),\"\",COUNTIF('Entry sheet-2-hin'!$AO$9:$AO$68,\"1रसबवि\")))","v":""},{"$f":"IF(AS35=\"\",\"\",IF(COUNTIF('Entry sheet-2-hin'!$AO$9:$AO$68,\"27SMCC\")=0,COUNTIF('Entry sheet-2-hin'!$AO$9:$AO$68,\"27SMC\")*1,COUNTIF('Entry sheet-2-hin'!$AO$9:$AO$68,\"27SMCC\")*1))","v":""},{"$f":"IF(B35=\"\",\"\",IF(AND(COUNTIF('Entry sheet-2-hin'!$AO$9:$AO$68,\"27SOTC\")=0,COUNTIF('Entry sheet-2-hin'!$AO$9:$AO$68,\"27SOT\")=0),\"\",IF(COUNTIF('Entry sheet-2-hin'!$AO$9:$AO$68,\"27SOTC\")=0,COUNTIF('Entry sheet-2-hin'!$AO$9:$AO$68,\"27SOT\"),COUNTIF('Entry sheet-2-hin'!$AO$9:$AO$68,\"27SOTC\")&\"*\")))","v":""},{"$f":"IF(AU35=\"\",\"\",IF(COUNTIF('Entry sheet-2-hin'!$AO$9:$AO$68,\"27SOTC\")=0,COUNTIF('Entry sheet-2-hin'!$AO$9:$AO$68,\"27SOT\")*1,COUNTIF('Entry sheet-2-hin'!$AO$9:$AO$68,\"27SOTC\")*1))","v":""},{"$f":"IF(B35=\"\",\"\",IF(AND(COUNTIF('Entry sheet-2-hin'!$AO$9:$AO$68,\"1रसअलउ\")=0),\"\",COUNTIF('Entry sheet-2-hin'!$AO$9:$AO$68,\"1रसअलउ\")))","v":""},"",{"$f":"IF(B35=\"\",\"\",IF(AND(COUNTIF('Entry sheet-2-hin'!$AO$9:$AO$68,\"1रसलउ२\")=0),\"\",COUNTIF('Entry sheet-2-hin'!$AO$9:$AO$68,\"1रसलउ२\")))","v":""},{"$f":"IF(AY35=\"\",\"\",IF(COUNTIF('Entry sheet-2-hin'!$AO$9:$AO$68,\"27SSA2C\")=0,COUNTIF('Entry sheet-2-hin'!$AO$9:$AO$68,\"27SSA2\")*2,COUNTIF('Entry sheet-2-hin'!$AO$9:$AO$68,\"27SSA2C\")*2))","v":""},{"$f":"IF(B35=\"\",\"\",IF(AND(COUNTIF('Entry sheet-2-hin'!$AO$9:$AO$68,\"27SLA1C\")=0,COUNTIF('Entry sheet-2-hin'!$AO$9:$AO$68,\"27SLA1\")=0),\"\",IF(COUNTIF('Entry sheet-2-hin'!$AO$9:$AO$68,\"27SLA1C\")=0,COUNTIF('Entry sheet-2-hin'!$AO$9:$AO$68,\"27SLA1\"),COUNTIF('Entry sheet-2-hin'!$AO$9:$AO$68,\"27SLA1C\")&\"*\")))","v":""},{"$f":"IF(BA35=\"\",\"\",IF(COUNTIF('Entry sheet-2-hin'!$AO$9:$AO$68,\"27SLA1C\")=0,COUNTIF('Entry sheet-2-hin'!$AO$9:$AO$68,\"27SLA1\")*3,COUNTIF('Entry sheet-2-hin'!$AO$9:$AO$68,\"27SLA1C\")*3))","v":""},{"$f":"IF(B35=\"\",\"\",IF(AND(COUNTIF('Entry sheet-2-hin'!$AO$9:$AO$68,\"27SLA2C\")=0,COUNTIF('Entry sheet-2-hin'!$AO$9:$AO$68,\"27SLA2\")=0),\"\",IF(COUNTIF('Entry sheet-2-hin'!$AO$9:$AO$68,\"27SLA2C\")=0,COUNTIF('Entry sheet-2-hin'!$AO$9:$AO$68,\"27SLA2\"),COUNTIF('Entry sheet-2-hin'!$AO$9:$AO$68,\"27SLA2C\")&\"*\")))","v":""},"",{"$f":"IF(B35=\"\",\"\",IF(AND(COUNTIF('Entry sheet-2-hin'!$AO$9:$AO$68,\"1रसदीउ5\")=0),\"\",COUNTIF('Entry sheet-2-hin'!$AO$9:$AO$68,\"1रसदीउ5\")))","v":""},"","","","","","","","","","","","","","","","",""]
[{"$f":"IF('Entry sheet-1-hin'!A37=\"\",\"\",'Entry sheet-1-hin'!A37)","v":""},{"$f":"IF('Entry sheet-1-hin'!B37=\"\",\"\",'Entry sheet-1-hin'!B37)","v":""},{"$f":"IF(B36=\"\",\"\",IF(AND(COUNTIF('Entry sheet-2-hin'!$AO$9:$AO$68,\"28KMCC\")=0,COUNTIF('Entry sheet-2-hin'!$AO$9:$AO$68,\"28KMC\")=0),\"\",IF(COUNTIF('Entry sheet-2-hin'!$AO$9:$AO$68,\"28KMCC\")=0,COUNTIF('Entry sheet-2-hin'!$AO$9:$AO$68,\"28KMC\"),COUNTIF('Entry sheet-2-hin'!$AO$9:$AO$68,\"28KMCC\")&\"*\")))","v":""},"",{"$f":"IF(B36=\"\",\"\",IF(AND(COUNTIF('Entry sheet-2-hin'!$AO$9:$AO$68,\"28KOTC\")=0,COUNTIF('Entry sheet-2-hin'!$AO$9:$AO$68,\"28KOT\")=0),\"\",IF(COUNTIF('Entry sheet-2-hin'!$AO$9:$AO$68,\"28KOTC\")=0,COUNTIF('Entry sheet-2-hin'!$AO$9:$AO$68,\"28KOT\"),COUNTIF('Entry sheet-2-hin'!$AO$9:$AO$68,\"28KOTC\")&\"*\")))","v":""},"",{"$f":"IF(B36=\"\",\"\",IF(AND(COUNTIF('Entry sheet-2-hin'!$AO$9:$AO$68,\"28KSA1C\")=0,COUNTIF('Entry sheet-2-hin'!$AO$9:$AO$68,\"28KSA1\")=0),\"\",IF(COUNTIF('Entry sheet-2-hin'!$AO$9:$AO$68,\"28KSA1C\")=0,COUNTIF('Entry sheet-2-hin'!$AO$9:$AO$68,\"28KSA1\"),COUNTIF('Entry sheet-2-hin'!$AO$9:$AO$68,\"28KSA1C\")&\"*\")))","v":""},{"$f":"IF(G36=\"\",\"\",IF(COUNTIF('Entry sheet-2-hin'!$AO$9:$AO$68,\"28KSA1C\")=0,COUNTIF('Entry sheet-2-hin'!$AO$9:$AO$68,\"28KSA1\")*1,COUNTIF('Entry sheet-2-hin'!$AO$9:$AO$68,\"28KSA1C\")*1))","v":""},{"$f":"IF(B36=\"\",\"\",IF(AND(COUNTIF('Entry sheet-2-hin'!$AO$9:$AO$68,\"28KSA2C\")=0,COUNTIF('Entry sheet-2-hin'!$AO$9:$AO$68,\"28KSA2\")=0),\"\",IF(COUNTIF('Entry sheet-2-hin'!$AO$9:$AO$68,\"28KSA2C\")=0,COUNTIF('Entry sheet-2-hin'!$AO$9:$AO$68,\"28KSA2\"),COUNTIF('Entry sheet-2-hin'!$AO$9:$AO$68,\"28KSA2C\")&\"*\")))","v":""},{"$f":"IF(I36=\"\",\"\",IF(COUNTIF('Entry sheet-2-hin'!$AO$9:$AO$68,\"28KSA2C\")=0,COUNTIF('Entry sheet-2-hin'!$AO$9:$AO$68,\"28KSA2\")*2,COUNTIF('Entry sheet-2-hin'!$AO$9:$AO$68,\"28KSA2C\")*2))","v":""},{"$f":"IF(B36=\"\",\"\",IF(AND(COUNTIF('Entry sheet-2-hin'!$AO$9:$AO$68,\"28KLA1C\")=0,COUNTIF('Entry sheet-2-hin'!$AO$9:$AO$68,\"28KLA1\")=0),\"\",IF(COUNTIF('Entry sheet-2-hin'!$AO$9:$AO$68,\"28KLA1C\")=0,COUNTIF('Entry sheet-2-hin'!$AO$9:$AO$68,\"28KLA1\"),COUNTIF('Entry sheet-2-hin'!$AO$9:$AO$68,\"28KLA1C\")&\"*\")))","v":""},{"$f":"IF(K36=\"\",\"\",IF(COUNTIF('Entry sheet-2-hin'!$AO$9:$AO$68,\"28KLA1C\")=0,COUNTIF('Entry sheet-2-hin'!$AO$9:$AO$68,\"28KLA1\")*3,COUNTIF('Entry sheet-2-hin'!$AO$9:$AO$68,\"28KLA1C\")*3))","v":""},{"$f":"IF(B36=\"\",\"\",IF(AND(COUNTIF('Entry sheet-2-hin'!$AO$9:$AO$68,\"1स्मदीउ४\")=0),\"\",COUNTIF('Entry sheet-2-hin'!$AO$9:$AO$68,\"1स्मदीउ४\")))","v":""},"",{"$f":"IF(B36=\"\",\"\",IF(AND(COUNTIF('Entry sheet-2-hin'!$AO$9:$AO$68,\"1स्मदीउ5\")=0),\"\",COUNTIF('Entry sheet-2-hin'!$AO$9:$AO$68,\"1स्मदीउ5\")))","v":""},{"$f":"IF(O36=\"\",\"\",IF(COUNTIF('Entry sheet-2-hin'!$AO$9:$AO$68,\"1स्मदीउ5C\")=0,COUNTIF('Entry sheet-2-hin'!$AO$9:$AO$68,\"1स्मदीउ5\")*5,COUNTIF('Entry sheet-2-hin'!$AO$9:$AO$68,\"1स्मदीउ5C\")*5))","v":""},{"$f":"IF(B36=\"\",\"\",IF(AND(COUNTIF('Entry sheet-2-hin'!$AO$9:$AO$68,\"28UMCC\")=0,COUNTIF('Entry sheet-2-hin'!$AO$9:$AO$68,\"28UMC\")=0),\"\",IF(COUNTIF('Entry sheet-2-hin'!$AO$9:$AO$68,\"28UMCC\")=0,COUNTIF('Entry sheet-2-hin'!$AO$9:$AO$68,\"28UMC\"),COUNTIF('Entry sheet-2-hin'!$AO$9:$AO$68,\"28UMCC\")&\"*\")))","v":""},"",{"$f":"IF(B36=\"\",\"\",IF(AND(COUNTIF('Entry sheet-2-hin'!$AO$9:$AO$68,\"1समवनि\")=0),\"\",COUNTIF('Entry sheet-2-hin'!$AO$9:$AO$68,\"1समवनि\")))","v":""},"",{"$f":"IF(B36=\"\",\"\",IF(AND(COUNTIF('Entry sheet-2-hin'!$AO$9:$AO$68,\"1समअलउ\")=0),\"\",COUNTIF('Entry sheet-2-hin'!$AO$9:$AO$68,\"1समअलउ\")))","v":""},"",{"$f":"IF(B36=\"\",\"\",IF(AND(COUNTIF('Entry sheet-2-hin'!$AO$9:$AO$68,\"28USA2C\")=0,COUNTIF('Entry sheet-2-hin'!$AO$9:$AO$68,\"28USA2\")=0),\"\",IF(COUNTIF('Entry sheet-2-hin'!$AO$9:$AO$68,\"28USA2C\")=0,COUNTIF('Entry sheet-2-hin'!$AO$9:$AO$68,\"28USA2\"),COUNTIF('Entry sheet-2-hin'!$AO$9:$AO$68,\"28USA2C\")&\"*\")))","v":""},{"$f":"IF(W36=\"\",\"\",IF(COUNTIF('Entry sheet-2-hin'!$AO$9:$AO$68,\"28USA2C\")=0,COUNTIF('Entry sheet-2-hin'!$AO$9:$AO$68,\"28USA2\")*2,COUNTIF('Entry sheet-2-hin'!$AO$9:$AO$68,\"28USA2C\")*2))","v":""},{"$f":"IF(B36=\"\",\"\",IF(AND(COUNTIF('Entry sheet-2-hin'!$AO$9:$AO$68,\"28ULA1C\")=0,COUNTIF('Entry sheet-2-hin'!$AO$9:$AO$68,\"28ULA1\")=0),\"\",IF(COUNTIF('Entry sheet-2-hin'!$AO$9:$AO$68,\"28ULA1C\")=0,COUNTIF('Entry sheet-2-hin'!$AO$9:$AO$68,\"28ULA1\"),COUNTIF('Entry sheet-2-hin'!$AO$9:$AO$68,\"28ULA1C\")&\"*\")))","v":""},{"$f":"IF(Y36=\"\",\"\",IF(COUNTIF('Entry sheet-2-hin'!$AO$9:$AO$68,\"28ULA1C\")=0,COUNTIF('Entry sheet-2-hin'!$AO$9:$AO$68,\"28ULA1\")*3,COUNTIF('Entry sheet-2-hin'!$AO$9:$AO$68,\"28ULA1C\")*3))","v":""},{"$f":"IF(B36=\"\",\"\",IF(AND(COUNTIF('Entry sheet-2-hin'!$AO$9:$AO$68,\"1समदीउ४\")=0),\"\",COUNTIF('Entry sheet-2-hin'!$AO$9:$AO$68,\"1समदीउ४\")))","v":""},"",{"$f":"IF(B36=\"\",\"\",IF(AND(COUNTIF('Entry sheet-2-hin'!$AO$9:$AO$68,\"1समदीउ5\")=0),\"\",COUNTIF('Entry sheet-2-hin'!$AO$9:$AO$68,\"1समदीउ5\")))","v":""},{"$f":"IF(AC36=\"\",\"\",IF(COUNTIF('Entry sheet-2-hin'!$AO$9:$AO$68,\"1समदीउ5C\")=0,COUNTIF('Entry sheet-2-hin'!$AO$9:$AO$68,\"1समदीउ5\")*5,COUNTIF('Entry sheet-2-hin'!$AO$9:$AO$68,\"1समदीउ5C\")*5))","v":""},{"$f":"IF(B36=\"\",\"\",IF(AND(COUNTIF('Entry sheet-2-hin'!$AO$9:$AO$68,\"1अबवि\")=0),\"\",COUNTIF('Entry sheet-2-hin'!$AO$9:$AO$68,\"1अबवि\")))","v":""},{"$f":"IF(AE36=\"\",\"\",IF(COUNTIF('Entry sheet-2-hin'!$AO$9:$AO$68,\"28AMCC\")=0,COUNTIF('Entry sheet-2-hin'!$AO$9:$AO$68,\"28AMC\")*1,COUNTIF('Entry sheet-2-hin'!$AO$9:$AO$68,\"28AMCC\")*1))","v":""},{"$f":"IF(B36=\"\",\"\",IF(AND(COUNTIF('Entry sheet-2-hin'!$AO$9:$AO$68,\"28AOTC\")=0,COUNTIF('Entry sheet-2-hin'!$AO$9:$AO$68,\"28AOT\")=0),\"\",IF(COUNTIF('Entry sheet-2-hin'!$AO$9:$AO$68,\"28AOTC\")=0,COUNTIF('Entry sheet-2-hin'!$AO$9:$AO$68,\"28AOT\"),COUNTIF('Entry sheet-2-hin'!$AO$9:$AO$68,\"28AOTC\")&\"*\")))","v":""},{"$f":"IF(AG36=\"\",\"\",IF(COUNTIF('Entry sheet-2-hin'!$AO$9:$AO$68,\"28AOTC\")=0,COUNTIF('Entry sheet-2-hin'!$AO$9:$AO$68,\"28AOT\")*1,COUNTIF('Entry sheet-2-hin'!$AO$9:$AO$68,\"28AOTC\")*1))","v":""},{"$f":"IF(B36=\"\",\"\",IF(AND(COUNTIF('Entry sheet-2-hin'!$AO$9:$AO$68,\"1अअलउ\")=0),\"\",COUNTIF('Entry sheet-2-hin'!$AO$9:$AO$68,\"1अअलउ\")))","v":""},{"$f":"IF(AI36=\"\",\"\",IF(COUNTIF('Entry sheet-2-hin'!$AO$9:$AO$68,\"28ASA1C\")=0,COUNTIF('Entry sheet-2-hin'!$AO$9:$AO$68,\"28ASA1\")*1,COUNTIF('Entry sheet-2-hin'!$AO$9:$AO$68,\"28ASA1C\")*1))","v":""},{"$f":"IF(B36=\"\",\"\",IF(AND(COUNTIF('Entry sheet-2-hin'!$AO$9:$AO$68,\"28ASA2C\")=0,COUNTIF('Entry sheet-2-hin'!$AO$9:$AO$68,\"28ASA2\")=0),\"\",IF(COUNTIF('Entry sheet-2-hin'!$AO$9:$AO$68,\"28ASA2C\")=0,COUNTIF('Entry sheet-2-hin'!$AO$9:$AO$68,\"28ASA2\"),COUNTIF('Entry sheet-2-hin'!$AO$9:$AO$68,\"28ASA2C\")&\"*\")))","v":""},"",{"$f":"IF(B36=\"\",\"\",IF(AND(COUNTIF('Entry sheet-2-hin'!$AO$9:$AO$68,\"28ALA1C\")=0,COUNTIF('Entry sheet-2-hin'!$AO$9:$AO$68,\"28ALA1\")=0),\"\",IF(COUNTIF('Entry sheet-2-hin'!$AO$9:$AO$68,\"28ALA1C\")=0,COUNTIF('Entry sheet-2-hin'!$AO$9:$AO$68,\"28ALA1\"),COUNTIF('Entry sheet-2-hin'!$AO$9:$AO$68,\"28ALA1C\")&\"*\")))","v":""},"",{"$f":"IF(B36=\"\",\"\",IF(AND(COUNTIF('Entry sheet-2-hin'!$AO$9:$AO$68,\"28ALA2C\")=0,COUNTIF('Entry sheet-2-hin'!$AO$9:$AO$68,\"28ALA2\")=0),\"\",IF(COUNTIF('Entry sheet-2-hin'!$AO$9:$AO$68,\"28ALA2C\")=0,COUNTIF('Entry sheet-2-hin'!$AO$9:$AO$68,\"28ALA2\"),COUNTIF('Entry sheet-2-hin'!$AO$9:$AO$68,\"28ALA2C\")&\"*\")))","v":""},{"$f":"IF(AO36=\"\",\"\",IF(COUNTIF('Entry sheet-2-hin'!$AO$9:$AO$68,\"28ALA2C\")=0,COUNTIF('Entry sheet-2-hin'!$AO$9:$AO$68,\"28ALA2\")*4,COUNTIF('Entry sheet-2-hin'!$AO$9:$AO$68,\"28ALA2C\")*4))","v":""},{"$f":"IF(B36=\"\",\"\",IF(AND(COUNTIF('Entry sheet-2-hin'!$AO$9:$AO$68,\"1अदीउ5\")=0),\"\",COUNTIF('Entry sheet-2-hin'!$AO$9:$AO$68,\"1अदीउ5\")))","v":""},{"$f":"IF(AQ36=\"\",\"\",IF(COUNTIF('Entry sheet-2-hin'!$AO$9:$AO$68,\"1अदीउ5C\")=0,COUNTIF('Entry sheet-2-hin'!$AO$9:$AO$68,\"1अदीउ5\")*5,COUNTIF('Entry sheet-2-hin'!$AO$9:$AO$68,\"1अदीउ5C\")*5))","v":""},{"$f":"IF(B36=\"\",\"\",IF(AND(COUNTIF('Entry sheet-2-hin'!$AO$9:$AO$68,\"1रसबवि\")=0),\"\",COUNTIF('Entry sheet-2-hin'!$AO$9:$AO$68,\"1रसबवि\")))","v":""},{"$f":"IF(AS36=\"\",\"\",IF(COUNTIF('Entry sheet-2-hin'!$AO$9:$AO$68,\"28SMCC\")=0,COUNTIF('Entry sheet-2-hin'!$AO$9:$AO$68,\"28SMC\")*1,COUNTIF('Entry sheet-2-hin'!$AO$9:$AO$68,\"28SMCC\")*1))","v":""},{"$f":"IF(B36=\"\",\"\",IF(AND(COUNTIF('Entry sheet-2-hin'!$AO$9:$AO$68,\"28SOTC\")=0,COUNTIF('Entry sheet-2-hin'!$AO$9:$AO$68,\"28SOT\")=0),\"\",IF(COUNTIF('Entry sheet-2-hin'!$AO$9:$AO$68,\"28SOTC\")=0,COUNTIF('Entry sheet-2-hin'!$AO$9:$AO$68,\"28SOT\"),COUNTIF('Entry sheet-2-hin'!$AO$9:$AO$68,\"28SOTC\")&\"*\")))","v":""},{"$f":"IF(AU36=\"\",\"\",IF(COUNTIF('Entry sheet-2-hin'!$AO$9:$AO$68,\"28SOTC\")=0,COUNTIF('Entry sheet-2-hin'!$AO$9:$AO$68,\"28SOT\")*1,COUNTIF('Entry sheet-2-hin'!$AO$9:$AO$68,\"28SOTC\")*1))","v":""},{"$f":"IF(B36=\"\",\"\",IF(AND(COUNTIF('Entry sheet-2-hin'!$AO$9:$AO$68,\"1रसअलउ\")=0),\"\",COUNTIF('Entry sheet-2-hin'!$AO$9:$AO$68,\"1रसअलउ\")))","v":""},"",{"$f":"IF(B36=\"\",\"\",IF(AND(COUNTIF('Entry sheet-2-hin'!$AO$9:$AO$68,\"1रसलउ२\")=0),\"\",COUNTIF('Entry sheet-2-hin'!$AO$9:$AO$68,\"1रसलउ२\")))","v":""},{"$f":"IF(AY36=\"\",\"\",IF(COUNTIF('Entry sheet-2-hin'!$AO$9:$AO$68,\"28SSA2C\")=0,COUNTIF('Entry sheet-2-hin'!$AO$9:$AO$68,\"28SSA2\")*2,COUNTIF('Entry sheet-2-hin'!$AO$9:$AO$68,\"28SSA2C\")*2))","v":""},{"$f":"IF(B36=\"\",\"\",IF(AND(COUNTIF('Entry sheet-2-hin'!$AO$9:$AO$68,\"28SLA1C\")=0,COUNTIF('Entry sheet-2-hin'!$AO$9:$AO$68,\"28SLA1\")=0),\"\",IF(COUNTIF('Entry sheet-2-hin'!$AO$9:$AO$68,\"28SLA1C\")=0,COUNTIF('Entry sheet-2-hin'!$AO$9:$AO$68,\"28SLA1\"),COUNTIF('Entry sheet-2-hin'!$AO$9:$AO$68,\"28SLA1C\")&\"*\")))","v":""},{"$f":"IF(BA36=\"\",\"\",IF(COUNTIF('Entry sheet-2-hin'!$AO$9:$AO$68,\"28SLA1C\")=0,COUNTIF('Entry sheet-2-hin'!$AO$9:$AO$68,\"28SLA1\")*3,COUNTIF('Entry sheet-2-hin'!$AO$9:$AO$68,\"28SLA1C\")*3))","v":""},{"$f":"IF(B36=\"\",\"\",IF(AND(COUNTIF('Entry sheet-2-hin'!$AO$9:$AO$68,\"28SLA2C\")=0,COUNTIF('Entry sheet-2-hin'!$AO$9:$AO$68,\"28SLA2\")=0),\"\",IF(COUNTIF('Entry sheet-2-hin'!$AO$9:$AO$68,\"28SLA2C\")=0,COUNTIF('Entry sheet-2-hin'!$AO$9:$AO$68,\"28SLA2\"),COUNTIF('Entry sheet-2-hin'!$AO$9:$AO$68,\"28SLA2C\")&\"*\")))","v":""},"",{"$f":"IF(B36=\"\",\"\",IF(AND(COUNTIF('Entry sheet-2-hin'!$AO$9:$AO$68,\"1रसदीउ5\")=0),\"\",COUNTIF('Entry sheet-2-hin'!$AO$9:$AO$68,\"1रसदीउ5\")))","v":""},"","","","","","","","","","","","","","","","",""]
[{"$f":"IF('Entry sheet-1-hin'!A38=\"\",\"\",'Entry sheet-1-hin'!A38)","v":""},{"$f":"IF('Entry sheet-1-hin'!B38=\"\",\"\",'Entry sheet-1-hin'!B38)","v":""},{"$f":"IF(B37=\"\",\"\",IF(AND(COUNTIF('Entry sheet-2-hin'!$AO$9:$AO$68,\"29KMCC\")=0,COUNTIF('Entry sheet-2-hin'!$AO$9:$AO$68,\"29KMC\")=0),\"\",IF(COUNTIF('Entry sheet-2-hin'!$AO$9:$AO$68,\"29KMCC\")=0,COUNTIF('Entry sheet-2-hin'!$AO$9:$AO$68,\"29KMC\"),COUNTIF('Entry sheet-2-hin'!$AO$9:$AO$68,\"29KMCC\")&\"*\")))","v":""},"",{"$f":"IF(B37=\"\",\"\",IF(AND(COUNTIF('Entry sheet-2-hin'!$AO$9:$AO$68,\"29KOTC\")=0,COUNTIF('Entry sheet-2-hin'!$AO$9:$AO$68,\"29KOT\")=0),\"\",IF(COUNTIF('Entry sheet-2-hin'!$AO$9:$AO$68,\"29KOTC\")=0,COUNTIF('Entry sheet-2-hin'!$AO$9:$AO$68,\"29KOT\"),COUNTIF('Entry sheet-2-hin'!$AO$9:$AO$68,\"29KOTC\")&\"*\")))","v":""},"",{"$f":"IF(B37=\"\",\"\",IF(AND(COUNTIF('Entry sheet-2-hin'!$AO$9:$AO$68,\"29KSA1C\")=0,COUNTIF('Entry sheet-2-hin'!$AO$9:$AO$68,\"29KSA1\")=0),\"\",IF(COUNTIF('Entry sheet-2-hin'!$AO$9:$AO$68,\"29KSA1C\")=0,COUNTIF('Entry sheet-2-hin'!$AO$9:$AO$68,\"29KSA1\"),COUNTIF('Entry sheet-2-hin'!$AO$9:$AO$68,\"29KSA1C\")&\"*\")))","v":""},{"$f":"IF(G37=\"\",\"\",IF(COUNTIF('Entry sheet-2-hin'!$AO$9:$AO$68,\"29KSA1C\")=0,COUNTIF('Entry sheet-2-hin'!$AO$9:$AO$68,\"29KSA1\")*1,COUNTIF('Entry sheet-2-hin'!$AO$9:$AO$68,\"29KSA1C\")*1))","v":""},{"$f":"IF(B37=\"\",\"\",IF(AND(COUNTIF('Entry sheet-2-hin'!$AO$9:$AO$68,\"29KSA2C\")=0,COUNTIF('Entry sheet-2-hin'!$AO$9:$AO$68,\"29KSA2\")=0),\"\",IF(COUNTIF('Entry sheet-2-hin'!$AO$9:$AO$68,\"29KSA2C\")=0,COUNTIF('Entry sheet-2-hin'!$AO$9:$AO$68,\"29KSA2\"),COUNTIF('Entry sheet-2-hin'!$AO$9:$AO$68,\"29KSA2C\")&\"*\")))","v":""},{"$f":"IF(I37=\"\",\"\",IF(COUNTIF('Entry sheet-2-hin'!$AO$9:$AO$68,\"29KSA2C\")=0,COUNTIF('Entry sheet-2-hin'!$AO$9:$AO$68,\"29KSA2\")*2,COUNTIF('Entry sheet-2-hin'!$AO$9:$AO$68,\"29KSA2C\")*2))","v":""},{"$f":"IF(B37=\"\",\"\",IF(AND(COUNTIF('Entry sheet-2-hin'!$AO$9:$AO$68,\"29KLA1C\")=0,COUNTIF('Entry sheet-2-hin'!$AO$9:$AO$68,\"29KLA1\")=0),\"\",IF(COUNTIF('Entry sheet-2-hin'!$AO$9:$AO$68,\"29KLA1C\")=0,COUNTIF('Entry sheet-2-hin'!$AO$9:$AO$68,\"29KLA1\"),COUNTIF('Entry sheet-2-hin'!$AO$9:$AO$68,\"29KLA1C\")&\"*\")))","v":""},{"$f":"IF(K37=\"\",\"\",IF(COUNTIF('Entry sheet-2-hin'!$AO$9:$AO$68,\"29KLA1C\")=0,COUNTIF('Entry sheet-2-hin'!$AO$9:$AO$68,\"29KLA1\")*3,COUNTIF('Entry sheet-2-hin'!$AO$9:$AO$68,\"29KLA1C\")*3))","v":""},{"$f":"IF(B37=\"\",\"\",IF(AND(COUNTIF('Entry sheet-2-hin'!$AO$9:$AO$68,\"1स्मदीउ४\")=0),\"\",COUNTIF('Entry sheet-2-hin'!$AO$9:$AO$68,\"1स्मदीउ४\")))","v":""},"",{"$f":"IF(B37=\"\",\"\",IF(AND(COUNTIF('Entry sheet-2-hin'!$AO$9:$AO$68,\"1स्मदीउ5\")=0),\"\",COUNTIF('Entry sheet-2-hin'!$AO$9:$AO$68,\"1स्मदीउ5\")))","v":""},{"$f":"IF(O37=\"\",\"\",IF(COUNTIF('Entry sheet-2-hin'!$AO$9:$AO$68,\"1स्मदीउ5C\")=0,COUNTIF('Entry sheet-2-hin'!$AO$9:$AO$68,\"1स्मदीउ5\")*5,COUNTIF('Entry sheet-2-hin'!$AO$9:$AO$68,\"1स्मदीउ5C\")*5))","v":""},{"$f":"IF(B37=\"\",\"\",IF(AND(COUNTIF('Entry sheet-2-hin'!$AO$9:$AO$68,\"29UMCC\")=0,COUNTIF('Entry sheet-2-hin'!$AO$9:$AO$68,\"29UMC\")=0),\"\",IF(COUNTIF('Entry sheet-2-hin'!$AO$9:$AO$68,\"29UMCC\")=0,COUNTIF('Entry sheet-2-hin'!$AO$9:$AO$68,\"29UMC\"),COUNTIF('Entry sheet-2-hin'!$AO$9:$AO$68,\"29UMCC\")&\"*\")))","v":""},"",{"$f":"IF(B37=\"\",\"\",IF(AND(COUNTIF('Entry sheet-2-hin'!$AO$9:$AO$68,\"1समवनि\")=0),\"\",COUNTIF('Entry sheet-2-hin'!$AO$9:$AO$68,\"1समवनि\")))","v":""},"",{"$f":"IF(B37=\"\",\"\",IF(AND(COUNTIF('Entry sheet-2-hin'!$AO$9:$AO$68,\"1समअलउ\")=0),\"\",COUNTIF('Entry sheet-2-hin'!$AO$9:$AO$68,\"1समअलउ\")))","v":""},"",{"$f":"IF(B37=\"\",\"\",IF(AND(COUNTIF('Entry sheet-2-hin'!$AO$9:$AO$68,\"29USA2C\")=0,COUNTIF('Entry sheet-2-hin'!$AO$9:$AO$68,\"29USA2\")=0),\"\",IF(COUNTIF('Entry sheet-2-hin'!$AO$9:$AO$68,\"29USA2C\")=0,COUNTIF('Entry sheet-2-hin'!$AO$9:$AO$68,\"29USA2\"),COUNTIF('Entry sheet-2-hin'!$AO$9:$AO$68,\"29USA2C\")&\"*\")))","v":""},{"$f":"IF(W37=\"\",\"\",IF(COUNTIF('Entry sheet-2-hin'!$AO$9:$AO$68,\"29USA2C\")=0,COUNTIF('Entry sheet-2-hin'!$AO$9:$AO$68,\"29USA2\")*2,COUNTIF('Entry sheet-2-hin'!$AO$9:$AO$68,\"29USA2C\")*2))","v":""},{"$f":"IF(B37=\"\",\"\",IF(AND(COUNTIF('Entry sheet-2-hin'!$AO$9:$AO$68,\"29ULA1C\")=0,COUNTIF('Entry sheet-2-hin'!$AO$9:$AO$68,\"29ULA1\")=0),\"\",IF(COUNTIF('Entry sheet-2-hin'!$AO$9:$AO$68,\"29ULA1C\")=0,COUNTIF('Entry sheet-2-hin'!$AO$9:$AO$68,\"29ULA1\"),COUNTIF('Entry sheet-2-hin'!$AO$9:$AO$68,\"29ULA1C\")&\"*\")))","v":""},{"$f":"IF(Y37=\"\",\"\",IF(COUNTIF('Entry sheet-2-hin'!$AO$9:$AO$68,\"29ULA1C\")=0,COUNTIF('Entry sheet-2-hin'!$AO$9:$AO$68,\"29ULA1\")*3,COUNTIF('Entry sheet-2-hin'!$AO$9:$AO$68,\"29ULA1C\")*3))","v":""},{"$f":"IF(B37=\"\",\"\",IF(AND(COUNTIF('Entry sheet-2-hin'!$AO$9:$AO$68,\"1समदीउ४\")=0),\"\",COUNTIF('Entry sheet-2-hin'!$AO$9:$AO$68,\"1समदीउ४\")))","v":""},"",{"$f":"IF(B37=\"\",\"\",IF(AND(COUNTIF('Entry sheet-2-hin'!$AO$9:$AO$68,\"1समदीउ5\")=0),\"\",COUNTIF('Entry sheet-2-hin'!$AO$9:$AO$68,\"1समदीउ5\")))","v":""},{"$f":"IF(AC37=\"\",\"\",IF(COUNTIF('Entry sheet-2-hin'!$AO$9:$AO$68,\"1समदीउ5C\")=0,COUNTIF('Entry sheet-2-hin'!$AO$9:$AO$68,\"1समदीउ5\")*5,COUNTIF('Entry sheet-2-hin'!$AO$9:$AO$68,\"1समदीउ5C\")*5))","v":""},{"$f":"IF(B37=\"\",\"\",IF(AND(COUNTIF('Entry sheet-2-hin'!$AO$9:$AO$68,\"1अबवि\")=0),\"\",COUNTIF('Entry sheet-2-hin'!$AO$9:$AO$68,\"1अबवि\")))","v":""},{"$f":"IF(AE37=\"\",\"\",IF(COUNTIF('Entry sheet-2-hin'!$AO$9:$AO$68,\"29AMCC\")=0,COUNTIF('Entry sheet-2-hin'!$AO$9:$AO$68,\"29AMC\")*1,COUNTIF('Entry sheet-2-hin'!$AO$9:$AO$68,\"29AMCC\")*1))","v":""},{"$f":"IF(B37=\"\",\"\",IF(AND(COUNTIF('Entry sheet-2-hin'!$AO$9:$AO$68,\"29AOTC\")=0,COUNTIF('Entry sheet-2-hin'!$AO$9:$AO$68,\"29AOT\")=0),\"\",IF(COUNTIF('Entry sheet-2-hin'!$AO$9:$AO$68,\"29AOTC\")=0,COUNTIF('Entry sheet-2-hin'!$AO$9:$AO$68,\"29AOT\"),COUNTIF('Entry sheet-2-hin'!$AO$9:$AO$68,\"29AOTC\")&\"*\")))","v":""},{"$f":"IF(AG37=\"\",\"\",IF(COUNTIF('Entry sheet-2-hin'!$AO$9:$AO$68,\"29AOTC\")=0,COUNTIF('Entry sheet-2-hin'!$AO$9:$AO$68,\"29AOT\")*1,COUNTIF('Entry sheet-2-hin'!$AO$9:$AO$68,\"29AOTC\")*1))","v":""},{"$f":"IF(B37=\"\",\"\",IF(AND(COUNTIF('Entry sheet-2-hin'!$AO$9:$AO$68,\"1अअलउ\")=0),\"\",COUNTIF('Entry sheet-2-hin'!$AO$9:$AO$68,\"1अअलउ\")))","v":""},{"$f":"IF(AI37=\"\",\"\",IF(COUNTIF('Entry sheet-2-hin'!$AO$9:$AO$68,\"29ASA1C\")=0,COUNTIF('Entry sheet-2-hin'!$AO$9:$AO$68,\"29ASA1\")*1,COUNTIF('Entry sheet-2-hin'!$AO$9:$AO$68,\"29ASA1C\")*1))","v":""},{"$f":"IF(B37=\"\",\"\",IF(AND(COUNTIF('Entry sheet-2-hin'!$AO$9:$AO$68,\"29ASA2C\")=0,COUNTIF('Entry sheet-2-hin'!$AO$9:$AO$68,\"29ASA2\")=0),\"\",IF(COUNTIF('Entry sheet-2-hin'!$AO$9:$AO$68,\"29ASA2C\")=0,COUNTIF('Entry sheet-2-hin'!$AO$9:$AO$68,\"29ASA2\"),COUNTIF('Entry sheet-2-hin'!$AO$9:$AO$68,\"29ASA2C\")&\"*\")))","v":""},"",{"$f":"IF(B37=\"\",\"\",IF(AND(COUNTIF('Entry sheet-2-hin'!$AO$9:$AO$68,\"29ALA1C\")=0,COUNTIF('Entry sheet-2-hin'!$AO$9:$AO$68,\"29ALA1\")=0),\"\",IF(COUNTIF('Entry sheet-2-hin'!$AO$9:$AO$68,\"29ALA1C\")=0,COUNTIF('Entry sheet-2-hin'!$AO$9:$AO$68,\"29ALA1\"),COUNTIF('Entry sheet-2-hin'!$AO$9:$AO$68,\"29ALA1C\")&\"*\")))","v":""},"",{"$f":"IF(B37=\"\",\"\",IF(AND(COUNTIF('Entry sheet-2-hin'!$AO$9:$AO$68,\"29ALA2C\")=0,COUNTIF('Entry sheet-2-hin'!$AO$9:$AO$68,\"29ALA2\")=0),\"\",IF(COUNTIF('Entry sheet-2-hin'!$AO$9:$AO$68,\"29ALA2C\")=0,COUNTIF('Entry sheet-2-hin'!$AO$9:$AO$68,\"29ALA2\"),COUNTIF('Entry sheet-2-hin'!$AO$9:$AO$68,\"29ALA2C\")&\"*\")))","v":""},{"$f":"IF(AO37=\"\",\"\",IF(COUNTIF('Entry sheet-2-hin'!$AO$9:$AO$68,\"29ALA2C\")=0,COUNTIF('Entry sheet-2-hin'!$AO$9:$AO$68,\"29ALA2\")*4,COUNTIF('Entry sheet-2-hin'!$AO$9:$AO$68,\"29ALA2C\")*4))","v":""},{"$f":"IF(B37=\"\",\"\",IF(AND(COUNTIF('Entry sheet-2-hin'!$AO$9:$AO$68,\"1अदीउ5\")=0),\"\",COUNTIF('Entry sheet-2-hin'!$AO$9:$AO$68,\"1अदीउ5\")))","v":""},{"$f":"IF(AQ37=\"\",\"\",IF(COUNTIF('Entry sheet-2-hin'!$AO$9:$AO$68,\"1अदीउ5C\")=0,COUNTIF('Entry sheet-2-hin'!$AO$9:$AO$68,\"1अदीउ5\")*5,COUNTIF('Entry sheet-2-hin'!$AO$9:$AO$68,\"1अदीउ5C\")*5))","v":""},{"$f":"IF(B37=\"\",\"\",IF(AND(COUNTIF('Entry sheet-2-hin'!$AO$9:$AO$68,\"1रसबवि\")=0),\"\",COUNTIF('Entry sheet-2-hin'!$AO$9:$AO$68,\"1रसबवि\")))","v":""},{"$f":"IF(AS37=\"\",\"\",IF(COUNTIF('Entry sheet-2-hin'!$AO$9:$AO$68,\"29SMCC\")=0,COUNTIF('Entry sheet-2-hin'!$AO$9:$AO$68,\"29SMC\")*1,COUNTIF('Entry sheet-2-hin'!$AO$9:$AO$68,\"29SMCC\")*1))","v":""},{"$f":"IF(B37=\"\",\"\",IF(AND(COUNTIF('Entry sheet-2-hin'!$AO$9:$AO$68,\"29SOTC\")=0,COUNTIF('Entry sheet-2-hin'!$AO$9:$AO$68,\"29SOT\")=0),\"\",IF(COUNTIF('Entry sheet-2-hin'!$AO$9:$AO$68,\"29SOTC\")=0,COUNTIF('Entry sheet-2-hin'!$AO$9:$AO$68,\"29SOT\"),COUNTIF('Entry sheet-2-hin'!$AO$9:$AO$68,\"29SOTC\")&\"*\")))","v":""},{"$f":"IF(AU37=\"\",\"\",IF(COUNTIF('Entry sheet-2-hin'!$AO$9:$AO$68,\"29SOTC\")=0,COUNTIF('Entry sheet-2-hin'!$AO$9:$AO$68,\"29SOT\")*1,COUNTIF('Entry sheet-2-hin'!$AO$9:$AO$68,\"29SOTC\")*1))","v":""},{"$f":"IF(B37=\"\",\"\",IF(AND(COUNTIF('Entry sheet-2-hin'!$AO$9:$AO$68,\"1रसअलउ\")=0),\"\",COUNTIF('Entry sheet-2-hin'!$AO$9:$AO$68,\"1रसअलउ\")))","v":""},"",{"$f":"IF(B37=\"\",\"\",IF(AND(COUNTIF('Entry sheet-2-hin'!$AO$9:$AO$68,\"1रसलउ२\")=0),\"\",COUNTIF('Entry sheet-2-hin'!$AO$9:$AO$68,\"1रसलउ२\")))","v":""},{"$f":"IF(AY37=\"\",\"\",IF(COUNTIF('Entry sheet-2-hin'!$AO$9:$AO$68,\"29SSA2C\")=0,COUNTIF('Entry sheet-2-hin'!$AO$9:$AO$68,\"29SSA2\")*2,COUNTIF('Entry sheet-2-hin'!$AO$9:$AO$68,\"29SSA2C\")*2))","v":""},{"$f":"IF(B37=\"\",\"\",IF(AND(COUNTIF('Entry sheet-2-hin'!$AO$9:$AO$68,\"29SLA1C\")=0,COUNTIF('Entry sheet-2-hin'!$AO$9:$AO$68,\"29SLA1\")=0),\"\",IF(COUNTIF('Entry sheet-2-hin'!$AO$9:$AO$68,\"29SLA1C\")=0,COUNTIF('Entry sheet-2-hin'!$AO$9:$AO$68,\"29SLA1\"),COUNTIF('Entry sheet-2-hin'!$AO$9:$AO$68,\"29SLA1C\")&\"*\")))","v":""},{"$f":"IF(BA37=\"\",\"\",IF(COUNTIF('Entry sheet-2-hin'!$AO$9:$AO$68,\"29SLA1C\")=0,COUNTIF('Entry sheet-2-hin'!$AO$9:$AO$68,\"29SLA1\")*3,COUNTIF('Entry sheet-2-hin'!$AO$9:$AO$68,\"29SLA1C\")*3))","v":""},{"$f":"IF(B37=\"\",\"\",IF(AND(COUNTIF('Entry sheet-2-hin'!$AO$9:$AO$68,\"29SLA2C\")=0,COUNTIF('Entry sheet-2-hin'!$AO$9:$AO$68,\"29SLA2\")=0),\"\",IF(COUNTIF('Entry sheet-2-hin'!$AO$9:$AO$68,\"29SLA2C\")=0,COUNTIF('Entry sheet-2-hin'!$AO$9:$AO$68,\"29SLA2\"),COUNTIF('Entry sheet-2-hin'!$AO$9:$AO$68,\"29SLA2C\")&\"*\")))","v":""},"",{"$f":"IF(B37=\"\",\"\",IF(AND(COUNTIF('Entry sheet-2-hin'!$AO$9:$AO$68,\"1रसदीउ5\")=0),\"\",COUNTIF('Entry sheet-2-hin'!$AO$9:$AO$68,\"1रसदीउ5\")))","v":""},"","","","","","","","","","","","","","","","",""]
[{"$f":"IF('Entry sheet-1-hin'!A39=\"\",\"\",'Entry sheet-1-hin'!A39)","v":""},{"$f":"IF('Entry sheet-1-hin'!B39=\"\",\"\",'Entry sheet-1-hin'!B39)","v":""},{"$f":"IF(B38=\"\",\"\",IF(AND(COUNTIF('Entry sheet-2-hin'!$AO$9:$AO$68,\"30KMCC\")=0,COUNTIF('Entry sheet-2-hin'!$AO$9:$AO$68,\"30KMC\")=0),\"\",IF(COUNTIF('Entry sheet-2-hin'!$AO$9:$AO$68,\"30KMCC\")=0,COUNTIF('Entry sheet-2-hin'!$AO$9:$AO$68,\"30KMC\"),COUNTIF('Entry sheet-2-hin'!$AO$9:$AO$68,\"30KMCC\")&\"*\")))","v":""},"",{"$f":"IF(B38=\"\",\"\",IF(AND(COUNTIF('Entry sheet-2-hin'!$AO$9:$AO$68,\"30KOTC\")=0,COUNTIF('Entry sheet-2-hin'!$AO$9:$AO$68,\"30KOT\")=0),\"\",IF(COUNTIF('Entry sheet-2-hin'!$AO$9:$AO$68,\"30KOTC\")=0,COUNTIF('Entry sheet-2-hin'!$AO$9:$AO$68,\"30KOT\"),COUNTIF('Entry sheet-2-hin'!$AO$9:$AO$68,\"30KOTC\")&\"*\")))","v":""},"",{"$f":"IF(B38=\"\",\"\",IF(AND(COUNTIF('Entry sheet-2-hin'!$AO$9:$AO$68,\"30KSA1C\")=0,COUNTIF('Entry sheet-2-hin'!$AO$9:$AO$68,\"30KSA1\")=0),\"\",IF(COUNTIF('Entry sheet-2-hin'!$AO$9:$AO$68,\"30KSA1C\")=0,COUNTIF('Entry sheet-2-hin'!$AO$9:$AO$68,\"30KSA1\"),COUNTIF('Entry sheet-2-hin'!$AO$9:$AO$68,\"30KSA1C\")&\"*\")))","v":""},{"$f":"IF(G38=\"\",\"\",IF(COUNTIF('Entry sheet-2-hin'!$AO$9:$AO$68,\"30KSA1C\")=0,COUNTIF('Entry sheet-2-hin'!$AO$9:$AO$68,\"30KSA1\")*1,COUNTIF('Entry sheet-2-hin'!$AO$9:$AO$68,\"30KSA1C\")*1))","v":""},{"$f":"IF(B38=\"\",\"\",IF(AND(COUNTIF('Entry sheet-2-hin'!$AO$9:$AO$68,\"30KSA2C\")=0,COUNTIF('Entry sheet-2-hin'!$AO$9:$AO$68,\"30KSA2\")=0),\"\",IF(COUNTIF('Entry sheet-2-hin'!$AO$9:$AO$68,\"30KSA2C\")=0,COUNTIF('Entry sheet-2-hin'!$AO$9:$AO$68,\"30KSA2\"),COUNTIF('Entry sheet-2-hin'!$AO$9:$AO$68,\"30KSA2C\")&\"*\")))","v":""},{"$f":"IF(I38=\"\",\"\",IF(COUNTIF('Entry sheet-2-hin'!$AO$9:$AO$68,\"30KSA2C\")=0,COUNTIF('Entry sheet-2-hin'!$AO$9:$AO$68,\"30KSA2\")*2,COUNTIF('Entry sheet-2-hin'!$AO$9:$AO$68,\"30KSA2C\")*2))","v":""},{"$f":"IF(B38=\"\",\"\",IF(AND(COUNTIF('Entry sheet-2-hin'!$AO$9:$AO$68,\"30KLA1C\")=0,COUNTIF('Entry sheet-2-hin'!$AO$9:$AO$68,\"30KLA1\")=0),\"\",IF(COUNTIF('Entry sheet-2-hin'!$AO$9:$AO$68,\"30KLA1C\")=0,COUNTIF('Entry sheet-2-hin'!$AO$9:$AO$68,\"30KLA1\"),COUNTIF('Entry sheet-2-hin'!$AO$9:$AO$68,\"30KLA1C\")&\"*\")))","v":""},{"$f":"IF(K38=\"\",\"\",IF(COUNTIF('Entry sheet-2-hin'!$AO$9:$AO$68,\"30KLA1C\")=0,COUNTIF('Entry sheet-2-hin'!$AO$9:$AO$68,\"30KLA1\")*3,COUNTIF('Entry sheet-2-hin'!$AO$9:$AO$68,\"30KLA1C\")*3))","v":""},{"$f":"IF(B38=\"\",\"\",IF(AND(COUNTIF('Entry sheet-2-hin'!$AO$9:$AO$68,\"1स्मदीउ४\")=0),\"\",COUNTIF('Entry sheet-2-hin'!$AO$9:$AO$68,\"1स्मदीउ४\")))","v":""},"",{"$f":"IF(B38=\"\",\"\",IF(AND(COUNTIF('Entry sheet-2-hin'!$AO$9:$AO$68,\"1स्मदीउ5\")=0),\"\",COUNTIF('Entry sheet-2-hin'!$AO$9:$AO$68,\"1स्मदीउ5\")))","v":""},{"$f":"IF(O38=\"\",\"\",IF(COUNTIF('Entry sheet-2-hin'!$AO$9:$AO$68,\"1स्मदीउ5C\")=0,COUNTIF('Entry sheet-2-hin'!$AO$9:$AO$68,\"1स्मदीउ5\")*5,COUNTIF('Entry sheet-2-hin'!$AO$9:$AO$68,\"1स्मदीउ5C\")*5))","v":""},{"$f":"IF(B38=\"\",\"\",IF(AND(COUNTIF('Entry sheet-2-hin'!$AO$9:$AO$68,\"30UMCC\")=0,COUNTIF('Entry sheet-2-hin'!$AO$9:$AO$68,\"30UMC\")=0),\"\",IF(COUNTIF('Entry sheet-2-hin'!$AO$9:$AO$68,\"30UMCC\")=0,COUNTIF('Entry sheet-2-hin'!$AO$9:$AO$68,\"30UMC\"),COUNTIF('Entry sheet-2-hin'!$AO$9:$AO$68,\"30UMCC\")&\"*\")))","v":""},"",{"$f":"IF(B38=\"\",\"\",IF(AND(COUNTIF('Entry sheet-2-hin'!$AO$9:$AO$68,\"1समवनि\")=0),\"\",COUNTIF('Entry sheet-2-hin'!$AO$9:$AO$68,\"1समवनि\")))","v":""},"",{"$f":"IF(B38=\"\",\"\",IF(AND(COUNTIF('Entry sheet-2-hin'!$AO$9:$AO$68,\"1समअलउ\")=0),\"\",COUNTIF('Entry sheet-2-hin'!$AO$9:$AO$68,\"1समअलउ\")))","v":""},"",{"$f":"IF(B38=\"\",\"\",IF(AND(COUNTIF('Entry sheet-2-hin'!$AO$9:$AO$68,\"30USA2C\")=0,COUNTIF('Entry sheet-2-hin'!$AO$9:$AO$68,\"30USA2\")=0),\"\",IF(COUNTIF('Entry sheet-2-hin'!$AO$9:$AO$68,\"30USA2C\")=0,COUNTIF('Entry sheet-2-hin'!$AO$9:$AO$68,\"30USA2\"),COUNTIF('Entry sheet-2-hin'!$AO$9:$AO$68,\"30USA2C\")&\"*\")))","v":""},{"$f":"IF(W38=\"\",\"\",IF(COUNTIF('Entry sheet-2-hin'!$AO$9:$AO$68,\"30USA2C\")=0,COUNTIF('Entry sheet-2-hin'!$AO$9:$AO$68,\"30USA2\")*2,COUNTIF('Entry sheet-2-hin'!$AO$9:$AO$68,\"30USA2C\")*2))","v":""},{"$f":"IF(B38=\"\",\"\",IF(AND(COUNTIF('Entry sheet-2-hin'!$AO$9:$AO$68,\"30ULA1C\")=0,COUNTIF('Entry sheet-2-hin'!$AO$9:$AO$68,\"30ULA1\")=0),\"\",IF(COUNTIF('Entry sheet-2-hin'!$AO$9:$AO$68,\"30ULA1C\")=0,COUNTIF('Entry sheet-2-hin'!$AO$9:$AO$68,\"30ULA1\"),COUNTIF('Entry sheet-2-hin'!$AO$9:$AO$68,\"30ULA1C\")&\"*\")))","v":""},{"$f":"IF(Y38=\"\",\"\",IF(COUNTIF('Entry sheet-2-hin'!$AO$9:$AO$68,\"30ULA1C\")=0,COUNTIF('Entry sheet-2-hin'!$AO$9:$AO$68,\"30ULA1\")*3,COUNTIF('Entry sheet-2-hin'!$AO$9:$AO$68,\"30ULA1C\")*3))","v":""},{"$f":"IF(B38=\"\",\"\",IF(AND(COUNTIF('Entry sheet-2-hin'!$AO$9:$AO$68,\"1समदीउ४\")=0),\"\",COUNTIF('Entry sheet-2-hin'!$AO$9:$AO$68,\"1समदीउ४\")))","v":""},"",{"$f":"IF(B38=\"\",\"\",IF(AND(COUNTIF('Entry sheet-2-hin'!$AO$9:$AO$68,\"1समदीउ5\")=0),\"\",COUNTIF('Entry sheet-2-hin'!$AO$9:$AO$68,\"1समदीउ5\")))","v":""},{"$f":"IF(AC38=\"\",\"\",IF(COUNTIF('Entry sheet-2-hin'!$AO$9:$AO$68,\"1समदीउ5C\")=0,COUNTIF('Entry sheet-2-hin'!$AO$9:$AO$68,\"1समदीउ5\")*5,COUNTIF('Entry sheet-2-hin'!$AO$9:$AO$68,\"1समदीउ5C\")*5))","v":""},{"$f":"IF(B38=\"\",\"\",IF(AND(COUNTIF('Entry sheet-2-hin'!$AO$9:$AO$68,\"1अबवि\")=0),\"\",COUNTIF('Entry sheet-2-hin'!$AO$9:$AO$68,\"1अबवि\")))","v":""},{"$f":"IF(AE38=\"\",\"\",IF(COUNTIF('Entry sheet-2-hin'!$AO$9:$AO$68,\"30AMCC\")=0,COUNTIF('Entry sheet-2-hin'!$AO$9:$AO$68,\"30AMC\")*1,COUNTIF('Entry sheet-2-hin'!$AO$9:$AO$68,\"30AMCC\")*1))","v":""},{"$f":"IF(B38=\"\",\"\",IF(AND(COUNTIF('Entry sheet-2-hin'!$AO$9:$AO$68,\"30AOTC\")=0,COUNTIF('Entry sheet-2-hin'!$AO$9:$AO$68,\"30AOT\")=0),\"\",IF(COUNTIF('Entry sheet-2-hin'!$AO$9:$AO$68,\"30AOTC\")=0,COUNTIF('Entry sheet-2-hin'!$AO$9:$AO$68,\"30AOT\"),COUNTIF('Entry sheet-2-hin'!$AO$9:$AO$68,\"30AOTC\")&\"*\")))","v":""},{"$f":"IF(AG38=\"\",\"\",IF(COUNTIF('Entry sheet-2-hin'!$AO$9:$AO$68,\"30AOTC\")=0,COUNTIF('Entry sheet-2-hin'!$AO$9:$AO$68,\"30AOT\")*1,COUNTIF('Entry sheet-2-hin'!$AO$9:$AO$68,\"30AOTC\")*1))","v":""},{"$f":"IF(B38=\"\",\"\",IF(AND(COUNTIF('Entry sheet-2-hin'!$AO$9:$AO$68,\"1अअलउ\")=0),\"\",COUNTIF('Entry sheet-2-hin'!$AO$9:$AO$68,\"1अअलउ\")))","v":""},{"$f":"IF(AI38=\"\",\"\",IF(COUNTIF('Entry sheet-2-hin'!$AO$9:$AO$68,\"30ASA1C\")=0,COUNTIF('Entry sheet-2-hin'!$AO$9:$AO$68,\"30ASA1\")*1,COUNTIF('Entry sheet-2-hin'!$AO$9:$AO$68,\"30ASA1C\")*1))","v":""},{"$f":"IF(B38=\"\",\"\",IF(AND(COUNTIF('Entry sheet-2-hin'!$AO$9:$AO$68,\"30ASA2C\")=0,COUNTIF('Entry sheet-2-hin'!$AO$9:$AO$68,\"30ASA2\")=0),\"\",IF(COUNTIF('Entry sheet-2-hin'!$AO$9:$AO$68,\"30ASA2C\")=0,COUNTIF('Entry sheet-2-hin'!$AO$9:$AO$68,\"30ASA2\"),COUNTIF('Entry sheet-2-hin'!$AO$9:$AO$68,\"30ASA2C\")&\"*\")))","v":""},"",{"$f":"IF(B38=\"\",\"\",IF(AND(COUNTIF('Entry sheet-2-hin'!$AO$9:$AO$68,\"30ALA1C\")=0,COUNTIF('Entry sheet-2-hin'!$AO$9:$AO$68,\"30ALA1\")=0),\"\",IF(COUNTIF('Entry sheet-2-hin'!$AO$9:$AO$68,\"30ALA1C\")=0,COUNTIF('Entry sheet-2-hin'!$AO$9:$AO$68,\"30ALA1\"),COUNTIF('Entry sheet-2-hin'!$AO$9:$AO$68,\"30ALA1C\")&\"*\")))","v":""},"",{"$f":"IF(B38=\"\",\"\",IF(AND(COUNTIF('Entry sheet-2-hin'!$AO$9:$AO$68,\"30ALA2C\")=0,COUNTIF('Entry sheet-2-hin'!$AO$9:$AO$68,\"30ALA2\")=0),\"\",IF(COUNTIF('Entry sheet-2-hin'!$AO$9:$AO$68,\"30ALA2C\")=0,COUNTIF('Entry sheet-2-hin'!$AO$9:$AO$68,\"30ALA2\"),COUNTIF('Entry sheet-2-hin'!$AO$9:$AO$68,\"30ALA2C\")&\"*\")))","v":""},{"$f":"IF(AO38=\"\",\"\",IF(COUNTIF('Entry sheet-2-hin'!$AO$9:$AO$68,\"30ALA2C\")=0,COUNTIF('Entry sheet-2-hin'!$AO$9:$AO$68,\"30ALA2\")*4,COUNTIF('Entry sheet-2-hin'!$AO$9:$AO$68,\"30ALA2C\")*4))","v":""},{"$f":"IF(B38=\"\",\"\",IF(AND(COUNTIF('Entry sheet-2-hin'!$AO$9:$AO$68,\"1अदीउ5\")=0),\"\",COUNTIF('Entry sheet-2-hin'!$AO$9:$AO$68,\"1अदीउ5\")))","v":""},{"$f":"IF(AQ38=\"\",\"\",IF(COUNTIF('Entry sheet-2-hin'!$AO$9:$AO$68,\"1अदीउ5C\")=0,COUNTIF('Entry sheet-2-hin'!$AO$9:$AO$68,\"1अदीउ5\")*5,COUNTIF('Entry sheet-2-hin'!$AO$9:$AO$68,\"1अदीउ5C\")*5))","v":""},{"$f":"IF(B38=\"\",\"\",IF(AND(COUNTIF('Entry sheet-2-hin'!$AO$9:$AO$68,\"1रसबवि\")=0),\"\",COUNTIF('Entry sheet-2-hin'!$AO$9:$AO$68,\"1रसबवि\")))","v":""},{"$f":"IF(AS38=\"\",\"\",IF(COUNTIF('Entry sheet-2-hin'!$AO$9:$AO$68,\"30SMCC\")=0,COUNTIF('Entry sheet-2-hin'!$AO$9:$AO$68,\"30SMC\")*1,COUNTIF('Entry sheet-2-hin'!$AO$9:$AO$68,\"30SMCC\")*1))","v":""},{"$f":"IF(B38=\"\",\"\",IF(AND(COUNTIF('Entry sheet-2-hin'!$AO$9:$AO$68,\"30SOTC\")=0,COUNTIF('Entry sheet-2-hin'!$AO$9:$AO$68,\"30SOT\")=0),\"\",IF(COUNTIF('Entry sheet-2-hin'!$AO$9:$AO$68,\"30SOTC\")=0,COUNTIF('Entry sheet-2-hin'!$AO$9:$AO$68,\"30SOT\"),COUNTIF('Entry sheet-2-hin'!$AO$9:$AO$68,\"30SOTC\")&\"*\")))","v":""},{"$f":"IF(AU38=\"\",\"\",IF(COUNTIF('Entry sheet-2-hin'!$AO$9:$AO$68,\"30SOTC\")=0,COUNTIF('Entry sheet-2-hin'!$AO$9:$AO$68,\"30SOT\")*1,COUNTIF('Entry sheet-2-hin'!$AO$9:$AO$68,\"30SOTC\")*1))","v":""},{"$f":"IF(B38=\"\",\"\",IF(AND(COUNTIF('Entry sheet-2-hin'!$AO$9:$AO$68,\"1रसअलउ\")=0),\"\",COUNTIF('Entry sheet-2-hin'!$AO$9:$AO$68,\"1रसअलउ\")))","v":""},"",{"$f":"IF(B38=\"\",\"\",IF(AND(COUNTIF('Entry sheet-2-hin'!$AO$9:$AO$68,\"1रसलउ२\")=0),\"\",COUNTIF('Entry sheet-2-hin'!$AO$9:$AO$68,\"1रसलउ२\")))","v":""},{"$f":"IF(AY38=\"\",\"\",IF(COUNTIF('Entry sheet-2-hin'!$AO$9:$AO$68,\"30SSA2C\")=0,COUNTIF('Entry sheet-2-hin'!$AO$9:$AO$68,\"30SSA2\")*2,COUNTIF('Entry sheet-2-hin'!$AO$9:$AO$68,\"30SSA2C\")*2))","v":""},{"$f":"IF(B38=\"\",\"\",IF(AND(COUNTIF('Entry sheet-2-hin'!$AO$9:$AO$68,\"30SLA1C\")=0,COUNTIF('Entry sheet-2-hin'!$AO$9:$AO$68,\"30SLA1\")=0),\"\",IF(COUNTIF('Entry sheet-2-hin'!$AO$9:$AO$68,\"30SLA1C\")=0,COUNTIF('Entry sheet-2-hin'!$AO$9:$AO$68,\"30SLA1\"),COUNTIF('Entry sheet-2-hin'!$AO$9:$AO$68,\"30SLA1C\")&\"*\")))","v":""},{"$f":"IF(BA38=\"\",\"\",IF(COUNTIF('Entry sheet-2-hin'!$AO$9:$AO$68,\"30SLA1C\")=0,COUNTIF('Entry sheet-2-hin'!$AO$9:$AO$68,\"30SLA1\")*3,COUNTIF('Entry sheet-2-hin'!$AO$9:$AO$68,\"30SLA1C\")*3))","v":""},{"$f":"IF(B38=\"\",\"\",IF(AND(COUNTIF('Entry sheet-2-hin'!$AO$9:$AO$68,\"30SLA2C\")=0,COUNTIF('Entry sheet-2-hin'!$AO$9:$AO$68,\"30SLA2\")=0),\"\",IF(COUNTIF('Entry sheet-2-hin'!$AO$9:$AO$68,\"30SLA2C\")=0,COUNTIF('Entry sheet-2-hin'!$AO$9:$AO$68,\"30SLA2\"),COUNTIF('Entry sheet-2-hin'!$AO$9:$AO$68,\"30SLA2C\")&\"*\")))","v":""},"",{"$f":"IF(B38=\"\",\"\",IF(AND(COUNTIF('Entry sheet-2-hin'!$AO$9:$AO$68,\"1रसदीउ5\")=0),\"\",COUNTIF('Entry sheet-2-hin'!$AO$9:$AO$68,\"1रसदीउ5\")))","v":""},"","","","","","","","","","","","","","","","",""]
[{"$f":"IF('Entry sheet-1-hin'!A40=\"\",\"\",'Entry sheet-1-hin'!A40)","v":""},{"$f":"IF('Entry sheet-1-hin'!B40=\"\",\"\",'Entry sheet-1-hin'!B40)","v":""},{"$f":"IF(B39=\"\",\"\",IF(AND(COUNTIF('Entry sheet-2-hin'!$AO$9:$AO$68,\"31KMCC\")=0,COUNTIF('Entry sheet-2-hin'!$AO$9:$AO$68,\"31KMC\")=0),\"\",IF(COUNTIF('Entry sheet-2-hin'!$AO$9:$AO$68,\"31KMCC\")=0,COUNTIF('Entry sheet-2-hin'!$AO$9:$AO$68,\"31KMC\"),COUNTIF('Entry sheet-2-hin'!$AO$9:$AO$68,\"31KMCC\")&\"*\")))","v":""},"",{"$f":"IF(B39=\"\",\"\",IF(AND(COUNTIF('Entry sheet-2-hin'!$AO$9:$AO$68,\"31KOTC\")=0,COUNTIF('Entry sheet-2-hin'!$AO$9:$AO$68,\"31KOT\")=0),\"\",IF(COUNTIF('Entry sheet-2-hin'!$AO$9:$AO$68,\"31KOTC\")=0,COUNTIF('Entry sheet-2-hin'!$AO$9:$AO$68,\"31KOT\"),COUNTIF('Entry sheet-2-hin'!$AO$9:$AO$68,\"31KOTC\")&\"*\")))","v":""},"",{"$f":"IF(B39=\"\",\"\",IF(AND(COUNTIF('Entry sheet-2-hin'!$AO$9:$AO$68,\"31KSA1C\")=0,COUNTIF('Entry sheet-2-hin'!$AO$9:$AO$68,\"31KSA1\")=0),\"\",IF(COUNTIF('Entry sheet-2-hin'!$AO$9:$AO$68,\"31KSA1C\")=0,COUNTIF('Entry sheet-2-hin'!$AO$9:$AO$68,\"31KSA1\"),COUNTIF('Entry sheet-2-hin'!$AO$9:$AO$68,\"31KSA1C\")&\"*\")))","v":""},{"$f":"IF(G39=\"\",\"\",IF(COUNTIF('Entry sheet-2-hin'!$AO$9:$AO$68,\"31KSA1C\")=0,COUNTIF('Entry sheet-2-hin'!$AO$9:$AO$68,\"31KSA1\")*1,COUNTIF('Entry sheet-2-hin'!$AO$9:$AO$68,\"31KSA1C\")*1))","v":""},{"$f":"IF(B39=\"\",\"\",IF(AND(COUNTIF('Entry sheet-2-hin'!$AO$9:$AO$68,\"31KSA2C\")=0,COUNTIF('Entry sheet-2-hin'!$AO$9:$AO$68,\"31KSA2\")=0),\"\",IF(COUNTIF('Entry sheet-2-hin'!$AO$9:$AO$68,\"31KSA2C\")=0,COUNTIF('Entry sheet-2-hin'!$AO$9:$AO$68,\"31KSA2\"),COUNTIF('Entry sheet-2-hin'!$AO$9:$AO$68,\"31KSA2C\")&\"*\")))","v":""},{"$f":"IF(I39=\"\",\"\",IF(COUNTIF('Entry sheet-2-hin'!$AO$9:$AO$68,\"31KSA2C\")=0,COUNTIF('Entry sheet-2-hin'!$AO$9:$AO$68,\"31KSA2\")*2,COUNTIF('Entry sheet-2-hin'!$AO$9:$AO$68,\"31KSA2C\")*2))","v":""},{"$f":"IF(B39=\"\",\"\",IF(AND(COUNTIF('Entry sheet-2-hin'!$AO$9:$AO$68,\"31KLA1C\")=0,COUNTIF('Entry sheet-2-hin'!$AO$9:$AO$68,\"31KLA1\")=0),\"\",IF(COUNTIF('Entry sheet-2-hin'!$AO$9:$AO$68,\"31KLA1C\")=0,COUNTIF('Entry sheet-2-hin'!$AO$9:$AO$68,\"31KLA1\"),COUNTIF('Entry sheet-2-hin'!$AO$9:$AO$68,\"31KLA1C\")&\"*\")))","v":""},{"$f":"IF(K39=\"\",\"\",IF(COUNTIF('Entry sheet-2-hin'!$AO$9:$AO$68,\"31KLA1C\")=0,COUNTIF('Entry sheet-2-hin'!$AO$9:$AO$68,\"31KLA1\")*3,COUNTIF('Entry sheet-2-hin'!$AO$9:$AO$68,\"31KLA1C\")*3))","v":""},{"$f":"IF(B39=\"\",\"\",IF(AND(COUNTIF('Entry sheet-2-hin'!$AO$9:$AO$68,\"1स्मदीउ४\")=0),\"\",COUNTIF('Entry sheet-2-hin'!$AO$9:$AO$68,\"1स्मदीउ४\")))","v":""},"",{"$f":"IF(B39=\"\",\"\",IF(AND(COUNTIF('Entry sheet-2-hin'!$AO$9:$AO$68,\"1स्मदीउ5\")=0),\"\",COUNTIF('Entry sheet-2-hin'!$AO$9:$AO$68,\"1स्मदीउ5\")))","v":""},{"$f":"IF(O39=\"\",\"\",IF(COUNTIF('Entry sheet-2-hin'!$AO$9:$AO$68,\"1स्मदीउ5C\")=0,COUNTIF('Entry sheet-2-hin'!$AO$9:$AO$68,\"1स्मदीउ5\")*5,COUNTIF('Entry sheet-2-hin'!$AO$9:$AO$68,\"1स्मदीउ5C\")*5))","v":""},{"$f":"IF(B39=\"\",\"\",IF(AND(COUNTIF('Entry sheet-2-hin'!$AO$9:$AO$68,\"31UMCC\")=0,COUNTIF('Entry sheet-2-hin'!$AO$9:$AO$68,\"31UMC\")=0),\"\",IF(COUNTIF('Entry sheet-2-hin'!$AO$9:$AO$68,\"31UMCC\")=0,COUNTIF('Entry sheet-2-hin'!$AO$9:$AO$68,\"31UMC\"),COUNTIF('Entry sheet-2-hin'!$AO$9:$AO$68,\"31UMCC\")&\"*\")))","v":""},"",{"$f":"IF(B39=\"\",\"\",IF(AND(COUNTIF('Entry sheet-2-hin'!$AO$9:$AO$68,\"1समवनि\")=0),\"\",COUNTIF('Entry sheet-2-hin'!$AO$9:$AO$68,\"1समवनि\")))","v":""},"",{"$f":"IF(B39=\"\",\"\",IF(AND(COUNTIF('Entry sheet-2-hin'!$AO$9:$AO$68,\"1समअलउ\")=0),\"\",COUNTIF('Entry sheet-2-hin'!$AO$9:$AO$68,\"1समअलउ\")))","v":""},"",{"$f":"IF(B39=\"\",\"\",IF(AND(COUNTIF('Entry sheet-2-hin'!$AO$9:$AO$68,\"31USA2C\")=0,COUNTIF('Entry sheet-2-hin'!$AO$9:$AO$68,\"31USA2\")=0),\"\",IF(COUNTIF('Entry sheet-2-hin'!$AO$9:$AO$68,\"31USA2C\")=0,COUNTIF('Entry sheet-2-hin'!$AO$9:$AO$68,\"31USA2\"),COUNTIF('Entry sheet-2-hin'!$AO$9:$AO$68,\"31USA2C\")&\"*\")))","v":""},{"$f":"IF(W39=\"\",\"\",IF(COUNTIF('Entry sheet-2-hin'!$AO$9:$AO$68,\"31USA2C\")=0,COUNTIF('Entry sheet-2-hin'!$AO$9:$AO$68,\"31USA2\")*2,COUNTIF('Entry sheet-2-hin'!$AO$9:$AO$68,\"31USA2C\")*2))","v":""},{"$f":"IF(B39=\"\",\"\",IF(AND(COUNTIF('Entry sheet-2-hin'!$AO$9:$AO$68,\"31ULA1C\")=0,COUNTIF('Entry sheet-2-hin'!$AO$9:$AO$68,\"31ULA1\")=0),\"\",IF(COUNTIF('Entry sheet-2-hin'!$AO$9:$AO$68,\"31ULA1C\")=0,COUNTIF('Entry sheet-2-hin'!$AO$9:$AO$68,\"31ULA1\"),COUNTIF('Entry sheet-2-hin'!$AO$9:$AO$68,\"31ULA1C\")&\"*\")))","v":""},{"$f":"IF(Y39=\"\",\"\",IF(COUNTIF('Entry sheet-2-hin'!$AO$9:$AO$68,\"31ULA1C\")=0,COUNTIF('Entry sheet-2-hin'!$AO$9:$AO$68,\"31ULA1\")*3,COUNTIF('Entry sheet-2-hin'!$AO$9:$AO$68,\"31ULA1C\")*3))","v":""},{"$f":"IF(B39=\"\",\"\",IF(AND(COUNTIF('Entry sheet-2-hin'!$AO$9:$AO$68,\"1समदीउ४\")=0),\"\",COUNTIF('Entry sheet-2-hin'!$AO$9:$AO$68,\"1समदीउ४\")))","v":""},"",{"$f":"IF(B39=\"\",\"\",IF(AND(COUNTIF('Entry sheet-2-hin'!$AO$9:$AO$68,\"1समदीउ5\")=0),\"\",COUNTIF('Entry sheet-2-hin'!$AO$9:$AO$68,\"1समदीउ5\")))","v":""},{"$f":"IF(AC39=\"\",\"\",IF(COUNTIF('Entry sheet-2-hin'!$AO$9:$AO$68,\"1समदीउ5C\")=0,COUNTIF('Entry sheet-2-hin'!$AO$9:$AO$68,\"1समदीउ5\")*5,COUNTIF('Entry sheet-2-hin'!$AO$9:$AO$68,\"1समदीउ5C\")*5))","v":""},{"$f":"IF(B39=\"\",\"\",IF(AND(COUNTIF('Entry sheet-2-hin'!$AO$9:$AO$68,\"1अबवि\")=0),\"\",COUNTIF('Entry sheet-2-hin'!$AO$9:$AO$68,\"1अबवि\")))","v":""},{"$f":"IF(AE39=\"\",\"\",IF(COUNTIF('Entry sheet-2-hin'!$AO$9:$AO$68,\"31AMCC\")=0,COUNTIF('Entry sheet-2-hin'!$AO$9:$AO$68,\"31AMC\")*1,COUNTIF('Entry sheet-2-hin'!$AO$9:$AO$68,\"31AMCC\")*1))","v":""},{"$f":"IF(B39=\"\",\"\",IF(AND(COUNTIF('Entry sheet-2-hin'!$AO$9:$AO$68,\"31AOTC\")=0,COUNTIF('Entry sheet-2-hin'!$AO$9:$AO$68,\"31AOT\")=0),\"\",IF(COUNTIF('Entry sheet-2-hin'!$AO$9:$AO$68,\"31AOTC\")=0,COUNTIF('Entry sheet-2-hin'!$AO$9:$AO$68,\"31AOT\"),COUNTIF('Entry sheet-2-hin'!$AO$9:$AO$68,\"31AOTC\")&\"*\")))","v":""},{"$f":"IF(AG39=\"\",\"\",IF(COUNTIF('Entry sheet-2-hin'!$AO$9:$AO$68,\"31AOTC\")=0,COUNTIF('Entry sheet-2-hin'!$AO$9:$AO$68,\"31AOT\")*1,COUNTIF('Entry sheet-2-hin'!$AO$9:$AO$68,\"31AOTC\")*1))","v":""},{"$f":"IF(B39=\"\",\"\",IF(AND(COUNTIF('Entry sheet-2-hin'!$AO$9:$AO$68,\"1अअलउ\")=0),\"\",COUNTIF('Entry sheet-2-hin'!$AO$9:$AO$68,\"1अअलउ\")))","v":""},{"$f":"IF(AI39=\"\",\"\",IF(COUNTIF('Entry sheet-2-hin'!$AO$9:$AO$68,\"31ASA1C\")=0,COUNTIF('Entry sheet-2-hin'!$AO$9:$AO$68,\"31ASA1\")*1,COUNTIF('Entry sheet-2-hin'!$AO$9:$AO$68,\"31ASA1C\")*1))","v":""},{"$f":"IF(B39=\"\",\"\",IF(AND(COUNTIF('Entry sheet-2-hin'!$AO$9:$AO$68,\"31ASA2C\")=0,COUNTIF('Entry sheet-2-hin'!$AO$9:$AO$68,\"31ASA2\")=0),\"\",IF(COUNTIF('Entry sheet-2-hin'!$AO$9:$AO$68,\"31ASA2C\")=0,COUNTIF('Entry sheet-2-hin'!$AO$9:$AO$68,\"31ASA2\"),COUNTIF('Entry sheet-2-hin'!$AO$9:$AO$68,\"31ASA2C\")&\"*\")))","v":""},"",{"$f":"IF(B39=\"\",\"\",IF(AND(COUNTIF('Entry sheet-2-hin'!$AO$9:$AO$68,\"31ALA1C\")=0,COUNTIF('Entry sheet-2-hin'!$AO$9:$AO$68,\"31ALA1\")=0),\"\",IF(COUNTIF('Entry sheet-2-hin'!$AO$9:$AO$68,\"31ALA1C\")=0,COUNTIF('Entry sheet-2-hin'!$AO$9:$AO$68,\"31ALA1\"),COUNTIF('Entry sheet-2-hin'!$AO$9:$AO$68,\"31ALA1C\")&\"*\")))","v":""},"",{"$f":"IF(B39=\"\",\"\",IF(AND(COUNTIF('Entry sheet-2-hin'!$AO$9:$AO$68,\"31ALA2C\")=0,COUNTIF('Entry sheet-2-hin'!$AO$9:$AO$68,\"31ALA2\")=0),\"\",IF(COUNTIF('Entry sheet-2-hin'!$AO$9:$AO$68,\"31ALA2C\")=0,COUNTIF('Entry sheet-2-hin'!$AO$9:$AO$68,\"31ALA2\"),COUNTIF('Entry sheet-2-hin'!$AO$9:$AO$68,\"31ALA2C\")&\"*\")))","v":""},{"$f":"IF(AO39=\"\",\"\",IF(COUNTIF('Entry sheet-2-hin'!$AO$9:$AO$68,\"31ALA2C\")=0,COUNTIF('Entry sheet-2-hin'!$AO$9:$AO$68,\"31ALA2\")*4,COUNTIF('Entry sheet-2-hin'!$AO$9:$AO$68,\"31ALA2C\")*4))","v":""},{"$f":"IF(B39=\"\",\"\",IF(AND(COUNTIF('Entry sheet-2-hin'!$AO$9:$AO$68,\"1अदीउ5\")=0),\"\",COUNTIF('Entry sheet-2-hin'!$AO$9:$AO$68,\"1अदीउ5\")))","v":""},{"$f":"IF(AQ39=\"\",\"\",IF(COUNTIF('Entry sheet-2-hin'!$AO$9:$AO$68,\"1अदीउ5C\")=0,COUNTIF('Entry sheet-2-hin'!$AO$9:$AO$68,\"1अदीउ5\")*5,COUNTIF('Entry sheet-2-hin'!$AO$9:$AO$68,\"1अदीउ5C\")*5))","v":""},{"$f":"IF(B39=\"\",\"\",IF(AND(COUNTIF('Entry sheet-2-hin'!$AO$9:$AO$68,\"1रसबवि\")=0),\"\",COUNTIF('Entry sheet-2-hin'!$AO$9:$AO$68,\"1रसबवि\")))","v":""},{"$f":"IF(AS39=\"\",\"\",IF(COUNTIF('Entry sheet-2-hin'!$AO$9:$AO$68,\"31SMCC\")=0,COUNTIF('Entry sheet-2-hin'!$AO$9:$AO$68,\"31SMC\")*1,COUNTIF('Entry sheet-2-hin'!$AO$9:$AO$68,\"31SMCC\")*1))","v":""},{"$f":"IF(B39=\"\",\"\",IF(AND(COUNTIF('Entry sheet-2-hin'!$AO$9:$AO$68,\"31SOTC\")=0,COUNTIF('Entry sheet-2-hin'!$AO$9:$AO$68,\"31SOT\")=0),\"\",IF(COUNTIF('Entry sheet-2-hin'!$AO$9:$AO$68,\"31SOTC\")=0,COUNTIF('Entry sheet-2-hin'!$AO$9:$AO$68,\"31SOT\"),COUNTIF('Entry sheet-2-hin'!$AO$9:$AO$68,\"31SOTC\")&\"*\")))","v":""},{"$f":"IF(AU39=\"\",\"\",IF(COUNTIF('Entry sheet-2-hin'!$AO$9:$AO$68,\"31SOTC\")=0,COUNTIF('Entry sheet-2-hin'!$AO$9:$AO$68,\"31SOT\")*1,COUNTIF('Entry sheet-2-hin'!$AO$9:$AO$68,\"31SOTC\")*1))","v":""},{"$f":"IF(B39=\"\",\"\",IF(AND(COUNTIF('Entry sheet-2-hin'!$AO$9:$AO$68,\"1रसअलउ\")=0),\"\",COUNTIF('Entry sheet-2-hin'!$AO$9:$AO$68,\"1रसअलउ\")))","v":""},"",{"$f":"IF(B39=\"\",\"\",IF(AND(COUNTIF('Entry sheet-2-hin'!$AO$9:$AO$68,\"1रसलउ२\")=0),\"\",COUNTIF('Entry sheet-2-hin'!$AO$9:$AO$68,\"1रसलउ२\")))","v":""},{"$f":"IF(AY39=\"\",\"\",IF(COUNTIF('Entry sheet-2-hin'!$AO$9:$AO$68,\"31SSA2C\")=0,COUNTIF('Entry sheet-2-hin'!$AO$9:$AO$68,\"31SSA2\")*2,COUNTIF('Entry sheet-2-hin'!$AO$9:$AO$68,\"31SSA2C\")*2))","v":""},{"$f":"IF(B39=\"\",\"\",IF(AND(COUNTIF('Entry sheet-2-hin'!$AO$9:$AO$68,\"31SLA1C\")=0,COUNTIF('Entry sheet-2-hin'!$AO$9:$AO$68,\"31SLA1\")=0),\"\",IF(COUNTIF('Entry sheet-2-hin'!$AO$9:$AO$68,\"31SLA1C\")=0,COUNTIF('Entry sheet-2-hin'!$AO$9:$AO$68,\"31SLA1\"),COUNTIF('Entry sheet-2-hin'!$AO$9:$AO$68,\"31SLA1C\")&\"*\")))","v":""},{"$f":"IF(BA39=\"\",\"\",IF(COUNTIF('Entry sheet-2-hin'!$AO$9:$AO$68,\"31SLA1C\")=0,COUNTIF('Entry sheet-2-hin'!$AO$9:$AO$68,\"31SLA1\")*3,COUNTIF('Entry sheet-2-hin'!$AO$9:$AO$68,\"31SLA1C\")*3))","v":""},{"$f":"IF(B39=\"\",\"\",IF(AND(COUNTIF('Entry sheet-2-hin'!$AO$9:$AO$68,\"31SLA2C\")=0,COUNTIF('Entry sheet-2-hin'!$AO$9:$AO$68,\"31SLA2\")=0),\"\",IF(COUNTIF('Entry sheet-2-hin'!$AO$9:$AO$68,\"31SLA2C\")=0,COUNTIF('Entry sheet-2-hin'!$AO$9:$AO$68,\"31SLA2\"),COUNTIF('Entry sheet-2-hin'!$AO$9:$AO$68,\"31SLA2C\")&\"*\")))","v":""},"",{"$f":"IF(B39=\"\",\"\",IF(AND(COUNTIF('Entry sheet-2-hin'!$AO$9:$AO$68,\"1रसदीउ5\")=0),\"\",COUNTIF('Entry sheet-2-hin'!$AO$9:$AO$68,\"1रसदीउ5\")))","v":""},"","","","","","","","","","","","","","","","",""]
[{"$f":"IF('Entry sheet-1-hin'!A41=\"\",\"\",'Entry sheet-1-hin'!A41)","v":""},{"$f":"IF('Entry sheet-1-hin'!B41=\"\",\"\",'Entry sheet-1-hin'!B41)","v":""},{"$f":"IF(B40=\"\",\"\",IF(AND(COUNTIF('Entry sheet-2-hin'!$AO$9:$AO$68,\"32KMCC\")=0,COUNTIF('Entry sheet-2-hin'!$AO$9:$AO$68,\"32KMC\")=0),\"\",IF(COUNTIF('Entry sheet-2-hin'!$AO$9:$AO$68,\"32KMCC\")=0,COUNTIF('Entry sheet-2-hin'!$AO$9:$AO$68,\"32KMC\"),COUNTIF('Entry sheet-2-hin'!$AO$9:$AO$68,\"32KMCC\")&\"*\")))","v":""},"",{"$f":"IF(B40=\"\",\"\",IF(AND(COUNTIF('Entry sheet-2-hin'!$AO$9:$AO$68,\"32KOTC\")=0,COUNTIF('Entry sheet-2-hin'!$AO$9:$AO$68,\"32KOT\")=0),\"\",IF(COUNTIF('Entry sheet-2-hin'!$AO$9:$AO$68,\"32KOTC\")=0,COUNTIF('Entry sheet-2-hin'!$AO$9:$AO$68,\"32KOT\"),COUNTIF('Entry sheet-2-hin'!$AO$9:$AO$68,\"32KOTC\")&\"*\")))","v":""},"",{"$f":"IF(B40=\"\",\"\",IF(AND(COUNTIF('Entry sheet-2-hin'!$AO$9:$AO$68,\"32KSA1C\")=0,COUNTIF('Entry sheet-2-hin'!$AO$9:$AO$68,\"32KSA1\")=0),\"\",IF(COUNTIF('Entry sheet-2-hin'!$AO$9:$AO$68,\"32KSA1C\")=0,COUNTIF('Entry sheet-2-hin'!$AO$9:$AO$68,\"32KSA1\"),COUNTIF('Entry sheet-2-hin'!$AO$9:$AO$68,\"32KSA1C\")&\"*\")))","v":""},{"$f":"IF(G40=\"\",\"\",IF(COUNTIF('Entry sheet-2-hin'!$AO$9:$AO$68,\"32KSA1C\")=0,COUNTIF('Entry sheet-2-hin'!$AO$9:$AO$68,\"32KSA1\")*1,COUNTIF('Entry sheet-2-hin'!$AO$9:$AO$68,\"32KSA1C\")*1))","v":""},{"$f":"IF(B40=\"\",\"\",IF(AND(COUNTIF('Entry sheet-2-hin'!$AO$9:$AO$68,\"32KSA2C\")=0,COUNTIF('Entry sheet-2-hin'!$AO$9:$AO$68,\"32KSA2\")=0),\"\",IF(COUNTIF('Entry sheet-2-hin'!$AO$9:$AO$68,\"32KSA2C\")=0,COUNTIF('Entry sheet-2-hin'!$AO$9:$AO$68,\"32KSA2\"),COUNTIF('Entry sheet-2-hin'!$AO$9:$AO$68,\"32KSA2C\")&\"*\")))","v":""},{"$f":"IF(I40=\"\",\"\",IF(COUNTIF('Entry sheet-2-hin'!$AO$9:$AO$68,\"32KSA2C\")=0,COUNTIF('Entry sheet-2-hin'!$AO$9:$AO$68,\"32KSA2\")*2,COUNTIF('Entry sheet-2-hin'!$AO$9:$AO$68,\"32KSA2C\")*2))","v":""},{"$f":"IF(B40=\"\",\"\",IF(AND(COUNTIF('Entry sheet-2-hin'!$AO$9:$AO$68,\"32KLA1C\")=0,COUNTIF('Entry sheet-2-hin'!$AO$9:$AO$68,\"32KLA1\")=0),\"\",IF(COUNTIF('Entry sheet-2-hin'!$AO$9:$AO$68,\"32KLA1C\")=0,COUNTIF('Entry sheet-2-hin'!$AO$9:$AO$68,\"32KLA1\"),COUNTIF('Entry sheet-2-hin'!$AO$9:$AO$68,\"32KLA1C\")&\"*\")))","v":""},{"$f":"IF(K40=\"\",\"\",IF(COUNTIF('Entry sheet-2-hin'!$AO$9:$AO$68,\"32KLA1C\")=0,COUNTIF('Entry sheet-2-hin'!$AO$9:$AO$68,\"32KLA1\")*3,COUNTIF('Entry sheet-2-hin'!$AO$9:$AO$68,\"32KLA1C\")*3))","v":""},{"$f":"IF(B40=\"\",\"\",IF(AND(COUNTIF('Entry sheet-2-hin'!$AO$9:$AO$68,\"1स्मदीउ४\")=0),\"\",COUNTIF('Entry sheet-2-hin'!$AO$9:$AO$68,\"1स्मदीउ४\")))","v":""},"",{"$f":"IF(B40=\"\",\"\",IF(AND(COUNTIF('Entry sheet-2-hin'!$AO$9:$AO$68,\"1स्मदीउ5\")=0),\"\",COUNTIF('Entry sheet-2-hin'!$AO$9:$AO$68,\"1स्मदीउ5\")))","v":""},{"$f":"IF(O40=\"\",\"\",IF(COUNTIF('Entry sheet-2-hin'!$AO$9:$AO$68,\"1स्मदीउ5C\")=0,COUNTIF('Entry sheet-2-hin'!$AO$9:$AO$68,\"1स्मदीउ5\")*5,COUNTIF('Entry sheet-2-hin'!$AO$9:$AO$68,\"1स्मदीउ5C\")*5))","v":""},{"$f":"IF(B40=\"\",\"\",IF(AND(COUNTIF('Entry sheet-2-hin'!$AO$9:$AO$68,\"32UMCC\")=0,COUNTIF('Entry sheet-2-hin'!$AO$9:$AO$68,\"32UMC\")=0),\"\",IF(COUNTIF('Entry sheet-2-hin'!$AO$9:$AO$68,\"32UMCC\")=0,COUNTIF('Entry sheet-2-hin'!$AO$9:$AO$68,\"32UMC\"),COUNTIF('Entry sheet-2-hin'!$AO$9:$AO$68,\"32UMCC\")&\"*\")))","v":""},"",{"$f":"IF(B40=\"\",\"\",IF(AND(COUNTIF('Entry sheet-2-hin'!$AO$9:$AO$68,\"1समवनि\")=0),\"\",COUNTIF('Entry sheet-2-hin'!$AO$9:$AO$68,\"1समवनि\")))","v":""},"",{"$f":"IF(B40=\"\",\"\",IF(AND(COUNTIF('Entry sheet-2-hin'!$AO$9:$AO$68,\"1समअलउ\")=0),\"\",COUNTIF('Entry sheet-2-hin'!$AO$9:$AO$68,\"1समअलउ\")))","v":""},"",{"$f":"IF(B40=\"\",\"\",IF(AND(COUNTIF('Entry sheet-2-hin'!$AO$9:$AO$68,\"32USA2C\")=0,COUNTIF('Entry sheet-2-hin'!$AO$9:$AO$68,\"32USA2\")=0),\"\",IF(COUNTIF('Entry sheet-2-hin'!$AO$9:$AO$68,\"32USA2C\")=0,COUNTIF('Entry sheet-2-hin'!$AO$9:$AO$68,\"32USA2\"),COUNTIF('Entry sheet-2-hin'!$AO$9:$AO$68,\"32USA2C\")&\"*\")))","v":""},{"$f":"IF(W40=\"\",\"\",IF(COUNTIF('Entry sheet-2-hin'!$AO$9:$AO$68,\"32USA2C\")=0,COUNTIF('Entry sheet-2-hin'!$AO$9:$AO$68,\"32USA2\")*2,COUNTIF('Entry sheet-2-hin'!$AO$9:$AO$68,\"32USA2C\")*2))","v":""},{"$f":"IF(B40=\"\",\"\",IF(AND(COUNTIF('Entry sheet-2-hin'!$AO$9:$AO$68,\"32ULA1C\")=0,COUNTIF('Entry sheet-2-hin'!$AO$9:$AO$68,\"32ULA1\")=0),\"\",IF(COUNTIF('Entry sheet-2-hin'!$AO$9:$AO$68,\"32ULA1C\")=0,COUNTIF('Entry sheet-2-hin'!$AO$9:$AO$68,\"32ULA1\"),COUNTIF('Entry sheet-2-hin'!$AO$9:$AO$68,\"32ULA1C\")&\"*\")))","v":""},{"$f":"IF(Y40=\"\",\"\",IF(COUNTIF('Entry sheet-2-hin'!$AO$9:$AO$68,\"32ULA1C\")=0,COUNTIF('Entry sheet-2-hin'!$AO$9:$AO$68,\"32ULA1\")*3,COUNTIF('Entry sheet-2-hin'!$AO$9:$AO$68,\"32ULA1C\")*3))","v":""},{"$f":"IF(B40=\"\",\"\",IF(AND(COUNTIF('Entry sheet-2-hin'!$AO$9:$AO$68,\"1समदीउ४\")=0),\"\",COUNTIF('Entry sheet-2-hin'!$AO$9:$AO$68,\"1समदीउ४\")))","v":""},"",{"$f":"IF(B40=\"\",\"\",IF(AND(COUNTIF('Entry sheet-2-hin'!$AO$9:$AO$68,\"1समदीउ5\")=0),\"\",COUNTIF('Entry sheet-2-hin'!$AO$9:$AO$68,\"1समदीउ5\")))","v":""},{"$f":"IF(AC40=\"\",\"\",IF(COUNTIF('Entry sheet-2-hin'!$AO$9:$AO$68,\"1समदीउ5C\")=0,COUNTIF('Entry sheet-2-hin'!$AO$9:$AO$68,\"1समदीउ5\")*5,COUNTIF('Entry sheet-2-hin'!$AO$9:$AO$68,\"1समदीउ5C\")*5))","v":""},{"$f":"IF(B40=\"\",\"\",IF(AND(COUNTIF('Entry sheet-2-hin'!$AO$9:$AO$68,\"1अबवि\")=0),\"\",COUNTIF('Entry sheet-2-hin'!$AO$9:$AO$68,\"1अबवि\")))","v":""},{"$f":"IF(AE40=\"\",\"\",IF(COUNTIF('Entry sheet-2-hin'!$AO$9:$AO$68,\"32AMCC\")=0,COUNTIF('Entry sheet-2-hin'!$AO$9:$AO$68,\"32AMC\")*1,COUNTIF('Entry sheet-2-hin'!$AO$9:$AO$68,\"32AMCC\")*1))","v":""},{"$f":"IF(B40=\"\",\"\",IF(AND(COUNTIF('Entry sheet-2-hin'!$AO$9:$AO$68,\"32AOTC\")=0,COUNTIF('Entry sheet-2-hin'!$AO$9:$AO$68,\"32AOT\")=0),\"\",IF(COUNTIF('Entry sheet-2-hin'!$AO$9:$AO$68,\"32AOTC\")=0,COUNTIF('Entry sheet-2-hin'!$AO$9:$AO$68,\"32AOT\"),COUNTIF('Entry sheet-2-hin'!$AO$9:$AO$68,\"32AOTC\")&\"*\")))","v":""},{"$f":"IF(AG40=\"\",\"\",IF(COUNTIF('Entry sheet-2-hin'!$AO$9:$AO$68,\"32AOTC\")=0,COUNTIF('Entry sheet-2-hin'!$AO$9:$AO$68,\"32AOT\")*1,COUNTIF('Entry sheet-2-hin'!$AO$9:$AO$68,\"32AOTC\")*1))","v":""},{"$f":"IF(B40=\"\",\"\",IF(AND(COUNTIF('Entry sheet-2-hin'!$AO$9:$AO$68,\"1अअलउ\")=0),\"\",COUNTIF('Entry sheet-2-hin'!$AO$9:$AO$68,\"1अअलउ\")))","v":""},{"$f":"IF(AI40=\"\",\"\",IF(COUNTIF('Entry sheet-2-hin'!$AO$9:$AO$68,\"32ASA1C\")=0,COUNTIF('Entry sheet-2-hin'!$AO$9:$AO$68,\"32ASA1\")*1,COUNTIF('Entry sheet-2-hin'!$AO$9:$AO$68,\"32ASA1C\")*1))","v":""},{"$f":"IF(B40=\"\",\"\",IF(AND(COUNTIF('Entry sheet-2-hin'!$AO$9:$AO$68,\"32ASA2C\")=0,COUNTIF('Entry sheet-2-hin'!$AO$9:$AO$68,\"32ASA2\")=0),\"\",IF(COUNTIF('Entry sheet-2-hin'!$AO$9:$AO$68,\"32ASA2C\")=0,COUNTIF('Entry sheet-2-hin'!$AO$9:$AO$68,\"32ASA2\"),COUNTIF('Entry sheet-2-hin'!$AO$9:$AO$68,\"32ASA2C\")&\"*\")))","v":""},"",{"$f":"IF(B40=\"\",\"\",IF(AND(COUNTIF('Entry sheet-2-hin'!$AO$9:$AO$68,\"32ALA1C\")=0,COUNTIF('Entry sheet-2-hin'!$AO$9:$AO$68,\"32ALA1\")=0),\"\",IF(COUNTIF('Entry sheet-2-hin'!$AO$9:$AO$68,\"32ALA1C\")=0,COUNTIF('Entry sheet-2-hin'!$AO$9:$AO$68,\"32ALA1\"),COUNTIF('Entry sheet-2-hin'!$AO$9:$AO$68,\"32ALA1C\")&\"*\")))","v":""},"",{"$f":"IF(B40=\"\",\"\",IF(AND(COUNTIF('Entry sheet-2-hin'!$AO$9:$AO$68,\"32ALA2C\")=0,COUNTIF('Entry sheet-2-hin'!$AO$9:$AO$68,\"32ALA2\")=0),\"\",IF(COUNTIF('Entry sheet-2-hin'!$AO$9:$AO$68,\"32ALA2C\")=0,COUNTIF('Entry sheet-2-hin'!$AO$9:$AO$68,\"32ALA2\"),COUNTIF('Entry sheet-2-hin'!$AO$9:$AO$68,\"32ALA2C\")&\"*\")))","v":""},{"$f":"IF(AO40=\"\",\"\",IF(COUNTIF('Entry sheet-2-hin'!$AO$9:$AO$68,\"32ALA2C\")=0,COUNTIF('Entry sheet-2-hin'!$AO$9:$AO$68,\"32ALA2\")*4,COUNTIF('Entry sheet-2-hin'!$AO$9:$AO$68,\"32ALA2C\")*4))","v":""},{"$f":"IF(B40=\"\",\"\",IF(AND(COUNTIF('Entry sheet-2-hin'!$AO$9:$AO$68,\"1अदीउ5\")=0),\"\",COUNTIF('Entry sheet-2-hin'!$AO$9:$AO$68,\"1अदीउ5\")))","v":""},{"$f":"IF(AQ40=\"\",\"\",IF(COUNTIF('Entry sheet-2-hin'!$AO$9:$AO$68,\"1अदीउ5C\")=0,COUNTIF('Entry sheet-2-hin'!$AO$9:$AO$68,\"1अदीउ5\")*5,COUNTIF('Entry sheet-2-hin'!$AO$9:$AO$68,\"1अदीउ5C\")*5))","v":""},{"$f":"IF(B40=\"\",\"\",IF(AND(COUNTIF('Entry sheet-2-hin'!$AO$9:$AO$68,\"1रसबवि\")=0),\"\",COUNTIF('Entry sheet-2-hin'!$AO$9:$AO$68,\"1रसबवि\")))","v":""},{"$f":"IF(AS40=\"\",\"\",IF(COUNTIF('Entry sheet-2-hin'!$AO$9:$AO$68,\"32SMCC\")=0,COUNTIF('Entry sheet-2-hin'!$AO$9:$AO$68,\"32SMC\")*1,COUNTIF('Entry sheet-2-hin'!$AO$9:$AO$68,\"32SMCC\")*1))","v":""},{"$f":"IF(B40=\"\",\"\",IF(AND(COUNTIF('Entry sheet-2-hin'!$AO$9:$AO$68,\"32SOTC\")=0,COUNTIF('Entry sheet-2-hin'!$AO$9:$AO$68,\"32SOT\")=0),\"\",IF(COUNTIF('Entry sheet-2-hin'!$AO$9:$AO$68,\"32SOTC\")=0,COUNTIF('Entry sheet-2-hin'!$AO$9:$AO$68,\"32SOT\"),COUNTIF('Entry sheet-2-hin'!$AO$9:$AO$68,\"32SOTC\")&\"*\")))","v":""},{"$f":"IF(AU40=\"\",\"\",IF(COUNTIF('Entry sheet-2-hin'!$AO$9:$AO$68,\"32SOTC\")=0,COUNTIF('Entry sheet-2-hin'!$AO$9:$AO$68,\"32SOT\")*1,COUNTIF('Entry sheet-2-hin'!$AO$9:$AO$68,\"32SOTC\")*1))","v":""},{"$f":"IF(B40=\"\",\"\",IF(AND(COUNTIF('Entry sheet-2-hin'!$AO$9:$AO$68,\"1रसअलउ\")=0),\"\",COUNTIF('Entry sheet-2-hin'!$AO$9:$AO$68,\"1रसअलउ\")))","v":""},"",{"$f":"IF(B40=\"\",\"\",IF(AND(COUNTIF('Entry sheet-2-hin'!$AO$9:$AO$68,\"1रसलउ२\")=0),\"\",COUNTIF('Entry sheet-2-hin'!$AO$9:$AO$68,\"1रसलउ२\")))","v":""},{"$f":"IF(AY40=\"\",\"\",IF(COUNTIF('Entry sheet-2-hin'!$AO$9:$AO$68,\"32SSA2C\")=0,COUNTIF('Entry sheet-2-hin'!$AO$9:$AO$68,\"32SSA2\")*2,COUNTIF('Entry sheet-2-hin'!$AO$9:$AO$68,\"32SSA2C\")*2))","v":""},{"$f":"IF(B40=\"\",\"\",IF(AND(COUNTIF('Entry sheet-2-hin'!$AO$9:$AO$68,\"32SLA1C\")=0,COUNTIF('Entry sheet-2-hin'!$AO$9:$AO$68,\"32SLA1\")=0),\"\",IF(COUNTIF('Entry sheet-2-hin'!$AO$9:$AO$68,\"32SLA1C\")=0,COUNTIF('Entry sheet-2-hin'!$AO$9:$AO$68,\"32SLA1\"),COUNTIF('Entry sheet-2-hin'!$AO$9:$AO$68,\"32SLA1C\")&\"*\")))","v":""},{"$f":"IF(BA40=\"\",\"\",IF(COUNTIF('Entry sheet-2-hin'!$AO$9:$AO$68,\"32SLA1C\")=0,COUNTIF('Entry sheet-2-hin'!$AO$9:$AO$68,\"32SLA1\")*3,COUNTIF('Entry sheet-2-hin'!$AO$9:$AO$68,\"32SLA1C\")*3))","v":""},{"$f":"IF(B40=\"\",\"\",IF(AND(COUNTIF('Entry sheet-2-hin'!$AO$9:$AO$68,\"32SLA2C\")=0,COUNTIF('Entry sheet-2-hin'!$AO$9:$AO$68,\"32SLA2\")=0),\"\",IF(COUNTIF('Entry sheet-2-hin'!$AO$9:$AO$68,\"32SLA2C\")=0,COUNTIF('Entry sheet-2-hin'!$AO$9:$AO$68,\"32SLA2\"),COUNTIF('Entry sheet-2-hin'!$AO$9:$AO$68,\"32SLA2C\")&\"*\")))","v":""},"",{"$f":"IF(B40=\"\",\"\",IF(AND(COUNTIF('Entry sheet-2-hin'!$AO$9:$AO$68,\"1रसदीउ5\")=0),\"\",COUNTIF('Entry sheet-2-hin'!$AO$9:$AO$68,\"1रसदीउ5\")))","v":""},"","","","","","","","","","","","","","","","",""]
[{"$f":"IF('Entry sheet-1-hin'!A42=\"\",\"\",'Entry sheet-1-hin'!A42)","v":""},{"$f":"IF('Entry sheet-1-hin'!B42=\"\",\"\",'Entry sheet-1-hin'!B42)","v":""},{"$f":"IF(B41=\"\",\"\",IF(AND(COUNTIF('Entry sheet-2-hin'!$AO$9:$AO$68,\"33KMCC\")=0,COUNTIF('Entry sheet-2-hin'!$AO$9:$AO$68,\"33KMC\")=0),\"\",IF(COUNTIF('Entry sheet-2-hin'!$AO$9:$AO$68,\"33KMCC\")=0,COUNTIF('Entry sheet-2-hin'!$AO$9:$AO$68,\"33KMC\"),COUNTIF('Entry sheet-2-hin'!$AO$9:$AO$68,\"33KMCC\")&\"*\")))","v":""},"",{"$f":"IF(B41=\"\",\"\",IF(AND(COUNTIF('Entry sheet-2-hin'!$AO$9:$AO$68,\"33KOTC\")=0,COUNTIF('Entry sheet-2-hin'!$AO$9:$AO$68,\"33KOT\")=0),\"\",IF(COUNTIF('Entry sheet-2-hin'!$AO$9:$AO$68,\"33KOTC\")=0,COUNTIF('Entry sheet-2-hin'!$AO$9:$AO$68,\"33KOT\"),COUNTIF('Entry sheet-2-hin'!$AO$9:$AO$68,\"33KOTC\")&\"*\")))","v":""},"",{"$f":"IF(B41=\"\",\"\",IF(AND(COUNTIF('Entry sheet-2-hin'!$AO$9:$AO$68,\"33KSA1C\")=0,COUNTIF('Entry sheet-2-hin'!$AO$9:$AO$68,\"33KSA1\")=0),\"\",IF(COUNTIF('Entry sheet-2-hin'!$AO$9:$AO$68,\"33KSA1C\")=0,COUNTIF('Entry sheet-2-hin'!$AO$9:$AO$68,\"33KSA1\"),COUNTIF('Entry sheet-2-hin'!$AO$9:$AO$68,\"33KSA1C\")&\"*\")))","v":""},{"$f":"IF(G41=\"\",\"\",IF(COUNTIF('Entry sheet-2-hin'!$AO$9:$AO$68,\"33KSA1C\")=0,COUNTIF('Entry sheet-2-hin'!$AO$9:$AO$68,\"33KSA1\")*1,COUNTIF('Entry sheet-2-hin'!$AO$9:$AO$68,\"33KSA1C\")*1))","v":""},{"$f":"IF(B41=\"\",\"\",IF(AND(COUNTIF('Entry sheet-2-hin'!$AO$9:$AO$68,\"33KSA2C\")=0,COUNTIF('Entry sheet-2-hin'!$AO$9:$AO$68,\"33KSA2\")=0),\"\",IF(COUNTIF('Entry sheet-2-hin'!$AO$9:$AO$68,\"33KSA2C\")=0,COUNTIF('Entry sheet-2-hin'!$AO$9:$AO$68,\"33KSA2\"),COUNTIF('Entry sheet-2-hin'!$AO$9:$AO$68,\"33KSA2C\")&\"*\")))","v":""},{"$f":"IF(I41=\"\",\"\",IF(COUNTIF('Entry sheet-2-hin'!$AO$9:$AO$68,\"33KSA2C\")=0,COUNTIF('Entry sheet-2-hin'!$AO$9:$AO$68,\"33KSA2\")*2,COUNTIF('Entry sheet-2-hin'!$AO$9:$AO$68,\"33KSA2C\")*2))","v":""},{"$f":"IF(B41=\"\",\"\",IF(AND(COUNTIF('Entry sheet-2-hin'!$AO$9:$AO$68,\"33KLA1C\")=0,COUNTIF('Entry sheet-2-hin'!$AO$9:$AO$68,\"33KLA1\")=0),\"\",IF(COUNTIF('Entry sheet-2-hin'!$AO$9:$AO$68,\"33KLA1C\")=0,COUNTIF('Entry sheet-2-hin'!$AO$9:$AO$68,\"33KLA1\"),COUNTIF('Entry sheet-2-hin'!$AO$9:$AO$68,\"33KLA1C\")&\"*\")))","v":""},{"$f":"IF(K41=\"\",\"\",IF(COUNTIF('Entry sheet-2-hin'!$AO$9:$AO$68,\"33KLA1C\")=0,COUNTIF('Entry sheet-2-hin'!$AO$9:$AO$68,\"33KLA1\")*3,COUNTIF('Entry sheet-2-hin'!$AO$9:$AO$68,\"33KLA1C\")*3))","v":""},{"$f":"IF(B41=\"\",\"\",IF(AND(COUNTIF('Entry sheet-2-hin'!$AO$9:$AO$68,\"1स्मदीउ४\")=0),\"\",COUNTIF('Entry sheet-2-hin'!$AO$9:$AO$68,\"1स्मदीउ४\")))","v":""},"",{"$f":"IF(B41=\"\",\"\",IF(AND(COUNTIF('Entry sheet-2-hin'!$AO$9:$AO$68,\"1स्मदीउ5\")=0),\"\",COUNTIF('Entry sheet-2-hin'!$AO$9:$AO$68,\"1स्मदीउ5\")))","v":""},{"$f":"IF(O41=\"\",\"\",IF(COUNTIF('Entry sheet-2-hin'!$AO$9:$AO$68,\"1स्मदीउ5C\")=0,COUNTIF('Entry sheet-2-hin'!$AO$9:$AO$68,\"1स्मदीउ5\")*5,COUNTIF('Entry sheet-2-hin'!$AO$9:$AO$68,\"1स्मदीउ5C\")*5))","v":""},{"$f":"IF(B41=\"\",\"\",IF(AND(COUNTIF('Entry sheet-2-hin'!$AO$9:$AO$68,\"33UMCC\")=0,COUNTIF('Entry sheet-2-hin'!$AO$9:$AO$68,\"33UMC\")=0),\"\",IF(COUNTIF('Entry sheet-2-hin'!$AO$9:$AO$68,\"33UMCC\")=0,COUNTIF('Entry sheet-2-hin'!$AO$9:$AO$68,\"33UMC\"),COUNTIF('Entry sheet-2-hin'!$AO$9:$AO$68,\"33UMCC\")&\"*\")))","v":""},"",{"$f":"IF(B41=\"\",\"\",IF(AND(COUNTIF('Entry sheet-2-hin'!$AO$9:$AO$68,\"1समवनि\")=0),\"\",COUNTIF('Entry sheet-2-hin'!$AO$9:$AO$68,\"1समवनि\")))","v":""},"",{"$f":"IF(B41=\"\",\"\",IF(AND(COUNTIF('Entry sheet-2-hin'!$AO$9:$AO$68,\"1समअलउ\")=0),\"\",COUNTIF('Entry sheet-2-hin'!$AO$9:$AO$68,\"1समअलउ\")))","v":""},"",{"$f":"IF(B41=\"\",\"\",IF(AND(COUNTIF('Entry sheet-2-hin'!$AO$9:$AO$68,\"33USA2C\")=0,COUNTIF('Entry sheet-2-hin'!$AO$9:$AO$68,\"33USA2\")=0),\"\",IF(COUNTIF('Entry sheet-2-hin'!$AO$9:$AO$68,\"33USA2C\")=0,COUNTIF('Entry sheet-2-hin'!$AO$9:$AO$68,\"33USA2\"),COUNTIF('Entry sheet-2-hin'!$AO$9:$AO$68,\"33USA2C\")&\"*\")))","v":""},{"$f":"IF(W41=\"\",\"\",IF(COUNTIF('Entry sheet-2-hin'!$AO$9:$AO$68,\"33USA2C\")=0,COUNTIF('Entry sheet-2-hin'!$AO$9:$AO$68,\"33USA2\")*2,COUNTIF('Entry sheet-2-hin'!$AO$9:$AO$68,\"33USA2C\")*2))","v":""},{"$f":"IF(B41=\"\",\"\",IF(AND(COUNTIF('Entry sheet-2-hin'!$AO$9:$AO$68,\"33ULA1C\")=0,COUNTIF('Entry sheet-2-hin'!$AO$9:$AO$68,\"33ULA1\")=0),\"\",IF(COUNTIF('Entry sheet-2-hin'!$AO$9:$AO$68,\"33ULA1C\")=0,COUNTIF('Entry sheet-2-hin'!$AO$9:$AO$68,\"33ULA1\"),COUNTIF('Entry sheet-2-hin'!$AO$9:$AO$68,\"33ULA1C\")&\"*\")))","v":""},{"$f":"IF(Y41=\"\",\"\",IF(COUNTIF('Entry sheet-2-hin'!$AO$9:$AO$68,\"33ULA1C\")=0,COUNTIF('Entry sheet-2-hin'!$AO$9:$AO$68,\"33ULA1\")*3,COUNTIF('Entry sheet-2-hin'!$AO$9:$AO$68,\"33ULA1C\")*3))","v":""},{"$f":"IF(B41=\"\",\"\",IF(AND(COUNTIF('Entry sheet-2-hin'!$AO$9:$AO$68,\"1समदीउ४\")=0),\"\",COUNTIF('Entry sheet-2-hin'!$AO$9:$AO$68,\"1समदीउ४\")))","v":""},"",{"$f":"IF(B41=\"\",\"\",IF(AND(COUNTIF('Entry sheet-2-hin'!$AO$9:$AO$68,\"1समदीउ5\")=0),\"\",COUNTIF('Entry sheet-2-hin'!$AO$9:$AO$68,\"1समदीउ5\")))","v":""},{"$f":"IF(AC41=\"\",\"\",IF(COUNTIF('Entry sheet-2-hin'!$AO$9:$AO$68,\"1समदीउ5C\")=0,COUNTIF('Entry sheet-2-hin'!$AO$9:$AO$68,\"1समदीउ5\")*5,COUNTIF('Entry sheet-2-hin'!$AO$9:$AO$68,\"1समदीउ5C\")*5))","v":""},{"$f":"IF(B41=\"\",\"\",IF(AND(COUNTIF('Entry sheet-2-hin'!$AO$9:$AO$68,\"1अबवि\")=0),\"\",COUNTIF('Entry sheet-2-hin'!$AO$9:$AO$68,\"1अबवि\")))","v":""},{"$f":"IF(AE41=\"\",\"\",IF(COUNTIF('Entry sheet-2-hin'!$AO$9:$AO$68,\"33AMCC\")=0,COUNTIF('Entry sheet-2-hin'!$AO$9:$AO$68,\"33AMC\")*1,COUNTIF('Entry sheet-2-hin'!$AO$9:$AO$68,\"33AMCC\")*1))","v":""},{"$f":"IF(B41=\"\",\"\",IF(AND(COUNTIF('Entry sheet-2-hin'!$AO$9:$AO$68,\"33AOTC\")=0,COUNTIF('Entry sheet-2-hin'!$AO$9:$AO$68,\"33AOT\")=0),\"\",IF(COUNTIF('Entry sheet-2-hin'!$AO$9:$AO$68,\"33AOTC\")=0,COUNTIF('Entry sheet-2-hin'!$AO$9:$AO$68,\"33AOT\"),COUNTIF('Entry sheet-2-hin'!$AO$9:$AO$68,\"33AOTC\")&\"*\")))","v":""},{"$f":"IF(AG41=\"\",\"\",IF(COUNTIF('Entry sheet-2-hin'!$AO$9:$AO$68,\"33AOTC\")=0,COUNTIF('Entry sheet-2-hin'!$AO$9:$AO$68,\"33AOT\")*1,COUNTIF('Entry sheet-2-hin'!$AO$9:$AO$68,\"33AOTC\")*1))","v":""},{"$f":"IF(B41=\"\",\"\",IF(AND(COUNTIF('Entry sheet-2-hin'!$AO$9:$AO$68,\"1अअलउ\")=0),\"\",COUNTIF('Entry sheet-2-hin'!$AO$9:$AO$68,\"1अअलउ\")))","v":""},{"$f":"IF(AI41=\"\",\"\",IF(COUNTIF('Entry sheet-2-hin'!$AO$9:$AO$68,\"33ASA1C\")=0,COUNTIF('Entry sheet-2-hin'!$AO$9:$AO$68,\"33ASA1\")*1,COUNTIF('Entry sheet-2-hin'!$AO$9:$AO$68,\"33ASA1C\")*1))","v":""},{"$f":"IF(B41=\"\",\"\",IF(AND(COUNTIF('Entry sheet-2-hin'!$AO$9:$AO$68,\"33ASA2C\")=0,COUNTIF('Entry sheet-2-hin'!$AO$9:$AO$68,\"33ASA2\")=0),\"\",IF(COUNTIF('Entry sheet-2-hin'!$AO$9:$AO$68,\"33ASA2C\")=0,COUNTIF('Entry sheet-2-hin'!$AO$9:$AO$68,\"33ASA2\"),COUNTIF('Entry sheet-2-hin'!$AO$9:$AO$68,\"33ASA2C\")&\"*\")))","v":""},"",{"$f":"IF(B41=\"\",\"\",IF(AND(COUNTIF('Entry sheet-2-hin'!$AO$9:$AO$68,\"33ALA1C\")=0,COUNTIF('Entry sheet-2-hin'!$AO$9:$AO$68,\"33ALA1\")=0),\"\",IF(COUNTIF('Entry sheet-2-hin'!$AO$9:$AO$68,\"33ALA1C\")=0,COUNTIF('Entry sheet-2-hin'!$AO$9:$AO$68,\"33ALA1\"),COUNTIF('Entry sheet-2-hin'!$AO$9:$AO$68,\"33ALA1C\")&\"*\")))","v":""},"",{"$f":"IF(B41=\"\",\"\",IF(AND(COUNTIF('Entry sheet-2-hin'!$AO$9:$AO$68,\"33ALA2C\")=0,COUNTIF('Entry sheet-2-hin'!$AO$9:$AO$68,\"33ALA2\")=0),\"\",IF(COUNTIF('Entry sheet-2-hin'!$AO$9:$AO$68,\"33ALA2C\")=0,COUNTIF('Entry sheet-2-hin'!$AO$9:$AO$68,\"33ALA2\"),COUNTIF('Entry sheet-2-hin'!$AO$9:$AO$68,\"33ALA2C\")&\"*\")))","v":""},{"$f":"IF(AO41=\"\",\"\",IF(COUNTIF('Entry sheet-2-hin'!$AO$9:$AO$68,\"33ALA2C\")=0,COUNTIF('Entry sheet-2-hin'!$AO$9:$AO$68,\"33ALA2\")*4,COUNTIF('Entry sheet-2-hin'!$AO$9:$AO$68,\"33ALA2C\")*4))","v":""},{"$f":"IF(B41=\"\",\"\",IF(AND(COUNTIF('Entry sheet-2-hin'!$AO$9:$AO$68,\"1अदीउ5\")=0),\"\",COUNTIF('Entry sheet-2-hin'!$AO$9:$AO$68,\"1अदीउ5\")))","v":""},{"$f":"IF(AQ41=\"\",\"\",IF(COUNTIF('Entry sheet-2-hin'!$AO$9:$AO$68,\"1अदीउ5C\")=0,COUNTIF('Entry sheet-2-hin'!$AO$9:$AO$68,\"1अदीउ5\")*5,COUNTIF('Entry sheet-2-hin'!$AO$9:$AO$68,\"1अदीउ5C\")*5))","v":""},{"$f":"IF(B41=\"\",\"\",IF(AND(COUNTIF('Entry sheet-2-hin'!$AO$9:$AO$68,\"1रसबवि\")=0),\"\",COUNTIF('Entry sheet-2-hin'!$AO$9:$AO$68,\"1रसबवि\")))","v":""},{"$f":"IF(AS41=\"\",\"\",IF(COUNTIF('Entry sheet-2-hin'!$AO$9:$AO$68,\"33SMCC\")=0,COUNTIF('Entry sheet-2-hin'!$AO$9:$AO$68,\"33SMC\")*1,COUNTIF('Entry sheet-2-hin'!$AO$9:$AO$68,\"33SMCC\")*1))","v":""},{"$f":"IF(B41=\"\",\"\",IF(AND(COUNTIF('Entry sheet-2-hin'!$AO$9:$AO$68,\"33SOTC\")=0,COUNTIF('Entry sheet-2-hin'!$AO$9:$AO$68,\"33SOT\")=0),\"\",IF(COUNTIF('Entry sheet-2-hin'!$AO$9:$AO$68,\"33SOTC\")=0,COUNTIF('Entry sheet-2-hin'!$AO$9:$AO$68,\"33SOT\"),COUNTIF('Entry sheet-2-hin'!$AO$9:$AO$68,\"33SOTC\")&\"*\")))","v":""},{"$f":"IF(AU41=\"\",\"\",IF(COUNTIF('Entry sheet-2-hin'!$AO$9:$AO$68,\"33SOTC\")=0,COUNTIF('Entry sheet-2-hin'!$AO$9:$AO$68,\"33SOT\")*1,COUNTIF('Entry sheet-2-hin'!$AO$9:$AO$68,\"33SOTC\")*1))","v":""},{"$f":"IF(B41=\"\",\"\",IF(AND(COUNTIF('Entry sheet-2-hin'!$AO$9:$AO$68,\"1रसअलउ\")=0),\"\",COUNTIF('Entry sheet-2-hin'!$AO$9:$AO$68,\"1रसअलउ\")))","v":""},"",{"$f":"IF(B41=\"\",\"\",IF(AND(COUNTIF('Entry sheet-2-hin'!$AO$9:$AO$68,\"1रसलउ२\")=0),\"\",COUNTIF('Entry sheet-2-hin'!$AO$9:$AO$68,\"1रसलउ२\")))","v":""},{"$f":"IF(AY41=\"\",\"\",IF(COUNTIF('Entry sheet-2-hin'!$AO$9:$AO$68,\"33SSA2C\")=0,COUNTIF('Entry sheet-2-hin'!$AO$9:$AO$68,\"33SSA2\")*2,COUNTIF('Entry sheet-2-hin'!$AO$9:$AO$68,\"33SSA2C\")*2))","v":""},{"$f":"IF(B41=\"\",\"\",IF(AND(COUNTIF('Entry sheet-2-hin'!$AO$9:$AO$68,\"33SLA1C\")=0,COUNTIF('Entry sheet-2-hin'!$AO$9:$AO$68,\"33SLA1\")=0),\"\",IF(COUNTIF('Entry sheet-2-hin'!$AO$9:$AO$68,\"33SLA1C\")=0,COUNTIF('Entry sheet-2-hin'!$AO$9:$AO$68,\"33SLA1\"),COUNTIF('Entry sheet-2-hin'!$AO$9:$AO$68,\"33SLA1C\")&\"*\")))","v":""},{"$f":"IF(BA41=\"\",\"\",IF(COUNTIF('Entry sheet-2-hin'!$AO$9:$AO$68,\"33SLA1C\")=0,COUNTIF('Entry sheet-2-hin'!$AO$9:$AO$68,\"33SLA1\")*3,COUNTIF('Entry sheet-2-hin'!$AO$9:$AO$68,\"33SLA1C\")*3))","v":""},{"$f":"IF(B41=\"\",\"\",IF(AND(COUNTIF('Entry sheet-2-hin'!$AO$9:$AO$68,\"33SLA2C\")=0,COUNTIF('Entry sheet-2-hin'!$AO$9:$AO$68,\"33SLA2\")=0),\"\",IF(COUNTIF('Entry sheet-2-hin'!$AO$9:$AO$68,\"33SLA2C\")=0,COUNTIF('Entry sheet-2-hin'!$AO$9:$AO$68,\"33SLA2\"),COUNTIF('Entry sheet-2-hin'!$AO$9:$AO$68,\"33SLA2C\")&\"*\")))","v":""},"",{"$f":"IF(B41=\"\",\"\",IF(AND(COUNTIF('Entry sheet-2-hin'!$AO$9:$AO$68,\"1रसदीउ5\")=0),\"\",COUNTIF('Entry sheet-2-hin'!$AO$9:$AO$68,\"1रसदीउ5\")))","v":""},"","","","","","","","","","","","","","","","",""]
[{"$f":"IF('Entry sheet-1-hin'!A43=\"\",\"\",'Entry sheet-1-hin'!A43)","v":""},{"$f":"IF('Entry sheet-1-hin'!B43=\"\",\"\",'Entry sheet-1-hin'!B43)","v":""},{"$f":"IF(B42=\"\",\"\",IF(AND(COUNTIF('Entry sheet-2-hin'!$AO$9:$AO$68,\"34KMCC\")=0,COUNTIF('Entry sheet-2-hin'!$AO$9:$AO$68,\"34KMC\")=0),\"\",IF(COUNTIF('Entry sheet-2-hin'!$AO$9:$AO$68,\"34KMCC\")=0,COUNTIF('Entry sheet-2-hin'!$AO$9:$AO$68,\"34KMC\"),COUNTIF('Entry sheet-2-hin'!$AO$9:$AO$68,\"34KMCC\")&\"*\")))","v":""},"",{"$f":"IF(B42=\"\",\"\",IF(AND(COUNTIF('Entry sheet-2-hin'!$AO$9:$AO$68,\"34KOTC\")=0,COUNTIF('Entry sheet-2-hin'!$AO$9:$AO$68,\"34KOT\")=0),\"\",IF(COUNTIF('Entry sheet-2-hin'!$AO$9:$AO$68,\"34KOTC\")=0,COUNTIF('Entry sheet-2-hin'!$AO$9:$AO$68,\"34KOT\"),COUNTIF('Entry sheet-2-hin'!$AO$9:$AO$68,\"34KOTC\")&\"*\")))","v":""},"",{"$f":"IF(B42=\"\",\"\",IF(AND(COUNTIF('Entry sheet-2-hin'!$AO$9:$AO$68,\"34KSA1C\")=0,COUNTIF('Entry sheet-2-hin'!$AO$9:$AO$68,\"34KSA1\")=0),\"\",IF(COUNTIF('Entry sheet-2-hin'!$AO$9:$AO$68,\"34KSA1C\")=0,COUNTIF('Entry sheet-2-hin'!$AO$9:$AO$68,\"34KSA1\"),COUNTIF('Entry sheet-2-hin'!$AO$9:$AO$68,\"34KSA1C\")&\"*\")))","v":""},{"$f":"IF(G42=\"\",\"\",IF(COUNTIF('Entry sheet-2-hin'!$AO$9:$AO$68,\"34KSA1C\")=0,COUNTIF('Entry sheet-2-hin'!$AO$9:$AO$68,\"34KSA1\")*1,COUNTIF('Entry sheet-2-hin'!$AO$9:$AO$68,\"34KSA1C\")*1))","v":""},{"$f":"IF(B42=\"\",\"\",IF(AND(COUNTIF('Entry sheet-2-hin'!$AO$9:$AO$68,\"34KSA2C\")=0,COUNTIF('Entry sheet-2-hin'!$AO$9:$AO$68,\"34KSA2\")=0),\"\",IF(COUNTIF('Entry sheet-2-hin'!$AO$9:$AO$68,\"34KSA2C\")=0,COUNTIF('Entry sheet-2-hin'!$AO$9:$AO$68,\"34KSA2\"),COUNTIF('Entry sheet-2-hin'!$AO$9:$AO$68,\"34KSA2C\")&\"*\")))","v":""},{"$f":"IF(I42=\"\",\"\",IF(COUNTIF('Entry sheet-2-hin'!$AO$9:$AO$68,\"34KSA2C\")=0,COUNTIF('Entry sheet-2-hin'!$AO$9:$AO$68,\"34KSA2\")*2,COUNTIF('Entry sheet-2-hin'!$AO$9:$AO$68,\"34KSA2C\")*2))","v":""},{"$f":"IF(B42=\"\",\"\",IF(AND(COUNTIF('Entry sheet-2-hin'!$AO$9:$AO$68,\"34KLA1C\")=0,COUNTIF('Entry sheet-2-hin'!$AO$9:$AO$68,\"34KLA1\")=0),\"\",IF(COUNTIF('Entry sheet-2-hin'!$AO$9:$AO$68,\"34KLA1C\")=0,COUNTIF('Entry sheet-2-hin'!$AO$9:$AO$68,\"34KLA1\"),COUNTIF('Entry sheet-2-hin'!$AO$9:$AO$68,\"34KLA1C\")&\"*\")))","v":""},{"$f":"IF(K42=\"\",\"\",IF(COUNTIF('Entry sheet-2-hin'!$AO$9:$AO$68,\"34KLA1C\")=0,COUNTIF('Entry sheet-2-hin'!$AO$9:$AO$68,\"34KLA1\")*3,COUNTIF('Entry sheet-2-hin'!$AO$9:$AO$68,\"34KLA1C\")*3))","v":""},{"$f":"IF(B42=\"\",\"\",IF(AND(COUNTIF('Entry sheet-2-hin'!$AO$9:$AO$68,\"1स्मदीउ४\")=0),\"\",COUNTIF('Entry sheet-2-hin'!$AO$9:$AO$68,\"1स्मदीउ४\")))","v":""},"",{"$f":"IF(B42=\"\",\"\",IF(AND(COUNTIF('Entry sheet-2-hin'!$AO$9:$AO$68,\"1स्मदीउ5\")=0),\"\",COUNTIF('Entry sheet-2-hin'!$AO$9:$AO$68,\"1स्मदीउ5\")))","v":""},{"$f":"IF(O42=\"\",\"\",IF(COUNTIF('Entry sheet-2-hin'!$AO$9:$AO$68,\"1स्मदीउ5C\")=0,COUNTIF('Entry sheet-2-hin'!$AO$9:$AO$68,\"1स्मदीउ5\")*5,COUNTIF('Entry sheet-2-hin'!$AO$9:$AO$68,\"1स्मदीउ5C\")*5))","v":""},{"$f":"IF(B42=\"\",\"\",IF(AND(COUNTIF('Entry sheet-2-hin'!$AO$9:$AO$68,\"34UMCC\")=0,COUNTIF('Entry sheet-2-hin'!$AO$9:$AO$68,\"34UMC\")=0),\"\",IF(COUNTIF('Entry sheet-2-hin'!$AO$9:$AO$68,\"34UMCC\")=0,COUNTIF('Entry sheet-2-hin'!$AO$9:$AO$68,\"34UMC\"),COUNTIF('Entry sheet-2-hin'!$AO$9:$AO$68,\"34UMCC\")&\"*\")))","v":""},"",{"$f":"IF(B42=\"\",\"\",IF(AND(COUNTIF('Entry sheet-2-hin'!$AO$9:$AO$68,\"1समवनि\")=0),\"\",COUNTIF('Entry sheet-2-hin'!$AO$9:$AO$68,\"1समवनि\")))","v":""},"",{"$f":"IF(B42=\"\",\"\",IF(AND(COUNTIF('Entry sheet-2-hin'!$AO$9:$AO$68,\"1समअलउ\")=0),\"\",COUNTIF('Entry sheet-2-hin'!$AO$9:$AO$68,\"1समअलउ\")))","v":""},"",{"$f":"IF(B42=\"\",\"\",IF(AND(COUNTIF('Entry sheet-2-hin'!$AO$9:$AO$68,\"34USA2C\")=0,COUNTIF('Entry sheet-2-hin'!$AO$9:$AO$68,\"34USA2\")=0),\"\",IF(COUNTIF('Entry sheet-2-hin'!$AO$9:$AO$68,\"34USA2C\")=0,COUNTIF('Entry sheet-2-hin'!$AO$9:$AO$68,\"34USA2\"),COUNTIF('Entry sheet-2-hin'!$AO$9:$AO$68,\"34USA2C\")&\"*\")))","v":""},{"$f":"IF(W42=\"\",\"\",IF(COUNTIF('Entry sheet-2-hin'!$AO$9:$AO$68,\"34USA2C\")=0,COUNTIF('Entry sheet-2-hin'!$AO$9:$AO$68,\"34USA2\")*2,COUNTIF('Entry sheet-2-hin'!$AO$9:$AO$68,\"34USA2C\")*2))","v":""},{"$f":"IF(B42=\"\",\"\",IF(AND(COUNTIF('Entry sheet-2-hin'!$AO$9:$AO$68,\"34ULA1C\")=0,COUNTIF('Entry sheet-2-hin'!$AO$9:$AO$68,\"34ULA1\")=0),\"\",IF(COUNTIF('Entry sheet-2-hin'!$AO$9:$AO$68,\"34ULA1C\")=0,COUNTIF('Entry sheet-2-hin'!$AO$9:$AO$68,\"34ULA1\"),COUNTIF('Entry sheet-2-hin'!$AO$9:$AO$68,\"34ULA1C\")&\"*\")))","v":""},{"$f":"IF(Y42=\"\",\"\",IF(COUNTIF('Entry sheet-2-hin'!$AO$9:$AO$68,\"34ULA1C\")=0,COUNTIF('Entry sheet-2-hin'!$AO$9:$AO$68,\"34ULA1\")*3,COUNTIF('Entry sheet-2-hin'!$AO$9:$AO$68,\"34ULA1C\")*3))","v":""},{"$f":"IF(B42=\"\",\"\",IF(AND(COUNTIF('Entry sheet-2-hin'!$AO$9:$AO$68,\"1समदीउ४\")=0),\"\",COUNTIF('Entry sheet-2-hin'!$AO$9:$AO$68,\"1समदीउ४\")))","v":""},"",{"$f":"IF(B42=\"\",\"\",IF(AND(COUNTIF('Entry sheet-2-hin'!$AO$9:$AO$68,\"1समदीउ5\")=0),\"\",COUNTIF('Entry sheet-2-hin'!$AO$9:$AO$68,\"1समदीउ5\")))","v":""},{"$f":"IF(AC42=\"\",\"\",IF(COUNTIF('Entry sheet-2-hin'!$AO$9:$AO$68,\"1समदीउ5C\")=0,COUNTIF('Entry sheet-2-hin'!$AO$9:$AO$68,\"1समदीउ5\")*5,COUNTIF('Entry sheet-2-hin'!$AO$9:$AO$68,\"1समदीउ5C\")*5))","v":""},{"$f":"IF(B42=\"\",\"\",IF(AND(COUNTIF('Entry sheet-2-hin'!$AO$9:$AO$68,\"1अबवि\")=0),\"\",COUNTIF('Entry sheet-2-hin'!$AO$9:$AO$68,\"1अबवि\")))","v":""},{"$f":"IF(AE42=\"\",\"\",IF(COUNTIF('Entry sheet-2-hin'!$AO$9:$AO$68,\"34AMCC\")=0,COUNTIF('Entry sheet-2-hin'!$AO$9:$AO$68,\"34AMC\")*1,COUNTIF('Entry sheet-2-hin'!$AO$9:$AO$68,\"34AMCC\")*1))","v":""},{"$f":"IF(B42=\"\",\"\",IF(AND(COUNTIF('Entry sheet-2-hin'!$AO$9:$AO$68,\"34AOTC\")=0,COUNTIF('Entry sheet-2-hin'!$AO$9:$AO$68,\"34AOT\")=0),\"\",IF(COUNTIF('Entry sheet-2-hin'!$AO$9:$AO$68,\"34AOTC\")=0,COUNTIF('Entry sheet-2-hin'!$AO$9:$AO$68,\"34AOT\"),COUNTIF('Entry sheet-2-hin'!$AO$9:$AO$68,\"34AOTC\")&\"*\")))","v":""},{"$f":"IF(AG42=\"\",\"\",IF(COUNTIF('Entry sheet-2-hin'!$AO$9:$AO$68,\"34AOTC\")=0,COUNTIF('Entry sheet-2-hin'!$AO$9:$AO$68,\"34AOT\")*1,COUNTIF('Entry sheet-2-hin'!$AO$9:$AO$68,\"34AOTC\")*1))","v":""},{"$f":"IF(B42=\"\",\"\",IF(AND(COUNTIF('Entry sheet-2-hin'!$AO$9:$AO$68,\"1अअलउ\")=0),\"\",COUNTIF('Entry sheet-2-hin'!$AO$9:$AO$68,\"1अअलउ\")))","v":""},{"$f":"IF(AI42=\"\",\"\",IF(COUNTIF('Entry sheet-2-hin'!$AO$9:$AO$68,\"34ASA1C\")=0,COUNTIF('Entry sheet-2-hin'!$AO$9:$AO$68,\"34ASA1\")*1,COUNTIF('Entry sheet-2-hin'!$AO$9:$AO$68,\"34ASA1C\")*1))","v":""},{"$f":"IF(B42=\"\",\"\",IF(AND(COUNTIF('Entry sheet-2-hin'!$AO$9:$AO$68,\"34ASA2C\")=0,COUNTIF('Entry sheet-2-hin'!$AO$9:$AO$68,\"34ASA2\")=0),\"\",IF(COUNTIF('Entry sheet-2-hin'!$AO$9:$AO$68,\"34ASA2C\")=0,COUNTIF('Entry sheet-2-hin'!$AO$9:$AO$68,\"34ASA2\"),COUNTIF('Entry sheet-2-hin'!$AO$9:$AO$68,\"34ASA2C\")&\"*\")))","v":""},"",{"$f":"IF(B42=\"\",\"\",IF(AND(COUNTIF('Entry sheet-2-hin'!$AO$9:$AO$68,\"34ALA1C\")=0,COUNTIF('Entry sheet-2-hin'!$AO$9:$AO$68,\"34ALA1\")=0),\"\",IF(COUNTIF('Entry sheet-2-hin'!$AO$9:$AO$68,\"34ALA1C\")=0,COUNTIF('Entry sheet-2-hin'!$AO$9:$AO$68,\"34ALA1\"),COUNTIF('Entry sheet-2-hin'!$AO$9:$AO$68,\"34ALA1C\")&\"*\")))","v":""},"",{"$f":"IF(B42=\"\",\"\",IF(AND(COUNTIF('Entry sheet-2-hin'!$AO$9:$AO$68,\"34ALA2C\")=0,COUNTIF('Entry sheet-2-hin'!$AO$9:$AO$68,\"34ALA2\")=0),\"\",IF(COUNTIF('Entry sheet-2-hin'!$AO$9:$AO$68,\"34ALA2C\")=0,COUNTIF('Entry sheet-2-hin'!$AO$9:$AO$68,\"34ALA2\"),COUNTIF('Entry sheet-2-hin'!$AO$9:$AO$68,\"34ALA2C\")&\"*\")))","v":""},{"$f":"IF(AO42=\"\",\"\",IF(COUNTIF('Entry sheet-2-hin'!$AO$9:$AO$68,\"34ALA2C\")=0,COUNTIF('Entry sheet-2-hin'!$AO$9:$AO$68,\"34ALA2\")*4,COUNTIF('Entry sheet-2-hin'!$AO$9:$AO$68,\"34ALA2C\")*4))","v":""},{"$f":"IF(B42=\"\",\"\",IF(AND(COUNTIF('Entry sheet-2-hin'!$AO$9:$AO$68,\"1अदीउ5\")=0),\"\",COUNTIF('Entry sheet-2-hin'!$AO$9:$AO$68,\"1अदीउ5\")))","v":""},{"$f":"IF(AQ42=\"\",\"\",IF(COUNTIF('Entry sheet-2-hin'!$AO$9:$AO$68,\"1अदीउ5C\")=0,COUNTIF('Entry sheet-2-hin'!$AO$9:$AO$68,\"1अदीउ5\")*5,COUNTIF('Entry sheet-2-hin'!$AO$9:$AO$68,\"1अदीउ5C\")*5))","v":""},{"$f":"IF(B42=\"\",\"\",IF(AND(COUNTIF('Entry sheet-2-hin'!$AO$9:$AO$68,\"1रसबवि\")=0),\"\",COUNTIF('Entry sheet-2-hin'!$AO$9:$AO$68,\"1रसबवि\")))","v":""},{"$f":"IF(AS42=\"\",\"\",IF(COUNTIF('Entry sheet-2-hin'!$AO$9:$AO$68,\"34SMCC\")=0,COUNTIF('Entry sheet-2-hin'!$AO$9:$AO$68,\"34SMC\")*1,COUNTIF('Entry sheet-2-hin'!$AO$9:$AO$68,\"34SMCC\")*1))","v":""},{"$f":"IF(B42=\"\",\"\",IF(AND(COUNTIF('Entry sheet-2-hin'!$AO$9:$AO$68,\"34SOTC\")=0,COUNTIF('Entry sheet-2-hin'!$AO$9:$AO$68,\"34SOT\")=0),\"\",IF(COUNTIF('Entry sheet-2-hin'!$AO$9:$AO$68,\"34SOTC\")=0,COUNTIF('Entry sheet-2-hin'!$AO$9:$AO$68,\"34SOT\"),COUNTIF('Entry sheet-2-hin'!$AO$9:$AO$68,\"34SOTC\")&\"*\")))","v":""},{"$f":"IF(AU42=\"\",\"\",IF(COUNTIF('Entry sheet-2-hin'!$AO$9:$AO$68,\"34SOTC\")=0,COUNTIF('Entry sheet-2-hin'!$AO$9:$AO$68,\"34SOT\")*1,COUNTIF('Entry sheet-2-hin'!$AO$9:$AO$68,\"34SOTC\")*1))","v":""},{"$f":"IF(B42=\"\",\"\",IF(AND(COUNTIF('Entry sheet-2-hin'!$AO$9:$AO$68,\"1रसअलउ\")=0),\"\",COUNTIF('Entry sheet-2-hin'!$AO$9:$AO$68,\"1रसअलउ\")))","v":""},"",{"$f":"IF(B42=\"\",\"\",IF(AND(COUNTIF('Entry sheet-2-hin'!$AO$9:$AO$68,\"1रसलउ२\")=0),\"\",COUNTIF('Entry sheet-2-hin'!$AO$9:$AO$68,\"1रसलउ२\")))","v":""},{"$f":"IF(AY42=\"\",\"\",IF(COUNTIF('Entry sheet-2-hin'!$AO$9:$AO$68,\"34SSA2C\")=0,COUNTIF('Entry sheet-2-hin'!$AO$9:$AO$68,\"34SSA2\")*2,COUNTIF('Entry sheet-2-hin'!$AO$9:$AO$68,\"34SSA2C\")*2))","v":""},{"$f":"IF(B42=\"\",\"\",IF(AND(COUNTIF('Entry sheet-2-hin'!$AO$9:$AO$68,\"34SLA1C\")=0,COUNTIF('Entry sheet-2-hin'!$AO$9:$AO$68,\"34SLA1\")=0),\"\",IF(COUNTIF('Entry sheet-2-hin'!$AO$9:$AO$68,\"34SLA1C\")=0,COUNTIF('Entry sheet-2-hin'!$AO$9:$AO$68,\"34SLA1\"),COUNTIF('Entry sheet-2-hin'!$AO$9:$AO$68,\"34SLA1C\")&\"*\")))","v":""},{"$f":"IF(BA42=\"\",\"\",IF(COUNTIF('Entry sheet-2-hin'!$AO$9:$AO$68,\"34SLA1C\")=0,COUNTIF('Entry sheet-2-hin'!$AO$9:$AO$68,\"34SLA1\")*3,COUNTIF('Entry sheet-2-hin'!$AO$9:$AO$68,\"34SLA1C\")*3))","v":""},{"$f":"IF(B42=\"\",\"\",IF(AND(COUNTIF('Entry sheet-2-hin'!$AO$9:$AO$68,\"34SLA2C\")=0,COUNTIF('Entry sheet-2-hin'!$AO$9:$AO$68,\"34SLA2\")=0),\"\",IF(COUNTIF('Entry sheet-2-hin'!$AO$9:$AO$68,\"34SLA2C\")=0,COUNTIF('Entry sheet-2-hin'!$AO$9:$AO$68,\"34SLA2\"),COUNTIF('Entry sheet-2-hin'!$AO$9:$AO$68,\"34SLA2C\")&\"*\")))","v":""},"",{"$f":"IF(B42=\"\",\"\",IF(AND(COUNTIF('Entry sheet-2-hin'!$AO$9:$AO$68,\"1रसदीउ5\")=0),\"\",COUNTIF('Entry sheet-2-hin'!$AO$9:$AO$68,\"1रसदीउ5\")))","v":""},"","","","","","","","","","","","","","","","",""]
[{"$f":"IF('Entry sheet-1-hin'!A44=\"\",\"\",'Entry sheet-1-hin'!A44)","v":""},{"$f":"IF('Entry sheet-1-hin'!B44=\"\",\"\",'Entry sheet-1-hin'!B44)","v":""},{"$f":"IF(B43=\"\",\"\",IF(AND(COUNTIF('Entry sheet-2-hin'!$AO$9:$AO$68,\"35KMCC\")=0,COUNTIF('Entry sheet-2-hin'!$AO$9:$AO$68,\"35KMC\")=0),\"\",IF(COUNTIF('Entry sheet-2-hin'!$AO$9:$AO$68,\"35KMCC\")=0,COUNTIF('Entry sheet-2-hin'!$AO$9:$AO$68,\"35KMC\"),COUNTIF('Entry sheet-2-hin'!$AO$9:$AO$68,\"35KMCC\")&\"*\")))","v":""},"",{"$f":"IF(B43=\"\",\"\",IF(AND(COUNTIF('Entry sheet-2-hin'!$AO$9:$AO$68,\"35KOTC\")=0,COUNTIF('Entry sheet-2-hin'!$AO$9:$AO$68,\"35KOT\")=0),\"\",IF(COUNTIF('Entry sheet-2-hin'!$AO$9:$AO$68,\"35KOTC\")=0,COUNTIF('Entry sheet-2-hin'!$AO$9:$AO$68,\"35KOT\"),COUNTIF('Entry sheet-2-hin'!$AO$9:$AO$68,\"35KOTC\")&\"*\")))","v":""},"",{"$f":"IF(B43=\"\",\"\",IF(AND(COUNTIF('Entry sheet-2-hin'!$AO$9:$AO$68,\"35KSA1C\")=0,COUNTIF('Entry sheet-2-hin'!$AO$9:$AO$68,\"35KSA1\")=0),\"\",IF(COUNTIF('Entry sheet-2-hin'!$AO$9:$AO$68,\"35KSA1C\")=0,COUNTIF('Entry sheet-2-hin'!$AO$9:$AO$68,\"35KSA1\"),COUNTIF('Entry sheet-2-hin'!$AO$9:$AO$68,\"35KSA1C\")&\"*\")))","v":""},{"$f":"IF(G43=\"\",\"\",IF(COUNTIF('Entry sheet-2-hin'!$AO$9:$AO$68,\"35KSA1C\")=0,COUNTIF('Entry sheet-2-hin'!$AO$9:$AO$68,\"35KSA1\")*1,COUNTIF('Entry sheet-2-hin'!$AO$9:$AO$68,\"35KSA1C\")*1))","v":""},{"$f":"IF(B43=\"\",\"\",IF(AND(COUNTIF('Entry sheet-2-hin'!$AO$9:$AO$68,\"35KSA2C\")=0,COUNTIF('Entry sheet-2-hin'!$AO$9:$AO$68,\"35KSA2\")=0),\"\",IF(COUNTIF('Entry sheet-2-hin'!$AO$9:$AO$68,\"35KSA2C\")=0,COUNTIF('Entry sheet-2-hin'!$AO$9:$AO$68,\"35KSA2\"),COUNTIF('Entry sheet-2-hin'!$AO$9:$AO$68,\"35KSA2C\")&\"*\")))","v":""},{"$f":"IF(I43=\"\",\"\",IF(COUNTIF('Entry sheet-2-hin'!$AO$9:$AO$68,\"35KSA2C\")=0,COUNTIF('Entry sheet-2-hin'!$AO$9:$AO$68,\"35KSA2\")*2,COUNTIF('Entry sheet-2-hin'!$AO$9:$AO$68,\"35KSA2C\")*2))","v":""},{"$f":"IF(B43=\"\",\"\",IF(AND(COUNTIF('Entry sheet-2-hin'!$AO$9:$AO$68,\"35KLA1C\")=0,COUNTIF('Entry sheet-2-hin'!$AO$9:$AO$68,\"35KLA1\")=0),\"\",IF(COUNTIF('Entry sheet-2-hin'!$AO$9:$AO$68,\"35KLA1C\")=0,COUNTIF('Entry sheet-2-hin'!$AO$9:$AO$68,\"35KLA1\"),COUNTIF('Entry sheet-2-hin'!$AO$9:$AO$68,\"35KLA1C\")&\"*\")))","v":""},{"$f":"IF(K43=\"\",\"\",IF(COUNTIF('Entry sheet-2-hin'!$AO$9:$AO$68,\"35KLA1C\")=0,COUNTIF('Entry sheet-2-hin'!$AO$9:$AO$68,\"35KLA1\")*3,COUNTIF('Entry sheet-2-hin'!$AO$9:$AO$68,\"35KLA1C\")*3))","v":""},{"$f":"IF(B43=\"\",\"\",IF(AND(COUNTIF('Entry sheet-2-hin'!$AO$9:$AO$68,\"1स्मदीउ४\")=0),\"\",COUNTIF('Entry sheet-2-hin'!$AO$9:$AO$68,\"1स्मदीउ४\")))","v":""},"",{"$f":"IF(B43=\"\",\"\",IF(AND(COUNTIF('Entry sheet-2-hin'!$AO$9:$AO$68,\"1स्मदीउ5\")=0),\"\",COUNTIF('Entry sheet-2-hin'!$AO$9:$AO$68,\"1स्मदीउ5\")))","v":""},{"$f":"IF(O43=\"\",\"\",IF(COUNTIF('Entry sheet-2-hin'!$AO$9:$AO$68,\"1स्मदीउ5C\")=0,COUNTIF('Entry sheet-2-hin'!$AO$9:$AO$68,\"1स्मदीउ5\")*5,COUNTIF('Entry sheet-2-hin'!$AO$9:$AO$68,\"1स्मदीउ5C\")*5))","v":""},{"$f":"IF(B43=\"\",\"\",IF(AND(COUNTIF('Entry sheet-2-hin'!$AO$9:$AO$68,\"35UMCC\")=0,COUNTIF('Entry sheet-2-hin'!$AO$9:$AO$68,\"35UMC\")=0),\"\",IF(COUNTIF('Entry sheet-2-hin'!$AO$9:$AO$68,\"35UMCC\")=0,COUNTIF('Entry sheet-2-hin'!$AO$9:$AO$68,\"35UMC\"),COUNTIF('Entry sheet-2-hin'!$AO$9:$AO$68,\"35UMCC\")&\"*\")))","v":""},"",{"$f":"IF(B43=\"\",\"\",IF(AND(COUNTIF('Entry sheet-2-hin'!$AO$9:$AO$68,\"1समवनि\")=0),\"\",COUNTIF('Entry sheet-2-hin'!$AO$9:$AO$68,\"1समवनि\")))","v":""},"",{"$f":"IF(B43=\"\",\"\",IF(AND(COUNTIF('Entry sheet-2-hin'!$AO$9:$AO$68,\"1समअलउ\")=0),\"\",COUNTIF('Entry sheet-2-hin'!$AO$9:$AO$68,\"1समअलउ\")))","v":""},"",{"$f":"IF(B43=\"\",\"\",IF(AND(COUNTIF('Entry sheet-2-hin'!$AO$9:$AO$68,\"35USA2C\")=0,COUNTIF('Entry sheet-2-hin'!$AO$9:$AO$68,\"35USA2\")=0),\"\",IF(COUNTIF('Entry sheet-2-hin'!$AO$9:$AO$68,\"35USA2C\")=0,COUNTIF('Entry sheet-2-hin'!$AO$9:$AO$68,\"35USA2\"),COUNTIF('Entry sheet-2-hin'!$AO$9:$AO$68,\"35USA2C\")&\"*\")))","v":""},{"$f":"IF(W43=\"\",\"\",IF(COUNTIF('Entry sheet-2-hin'!$AO$9:$AO$68,\"35USA2C\")=0,COUNTIF('Entry sheet-2-hin'!$AO$9:$AO$68,\"35USA2\")*2,COUNTIF('Entry sheet-2-hin'!$AO$9:$AO$68,\"35USA2C\")*2))","v":""},{"$f":"IF(B43=\"\",\"\",IF(AND(COUNTIF('Entry sheet-2-hin'!$AO$9:$AO$68,\"35ULA1C\")=0,COUNTIF('Entry sheet-2-hin'!$AO$9:$AO$68,\"35ULA1\")=0),\"\",IF(COUNTIF('Entry sheet-2-hin'!$AO$9:$AO$68,\"35ULA1C\")=0,COUNTIF('Entry sheet-2-hin'!$AO$9:$AO$68,\"35ULA1\"),COUNTIF('Entry sheet-2-hin'!$AO$9:$AO$68,\"35ULA1C\")&\"*\")))","v":""},{"$f":"IF(Y43=\"\",\"\",IF(COUNTIF('Entry sheet-2-hin'!$AO$9:$AO$68,\"35ULA1C\")=0,COUNTIF('Entry sheet-2-hin'!$AO$9:$AO$68,\"35ULA1\")*3,COUNTIF('Entry sheet-2-hin'!$AO$9:$AO$68,\"35ULA1C\")*3))","v":""},{"$f":"IF(B43=\"\",\"\",IF(AND(COUNTIF('Entry sheet-2-hin'!$AO$9:$AO$68,\"1समदीउ४\")=0),\"\",COUNTIF('Entry sheet-2-hin'!$AO$9:$AO$68,\"1समदीउ४\")))","v":""},"",{"$f":"IF(B43=\"\",\"\",IF(AND(COUNTIF('Entry sheet-2-hin'!$AO$9:$AO$68,\"1समदीउ5\")=0),\"\",COUNTIF('Entry sheet-2-hin'!$AO$9:$AO$68,\"1समदीउ5\")))","v":""},{"$f":"IF(AC43=\"\",\"\",IF(COUNTIF('Entry sheet-2-hin'!$AO$9:$AO$68,\"1समदीउ5C\")=0,COUNTIF('Entry sheet-2-hin'!$AO$9:$AO$68,\"1समदीउ5\")*5,COUNTIF('Entry sheet-2-hin'!$AO$9:$AO$68,\"1समदीउ5C\")*5))","v":""},{"$f":"IF(B43=\"\",\"\",IF(AND(COUNTIF('Entry sheet-2-hin'!$AO$9:$AO$68,\"1अबवि\")=0),\"\",COUNTIF('Entry sheet-2-hin'!$AO$9:$AO$68,\"1अबवि\")))","v":""},{"$f":"IF(AE43=\"\",\"\",IF(COUNTIF('Entry sheet-2-hin'!$AO$9:$AO$68,\"35AMCC\")=0,COUNTIF('Entry sheet-2-hin'!$AO$9:$AO$68,\"35AMC\")*1,COUNTIF('Entry sheet-2-hin'!$AO$9:$AO$68,\"35AMCC\")*1))","v":""},{"$f":"IF(B43=\"\",\"\",IF(AND(COUNTIF('Entry sheet-2-hin'!$AO$9:$AO$68,\"35AOTC\")=0,COUNTIF('Entry sheet-2-hin'!$AO$9:$AO$68,\"35AOT\")=0),\"\",IF(COUNTIF('Entry sheet-2-hin'!$AO$9:$AO$68,\"35AOTC\")=0,COUNTIF('Entry sheet-2-hin'!$AO$9:$AO$68,\"35AOT\"),COUNTIF('Entry sheet-2-hin'!$AO$9:$AO$68,\"35AOTC\")&\"*\")))","v":""},{"$f":"IF(AG43=\"\",\"\",IF(COUNTIF('Entry sheet-2-hin'!$AO$9:$AO$68,\"35AOTC\")=0,COUNTIF('Entry sheet-2-hin'!$AO$9:$AO$68,\"35AOT\")*1,COUNTIF('Entry sheet-2-hin'!$AO$9:$AO$68,\"35AOTC\")*1))","v":""},{"$f":"IF(B43=\"\",\"\",IF(AND(COUNTIF('Entry sheet-2-hin'!$AO$9:$AO$68,\"1अअलउ\")=0),\"\",COUNTIF('Entry sheet-2-hin'!$AO$9:$AO$68,\"1अअलउ\")))","v":""},{"$f":"IF(AI43=\"\",\"\",IF(COUNTIF('Entry sheet-2-hin'!$AO$9:$AO$68,\"35ASA1C\")=0,COUNTIF('Entry sheet-2-hin'!$AO$9:$AO$68,\"35ASA1\")*1,COUNTIF('Entry sheet-2-hin'!$AO$9:$AO$68,\"35ASA1C\")*1))","v":""},{"$f":"IF(B43=\"\",\"\",IF(AND(COUNTIF('Entry sheet-2-hin'!$AO$9:$AO$68,\"35ASA2C\")=0,COUNTIF('Entry sheet-2-hin'!$AO$9:$AO$68,\"35ASA2\")=0),\"\",IF(COUNTIF('Entry sheet-2-hin'!$AO$9:$AO$68,\"35ASA2C\")=0,COUNTIF('Entry sheet-2-hin'!$AO$9:$AO$68,\"35ASA2\"),COUNTIF('Entry sheet-2-hin'!$AO$9:$AO$68,\"35ASA2C\")&\"*\")))","v":""},"",{"$f":"IF(B43=\"\",\"\",IF(AND(COUNTIF('Entry sheet-2-hin'!$AO$9:$AO$68,\"35ALA1C\")=0,COUNTIF('Entry sheet-2-hin'!$AO$9:$AO$68,\"35ALA1\")=0),\"\",IF(COUNTIF('Entry sheet-2-hin'!$AO$9:$AO$68,\"35ALA1C\")=0,COUNTIF('Entry sheet-2-hin'!$AO$9:$AO$68,\"35ALA1\"),COUNTIF('Entry sheet-2-hin'!$AO$9:$AO$68,\"35ALA1C\")&\"*\")))","v":""},"",{"$f":"IF(B43=\"\",\"\",IF(AND(COUNTIF('Entry sheet-2-hin'!$AO$9:$AO$68,\"35ALA2C\")=0,COUNTIF('Entry sheet-2-hin'!$AO$9:$AO$68,\"35ALA2\")=0),\"\",IF(COUNTIF('Entry sheet-2-hin'!$AO$9:$AO$68,\"35ALA2C\")=0,COUNTIF('Entry sheet-2-hin'!$AO$9:$AO$68,\"35ALA2\"),COUNTIF('Entry sheet-2-hin'!$AO$9:$AO$68,\"35ALA2C\")&\"*\")))","v":""},{"$f":"IF(AO43=\"\",\"\",IF(COUNTIF('Entry sheet-2-hin'!$AO$9:$AO$68,\"35ALA2C\")=0,COUNTIF('Entry sheet-2-hin'!$AO$9:$AO$68,\"35ALA2\")*4,COUNTIF('Entry sheet-2-hin'!$AO$9:$AO$68,\"35ALA2C\")*4))","v":""},{"$f":"IF(B43=\"\",\"\",IF(AND(COUNTIF('Entry sheet-2-hin'!$AO$9:$AO$68,\"1अदीउ5\")=0),\"\",COUNTIF('Entry sheet-2-hin'!$AO$9:$AO$68,\"1अदीउ5\")))","v":""},{"$f":"IF(AQ43=\"\",\"\",IF(COUNTIF('Entry sheet-2-hin'!$AO$9:$AO$68,\"1अदीउ5C\")=0,COUNTIF('Entry sheet-2-hin'!$AO$9:$AO$68,\"1अदीउ5\")*5,COUNTIF('Entry sheet-2-hin'!$AO$9:$AO$68,\"1अदीउ5C\")*5))","v":""},{"$f":"IF(B43=\"\",\"\",IF(AND(COUNTIF('Entry sheet-2-hin'!$AO$9:$AO$68,\"1रसबवि\")=0),\"\",COUNTIF('Entry sheet-2-hin'!$AO$9:$AO$68,\"1रसबवि\")))","v":""},{"$f":"IF(AS43=\"\",\"\",IF(COUNTIF('Entry sheet-2-hin'!$AO$9:$AO$68,\"35SMCC\")=0,COUNTIF('Entry sheet-2-hin'!$AO$9:$AO$68,\"35SMC\")*1,COUNTIF('Entry sheet-2-hin'!$AO$9:$AO$68,\"35SMCC\")*1))","v":""},{"$f":"IF(B43=\"\",\"\",IF(AND(COUNTIF('Entry sheet-2-hin'!$AO$9:$AO$68,\"35SOTC\")=0,COUNTIF('Entry sheet-2-hin'!$AO$9:$AO$68,\"35SOT\")=0),\"\",IF(COUNTIF('Entry sheet-2-hin'!$AO$9:$AO$68,\"35SOTC\")=0,COUNTIF('Entry sheet-2-hin'!$AO$9:$AO$68,\"35SOT\"),COUNTIF('Entry sheet-2-hin'!$AO$9:$AO$68,\"35SOTC\")&\"*\")))","v":""},{"$f":"IF(AU43=\"\",\"\",IF(COUNTIF('Entry sheet-2-hin'!$AO$9:$AO$68,\"35SOTC\")=0,COUNTIF('Entry sheet-2-hin'!$AO$9:$AO$68,\"35SOT\")*1,COUNTIF('Entry sheet-2-hin'!$AO$9:$AO$68,\"35SOTC\")*1))","v":""},{"$f":"IF(B43=\"\",\"\",IF(AND(COUNTIF('Entry sheet-2-hin'!$AO$9:$AO$68,\"1रसअलउ\")=0),\"\",COUNTIF('Entry sheet-2-hin'!$AO$9:$AO$68,\"1रसअलउ\")))","v":""},"",{"$f":"IF(B43=\"\",\"\",IF(AND(COUNTIF('Entry sheet-2-hin'!$AO$9:$AO$68,\"1रसलउ२\")=0),\"\",COUNTIF('Entry sheet-2-hin'!$AO$9:$AO$68,\"1रसलउ२\")))","v":""},{"$f":"IF(AY43=\"\",\"\",IF(COUNTIF('Entry sheet-2-hin'!$AO$9:$AO$68,\"35SSA2C\")=0,COUNTIF('Entry sheet-2-hin'!$AO$9:$AO$68,\"35SSA2\")*2,COUNTIF('Entry sheet-2-hin'!$AO$9:$AO$68,\"35SSA2C\")*2))","v":""},{"$f":"IF(B43=\"\",\"\",IF(AND(COUNTIF('Entry sheet-2-hin'!$AO$9:$AO$68,\"35SLA1C\")=0,COUNTIF('Entry sheet-2-hin'!$AO$9:$AO$68,\"35SLA1\")=0),\"\",IF(COUNTIF('Entry sheet-2-hin'!$AO$9:$AO$68,\"35SLA1C\")=0,COUNTIF('Entry sheet-2-hin'!$AO$9:$AO$68,\"35SLA1\"),COUNTIF('Entry sheet-2-hin'!$AO$9:$AO$68,\"35SLA1C\")&\"*\")))","v":""},{"$f":"IF(BA43=\"\",\"\",IF(COUNTIF('Entry sheet-2-hin'!$AO$9:$AO$68,\"35SLA1C\")=0,COUNTIF('Entry sheet-2-hin'!$AO$9:$AO$68,\"35SLA1\")*3,COUNTIF('Entry sheet-2-hin'!$AO$9:$AO$68,\"35SLA1C\")*3))","v":""},{"$f":"IF(B43=\"\",\"\",IF(AND(COUNTIF('Entry sheet-2-hin'!$AO$9:$AO$68,\"35SLA2C\")=0,COUNTIF('Entry sheet-2-hin'!$AO$9:$AO$68,\"35SLA2\")=0),\"\",IF(COUNTIF('Entry sheet-2-hin'!$AO$9:$AO$68,\"35SLA2C\")=0,COUNTIF('Entry sheet-2-hin'!$AO$9:$AO$68,\"35SLA2\"),COUNTIF('Entry sheet-2-hin'!$AO$9:$AO$68,\"35SLA2C\")&\"*\")))","v":""},"",{"$f":"IF(B43=\"\",\"\",IF(AND(COUNTIF('Entry sheet-2-hin'!$AO$9:$AO$68,\"1रसदीउ5\")=0),\"\",COUNTIF('Entry sheet-2-hin'!$AO$9:$AO$68,\"1रसदीउ5\")))","v":""},"","","","","","","","","","","","","","","","",""]
[{"$f":"IF('Entry sheet-1-hin'!A45=\"\",\"\",'Entry sheet-1-hin'!A45)","v":""},{"$f":"IF('Entry sheet-1-hin'!B45=\"\",\"\",'Entry sheet-1-hin'!B45)","v":""},{"$f":"IF(B44=\"\",\"\",IF(AND(COUNTIF('Entry sheet-2-hin'!$AO$9:$AO$68,\"36KMCC\")=0,COUNTIF('Entry sheet-2-hin'!$AO$9:$AO$68,\"36KMC\")=0),\"\",IF(COUNTIF('Entry sheet-2-hin'!$AO$9:$AO$68,\"36KMCC\")=0,COUNTIF('Entry sheet-2-hin'!$AO$9:$AO$68,\"36KMC\"),COUNTIF('Entry sheet-2-hin'!$AO$9:$AO$68,\"36KMCC\")&\"*\")))","v":""},"",{"$f":"IF(B44=\"\",\"\",IF(AND(COUNTIF('Entry sheet-2-hin'!$AO$9:$AO$68,\"36KOTC\")=0,COUNTIF('Entry sheet-2-hin'!$AO$9:$AO$68,\"36KOT\")=0),\"\",IF(COUNTIF('Entry sheet-2-hin'!$AO$9:$AO$68,\"36KOTC\")=0,COUNTIF('Entry sheet-2-hin'!$AO$9:$AO$68,\"36KOT\"),COUNTIF('Entry sheet-2-hin'!$AO$9:$AO$68,\"36KOTC\")&\"*\")))","v":""},"",{"$f":"IF(B44=\"\",\"\",IF(AND(COUNTIF('Entry sheet-2-hin'!$AO$9:$AO$68,\"36KSA1C\")=0,COUNTIF('Entry sheet-2-hin'!$AO$9:$AO$68,\"36KSA1\")=0),\"\",IF(COUNTIF('Entry sheet-2-hin'!$AO$9:$AO$68,\"36KSA1C\")=0,COUNTIF('Entry sheet-2-hin'!$AO$9:$AO$68,\"36KSA1\"),COUNTIF('Entry sheet-2-hin'!$AO$9:$AO$68,\"36KSA1C\")&\"*\")))","v":""},{"$f":"IF(G44=\"\",\"\",IF(COUNTIF('Entry sheet-2-hin'!$AO$9:$AO$68,\"36KSA1C\")=0,COUNTIF('Entry sheet-2-hin'!$AO$9:$AO$68,\"36KSA1\")*1,COUNTIF('Entry sheet-2-hin'!$AO$9:$AO$68,\"36KSA1C\")*1))","v":""},{"$f":"IF(B44=\"\",\"\",IF(AND(COUNTIF('Entry sheet-2-hin'!$AO$9:$AO$68,\"36KSA2C\")=0,COUNTIF('Entry sheet-2-hin'!$AO$9:$AO$68,\"36KSA2\")=0),\"\",IF(COUNTIF('Entry sheet-2-hin'!$AO$9:$AO$68,\"36KSA2C\")=0,COUNTIF('Entry sheet-2-hin'!$AO$9:$AO$68,\"36KSA2\"),COUNTIF('Entry sheet-2-hin'!$AO$9:$AO$68,\"36KSA2C\")&\"*\")))","v":""},{"$f":"IF(I44=\"\",\"\",IF(COUNTIF('Entry sheet-2-hin'!$AO$9:$AO$68,\"36KSA2C\")=0,COUNTIF('Entry sheet-2-hin'!$AO$9:$AO$68,\"36KSA2\")*2,COUNTIF('Entry sheet-2-hin'!$AO$9:$AO$68,\"36KSA2C\")*2))","v":""},{"$f":"IF(B44=\"\",\"\",IF(AND(COUNTIF('Entry sheet-2-hin'!$AO$9:$AO$68,\"36KLA1C\")=0,COUNTIF('Entry sheet-2-hin'!$AO$9:$AO$68,\"36KLA1\")=0),\"\",IF(COUNTIF('Entry sheet-2-hin'!$AO$9:$AO$68,\"36KLA1C\")=0,COUNTIF('Entry sheet-2-hin'!$AO$9:$AO$68,\"36KLA1\"),COUNTIF('Entry sheet-2-hin'!$AO$9:$AO$68,\"36KLA1C\")&\"*\")))","v":""},{"$f":"IF(K44=\"\",\"\",IF(COUNTIF('Entry sheet-2-hin'!$AO$9:$AO$68,\"36KLA1C\")=0,COUNTIF('Entry sheet-2-hin'!$AO$9:$AO$68,\"36KLA1\")*3,COUNTIF('Entry sheet-2-hin'!$AO$9:$AO$68,\"36KLA1C\")*3))","v":""},{"$f":"IF(B44=\"\",\"\",IF(AND(COUNTIF('Entry sheet-2-hin'!$AO$9:$AO$68,\"1स्मदीउ४\")=0),\"\",COUNTIF('Entry sheet-2-hin'!$AO$9:$AO$68,\"1स्मदीउ४\")))","v":""},"",{"$f":"IF(B44=\"\",\"\",IF(AND(COUNTIF('Entry sheet-2-hin'!$AO$9:$AO$68,\"1स्मदीउ5\")=0),\"\",COUNTIF('Entry sheet-2-hin'!$AO$9:$AO$68,\"1स्मदीउ5\")))","v":""},{"$f":"IF(O44=\"\",\"\",IF(COUNTIF('Entry sheet-2-hin'!$AO$9:$AO$68,\"1स्मदीउ5C\")=0,COUNTIF('Entry sheet-2-hin'!$AO$9:$AO$68,\"1स्मदीउ5\")*5,COUNTIF('Entry sheet-2-hin'!$AO$9:$AO$68,\"1स्मदीउ5C\")*5))","v":""},{"$f":"IF(B44=\"\",\"\",IF(AND(COUNTIF('Entry sheet-2-hin'!$AO$9:$AO$68,\"36UMCC\")=0,COUNTIF('Entry sheet-2-hin'!$AO$9:$AO$68,\"36UMC\")=0),\"\",IF(COUNTIF('Entry sheet-2-hin'!$AO$9:$AO$68,\"36UMCC\")=0,COUNTIF('Entry sheet-2-hin'!$AO$9:$AO$68,\"36UMC\"),COUNTIF('Entry sheet-2-hin'!$AO$9:$AO$68,\"36UMCC\")&\"*\")))","v":""},"",{"$f":"IF(B44=\"\",\"\",IF(AND(COUNTIF('Entry sheet-2-hin'!$AO$9:$AO$68,\"1समवनि\")=0),\"\",COUNTIF('Entry sheet-2-hin'!$AO$9:$AO$68,\"1समवनि\")))","v":""},"",{"$f":"IF(B44=\"\",\"\",IF(AND(COUNTIF('Entry sheet-2-hin'!$AO$9:$AO$68,\"1समअलउ\")=0),\"\",COUNTIF('Entry sheet-2-hin'!$AO$9:$AO$68,\"1समअलउ\")))","v":""},"",{"$f":"IF(B44=\"\",\"\",IF(AND(COUNTIF('Entry sheet-2-hin'!$AO$9:$AO$68,\"36USA2C\")=0,COUNTIF('Entry sheet-2-hin'!$AO$9:$AO$68,\"36USA2\")=0),\"\",IF(COUNTIF('Entry sheet-2-hin'!$AO$9:$AO$68,\"36USA2C\")=0,COUNTIF('Entry sheet-2-hin'!$AO$9:$AO$68,\"36USA2\"),COUNTIF('Entry sheet-2-hin'!$AO$9:$AO$68,\"36USA2C\")&\"*\")))","v":""},{"$f":"IF(W44=\"\",\"\",IF(COUNTIF('Entry sheet-2-hin'!$AO$9:$AO$68,\"36USA2C\")=0,COUNTIF('Entry sheet-2-hin'!$AO$9:$AO$68,\"36USA2\")*2,COUNTIF('Entry sheet-2-hin'!$AO$9:$AO$68,\"36USA2C\")*2))","v":""},{"$f":"IF(B44=\"\",\"\",IF(AND(COUNTIF('Entry sheet-2-hin'!$AO$9:$AO$68,\"36ULA1C\")=0,COUNTIF('Entry sheet-2-hin'!$AO$9:$AO$68,\"36ULA1\")=0),\"\",IF(COUNTIF('Entry sheet-2-hin'!$AO$9:$AO$68,\"36ULA1C\")=0,COUNTIF('Entry sheet-2-hin'!$AO$9:$AO$68,\"36ULA1\"),COUNTIF('Entry sheet-2-hin'!$AO$9:$AO$68,\"36ULA1C\")&\"*\")))","v":""},{"$f":"IF(Y44=\"\",\"\",IF(COUNTIF('Entry sheet-2-hin'!$AO$9:$AO$68,\"36ULA1C\")=0,COUNTIF('Entry sheet-2-hin'!$AO$9:$AO$68,\"36ULA1\")*3,COUNTIF('Entry sheet-2-hin'!$AO$9:$AO$68,\"36ULA1C\")*3))","v":""},{"$f":"IF(B44=\"\",\"\",IF(AND(COUNTIF('Entry sheet-2-hin'!$AO$9:$AO$68,\"1समदीउ४\")=0),\"\",COUNTIF('Entry sheet-2-hin'!$AO$9:$AO$68,\"1समदीउ४\")))","v":""},"",{"$f":"IF(B44=\"\",\"\",IF(AND(COUNTIF('Entry sheet-2-hin'!$AO$9:$AO$68,\"1समदीउ5\")=0),\"\",COUNTIF('Entry sheet-2-hin'!$AO$9:$AO$68,\"1समदीउ5\")))","v":""},{"$f":"IF(AC44=\"\",\"\",IF(COUNTIF('Entry sheet-2-hin'!$AO$9:$AO$68,\"1समदीउ5C\")=0,COUNTIF('Entry sheet-2-hin'!$AO$9:$AO$68,\"1समदीउ5\")*5,COUNTIF('Entry sheet-2-hin'!$AO$9:$AO$68,\"1समदीउ5C\")*5))","v":""},{"$f":"IF(B44=\"\",\"\",IF(AND(COUNTIF('Entry sheet-2-hin'!$AO$9:$AO$68,\"1अबवि\")=0),\"\",COUNTIF('Entry sheet-2-hin'!$AO$9:$AO$68,\"1अबवि\")))","v":""},{"$f":"IF(AE44=\"\",\"\",IF(COUNTIF('Entry sheet-2-hin'!$AO$9:$AO$68,\"36AMCC\")=0,COUNTIF('Entry sheet-2-hin'!$AO$9:$AO$68,\"36AMC\")*1,COUNTIF('Entry sheet-2-hin'!$AO$9:$AO$68,\"36AMCC\")*1))","v":""},{"$f":"IF(B44=\"\",\"\",IF(AND(COUNTIF('Entry sheet-2-hin'!$AO$9:$AO$68,\"36AOTC\")=0,COUNTIF('Entry sheet-2-hin'!$AO$9:$AO$68,\"36AOT\")=0),\"\",IF(COUNTIF('Entry sheet-2-hin'!$AO$9:$AO$68,\"36AOTC\")=0,COUNTIF('Entry sheet-2-hin'!$AO$9:$AO$68,\"36AOT\"),COUNTIF('Entry sheet-2-hin'!$AO$9:$AO$68,\"36AOTC\")&\"*\")))","v":""},{"$f":"IF(AG44=\"\",\"\",IF(COUNTIF('Entry sheet-2-hin'!$AO$9:$AO$68,\"36AOTC\")=0,COUNTIF('Entry sheet-2-hin'!$AO$9:$AO$68,\"36AOT\")*1,COUNTIF('Entry sheet-2-hin'!$AO$9:$AO$68,\"36AOTC\")*1))","v":""},{"$f":"IF(B44=\"\",\"\",IF(AND(COUNTIF('Entry sheet-2-hin'!$AO$9:$AO$68,\"1अअलउ\")=0),\"\",COUNTIF('Entry sheet-2-hin'!$AO$9:$AO$68,\"1अअलउ\")))","v":""},{"$f":"IF(AI44=\"\",\"\",IF(COUNTIF('Entry sheet-2-hin'!$AO$9:$AO$68,\"36ASA1C\")=0,COUNTIF('Entry sheet-2-hin'!$AO$9:$AO$68,\"36ASA1\")*1,COUNTIF('Entry sheet-2-hin'!$AO$9:$AO$68,\"36ASA1C\")*1))","v":""},{"$f":"IF(B44=\"\",\"\",IF(AND(COUNTIF('Entry sheet-2-hin'!$AO$9:$AO$68,\"36ASA2C\")=0,COUNTIF('Entry sheet-2-hin'!$AO$9:$AO$68,\"36ASA2\")=0),\"\",IF(COUNTIF('Entry sheet-2-hin'!$AO$9:$AO$68,\"36ASA2C\")=0,COUNTIF('Entry sheet-2-hin'!$AO$9:$AO$68,\"36ASA2\"),COUNTIF('Entry sheet-2-hin'!$AO$9:$AO$68,\"36ASA2C\")&\"*\")))","v":""},"",{"$f":"IF(B44=\"\",\"\",IF(AND(COUNTIF('Entry sheet-2-hin'!$AO$9:$AO$68,\"36ALA1C\")=0,COUNTIF('Entry sheet-2-hin'!$AO$9:$AO$68,\"36ALA1\")=0),\"\",IF(COUNTIF('Entry sheet-2-hin'!$AO$9:$AO$68,\"36ALA1C\")=0,COUNTIF('Entry sheet-2-hin'!$AO$9:$AO$68,\"36ALA1\"),COUNTIF('Entry sheet-2-hin'!$AO$9:$AO$68,\"36ALA1C\")&\"*\")))","v":""},"",{"$f":"IF(B44=\"\",\"\",IF(AND(COUNTIF('Entry sheet-2-hin'!$AO$9:$AO$68,\"36ALA2C\")=0,COUNTIF('Entry sheet-2-hin'!$AO$9:$AO$68,\"36ALA2\")=0),\"\",IF(COUNTIF('Entry sheet-2-hin'!$AO$9:$AO$68,\"36ALA2C\")=0,COUNTIF('Entry sheet-2-hin'!$AO$9:$AO$68,\"36ALA2\"),COUNTIF('Entry sheet-2-hin'!$AO$9:$AO$68,\"36ALA2C\")&\"*\")))","v":""},{"$f":"IF(AO44=\"\",\"\",IF(COUNTIF('Entry sheet-2-hin'!$AO$9:$AO$68,\"36ALA2C\")=0,COUNTIF('Entry sheet-2-hin'!$AO$9:$AO$68,\"36ALA2\")*4,COUNTIF('Entry sheet-2-hin'!$AO$9:$AO$68,\"36ALA2C\")*4))","v":""},{"$f":"IF(B44=\"\",\"\",IF(AND(COUNTIF('Entry sheet-2-hin'!$AO$9:$AO$68,\"1अदीउ5\")=0),\"\",COUNTIF('Entry sheet-2-hin'!$AO$9:$AO$68,\"1अदीउ5\")))","v":""},{"$f":"IF(AQ44=\"\",\"\",IF(COUNTIF('Entry sheet-2-hin'!$AO$9:$AO$68,\"1अदीउ5C\")=0,COUNTIF('Entry sheet-2-hin'!$AO$9:$AO$68,\"1अदीउ5\")*5,COUNTIF('Entry sheet-2-hin'!$AO$9:$AO$68,\"1अदीउ5C\")*5))","v":""},{"$f":"IF(B44=\"\",\"\",IF(AND(COUNTIF('Entry sheet-2-hin'!$AO$9:$AO$68,\"1रसबवि\")=0),\"\",COUNTIF('Entry sheet-2-hin'!$AO$9:$AO$68,\"1रसबवि\")))","v":""},{"$f":"IF(AS44=\"\",\"\",IF(COUNTIF('Entry sheet-2-hin'!$AO$9:$AO$68,\"36SMCC\")=0,COUNTIF('Entry sheet-2-hin'!$AO$9:$AO$68,\"36SMC\")*1,COUNTIF('Entry sheet-2-hin'!$AO$9:$AO$68,\"36SMCC\")*1))","v":""},{"$f":"IF(B44=\"\",\"\",IF(AND(COUNTIF('Entry sheet-2-hin'!$AO$9:$AO$68,\"36SOTC\")=0,COUNTIF('Entry sheet-2-hin'!$AO$9:$AO$68,\"36SOT\")=0),\"\",IF(COUNTIF('Entry sheet-2-hin'!$AO$9:$AO$68,\"36SOTC\")=0,COUNTIF('Entry sheet-2-hin'!$AO$9:$AO$68,\"36SOT\"),COUNTIF('Entry sheet-2-hin'!$AO$9:$AO$68,\"36SOTC\")&\"*\")))","v":""},{"$f":"IF(AU44=\"\",\"\",IF(COUNTIF('Entry sheet-2-hin'!$AO$9:$AO$68,\"36SOTC\")=0,COUNTIF('Entry sheet-2-hin'!$AO$9:$AO$68,\"36SOT\")*1,COUNTIF('Entry sheet-2-hin'!$AO$9:$AO$68,\"36SOTC\")*1))","v":""},{"$f":"IF(B44=\"\",\"\",IF(AND(COUNTIF('Entry sheet-2-hin'!$AO$9:$AO$68,\"1रसअलउ\")=0),\"\",COUNTIF('Entry sheet-2-hin'!$AO$9:$AO$68,\"1रसअलउ\")))","v":""},"",{"$f":"IF(B44=\"\",\"\",IF(AND(COUNTIF('Entry sheet-2-hin'!$AO$9:$AO$68,\"1रसलउ२\")=0),\"\",COUNTIF('Entry sheet-2-hin'!$AO$9:$AO$68,\"1रसलउ२\")))","v":""},{"$f":"IF(AY44=\"\",\"\",IF(COUNTIF('Entry sheet-2-hin'!$AO$9:$AO$68,\"36SSA2C\")=0,COUNTIF('Entry sheet-2-hin'!$AO$9:$AO$68,\"36SSA2\")*2,COUNTIF('Entry sheet-2-hin'!$AO$9:$AO$68,\"36SSA2C\")*2))","v":""},{"$f":"IF(B44=\"\",\"\",IF(AND(COUNTIF('Entry sheet-2-hin'!$AO$9:$AO$68,\"36SLA1C\")=0,COUNTIF('Entry sheet-2-hin'!$AO$9:$AO$68,\"36SLA1\")=0),\"\",IF(COUNTIF('Entry sheet-2-hin'!$AO$9:$AO$68,\"36SLA1C\")=0,COUNTIF('Entry sheet-2-hin'!$AO$9:$AO$68,\"36SLA1\"),COUNTIF('Entry sheet-2-hin'!$AO$9:$AO$68,\"36SLA1C\")&\"*\")))","v":""},{"$f":"IF(BA44=\"\",\"\",IF(COUNTIF('Entry sheet-2-hin'!$AO$9:$AO$68,\"36SLA1C\")=0,COUNTIF('Entry sheet-2-hin'!$AO$9:$AO$68,\"36SLA1\")*3,COUNTIF('Entry sheet-2-hin'!$AO$9:$AO$68,\"36SLA1C\")*3))","v":""},{"$f":"IF(B44=\"\",\"\",IF(AND(COUNTIF('Entry sheet-2-hin'!$AO$9:$AO$68,\"36SLA2C\")=0,COUNTIF('Entry sheet-2-hin'!$AO$9:$AO$68,\"36SLA2\")=0),\"\",IF(COUNTIF('Entry sheet-2-hin'!$AO$9:$AO$68,\"36SLA2C\")=0,COUNTIF('Entry sheet-2-hin'!$AO$9:$AO$68,\"36SLA2\"),COUNTIF('Entry sheet-2-hin'!$AO$9:$AO$68,\"36SLA2C\")&\"*\")))","v":""},"",{"$f":"IF(B44=\"\",\"\",IF(AND(COUNTIF('Entry sheet-2-hin'!$AO$9:$AO$68,\"1रसदीउ5\")=0),\"\",COUNTIF('Entry sheet-2-hin'!$AO$9:$AO$68,\"1रसदीउ5\")))","v":""},"","","","","","","","","","","","","","","","",""]
[{"$f":"IF('Entry sheet-1-hin'!A46=\"\",\"\",'Entry sheet-1-hin'!A46)","v":""},{"$f":"IF('Entry sheet-1-hin'!B46=\"\",\"\",'Entry sheet-1-hin'!B46)","v":""},{"$f":"IF(B45=\"\",\"\",IF(AND(COUNTIF('Entry sheet-2-hin'!$AO$9:$AO$68,\"37KMCC\")=0,COUNTIF('Entry sheet-2-hin'!$AO$9:$AO$68,\"37KMC\")=0),\"\",IF(COUNTIF('Entry sheet-2-hin'!$AO$9:$AO$68,\"37KMCC\")=0,COUNTIF('Entry sheet-2-hin'!$AO$9:$AO$68,\"37KMC\"),COUNTIF('Entry sheet-2-hin'!$AO$9:$AO$68,\"37KMCC\")&\"*\")))","v":""},"",{"$f":"IF(B45=\"\",\"\",IF(AND(COUNTIF('Entry sheet-2-hin'!$AO$9:$AO$68,\"37KOTC\")=0,COUNTIF('Entry sheet-2-hin'!$AO$9:$AO$68,\"37KOT\")=0),\"\",IF(COUNTIF('Entry sheet-2-hin'!$AO$9:$AO$68,\"37KOTC\")=0,COUNTIF('Entry sheet-2-hin'!$AO$9:$AO$68,\"37KOT\"),COUNTIF('Entry sheet-2-hin'!$AO$9:$AO$68,\"37KOTC\")&\"*\")))","v":""},"",{"$f":"IF(B45=\"\",\"\",IF(AND(COUNTIF('Entry sheet-2-hin'!$AO$9:$AO$68,\"37KSA1C\")=0,COUNTIF('Entry sheet-2-hin'!$AO$9:$AO$68,\"37KSA1\")=0),\"\",IF(COUNTIF('Entry sheet-2-hin'!$AO$9:$AO$68,\"37KSA1C\")=0,COUNTIF('Entry sheet-2-hin'!$AO$9:$AO$68,\"37KSA1\"),COUNTIF('Entry sheet-2-hin'!$AO$9:$AO$68,\"37KSA1C\")&\"*\")))","v":""},{"$f":"IF(G45=\"\",\"\",IF(COUNTIF('Entry sheet-2-hin'!$AO$9:$AO$68,\"37KSA1C\")=0,COUNTIF('Entry sheet-2-hin'!$AO$9:$AO$68,\"37KSA1\")*1,COUNTIF('Entry sheet-2-hin'!$AO$9:$AO$68,\"37KSA1C\")*1))","v":""},{"$f":"IF(B45=\"\",\"\",IF(AND(COUNTIF('Entry sheet-2-hin'!$AO$9:$AO$68,\"37KSA2C\")=0,COUNTIF('Entry sheet-2-hin'!$AO$9:$AO$68,\"37KSA2\")=0),\"\",IF(COUNTIF('Entry sheet-2-hin'!$AO$9:$AO$68,\"37KSA2C\")=0,COUNTIF('Entry sheet-2-hin'!$AO$9:$AO$68,\"37KSA2\"),COUNTIF('Entry sheet-2-hin'!$AO$9:$AO$68,\"37KSA2C\")&\"*\")))","v":""},{"$f":"IF(I45=\"\",\"\",IF(COUNTIF('Entry sheet-2-hin'!$AO$9:$AO$68,\"37KSA2C\")=0,COUNTIF('Entry sheet-2-hin'!$AO$9:$AO$68,\"37KSA2\")*2,COUNTIF('Entry sheet-2-hin'!$AO$9:$AO$68,\"37KSA2C\")*2))","v":""},{"$f":"IF(B45=\"\",\"\",IF(AND(COUNTIF('Entry sheet-2-hin'!$AO$9:$AO$68,\"37KLA1C\")=0,COUNTIF('Entry sheet-2-hin'!$AO$9:$AO$68,\"37KLA1\")=0),\"\",IF(COUNTIF('Entry sheet-2-hin'!$AO$9:$AO$68,\"37KLA1C\")=0,COUNTIF('Entry sheet-2-hin'!$AO$9:$AO$68,\"37KLA1\"),COUNTIF('Entry sheet-2-hin'!$AO$9:$AO$68,\"37KLA1C\")&\"*\")))","v":""},{"$f":"IF(K45=\"\",\"\",IF(COUNTIF('Entry sheet-2-hin'!$AO$9:$AO$68,\"37KLA1C\")=0,COUNTIF('Entry sheet-2-hin'!$AO$9:$AO$68,\"37KLA1\")*3,COUNTIF('Entry sheet-2-hin'!$AO$9:$AO$68,\"37KLA1C\")*3))","v":""},{"$f":"IF(B45=\"\",\"\",IF(AND(COUNTIF('Entry sheet-2-hin'!$AO$9:$AO$68,\"1स्मदीउ४\")=0),\"\",COUNTIF('Entry sheet-2-hin'!$AO$9:$AO$68,\"1स्मदीउ४\")))","v":""},"",{"$f":"IF(B45=\"\",\"\",IF(AND(COUNTIF('Entry sheet-2-hin'!$AO$9:$AO$68,\"1स्मदीउ5\")=0),\"\",COUNTIF('Entry sheet-2-hin'!$AO$9:$AO$68,\"1स्मदीउ5\")))","v":""},{"$f":"IF(O45=\"\",\"\",IF(COUNTIF('Entry sheet-2-hin'!$AO$9:$AO$68,\"1स्मदीउ5C\")=0,COUNTIF('Entry sheet-2-hin'!$AO$9:$AO$68,\"1स्मदीउ5\")*5,COUNTIF('Entry sheet-2-hin'!$AO$9:$AO$68,\"1स्मदीउ5C\")*5))","v":""},{"$f":"IF(B45=\"\",\"\",IF(AND(COUNTIF('Entry sheet-2-hin'!$AO$9:$AO$68,\"37UMCC\")=0,COUNTIF('Entry sheet-2-hin'!$AO$9:$AO$68,\"37UMC\")=0),\"\",IF(COUNTIF('Entry sheet-2-hin'!$AO$9:$AO$68,\"37UMCC\")=0,COUNTIF('Entry sheet-2-hin'!$AO$9:$AO$68,\"37UMC\"),COUNTIF('Entry sheet-2-hin'!$AO$9:$AO$68,\"37UMCC\")&\"*\")))","v":""},"",{"$f":"IF(B45=\"\",\"\",IF(AND(COUNTIF('Entry sheet-2-hin'!$AO$9:$AO$68,\"1समवनि\")=0),\"\",COUNTIF('Entry sheet-2-hin'!$AO$9:$AO$68,\"1समवनि\")))","v":""},"",{"$f":"IF(B45=\"\",\"\",IF(AND(COUNTIF('Entry sheet-2-hin'!$AO$9:$AO$68,\"1समअलउ\")=0),\"\",COUNTIF('Entry sheet-2-hin'!$AO$9:$AO$68,\"1समअलउ\")))","v":""},"",{"$f":"IF(B45=\"\",\"\",IF(AND(COUNTIF('Entry sheet-2-hin'!$AO$9:$AO$68,\"37USA2C\")=0,COUNTIF('Entry sheet-2-hin'!$AO$9:$AO$68,\"37USA2\")=0),\"\",IF(COUNTIF('Entry sheet-2-hin'!$AO$9:$AO$68,\"37USA2C\")=0,COUNTIF('Entry sheet-2-hin'!$AO$9:$AO$68,\"37USA2\"),COUNTIF('Entry sheet-2-hin'!$AO$9:$AO$68,\"37USA2C\")&\"*\")))","v":""},{"$f":"IF(W45=\"\",\"\",IF(COUNTIF('Entry sheet-2-hin'!$AO$9:$AO$68,\"37USA2C\")=0,COUNTIF('Entry sheet-2-hin'!$AO$9:$AO$68,\"37USA2\")*2,COUNTIF('Entry sheet-2-hin'!$AO$9:$AO$68,\"37USA2C\")*2))","v":""},{"$f":"IF(B45=\"\",\"\",IF(AND(COUNTIF('Entry sheet-2-hin'!$AO$9:$AO$68,\"37ULA1C\")=0,COUNTIF('Entry sheet-2-hin'!$AO$9:$AO$68,\"37ULA1\")=0),\"\",IF(COUNTIF('Entry sheet-2-hin'!$AO$9:$AO$68,\"37ULA1C\")=0,COUNTIF('Entry sheet-2-hin'!$AO$9:$AO$68,\"37ULA1\"),COUNTIF('Entry sheet-2-hin'!$AO$9:$AO$68,\"37ULA1C\")&\"*\")))","v":""},{"$f":"IF(Y45=\"\",\"\",IF(COUNTIF('Entry sheet-2-hin'!$AO$9:$AO$68,\"37ULA1C\")=0,COUNTIF('Entry sheet-2-hin'!$AO$9:$AO$68,\"37ULA1\")*3,COUNTIF('Entry sheet-2-hin'!$AO$9:$AO$68,\"37ULA1C\")*3))","v":""},{"$f":"IF(B45=\"\",\"\",IF(AND(COUNTIF('Entry sheet-2-hin'!$AO$9:$AO$68,\"1समदीउ४\")=0),\"\",COUNTIF('Entry sheet-2-hin'!$AO$9:$AO$68,\"1समदीउ४\")))","v":""},"",{"$f":"IF(B45=\"\",\"\",IF(AND(COUNTIF('Entry sheet-2-hin'!$AO$9:$AO$68,\"1समदीउ5\")=0),\"\",COUNTIF('Entry sheet-2-hin'!$AO$9:$AO$68,\"1समदीउ5\")))","v":""},{"$f":"IF(AC45=\"\",\"\",IF(COUNTIF('Entry sheet-2-hin'!$AO$9:$AO$68,\"1समदीउ5C\")=0,COUNTIF('Entry sheet-2-hin'!$AO$9:$AO$68,\"1समदीउ5\")*5,COUNTIF('Entry sheet-2-hin'!$AO$9:$AO$68,\"1समदीउ5C\")*5))","v":""},{"$f":"IF(B45=\"\",\"\",IF(AND(COUNTIF('Entry sheet-2-hin'!$AO$9:$AO$68,\"1अबवि\")=0),\"\",COUNTIF('Entry sheet-2-hin'!$AO$9:$AO$68,\"1अबवि\")))","v":""},{"$f":"IF(AE45=\"\",\"\",IF(COUNTIF('Entry sheet-2-hin'!$AO$9:$AO$68,\"37AMCC\")=0,COUNTIF('Entry sheet-2-hin'!$AO$9:$AO$68,\"37AMC\")*1,COUNTIF('Entry sheet-2-hin'!$AO$9:$AO$68,\"37AMCC\")*1))","v":""},{"$f":"IF(B45=\"\",\"\",IF(AND(COUNTIF('Entry sheet-2-hin'!$AO$9:$AO$68,\"37AOTC\")=0,COUNTIF('Entry sheet-2-hin'!$AO$9:$AO$68,\"37AOT\")=0),\"\",IF(COUNTIF('Entry sheet-2-hin'!$AO$9:$AO$68,\"37AOTC\")=0,COUNTIF('Entry sheet-2-hin'!$AO$9:$AO$68,\"37AOT\"),COUNTIF('Entry sheet-2-hin'!$AO$9:$AO$68,\"37AOTC\")&\"*\")))","v":""},{"$f":"IF(AG45=\"\",\"\",IF(COUNTIF('Entry sheet-2-hin'!$AO$9:$AO$68,\"37AOTC\")=0,COUNTIF('Entry sheet-2-hin'!$AO$9:$AO$68,\"37AOT\")*1,COUNTIF('Entry sheet-2-hin'!$AO$9:$AO$68,\"37AOTC\")*1))","v":""},{"$f":"IF(B45=\"\",\"\",IF(AND(COUNTIF('Entry sheet-2-hin'!$AO$9:$AO$68,\"1अअलउ\")=0),\"\",COUNTIF('Entry sheet-2-hin'!$AO$9:$AO$68,\"1अअलउ\")))","v":""},{"$f":"IF(AI45=\"\",\"\",IF(COUNTIF('Entry sheet-2-hin'!$AO$9:$AO$68,\"37ASA1C\")=0,COUNTIF('Entry sheet-2-hin'!$AO$9:$AO$68,\"37ASA1\")*1,COUNTIF('Entry sheet-2-hin'!$AO$9:$AO$68,\"37ASA1C\")*1))","v":""},{"$f":"IF(B45=\"\",\"\",IF(AND(COUNTIF('Entry sheet-2-hin'!$AO$9:$AO$68,\"37ASA2C\")=0,COUNTIF('Entry sheet-2-hin'!$AO$9:$AO$68,\"37ASA2\")=0),\"\",IF(COUNTIF('Entry sheet-2-hin'!$AO$9:$AO$68,\"37ASA2C\")=0,COUNTIF('Entry sheet-2-hin'!$AO$9:$AO$68,\"37ASA2\"),COUNTIF('Entry sheet-2-hin'!$AO$9:$AO$68,\"37ASA2C\")&\"*\")))","v":""},"",{"$f":"IF(B45=\"\",\"\",IF(AND(COUNTIF('Entry sheet-2-hin'!$AO$9:$AO$68,\"37ALA1C\")=0,COUNTIF('Entry sheet-2-hin'!$AO$9:$AO$68,\"37ALA1\")=0),\"\",IF(COUNTIF('Entry sheet-2-hin'!$AO$9:$AO$68,\"37ALA1C\")=0,COUNTIF('Entry sheet-2-hin'!$AO$9:$AO$68,\"37ALA1\"),COUNTIF('Entry sheet-2-hin'!$AO$9:$AO$68,\"37ALA1C\")&\"*\")))","v":""},"",{"$f":"IF(B45=\"\",\"\",IF(AND(COUNTIF('Entry sheet-2-hin'!$AO$9:$AO$68,\"37ALA2C\")=0,COUNTIF('Entry sheet-2-hin'!$AO$9:$AO$68,\"37ALA2\")=0),\"\",IF(COUNTIF('Entry sheet-2-hin'!$AO$9:$AO$68,\"37ALA2C\")=0,COUNTIF('Entry sheet-2-hin'!$AO$9:$AO$68,\"37ALA2\"),COUNTIF('Entry sheet-2-hin'!$AO$9:$AO$68,\"37ALA2C\")&\"*\")))","v":""},{"$f":"IF(AO45=\"\",\"\",IF(COUNTIF('Entry sheet-2-hin'!$AO$9:$AO$68,\"37ALA2C\")=0,COUNTIF('Entry sheet-2-hin'!$AO$9:$AO$68,\"37ALA2\")*4,COUNTIF('Entry sheet-2-hin'!$AO$9:$AO$68,\"37ALA2C\")*4))","v":""},{"$f":"IF(B45=\"\",\"\",IF(AND(COUNTIF('Entry sheet-2-hin'!$AO$9:$AO$68,\"1अदीउ5\")=0),\"\",COUNTIF('Entry sheet-2-hin'!$AO$9:$AO$68,\"1अदीउ5\")))","v":""},{"$f":"IF(AQ45=\"\",\"\",IF(COUNTIF('Entry sheet-2-hin'!$AO$9:$AO$68,\"1अदीउ5C\")=0,COUNTIF('Entry sheet-2-hin'!$AO$9:$AO$68,\"1अदीउ5\")*5,COUNTIF('Entry sheet-2-hin'!$AO$9:$AO$68,\"1अदीउ5C\")*5))","v":""},{"$f":"IF(B45=\"\",\"\",IF(AND(COUNTIF('Entry sheet-2-hin'!$AO$9:$AO$68,\"1रसबवि\")=0),\"\",COUNTIF('Entry sheet-2-hin'!$AO$9:$AO$68,\"1रसबवि\")))","v":""},{"$f":"IF(AS45=\"\",\"\",IF(COUNTIF('Entry sheet-2-hin'!$AO$9:$AO$68,\"37SMCC\")=0,COUNTIF('Entry sheet-2-hin'!$AO$9:$AO$68,\"37SMC\")*1,COUNTIF('Entry sheet-2-hin'!$AO$9:$AO$68,\"37SMCC\")*1))","v":""},{"$f":"IF(B45=\"\",\"\",IF(AND(COUNTIF('Entry sheet-2-hin'!$AO$9:$AO$68,\"37SOTC\")=0,COUNTIF('Entry sheet-2-hin'!$AO$9:$AO$68,\"37SOT\")=0),\"\",IF(COUNTIF('Entry sheet-2-hin'!$AO$9:$AO$68,\"37SOTC\")=0,COUNTIF('Entry sheet-2-hin'!$AO$9:$AO$68,\"37SOT\"),COUNTIF('Entry sheet-2-hin'!$AO$9:$AO$68,\"37SOTC\")&\"*\")))","v":""},{"$f":"IF(AU45=\"\",\"\",IF(COUNTIF('Entry sheet-2-hin'!$AO$9:$AO$68,\"37SOTC\")=0,COUNTIF('Entry sheet-2-hin'!$AO$9:$AO$68,\"37SOT\")*1,COUNTIF('Entry sheet-2-hin'!$AO$9:$AO$68,\"37SOTC\")*1))","v":""},{"$f":"IF(B45=\"\",\"\",IF(AND(COUNTIF('Entry sheet-2-hin'!$AO$9:$AO$68,\"1रसअलउ\")=0),\"\",COUNTIF('Entry sheet-2-hin'!$AO$9:$AO$68,\"1रसअलउ\")))","v":""},"",{"$f":"IF(B45=\"\",\"\",IF(AND(COUNTIF('Entry sheet-2-hin'!$AO$9:$AO$68,\"1रसलउ२\")=0),\"\",COUNTIF('Entry sheet-2-hin'!$AO$9:$AO$68,\"1रसलउ२\")))","v":""},{"$f":"IF(AY45=\"\",\"\",IF(COUNTIF('Entry sheet-2-hin'!$AO$9:$AO$68,\"37SSA2C\")=0,COUNTIF('Entry sheet-2-hin'!$AO$9:$AO$68,\"37SSA2\")*2,COUNTIF('Entry sheet-2-hin'!$AO$9:$AO$68,\"37SSA2C\")*2))","v":""},{"$f":"IF(B45=\"\",\"\",IF(AND(COUNTIF('Entry sheet-2-hin'!$AO$9:$AO$68,\"37SLA1C\")=0,COUNTIF('Entry sheet-2-hin'!$AO$9:$AO$68,\"37SLA1\")=0),\"\",IF(COUNTIF('Entry sheet-2-hin'!$AO$9:$AO$68,\"37SLA1C\")=0,COUNTIF('Entry sheet-2-hin'!$AO$9:$AO$68,\"37SLA1\"),COUNTIF('Entry sheet-2-hin'!$AO$9:$AO$68,\"37SLA1C\")&\"*\")))","v":""},{"$f":"IF(BA45=\"\",\"\",IF(COUNTIF('Entry sheet-2-hin'!$AO$9:$AO$68,\"37SLA1C\")=0,COUNTIF('Entry sheet-2-hin'!$AO$9:$AO$68,\"37SLA1\")*3,COUNTIF('Entry sheet-2-hin'!$AO$9:$AO$68,\"37SLA1C\")*3))","v":""},{"$f":"IF(B45=\"\",\"\",IF(AND(COUNTIF('Entry sheet-2-hin'!$AO$9:$AO$68,\"37SLA2C\")=0,COUNTIF('Entry sheet-2-hin'!$AO$9:$AO$68,\"37SLA2\")=0),\"\",IF(COUNTIF('Entry sheet-2-hin'!$AO$9:$AO$68,\"37SLA2C\")=0,COUNTIF('Entry sheet-2-hin'!$AO$9:$AO$68,\"37SLA2\"),COUNTIF('Entry sheet-2-hin'!$AO$9:$AO$68,\"37SLA2C\")&\"*\")))","v":""},"",{"$f":"IF(B45=\"\",\"\",IF(AND(COUNTIF('Entry sheet-2-hin'!$AO$9:$AO$68,\"1रसदीउ5\")=0),\"\",COUNTIF('Entry sheet-2-hin'!$AO$9:$AO$68,\"1रसदीउ5\")))","v":""},"","","","","","","","","","","","","","","","",""]
[{"$f":"IF('Entry sheet-1-hin'!A47=\"\",\"\",'Entry sheet-1-hin'!A47)","v":""},{"$f":"IF('Entry sheet-1-hin'!B47=\"\",\"\",'Entry sheet-1-hin'!B47)","v":""},{"$f":"IF(B46=\"\",\"\",IF(AND(COUNTIF('Entry sheet-2-hin'!$AO$9:$AO$68,\"38KMCC\")=0,COUNTIF('Entry sheet-2-hin'!$AO$9:$AO$68,\"38KMC\")=0),\"\",IF(COUNTIF('Entry sheet-2-hin'!$AO$9:$AO$68,\"38KMCC\")=0,COUNTIF('Entry sheet-2-hin'!$AO$9:$AO$68,\"38KMC\"),COUNTIF('Entry sheet-2-hin'!$AO$9:$AO$68,\"38KMCC\")&\"*\")))","v":""},"",{"$f":"IF(B46=\"\",\"\",IF(AND(COUNTIF('Entry sheet-2-hin'!$AO$9:$AO$68,\"38KOTC\")=0,COUNTIF('Entry sheet-2-hin'!$AO$9:$AO$68,\"38KOT\")=0),\"\",IF(COUNTIF('Entry sheet-2-hin'!$AO$9:$AO$68,\"38KOTC\")=0,COUNTIF('Entry sheet-2-hin'!$AO$9:$AO$68,\"38KOT\"),COUNTIF('Entry sheet-2-hin'!$AO$9:$AO$68,\"38KOTC\")&\"*\")))","v":""},"",{"$f":"IF(B46=\"\",\"\",IF(AND(COUNTIF('Entry sheet-2-hin'!$AO$9:$AO$68,\"38KSA1C\")=0,COUNTIF('Entry sheet-2-hin'!$AO$9:$AO$68,\"38KSA1\")=0),\"\",IF(COUNTIF('Entry sheet-2-hin'!$AO$9:$AO$68,\"38KSA1C\")=0,COUNTIF('Entry sheet-2-hin'!$AO$9:$AO$68,\"38KSA1\"),COUNTIF('Entry sheet-2-hin'!$AO$9:$AO$68,\"38KSA1C\")&\"*\")))","v":""},{"$f":"IF(G46=\"\",\"\",IF(COUNTIF('Entry sheet-2-hin'!$AO$9:$AO$68,\"38KSA1C\")=0,COUNTIF('Entry sheet-2-hin'!$AO$9:$AO$68,\"38KSA1\")*1,COUNTIF('Entry sheet-2-hin'!$AO$9:$AO$68,\"38KSA1C\")*1))","v":""},{"$f":"IF(B46=\"\",\"\",IF(AND(COUNTIF('Entry sheet-2-hin'!$AO$9:$AO$68,\"38KSA2C\")=0,COUNTIF('Entry sheet-2-hin'!$AO$9:$AO$68,\"38KSA2\")=0),\"\",IF(COUNTIF('Entry sheet-2-hin'!$AO$9:$AO$68,\"38KSA2C\")=0,COUNTIF('Entry sheet-2-hin'!$AO$9:$AO$68,\"38KSA2\"),COUNTIF('Entry sheet-2-hin'!$AO$9:$AO$68,\"38KSA2C\")&\"*\")))","v":""},{"$f":"IF(I46=\"\",\"\",IF(COUNTIF('Entry sheet-2-hin'!$AO$9:$AO$68,\"38KSA2C\")=0,COUNTIF('Entry sheet-2-hin'!$AO$9:$AO$68,\"38KSA2\")*2,COUNTIF('Entry sheet-2-hin'!$AO$9:$AO$68,\"38KSA2C\")*2))","v":""},{"$f":"IF(B46=\"\",\"\",IF(AND(COUNTIF('Entry sheet-2-hin'!$AO$9:$AO$68,\"38KLA1C\")=0,COUNTIF('Entry sheet-2-hin'!$AO$9:$AO$68,\"38KLA1\")=0),\"\",IF(COUNTIF('Entry sheet-2-hin'!$AO$9:$AO$68,\"38KLA1C\")=0,COUNTIF('Entry sheet-2-hin'!$AO$9:$AO$68,\"38KLA1\"),COUNTIF('Entry sheet-2-hin'!$AO$9:$AO$68,\"38KLA1C\")&\"*\")))","v":""},{"$f":"IF(K46=\"\",\"\",IF(COUNTIF('Entry sheet-2-hin'!$AO$9:$AO$68,\"38KLA1C\")=0,COUNTIF('Entry sheet-2-hin'!$AO$9:$AO$68,\"38KLA1\")*3,COUNTIF('Entry sheet-2-hin'!$AO$9:$AO$68,\"38KLA1C\")*3))","v":""},{"$f":"IF(B46=\"\",\"\",IF(AND(COUNTIF('Entry sheet-2-hin'!$AO$9:$AO$68,\"1स्मदीउ४\")=0),\"\",COUNTIF('Entry sheet-2-hin'!$AO$9:$AO$68,\"1स्मदीउ४\")))","v":""},"",{"$f":"IF(B46=\"\",\"\",IF(AND(COUNTIF('Entry sheet-2-hin'!$AO$9:$AO$68,\"1स्मदीउ5\")=0),\"\",COUNTIF('Entry sheet-2-hin'!$AO$9:$AO$68,\"1स्मदीउ5\")))","v":""},{"$f":"IF(O46=\"\",\"\",IF(COUNTIF('Entry sheet-2-hin'!$AO$9:$AO$68,\"1स्मदीउ5C\")=0,COUNTIF('Entry sheet-2-hin'!$AO$9:$AO$68,\"1स्मदीउ5\")*5,COUNTIF('Entry sheet-2-hin'!$AO$9:$AO$68,\"1स्मदीउ5C\")*5))","v":""},{"$f":"IF(B46=\"\",\"\",IF(AND(COUNTIF('Entry sheet-2-hin'!$AO$9:$AO$68,\"38UMCC\")=0,COUNTIF('Entry sheet-2-hin'!$AO$9:$AO$68,\"38UMC\")=0),\"\",IF(COUNTIF('Entry sheet-2-hin'!$AO$9:$AO$68,\"38UMCC\")=0,COUNTIF('Entry sheet-2-hin'!$AO$9:$AO$68,\"38UMC\"),COUNTIF('Entry sheet-2-hin'!$AO$9:$AO$68,\"38UMCC\")&\"*\")))","v":""},"",{"$f":"IF(B46=\"\",\"\",IF(AND(COUNTIF('Entry sheet-2-hin'!$AO$9:$AO$68,\"1समवनि\")=0),\"\",COUNTIF('Entry sheet-2-hin'!$AO$9:$AO$68,\"1समवनि\")))","v":""},"",{"$f":"IF(B46=\"\",\"\",IF(AND(COUNTIF('Entry sheet-2-hin'!$AO$9:$AO$68,\"1समअलउ\")=0),\"\",COUNTIF('Entry sheet-2-hin'!$AO$9:$AO$68,\"1समअलउ\")))","v":""},"",{"$f":"IF(B46=\"\",\"\",IF(AND(COUNTIF('Entry sheet-2-hin'!$AO$9:$AO$68,\"38USA2C\")=0,COUNTIF('Entry sheet-2-hin'!$AO$9:$AO$68,\"38USA2\")=0),\"\",IF(COUNTIF('Entry sheet-2-hin'!$AO$9:$AO$68,\"38USA2C\")=0,COUNTIF('Entry sheet-2-hin'!$AO$9:$AO$68,\"38USA2\"),COUNTIF('Entry sheet-2-hin'!$AO$9:$AO$68,\"38USA2C\")&\"*\")))","v":""},{"$f":"IF(W46=\"\",\"\",IF(COUNTIF('Entry sheet-2-hin'!$AO$9:$AO$68,\"38USA2C\")=0,COUNTIF('Entry sheet-2-hin'!$AO$9:$AO$68,\"38USA2\")*2,COUNTIF('Entry sheet-2-hin'!$AO$9:$AO$68,\"38USA2C\")*2))","v":""},{"$f":"IF(B46=\"\",\"\",IF(AND(COUNTIF('Entry sheet-2-hin'!$AO$9:$AO$68,\"38ULA1C\")=0,COUNTIF('Entry sheet-2-hin'!$AO$9:$AO$68,\"38ULA1\")=0),\"\",IF(COUNTIF('Entry sheet-2-hin'!$AO$9:$AO$68,\"38ULA1C\")=0,COUNTIF('Entry sheet-2-hin'!$AO$9:$AO$68,\"38ULA1\"),COUNTIF('Entry sheet-2-hin'!$AO$9:$AO$68,\"38ULA1C\")&\"*\")))","v":""},{"$f":"IF(Y46=\"\",\"\",IF(COUNTIF('Entry sheet-2-hin'!$AO$9:$AO$68,\"38ULA1C\")=0,COUNTIF('Entry sheet-2-hin'!$AO$9:$AO$68,\"38ULA1\")*3,COUNTIF('Entry sheet-2-hin'!$AO$9:$AO$68,\"38ULA1C\")*3))","v":""},{"$f":"IF(B46=\"\",\"\",IF(AND(COUNTIF('Entry sheet-2-hin'!$AO$9:$AO$68,\"1समदीउ४\")=0),\"\",COUNTIF('Entry sheet-2-hin'!$AO$9:$AO$68,\"1समदीउ४\")))","v":""},"",{"$f":"IF(B46=\"\",\"\",IF(AND(COUNTIF('Entry sheet-2-hin'!$AO$9:$AO$68,\"1समदीउ5\")=0),\"\",COUNTIF('Entry sheet-2-hin'!$AO$9:$AO$68,\"1समदीउ5\")))","v":""},{"$f":"IF(AC46=\"\",\"\",IF(COUNTIF('Entry sheet-2-hin'!$AO$9:$AO$68,\"1समदीउ5C\")=0,COUNTIF('Entry sheet-2-hin'!$AO$9:$AO$68,\"1समदीउ5\")*5,COUNTIF('Entry sheet-2-hin'!$AO$9:$AO$68,\"1समदीउ5C\")*5))","v":""},{"$f":"IF(B46=\"\",\"\",IF(AND(COUNTIF('Entry sheet-2-hin'!$AO$9:$AO$68,\"1अबवि\")=0),\"\",COUNTIF('Entry sheet-2-hin'!$AO$9:$AO$68,\"1अबवि\")))","v":""},{"$f":"IF(AE46=\"\",\"\",IF(COUNTIF('Entry sheet-2-hin'!$AO$9:$AO$68,\"38AMCC\")=0,COUNTIF('Entry sheet-2-hin'!$AO$9:$AO$68,\"38AMC\")*1,COUNTIF('Entry sheet-2-hin'!$AO$9:$AO$68,\"38AMCC\")*1))","v":""},{"$f":"IF(B46=\"\",\"\",IF(AND(COUNTIF('Entry sheet-2-hin'!$AO$9:$AO$68,\"38AOTC\")=0,COUNTIF('Entry sheet-2-hin'!$AO$9:$AO$68,\"38AOT\")=0),\"\",IF(COUNTIF('Entry sheet-2-hin'!$AO$9:$AO$68,\"38AOTC\")=0,COUNTIF('Entry sheet-2-hin'!$AO$9:$AO$68,\"38AOT\"),COUNTIF('Entry sheet-2-hin'!$AO$9:$AO$68,\"38AOTC\")&\"*\")))","v":""},{"$f":"IF(AG46=\"\",\"\",IF(COUNTIF('Entry sheet-2-hin'!$AO$9:$AO$68,\"38AOTC\")=0,COUNTIF('Entry sheet-2-hin'!$AO$9:$AO$68,\"38AOT\")*1,COUNTIF('Entry sheet-2-hin'!$AO$9:$AO$68,\"38AOTC\")*1))","v":""},{"$f":"IF(B46=\"\",\"\",IF(AND(COUNTIF('Entry sheet-2-hin'!$AO$9:$AO$68,\"1अअलउ\")=0),\"\",COUNTIF('Entry sheet-2-hin'!$AO$9:$AO$68,\"1अअलउ\")))","v":""},{"$f":"IF(AI46=\"\",\"\",IF(COUNTIF('Entry sheet-2-hin'!$AO$9:$AO$68,\"38ASA1C\")=0,COUNTIF('Entry sheet-2-hin'!$AO$9:$AO$68,\"38ASA1\")*1,COUNTIF('Entry sheet-2-hin'!$AO$9:$AO$68,\"38ASA1C\")*1))","v":""},{"$f":"IF(B46=\"\",\"\",IF(AND(COUNTIF('Entry sheet-2-hin'!$AO$9:$AO$68,\"38ASA2C\")=0,COUNTIF('Entry sheet-2-hin'!$AO$9:$AO$68,\"38ASA2\")=0),\"\",IF(COUNTIF('Entry sheet-2-hin'!$AO$9:$AO$68,\"38ASA2C\")=0,COUNTIF('Entry sheet-2-hin'!$AO$9:$AO$68,\"38ASA2\"),COUNTIF('Entry sheet-2-hin'!$AO$9:$AO$68,\"38ASA2C\")&\"*\")))","v":""},"",{"$f":"IF(B46=\"\",\"\",IF(AND(COUNTIF('Entry sheet-2-hin'!$AO$9:$AO$68,\"38ALA1C\")=0,COUNTIF('Entry sheet-2-hin'!$AO$9:$AO$68,\"38ALA1\")=0),\"\",IF(COUNTIF('Entry sheet-2-hin'!$AO$9:$AO$68,\"38ALA1C\")=0,COUNTIF('Entry sheet-2-hin'!$AO$9:$AO$68,\"38ALA1\"),COUNTIF('Entry sheet-2-hin'!$AO$9:$AO$68,\"38ALA1C\")&\"*\")))","v":""},"",{"$f":"IF(B46=\"\",\"\",IF(AND(COUNTIF('Entry sheet-2-hin'!$AO$9:$AO$68,\"38ALA2C\")=0,COUNTIF('Entry sheet-2-hin'!$AO$9:$AO$68,\"38ALA2\")=0),\"\",IF(COUNTIF('Entry sheet-2-hin'!$AO$9:$AO$68,\"38ALA2C\")=0,COUNTIF('Entry sheet-2-hin'!$AO$9:$AO$68,\"38ALA2\"),COUNTIF('Entry sheet-2-hin'!$AO$9:$AO$68,\"38ALA2C\")&\"*\")))","v":""},{"$f":"IF(AO46=\"\",\"\",IF(COUNTIF('Entry sheet-2-hin'!$AO$9:$AO$68,\"38ALA2C\")=0,COUNTIF('Entry sheet-2-hin'!$AO$9:$AO$68,\"38ALA2\")*4,COUNTIF('Entry sheet-2-hin'!$AO$9:$AO$68,\"38ALA2C\")*4))","v":""},{"$f":"IF(B46=\"\",\"\",IF(AND(COUNTIF('Entry sheet-2-hin'!$AO$9:$AO$68,\"1अदीउ5\")=0),\"\",COUNTIF('Entry sheet-2-hin'!$AO$9:$AO$68,\"1अदीउ5\")))","v":""},{"$f":"IF(AQ46=\"\",\"\",IF(COUNTIF('Entry sheet-2-hin'!$AO$9:$AO$68,\"1अदीउ5C\")=0,COUNTIF('Entry sheet-2-hin'!$AO$9:$AO$68,\"1अदीउ5\")*5,COUNTIF('Entry sheet-2-hin'!$AO$9:$AO$68,\"1अदीउ5C\")*5))","v":""},{"$f":"IF(B46=\"\",\"\",IF(AND(COUNTIF('Entry sheet-2-hin'!$AO$9:$AO$68,\"1रसबवि\")=0),\"\",COUNTIF('Entry sheet-2-hin'!$AO$9:$AO$68,\"1रसबवि\")))","v":""},{"$f":"IF(AS46=\"\",\"\",IF(COUNTIF('Entry sheet-2-hin'!$AO$9:$AO$68,\"38SMCC\")=0,COUNTIF('Entry sheet-2-hin'!$AO$9:$AO$68,\"38SMC\")*1,COUNTIF('Entry sheet-2-hin'!$AO$9:$AO$68,\"38SMCC\")*1))","v":""},{"$f":"IF(B46=\"\",\"\",IF(AND(COUNTIF('Entry sheet-2-hin'!$AO$9:$AO$68,\"38SOTC\")=0,COUNTIF('Entry sheet-2-hin'!$AO$9:$AO$68,\"38SOT\")=0),\"\",IF(COUNTIF('Entry sheet-2-hin'!$AO$9:$AO$68,\"38SOTC\")=0,COUNTIF('Entry sheet-2-hin'!$AO$9:$AO$68,\"38SOT\"),COUNTIF('Entry sheet-2-hin'!$AO$9:$AO$68,\"38SOTC\")&\"*\")))","v":""},{"$f":"IF(AU46=\"\",\"\",IF(COUNTIF('Entry sheet-2-hin'!$AO$9:$AO$68,\"38SOTC\")=0,COUNTIF('Entry sheet-2-hin'!$AO$9:$AO$68,\"38SOT\")*1,COUNTIF('Entry sheet-2-hin'!$AO$9:$AO$68,\"38SOTC\")*1))","v":""},{"$f":"IF(B46=\"\",\"\",IF(AND(COUNTIF('Entry sheet-2-hin'!$AO$9:$AO$68,\"1रसअलउ\")=0),\"\",COUNTIF('Entry sheet-2-hin'!$AO$9:$AO$68,\"1रसअलउ\")))","v":""},"",{"$f":"IF(B46=\"\",\"\",IF(AND(COUNTIF('Entry sheet-2-hin'!$AO$9:$AO$68,\"1रसलउ२\")=0),\"\",COUNTIF('Entry sheet-2-hin'!$AO$9:$AO$68,\"1रसलउ२\")))","v":""},{"$f":"IF(AY46=\"\",\"\",IF(COUNTIF('Entry sheet-2-hin'!$AO$9:$AO$68,\"38SSA2C\")=0,COUNTIF('Entry sheet-2-hin'!$AO$9:$AO$68,\"38SSA2\")*2,COUNTIF('Entry sheet-2-hin'!$AO$9:$AO$68,\"38SSA2C\")*2))","v":""},{"$f":"IF(B46=\"\",\"\",IF(AND(COUNTIF('Entry sheet-2-hin'!$AO$9:$AO$68,\"38SLA1C\")=0,COUNTIF('Entry sheet-2-hin'!$AO$9:$AO$68,\"38SLA1\")=0),\"\",IF(COUNTIF('Entry sheet-2-hin'!$AO$9:$AO$68,\"38SLA1C\")=0,COUNTIF('Entry sheet-2-hin'!$AO$9:$AO$68,\"38SLA1\"),COUNTIF('Entry sheet-2-hin'!$AO$9:$AO$68,\"38SLA1C\")&\"*\")))","v":""},{"$f":"IF(BA46=\"\",\"\",IF(COUNTIF('Entry sheet-2-hin'!$AO$9:$AO$68,\"38SLA1C\")=0,COUNTIF('Entry sheet-2-hin'!$AO$9:$AO$68,\"38SLA1\")*3,COUNTIF('Entry sheet-2-hin'!$AO$9:$AO$68,\"38SLA1C\")*3))","v":""},{"$f":"IF(B46=\"\",\"\",IF(AND(COUNTIF('Entry sheet-2-hin'!$AO$9:$AO$68,\"38SLA2C\")=0,COUNTIF('Entry sheet-2-hin'!$AO$9:$AO$68,\"38SLA2\")=0),\"\",IF(COUNTIF('Entry sheet-2-hin'!$AO$9:$AO$68,\"38SLA2C\")=0,COUNTIF('Entry sheet-2-hin'!$AO$9:$AO$68,\"38SLA2\"),COUNTIF('Entry sheet-2-hin'!$AO$9:$AO$68,\"38SLA2C\")&\"*\")))","v":""},"",{"$f":"IF(B46=\"\",\"\",IF(AND(COUNTIF('Entry sheet-2-hin'!$AO$9:$AO$68,\"1रसदीउ5\")=0),\"\",COUNTIF('Entry sheet-2-hin'!$AO$9:$AO$68,\"1रसदीउ5\")))","v":""},"","","","","","","","","","","","","","","","",""]
[{"$f":"IF('Entry sheet-1-hin'!A48=\"\",\"\",'Entry sheet-1-hin'!A48)","v":""},{"$f":"IF('Entry sheet-1-hin'!B48=\"\",\"\",'Entry sheet-1-hin'!B48)","v":""},{"$f":"IF(B47=\"\",\"\",IF(AND(COUNTIF('Entry sheet-2-hin'!$AO$9:$AO$68,\"39KMCC\")=0,COUNTIF('Entry sheet-2-hin'!$AO$9:$AO$68,\"39KMC\")=0),\"\",IF(COUNTIF('Entry sheet-2-hin'!$AO$9:$AO$68,\"39KMCC\")=0,COUNTIF('Entry sheet-2-hin'!$AO$9:$AO$68,\"39KMC\"),COUNTIF('Entry sheet-2-hin'!$AO$9:$AO$68,\"39KMCC\")&\"*\")))","v":""},"",{"$f":"IF(B47=\"\",\"\",IF(AND(COUNTIF('Entry sheet-2-hin'!$AO$9:$AO$68,\"39KOTC\")=0,COUNTIF('Entry sheet-2-hin'!$AO$9:$AO$68,\"39KOT\")=0),\"\",IF(COUNTIF('Entry sheet-2-hin'!$AO$9:$AO$68,\"39KOTC\")=0,COUNTIF('Entry sheet-2-hin'!$AO$9:$AO$68,\"39KOT\"),COUNTIF('Entry sheet-2-hin'!$AO$9:$AO$68,\"39KOTC\")&\"*\")))","v":""},"",{"$f":"IF(B47=\"\",\"\",IF(AND(COUNTIF('Entry sheet-2-hin'!$AO$9:$AO$68,\"39KSA1C\")=0,COUNTIF('Entry sheet-2-hin'!$AO$9:$AO$68,\"39KSA1\")=0),\"\",IF(COUNTIF('Entry sheet-2-hin'!$AO$9:$AO$68,\"39KSA1C\")=0,COUNTIF('Entry sheet-2-hin'!$AO$9:$AO$68,\"39KSA1\"),COUNTIF('Entry sheet-2-hin'!$AO$9:$AO$68,\"39KSA1C\")&\"*\")))","v":""},{"$f":"IF(G47=\"\",\"\",IF(COUNTIF('Entry sheet-2-hin'!$AO$9:$AO$68,\"39KSA1C\")=0,COUNTIF('Entry sheet-2-hin'!$AO$9:$AO$68,\"39KSA1\")*1,COUNTIF('Entry sheet-2-hin'!$AO$9:$AO$68,\"39KSA1C\")*1))","v":""},{"$f":"IF(B47=\"\",\"\",IF(AND(COUNTIF('Entry sheet-2-hin'!$AO$9:$AO$68,\"39KSA2C\")=0,COUNTIF('Entry sheet-2-hin'!$AO$9:$AO$68,\"39KSA2\")=0),\"\",IF(COUNTIF('Entry sheet-2-hin'!$AO$9:$AO$68,\"39KSA2C\")=0,COUNTIF('Entry sheet-2-hin'!$AO$9:$AO$68,\"39KSA2\"),COUNTIF('Entry sheet-2-hin'!$AO$9:$AO$68,\"39KSA2C\")&\"*\")))","v":""},{"$f":"IF(I47=\"\",\"\",IF(COUNTIF('Entry sheet-2-hin'!$AO$9:$AO$68,\"39KSA2C\")=0,COUNTIF('Entry sheet-2-hin'!$AO$9:$AO$68,\"39KSA2\")*2,COUNTIF('Entry sheet-2-hin'!$AO$9:$AO$68,\"39KSA2C\")*2))","v":""},{"$f":"IF(B47=\"\",\"\",IF(AND(COUNTIF('Entry sheet-2-hin'!$AO$9:$AO$68,\"39KLA1C\")=0,COUNTIF('Entry sheet-2-hin'!$AO$9:$AO$68,\"39KLA1\")=0),\"\",IF(COUNTIF('Entry sheet-2-hin'!$AO$9:$AO$68,\"39KLA1C\")=0,COUNTIF('Entry sheet-2-hin'!$AO$9:$AO$68,\"39KLA1\"),COUNTIF('Entry sheet-2-hin'!$AO$9:$AO$68,\"39KLA1C\")&\"*\")))","v":""},{"$f":"IF(K47=\"\",\"\",IF(COUNTIF('Entry sheet-2-hin'!$AO$9:$AO$68,\"39KLA1C\")=0,COUNTIF('Entry sheet-2-hin'!$AO$9:$AO$68,\"39KLA1\")*3,COUNTIF('Entry sheet-2-hin'!$AO$9:$AO$68,\"39KLA1C\")*3))","v":""},{"$f":"IF(B47=\"\",\"\",IF(AND(COUNTIF('Entry sheet-2-hin'!$AO$9:$AO$68,\"1स्मदीउ४\")=0),\"\",COUNTIF('Entry sheet-2-hin'!$AO$9:$AO$68,\"1स्मदीउ४\")))","v":""},"",{"$f":"IF(B47=\"\",\"\",IF(AND(COUNTIF('Entry sheet-2-hin'!$AO$9:$AO$68,\"1स्मदीउ5\")=0),\"\",COUNTIF('Entry sheet-2-hin'!$AO$9:$AO$68,\"1स्मदीउ5\")))","v":""},{"$f":"IF(O47=\"\",\"\",IF(COUNTIF('Entry sheet-2-hin'!$AO$9:$AO$68,\"1स्मदीउ5C\")=0,COUNTIF('Entry sheet-2-hin'!$AO$9:$AO$68,\"1स्मदीउ5\")*5,COUNTIF('Entry sheet-2-hin'!$AO$9:$AO$68,\"1स्मदीउ5C\")*5))","v":""},{"$f":"IF(B47=\"\",\"\",IF(AND(COUNTIF('Entry sheet-2-hin'!$AO$9:$AO$68,\"39UMCC\")=0,COUNTIF('Entry sheet-2-hin'!$AO$9:$AO$68,\"39UMC\")=0),\"\",IF(COUNTIF('Entry sheet-2-hin'!$AO$9:$AO$68,\"39UMCC\")=0,COUNTIF('Entry sheet-2-hin'!$AO$9:$AO$68,\"39UMC\"),COUNTIF('Entry sheet-2-hin'!$AO$9:$AO$68,\"39UMCC\")&\"*\")))","v":""},"",{"$f":"IF(B47=\"\",\"\",IF(AND(COUNTIF('Entry sheet-2-hin'!$AO$9:$AO$68,\"1समवनि\")=0),\"\",COUNTIF('Entry sheet-2-hin'!$AO$9:$AO$68,\"1समवनि\")))","v":""},"",{"$f":"IF(B47=\"\",\"\",IF(AND(COUNTIF('Entry sheet-2-hin'!$AO$9:$AO$68,\"1समअलउ\")=0),\"\",COUNTIF('Entry sheet-2-hin'!$AO$9:$AO$68,\"1समअलउ\")))","v":""},"",{"$f":"IF(B47=\"\",\"\",IF(AND(COUNTIF('Entry sheet-2-hin'!$AO$9:$AO$68,\"39USA2C\")=0,COUNTIF('Entry sheet-2-hin'!$AO$9:$AO$68,\"39USA2\")=0),\"\",IF(COUNTIF('Entry sheet-2-hin'!$AO$9:$AO$68,\"39USA2C\")=0,COUNTIF('Entry sheet-2-hin'!$AO$9:$AO$68,\"39USA2\"),COUNTIF('Entry sheet-2-hin'!$AO$9:$AO$68,\"39USA2C\")&\"*\")))","v":""},{"$f":"IF(W47=\"\",\"\",IF(COUNTIF('Entry sheet-2-hin'!$AO$9:$AO$68,\"39USA2C\")=0,COUNTIF('Entry sheet-2-hin'!$AO$9:$AO$68,\"39USA2\")*2,COUNTIF('Entry sheet-2-hin'!$AO$9:$AO$68,\"39USA2C\")*2))","v":""},{"$f":"IF(B47=\"\",\"\",IF(AND(COUNTIF('Entry sheet-2-hin'!$AO$9:$AO$68,\"39ULA1C\")=0,COUNTIF('Entry sheet-2-hin'!$AO$9:$AO$68,\"39ULA1\")=0),\"\",IF(COUNTIF('Entry sheet-2-hin'!$AO$9:$AO$68,\"39ULA1C\")=0,COUNTIF('Entry sheet-2-hin'!$AO$9:$AO$68,\"39ULA1\"),COUNTIF('Entry sheet-2-hin'!$AO$9:$AO$68,\"39ULA1C\")&\"*\")))","v":""},{"$f":"IF(Y47=\"\",\"\",IF(COUNTIF('Entry sheet-2-hin'!$AO$9:$AO$68,\"39ULA1C\")=0,COUNTIF('Entry sheet-2-hin'!$AO$9:$AO$68,\"39ULA1\")*3,COUNTIF('Entry sheet-2-hin'!$AO$9:$AO$68,\"39ULA1C\")*3))","v":""},{"$f":"IF(B47=\"\",\"\",IF(AND(COUNTIF('Entry sheet-2-hin'!$AO$9:$AO$68,\"1समदीउ४\")=0),\"\",COUNTIF('Entry sheet-2-hin'!$AO$9:$AO$68,\"1समदीउ४\")))","v":""},"",{"$f":"IF(B47=\"\",\"\",IF(AND(COUNTIF('Entry sheet-2-hin'!$AO$9:$AO$68,\"1समदीउ5\")=0),\"\",COUNTIF('Entry sheet-2-hin'!$AO$9:$AO$68,\"1समदीउ5\")))","v":""},{"$f":"IF(AC47=\"\",\"\",IF(COUNTIF('Entry sheet-2-hin'!$AO$9:$AO$68,\"1समदीउ5C\")=0,COUNTIF('Entry sheet-2-hin'!$AO$9:$AO$68,\"1समदीउ5\")*5,COUNTIF('Entry sheet-2-hin'!$AO$9:$AO$68,\"1समदीउ5C\")*5))","v":""},{"$f":"IF(B47=\"\",\"\",IF(AND(COUNTIF('Entry sheet-2-hin'!$AO$9:$AO$68,\"1अबवि\")=0),\"\",COUNTIF('Entry sheet-2-hin'!$AO$9:$AO$68,\"1अबवि\")))","v":""},{"$f":"IF(AE47=\"\",\"\",IF(COUNTIF('Entry sheet-2-hin'!$AO$9:$AO$68,\"39AMCC\")=0,COUNTIF('Entry sheet-2-hin'!$AO$9:$AO$68,\"39AMC\")*1,COUNTIF('Entry sheet-2-hin'!$AO$9:$AO$68,\"39AMCC\")*1))","v":""},{"$f":"IF(B47=\"\",\"\",IF(AND(COUNTIF('Entry sheet-2-hin'!$AO$9:$AO$68,\"39AOTC\")=0,COUNTIF('Entry sheet-2-hin'!$AO$9:$AO$68,\"39AOT\")=0),\"\",IF(COUNTIF('Entry sheet-2-hin'!$AO$9:$AO$68,\"39AOTC\")=0,COUNTIF('Entry sheet-2-hin'!$AO$9:$AO$68,\"39AOT\"),COUNTIF('Entry sheet-2-hin'!$AO$9:$AO$68,\"39AOTC\")&\"*\")))","v":""},{"$f":"IF(AG47=\"\",\"\",IF(COUNTIF('Entry sheet-2-hin'!$AO$9:$AO$68,\"39AOTC\")=0,COUNTIF('Entry sheet-2-hin'!$AO$9:$AO$68,\"39AOT\")*1,COUNTIF('Entry sheet-2-hin'!$AO$9:$AO$68,\"39AOTC\")*1))","v":""},{"$f":"IF(B47=\"\",\"\",IF(AND(COUNTIF('Entry sheet-2-hin'!$AO$9:$AO$68,\"1अअलउ\")=0),\"\",COUNTIF('Entry sheet-2-hin'!$AO$9:$AO$68,\"1अअलउ\")))","v":""},{"$f":"IF(AI47=\"\",\"\",IF(COUNTIF('Entry sheet-2-hin'!$AO$9:$AO$68,\"39ASA1C\")=0,COUNTIF('Entry sheet-2-hin'!$AO$9:$AO$68,\"39ASA1\")*1,COUNTIF('Entry sheet-2-hin'!$AO$9:$AO$68,\"39ASA1C\")*1))","v":""},{"$f":"IF(B47=\"\",\"\",IF(AND(COUNTIF('Entry sheet-2-hin'!$AO$9:$AO$68,\"39ASA2C\")=0,COUNTIF('Entry sheet-2-hin'!$AO$9:$AO$68,\"39ASA2\")=0),\"\",IF(COUNTIF('Entry sheet-2-hin'!$AO$9:$AO$68,\"39ASA2C\")=0,COUNTIF('Entry sheet-2-hin'!$AO$9:$AO$68,\"39ASA2\"),COUNTIF('Entry sheet-2-hin'!$AO$9:$AO$68,\"39ASA2C\")&\"*\")))","v":""},"",{"$f":"IF(B47=\"\",\"\",IF(AND(COUNTIF('Entry sheet-2-hin'!$AO$9:$AO$68,\"39ALA1C\")=0,COUNTIF('Entry sheet-2-hin'!$AO$9:$AO$68,\"39ALA1\")=0),\"\",IF(COUNTIF('Entry sheet-2-hin'!$AO$9:$AO$68,\"39ALA1C\")=0,COUNTIF('Entry sheet-2-hin'!$AO$9:$AO$68,\"39ALA1\"),COUNTIF('Entry sheet-2-hin'!$AO$9:$AO$68,\"39ALA1C\")&\"*\")))","v":""},"",{"$f":"IF(B47=\"\",\"\",IF(AND(COUNTIF('Entry sheet-2-hin'!$AO$9:$AO$68,\"39ALA2C\")=0,COUNTIF('Entry sheet-2-hin'!$AO$9:$AO$68,\"39ALA2\")=0),\"\",IF(COUNTIF('Entry sheet-2-hin'!$AO$9:$AO$68,\"39ALA2C\")=0,COUNTIF('Entry sheet-2-hin'!$AO$9:$AO$68,\"39ALA2\"),COUNTIF('Entry sheet-2-hin'!$AO$9:$AO$68,\"39ALA2C\")&\"*\")))","v":""},{"$f":"IF(AO47=\"\",\"\",IF(COUNTIF('Entry sheet-2-hin'!$AO$9:$AO$68,\"39ALA2C\")=0,COUNTIF('Entry sheet-2-hin'!$AO$9:$AO$68,\"39ALA2\")*4,COUNTIF('Entry sheet-2-hin'!$AO$9:$AO$68,\"39ALA2C\")*4))","v":""},{"$f":"IF(B47=\"\",\"\",IF(AND(COUNTIF('Entry sheet-2-hin'!$AO$9:$AO$68,\"1अदीउ5\")=0),\"\",COUNTIF('Entry sheet-2-hin'!$AO$9:$AO$68,\"1अदीउ5\")))","v":""},{"$f":"IF(AQ47=\"\",\"\",IF(COUNTIF('Entry sheet-2-hin'!$AO$9:$AO$68,\"1अदीउ5C\")=0,COUNTIF('Entry sheet-2-hin'!$AO$9:$AO$68,\"1अदीउ5\")*5,COUNTIF('Entry sheet-2-hin'!$AO$9:$AO$68,\"1अदीउ5C\")*5))","v":""},{"$f":"IF(B47=\"\",\"\",IF(AND(COUNTIF('Entry sheet-2-hin'!$AO$9:$AO$68,\"1रसबवि\")=0),\"\",COUNTIF('Entry sheet-2-hin'!$AO$9:$AO$68,\"1रसबवि\")))","v":""},{"$f":"IF(AS47=\"\",\"\",IF(COUNTIF('Entry sheet-2-hin'!$AO$9:$AO$68,\"39SMCC\")=0,COUNTIF('Entry sheet-2-hin'!$AO$9:$AO$68,\"39SMC\")*1,COUNTIF('Entry sheet-2-hin'!$AO$9:$AO$68,\"39SMCC\")*1))","v":""},{"$f":"IF(B47=\"\",\"\",IF(AND(COUNTIF('Entry sheet-2-hin'!$AO$9:$AO$68,\"39SOTC\")=0,COUNTIF('Entry sheet-2-hin'!$AO$9:$AO$68,\"39SOT\")=0),\"\",IF(COUNTIF('Entry sheet-2-hin'!$AO$9:$AO$68,\"39SOTC\")=0,COUNTIF('Entry sheet-2-hin'!$AO$9:$AO$68,\"39SOT\"),COUNTIF('Entry sheet-2-hin'!$AO$9:$AO$68,\"39SOTC\")&\"*\")))","v":""},{"$f":"IF(AU47=\"\",\"\",IF(COUNTIF('Entry sheet-2-hin'!$AO$9:$AO$68,\"39SOTC\")=0,COUNTIF('Entry sheet-2-hin'!$AO$9:$AO$68,\"39SOT\")*1,COUNTIF('Entry sheet-2-hin'!$AO$9:$AO$68,\"39SOTC\")*1))","v":""},{"$f":"IF(B47=\"\",\"\",IF(AND(COUNTIF('Entry sheet-2-hin'!$AO$9:$AO$68,\"1रसअलउ\")=0),\"\",COUNTIF('Entry sheet-2-hin'!$AO$9:$AO$68,\"1रसअलउ\")))","v":""},"",{"$f":"IF(B47=\"\",\"\",IF(AND(COUNTIF('Entry sheet-2-hin'!$AO$9:$AO$68,\"1रसलउ२\")=0),\"\",COUNTIF('Entry sheet-2-hin'!$AO$9:$AO$68,\"1रसलउ२\")))","v":""},{"$f":"IF(AY47=\"\",\"\",IF(COUNTIF('Entry sheet-2-hin'!$AO$9:$AO$68,\"39SSA2C\")=0,COUNTIF('Entry sheet-2-hin'!$AO$9:$AO$68,\"39SSA2\")*2,COUNTIF('Entry sheet-2-hin'!$AO$9:$AO$68,\"39SSA2C\")*2))","v":""},{"$f":"IF(B47=\"\",\"\",IF(AND(COUNTIF('Entry sheet-2-hin'!$AO$9:$AO$68,\"39SLA1C\")=0,COUNTIF('Entry sheet-2-hin'!$AO$9:$AO$68,\"39SLA1\")=0),\"\",IF(COUNTIF('Entry sheet-2-hin'!$AO$9:$AO$68,\"39SLA1C\")=0,COUNTIF('Entry sheet-2-hin'!$AO$9:$AO$68,\"39SLA1\"),COUNTIF('Entry sheet-2-hin'!$AO$9:$AO$68,\"39SLA1C\")&\"*\")))","v":""},{"$f":"IF(BA47=\"\",\"\",IF(COUNTIF('Entry sheet-2-hin'!$AO$9:$AO$68,\"39SLA1C\")=0,COUNTIF('Entry sheet-2-hin'!$AO$9:$AO$68,\"39SLA1\")*3,COUNTIF('Entry sheet-2-hin'!$AO$9:$AO$68,\"39SLA1C\")*3))","v":""},{"$f":"IF(B47=\"\",\"\",IF(AND(COUNTIF('Entry sheet-2-hin'!$AO$9:$AO$68,\"39SLA2C\")=0,COUNTIF('Entry sheet-2-hin'!$AO$9:$AO$68,\"39SLA2\")=0),\"\",IF(COUNTIF('Entry sheet-2-hin'!$AO$9:$AO$68,\"39SLA2C\")=0,COUNTIF('Entry sheet-2-hin'!$AO$9:$AO$68,\"39SLA2\"),COUNTIF('Entry sheet-2-hin'!$AO$9:$AO$68,\"39SLA2C\")&\"*\")))","v":""},"",{"$f":"IF(B47=\"\",\"\",IF(AND(COUNTIF('Entry sheet-2-hin'!$AO$9:$AO$68,\"1रसदीउ5\")=0),\"\",COUNTIF('Entry sheet-2-hin'!$AO$9:$AO$68,\"1रसदीउ5\")))","v":""},"","","","","","","","","","","","","","","","",""]
[{"$f":"IF('Entry sheet-1-hin'!A49=\"\",\"\",'Entry sheet-1-hin'!A49)","v":""},{"$f":"IF('Entry sheet-1-hin'!B49=\"\",\"\",'Entry sheet-1-hin'!B49)","v":""},{"$f":"IF(B48=\"\",\"\",IF(AND(COUNTIF('Entry sheet-2-hin'!$AO$9:$AO$68,\"40KMCC\")=0,COUNTIF('Entry sheet-2-hin'!$AO$9:$AO$68,\"40KMC\")=0),\"\",IF(COUNTIF('Entry sheet-2-hin'!$AO$9:$AO$68,\"40KMCC\")=0,COUNTIF('Entry sheet-2-hin'!$AO$9:$AO$68,\"40KMC\"),COUNTIF('Entry sheet-2-hin'!$AO$9:$AO$68,\"40KMCC\")&\"*\")))","v":""},"",{"$f":"IF(B48=\"\",\"\",IF(AND(COUNTIF('Entry sheet-2-hin'!$AO$9:$AO$68,\"40KOTC\")=0,COUNTIF('Entry sheet-2-hin'!$AO$9:$AO$68,\"40KOT\")=0),\"\",IF(COUNTIF('Entry sheet-2-hin'!$AO$9:$AO$68,\"40KOTC\")=0,COUNTIF('Entry sheet-2-hin'!$AO$9:$AO$68,\"40KOT\"),COUNTIF('Entry sheet-2-hin'!$AO$9:$AO$68,\"40KOTC\")&\"*\")))","v":""},"",{"$f":"IF(B48=\"\",\"\",IF(AND(COUNTIF('Entry sheet-2-hin'!$AO$9:$AO$68,\"40KSA1C\")=0,COUNTIF('Entry sheet-2-hin'!$AO$9:$AO$68,\"40KSA1\")=0),\"\",IF(COUNTIF('Entry sheet-2-hin'!$AO$9:$AO$68,\"40KSA1C\")=0,COUNTIF('Entry sheet-2-hin'!$AO$9:$AO$68,\"40KSA1\"),COUNTIF('Entry sheet-2-hin'!$AO$9:$AO$68,\"40KSA1C\")&\"*\")))","v":""},{"$f":"IF(G48=\"\",\"\",IF(COUNTIF('Entry sheet-2-hin'!$AO$9:$AO$68,\"40KSA1C\")=0,COUNTIF('Entry sheet-2-hin'!$AO$9:$AO$68,\"40KSA1\")*1,COUNTIF('Entry sheet-2-hin'!$AO$9:$AO$68,\"40KSA1C\")*1))","v":""},{"$f":"IF(B48=\"\",\"\",IF(AND(COUNTIF('Entry sheet-2-hin'!$AO$9:$AO$68,\"40KSA2C\")=0,COUNTIF('Entry sheet-2-hin'!$AO$9:$AO$68,\"40KSA2\")=0),\"\",IF(COUNTIF('Entry sheet-2-hin'!$AO$9:$AO$68,\"40KSA2C\")=0,COUNTIF('Entry sheet-2-hin'!$AO$9:$AO$68,\"40KSA2\"),COUNTIF('Entry sheet-2-hin'!$AO$9:$AO$68,\"40KSA2C\")&\"*\")))","v":""},{"$f":"IF(I48=\"\",\"\",IF(COUNTIF('Entry sheet-2-hin'!$AO$9:$AO$68,\"40KSA2C\")=0,COUNTIF('Entry sheet-2-hin'!$AO$9:$AO$68,\"40KSA2\")*2,COUNTIF('Entry sheet-2-hin'!$AO$9:$AO$68,\"40KSA2C\")*2))","v":""},{"$f":"IF(B48=\"\",\"\",IF(AND(COUNTIF('Entry sheet-2-hin'!$AO$9:$AO$68,\"40KLA1C\")=0,COUNTIF('Entry sheet-2-hin'!$AO$9:$AO$68,\"40KLA1\")=0),\"\",IF(COUNTIF('Entry sheet-2-hin'!$AO$9:$AO$68,\"40KLA1C\")=0,COUNTIF('Entry sheet-2-hin'!$AO$9:$AO$68,\"40KLA1\"),COUNTIF('Entry sheet-2-hin'!$AO$9:$AO$68,\"40KLA1C\")&\"*\")))","v":""},{"$f":"IF(K48=\"\",\"\",IF(COUNTIF('Entry sheet-2-hin'!$AO$9:$AO$68,\"40KLA1C\")=0,COUNTIF('Entry sheet-2-hin'!$AO$9:$AO$68,\"40KLA1\")*3,COUNTIF('Entry sheet-2-hin'!$AO$9:$AO$68,\"40KLA1C\")*3))","v":""},{"$f":"IF(B48=\"\",\"\",IF(AND(COUNTIF('Entry sheet-2-hin'!$AO$9:$AO$68,\"1स्मदीउ४\")=0),\"\",COUNTIF('Entry sheet-2-hin'!$AO$9:$AO$68,\"1स्मदीउ४\")))","v":""},"",{"$f":"IF(B48=\"\",\"\",IF(AND(COUNTIF('Entry sheet-2-hin'!$AO$9:$AO$68,\"1स्मदीउ5\")=0),\"\",COUNTIF('Entry sheet-2-hin'!$AO$9:$AO$68,\"1स्मदीउ5\")))","v":""},{"$f":"IF(O48=\"\",\"\",IF(COUNTIF('Entry sheet-2-hin'!$AO$9:$AO$68,\"1स्मदीउ5C\")=0,COUNTIF('Entry sheet-2-hin'!$AO$9:$AO$68,\"1स्मदीउ5\")*5,COUNTIF('Entry sheet-2-hin'!$AO$9:$AO$68,\"1स्मदीउ5C\")*5))","v":""},{"$f":"IF(B48=\"\",\"\",IF(AND(COUNTIF('Entry sheet-2-hin'!$AO$9:$AO$68,\"40UMCC\")=0,COUNTIF('Entry sheet-2-hin'!$AO$9:$AO$68,\"40UMC\")=0),\"\",IF(COUNTIF('Entry sheet-2-hin'!$AO$9:$AO$68,\"40UMCC\")=0,COUNTIF('Entry sheet-2-hin'!$AO$9:$AO$68,\"40UMC\"),COUNTIF('Entry sheet-2-hin'!$AO$9:$AO$68,\"40UMCC\")&\"*\")))","v":""},"",{"$f":"IF(B48=\"\",\"\",IF(AND(COUNTIF('Entry sheet-2-hin'!$AO$9:$AO$68,\"1समवनि\")=0),\"\",COUNTIF('Entry sheet-2-hin'!$AO$9:$AO$68,\"1समवनि\")))","v":""},"",{"$f":"IF(B48=\"\",\"\",IF(AND(COUNTIF('Entry sheet-2-hin'!$AO$9:$AO$68,\"1समअलउ\")=0),\"\",COUNTIF('Entry sheet-2-hin'!$AO$9:$AO$68,\"1समअलउ\")))","v":""},"",{"$f":"IF(B48=\"\",\"\",IF(AND(COUNTIF('Entry sheet-2-hin'!$AO$9:$AO$68,\"40USA2C\")=0,COUNTIF('Entry sheet-2-hin'!$AO$9:$AO$68,\"40USA2\")=0),\"\",IF(COUNTIF('Entry sheet-2-hin'!$AO$9:$AO$68,\"40USA2C\")=0,COUNTIF('Entry sheet-2-hin'!$AO$9:$AO$68,\"40USA2\"),COUNTIF('Entry sheet-2-hin'!$AO$9:$AO$68,\"40USA2C\")&\"*\")))","v":""},{"$f":"IF(W48=\"\",\"\",IF(COUNTIF('Entry sheet-2-hin'!$AO$9:$AO$68,\"40USA2C\")=0,COUNTIF('Entry sheet-2-hin'!$AO$9:$AO$68,\"40USA2\")*2,COUNTIF('Entry sheet-2-hin'!$AO$9:$AO$68,\"40USA2C\")*2))","v":""},{"$f":"IF(B48=\"\",\"\",IF(AND(COUNTIF('Entry sheet-2-hin'!$AO$9:$AO$68,\"40ULA1C\")=0,COUNTIF('Entry sheet-2-hin'!$AO$9:$AO$68,\"40ULA1\")=0),\"\",IF(COUNTIF('Entry sheet-2-hin'!$AO$9:$AO$68,\"40ULA1C\")=0,COUNTIF('Entry sheet-2-hin'!$AO$9:$AO$68,\"40ULA1\"),COUNTIF('Entry sheet-2-hin'!$AO$9:$AO$68,\"40ULA1C\")&\"*\")))","v":""},{"$f":"IF(Y48=\"\",\"\",IF(COUNTIF('Entry sheet-2-hin'!$AO$9:$AO$68,\"40ULA1C\")=0,COUNTIF('Entry sheet-2-hin'!$AO$9:$AO$68,\"40ULA1\")*3,COUNTIF('Entry sheet-2-hin'!$AO$9:$AO$68,\"40ULA1C\")*3))","v":""},{"$f":"IF(B48=\"\",\"\",IF(AND(COUNTIF('Entry sheet-2-hin'!$AO$9:$AO$68,\"1समदीउ४\")=0),\"\",COUNTIF('Entry sheet-2-hin'!$AO$9:$AO$68,\"1समदीउ४\")))","v":""},"",{"$f":"IF(B48=\"\",\"\",IF(AND(COUNTIF('Entry sheet-2-hin'!$AO$9:$AO$68,\"1समदीउ5\")=0),\"\",COUNTIF('Entry sheet-2-hin'!$AO$9:$AO$68,\"1समदीउ5\")))","v":""},{"$f":"IF(AC48=\"\",\"\",IF(COUNTIF('Entry sheet-2-hin'!$AO$9:$AO$68,\"1समदीउ5C\")=0,COUNTIF('Entry sheet-2-hin'!$AO$9:$AO$68,\"1समदीउ5\")*5,COUNTIF('Entry sheet-2-hin'!$AO$9:$AO$68,\"1समदीउ5C\")*5))","v":""},{"$f":"IF(B48=\"\",\"\",IF(AND(COUNTIF('Entry sheet-2-hin'!$AO$9:$AO$68,\"1अबवि\")=0),\"\",COUNTIF('Entry sheet-2-hin'!$AO$9:$AO$68,\"1अबवि\")))","v":""},{"$f":"IF(AE48=\"\",\"\",IF(COUNTIF('Entry sheet-2-hin'!$AO$9:$AO$68,\"40AMCC\")=0,COUNTIF('Entry sheet-2-hin'!$AO$9:$AO$68,\"40AMC\")*1,COUNTIF('Entry sheet-2-hin'!$AO$9:$AO$68,\"40AMCC\")*1))","v":""},{"$f":"IF(B48=\"\",\"\",IF(AND(COUNTIF('Entry sheet-2-hin'!$AO$9:$AO$68,\"40AOTC\")=0,COUNTIF('Entry sheet-2-hin'!$AO$9:$AO$68,\"40AOT\")=0),\"\",IF(COUNTIF('Entry sheet-2-hin'!$AO$9:$AO$68,\"40AOTC\")=0,COUNTIF('Entry sheet-2-hin'!$AO$9:$AO$68,\"40AOT\"),COUNTIF('Entry sheet-2-hin'!$AO$9:$AO$68,\"40AOTC\")&\"*\")))","v":""},{"$f":"IF(AG48=\"\",\"\",IF(COUNTIF('Entry sheet-2-hin'!$AO$9:$AO$68,\"40AOTC\")=0,COUNTIF('Entry sheet-2-hin'!$AO$9:$AO$68,\"40AOT\")*1,COUNTIF('Entry sheet-2-hin'!$AO$9:$AO$68,\"40AOTC\")*1))","v":""},{"$f":"IF(B48=\"\",\"\",IF(AND(COUNTIF('Entry sheet-2-hin'!$AO$9:$AO$68,\"1अअलउ\")=0),\"\",COUNTIF('Entry sheet-2-hin'!$AO$9:$AO$68,\"1अअलउ\")))","v":""},{"$f":"IF(AI48=\"\",\"\",IF(COUNTIF('Entry sheet-2-hin'!$AO$9:$AO$68,\"40ASA1C\")=0,COUNTIF('Entry sheet-2-hin'!$AO$9:$AO$68,\"40ASA1\")*1,COUNTIF('Entry sheet-2-hin'!$AO$9:$AO$68,\"40ASA1C\")*1))","v":""},{"$f":"IF(B48=\"\",\"\",IF(AND(COUNTIF('Entry sheet-2-hin'!$AO$9:$AO$68,\"40ASA2C\")=0,COUNTIF('Entry sheet-2-hin'!$AO$9:$AO$68,\"40ASA2\")=0),\"\",IF(COUNTIF('Entry sheet-2-hin'!$AO$9:$AO$68,\"40ASA2C\")=0,COUNTIF('Entry sheet-2-hin'!$AO$9:$AO$68,\"40ASA2\"),COUNTIF('Entry sheet-2-hin'!$AO$9:$AO$68,\"40ASA2C\")&\"*\")))","v":""},"",{"$f":"IF(B48=\"\",\"\",IF(AND(COUNTIF('Entry sheet-2-hin'!$AO$9:$AO$68,\"40ALA1C\")=0,COUNTIF('Entry sheet-2-hin'!$AO$9:$AO$68,\"40ALA1\")=0),\"\",IF(COUNTIF('Entry sheet-2-hin'!$AO$9:$AO$68,\"40ALA1C\")=0,COUNTIF('Entry sheet-2-hin'!$AO$9:$AO$68,\"40ALA1\"),COUNTIF('Entry sheet-2-hin'!$AO$9:$AO$68,\"40ALA1C\")&\"*\")))","v":""},"",{"$f":"IF(B48=\"\",\"\",IF(AND(COUNTIF('Entry sheet-2-hin'!$AO$9:$AO$68,\"40ALA2C\")=0,COUNTIF('Entry sheet-2-hin'!$AO$9:$AO$68,\"40ALA2\")=0),\"\",IF(COUNTIF('Entry sheet-2-hin'!$AO$9:$AO$68,\"40ALA2C\")=0,COUNTIF('Entry sheet-2-hin'!$AO$9:$AO$68,\"40ALA2\"),COUNTIF('Entry sheet-2-hin'!$AO$9:$AO$68,\"40ALA2C\")&\"*\")))","v":""},{"$f":"IF(AO48=\"\",\"\",IF(COUNTIF('Entry sheet-2-hin'!$AO$9:$AO$68,\"40ALA2C\")=0,COUNTIF('Entry sheet-2-hin'!$AO$9:$AO$68,\"40ALA2\")*4,COUNTIF('Entry sheet-2-hin'!$AO$9:$AO$68,\"40ALA2C\")*4))","v":""},{"$f":"IF(B48=\"\",\"\",IF(AND(COUNTIF('Entry sheet-2-hin'!$AO$9:$AO$68,\"1अदीउ5\")=0),\"\",COUNTIF('Entry sheet-2-hin'!$AO$9:$AO$68,\"1अदीउ5\")))","v":""},{"$f":"IF(AQ48=\"\",\"\",IF(COUNTIF('Entry sheet-2-hin'!$AO$9:$AO$68,\"1अदीउ5C\")=0,COUNTIF('Entry sheet-2-hin'!$AO$9:$AO$68,\"1अदीउ5\")*5,COUNTIF('Entry sheet-2-hin'!$AO$9:$AO$68,\"1अदीउ5C\")*5))","v":""},{"$f":"IF(B48=\"\",\"\",IF(AND(COUNTIF('Entry sheet-2-hin'!$AO$9:$AO$68,\"1रसबवि\")=0),\"\",COUNTIF('Entry sheet-2-hin'!$AO$9:$AO$68,\"1रसबवि\")))","v":""},{"$f":"IF(AS48=\"\",\"\",IF(COUNTIF('Entry sheet-2-hin'!$AO$9:$AO$68,\"40SMCC\")=0,COUNTIF('Entry sheet-2-hin'!$AO$9:$AO$68,\"40SMC\")*1,COUNTIF('Entry sheet-2-hin'!$AO$9:$AO$68,\"40SMCC\")*1))","v":""},{"$f":"IF(B48=\"\",\"\",IF(AND(COUNTIF('Entry sheet-2-hin'!$AO$9:$AO$68,\"40SOTC\")=0,COUNTIF('Entry sheet-2-hin'!$AO$9:$AO$68,\"40SOT\")=0),\"\",IF(COUNTIF('Entry sheet-2-hin'!$AO$9:$AO$68,\"40SOTC\")=0,COUNTIF('Entry sheet-2-hin'!$AO$9:$AO$68,\"40SOT\"),COUNTIF('Entry sheet-2-hin'!$AO$9:$AO$68,\"40SOTC\")&\"*\")))","v":""},{"$f":"IF(AU48=\"\",\"\",IF(COUNTIF('Entry sheet-2-hin'!$AO$9:$AO$68,\"40SOTC\")=0,COUNTIF('Entry sheet-2-hin'!$AO$9:$AO$68,\"40SOT\")*1,COUNTIF('Entry sheet-2-hin'!$AO$9:$AO$68,\"40SOTC\")*1))","v":""},{"$f":"IF(B48=\"\",\"\",IF(AND(COUNTIF('Entry sheet-2-hin'!$AO$9:$AO$68,\"1रसअलउ\")=0),\"\",COUNTIF('Entry sheet-2-hin'!$AO$9:$AO$68,\"1रसअलउ\")))","v":""},"",{"$f":"IF(B48=\"\",\"\",IF(AND(COUNTIF('Entry sheet-2-hin'!$AO$9:$AO$68,\"1रसलउ२\")=0),\"\",COUNTIF('Entry sheet-2-hin'!$AO$9:$AO$68,\"1रसलउ२\")))","v":""},{"$f":"IF(AY48=\"\",\"\",IF(COUNTIF('Entry sheet-2-hin'!$AO$9:$AO$68,\"40SSA2C\")=0,COUNTIF('Entry sheet-2-hin'!$AO$9:$AO$68,\"40SSA2\")*2,COUNTIF('Entry sheet-2-hin'!$AO$9:$AO$68,\"40SSA2C\")*2))","v":""},{"$f":"IF(B48=\"\",\"\",IF(AND(COUNTIF('Entry sheet-2-hin'!$AO$9:$AO$68,\"40SLA1C\")=0,COUNTIF('Entry sheet-2-hin'!$AO$9:$AO$68,\"40SLA1\")=0),\"\",IF(COUNTIF('Entry sheet-2-hin'!$AO$9:$AO$68,\"40SLA1C\")=0,COUNTIF('Entry sheet-2-hin'!$AO$9:$AO$68,\"40SLA1\"),COUNTIF('Entry sheet-2-hin'!$AO$9:$AO$68,\"40SLA1C\")&\"*\")))","v":""},{"$f":"IF(BA48=\"\",\"\",IF(COUNTIF('Entry sheet-2-hin'!$AO$9:$AO$68,\"40SLA1C\")=0,COUNTIF('Entry sheet-2-hin'!$AO$9:$AO$68,\"40SLA1\")*3,COUNTIF('Entry sheet-2-hin'!$AO$9:$AO$68,\"40SLA1C\")*3))","v":""},{"$f":"IF(B48=\"\",\"\",IF(AND(COUNTIF('Entry sheet-2-hin'!$AO$9:$AO$68,\"40SLA2C\")=0,COUNTIF('Entry sheet-2-hin'!$AO$9:$AO$68,\"40SLA2\")=0),\"\",IF(COUNTIF('Entry sheet-2-hin'!$AO$9:$AO$68,\"40SLA2C\")=0,COUNTIF('Entry sheet-2-hin'!$AO$9:$AO$68,\"40SLA2\"),COUNTIF('Entry sheet-2-hin'!$AO$9:$AO$68,\"40SLA2C\")&\"*\")))","v":""},"",{"$f":"IF(B48=\"\",\"\",IF(AND(COUNTIF('Entry sheet-2-hin'!$AO$9:$AO$68,\"1रसदीउ5\")=0),\"\",COUNTIF('Entry sheet-2-hin'!$AO$9:$AO$68,\"1रसदीउ5\")))","v":""},"","","","","","","","","","","","","","","","",""]
[{"$f":"IF('Entry sheet-1-hin'!A50=\"\",\"\",'Entry sheet-1-hin'!A50)","v":""},{"$f":"IF('Entry sheet-1-hin'!B50=\"\",\"\",'Entry sheet-1-hin'!B50)","v":""},{"$f":"IF(B49=\"\",\"\",IF(AND(COUNTIF('Entry sheet-2-hin'!$AO$9:$AO$68,\"41KMCC\")=0,COUNTIF('Entry sheet-2-hin'!$AO$9:$AO$68,\"41KMC\")=0),\"\",IF(COUNTIF('Entry sheet-2-hin'!$AO$9:$AO$68,\"41KMCC\")=0,COUNTIF('Entry sheet-2-hin'!$AO$9:$AO$68,\"41KMC\"),COUNTIF('Entry sheet-2-hin'!$AO$9:$AO$68,\"41KMCC\")&\"*\")))","v":""},"",{"$f":"IF(B49=\"\",\"\",IF(AND(COUNTIF('Entry sheet-2-hin'!$AO$9:$AO$68,\"41KOTC\")=0,COUNTIF('Entry sheet-2-hin'!$AO$9:$AO$68,\"41KOT\")=0),\"\",IF(COUNTIF('Entry sheet-2-hin'!$AO$9:$AO$68,\"41KOTC\")=0,COUNTIF('Entry sheet-2-hin'!$AO$9:$AO$68,\"41KOT\"),COUNTIF('Entry sheet-2-hin'!$AO$9:$AO$68,\"41KOTC\")&\"*\")))","v":""},"",{"$f":"IF(B49=\"\",\"\",IF(AND(COUNTIF('Entry sheet-2-hin'!$AO$9:$AO$68,\"41KSA1C\")=0,COUNTIF('Entry sheet-2-hin'!$AO$9:$AO$68,\"41KSA1\")=0),\"\",IF(COUNTIF('Entry sheet-2-hin'!$AO$9:$AO$68,\"41KSA1C\")=0,COUNTIF('Entry sheet-2-hin'!$AO$9:$AO$68,\"41KSA1\"),COUNTIF('Entry sheet-2-hin'!$AO$9:$AO$68,\"41KSA1C\")&\"*\")))","v":""},{"$f":"IF(G49=\"\",\"\",IF(COUNTIF('Entry sheet-2-hin'!$AO$9:$AO$68,\"41KSA1C\")=0,COUNTIF('Entry sheet-2-hin'!$AO$9:$AO$68,\"41KSA1\")*1,COUNTIF('Entry sheet-2-hin'!$AO$9:$AO$68,\"41KSA1C\")*1))","v":""},{"$f":"IF(B49=\"\",\"\",IF(AND(COUNTIF('Entry sheet-2-hin'!$AO$9:$AO$68,\"41KSA2C\")=0,COUNTIF('Entry sheet-2-hin'!$AO$9:$AO$68,\"41KSA2\")=0),\"\",IF(COUNTIF('Entry sheet-2-hin'!$AO$9:$AO$68,\"41KSA2C\")=0,COUNTIF('Entry sheet-2-hin'!$AO$9:$AO$68,\"41KSA2\"),COUNTIF('Entry sheet-2-hin'!$AO$9:$AO$68,\"41KSA2C\")&\"*\")))","v":""},{"$f":"IF(I49=\"\",\"\",IF(COUNTIF('Entry sheet-2-hin'!$AO$9:$AO$68,\"41KSA2C\")=0,COUNTIF('Entry sheet-2-hin'!$AO$9:$AO$68,\"41KSA2\")*2,COUNTIF('Entry sheet-2-hin'!$AO$9:$AO$68,\"41KSA2C\")*2))","v":""},{"$f":"IF(B49=\"\",\"\",IF(AND(COUNTIF('Entry sheet-2-hin'!$AO$9:$AO$68,\"41KLA1C\")=0,COUNTIF('Entry sheet-2-hin'!$AO$9:$AO$68,\"41KLA1\")=0),\"\",IF(COUNTIF('Entry sheet-2-hin'!$AO$9:$AO$68,\"41KLA1C\")=0,COUNTIF('Entry sheet-2-hin'!$AO$9:$AO$68,\"41KLA1\"),COUNTIF('Entry sheet-2-hin'!$AO$9:$AO$68,\"41KLA1C\")&\"*\")))","v":""},{"$f":"IF(K49=\"\",\"\",IF(COUNTIF('Entry sheet-2-hin'!$AO$9:$AO$68,\"41KLA1C\")=0,COUNTIF('Entry sheet-2-hin'!$AO$9:$AO$68,\"41KLA1\")*3,COUNTIF('Entry sheet-2-hin'!$AO$9:$AO$68,\"41KLA1C\")*3))","v":""},{"$f":"IF(B49=\"\",\"\",IF(AND(COUNTIF('Entry sheet-2-hin'!$AO$9:$AO$68,\"1स्मदीउ४\")=0),\"\",COUNTIF('Entry sheet-2-hin'!$AO$9:$AO$68,\"1स्मदीउ४\")))","v":""},"",{"$f":"IF(B49=\"\",\"\",IF(AND(COUNTIF('Entry sheet-2-hin'!$AO$9:$AO$68,\"1स्मदीउ5\")=0),\"\",COUNTIF('Entry sheet-2-hin'!$AO$9:$AO$68,\"1स्मदीउ5\")))","v":""},{"$f":"IF(O49=\"\",\"\",IF(COUNTIF('Entry sheet-2-hin'!$AO$9:$AO$68,\"1स्मदीउ5C\")=0,COUNTIF('Entry sheet-2-hin'!$AO$9:$AO$68,\"1स्मदीउ5\")*5,COUNTIF('Entry sheet-2-hin'!$AO$9:$AO$68,\"1स्मदीउ5C\")*5))","v":""},{"$f":"IF(B49=\"\",\"\",IF(AND(COUNTIF('Entry sheet-2-hin'!$AO$9:$AO$68,\"41UMCC\")=0,COUNTIF('Entry sheet-2-hin'!$AO$9:$AO$68,\"41UMC\")=0),\"\",IF(COUNTIF('Entry sheet-2-hin'!$AO$9:$AO$68,\"41UMCC\")=0,COUNTIF('Entry sheet-2-hin'!$AO$9:$AO$68,\"41UMC\"),COUNTIF('Entry sheet-2-hin'!$AO$9:$AO$68,\"41UMCC\")&\"*\")))","v":""},"",{"$f":"IF(B49=\"\",\"\",IF(AND(COUNTIF('Entry sheet-2-hin'!$AO$9:$AO$68,\"1समवनि\")=0),\"\",COUNTIF('Entry sheet-2-hin'!$AO$9:$AO$68,\"1समवनि\")))","v":""},"",{"$f":"IF(B49=\"\",\"\",IF(AND(COUNTIF('Entry sheet-2-hin'!$AO$9:$AO$68,\"1समअलउ\")=0),\"\",COUNTIF('Entry sheet-2-hin'!$AO$9:$AO$68,\"1समअलउ\")))","v":""},"",{"$f":"IF(B49=\"\",\"\",IF(AND(COUNTIF('Entry sheet-2-hin'!$AO$9:$AO$68,\"41USA2C\")=0,COUNTIF('Entry sheet-2-hin'!$AO$9:$AO$68,\"41USA2\")=0),\"\",IF(COUNTIF('Entry sheet-2-hin'!$AO$9:$AO$68,\"41USA2C\")=0,COUNTIF('Entry sheet-2-hin'!$AO$9:$AO$68,\"41USA2\"),COUNTIF('Entry sheet-2-hin'!$AO$9:$AO$68,\"41USA2C\")&\"*\")))","v":""},{"$f":"IF(W49=\"\",\"\",IF(COUNTIF('Entry sheet-2-hin'!$AO$9:$AO$68,\"41USA2C\")=0,COUNTIF('Entry sheet-2-hin'!$AO$9:$AO$68,\"41USA2\")*2,COUNTIF('Entry sheet-2-hin'!$AO$9:$AO$68,\"41USA2C\")*2))","v":""},{"$f":"IF(B49=\"\",\"\",IF(AND(COUNTIF('Entry sheet-2-hin'!$AO$9:$AO$68,\"41ULA1C\")=0,COUNTIF('Entry sheet-2-hin'!$AO$9:$AO$68,\"41ULA1\")=0),\"\",IF(COUNTIF('Entry sheet-2-hin'!$AO$9:$AO$68,\"41ULA1C\")=0,COUNTIF('Entry sheet-2-hin'!$AO$9:$AO$68,\"41ULA1\"),COUNTIF('Entry sheet-2-hin'!$AO$9:$AO$68,\"41ULA1C\")&\"*\")))","v":""},{"$f":"IF(Y49=\"\",\"\",IF(COUNTIF('Entry sheet-2-hin'!$AO$9:$AO$68,\"41ULA1C\")=0,COUNTIF('Entry sheet-2-hin'!$AO$9:$AO$68,\"41ULA1\")*3,COUNTIF('Entry sheet-2-hin'!$AO$9:$AO$68,\"41ULA1C\")*3))","v":""},{"$f":"IF(B49=\"\",\"\",IF(AND(COUNTIF('Entry sheet-2-hin'!$AO$9:$AO$68,\"1समदीउ४\")=0),\"\",COUNTIF('Entry sheet-2-hin'!$AO$9:$AO$68,\"1समदीउ४\")))","v":""},"",{"$f":"IF(B49=\"\",\"\",IF(AND(COUNTIF('Entry sheet-2-hin'!$AO$9:$AO$68,\"1समदीउ5\")=0),\"\",COUNTIF('Entry sheet-2-hin'!$AO$9:$AO$68,\"1समदीउ5\")))","v":""},{"$f":"IF(AC49=\"\",\"\",IF(COUNTIF('Entry sheet-2-hin'!$AO$9:$AO$68,\"1समदीउ5C\")=0,COUNTIF('Entry sheet-2-hin'!$AO$9:$AO$68,\"1समदीउ5\")*5,COUNTIF('Entry sheet-2-hin'!$AO$9:$AO$68,\"1समदीउ5C\")*5))","v":""},{"$f":"IF(B49=\"\",\"\",IF(AND(COUNTIF('Entry sheet-2-hin'!$AO$9:$AO$68,\"1अबवि\")=0),\"\",COUNTIF('Entry sheet-2-hin'!$AO$9:$AO$68,\"1अबवि\")))","v":""},{"$f":"IF(AE49=\"\",\"\",IF(COUNTIF('Entry sheet-2-hin'!$AO$9:$AO$68,\"41AMCC\")=0,COUNTIF('Entry sheet-2-hin'!$AO$9:$AO$68,\"41AMC\")*1,COUNTIF('Entry sheet-2-hin'!$AO$9:$AO$68,\"41AMCC\")*1))","v":""},{"$f":"IF(B49=\"\",\"\",IF(AND(COUNTIF('Entry sheet-2-hin'!$AO$9:$AO$68,\"41AOTC\")=0,COUNTIF('Entry sheet-2-hin'!$AO$9:$AO$68,\"41AOT\")=0),\"\",IF(COUNTIF('Entry sheet-2-hin'!$AO$9:$AO$68,\"41AOTC\")=0,COUNTIF('Entry sheet-2-hin'!$AO$9:$AO$68,\"41AOT\"),COUNTIF('Entry sheet-2-hin'!$AO$9:$AO$68,\"41AOTC\")&\"*\")))","v":""},{"$f":"IF(AG49=\"\",\"\",IF(COUNTIF('Entry sheet-2-hin'!$AO$9:$AO$68,\"41AOTC\")=0,COUNTIF('Entry sheet-2-hin'!$AO$9:$AO$68,\"41AOT\")*1,COUNTIF('Entry sheet-2-hin'!$AO$9:$AO$68,\"41AOTC\")*1))","v":""},{"$f":"IF(B49=\"\",\"\",IF(AND(COUNTIF('Entry sheet-2-hin'!$AO$9:$AO$68,\"1अअलउ\")=0),\"\",COUNTIF('Entry sheet-2-hin'!$AO$9:$AO$68,\"1अअलउ\")))","v":""},{"$f":"IF(AI49=\"\",\"\",IF(COUNTIF('Entry sheet-2-hin'!$AO$9:$AO$68,\"41ASA1C\")=0,COUNTIF('Entry sheet-2-hin'!$AO$9:$AO$68,\"41ASA1\")*1,COUNTIF('Entry sheet-2-hin'!$AO$9:$AO$68,\"41ASA1C\")*1))","v":""},{"$f":"IF(B49=\"\",\"\",IF(AND(COUNTIF('Entry sheet-2-hin'!$AO$9:$AO$68,\"41ASA2C\")=0,COUNTIF('Entry sheet-2-hin'!$AO$9:$AO$68,\"41ASA2\")=0),\"\",IF(COUNTIF('Entry sheet-2-hin'!$AO$9:$AO$68,\"41ASA2C\")=0,COUNTIF('Entry sheet-2-hin'!$AO$9:$AO$68,\"41ASA2\"),COUNTIF('Entry sheet-2-hin'!$AO$9:$AO$68,\"41ASA2C\")&\"*\")))","v":""},"",{"$f":"IF(B49=\"\",\"\",IF(AND(COUNTIF('Entry sheet-2-hin'!$AO$9:$AO$68,\"41ALA1C\")=0,COUNTIF('Entry sheet-2-hin'!$AO$9:$AO$68,\"41ALA1\")=0),\"\",IF(COUNTIF('Entry sheet-2-hin'!$AO$9:$AO$68,\"41ALA1C\")=0,COUNTIF('Entry sheet-2-hin'!$AO$9:$AO$68,\"41ALA1\"),COUNTIF('Entry sheet-2-hin'!$AO$9:$AO$68,\"41ALA1C\")&\"*\")))","v":""},"",{"$f":"IF(B49=\"\",\"\",IF(AND(COUNTIF('Entry sheet-2-hin'!$AO$9:$AO$68,\"41ALA2C\")=0,COUNTIF('Entry sheet-2-hin'!$AO$9:$AO$68,\"41ALA2\")=0),\"\",IF(COUNTIF('Entry sheet-2-hin'!$AO$9:$AO$68,\"41ALA2C\")=0,COUNTIF('Entry sheet-2-hin'!$AO$9:$AO$68,\"41ALA2\"),COUNTIF('Entry sheet-2-hin'!$AO$9:$AO$68,\"41ALA2C\")&\"*\")))","v":""},{"$f":"IF(AO49=\"\",\"\",IF(COUNTIF('Entry sheet-2-hin'!$AO$9:$AO$68,\"41ALA2C\")=0,COUNTIF('Entry sheet-2-hin'!$AO$9:$AO$68,\"41ALA2\")*4,COUNTIF('Entry sheet-2-hin'!$AO$9:$AO$68,\"41ALA2C\")*4))","v":""},{"$f":"IF(B49=\"\",\"\",IF(AND(COUNTIF('Entry sheet-2-hin'!$AO$9:$AO$68,\"1अदीउ5\")=0),\"\",COUNTIF('Entry sheet-2-hin'!$AO$9:$AO$68,\"1अदीउ5\")))","v":""},{"$f":"IF(AQ49=\"\",\"\",IF(COUNTIF('Entry sheet-2-hin'!$AO$9:$AO$68,\"1अदीउ5C\")=0,COUNTIF('Entry sheet-2-hin'!$AO$9:$AO$68,\"1अदीउ5\")*5,COUNTIF('Entry sheet-2-hin'!$AO$9:$AO$68,\"1अदीउ5C\")*5))","v":""},{"$f":"IF(B49=\"\",\"\",IF(AND(COUNTIF('Entry sheet-2-hin'!$AO$9:$AO$68,\"1रसबवि\")=0),\"\",COUNTIF('Entry sheet-2-hin'!$AO$9:$AO$68,\"1रसबवि\")))","v":""},{"$f":"IF(AS49=\"\",\"\",IF(COUNTIF('Entry sheet-2-hin'!$AO$9:$AO$68,\"41SMCC\")=0,COUNTIF('Entry sheet-2-hin'!$AO$9:$AO$68,\"41SMC\")*1,COUNTIF('Entry sheet-2-hin'!$AO$9:$AO$68,\"41SMCC\")*1))","v":""},{"$f":"IF(B49=\"\",\"\",IF(AND(COUNTIF('Entry sheet-2-hin'!$AO$9:$AO$68,\"41SOTC\")=0,COUNTIF('Entry sheet-2-hin'!$AO$9:$AO$68,\"41SOT\")=0),\"\",IF(COUNTIF('Entry sheet-2-hin'!$AO$9:$AO$68,\"41SOTC\")=0,COUNTIF('Entry sheet-2-hin'!$AO$9:$AO$68,\"41SOT\"),COUNTIF('Entry sheet-2-hin'!$AO$9:$AO$68,\"41SOTC\")&\"*\")))","v":""},{"$f":"IF(AU49=\"\",\"\",IF(COUNTIF('Entry sheet-2-hin'!$AO$9:$AO$68,\"41SOTC\")=0,COUNTIF('Entry sheet-2-hin'!$AO$9:$AO$68,\"41SOT\")*1,COUNTIF('Entry sheet-2-hin'!$AO$9:$AO$68,\"41SOTC\")*1))","v":""},{"$f":"IF(B49=\"\",\"\",IF(AND(COUNTIF('Entry sheet-2-hin'!$AO$9:$AO$68,\"1रसअलउ\")=0),\"\",COUNTIF('Entry sheet-2-hin'!$AO$9:$AO$68,\"1रसअलउ\")))","v":""},"",{"$f":"IF(B49=\"\",\"\",IF(AND(COUNTIF('Entry sheet-2-hin'!$AO$9:$AO$68,\"1रसलउ२\")=0),\"\",COUNTIF('Entry sheet-2-hin'!$AO$9:$AO$68,\"1रसलउ२\")))","v":""},{"$f":"IF(AY49=\"\",\"\",IF(COUNTIF('Entry sheet-2-hin'!$AO$9:$AO$68,\"41SSA2C\")=0,COUNTIF('Entry sheet-2-hin'!$AO$9:$AO$68,\"41SSA2\")*2,COUNTIF('Entry sheet-2-hin'!$AO$9:$AO$68,\"41SSA2C\")*2))","v":""},{"$f":"IF(B49=\"\",\"\",IF(AND(COUNTIF('Entry sheet-2-hin'!$AO$9:$AO$68,\"41SLA1C\")=0,COUNTIF('Entry sheet-2-hin'!$AO$9:$AO$68,\"41SLA1\")=0),\"\",IF(COUNTIF('Entry sheet-2-hin'!$AO$9:$AO$68,\"41SLA1C\")=0,COUNTIF('Entry sheet-2-hin'!$AO$9:$AO$68,\"41SLA1\"),COUNTIF('Entry sheet-2-hin'!$AO$9:$AO$68,\"41SLA1C\")&\"*\")))","v":""},{"$f":"IF(BA49=\"\",\"\",IF(COUNTIF('Entry sheet-2-hin'!$AO$9:$AO$68,\"41SLA1C\")=0,COUNTIF('Entry sheet-2-hin'!$AO$9:$AO$68,\"41SLA1\")*3,COUNTIF('Entry sheet-2-hin'!$AO$9:$AO$68,\"41SLA1C\")*3))","v":""},{"$f":"IF(B49=\"\",\"\",IF(AND(COUNTIF('Entry sheet-2-hin'!$AO$9:$AO$68,\"41SLA2C\")=0,COUNTIF('Entry sheet-2-hin'!$AO$9:$AO$68,\"41SLA2\")=0),\"\",IF(COUNTIF('Entry sheet-2-hin'!$AO$9:$AO$68,\"41SLA2C\")=0,COUNTIF('Entry sheet-2-hin'!$AO$9:$AO$68,\"41SLA2\"),COUNTIF('Entry sheet-2-hin'!$AO$9:$AO$68,\"41SLA2C\")&\"*\")))","v":""},"",{"$f":"IF(B49=\"\",\"\",IF(AND(COUNTIF('Entry sheet-2-hin'!$AO$9:$AO$68,\"1रसदीउ5\")=0),\"\",COUNTIF('Entry sheet-2-hin'!$AO$9:$AO$68,\"1रसदीउ5\")))","v":""},"","","","","","","","","","","","","","","","",""]
[{"$f":"IF('Entry sheet-1-hin'!A51=\"\",\"\",'Entry sheet-1-hin'!A51)","v":""},{"$f":"IF('Entry sheet-1-hin'!B51=\"\",\"\",'Entry sheet-1-hin'!B51)","v":""},{"$f":"IF(B50=\"\",\"\",IF(AND(COUNTIF('Entry sheet-2-hin'!$AO$9:$AO$68,\"42KMCC\")=0,COUNTIF('Entry sheet-2-hin'!$AO$9:$AO$68,\"42KMC\")=0),\"\",IF(COUNTIF('Entry sheet-2-hin'!$AO$9:$AO$68,\"42KMCC\")=0,COUNTIF('Entry sheet-2-hin'!$AO$9:$AO$68,\"42KMC\"),COUNTIF('Entry sheet-2-hin'!$AO$9:$AO$68,\"42KMCC\")&\"*\")))","v":""},"",{"$f":"IF(B50=\"\",\"\",IF(AND(COUNTIF('Entry sheet-2-hin'!$AO$9:$AO$68,\"42KOTC\")=0,COUNTIF('Entry sheet-2-hin'!$AO$9:$AO$68,\"42KOT\")=0),\"\",IF(COUNTIF('Entry sheet-2-hin'!$AO$9:$AO$68,\"42KOTC\")=0,COUNTIF('Entry sheet-2-hin'!$AO$9:$AO$68,\"42KOT\"),COUNTIF('Entry sheet-2-hin'!$AO$9:$AO$68,\"42KOTC\")&\"*\")))","v":""},"",{"$f":"IF(B50=\"\",\"\",IF(AND(COUNTIF('Entry sheet-2-hin'!$AO$9:$AO$68,\"42KSA1C\")=0,COUNTIF('Entry sheet-2-hin'!$AO$9:$AO$68,\"42KSA1\")=0),\"\",IF(COUNTIF('Entry sheet-2-hin'!$AO$9:$AO$68,\"42KSA1C\")=0,COUNTIF('Entry sheet-2-hin'!$AO$9:$AO$68,\"42KSA1\"),COUNTIF('Entry sheet-2-hin'!$AO$9:$AO$68,\"42KSA1C\")&\"*\")))","v":""},{"$f":"IF(G50=\"\",\"\",IF(COUNTIF('Entry sheet-2-hin'!$AO$9:$AO$68,\"42KSA1C\")=0,COUNTIF('Entry sheet-2-hin'!$AO$9:$AO$68,\"42KSA1\")*1,COUNTIF('Entry sheet-2-hin'!$AO$9:$AO$68,\"42KSA1C\")*1))","v":""},{"$f":"IF(B50=\"\",\"\",IF(AND(COUNTIF('Entry sheet-2-hin'!$AO$9:$AO$68,\"42KSA2C\")=0,COUNTIF('Entry sheet-2-hin'!$AO$9:$AO$68,\"42KSA2\")=0),\"\",IF(COUNTIF('Entry sheet-2-hin'!$AO$9:$AO$68,\"42KSA2C\")=0,COUNTIF('Entry sheet-2-hin'!$AO$9:$AO$68,\"42KSA2\"),COUNTIF('Entry sheet-2-hin'!$AO$9:$AO$68,\"42KSA2C\")&\"*\")))","v":""},{"$f":"IF(I50=\"\",\"\",IF(COUNTIF('Entry sheet-2-hin'!$AO$9:$AO$68,\"42KSA2C\")=0,COUNTIF('Entry sheet-2-hin'!$AO$9:$AO$68,\"42KSA2\")*2,COUNTIF('Entry sheet-2-hin'!$AO$9:$AO$68,\"42KSA2C\")*2))","v":""},{"$f":"IF(B50=\"\",\"\",IF(AND(COUNTIF('Entry sheet-2-hin'!$AO$9:$AO$68,\"42KLA1C\")=0,COUNTIF('Entry sheet-2-hin'!$AO$9:$AO$68,\"42KLA1\")=0),\"\",IF(COUNTIF('Entry sheet-2-hin'!$AO$9:$AO$68,\"42KLA1C\")=0,COUNTIF('Entry sheet-2-hin'!$AO$9:$AO$68,\"42KLA1\"),COUNTIF('Entry sheet-2-hin'!$AO$9:$AO$68,\"42KLA1C\")&\"*\")))","v":""},{"$f":"IF(K50=\"\",\"\",IF(COUNTIF('Entry sheet-2-hin'!$AO$9:$AO$68,\"42KLA1C\")=0,COUNTIF('Entry sheet-2-hin'!$AO$9:$AO$68,\"42KLA1\")*3,COUNTIF('Entry sheet-2-hin'!$AO$9:$AO$68,\"42KLA1C\")*3))","v":""},{"$f":"IF(B50=\"\",\"\",IF(AND(COUNTIF('Entry sheet-2-hin'!$AO$9:$AO$68,\"1स्मदीउ४\")=0),\"\",COUNTIF('Entry sheet-2-hin'!$AO$9:$AO$68,\"1स्मदीउ४\")))","v":""},"",{"$f":"IF(B50=\"\",\"\",IF(AND(COUNTIF('Entry sheet-2-hin'!$AO$9:$AO$68,\"1स्मदीउ5\")=0),\"\",COUNTIF('Entry sheet-2-hin'!$AO$9:$AO$68,\"1स्मदीउ5\")))","v":""},{"$f":"IF(O50=\"\",\"\",IF(COUNTIF('Entry sheet-2-hin'!$AO$9:$AO$68,\"1स्मदीउ5C\")=0,COUNTIF('Entry sheet-2-hin'!$AO$9:$AO$68,\"1स्मदीउ5\")*5,COUNTIF('Entry sheet-2-hin'!$AO$9:$AO$68,\"1स्मदीउ5C\")*5))","v":""},{"$f":"IF(B50=\"\",\"\",IF(AND(COUNTIF('Entry sheet-2-hin'!$AO$9:$AO$68,\"42UMCC\")=0,COUNTIF('Entry sheet-2-hin'!$AO$9:$AO$68,\"42UMC\")=0),\"\",IF(COUNTIF('Entry sheet-2-hin'!$AO$9:$AO$68,\"42UMCC\")=0,COUNTIF('Entry sheet-2-hin'!$AO$9:$AO$68,\"42UMC\"),COUNTIF('Entry sheet-2-hin'!$AO$9:$AO$68,\"42UMCC\")&\"*\")))","v":""},"",{"$f":"IF(B50=\"\",\"\",IF(AND(COUNTIF('Entry sheet-2-hin'!$AO$9:$AO$68,\"1समवनि\")=0),\"\",COUNTIF('Entry sheet-2-hin'!$AO$9:$AO$68,\"1समवनि\")))","v":""},"",{"$f":"IF(B50=\"\",\"\",IF(AND(COUNTIF('Entry sheet-2-hin'!$AO$9:$AO$68,\"1समअलउ\")=0),\"\",COUNTIF('Entry sheet-2-hin'!$AO$9:$AO$68,\"1समअलउ\")))","v":""},"",{"$f":"IF(B50=\"\",\"\",IF(AND(COUNTIF('Entry sheet-2-hin'!$AO$9:$AO$68,\"42USA2C\")=0,COUNTIF('Entry sheet-2-hin'!$AO$9:$AO$68,\"42USA2\")=0),\"\",IF(COUNTIF('Entry sheet-2-hin'!$AO$9:$AO$68,\"42USA2C\")=0,COUNTIF('Entry sheet-2-hin'!$AO$9:$AO$68,\"42USA2\"),COUNTIF('Entry sheet-2-hin'!$AO$9:$AO$68,\"42USA2C\")&\"*\")))","v":""},{"$f":"IF(W50=\"\",\"\",IF(COUNTIF('Entry sheet-2-hin'!$AO$9:$AO$68,\"42USA2C\")=0,COUNTIF('Entry sheet-2-hin'!$AO$9:$AO$68,\"42USA2\")*2,COUNTIF('Entry sheet-2-hin'!$AO$9:$AO$68,\"42USA2C\")*2))","v":""},{"$f":"IF(B50=\"\",\"\",IF(AND(COUNTIF('Entry sheet-2-hin'!$AO$9:$AO$68,\"42ULA1C\")=0,COUNTIF('Entry sheet-2-hin'!$AO$9:$AO$68,\"42ULA1\")=0),\"\",IF(COUNTIF('Entry sheet-2-hin'!$AO$9:$AO$68,\"42ULA1C\")=0,COUNTIF('Entry sheet-2-hin'!$AO$9:$AO$68,\"42ULA1\"),COUNTIF('Entry sheet-2-hin'!$AO$9:$AO$68,\"42ULA1C\")&\"*\")))","v":""},{"$f":"IF(Y50=\"\",\"\",IF(COUNTIF('Entry sheet-2-hin'!$AO$9:$AO$68,\"42ULA1C\")=0,COUNTIF('Entry sheet-2-hin'!$AO$9:$AO$68,\"42ULA1\")*3,COUNTIF('Entry sheet-2-hin'!$AO$9:$AO$68,\"42ULA1C\")*3))","v":""},{"$f":"IF(B50=\"\",\"\",IF(AND(COUNTIF('Entry sheet-2-hin'!$AO$9:$AO$68,\"1समदीउ४\")=0),\"\",COUNTIF('Entry sheet-2-hin'!$AO$9:$AO$68,\"1समदीउ४\")))","v":""},"",{"$f":"IF(B50=\"\",\"\",IF(AND(COUNTIF('Entry sheet-2-hin'!$AO$9:$AO$68,\"1समदीउ5\")=0),\"\",COUNTIF('Entry sheet-2-hin'!$AO$9:$AO$68,\"1समदीउ5\")))","v":""},{"$f":"IF(AC50=\"\",\"\",IF(COUNTIF('Entry sheet-2-hin'!$AO$9:$AO$68,\"1समदीउ5C\")=0,COUNTIF('Entry sheet-2-hin'!$AO$9:$AO$68,\"1समदीउ5\")*5,COUNTIF('Entry sheet-2-hin'!$AO$9:$AO$68,\"1समदीउ5C\")*5))","v":""},{"$f":"IF(B50=\"\",\"\",IF(AND(COUNTIF('Entry sheet-2-hin'!$AO$9:$AO$68,\"1अबवि\")=0),\"\",COUNTIF('Entry sheet-2-hin'!$AO$9:$AO$68,\"1अबवि\")))","v":""},{"$f":"IF(AE50=\"\",\"\",IF(COUNTIF('Entry sheet-2-hin'!$AO$9:$AO$68,\"42AMCC\")=0,COUNTIF('Entry sheet-2-hin'!$AO$9:$AO$68,\"42AMC\")*1,COUNTIF('Entry sheet-2-hin'!$AO$9:$AO$68,\"42AMCC\")*1))","v":""},{"$f":"IF(B50=\"\",\"\",IF(AND(COUNTIF('Entry sheet-2-hin'!$AO$9:$AO$68,\"42AOTC\")=0,COUNTIF('Entry sheet-2-hin'!$AO$9:$AO$68,\"42AOT\")=0),\"\",IF(COUNTIF('Entry sheet-2-hin'!$AO$9:$AO$68,\"42AOTC\")=0,COUNTIF('Entry sheet-2-hin'!$AO$9:$AO$68,\"42AOT\"),COUNTIF('Entry sheet-2-hin'!$AO$9:$AO$68,\"42AOTC\")&\"*\")))","v":""},{"$f":"IF(AG50=\"\",\"\",IF(COUNTIF('Entry sheet-2-hin'!$AO$9:$AO$68,\"42AOTC\")=0,COUNTIF('Entry sheet-2-hin'!$AO$9:$AO$68,\"42AOT\")*1,COUNTIF('Entry sheet-2-hin'!$AO$9:$AO$68,\"42AOTC\")*1))","v":""},{"$f":"IF(B50=\"\",\"\",IF(AND(COUNTIF('Entry sheet-2-hin'!$AO$9:$AO$68,\"1अअलउ\")=0),\"\",COUNTIF('Entry sheet-2-hin'!$AO$9:$AO$68,\"1अअलउ\")))","v":""},{"$f":"IF(AI50=\"\",\"\",IF(COUNTIF('Entry sheet-2-hin'!$AO$9:$AO$68,\"42ASA1C\")=0,COUNTIF('Entry sheet-2-hin'!$AO$9:$AO$68,\"42ASA1\")*1,COUNTIF('Entry sheet-2-hin'!$AO$9:$AO$68,\"42ASA1C\")*1))","v":""},{"$f":"IF(B50=\"\",\"\",IF(AND(COUNTIF('Entry sheet-2-hin'!$AO$9:$AO$68,\"42ASA2C\")=0,COUNTIF('Entry sheet-2-hin'!$AO$9:$AO$68,\"42ASA2\")=0),\"\",IF(COUNTIF('Entry sheet-2-hin'!$AO$9:$AO$68,\"42ASA2C\")=0,COUNTIF('Entry sheet-2-hin'!$AO$9:$AO$68,\"42ASA2\"),COUNTIF('Entry sheet-2-hin'!$AO$9:$AO$68,\"42ASA2C\")&\"*\")))","v":""},"",{"$f":"IF(B50=\"\",\"\",IF(AND(COUNTIF('Entry sheet-2-hin'!$AO$9:$AO$68,\"42ALA1C\")=0,COUNTIF('Entry sheet-2-hin'!$AO$9:$AO$68,\"42ALA1\")=0),\"\",IF(COUNTIF('Entry sheet-2-hin'!$AO$9:$AO$68,\"42ALA1C\")=0,COUNTIF('Entry sheet-2-hin'!$AO$9:$AO$68,\"42ALA1\"),COUNTIF('Entry sheet-2-hin'!$AO$9:$AO$68,\"42ALA1C\")&\"*\")))","v":""},"",{"$f":"IF(B50=\"\",\"\",IF(AND(COUNTIF('Entry sheet-2-hin'!$AO$9:$AO$68,\"42ALA2C\")=0,COUNTIF('Entry sheet-2-hin'!$AO$9:$AO$68,\"42ALA2\")=0),\"\",IF(COUNTIF('Entry sheet-2-hin'!$AO$9:$AO$68,\"42ALA2C\")=0,COUNTIF('Entry sheet-2-hin'!$AO$9:$AO$68,\"42ALA2\"),COUNTIF('Entry sheet-2-hin'!$AO$9:$AO$68,\"42ALA2C\")&\"*\")))","v":""},{"$f":"IF(AO50=\"\",\"\",IF(COUNTIF('Entry sheet-2-hin'!$AO$9:$AO$68,\"42ALA2C\")=0,COUNTIF('Entry sheet-2-hin'!$AO$9:$AO$68,\"42ALA2\")*4,COUNTIF('Entry sheet-2-hin'!$AO$9:$AO$68,\"42ALA2C\")*4))","v":""},{"$f":"IF(B50=\"\",\"\",IF(AND(COUNTIF('Entry sheet-2-hin'!$AO$9:$AO$68,\"1अदीउ5\")=0),\"\",COUNTIF('Entry sheet-2-hin'!$AO$9:$AO$68,\"1अदीउ5\")))","v":""},{"$f":"IF(AQ50=\"\",\"\",IF(COUNTIF('Entry sheet-2-hin'!$AO$9:$AO$68,\"1अदीउ5C\")=0,COUNTIF('Entry sheet-2-hin'!$AO$9:$AO$68,\"1अदीउ5\")*5,COUNTIF('Entry sheet-2-hin'!$AO$9:$AO$68,\"1अदीउ5C\")*5))","v":""},{"$f":"IF(B50=\"\",\"\",IF(AND(COUNTIF('Entry sheet-2-hin'!$AO$9:$AO$68,\"1रसबवि\")=0),\"\",COUNTIF('Entry sheet-2-hin'!$AO$9:$AO$68,\"1रसबवि\")))","v":""},{"$f":"IF(AS50=\"\",\"\",IF(COUNTIF('Entry sheet-2-hin'!$AO$9:$AO$68,\"42SMCC\")=0,COUNTIF('Entry sheet-2-hin'!$AO$9:$AO$68,\"42SMC\")*1,COUNTIF('Entry sheet-2-hin'!$AO$9:$AO$68,\"42SMCC\")*1))","v":""},{"$f":"IF(B50=\"\",\"\",IF(AND(COUNTIF('Entry sheet-2-hin'!$AO$9:$AO$68,\"42SOTC\")=0,COUNTIF('Entry sheet-2-hin'!$AO$9:$AO$68,\"42SOT\")=0),\"\",IF(COUNTIF('Entry sheet-2-hin'!$AO$9:$AO$68,\"42SOTC\")=0,COUNTIF('Entry sheet-2-hin'!$AO$9:$AO$68,\"42SOT\"),COUNTIF('Entry sheet-2-hin'!$AO$9:$AO$68,\"42SOTC\")&\"*\")))","v":""},{"$f":"IF(AU50=\"\",\"\",IF(COUNTIF('Entry sheet-2-hin'!$AO$9:$AO$68,\"42SOTC\")=0,COUNTIF('Entry sheet-2-hin'!$AO$9:$AO$68,\"42SOT\")*1,COUNTIF('Entry sheet-2-hin'!$AO$9:$AO$68,\"42SOTC\")*1))","v":""},{"$f":"IF(B50=\"\",\"\",IF(AND(COUNTIF('Entry sheet-2-hin'!$AO$9:$AO$68,\"1रसअलउ\")=0),\"\",COUNTIF('Entry sheet-2-hin'!$AO$9:$AO$68,\"1रसअलउ\")))","v":""},"",{"$f":"IF(B50=\"\",\"\",IF(AND(COUNTIF('Entry sheet-2-hin'!$AO$9:$AO$68,\"1रसलउ२\")=0),\"\",COUNTIF('Entry sheet-2-hin'!$AO$9:$AO$68,\"1रसलउ२\")))","v":""},{"$f":"IF(AY50=\"\",\"\",IF(COUNTIF('Entry sheet-2-hin'!$AO$9:$AO$68,\"42SSA2C\")=0,COUNTIF('Entry sheet-2-hin'!$AO$9:$AO$68,\"42SSA2\")*2,COUNTIF('Entry sheet-2-hin'!$AO$9:$AO$68,\"42SSA2C\")*2))","v":""},{"$f":"IF(B50=\"\",\"\",IF(AND(COUNTIF('Entry sheet-2-hin'!$AO$9:$AO$68,\"42SLA1C\")=0,COUNTIF('Entry sheet-2-hin'!$AO$9:$AO$68,\"42SLA1\")=0),\"\",IF(COUNTIF('Entry sheet-2-hin'!$AO$9:$AO$68,\"42SLA1C\")=0,COUNTIF('Entry sheet-2-hin'!$AO$9:$AO$68,\"42SLA1\"),COUNTIF('Entry sheet-2-hin'!$AO$9:$AO$68,\"42SLA1C\")&\"*\")))","v":""},{"$f":"IF(BA50=\"\",\"\",IF(COUNTIF('Entry sheet-2-hin'!$AO$9:$AO$68,\"42SLA1C\")=0,COUNTIF('Entry sheet-2-hin'!$AO$9:$AO$68,\"42SLA1\")*3,COUNTIF('Entry sheet-2-hin'!$AO$9:$AO$68,\"42SLA1C\")*3))","v":""},{"$f":"IF(B50=\"\",\"\",IF(AND(COUNTIF('Entry sheet-2-hin'!$AO$9:$AO$68,\"42SLA2C\")=0,COUNTIF('Entry sheet-2-hin'!$AO$9:$AO$68,\"42SLA2\")=0),\"\",IF(COUNTIF('Entry sheet-2-hin'!$AO$9:$AO$68,\"42SLA2C\")=0,COUNTIF('Entry sheet-2-hin'!$AO$9:$AO$68,\"42SLA2\"),COUNTIF('Entry sheet-2-hin'!$AO$9:$AO$68,\"42SLA2C\")&\"*\")))","v":""},"",{"$f":"IF(B50=\"\",\"\",IF(AND(COUNTIF('Entry sheet-2-hin'!$AO$9:$AO$68,\"1रसदीउ5\")=0),\"\",COUNTIF('Entry sheet-2-hin'!$AO$9:$AO$68,\"1रसदीउ5\")))","v":""},"","","","","","","","","","","","","","","","",""]
[{"$f":"IF('Entry sheet-1-hin'!A52=\"\",\"\",'Entry sheet-1-hin'!A52)","v":""},{"$f":"IF('Entry sheet-1-hin'!B52=\"\",\"\",'Entry sheet-1-hin'!B52)","v":""},{"$f":"IF(B51=\"\",\"\",IF(AND(COUNTIF('Entry sheet-2-hin'!$AO$9:$AO$68,\"43KMCC\")=0,COUNTIF('Entry sheet-2-hin'!$AO$9:$AO$68,\"43KMC\")=0),\"\",IF(COUNTIF('Entry sheet-2-hin'!$AO$9:$AO$68,\"43KMCC\")=0,COUNTIF('Entry sheet-2-hin'!$AO$9:$AO$68,\"43KMC\"),COUNTIF('Entry sheet-2-hin'!$AO$9:$AO$68,\"43KMCC\")&\"*\")))","v":""},"",{"$f":"IF(B51=\"\",\"\",IF(AND(COUNTIF('Entry sheet-2-hin'!$AO$9:$AO$68,\"43KOTC\")=0,COUNTIF('Entry sheet-2-hin'!$AO$9:$AO$68,\"43KOT\")=0),\"\",IF(COUNTIF('Entry sheet-2-hin'!$AO$9:$AO$68,\"43KOTC\")=0,COUNTIF('Entry sheet-2-hin'!$AO$9:$AO$68,\"43KOT\"),COUNTIF('Entry sheet-2-hin'!$AO$9:$AO$68,\"43KOTC\")&\"*\")))","v":""},"",{"$f":"IF(B51=\"\",\"\",IF(AND(COUNTIF('Entry sheet-2-hin'!$AO$9:$AO$68,\"43KSA1C\")=0,COUNTIF('Entry sheet-2-hin'!$AO$9:$AO$68,\"43KSA1\")=0),\"\",IF(COUNTIF('Entry sheet-2-hin'!$AO$9:$AO$68,\"43KSA1C\")=0,COUNTIF('Entry sheet-2-hin'!$AO$9:$AO$68,\"43KSA1\"),COUNTIF('Entry sheet-2-hin'!$AO$9:$AO$68,\"43KSA1C\")&\"*\")))","v":""},{"$f":"IF(G51=\"\",\"\",IF(COUNTIF('Entry sheet-2-hin'!$AO$9:$AO$68,\"43KSA1C\")=0,COUNTIF('Entry sheet-2-hin'!$AO$9:$AO$68,\"43KSA1\")*1,COUNTIF('Entry sheet-2-hin'!$AO$9:$AO$68,\"43KSA1C\")*1))","v":""},{"$f":"IF(B51=\"\",\"\",IF(AND(COUNTIF('Entry sheet-2-hin'!$AO$9:$AO$68,\"43KSA2C\")=0,COUNTIF('Entry sheet-2-hin'!$AO$9:$AO$68,\"43KSA2\")=0),\"\",IF(COUNTIF('Entry sheet-2-hin'!$AO$9:$AO$68,\"43KSA2C\")=0,COUNTIF('Entry sheet-2-hin'!$AO$9:$AO$68,\"43KSA2\"),COUNTIF('Entry sheet-2-hin'!$AO$9:$AO$68,\"43KSA2C\")&\"*\")))","v":""},{"$f":"IF(I51=\"\",\"\",IF(COUNTIF('Entry sheet-2-hin'!$AO$9:$AO$68,\"43KSA2C\")=0,COUNTIF('Entry sheet-2-hin'!$AO$9:$AO$68,\"43KSA2\")*2,COUNTIF('Entry sheet-2-hin'!$AO$9:$AO$68,\"43KSA2C\")*2))","v":""},{"$f":"IF(B51=\"\",\"\",IF(AND(COUNTIF('Entry sheet-2-hin'!$AO$9:$AO$68,\"43KLA1C\")=0,COUNTIF('Entry sheet-2-hin'!$AO$9:$AO$68,\"43KLA1\")=0),\"\",IF(COUNTIF('Entry sheet-2-hin'!$AO$9:$AO$68,\"43KLA1C\")=0,COUNTIF('Entry sheet-2-hin'!$AO$9:$AO$68,\"43KLA1\"),COUNTIF('Entry sheet-2-hin'!$AO$9:$AO$68,\"43KLA1C\")&\"*\")))","v":""},{"$f":"IF(K51=\"\",\"\",IF(COUNTIF('Entry sheet-2-hin'!$AO$9:$AO$68,\"43KLA1C\")=0,COUNTIF('Entry sheet-2-hin'!$AO$9:$AO$68,\"43KLA1\")*3,COUNTIF('Entry sheet-2-hin'!$AO$9:$AO$68,\"43KLA1C\")*3))","v":""},{"$f":"IF(B51=\"\",\"\",IF(AND(COUNTIF('Entry sheet-2-hin'!$AO$9:$AO$68,\"1स्मदीउ४\")=0),\"\",COUNTIF('Entry sheet-2-hin'!$AO$9:$AO$68,\"1स्मदीउ४\")))","v":""},"",{"$f":"IF(B51=\"\",\"\",IF(AND(COUNTIF('Entry sheet-2-hin'!$AO$9:$AO$68,\"1स्मदीउ5\")=0),\"\",COUNTIF('Entry sheet-2-hin'!$AO$9:$AO$68,\"1स्मदीउ5\")))","v":""},{"$f":"IF(O51=\"\",\"\",IF(COUNTIF('Entry sheet-2-hin'!$AO$9:$AO$68,\"1स्मदीउ5C\")=0,COUNTIF('Entry sheet-2-hin'!$AO$9:$AO$68,\"1स्मदीउ5\")*5,COUNTIF('Entry sheet-2-hin'!$AO$9:$AO$68,\"1स्मदीउ5C\")*5))","v":""},{"$f":"IF(B51=\"\",\"\",IF(AND(COUNTIF('Entry sheet-2-hin'!$AO$9:$AO$68,\"43UMCC\")=0,COUNTIF('Entry sheet-2-hin'!$AO$9:$AO$68,\"43UMC\")=0),\"\",IF(COUNTIF('Entry sheet-2-hin'!$AO$9:$AO$68,\"43UMCC\")=0,COUNTIF('Entry sheet-2-hin'!$AO$9:$AO$68,\"43UMC\"),COUNTIF('Entry sheet-2-hin'!$AO$9:$AO$68,\"43UMCC\")&\"*\")))","v":""},"",{"$f":"IF(B51=\"\",\"\",IF(AND(COUNTIF('Entry sheet-2-hin'!$AO$9:$AO$68,\"1समवनि\")=0),\"\",COUNTIF('Entry sheet-2-hin'!$AO$9:$AO$68,\"1समवनि\")))","v":""},"",{"$f":"IF(B51=\"\",\"\",IF(AND(COUNTIF('Entry sheet-2-hin'!$AO$9:$AO$68,\"1समअलउ\")=0),\"\",COUNTIF('Entry sheet-2-hin'!$AO$9:$AO$68,\"1समअलउ\")))","v":""},"",{"$f":"IF(B51=\"\",\"\",IF(AND(COUNTIF('Entry sheet-2-hin'!$AO$9:$AO$68,\"43USA2C\")=0,COUNTIF('Entry sheet-2-hin'!$AO$9:$AO$68,\"43USA2\")=0),\"\",IF(COUNTIF('Entry sheet-2-hin'!$AO$9:$AO$68,\"43USA2C\")=0,COUNTIF('Entry sheet-2-hin'!$AO$9:$AO$68,\"43USA2\"),COUNTIF('Entry sheet-2-hin'!$AO$9:$AO$68,\"43USA2C\")&\"*\")))","v":""},{"$f":"IF(W51=\"\",\"\",IF(COUNTIF('Entry sheet-2-hin'!$AO$9:$AO$68,\"43USA2C\")=0,COUNTIF('Entry sheet-2-hin'!$AO$9:$AO$68,\"43USA2\")*2,COUNTIF('Entry sheet-2-hin'!$AO$9:$AO$68,\"43USA2C\")*2))","v":""},{"$f":"IF(B51=\"\",\"\",IF(AND(COUNTIF('Entry sheet-2-hin'!$AO$9:$AO$68,\"43ULA1C\")=0,COUNTIF('Entry sheet-2-hin'!$AO$9:$AO$68,\"43ULA1\")=0),\"\",IF(COUNTIF('Entry sheet-2-hin'!$AO$9:$AO$68,\"43ULA1C\")=0,COUNTIF('Entry sheet-2-hin'!$AO$9:$AO$68,\"43ULA1\"),COUNTIF('Entry sheet-2-hin'!$AO$9:$AO$68,\"43ULA1C\")&\"*\")))","v":""},{"$f":"IF(Y51=\"\",\"\",IF(COUNTIF('Entry sheet-2-hin'!$AO$9:$AO$68,\"43ULA1C\")=0,COUNTIF('Entry sheet-2-hin'!$AO$9:$AO$68,\"43ULA1\")*3,COUNTIF('Entry sheet-2-hin'!$AO$9:$AO$68,\"43ULA1C\")*3))","v":""},{"$f":"IF(B51=\"\",\"\",IF(AND(COUNTIF('Entry sheet-2-hin'!$AO$9:$AO$68,\"1समदीउ४\")=0),\"\",COUNTIF('Entry sheet-2-hin'!$AO$9:$AO$68,\"1समदीउ४\")))","v":""},"",{"$f":"IF(B51=\"\",\"\",IF(AND(COUNTIF('Entry sheet-2-hin'!$AO$9:$AO$68,\"1समदीउ5\")=0),\"\",COUNTIF('Entry sheet-2-hin'!$AO$9:$AO$68,\"1समदीउ5\")))","v":""},{"$f":"IF(AC51=\"\",\"\",IF(COUNTIF('Entry sheet-2-hin'!$AO$9:$AO$68,\"1समदीउ5C\")=0,COUNTIF('Entry sheet-2-hin'!$AO$9:$AO$68,\"1समदीउ5\")*5,COUNTIF('Entry sheet-2-hin'!$AO$9:$AO$68,\"1समदीउ5C\")*5))","v":""},{"$f":"IF(B51=\"\",\"\",IF(AND(COUNTIF('Entry sheet-2-hin'!$AO$9:$AO$68,\"1अबवि\")=0),\"\",COUNTIF('Entry sheet-2-hin'!$AO$9:$AO$68,\"1अबवि\")))","v":""},{"$f":"IF(AE51=\"\",\"\",IF(COUNTIF('Entry sheet-2-hin'!$AO$9:$AO$68,\"43AMCC\")=0,COUNTIF('Entry sheet-2-hin'!$AO$9:$AO$68,\"43AMC\")*1,COUNTIF('Entry sheet-2-hin'!$AO$9:$AO$68,\"43AMCC\")*1))","v":""},{"$f":"IF(B51=\"\",\"\",IF(AND(COUNTIF('Entry sheet-2-hin'!$AO$9:$AO$68,\"43AOTC\")=0,COUNTIF('Entry sheet-2-hin'!$AO$9:$AO$68,\"43AOT\")=0),\"\",IF(COUNTIF('Entry sheet-2-hin'!$AO$9:$AO$68,\"43AOTC\")=0,COUNTIF('Entry sheet-2-hin'!$AO$9:$AO$68,\"43AOT\"),COUNTIF('Entry sheet-2-hin'!$AO$9:$AO$68,\"43AOTC\")&\"*\")))","v":""},{"$f":"IF(AG51=\"\",\"\",IF(COUNTIF('Entry sheet-2-hin'!$AO$9:$AO$68,\"43AOTC\")=0,COUNTIF('Entry sheet-2-hin'!$AO$9:$AO$68,\"43AOT\")*1,COUNTIF('Entry sheet-2-hin'!$AO$9:$AO$68,\"43AOTC\")*1))","v":""},{"$f":"IF(B51=\"\",\"\",IF(AND(COUNTIF('Entry sheet-2-hin'!$AO$9:$AO$68,\"1अअलउ\")=0),\"\",COUNTIF('Entry sheet-2-hin'!$AO$9:$AO$68,\"1अअलउ\")))","v":""},{"$f":"IF(AI51=\"\",\"\",IF(COUNTIF('Entry sheet-2-hin'!$AO$9:$AO$68,\"43ASA1C\")=0,COUNTIF('Entry sheet-2-hin'!$AO$9:$AO$68,\"43ASA1\")*1,COUNTIF('Entry sheet-2-hin'!$AO$9:$AO$68,\"43ASA1C\")*1))","v":""},{"$f":"IF(B51=\"\",\"\",IF(AND(COUNTIF('Entry sheet-2-hin'!$AO$9:$AO$68,\"43ASA2C\")=0,COUNTIF('Entry sheet-2-hin'!$AO$9:$AO$68,\"43ASA2\")=0),\"\",IF(COUNTIF('Entry sheet-2-hin'!$AO$9:$AO$68,\"43ASA2C\")=0,COUNTIF('Entry sheet-2-hin'!$AO$9:$AO$68,\"43ASA2\"),COUNTIF('Entry sheet-2-hin'!$AO$9:$AO$68,\"43ASA2C\")&\"*\")))","v":""},"",{"$f":"IF(B51=\"\",\"\",IF(AND(COUNTIF('Entry sheet-2-hin'!$AO$9:$AO$68,\"43ALA1C\")=0,COUNTIF('Entry sheet-2-hin'!$AO$9:$AO$68,\"43ALA1\")=0),\"\",IF(COUNTIF('Entry sheet-2-hin'!$AO$9:$AO$68,\"43ALA1C\")=0,COUNTIF('Entry sheet-2-hin'!$AO$9:$AO$68,\"43ALA1\"),COUNTIF('Entry sheet-2-hin'!$AO$9:$AO$68,\"43ALA1C\")&\"*\")))","v":""},"",{"$f":"IF(B51=\"\",\"\",IF(AND(COUNTIF('Entry sheet-2-hin'!$AO$9:$AO$68,\"43ALA2C\")=0,COUNTIF('Entry sheet-2-hin'!$AO$9:$AO$68,\"43ALA2\")=0),\"\",IF(COUNTIF('Entry sheet-2-hin'!$AO$9:$AO$68,\"43ALA2C\")=0,COUNTIF('Entry sheet-2-hin'!$AO$9:$AO$68,\"43ALA2\"),COUNTIF('Entry sheet-2-hin'!$AO$9:$AO$68,\"43ALA2C\")&\"*\")))","v":""},{"$f":"IF(AO51=\"\",\"\",IF(COUNTIF('Entry sheet-2-hin'!$AO$9:$AO$68,\"43ALA2C\")=0,COUNTIF('Entry sheet-2-hin'!$AO$9:$AO$68,\"43ALA2\")*4,COUNTIF('Entry sheet-2-hin'!$AO$9:$AO$68,\"43ALA2C\")*4))","v":""},{"$f":"IF(B51=\"\",\"\",IF(AND(COUNTIF('Entry sheet-2-hin'!$AO$9:$AO$68,\"1अदीउ5\")=0),\"\",COUNTIF('Entry sheet-2-hin'!$AO$9:$AO$68,\"1अदीउ5\")))","v":""},{"$f":"IF(AQ51=\"\",\"\",IF(COUNTIF('Entry sheet-2-hin'!$AO$9:$AO$68,\"1अदीउ5C\")=0,COUNTIF('Entry sheet-2-hin'!$AO$9:$AO$68,\"1अदीउ5\")*5,COUNTIF('Entry sheet-2-hin'!$AO$9:$AO$68,\"1अदीउ5C\")*5))","v":""},{"$f":"IF(B51=\"\",\"\",IF(AND(COUNTIF('Entry sheet-2-hin'!$AO$9:$AO$68,\"1रसबवि\")=0),\"\",COUNTIF('Entry sheet-2-hin'!$AO$9:$AO$68,\"1रसबवि\")))","v":""},{"$f":"IF(AS51=\"\",\"\",IF(COUNTIF('Entry sheet-2-hin'!$AO$9:$AO$68,\"43SMCC\")=0,COUNTIF('Entry sheet-2-hin'!$AO$9:$AO$68,\"43SMC\")*1,COUNTIF('Entry sheet-2-hin'!$AO$9:$AO$68,\"43SMCC\")*1))","v":""},{"$f":"IF(B51=\"\",\"\",IF(AND(COUNTIF('Entry sheet-2-hin'!$AO$9:$AO$68,\"43SOTC\")=0,COUNTIF('Entry sheet-2-hin'!$AO$9:$AO$68,\"43SOT\")=0),\"\",IF(COUNTIF('Entry sheet-2-hin'!$AO$9:$AO$68,\"43SOTC\")=0,COUNTIF('Entry sheet-2-hin'!$AO$9:$AO$68,\"43SOT\"),COUNTIF('Entry sheet-2-hin'!$AO$9:$AO$68,\"43SOTC\")&\"*\")))","v":""},{"$f":"IF(AU51=\"\",\"\",IF(COUNTIF('Entry sheet-2-hin'!$AO$9:$AO$68,\"43SOTC\")=0,COUNTIF('Entry sheet-2-hin'!$AO$9:$AO$68,\"43SOT\")*1,COUNTIF('Entry sheet-2-hin'!$AO$9:$AO$68,\"43SOTC\")*1))","v":""},{"$f":"IF(B51=\"\",\"\",IF(AND(COUNTIF('Entry sheet-2-hin'!$AO$9:$AO$68,\"1रसअलउ\")=0),\"\",COUNTIF('Entry sheet-2-hin'!$AO$9:$AO$68,\"1रसअलउ\")))","v":""},"",{"$f":"IF(B51=\"\",\"\",IF(AND(COUNTIF('Entry sheet-2-hin'!$AO$9:$AO$68,\"1रसलउ२\")=0),\"\",COUNTIF('Entry sheet-2-hin'!$AO$9:$AO$68,\"1रसलउ२\")))","v":""},{"$f":"IF(AY51=\"\",\"\",IF(COUNTIF('Entry sheet-2-hin'!$AO$9:$AO$68,\"43SSA2C\")=0,COUNTIF('Entry sheet-2-hin'!$AO$9:$AO$68,\"43SSA2\")*2,COUNTIF('Entry sheet-2-hin'!$AO$9:$AO$68,\"43SSA2C\")*2))","v":""},{"$f":"IF(B51=\"\",\"\",IF(AND(COUNTIF('Entry sheet-2-hin'!$AO$9:$AO$68,\"43SLA1C\")=0,COUNTIF('Entry sheet-2-hin'!$AO$9:$AO$68,\"43SLA1\")=0),\"\",IF(COUNTIF('Entry sheet-2-hin'!$AO$9:$AO$68,\"43SLA1C\")=0,COUNTIF('Entry sheet-2-hin'!$AO$9:$AO$68,\"43SLA1\"),COUNTIF('Entry sheet-2-hin'!$AO$9:$AO$68,\"43SLA1C\")&\"*\")))","v":""},{"$f":"IF(BA51=\"\",\"\",IF(COUNTIF('Entry sheet-2-hin'!$AO$9:$AO$68,\"43SLA1C\")=0,COUNTIF('Entry sheet-2-hin'!$AO$9:$AO$68,\"43SLA1\")*3,COUNTIF('Entry sheet-2-hin'!$AO$9:$AO$68,\"43SLA1C\")*3))","v":""},{"$f":"IF(B51=\"\",\"\",IF(AND(COUNTIF('Entry sheet-2-hin'!$AO$9:$AO$68,\"43SLA2C\")=0,COUNTIF('Entry sheet-2-hin'!$AO$9:$AO$68,\"43SLA2\")=0),\"\",IF(COUNTIF('Entry sheet-2-hin'!$AO$9:$AO$68,\"43SLA2C\")=0,COUNTIF('Entry sheet-2-hin'!$AO$9:$AO$68,\"43SLA2\"),COUNTIF('Entry sheet-2-hin'!$AO$9:$AO$68,\"43SLA2C\")&\"*\")))","v":""},"",{"$f":"IF(B51=\"\",\"\",IF(AND(COUNTIF('Entry sheet-2-hin'!$AO$9:$AO$68,\"1रसदीउ5\")=0),\"\",COUNTIF('Entry sheet-2-hin'!$AO$9:$AO$68,\"1रसदीउ5\")))","v":""},"","","","","","","","","","","","","","","","",""]
[{"$f":"IF('Entry sheet-1-hin'!A53=\"\",\"\",'Entry sheet-1-hin'!A53)","v":""},{"$f":"IF('Entry sheet-1-hin'!B53=\"\",\"\",'Entry sheet-1-hin'!B53)","v":""},{"$f":"IF(B52=\"\",\"\",IF(AND(COUNTIF('Entry sheet-2-hin'!$AO$9:$AO$68,\"44KMCC\")=0,COUNTIF('Entry sheet-2-hin'!$AO$9:$AO$68,\"44KMC\")=0),\"\",IF(COUNTIF('Entry sheet-2-hin'!$AO$9:$AO$68,\"44KMCC\")=0,COUNTIF('Entry sheet-2-hin'!$AO$9:$AO$68,\"44KMC\"),COUNTIF('Entry sheet-2-hin'!$AO$9:$AO$68,\"44KMCC\")&\"*\")))","v":""},"",{"$f":"IF(B52=\"\",\"\",IF(AND(COUNTIF('Entry sheet-2-hin'!$AO$9:$AO$68,\"44KOTC\")=0,COUNTIF('Entry sheet-2-hin'!$AO$9:$AO$68,\"44KOT\")=0),\"\",IF(COUNTIF('Entry sheet-2-hin'!$AO$9:$AO$68,\"44KOTC\")=0,COUNTIF('Entry sheet-2-hin'!$AO$9:$AO$68,\"44KOT\"),COUNTIF('Entry sheet-2-hin'!$AO$9:$AO$68,\"44KOTC\")&\"*\")))","v":""},"",{"$f":"IF(B52=\"\",\"\",IF(AND(COUNTIF('Entry sheet-2-hin'!$AO$9:$AO$68,\"44KSA1C\")=0,COUNTIF('Entry sheet-2-hin'!$AO$9:$AO$68,\"44KSA1\")=0),\"\",IF(COUNTIF('Entry sheet-2-hin'!$AO$9:$AO$68,\"44KSA1C\")=0,COUNTIF('Entry sheet-2-hin'!$AO$9:$AO$68,\"44KSA1\"),COUNTIF('Entry sheet-2-hin'!$AO$9:$AO$68,\"44KSA1C\")&\"*\")))","v":""},{"$f":"IF(G52=\"\",\"\",IF(COUNTIF('Entry sheet-2-hin'!$AO$9:$AO$68,\"44KSA1C\")=0,COUNTIF('Entry sheet-2-hin'!$AO$9:$AO$68,\"44KSA1\")*1,COUNTIF('Entry sheet-2-hin'!$AO$9:$AO$68,\"44KSA1C\")*1))","v":""},{"$f":"IF(B52=\"\",\"\",IF(AND(COUNTIF('Entry sheet-2-hin'!$AO$9:$AO$68,\"44KSA2C\")=0,COUNTIF('Entry sheet-2-hin'!$AO$9:$AO$68,\"44KSA2\")=0),\"\",IF(COUNTIF('Entry sheet-2-hin'!$AO$9:$AO$68,\"44KSA2C\")=0,COUNTIF('Entry sheet-2-hin'!$AO$9:$AO$68,\"44KSA2\"),COUNTIF('Entry sheet-2-hin'!$AO$9:$AO$68,\"44KSA2C\")&\"*\")))","v":""},{"$f":"IF(I52=\"\",\"\",IF(COUNTIF('Entry sheet-2-hin'!$AO$9:$AO$68,\"44KSA2C\")=0,COUNTIF('Entry sheet-2-hin'!$AO$9:$AO$68,\"44KSA2\")*2,COUNTIF('Entry sheet-2-hin'!$AO$9:$AO$68,\"44KSA2C\")*2))","v":""},{"$f":"IF(B52=\"\",\"\",IF(AND(COUNTIF('Entry sheet-2-hin'!$AO$9:$AO$68,\"44KLA1C\")=0,COUNTIF('Entry sheet-2-hin'!$AO$9:$AO$68,\"44KLA1\")=0),\"\",IF(COUNTIF('Entry sheet-2-hin'!$AO$9:$AO$68,\"44KLA1C\")=0,COUNTIF('Entry sheet-2-hin'!$AO$9:$AO$68,\"44KLA1\"),COUNTIF('Entry sheet-2-hin'!$AO$9:$AO$68,\"44KLA1C\")&\"*\")))","v":""},{"$f":"IF(K52=\"\",\"\",IF(COUNTIF('Entry sheet-2-hin'!$AO$9:$AO$68,\"44KLA1C\")=0,COUNTIF('Entry sheet-2-hin'!$AO$9:$AO$68,\"44KLA1\")*3,COUNTIF('Entry sheet-2-hin'!$AO$9:$AO$68,\"44KLA1C\")*3))","v":""},{"$f":"IF(B52=\"\",\"\",IF(AND(COUNTIF('Entry sheet-2-hin'!$AO$9:$AO$68,\"1स्मदीउ४\")=0),\"\",COUNTIF('Entry sheet-2-hin'!$AO$9:$AO$68,\"1स्मदीउ४\")))","v":""},"",{"$f":"IF(B52=\"\",\"\",IF(AND(COUNTIF('Entry sheet-2-hin'!$AO$9:$AO$68,\"1स्मदीउ5\")=0),\"\",COUNTIF('Entry sheet-2-hin'!$AO$9:$AO$68,\"1स्मदीउ5\")))","v":""},{"$f":"IF(O52=\"\",\"\",IF(COUNTIF('Entry sheet-2-hin'!$AO$9:$AO$68,\"1स्मदीउ5C\")=0,COUNTIF('Entry sheet-2-hin'!$AO$9:$AO$68,\"1स्मदीउ5\")*5,COUNTIF('Entry sheet-2-hin'!$AO$9:$AO$68,\"1स्मदीउ5C\")*5))","v":""},{"$f":"IF(B52=\"\",\"\",IF(AND(COUNTIF('Entry sheet-2-hin'!$AO$9:$AO$68,\"44UMCC\")=0,COUNTIF('Entry sheet-2-hin'!$AO$9:$AO$68,\"44UMC\")=0),\"\",IF(COUNTIF('Entry sheet-2-hin'!$AO$9:$AO$68,\"44UMCC\")=0,COUNTIF('Entry sheet-2-hin'!$AO$9:$AO$68,\"44UMC\"),COUNTIF('Entry sheet-2-hin'!$AO$9:$AO$68,\"44UMCC\")&\"*\")))","v":""},"",{"$f":"IF(B52=\"\",\"\",IF(AND(COUNTIF('Entry sheet-2-hin'!$AO$9:$AO$68,\"1समवनि\")=0),\"\",COUNTIF('Entry sheet-2-hin'!$AO$9:$AO$68,\"1समवनि\")))","v":""},"",{"$f":"IF(B52=\"\",\"\",IF(AND(COUNTIF('Entry sheet-2-hin'!$AO$9:$AO$68,\"1समअलउ\")=0),\"\",COUNTIF('Entry sheet-2-hin'!$AO$9:$AO$68,\"1समअलउ\")))","v":""},"",{"$f":"IF(B52=\"\",\"\",IF(AND(COUNTIF('Entry sheet-2-hin'!$AO$9:$AO$68,\"44USA2C\")=0,COUNTIF('Entry sheet-2-hin'!$AO$9:$AO$68,\"44USA2\")=0),\"\",IF(COUNTIF('Entry sheet-2-hin'!$AO$9:$AO$68,\"44USA2C\")=0,COUNTIF('Entry sheet-2-hin'!$AO$9:$AO$68,\"44USA2\"),COUNTIF('Entry sheet-2-hin'!$AO$9:$AO$68,\"44USA2C\")&\"*\")))","v":""},{"$f":"IF(W52=\"\",\"\",IF(COUNTIF('Entry sheet-2-hin'!$AO$9:$AO$68,\"44USA2C\")=0,COUNTIF('Entry sheet-2-hin'!$AO$9:$AO$68,\"44USA2\")*2,COUNTIF('Entry sheet-2-hin'!$AO$9:$AO$68,\"44USA2C\")*2))","v":""},{"$f":"IF(B52=\"\",\"\",IF(AND(COUNTIF('Entry sheet-2-hin'!$AO$9:$AO$68,\"44ULA1C\")=0,COUNTIF('Entry sheet-2-hin'!$AO$9:$AO$68,\"44ULA1\")=0),\"\",IF(COUNTIF('Entry sheet-2-hin'!$AO$9:$AO$68,\"44ULA1C\")=0,COUNTIF('Entry sheet-2-hin'!$AO$9:$AO$68,\"44ULA1\"),COUNTIF('Entry sheet-2-hin'!$AO$9:$AO$68,\"44ULA1C\")&\"*\")))","v":""},{"$f":"IF(Y52=\"\",\"\",IF(COUNTIF('Entry sheet-2-hin'!$AO$9:$AO$68,\"44ULA1C\")=0,COUNTIF('Entry sheet-2-hin'!$AO$9:$AO$68,\"44ULA1\")*3,COUNTIF('Entry sheet-2-hin'!$AO$9:$AO$68,\"44ULA1C\")*3))","v":""},{"$f":"IF(B52=\"\",\"\",IF(AND(COUNTIF('Entry sheet-2-hin'!$AO$9:$AO$68,\"1समदीउ४\")=0),\"\",COUNTIF('Entry sheet-2-hin'!$AO$9:$AO$68,\"1समदीउ४\")))","v":""},"",{"$f":"IF(B52=\"\",\"\",IF(AND(COUNTIF('Entry sheet-2-hin'!$AO$9:$AO$68,\"1समदीउ5\")=0),\"\",COUNTIF('Entry sheet-2-hin'!$AO$9:$AO$68,\"1समदीउ5\")))","v":""},{"$f":"IF(AC52=\"\",\"\",IF(COUNTIF('Entry sheet-2-hin'!$AO$9:$AO$68,\"1समदीउ5C\")=0,COUNTIF('Entry sheet-2-hin'!$AO$9:$AO$68,\"1समदीउ5\")*5,COUNTIF('Entry sheet-2-hin'!$AO$9:$AO$68,\"1समदीउ5C\")*5))","v":""},{"$f":"IF(B52=\"\",\"\",IF(AND(COUNTIF('Entry sheet-2-hin'!$AO$9:$AO$68,\"1अबवि\")=0),\"\",COUNTIF('Entry sheet-2-hin'!$AO$9:$AO$68,\"1अबवि\")))","v":""},{"$f":"IF(AE52=\"\",\"\",IF(COUNTIF('Entry sheet-2-hin'!$AO$9:$AO$68,\"44AMCC\")=0,COUNTIF('Entry sheet-2-hin'!$AO$9:$AO$68,\"44AMC\")*1,COUNTIF('Entry sheet-2-hin'!$AO$9:$AO$68,\"44AMCC\")*1))","v":""},{"$f":"IF(B52=\"\",\"\",IF(AND(COUNTIF('Entry sheet-2-hin'!$AO$9:$AO$68,\"44AOTC\")=0,COUNTIF('Entry sheet-2-hin'!$AO$9:$AO$68,\"44AOT\")=0),\"\",IF(COUNTIF('Entry sheet-2-hin'!$AO$9:$AO$68,\"44AOTC\")=0,COUNTIF('Entry sheet-2-hin'!$AO$9:$AO$68,\"44AOT\"),COUNTIF('Entry sheet-2-hin'!$AO$9:$AO$68,\"44AOTC\")&\"*\")))","v":""},{"$f":"IF(AG52=\"\",\"\",IF(COUNTIF('Entry sheet-2-hin'!$AO$9:$AO$68,\"44AOTC\")=0,COUNTIF('Entry sheet-2-hin'!$AO$9:$AO$68,\"44AOT\")*1,COUNTIF('Entry sheet-2-hin'!$AO$9:$AO$68,\"44AOTC\")*1))","v":""},{"$f":"IF(B52=\"\",\"\",IF(AND(COUNTIF('Entry sheet-2-hin'!$AO$9:$AO$68,\"1अअलउ\")=0),\"\",COUNTIF('Entry sheet-2-hin'!$AO$9:$AO$68,\"1अअलउ\")))","v":""},{"$f":"IF(AI52=\"\",\"\",IF(COUNTIF('Entry sheet-2-hin'!$AO$9:$AO$68,\"44ASA1C\")=0,COUNTIF('Entry sheet-2-hin'!$AO$9:$AO$68,\"44ASA1\")*1,COUNTIF('Entry sheet-2-hin'!$AO$9:$AO$68,\"44ASA1C\")*1))","v":""},{"$f":"IF(B52=\"\",\"\",IF(AND(COUNTIF('Entry sheet-2-hin'!$AO$9:$AO$68,\"44ASA2C\")=0,COUNTIF('Entry sheet-2-hin'!$AO$9:$AO$68,\"44ASA2\")=0),\"\",IF(COUNTIF('Entry sheet-2-hin'!$AO$9:$AO$68,\"44ASA2C\")=0,COUNTIF('Entry sheet-2-hin'!$AO$9:$AO$68,\"44ASA2\"),COUNTIF('Entry sheet-2-hin'!$AO$9:$AO$68,\"44ASA2C\")&\"*\")))","v":""},"",{"$f":"IF(B52=\"\",\"\",IF(AND(COUNTIF('Entry sheet-2-hin'!$AO$9:$AO$68,\"44ALA1C\")=0,COUNTIF('Entry sheet-2-hin'!$AO$9:$AO$68,\"44ALA1\")=0),\"\",IF(COUNTIF('Entry sheet-2-hin'!$AO$9:$AO$68,\"44ALA1C\")=0,COUNTIF('Entry sheet-2-hin'!$AO$9:$AO$68,\"44ALA1\"),COUNTIF('Entry sheet-2-hin'!$AO$9:$AO$68,\"44ALA1C\")&\"*\")))","v":""},"",{"$f":"IF(B52=\"\",\"\",IF(AND(COUNTIF('Entry sheet-2-hin'!$AO$9:$AO$68,\"44ALA2C\")=0,COUNTIF('Entry sheet-2-hin'!$AO$9:$AO$68,\"44ALA2\")=0),\"\",IF(COUNTIF('Entry sheet-2-hin'!$AO$9:$AO$68,\"44ALA2C\")=0,COUNTIF('Entry sheet-2-hin'!$AO$9:$AO$68,\"44ALA2\"),COUNTIF('Entry sheet-2-hin'!$AO$9:$AO$68,\"44ALA2C\")&\"*\")))","v":""},{"$f":"IF(AO52=\"\",\"\",IF(COUNTIF('Entry sheet-2-hin'!$AO$9:$AO$68,\"44ALA2C\")=0,COUNTIF('Entry sheet-2-hin'!$AO$9:$AO$68,\"44ALA2\")*4,COUNTIF('Entry sheet-2-hin'!$AO$9:$AO$68,\"44ALA2C\")*4))","v":""},{"$f":"IF(B52=\"\",\"\",IF(AND(COUNTIF('Entry sheet-2-hin'!$AO$9:$AO$68,\"1अदीउ5\")=0),\"\",COUNTIF('Entry sheet-2-hin'!$AO$9:$AO$68,\"1अदीउ5\")))","v":""},{"$f":"IF(AQ52=\"\",\"\",IF(COUNTIF('Entry sheet-2-hin'!$AO$9:$AO$68,\"1अदीउ5C\")=0,COUNTIF('Entry sheet-2-hin'!$AO$9:$AO$68,\"1अदीउ5\")*5,COUNTIF('Entry sheet-2-hin'!$AO$9:$AO$68,\"1अदीउ5C\")*5))","v":""},{"$f":"IF(B52=\"\",\"\",IF(AND(COUNTIF('Entry sheet-2-hin'!$AO$9:$AO$68,\"1रसबवि\")=0),\"\",COUNTIF('Entry sheet-2-hin'!$AO$9:$AO$68,\"1रसबवि\")))","v":""},{"$f":"IF(AS52=\"\",\"\",IF(COUNTIF('Entry sheet-2-hin'!$AO$9:$AO$68,\"44SMCC\")=0,COUNTIF('Entry sheet-2-hin'!$AO$9:$AO$68,\"44SMC\")*1,COUNTIF('Entry sheet-2-hin'!$AO$9:$AO$68,\"44SMCC\")*1))","v":""},{"$f":"IF(B52=\"\",\"\",IF(AND(COUNTIF('Entry sheet-2-hin'!$AO$9:$AO$68,\"44SOTC\")=0,COUNTIF('Entry sheet-2-hin'!$AO$9:$AO$68,\"44SOT\")=0),\"\",IF(COUNTIF('Entry sheet-2-hin'!$AO$9:$AO$68,\"44SOTC\")=0,COUNTIF('Entry sheet-2-hin'!$AO$9:$AO$68,\"44SOT\"),COUNTIF('Entry sheet-2-hin'!$AO$9:$AO$68,\"44SOTC\")&\"*\")))","v":""},{"$f":"IF(AU52=\"\",\"\",IF(COUNTIF('Entry sheet-2-hin'!$AO$9:$AO$68,\"44SOTC\")=0,COUNTIF('Entry sheet-2-hin'!$AO$9:$AO$68,\"44SOT\")*1,COUNTIF('Entry sheet-2-hin'!$AO$9:$AO$68,\"44SOTC\")*1))","v":""},{"$f":"IF(B52=\"\",\"\",IF(AND(COUNTIF('Entry sheet-2-hin'!$AO$9:$AO$68,\"1रसअलउ\")=0),\"\",COUNTIF('Entry sheet-2-hin'!$AO$9:$AO$68,\"1रसअलउ\")))","v":""},"",{"$f":"IF(B52=\"\",\"\",IF(AND(COUNTIF('Entry sheet-2-hin'!$AO$9:$AO$68,\"1रसलउ२\")=0),\"\",COUNTIF('Entry sheet-2-hin'!$AO$9:$AO$68,\"1रसलउ२\")))","v":""},{"$f":"IF(AY52=\"\",\"\",IF(COUNTIF('Entry sheet-2-hin'!$AO$9:$AO$68,\"44SSA2C\")=0,COUNTIF('Entry sheet-2-hin'!$AO$9:$AO$68,\"44SSA2\")*2,COUNTIF('Entry sheet-2-hin'!$AO$9:$AO$68,\"44SSA2C\")*2))","v":""},{"$f":"IF(B52=\"\",\"\",IF(AND(COUNTIF('Entry sheet-2-hin'!$AO$9:$AO$68,\"44SLA1C\")=0,COUNTIF('Entry sheet-2-hin'!$AO$9:$AO$68,\"44SLA1\")=0),\"\",IF(COUNTIF('Entry sheet-2-hin'!$AO$9:$AO$68,\"44SLA1C\")=0,COUNTIF('Entry sheet-2-hin'!$AO$9:$AO$68,\"44SLA1\"),COUNTIF('Entry sheet-2-hin'!$AO$9:$AO$68,\"44SLA1C\")&\"*\")))","v":""},{"$f":"IF(BA52=\"\",\"\",IF(COUNTIF('Entry sheet-2-hin'!$AO$9:$AO$68,\"44SLA1C\")=0,COUNTIF('Entry sheet-2-hin'!$AO$9:$AO$68,\"44SLA1\")*3,COUNTIF('Entry sheet-2-hin'!$AO$9:$AO$68,\"44SLA1C\")*3))","v":""},{"$f":"IF(B52=\"\",\"\",IF(AND(COUNTIF('Entry sheet-2-hin'!$AO$9:$AO$68,\"44SLA2C\")=0,COUNTIF('Entry sheet-2-hin'!$AO$9:$AO$68,\"44SLA2\")=0),\"\",IF(COUNTIF('Entry sheet-2-hin'!$AO$9:$AO$68,\"44SLA2C\")=0,COUNTIF('Entry sheet-2-hin'!$AO$9:$AO$68,\"44SLA2\"),COUNTIF('Entry sheet-2-hin'!$AO$9:$AO$68,\"44SLA2C\")&\"*\")))","v":""},"",{"$f":"IF(B52=\"\",\"\",IF(AND(COUNTIF('Entry sheet-2-hin'!$AO$9:$AO$68,\"1रसदीउ5\")=0),\"\",COUNTIF('Entry sheet-2-hin'!$AO$9:$AO$68,\"1रसदीउ5\")))","v":""},"","","","","","","","","","","","","","","","",""]
[{"$f":"IF('Entry sheet-1-hin'!A54=\"\",\"\",'Entry sheet-1-hin'!A54)","v":""},{"$f":"IF('Entry sheet-1-hin'!B54=\"\",\"\",'Entry sheet-1-hin'!B54)","v":""},{"$f":"IF(B53=\"\",\"\",IF(AND(COUNTIF('Entry sheet-2-hin'!$AO$9:$AO$68,\"45KMCC\")=0,COUNTIF('Entry sheet-2-hin'!$AO$9:$AO$68,\"45KMC\")=0),\"\",IF(COUNTIF('Entry sheet-2-hin'!$AO$9:$AO$68,\"45KMCC\")=0,COUNTIF('Entry sheet-2-hin'!$AO$9:$AO$68,\"45KMC\"),COUNTIF('Entry sheet-2-hin'!$AO$9:$AO$68,\"45KMCC\")&\"*\")))","v":""},"",{"$f":"IF(B53=\"\",\"\",IF(AND(COUNTIF('Entry sheet-2-hin'!$AO$9:$AO$68,\"45KOTC\")=0,COUNTIF('Entry sheet-2-hin'!$AO$9:$AO$68,\"45KOT\")=0),\"\",IF(COUNTIF('Entry sheet-2-hin'!$AO$9:$AO$68,\"45KOTC\")=0,COUNTIF('Entry sheet-2-hin'!$AO$9:$AO$68,\"45KOT\"),COUNTIF('Entry sheet-2-hin'!$AO$9:$AO$68,\"45KOTC\")&\"*\")))","v":""},"",{"$f":"IF(B53=\"\",\"\",IF(AND(COUNTIF('Entry sheet-2-hin'!$AO$9:$AO$68,\"45KSA1C\")=0,COUNTIF('Entry sheet-2-hin'!$AO$9:$AO$68,\"45KSA1\")=0),\"\",IF(COUNTIF('Entry sheet-2-hin'!$AO$9:$AO$68,\"45KSA1C\")=0,COUNTIF('Entry sheet-2-hin'!$AO$9:$AO$68,\"45KSA1\"),COUNTIF('Entry sheet-2-hin'!$AO$9:$AO$68,\"45KSA1C\")&\"*\")))","v":""},{"$f":"IF(G53=\"\",\"\",IF(COUNTIF('Entry sheet-2-hin'!$AO$9:$AO$68,\"45KSA1C\")=0,COUNTIF('Entry sheet-2-hin'!$AO$9:$AO$68,\"45KSA1\")*1,COUNTIF('Entry sheet-2-hin'!$AO$9:$AO$68,\"45KSA1C\")*1))","v":""},{"$f":"IF(B53=\"\",\"\",IF(AND(COUNTIF('Entry sheet-2-hin'!$AO$9:$AO$68,\"45KSA2C\")=0,COUNTIF('Entry sheet-2-hin'!$AO$9:$AO$68,\"45KSA2\")=0),\"\",IF(COUNTIF('Entry sheet-2-hin'!$AO$9:$AO$68,\"45KSA2C\")=0,COUNTIF('Entry sheet-2-hin'!$AO$9:$AO$68,\"45KSA2\"),COUNTIF('Entry sheet-2-hin'!$AO$9:$AO$68,\"45KSA2C\")&\"*\")))","v":""},{"$f":"IF(I53=\"\",\"\",IF(COUNTIF('Entry sheet-2-hin'!$AO$9:$AO$68,\"45KSA2C\")=0,COUNTIF('Entry sheet-2-hin'!$AO$9:$AO$68,\"45KSA2\")*2,COUNTIF('Entry sheet-2-hin'!$AO$9:$AO$68,\"45KSA2C\")*2))","v":""},{"$f":"IF(B53=\"\",\"\",IF(AND(COUNTIF('Entry sheet-2-hin'!$AO$9:$AO$68,\"45KLA1C\")=0,COUNTIF('Entry sheet-2-hin'!$AO$9:$AO$68,\"45KLA1\")=0),\"\",IF(COUNTIF('Entry sheet-2-hin'!$AO$9:$AO$68,\"45KLA1C\")=0,COUNTIF('Entry sheet-2-hin'!$AO$9:$AO$68,\"45KLA1\"),COUNTIF('Entry sheet-2-hin'!$AO$9:$AO$68,\"45KLA1C\")&\"*\")))","v":""},{"$f":"IF(K53=\"\",\"\",IF(COUNTIF('Entry sheet-2-hin'!$AO$9:$AO$68,\"45KLA1C\")=0,COUNTIF('Entry sheet-2-hin'!$AO$9:$AO$68,\"45KLA1\")*3,COUNTIF('Entry sheet-2-hin'!$AO$9:$AO$68,\"45KLA1C\")*3))","v":""},{"$f":"IF(B53=\"\",\"\",IF(AND(COUNTIF('Entry sheet-2-hin'!$AO$9:$AO$68,\"1स्मदीउ४\")=0),\"\",COUNTIF('Entry sheet-2-hin'!$AO$9:$AO$68,\"1स्मदीउ४\")))","v":""},"",{"$f":"IF(B53=\"\",\"\",IF(AND(COUNTIF('Entry sheet-2-hin'!$AO$9:$AO$68,\"1स्मदीउ5\")=0),\"\",COUNTIF('Entry sheet-2-hin'!$AO$9:$AO$68,\"1स्मदीउ5\")))","v":""},{"$f":"IF(O53=\"\",\"\",IF(COUNTIF('Entry sheet-2-hin'!$AO$9:$AO$68,\"1स्मदीउ5C\")=0,COUNTIF('Entry sheet-2-hin'!$AO$9:$AO$68,\"1स्मदीउ5\")*5,COUNTIF('Entry sheet-2-hin'!$AO$9:$AO$68,\"1स्मदीउ5C\")*5))","v":""},{"$f":"IF(B53=\"\",\"\",IF(AND(COUNTIF('Entry sheet-2-hin'!$AO$9:$AO$68,\"45UMCC\")=0,COUNTIF('Entry sheet-2-hin'!$AO$9:$AO$68,\"45UMC\")=0),\"\",IF(COUNTIF('Entry sheet-2-hin'!$AO$9:$AO$68,\"45UMCC\")=0,COUNTIF('Entry sheet-2-hin'!$AO$9:$AO$68,\"45UMC\"),COUNTIF('Entry sheet-2-hin'!$AO$9:$AO$68,\"45UMCC\")&\"*\")))","v":""},"",{"$f":"IF(B53=\"\",\"\",IF(AND(COUNTIF('Entry sheet-2-hin'!$AO$9:$AO$68,\"1समवनि\")=0),\"\",COUNTIF('Entry sheet-2-hin'!$AO$9:$AO$68,\"1समवनि\")))","v":""},"",{"$f":"IF(B53=\"\",\"\",IF(AND(COUNTIF('Entry sheet-2-hin'!$AO$9:$AO$68,\"1समअलउ\")=0),\"\",COUNTIF('Entry sheet-2-hin'!$AO$9:$AO$68,\"1समअलउ\")))","v":""},"",{"$f":"IF(B53=\"\",\"\",IF(AND(COUNTIF('Entry sheet-2-hin'!$AO$9:$AO$68,\"45USA2C\")=0,COUNTIF('Entry sheet-2-hin'!$AO$9:$AO$68,\"45USA2\")=0),\"\",IF(COUNTIF('Entry sheet-2-hin'!$AO$9:$AO$68,\"45USA2C\")=0,COUNTIF('Entry sheet-2-hin'!$AO$9:$AO$68,\"45USA2\"),COUNTIF('Entry sheet-2-hin'!$AO$9:$AO$68,\"45USA2C\")&\"*\")))","v":""},{"$f":"IF(W53=\"\",\"\",IF(COUNTIF('Entry sheet-2-hin'!$AO$9:$AO$68,\"45USA2C\")=0,COUNTIF('Entry sheet-2-hin'!$AO$9:$AO$68,\"45USA2\")*2,COUNTIF('Entry sheet-2-hin'!$AO$9:$AO$68,\"45USA2C\")*2))","v":""},{"$f":"IF(B53=\"\",\"\",IF(AND(COUNTIF('Entry sheet-2-hin'!$AO$9:$AO$68,\"45ULA1C\")=0,COUNTIF('Entry sheet-2-hin'!$AO$9:$AO$68,\"45ULA1\")=0),\"\",IF(COUNTIF('Entry sheet-2-hin'!$AO$9:$AO$68,\"45ULA1C\")=0,COUNTIF('Entry sheet-2-hin'!$AO$9:$AO$68,\"45ULA1\"),COUNTIF('Entry sheet-2-hin'!$AO$9:$AO$68,\"45ULA1C\")&\"*\")))","v":""},{"$f":"IF(Y53=\"\",\"\",IF(COUNTIF('Entry sheet-2-hin'!$AO$9:$AO$68,\"45ULA1C\")=0,COUNTIF('Entry sheet-2-hin'!$AO$9:$AO$68,\"45ULA1\")*3,COUNTIF('Entry sheet-2-hin'!$AO$9:$AO$68,\"45ULA1C\")*3))","v":""},{"$f":"IF(B53=\"\",\"\",IF(AND(COUNTIF('Entry sheet-2-hin'!$AO$9:$AO$68,\"1समदीउ४\")=0),\"\",COUNTIF('Entry sheet-2-hin'!$AO$9:$AO$68,\"1समदीउ४\")))","v":""},"",{"$f":"IF(B53=\"\",\"\",IF(AND(COUNTIF('Entry sheet-2-hin'!$AO$9:$AO$68,\"1समदीउ5\")=0),\"\",COUNTIF('Entry sheet-2-hin'!$AO$9:$AO$68,\"1समदीउ5\")))","v":""},{"$f":"IF(AC53=\"\",\"\",IF(COUNTIF('Entry sheet-2-hin'!$AO$9:$AO$68,\"1समदीउ5C\")=0,COUNTIF('Entry sheet-2-hin'!$AO$9:$AO$68,\"1समदीउ5\")*5,COUNTIF('Entry sheet-2-hin'!$AO$9:$AO$68,\"1समदीउ5C\")*5))","v":""},{"$f":"IF(B53=\"\",\"\",IF(AND(COUNTIF('Entry sheet-2-hin'!$AO$9:$AO$68,\"1अबवि\")=0),\"\",COUNTIF('Entry sheet-2-hin'!$AO$9:$AO$68,\"1अबवि\")))","v":""},{"$f":"IF(AE53=\"\",\"\",IF(COUNTIF('Entry sheet-2-hin'!$AO$9:$AO$68,\"45AMCC\")=0,COUNTIF('Entry sheet-2-hin'!$AO$9:$AO$68,\"45AMC\")*1,COUNTIF('Entry sheet-2-hin'!$AO$9:$AO$68,\"45AMCC\")*1))","v":""},{"$f":"IF(B53=\"\",\"\",IF(AND(COUNTIF('Entry sheet-2-hin'!$AO$9:$AO$68,\"45AOTC\")=0,COUNTIF('Entry sheet-2-hin'!$AO$9:$AO$68,\"45AOT\")=0),\"\",IF(COUNTIF('Entry sheet-2-hin'!$AO$9:$AO$68,\"45AOTC\")=0,COUNTIF('Entry sheet-2-hin'!$AO$9:$AO$68,\"45AOT\"),COUNTIF('Entry sheet-2-hin'!$AO$9:$AO$68,\"45AOTC\")&\"*\")))","v":""},{"$f":"IF(AG53=\"\",\"\",IF(COUNTIF('Entry sheet-2-hin'!$AO$9:$AO$68,\"45AOTC\")=0,COUNTIF('Entry sheet-2-hin'!$AO$9:$AO$68,\"45AOT\")*1,COUNTIF('Entry sheet-2-hin'!$AO$9:$AO$68,\"45AOTC\")*1))","v":""},{"$f":"IF(B53=\"\",\"\",IF(AND(COUNTIF('Entry sheet-2-hin'!$AO$9:$AO$68,\"1अअलउ\")=0),\"\",COUNTIF('Entry sheet-2-hin'!$AO$9:$AO$68,\"1अअलउ\")))","v":""},{"$f":"IF(AI53=\"\",\"\",IF(COUNTIF('Entry sheet-2-hin'!$AO$9:$AO$68,\"45ASA1C\")=0,COUNTIF('Entry sheet-2-hin'!$AO$9:$AO$68,\"45ASA1\")*1,COUNTIF('Entry sheet-2-hin'!$AO$9:$AO$68,\"45ASA1C\")*1))","v":""},{"$f":"IF(B53=\"\",\"\",IF(AND(COUNTIF('Entry sheet-2-hin'!$AO$9:$AO$68,\"45ASA2C\")=0,COUNTIF('Entry sheet-2-hin'!$AO$9:$AO$68,\"45ASA2\")=0),\"\",IF(COUNTIF('Entry sheet-2-hin'!$AO$9:$AO$68,\"45ASA2C\")=0,COUNTIF('Entry sheet-2-hin'!$AO$9:$AO$68,\"45ASA2\"),COUNTIF('Entry sheet-2-hin'!$AO$9:$AO$68,\"45ASA2C\")&\"*\")))","v":""},"",{"$f":"IF(B53=\"\",\"\",IF(AND(COUNTIF('Entry sheet-2-hin'!$AO$9:$AO$68,\"45ALA1C\")=0,COUNTIF('Entry sheet-2-hin'!$AO$9:$AO$68,\"45ALA1\")=0),\"\",IF(COUNTIF('Entry sheet-2-hin'!$AO$9:$AO$68,\"45ALA1C\")=0,COUNTIF('Entry sheet-2-hin'!$AO$9:$AO$68,\"45ALA1\"),COUNTIF('Entry sheet-2-hin'!$AO$9:$AO$68,\"45ALA1C\")&\"*\")))","v":""},"",{"$f":"IF(B53=\"\",\"\",IF(AND(COUNTIF('Entry sheet-2-hin'!$AO$9:$AO$68,\"45ALA2C\")=0,COUNTIF('Entry sheet-2-hin'!$AO$9:$AO$68,\"45ALA2\")=0),\"\",IF(COUNTIF('Entry sheet-2-hin'!$AO$9:$AO$68,\"45ALA2C\")=0,COUNTIF('Entry sheet-2-hin'!$AO$9:$AO$68,\"45ALA2\"),COUNTIF('Entry sheet-2-hin'!$AO$9:$AO$68,\"45ALA2C\")&\"*\")))","v":""},{"$f":"IF(AO53=\"\",\"\",IF(COUNTIF('Entry sheet-2-hin'!$AO$9:$AO$68,\"45ALA2C\")=0,COUNTIF('Entry sheet-2-hin'!$AO$9:$AO$68,\"45ALA2\")*4,COUNTIF('Entry sheet-2-hin'!$AO$9:$AO$68,\"45ALA2C\")*4))","v":""},{"$f":"IF(B53=\"\",\"\",IF(AND(COUNTIF('Entry sheet-2-hin'!$AO$9:$AO$68,\"1अदीउ5\")=0),\"\",COUNTIF('Entry sheet-2-hin'!$AO$9:$AO$68,\"1अदीउ5\")))","v":""},{"$f":"IF(AQ53=\"\",\"\",IF(COUNTIF('Entry sheet-2-hin'!$AO$9:$AO$68,\"1अदीउ5C\")=0,COUNTIF('Entry sheet-2-hin'!$AO$9:$AO$68,\"1अदीउ5\")*5,COUNTIF('Entry sheet-2-hin'!$AO$9:$AO$68,\"1अदीउ5C\")*5))","v":""},{"$f":"IF(B53=\"\",\"\",IF(AND(COUNTIF('Entry sheet-2-hin'!$AO$9:$AO$68,\"1रसबवि\")=0),\"\",COUNTIF('Entry sheet-2-hin'!$AO$9:$AO$68,\"1रसबवि\")))","v":""},{"$f":"IF(AS53=\"\",\"\",IF(COUNTIF('Entry sheet-2-hin'!$AO$9:$AO$68,\"45SMCC\")=0,COUNTIF('Entry sheet-2-hin'!$AO$9:$AO$68,\"45SMC\")*1,COUNTIF('Entry sheet-2-hin'!$AO$9:$AO$68,\"45SMCC\")*1))","v":""},{"$f":"IF(B53=\"\",\"\",IF(AND(COUNTIF('Entry sheet-2-hin'!$AO$9:$AO$68,\"45SOTC\")=0,COUNTIF('Entry sheet-2-hin'!$AO$9:$AO$68,\"45SOT\")=0),\"\",IF(COUNTIF('Entry sheet-2-hin'!$AO$9:$AO$68,\"45SOTC\")=0,COUNTIF('Entry sheet-2-hin'!$AO$9:$AO$68,\"45SOT\"),COUNTIF('Entry sheet-2-hin'!$AO$9:$AO$68,\"45SOTC\")&\"*\")))","v":""},{"$f":"IF(AU53=\"\",\"\",IF(COUNTIF('Entry sheet-2-hin'!$AO$9:$AO$68,\"45SOTC\")=0,COUNTIF('Entry sheet-2-hin'!$AO$9:$AO$68,\"45SOT\")*1,COUNTIF('Entry sheet-2-hin'!$AO$9:$AO$68,\"45SOTC\")*1))","v":""},{"$f":"IF(B53=\"\",\"\",IF(AND(COUNTIF('Entry sheet-2-hin'!$AO$9:$AO$68,\"1रसअलउ\")=0),\"\",COUNTIF('Entry sheet-2-hin'!$AO$9:$AO$68,\"1रसअलउ\")))","v":""},"",{"$f":"IF(B53=\"\",\"\",IF(AND(COUNTIF('Entry sheet-2-hin'!$AO$9:$AO$68,\"1रसलउ२\")=0),\"\",COUNTIF('Entry sheet-2-hin'!$AO$9:$AO$68,\"1रसलउ२\")))","v":""},{"$f":"IF(AY53=\"\",\"\",IF(COUNTIF('Entry sheet-2-hin'!$AO$9:$AO$68,\"45SSA2C\")=0,COUNTIF('Entry sheet-2-hin'!$AO$9:$AO$68,\"45SSA2\")*2,COUNTIF('Entry sheet-2-hin'!$AO$9:$AO$68,\"45SSA2C\")*2))","v":""},{"$f":"IF(B53=\"\",\"\",IF(AND(COUNTIF('Entry sheet-2-hin'!$AO$9:$AO$68,\"45SLA1C\")=0,COUNTIF('Entry sheet-2-hin'!$AO$9:$AO$68,\"45SLA1\")=0),\"\",IF(COUNTIF('Entry sheet-2-hin'!$AO$9:$AO$68,\"45SLA1C\")=0,COUNTIF('Entry sheet-2-hin'!$AO$9:$AO$68,\"45SLA1\"),COUNTIF('Entry sheet-2-hin'!$AO$9:$AO$68,\"45SLA1C\")&\"*\")))","v":""},{"$f":"IF(BA53=\"\",\"\",IF(COUNTIF('Entry sheet-2-hin'!$AO$9:$AO$68,\"45SLA1C\")=0,COUNTIF('Entry sheet-2-hin'!$AO$9:$AO$68,\"45SLA1\")*3,COUNTIF('Entry sheet-2-hin'!$AO$9:$AO$68,\"45SLA1C\")*3))","v":""},{"$f":"IF(B53=\"\",\"\",IF(AND(COUNTIF('Entry sheet-2-hin'!$AO$9:$AO$68,\"45SLA2C\")=0,COUNTIF('Entry sheet-2-hin'!$AO$9:$AO$68,\"45SLA2\")=0),\"\",IF(COUNTIF('Entry sheet-2-hin'!$AO$9:$AO$68,\"45SLA2C\")=0,COUNTIF('Entry sheet-2-hin'!$AO$9:$AO$68,\"45SLA2\"),COUNTIF('Entry sheet-2-hin'!$AO$9:$AO$68,\"45SLA2C\")&\"*\")))","v":""},"",{"$f":"IF(B53=\"\",\"\",IF(AND(COUNTIF('Entry sheet-2-hin'!$AO$9:$AO$68,\"1रसदीउ5\")=0),\"\",COUNTIF('Entry sheet-2-hin'!$AO$9:$AO$68,\"1रसदीउ5\")))","v":""},"","","","","","","","","","","","","","","","",""]
[{"$f":"IF('Entry sheet-1-hin'!A55=\"\",\"\",'Entry sheet-1-hin'!A55)","v":""},{"$f":"IF('Entry sheet-1-hin'!B55=\"\",\"\",'Entry sheet-1-hin'!B55)","v":""},{"$f":"IF(B54=\"\",\"\",IF(AND(COUNTIF('Entry sheet-2-hin'!$AO$9:$AO$68,\"46KMCC\")=0,COUNTIF('Entry sheet-2-hin'!$AO$9:$AO$68,\"46KMC\")=0),\"\",IF(COUNTIF('Entry sheet-2-hin'!$AO$9:$AO$68,\"46KMCC\")=0,COUNTIF('Entry sheet-2-hin'!$AO$9:$AO$68,\"46KMC\"),COUNTIF('Entry sheet-2-hin'!$AO$9:$AO$68,\"46KMCC\")&\"*\")))","v":""},"",{"$f":"IF(B54=\"\",\"\",IF(AND(COUNTIF('Entry sheet-2-hin'!$AO$9:$AO$68,\"46KOTC\")=0,COUNTIF('Entry sheet-2-hin'!$AO$9:$AO$68,\"46KOT\")=0),\"\",IF(COUNTIF('Entry sheet-2-hin'!$AO$9:$AO$68,\"46KOTC\")=0,COUNTIF('Entry sheet-2-hin'!$AO$9:$AO$68,\"46KOT\"),COUNTIF('Entry sheet-2-hin'!$AO$9:$AO$68,\"46KOTC\")&\"*\")))","v":""},"",{"$f":"IF(B54=\"\",\"\",IF(AND(COUNTIF('Entry sheet-2-hin'!$AO$9:$AO$68,\"46KSA1C\")=0,COUNTIF('Entry sheet-2-hin'!$AO$9:$AO$68,\"46KSA1\")=0),\"\",IF(COUNTIF('Entry sheet-2-hin'!$AO$9:$AO$68,\"46KSA1C\")=0,COUNTIF('Entry sheet-2-hin'!$AO$9:$AO$68,\"46KSA1\"),COUNTIF('Entry sheet-2-hin'!$AO$9:$AO$68,\"46KSA1C\")&\"*\")))","v":""},{"$f":"IF(G54=\"\",\"\",IF(COUNTIF('Entry sheet-2-hin'!$AO$9:$AO$68,\"46KSA1C\")=0,COUNTIF('Entry sheet-2-hin'!$AO$9:$AO$68,\"46KSA1\")*1,COUNTIF('Entry sheet-2-hin'!$AO$9:$AO$68,\"46KSA1C\")*1))","v":""},{"$f":"IF(B54=\"\",\"\",IF(AND(COUNTIF('Entry sheet-2-hin'!$AO$9:$AO$68,\"46KSA2C\")=0,COUNTIF('Entry sheet-2-hin'!$AO$9:$AO$68,\"46KSA2\")=0),\"\",IF(COUNTIF('Entry sheet-2-hin'!$AO$9:$AO$68,\"46KSA2C\")=0,COUNTIF('Entry sheet-2-hin'!$AO$9:$AO$68,\"46KSA2\"),COUNTIF('Entry sheet-2-hin'!$AO$9:$AO$68,\"46KSA2C\")&\"*\")))","v":""},{"$f":"IF(I54=\"\",\"\",IF(COUNTIF('Entry sheet-2-hin'!$AO$9:$AO$68,\"46KSA2C\")=0,COUNTIF('Entry sheet-2-hin'!$AO$9:$AO$68,\"46KSA2\")*2,COUNTIF('Entry sheet-2-hin'!$AO$9:$AO$68,\"46KSA2C\")*2))","v":""},{"$f":"IF(B54=\"\",\"\",IF(AND(COUNTIF('Entry sheet-2-hin'!$AO$9:$AO$68,\"46KLA1C\")=0,COUNTIF('Entry sheet-2-hin'!$AO$9:$AO$68,\"46KLA1\")=0),\"\",IF(COUNTIF('Entry sheet-2-hin'!$AO$9:$AO$68,\"46KLA1C\")=0,COUNTIF('Entry sheet-2-hin'!$AO$9:$AO$68,\"46KLA1\"),COUNTIF('Entry sheet-2-hin'!$AO$9:$AO$68,\"46KLA1C\")&\"*\")))","v":""},{"$f":"IF(K54=\"\",\"\",IF(COUNTIF('Entry sheet-2-hin'!$AO$9:$AO$68,\"46KLA1C\")=0,COUNTIF('Entry sheet-2-hin'!$AO$9:$AO$68,\"46KLA1\")*3,COUNTIF('Entry sheet-2-hin'!$AO$9:$AO$68,\"46KLA1C\")*3))","v":""},{"$f":"IF(B54=\"\",\"\",IF(AND(COUNTIF('Entry sheet-2-hin'!$AO$9:$AO$68,\"1स्मदीउ४\")=0),\"\",COUNTIF('Entry sheet-2-hin'!$AO$9:$AO$68,\"1स्मदीउ४\")))","v":""},"",{"$f":"IF(B54=\"\",\"\",IF(AND(COUNTIF('Entry sheet-2-hin'!$AO$9:$AO$68,\"1स्मदीउ5\")=0),\"\",COUNTIF('Entry sheet-2-hin'!$AO$9:$AO$68,\"1स्मदीउ5\")))","v":""},{"$f":"IF(O54=\"\",\"\",IF(COUNTIF('Entry sheet-2-hin'!$AO$9:$AO$68,\"1स्मदीउ5C\")=0,COUNTIF('Entry sheet-2-hin'!$AO$9:$AO$68,\"1स्मदीउ5\")*5,COUNTIF('Entry sheet-2-hin'!$AO$9:$AO$68,\"1स्मदीउ5C\")*5))","v":""},{"$f":"IF(B54=\"\",\"\",IF(AND(COUNTIF('Entry sheet-2-hin'!$AO$9:$AO$68,\"46UMCC\")=0,COUNTIF('Entry sheet-2-hin'!$AO$9:$AO$68,\"46UMC\")=0),\"\",IF(COUNTIF('Entry sheet-2-hin'!$AO$9:$AO$68,\"46UMCC\")=0,COUNTIF('Entry sheet-2-hin'!$AO$9:$AO$68,\"46UMC\"),COUNTIF('Entry sheet-2-hin'!$AO$9:$AO$68,\"46UMCC\")&\"*\")))","v":""},"",{"$f":"IF(B54=\"\",\"\",IF(AND(COUNTIF('Entry sheet-2-hin'!$AO$9:$AO$68,\"1समवनि\")=0),\"\",COUNTIF('Entry sheet-2-hin'!$AO$9:$AO$68,\"1समवनि\")))","v":""},"",{"$f":"IF(B54=\"\",\"\",IF(AND(COUNTIF('Entry sheet-2-hin'!$AO$9:$AO$68,\"1समअलउ\")=0),\"\",COUNTIF('Entry sheet-2-hin'!$AO$9:$AO$68,\"1समअलउ\")))","v":""},"",{"$f":"IF(B54=\"\",\"\",IF(AND(COUNTIF('Entry sheet-2-hin'!$AO$9:$AO$68,\"46USA2C\")=0,COUNTIF('Entry sheet-2-hin'!$AO$9:$AO$68,\"46USA2\")=0),\"\",IF(COUNTIF('Entry sheet-2-hin'!$AO$9:$AO$68,\"46USA2C\")=0,COUNTIF('Entry sheet-2-hin'!$AO$9:$AO$68,\"46USA2\"),COUNTIF('Entry sheet-2-hin'!$AO$9:$AO$68,\"46USA2C\")&\"*\")))","v":""},{"$f":"IF(W54=\"\",\"\",IF(COUNTIF('Entry sheet-2-hin'!$AO$9:$AO$68,\"46USA2C\")=0,COUNTIF('Entry sheet-2-hin'!$AO$9:$AO$68,\"46USA2\")*2,COUNTIF('Entry sheet-2-hin'!$AO$9:$AO$68,\"46USA2C\")*2))","v":""},{"$f":"IF(B54=\"\",\"\",IF(AND(COUNTIF('Entry sheet-2-hin'!$AO$9:$AO$68,\"46ULA1C\")=0,COUNTIF('Entry sheet-2-hin'!$AO$9:$AO$68,\"46ULA1\")=0),\"\",IF(COUNTIF('Entry sheet-2-hin'!$AO$9:$AO$68,\"46ULA1C\")=0,COUNTIF('Entry sheet-2-hin'!$AO$9:$AO$68,\"46ULA1\"),COUNTIF('Entry sheet-2-hin'!$AO$9:$AO$68,\"46ULA1C\")&\"*\")))","v":""},{"$f":"IF(Y54=\"\",\"\",IF(COUNTIF('Entry sheet-2-hin'!$AO$9:$AO$68,\"46ULA1C\")=0,COUNTIF('Entry sheet-2-hin'!$AO$9:$AO$68,\"46ULA1\")*3,COUNTIF('Entry sheet-2-hin'!$AO$9:$AO$68,\"46ULA1C\")*3))","v":""},{"$f":"IF(B54=\"\",\"\",IF(AND(COUNTIF('Entry sheet-2-hin'!$AO$9:$AO$68,\"1समदीउ४\")=0),\"\",COUNTIF('Entry sheet-2-hin'!$AO$9:$AO$68,\"1समदीउ४\")))","v":""},"",{"$f":"IF(B54=\"\",\"\",IF(AND(COUNTIF('Entry sheet-2-hin'!$AO$9:$AO$68,\"1समदीउ5\")=0),\"\",COUNTIF('Entry sheet-2-hin'!$AO$9:$AO$68,\"1समदीउ5\")))","v":""},{"$f":"IF(AC54=\"\",\"\",IF(COUNTIF('Entry sheet-2-hin'!$AO$9:$AO$68,\"1समदीउ5C\")=0,COUNTIF('Entry sheet-2-hin'!$AO$9:$AO$68,\"1समदीउ5\")*5,COUNTIF('Entry sheet-2-hin'!$AO$9:$AO$68,\"1समदीउ5C\")*5))","v":""},{"$f":"IF(B54=\"\",\"\",IF(AND(COUNTIF('Entry sheet-2-hin'!$AO$9:$AO$68,\"1अबवि\")=0),\"\",COUNTIF('Entry sheet-2-hin'!$AO$9:$AO$68,\"1अबवि\")))","v":""},{"$f":"IF(AE54=\"\",\"\",IF(COUNTIF('Entry sheet-2-hin'!$AO$9:$AO$68,\"46AMCC\")=0,COUNTIF('Entry sheet-2-hin'!$AO$9:$AO$68,\"46AMC\")*1,COUNTIF('Entry sheet-2-hin'!$AO$9:$AO$68,\"46AMCC\")*1))","v":""},{"$f":"IF(B54=\"\",\"\",IF(AND(COUNTIF('Entry sheet-2-hin'!$AO$9:$AO$68,\"46AOTC\")=0,COUNTIF('Entry sheet-2-hin'!$AO$9:$AO$68,\"46AOT\")=0),\"\",IF(COUNTIF('Entry sheet-2-hin'!$AO$9:$AO$68,\"46AOTC\")=0,COUNTIF('Entry sheet-2-hin'!$AO$9:$AO$68,\"46AOT\"),COUNTIF('Entry sheet-2-hin'!$AO$9:$AO$68,\"46AOTC\")&\"*\")))","v":""},{"$f":"IF(AG54=\"\",\"\",IF(COUNTIF('Entry sheet-2-hin'!$AO$9:$AO$68,\"46AOTC\")=0,COUNTIF('Entry sheet-2-hin'!$AO$9:$AO$68,\"46AOT\")*1,COUNTIF('Entry sheet-2-hin'!$AO$9:$AO$68,\"46AOTC\")*1))","v":""},{"$f":"IF(B54=\"\",\"\",IF(AND(COUNTIF('Entry sheet-2-hin'!$AO$9:$AO$68,\"1अअलउ\")=0),\"\",COUNTIF('Entry sheet-2-hin'!$AO$9:$AO$68,\"1अअलउ\")))","v":""},{"$f":"IF(AI54=\"\",\"\",IF(COUNTIF('Entry sheet-2-hin'!$AO$9:$AO$68,\"46ASA1C\")=0,COUNTIF('Entry sheet-2-hin'!$AO$9:$AO$68,\"46ASA1\")*1,COUNTIF('Entry sheet-2-hin'!$AO$9:$AO$68,\"46ASA1C\")*1))","v":""},{"$f":"IF(B54=\"\",\"\",IF(AND(COUNTIF('Entry sheet-2-hin'!$AO$9:$AO$68,\"46ASA2C\")=0,COUNTIF('Entry sheet-2-hin'!$AO$9:$AO$68,\"46ASA2\")=0),\"\",IF(COUNTIF('Entry sheet-2-hin'!$AO$9:$AO$68,\"46ASA2C\")=0,COUNTIF('Entry sheet-2-hin'!$AO$9:$AO$68,\"46ASA2\"),COUNTIF('Entry sheet-2-hin'!$AO$9:$AO$68,\"46ASA2C\")&\"*\")))","v":""},"",{"$f":"IF(B54=\"\",\"\",IF(AND(COUNTIF('Entry sheet-2-hin'!$AO$9:$AO$68,\"46ALA1C\")=0,COUNTIF('Entry sheet-2-hin'!$AO$9:$AO$68,\"46ALA1\")=0),\"\",IF(COUNTIF('Entry sheet-2-hin'!$AO$9:$AO$68,\"46ALA1C\")=0,COUNTIF('Entry sheet-2-hin'!$AO$9:$AO$68,\"46ALA1\"),COUNTIF('Entry sheet-2-hin'!$AO$9:$AO$68,\"46ALA1C\")&\"*\")))","v":""},"",{"$f":"IF(B54=\"\",\"\",IF(AND(COUNTIF('Entry sheet-2-hin'!$AO$9:$AO$68,\"46ALA2C\")=0,COUNTIF('Entry sheet-2-hin'!$AO$9:$AO$68,\"46ALA2\")=0),\"\",IF(COUNTIF('Entry sheet-2-hin'!$AO$9:$AO$68,\"46ALA2C\")=0,COUNTIF('Entry sheet-2-hin'!$AO$9:$AO$68,\"46ALA2\"),COUNTIF('Entry sheet-2-hin'!$AO$9:$AO$68,\"46ALA2C\")&\"*\")))","v":""},{"$f":"IF(AO54=\"\",\"\",IF(COUNTIF('Entry sheet-2-hin'!$AO$9:$AO$68,\"46ALA2C\")=0,COUNTIF('Entry sheet-2-hin'!$AO$9:$AO$68,\"46ALA2\")*4,COUNTIF('Entry sheet-2-hin'!$AO$9:$AO$68,\"46ALA2C\")*4))","v":""},{"$f":"IF(B54=\"\",\"\",IF(AND(COUNTIF('Entry sheet-2-hin'!$AO$9:$AO$68,\"1अदीउ5\")=0),\"\",COUNTIF('Entry sheet-2-hin'!$AO$9:$AO$68,\"1अदीउ5\")))","v":""},{"$f":"IF(AQ54=\"\",\"\",IF(COUNTIF('Entry sheet-2-hin'!$AO$9:$AO$68,\"1अदीउ5C\")=0,COUNTIF('Entry sheet-2-hin'!$AO$9:$AO$68,\"1अदीउ5\")*5,COUNTIF('Entry sheet-2-hin'!$AO$9:$AO$68,\"1अदीउ5C\")*5))","v":""},{"$f":"IF(B54=\"\",\"\",IF(AND(COUNTIF('Entry sheet-2-hin'!$AO$9:$AO$68,\"1रसबवि\")=0),\"\",COUNTIF('Entry sheet-2-hin'!$AO$9:$AO$68,\"1रसबवि\")))","v":""},{"$f":"IF(AS54=\"\",\"\",IF(COUNTIF('Entry sheet-2-hin'!$AO$9:$AO$68,\"46SMCC\")=0,COUNTIF('Entry sheet-2-hin'!$AO$9:$AO$68,\"46SMC\")*1,COUNTIF('Entry sheet-2-hin'!$AO$9:$AO$68,\"46SMCC\")*1))","v":""},{"$f":"IF(B54=\"\",\"\",IF(AND(COUNTIF('Entry sheet-2-hin'!$AO$9:$AO$68,\"46SOTC\")=0,COUNTIF('Entry sheet-2-hin'!$AO$9:$AO$68,\"46SOT\")=0),\"\",IF(COUNTIF('Entry sheet-2-hin'!$AO$9:$AO$68,\"46SOTC\")=0,COUNTIF('Entry sheet-2-hin'!$AO$9:$AO$68,\"46SOT\"),COUNTIF('Entry sheet-2-hin'!$AO$9:$AO$68,\"46SOTC\")&\"*\")))","v":""},{"$f":"IF(AU54=\"\",\"\",IF(COUNTIF('Entry sheet-2-hin'!$AO$9:$AO$68,\"46SOTC\")=0,COUNTIF('Entry sheet-2-hin'!$AO$9:$AO$68,\"46SOT\")*1,COUNTIF('Entry sheet-2-hin'!$AO$9:$AO$68,\"46SOTC\")*1))","v":""},{"$f":"IF(B54=\"\",\"\",IF(AND(COUNTIF('Entry sheet-2-hin'!$AO$9:$AO$68,\"1रसअलउ\")=0),\"\",COUNTIF('Entry sheet-2-hin'!$AO$9:$AO$68,\"1रसअलउ\")))","v":""},"",{"$f":"IF(B54=\"\",\"\",IF(AND(COUNTIF('Entry sheet-2-hin'!$AO$9:$AO$68,\"1रसलउ२\")=0),\"\",COUNTIF('Entry sheet-2-hin'!$AO$9:$AO$68,\"1रसलउ२\")))","v":""},{"$f":"IF(AY54=\"\",\"\",IF(COUNTIF('Entry sheet-2-hin'!$AO$9:$AO$68,\"46SSA2C\")=0,COUNTIF('Entry sheet-2-hin'!$AO$9:$AO$68,\"46SSA2\")*2,COUNTIF('Entry sheet-2-hin'!$AO$9:$AO$68,\"46SSA2C\")*2))","v":""},{"$f":"IF(B54=\"\",\"\",IF(AND(COUNTIF('Entry sheet-2-hin'!$AO$9:$AO$68,\"46SLA1C\")=0,COUNTIF('Entry sheet-2-hin'!$AO$9:$AO$68,\"46SLA1\")=0),\"\",IF(COUNTIF('Entry sheet-2-hin'!$AO$9:$AO$68,\"46SLA1C\")=0,COUNTIF('Entry sheet-2-hin'!$AO$9:$AO$68,\"46SLA1\"),COUNTIF('Entry sheet-2-hin'!$AO$9:$AO$68,\"46SLA1C\")&\"*\")))","v":""},{"$f":"IF(BA54=\"\",\"\",IF(COUNTIF('Entry sheet-2-hin'!$AO$9:$AO$68,\"46SLA1C\")=0,COUNTIF('Entry sheet-2-hin'!$AO$9:$AO$68,\"46SLA1\")*3,COUNTIF('Entry sheet-2-hin'!$AO$9:$AO$68,\"46SLA1C\")*3))","v":""},{"$f":"IF(B54=\"\",\"\",IF(AND(COUNTIF('Entry sheet-2-hin'!$AO$9:$AO$68,\"46SLA2C\")=0,COUNTIF('Entry sheet-2-hin'!$AO$9:$AO$68,\"46SLA2\")=0),\"\",IF(COUNTIF('Entry sheet-2-hin'!$AO$9:$AO$68,\"46SLA2C\")=0,COUNTIF('Entry sheet-2-hin'!$AO$9:$AO$68,\"46SLA2\"),COUNTIF('Entry sheet-2-hin'!$AO$9:$AO$68,\"46SLA2C\")&\"*\")))","v":""},"",{"$f":"IF(B54=\"\",\"\",IF(AND(COUNTIF('Entry sheet-2-hin'!$AO$9:$AO$68,\"1रसदीउ5\")=0),\"\",COUNTIF('Entry sheet-2-hin'!$AO$9:$AO$68,\"1रसदीउ5\")))","v":""},"","","","","","","","","","","","","","","","",""]
[{"$f":"IF('Entry sheet-1-hin'!A56=\"\",\"\",'Entry sheet-1-hin'!A56)","v":""},{"$f":"IF('Entry sheet-1-hin'!B56=\"\",\"\",'Entry sheet-1-hin'!B56)","v":""},{"$f":"IF(B55=\"\",\"\",IF(AND(COUNTIF('Entry sheet-2-hin'!$AO$9:$AO$68,\"47KMCC\")=0,COUNTIF('Entry sheet-2-hin'!$AO$9:$AO$68,\"47KMC\")=0),\"\",IF(COUNTIF('Entry sheet-2-hin'!$AO$9:$AO$68,\"47KMCC\")=0,COUNTIF('Entry sheet-2-hin'!$AO$9:$AO$68,\"47KMC\"),COUNTIF('Entry sheet-2-hin'!$AO$9:$AO$68,\"47KMCC\")&\"*\")))","v":""},"",{"$f":"IF(B55=\"\",\"\",IF(AND(COUNTIF('Entry sheet-2-hin'!$AO$9:$AO$68,\"47KOTC\")=0,COUNTIF('Entry sheet-2-hin'!$AO$9:$AO$68,\"47KOT\")=0),\"\",IF(COUNTIF('Entry sheet-2-hin'!$AO$9:$AO$68,\"47KOTC\")=0,COUNTIF('Entry sheet-2-hin'!$AO$9:$AO$68,\"47KOT\"),COUNTIF('Entry sheet-2-hin'!$AO$9:$AO$68,\"47KOTC\")&\"*\")))","v":""},"",{"$f":"IF(B55=\"\",\"\",IF(AND(COUNTIF('Entry sheet-2-hin'!$AO$9:$AO$68,\"47KSA1C\")=0,COUNTIF('Entry sheet-2-hin'!$AO$9:$AO$68,\"47KSA1\")=0),\"\",IF(COUNTIF('Entry sheet-2-hin'!$AO$9:$AO$68,\"47KSA1C\")=0,COUNTIF('Entry sheet-2-hin'!$AO$9:$AO$68,\"47KSA1\"),COUNTIF('Entry sheet-2-hin'!$AO$9:$AO$68,\"47KSA1C\")&\"*\")))","v":""},{"$f":"IF(G55=\"\",\"\",IF(COUNTIF('Entry sheet-2-hin'!$AO$9:$AO$68,\"47KSA1C\")=0,COUNTIF('Entry sheet-2-hin'!$AO$9:$AO$68,\"47KSA1\")*1,COUNTIF('Entry sheet-2-hin'!$AO$9:$AO$68,\"47KSA1C\")*1))","v":""},{"$f":"IF(B55=\"\",\"\",IF(AND(COUNTIF('Entry sheet-2-hin'!$AO$9:$AO$68,\"47KSA2C\")=0,COUNTIF('Entry sheet-2-hin'!$AO$9:$AO$68,\"47KSA2\")=0),\"\",IF(COUNTIF('Entry sheet-2-hin'!$AO$9:$AO$68,\"47KSA2C\")=0,COUNTIF('Entry sheet-2-hin'!$AO$9:$AO$68,\"47KSA2\"),COUNTIF('Entry sheet-2-hin'!$AO$9:$AO$68,\"47KSA2C\")&\"*\")))","v":""},{"$f":"IF(I55=\"\",\"\",IF(COUNTIF('Entry sheet-2-hin'!$AO$9:$AO$68,\"47KSA2C\")=0,COUNTIF('Entry sheet-2-hin'!$AO$9:$AO$68,\"47KSA2\")*2,COUNTIF('Entry sheet-2-hin'!$AO$9:$AO$68,\"47KSA2C\")*2))","v":""},{"$f":"IF(B55=\"\",\"\",IF(AND(COUNTIF('Entry sheet-2-hin'!$AO$9:$AO$68,\"47KLA1C\")=0,COUNTIF('Entry sheet-2-hin'!$AO$9:$AO$68,\"47KLA1\")=0),\"\",IF(COUNTIF('Entry sheet-2-hin'!$AO$9:$AO$68,\"47KLA1C\")=0,COUNTIF('Entry sheet-2-hin'!$AO$9:$AO$68,\"47KLA1\"),COUNTIF('Entry sheet-2-hin'!$AO$9:$AO$68,\"47KLA1C\")&\"*\")))","v":""},{"$f":"IF(K55=\"\",\"\",IF(COUNTIF('Entry sheet-2-hin'!$AO$9:$AO$68,\"47KLA1C\")=0,COUNTIF('Entry sheet-2-hin'!$AO$9:$AO$68,\"47KLA1\")*3,COUNTIF('Entry sheet-2-hin'!$AO$9:$AO$68,\"47KLA1C\")*3))","v":""},{"$f":"IF(B55=\"\",\"\",IF(AND(COUNTIF('Entry sheet-2-hin'!$AO$9:$AO$68,\"1स्मदीउ४\")=0),\"\",COUNTIF('Entry sheet-2-hin'!$AO$9:$AO$68,\"1स्मदीउ४\")))","v":""},"",{"$f":"IF(B55=\"\",\"\",IF(AND(COUNTIF('Entry sheet-2-hin'!$AO$9:$AO$68,\"1स्मदीउ5\")=0),\"\",COUNTIF('Entry sheet-2-hin'!$AO$9:$AO$68,\"1स्मदीउ5\")))","v":""},{"$f":"IF(O55=\"\",\"\",IF(COUNTIF('Entry sheet-2-hin'!$AO$9:$AO$68,\"1स्मदीउ5C\")=0,COUNTIF('Entry sheet-2-hin'!$AO$9:$AO$68,\"1स्मदीउ5\")*5,COUNTIF('Entry sheet-2-hin'!$AO$9:$AO$68,\"1स्मदीउ5C\")*5))","v":""},{"$f":"IF(B55=\"\",\"\",IF(AND(COUNTIF('Entry sheet-2-hin'!$AO$9:$AO$68,\"47UMCC\")=0,COUNTIF('Entry sheet-2-hin'!$AO$9:$AO$68,\"47UMC\")=0),\"\",IF(COUNTIF('Entry sheet-2-hin'!$AO$9:$AO$68,\"47UMCC\")=0,COUNTIF('Entry sheet-2-hin'!$AO$9:$AO$68,\"47UMC\"),COUNTIF('Entry sheet-2-hin'!$AO$9:$AO$68,\"47UMCC\")&\"*\")))","v":""},"",{"$f":"IF(B55=\"\",\"\",IF(AND(COUNTIF('Entry sheet-2-hin'!$AO$9:$AO$68,\"1समवनि\")=0),\"\",COUNTIF('Entry sheet-2-hin'!$AO$9:$AO$68,\"1समवनि\")))","v":""},"",{"$f":"IF(B55=\"\",\"\",IF(AND(COUNTIF('Entry sheet-2-hin'!$AO$9:$AO$68,\"1समअलउ\")=0),\"\",COUNTIF('Entry sheet-2-hin'!$AO$9:$AO$68,\"1समअलउ\")))","v":""},"",{"$f":"IF(B55=\"\",\"\",IF(AND(COUNTIF('Entry sheet-2-hin'!$AO$9:$AO$68,\"47USA2C\")=0,COUNTIF('Entry sheet-2-hin'!$AO$9:$AO$68,\"47USA2\")=0),\"\",IF(COUNTIF('Entry sheet-2-hin'!$AO$9:$AO$68,\"47USA2C\")=0,COUNTIF('Entry sheet-2-hin'!$AO$9:$AO$68,\"47USA2\"),COUNTIF('Entry sheet-2-hin'!$AO$9:$AO$68,\"47USA2C\")&\"*\")))","v":""},{"$f":"IF(W55=\"\",\"\",IF(COUNTIF('Entry sheet-2-hin'!$AO$9:$AO$68,\"47USA2C\")=0,COUNTIF('Entry sheet-2-hin'!$AO$9:$AO$68,\"47USA2\")*2,COUNTIF('Entry sheet-2-hin'!$AO$9:$AO$68,\"47USA2C\")*2))","v":""},{"$f":"IF(B55=\"\",\"\",IF(AND(COUNTIF('Entry sheet-2-hin'!$AO$9:$AO$68,\"47ULA1C\")=0,COUNTIF('Entry sheet-2-hin'!$AO$9:$AO$68,\"47ULA1\")=0),\"\",IF(COUNTIF('Entry sheet-2-hin'!$AO$9:$AO$68,\"47ULA1C\")=0,COUNTIF('Entry sheet-2-hin'!$AO$9:$AO$68,\"47ULA1\"),COUNTIF('Entry sheet-2-hin'!$AO$9:$AO$68,\"47ULA1C\")&\"*\")))","v":""},{"$f":"IF(Y55=\"\",\"\",IF(COUNTIF('Entry sheet-2-hin'!$AO$9:$AO$68,\"47ULA1C\")=0,COUNTIF('Entry sheet-2-hin'!$AO$9:$AO$68,\"47ULA1\")*3,COUNTIF('Entry sheet-2-hin'!$AO$9:$AO$68,\"47ULA1C\")*3))","v":""},{"$f":"IF(B55=\"\",\"\",IF(AND(COUNTIF('Entry sheet-2-hin'!$AO$9:$AO$68,\"1समदीउ४\")=0),\"\",COUNTIF('Entry sheet-2-hin'!$AO$9:$AO$68,\"1समदीउ४\")))","v":""},"",{"$f":"IF(B55=\"\",\"\",IF(AND(COUNTIF('Entry sheet-2-hin'!$AO$9:$AO$68,\"1समदीउ5\")=0),\"\",COUNTIF('Entry sheet-2-hin'!$AO$9:$AO$68,\"1समदीउ5\")))","v":""},{"$f":"IF(AC55=\"\",\"\",IF(COUNTIF('Entry sheet-2-hin'!$AO$9:$AO$68,\"1समदीउ5C\")=0,COUNTIF('Entry sheet-2-hin'!$AO$9:$AO$68,\"1समदीउ5\")*5,COUNTIF('Entry sheet-2-hin'!$AO$9:$AO$68,\"1समदीउ5C\")*5))","v":""},{"$f":"IF(B55=\"\",\"\",IF(AND(COUNTIF('Entry sheet-2-hin'!$AO$9:$AO$68,\"1अबवि\")=0),\"\",COUNTIF('Entry sheet-2-hin'!$AO$9:$AO$68,\"1अबवि\")))","v":""},{"$f":"IF(AE55=\"\",\"\",IF(COUNTIF('Entry sheet-2-hin'!$AO$9:$AO$68,\"47AMCC\")=0,COUNTIF('Entry sheet-2-hin'!$AO$9:$AO$68,\"47AMC\")*1,COUNTIF('Entry sheet-2-hin'!$AO$9:$AO$68,\"47AMCC\")*1))","v":""},{"$f":"IF(B55=\"\",\"\",IF(AND(COUNTIF('Entry sheet-2-hin'!$AO$9:$AO$68,\"47AOTC\")=0,COUNTIF('Entry sheet-2-hin'!$AO$9:$AO$68,\"47AOT\")=0),\"\",IF(COUNTIF('Entry sheet-2-hin'!$AO$9:$AO$68,\"47AOTC\")=0,COUNTIF('Entry sheet-2-hin'!$AO$9:$AO$68,\"47AOT\"),COUNTIF('Entry sheet-2-hin'!$AO$9:$AO$68,\"47AOTC\")&\"*\")))","v":""},{"$f":"IF(AG55=\"\",\"\",IF(COUNTIF('Entry sheet-2-hin'!$AO$9:$AO$68,\"47AOTC\")=0,COUNTIF('Entry sheet-2-hin'!$AO$9:$AO$68,\"47AOT\")*1,COUNTIF('Entry sheet-2-hin'!$AO$9:$AO$68,\"47AOTC\")*1))","v":""},{"$f":"IF(B55=\"\",\"\",IF(AND(COUNTIF('Entry sheet-2-hin'!$AO$9:$AO$68,\"1अअलउ\")=0),\"\",COUNTIF('Entry sheet-2-hin'!$AO$9:$AO$68,\"1अअलउ\")))","v":""},{"$f":"IF(AI55=\"\",\"\",IF(COUNTIF('Entry sheet-2-hin'!$AO$9:$AO$68,\"47ASA1C\")=0,COUNTIF('Entry sheet-2-hin'!$AO$9:$AO$68,\"47ASA1\")*1,COUNTIF('Entry sheet-2-hin'!$AO$9:$AO$68,\"47ASA1C\")*1))","v":""},{"$f":"IF(B55=\"\",\"\",IF(AND(COUNTIF('Entry sheet-2-hin'!$AO$9:$AO$68,\"47ASA2C\")=0,COUNTIF('Entry sheet-2-hin'!$AO$9:$AO$68,\"47ASA2\")=0),\"\",IF(COUNTIF('Entry sheet-2-hin'!$AO$9:$AO$68,\"47ASA2C\")=0,COUNTIF('Entry sheet-2-hin'!$AO$9:$AO$68,\"47ASA2\"),COUNTIF('Entry sheet-2-hin'!$AO$9:$AO$68,\"47ASA2C\")&\"*\")))","v":""},"",{"$f":"IF(B55=\"\",\"\",IF(AND(COUNTIF('Entry sheet-2-hin'!$AO$9:$AO$68,\"47ALA1C\")=0,COUNTIF('Entry sheet-2-hin'!$AO$9:$AO$68,\"47ALA1\")=0),\"\",IF(COUNTIF('Entry sheet-2-hin'!$AO$9:$AO$68,\"47ALA1C\")=0,COUNTIF('Entry sheet-2-hin'!$AO$9:$AO$68,\"47ALA1\"),COUNTIF('Entry sheet-2-hin'!$AO$9:$AO$68,\"47ALA1C\")&\"*\")))","v":""},"",{"$f":"IF(B55=\"\",\"\",IF(AND(COUNTIF('Entry sheet-2-hin'!$AO$9:$AO$68,\"47ALA2C\")=0,COUNTIF('Entry sheet-2-hin'!$AO$9:$AO$68,\"47ALA2\")=0),\"\",IF(COUNTIF('Entry sheet-2-hin'!$AO$9:$AO$68,\"47ALA2C\")=0,COUNTIF('Entry sheet-2-hin'!$AO$9:$AO$68,\"47ALA2\"),COUNTIF('Entry sheet-2-hin'!$AO$9:$AO$68,\"47ALA2C\")&\"*\")))","v":""},{"$f":"IF(AO55=\"\",\"\",IF(COUNTIF('Entry sheet-2-hin'!$AO$9:$AO$68,\"47ALA2C\")=0,COUNTIF('Entry sheet-2-hin'!$AO$9:$AO$68,\"47ALA2\")*4,COUNTIF('Entry sheet-2-hin'!$AO$9:$AO$68,\"47ALA2C\")*4))","v":""},{"$f":"IF(B55=\"\",\"\",IF(AND(COUNTIF('Entry sheet-2-hin'!$AO$9:$AO$68,\"1अदीउ5\")=0),\"\",COUNTIF('Entry sheet-2-hin'!$AO$9:$AO$68,\"1अदीउ5\")))","v":""},{"$f":"IF(AQ55=\"\",\"\",IF(COUNTIF('Entry sheet-2-hin'!$AO$9:$AO$68,\"1अदीउ5C\")=0,COUNTIF('Entry sheet-2-hin'!$AO$9:$AO$68,\"1अदीउ5\")*5,COUNTIF('Entry sheet-2-hin'!$AO$9:$AO$68,\"1अदीउ5C\")*5))","v":""},{"$f":"IF(B55=\"\",\"\",IF(AND(COUNTIF('Entry sheet-2-hin'!$AO$9:$AO$68,\"1रसबवि\")=0),\"\",COUNTIF('Entry sheet-2-hin'!$AO$9:$AO$68,\"1रसबवि\")))","v":""},{"$f":"IF(AS55=\"\",\"\",IF(COUNTIF('Entry sheet-2-hin'!$AO$9:$AO$68,\"47SMCC\")=0,COUNTIF('Entry sheet-2-hin'!$AO$9:$AO$68,\"47SMC\")*1,COUNTIF('Entry sheet-2-hin'!$AO$9:$AO$68,\"47SMCC\")*1))","v":""},{"$f":"IF(B55=\"\",\"\",IF(AND(COUNTIF('Entry sheet-2-hin'!$AO$9:$AO$68,\"47SOTC\")=0,COUNTIF('Entry sheet-2-hin'!$AO$9:$AO$68,\"47SOT\")=0),\"\",IF(COUNTIF('Entry sheet-2-hin'!$AO$9:$AO$68,\"47SOTC\")=0,COUNTIF('Entry sheet-2-hin'!$AO$9:$AO$68,\"47SOT\"),COUNTIF('Entry sheet-2-hin'!$AO$9:$AO$68,\"47SOTC\")&\"*\")))","v":""},{"$f":"IF(AU55=\"\",\"\",IF(COUNTIF('Entry sheet-2-hin'!$AO$9:$AO$68,\"47SOTC\")=0,COUNTIF('Entry sheet-2-hin'!$AO$9:$AO$68,\"47SOT\")*1,COUNTIF('Entry sheet-2-hin'!$AO$9:$AO$68,\"47SOTC\")*1))","v":""},{"$f":"IF(B55=\"\",\"\",IF(AND(COUNTIF('Entry sheet-2-hin'!$AO$9:$AO$68,\"1रसअलउ\")=0),\"\",COUNTIF('Entry sheet-2-hin'!$AO$9:$AO$68,\"1रसअलउ\")))","v":""},"",{"$f":"IF(B55=\"\",\"\",IF(AND(COUNTIF('Entry sheet-2-hin'!$AO$9:$AO$68,\"1रसलउ२\")=0),\"\",COUNTIF('Entry sheet-2-hin'!$AO$9:$AO$68,\"1रसलउ२\")))","v":""},{"$f":"IF(AY55=\"\",\"\",IF(COUNTIF('Entry sheet-2-hin'!$AO$9:$AO$68,\"47SSA2C\")=0,COUNTIF('Entry sheet-2-hin'!$AO$9:$AO$68,\"47SSA2\")*2,COUNTIF('Entry sheet-2-hin'!$AO$9:$AO$68,\"47SSA2C\")*2))","v":""},{"$f":"IF(B55=\"\",\"\",IF(AND(COUNTIF('Entry sheet-2-hin'!$AO$9:$AO$68,\"47SLA1C\")=0,COUNTIF('Entry sheet-2-hin'!$AO$9:$AO$68,\"47SLA1\")=0),\"\",IF(COUNTIF('Entry sheet-2-hin'!$AO$9:$AO$68,\"47SLA1C\")=0,COUNTIF('Entry sheet-2-hin'!$AO$9:$AO$68,\"47SLA1\"),COUNTIF('Entry sheet-2-hin'!$AO$9:$AO$68,\"47SLA1C\")&\"*\")))","v":""},{"$f":"IF(BA55=\"\",\"\",IF(COUNTIF('Entry sheet-2-hin'!$AO$9:$AO$68,\"47SLA1C\")=0,COUNTIF('Entry sheet-2-hin'!$AO$9:$AO$68,\"47SLA1\")*3,COUNTIF('Entry sheet-2-hin'!$AO$9:$AO$68,\"47SLA1C\")*3))","v":""},{"$f":"IF(B55=\"\",\"\",IF(AND(COUNTIF('Entry sheet-2-hin'!$AO$9:$AO$68,\"47SLA2C\")=0,COUNTIF('Entry sheet-2-hin'!$AO$9:$AO$68,\"47SLA2\")=0),\"\",IF(COUNTIF('Entry sheet-2-hin'!$AO$9:$AO$68,\"47SLA2C\")=0,COUNTIF('Entry sheet-2-hin'!$AO$9:$AO$68,\"47SLA2\"),COUNTIF('Entry sheet-2-hin'!$AO$9:$AO$68,\"47SLA2C\")&\"*\")))","v":""},"",{"$f":"IF(B55=\"\",\"\",IF(AND(COUNTIF('Entry sheet-2-hin'!$AO$9:$AO$68,\"1रसदीउ5\")=0),\"\",COUNTIF('Entry sheet-2-hin'!$AO$9:$AO$68,\"1रसदीउ5\")))","v":""},"","","","","","","","","","","","","","","","",""]
[{"$f":"IF('Entry sheet-1-hin'!A57=\"\",\"\",'Entry sheet-1-hin'!A57)","v":""},{"$f":"IF('Entry sheet-1-hin'!B57=\"\",\"\",'Entry sheet-1-hin'!B57)","v":""},{"$f":"IF(B56=\"\",\"\",IF(AND(COUNTIF('Entry sheet-2-hin'!$AO$9:$AO$68,\"48KMCC\")=0,COUNTIF('Entry sheet-2-hin'!$AO$9:$AO$68,\"48KMC\")=0),\"\",IF(COUNTIF('Entry sheet-2-hin'!$AO$9:$AO$68,\"48KMCC\")=0,COUNTIF('Entry sheet-2-hin'!$AO$9:$AO$68,\"48KMC\"),COUNTIF('Entry sheet-2-hin'!$AO$9:$AO$68,\"48KMCC\")&\"*\")))","v":""},"",{"$f":"IF(B56=\"\",\"\",IF(AND(COUNTIF('Entry sheet-2-hin'!$AO$9:$AO$68,\"48KOTC\")=0,COUNTIF('Entry sheet-2-hin'!$AO$9:$AO$68,\"48KOT\")=0),\"\",IF(COUNTIF('Entry sheet-2-hin'!$AO$9:$AO$68,\"48KOTC\")=0,COUNTIF('Entry sheet-2-hin'!$AO$9:$AO$68,\"48KOT\"),COUNTIF('Entry sheet-2-hin'!$AO$9:$AO$68,\"48KOTC\")&\"*\")))","v":""},"",{"$f":"IF(B56=\"\",\"\",IF(AND(COUNTIF('Entry sheet-2-hin'!$AO$9:$AO$68,\"48KSA1C\")=0,COUNTIF('Entry sheet-2-hin'!$AO$9:$AO$68,\"48KSA1\")=0),\"\",IF(COUNTIF('Entry sheet-2-hin'!$AO$9:$AO$68,\"48KSA1C\")=0,COUNTIF('Entry sheet-2-hin'!$AO$9:$AO$68,\"48KSA1\"),COUNTIF('Entry sheet-2-hin'!$AO$9:$AO$68,\"48KSA1C\")&\"*\")))","v":""},{"$f":"IF(G56=\"\",\"\",IF(COUNTIF('Entry sheet-2-hin'!$AO$9:$AO$68,\"48KSA1C\")=0,COUNTIF('Entry sheet-2-hin'!$AO$9:$AO$68,\"48KSA1\")*1,COUNTIF('Entry sheet-2-hin'!$AO$9:$AO$68,\"48KSA1C\")*1))","v":""},{"$f":"IF(B56=\"\",\"\",IF(AND(COUNTIF('Entry sheet-2-hin'!$AO$9:$AO$68,\"48KSA2C\")=0,COUNTIF('Entry sheet-2-hin'!$AO$9:$AO$68,\"48KSA2\")=0),\"\",IF(COUNTIF('Entry sheet-2-hin'!$AO$9:$AO$68,\"48KSA2C\")=0,COUNTIF('Entry sheet-2-hin'!$AO$9:$AO$68,\"48KSA2\"),COUNTIF('Entry sheet-2-hin'!$AO$9:$AO$68,\"48KSA2C\")&\"*\")))","v":""},{"$f":"IF(I56=\"\",\"\",IF(COUNTIF('Entry sheet-2-hin'!$AO$9:$AO$68,\"48KSA2C\")=0,COUNTIF('Entry sheet-2-hin'!$AO$9:$AO$68,\"48KSA2\")*2,COUNTIF('Entry sheet-2-hin'!$AO$9:$AO$68,\"48KSA2C\")*2))","v":""},{"$f":"IF(B56=\"\",\"\",IF(AND(COUNTIF('Entry sheet-2-hin'!$AO$9:$AO$68,\"48KLA1C\")=0,COUNTIF('Entry sheet-2-hin'!$AO$9:$AO$68,\"48KLA1\")=0),\"\",IF(COUNTIF('Entry sheet-2-hin'!$AO$9:$AO$68,\"48KLA1C\")=0,COUNTIF('Entry sheet-2-hin'!$AO$9:$AO$68,\"48KLA1\"),COUNTIF('Entry sheet-2-hin'!$AO$9:$AO$68,\"48KLA1C\")&\"*\")))","v":""},{"$f":"IF(K56=\"\",\"\",IF(COUNTIF('Entry sheet-2-hin'!$AO$9:$AO$68,\"48KLA1C\")=0,COUNTIF('Entry sheet-2-hin'!$AO$9:$AO$68,\"48KLA1\")*3,COUNTIF('Entry sheet-2-hin'!$AO$9:$AO$68,\"48KLA1C\")*3))","v":""},{"$f":"IF(B56=\"\",\"\",IF(AND(COUNTIF('Entry sheet-2-hin'!$AO$9:$AO$68,\"1स्मदीउ४\")=0),\"\",COUNTIF('Entry sheet-2-hin'!$AO$9:$AO$68,\"1स्मदीउ४\")))","v":""},"",{"$f":"IF(B56=\"\",\"\",IF(AND(COUNTIF('Entry sheet-2-hin'!$AO$9:$AO$68,\"1स्मदीउ5\")=0),\"\",COUNTIF('Entry sheet-2-hin'!$AO$9:$AO$68,\"1स्मदीउ5\")))","v":""},{"$f":"IF(O56=\"\",\"\",IF(COUNTIF('Entry sheet-2-hin'!$AO$9:$AO$68,\"1स्मदीउ5C\")=0,COUNTIF('Entry sheet-2-hin'!$AO$9:$AO$68,\"1स्मदीउ5\")*5,COUNTIF('Entry sheet-2-hin'!$AO$9:$AO$68,\"1स्मदीउ5C\")*5))","v":""},{"$f":"IF(B56=\"\",\"\",IF(AND(COUNTIF('Entry sheet-2-hin'!$AO$9:$AO$68,\"48UMCC\")=0,COUNTIF('Entry sheet-2-hin'!$AO$9:$AO$68,\"48UMC\")=0),\"\",IF(COUNTIF('Entry sheet-2-hin'!$AO$9:$AO$68,\"48UMCC\")=0,COUNTIF('Entry sheet-2-hin'!$AO$9:$AO$68,\"48UMC\"),COUNTIF('Entry sheet-2-hin'!$AO$9:$AO$68,\"48UMCC\")&\"*\")))","v":""},"",{"$f":"IF(B56=\"\",\"\",IF(AND(COUNTIF('Entry sheet-2-hin'!$AO$9:$AO$68,\"1समवनि\")=0),\"\",COUNTIF('Entry sheet-2-hin'!$AO$9:$AO$68,\"1समवनि\")))","v":""},"",{"$f":"IF(B56=\"\",\"\",IF(AND(COUNTIF('Entry sheet-2-hin'!$AO$9:$AO$68,\"1समअलउ\")=0),\"\",COUNTIF('Entry sheet-2-hin'!$AO$9:$AO$68,\"1समअलउ\")))","v":""},"",{"$f":"IF(B56=\"\",\"\",IF(AND(COUNTIF('Entry sheet-2-hin'!$AO$9:$AO$68,\"48USA2C\")=0,COUNTIF('Entry sheet-2-hin'!$AO$9:$AO$68,\"48USA2\")=0),\"\",IF(COUNTIF('Entry sheet-2-hin'!$AO$9:$AO$68,\"48USA2C\")=0,COUNTIF('Entry sheet-2-hin'!$AO$9:$AO$68,\"48USA2\"),COUNTIF('Entry sheet-2-hin'!$AO$9:$AO$68,\"48USA2C\")&\"*\")))","v":""},{"$f":"IF(W56=\"\",\"\",IF(COUNTIF('Entry sheet-2-hin'!$AO$9:$AO$68,\"48USA2C\")=0,COUNTIF('Entry sheet-2-hin'!$AO$9:$AO$68,\"48USA2\")*2,COUNTIF('Entry sheet-2-hin'!$AO$9:$AO$68,\"48USA2C\")*2))","v":""},{"$f":"IF(B56=\"\",\"\",IF(AND(COUNTIF('Entry sheet-2-hin'!$AO$9:$AO$68,\"48ULA1C\")=0,COUNTIF('Entry sheet-2-hin'!$AO$9:$AO$68,\"48ULA1\")=0),\"\",IF(COUNTIF('Entry sheet-2-hin'!$AO$9:$AO$68,\"48ULA1C\")=0,COUNTIF('Entry sheet-2-hin'!$AO$9:$AO$68,\"48ULA1\"),COUNTIF('Entry sheet-2-hin'!$AO$9:$AO$68,\"48ULA1C\")&\"*\")))","v":""},{"$f":"IF(Y56=\"\",\"\",IF(COUNTIF('Entry sheet-2-hin'!$AO$9:$AO$68,\"48ULA1C\")=0,COUNTIF('Entry sheet-2-hin'!$AO$9:$AO$68,\"48ULA1\")*3,COUNTIF('Entry sheet-2-hin'!$AO$9:$AO$68,\"48ULA1C\")*3))","v":""},{"$f":"IF(B56=\"\",\"\",IF(AND(COUNTIF('Entry sheet-2-hin'!$AO$9:$AO$68,\"1समदीउ४\")=0),\"\",COUNTIF('Entry sheet-2-hin'!$AO$9:$AO$68,\"1समदीउ४\")))","v":""},"",{"$f":"IF(B56=\"\",\"\",IF(AND(COUNTIF('Entry sheet-2-hin'!$AO$9:$AO$68,\"1समदीउ5\")=0),\"\",COUNTIF('Entry sheet-2-hin'!$AO$9:$AO$68,\"1समदीउ5\")))","v":""},{"$f":"IF(AC56=\"\",\"\",IF(COUNTIF('Entry sheet-2-hin'!$AO$9:$AO$68,\"1समदीउ5C\")=0,COUNTIF('Entry sheet-2-hin'!$AO$9:$AO$68,\"1समदीउ5\")*5,COUNTIF('Entry sheet-2-hin'!$AO$9:$AO$68,\"1समदीउ5C\")*5))","v":""},{"$f":"IF(B56=\"\",\"\",IF(AND(COUNTIF('Entry sheet-2-hin'!$AO$9:$AO$68,\"1अबवि\")=0),\"\",COUNTIF('Entry sheet-2-hin'!$AO$9:$AO$68,\"1अबवि\")))","v":""},{"$f":"IF(AE56=\"\",\"\",IF(COUNTIF('Entry sheet-2-hin'!$AO$9:$AO$68,\"48AMCC\")=0,COUNTIF('Entry sheet-2-hin'!$AO$9:$AO$68,\"48AMC\")*1,COUNTIF('Entry sheet-2-hin'!$AO$9:$AO$68,\"48AMCC\")*1))","v":""},{"$f":"IF(B56=\"\",\"\",IF(AND(COUNTIF('Entry sheet-2-hin'!$AO$9:$AO$68,\"48AOTC\")=0,COUNTIF('Entry sheet-2-hin'!$AO$9:$AO$68,\"48AOT\")=0),\"\",IF(COUNTIF('Entry sheet-2-hin'!$AO$9:$AO$68,\"48AOTC\")=0,COUNTIF('Entry sheet-2-hin'!$AO$9:$AO$68,\"48AOT\"),COUNTIF('Entry sheet-2-hin'!$AO$9:$AO$68,\"48AOTC\")&\"*\")))","v":""},{"$f":"IF(AG56=\"\",\"\",IF(COUNTIF('Entry sheet-2-hin'!$AO$9:$AO$68,\"48AOTC\")=0,COUNTIF('Entry sheet-2-hin'!$AO$9:$AO$68,\"48AOT\")*1,COUNTIF('Entry sheet-2-hin'!$AO$9:$AO$68,\"48AOTC\")*1))","v":""},{"$f":"IF(B56=\"\",\"\",IF(AND(COUNTIF('Entry sheet-2-hin'!$AO$9:$AO$68,\"1अअलउ\")=0),\"\",COUNTIF('Entry sheet-2-hin'!$AO$9:$AO$68,\"1अअलउ\")))","v":""},{"$f":"IF(AI56=\"\",\"\",IF(COUNTIF('Entry sheet-2-hin'!$AO$9:$AO$68,\"48ASA1C\")=0,COUNTIF('Entry sheet-2-hin'!$AO$9:$AO$68,\"48ASA1\")*1,COUNTIF('Entry sheet-2-hin'!$AO$9:$AO$68,\"48ASA1C\")*1))","v":""},{"$f":"IF(B56=\"\",\"\",IF(AND(COUNTIF('Entry sheet-2-hin'!$AO$9:$AO$68,\"48ASA2C\")=0,COUNTIF('Entry sheet-2-hin'!$AO$9:$AO$68,\"48ASA2\")=0),\"\",IF(COUNTIF('Entry sheet-2-hin'!$AO$9:$AO$68,\"48ASA2C\")=0,COUNTIF('Entry sheet-2-hin'!$AO$9:$AO$68,\"48ASA2\"),COUNTIF('Entry sheet-2-hin'!$AO$9:$AO$68,\"48ASA2C\")&\"*\")))","v":""},"",{"$f":"IF(B56=\"\",\"\",IF(AND(COUNTIF('Entry sheet-2-hin'!$AO$9:$AO$68,\"48ALA1C\")=0,COUNTIF('Entry sheet-2-hin'!$AO$9:$AO$68,\"48ALA1\")=0),\"\",IF(COUNTIF('Entry sheet-2-hin'!$AO$9:$AO$68,\"48ALA1C\")=0,COUNTIF('Entry sheet-2-hin'!$AO$9:$AO$68,\"48ALA1\"),COUNTIF('Entry sheet-2-hin'!$AO$9:$AO$68,\"48ALA1C\")&\"*\")))","v":""},"",{"$f":"IF(B56=\"\",\"\",IF(AND(COUNTIF('Entry sheet-2-hin'!$AO$9:$AO$68,\"48ALA2C\")=0,COUNTIF('Entry sheet-2-hin'!$AO$9:$AO$68,\"48ALA2\")=0),\"\",IF(COUNTIF('Entry sheet-2-hin'!$AO$9:$AO$68,\"48ALA2C\")=0,COUNTIF('Entry sheet-2-hin'!$AO$9:$AO$68,\"48ALA2\"),COUNTIF('Entry sheet-2-hin'!$AO$9:$AO$68,\"48ALA2C\")&\"*\")))","v":""},{"$f":"IF(AO56=\"\",\"\",IF(COUNTIF('Entry sheet-2-hin'!$AO$9:$AO$68,\"48ALA2C\")=0,COUNTIF('Entry sheet-2-hin'!$AO$9:$AO$68,\"48ALA2\")*4,COUNTIF('Entry sheet-2-hin'!$AO$9:$AO$68,\"48ALA2C\")*4))","v":""},{"$f":"IF(B56=\"\",\"\",IF(AND(COUNTIF('Entry sheet-2-hin'!$AO$9:$AO$68,\"1अदीउ5\")=0),\"\",COUNTIF('Entry sheet-2-hin'!$AO$9:$AO$68,\"1अदीउ5\")))","v":""},{"$f":"IF(AQ56=\"\",\"\",IF(COUNTIF('Entry sheet-2-hin'!$AO$9:$AO$68,\"1अदीउ5C\")=0,COUNTIF('Entry sheet-2-hin'!$AO$9:$AO$68,\"1अदीउ5\")*5,COUNTIF('Entry sheet-2-hin'!$AO$9:$AO$68,\"1अदीउ5C\")*5))","v":""},{"$f":"IF(B56=\"\",\"\",IF(AND(COUNTIF('Entry sheet-2-hin'!$AO$9:$AO$68,\"1रसबवि\")=0),\"\",COUNTIF('Entry sheet-2-hin'!$AO$9:$AO$68,\"1रसबवि\")))","v":""},{"$f":"IF(AS56=\"\",\"\",IF(COUNTIF('Entry sheet-2-hin'!$AO$9:$AO$68,\"48SMCC\")=0,COUNTIF('Entry sheet-2-hin'!$AO$9:$AO$68,\"48SMC\")*1,COUNTIF('Entry sheet-2-hin'!$AO$9:$AO$68,\"48SMCC\")*1))","v":""},{"$f":"IF(B56=\"\",\"\",IF(AND(COUNTIF('Entry sheet-2-hin'!$AO$9:$AO$68,\"48SOTC\")=0,COUNTIF('Entry sheet-2-hin'!$AO$9:$AO$68,\"48SOT\")=0),\"\",IF(COUNTIF('Entry sheet-2-hin'!$AO$9:$AO$68,\"48SOTC\")=0,COUNTIF('Entry sheet-2-hin'!$AO$9:$AO$68,\"48SOT\"),COUNTIF('Entry sheet-2-hin'!$AO$9:$AO$68,\"48SOTC\")&\"*\")))","v":""},{"$f":"IF(AU56=\"\",\"\",IF(COUNTIF('Entry sheet-2-hin'!$AO$9:$AO$68,\"48SOTC\")=0,COUNTIF('Entry sheet-2-hin'!$AO$9:$AO$68,\"48SOT\")*1,COUNTIF('Entry sheet-2-hin'!$AO$9:$AO$68,\"48SOTC\")*1))","v":""},{"$f":"IF(B56=\"\",\"\",IF(AND(COUNTIF('Entry sheet-2-hin'!$AO$9:$AO$68,\"1रसअलउ\")=0),\"\",COUNTIF('Entry sheet-2-hin'!$AO$9:$AO$68,\"1रसअलउ\")))","v":""},"",{"$f":"IF(B56=\"\",\"\",IF(AND(COUNTIF('Entry sheet-2-hin'!$AO$9:$AO$68,\"1रसलउ२\")=0),\"\",COUNTIF('Entry sheet-2-hin'!$AO$9:$AO$68,\"1रसलउ२\")))","v":""},{"$f":"IF(AY56=\"\",\"\",IF(COUNTIF('Entry sheet-2-hin'!$AO$9:$AO$68,\"48SSA2C\")=0,COUNTIF('Entry sheet-2-hin'!$AO$9:$AO$68,\"48SSA2\")*2,COUNTIF('Entry sheet-2-hin'!$AO$9:$AO$68,\"48SSA2C\")*2))","v":""},{"$f":"IF(B56=\"\",\"\",IF(AND(COUNTIF('Entry sheet-2-hin'!$AO$9:$AO$68,\"48SLA1C\")=0,COUNTIF('Entry sheet-2-hin'!$AO$9:$AO$68,\"48SLA1\")=0),\"\",IF(COUNTIF('Entry sheet-2-hin'!$AO$9:$AO$68,\"48SLA1C\")=0,COUNTIF('Entry sheet-2-hin'!$AO$9:$AO$68,\"48SLA1\"),COUNTIF('Entry sheet-2-hin'!$AO$9:$AO$68,\"48SLA1C\")&\"*\")))","v":""},{"$f":"IF(BA56=\"\",\"\",IF(COUNTIF('Entry sheet-2-hin'!$AO$9:$AO$68,\"48SLA1C\")=0,COUNTIF('Entry sheet-2-hin'!$AO$9:$AO$68,\"48SLA1\")*3,COUNTIF('Entry sheet-2-hin'!$AO$9:$AO$68,\"48SLA1C\")*3))","v":""},{"$f":"IF(B56=\"\",\"\",IF(AND(COUNTIF('Entry sheet-2-hin'!$AO$9:$AO$68,\"48SLA2C\")=0,COUNTIF('Entry sheet-2-hin'!$AO$9:$AO$68,\"48SLA2\")=0),\"\",IF(COUNTIF('Entry sheet-2-hin'!$AO$9:$AO$68,\"48SLA2C\")=0,COUNTIF('Entry sheet-2-hin'!$AO$9:$AO$68,\"48SLA2\"),COUNTIF('Entry sheet-2-hin'!$AO$9:$AO$68,\"48SLA2C\")&\"*\")))","v":""},"",{"$f":"IF(B56=\"\",\"\",IF(AND(COUNTIF('Entry sheet-2-hin'!$AO$9:$AO$68,\"1रसदीउ5\")=0),\"\",COUNTIF('Entry sheet-2-hin'!$AO$9:$AO$68,\"1रसदीउ5\")))","v":""},"","","","","","","","","","","","","","","","",""]
[{"$f":"IF('Entry sheet-1-hin'!A58=\"\",\"\",'Entry sheet-1-hin'!A58)","v":""},{"$f":"IF('Entry sheet-1-hin'!B58=\"\",\"\",'Entry sheet-1-hin'!B58)","v":""},{"$f":"IF(B57=\"\",\"\",IF(AND(COUNTIF('Entry sheet-2-hin'!$AO$9:$AO$68,\"49KMCC\")=0,COUNTIF('Entry sheet-2-hin'!$AO$9:$AO$68,\"49KMC\")=0),\"\",IF(COUNTIF('Entry sheet-2-hin'!$AO$9:$AO$68,\"49KMCC\")=0,COUNTIF('Entry sheet-2-hin'!$AO$9:$AO$68,\"49KMC\"),COUNTIF('Entry sheet-2-hin'!$AO$9:$AO$68,\"49KMCC\")&\"*\")))","v":""},"",{"$f":"IF(B57=\"\",\"\",IF(AND(COUNTIF('Entry sheet-2-hin'!$AO$9:$AO$68,\"49KOTC\")=0,COUNTIF('Entry sheet-2-hin'!$AO$9:$AO$68,\"49KOT\")=0),\"\",IF(COUNTIF('Entry sheet-2-hin'!$AO$9:$AO$68,\"49KOTC\")=0,COUNTIF('Entry sheet-2-hin'!$AO$9:$AO$68,\"49KOT\"),COUNTIF('Entry sheet-2-hin'!$AO$9:$AO$68,\"49KOTC\")&\"*\")))","v":""},"",{"$f":"IF(B57=\"\",\"\",IF(AND(COUNTIF('Entry sheet-2-hin'!$AO$9:$AO$68,\"49KSA1C\")=0,COUNTIF('Entry sheet-2-hin'!$AO$9:$AO$68,\"49KSA1\")=0),\"\",IF(COUNTIF('Entry sheet-2-hin'!$AO$9:$AO$68,\"49KSA1C\")=0,COUNTIF('Entry sheet-2-hin'!$AO$9:$AO$68,\"49KSA1\"),COUNTIF('Entry sheet-2-hin'!$AO$9:$AO$68,\"49KSA1C\")&\"*\")))","v":""},{"$f":"IF(G57=\"\",\"\",IF(COUNTIF('Entry sheet-2-hin'!$AO$9:$AO$68,\"49KSA1C\")=0,COUNTIF('Entry sheet-2-hin'!$AO$9:$AO$68,\"49KSA1\")*1,COUNTIF('Entry sheet-2-hin'!$AO$9:$AO$68,\"49KSA1C\")*1))","v":""},{"$f":"IF(B57=\"\",\"\",IF(AND(COUNTIF('Entry sheet-2-hin'!$AO$9:$AO$68,\"49KSA2C\")=0,COUNTIF('Entry sheet-2-hin'!$AO$9:$AO$68,\"49KSA2\")=0),\"\",IF(COUNTIF('Entry sheet-2-hin'!$AO$9:$AO$68,\"49KSA2C\")=0,COUNTIF('Entry sheet-2-hin'!$AO$9:$AO$68,\"49KSA2\"),COUNTIF('Entry sheet-2-hin'!$AO$9:$AO$68,\"49KSA2C\")&\"*\")))","v":""},{"$f":"IF(I57=\"\",\"\",IF(COUNTIF('Entry sheet-2-hin'!$AO$9:$AO$68,\"49KSA2C\")=0,COUNTIF('Entry sheet-2-hin'!$AO$9:$AO$68,\"49KSA2\")*2,COUNTIF('Entry sheet-2-hin'!$AO$9:$AO$68,\"49KSA2C\")*2))","v":""},{"$f":"IF(B57=\"\",\"\",IF(AND(COUNTIF('Entry sheet-2-hin'!$AO$9:$AO$68,\"49KLA1C\")=0,COUNTIF('Entry sheet-2-hin'!$AO$9:$AO$68,\"49KLA1\")=0),\"\",IF(COUNTIF('Entry sheet-2-hin'!$AO$9:$AO$68,\"49KLA1C\")=0,COUNTIF('Entry sheet-2-hin'!$AO$9:$AO$68,\"49KLA1\"),COUNTIF('Entry sheet-2-hin'!$AO$9:$AO$68,\"49KLA1C\")&\"*\")))","v":""},{"$f":"IF(K57=\"\",\"\",IF(COUNTIF('Entry sheet-2-hin'!$AO$9:$AO$68,\"49KLA1C\")=0,COUNTIF('Entry sheet-2-hin'!$AO$9:$AO$68,\"49KLA1\")*3,COUNTIF('Entry sheet-2-hin'!$AO$9:$AO$68,\"49KLA1C\")*3))","v":""},{"$f":"IF(B57=\"\",\"\",IF(AND(COUNTIF('Entry sheet-2-hin'!$AO$9:$AO$68,\"1स्मदीउ४\")=0),\"\",COUNTIF('Entry sheet-2-hin'!$AO$9:$AO$68,\"1स्मदीउ४\")))","v":""},"",{"$f":"IF(B57=\"\",\"\",IF(AND(COUNTIF('Entry sheet-2-hin'!$AO$9:$AO$68,\"1स्मदीउ5\")=0),\"\",COUNTIF('Entry sheet-2-hin'!$AO$9:$AO$68,\"1स्मदीउ5\")))","v":""},{"$f":"IF(O57=\"\",\"\",IF(COUNTIF('Entry sheet-2-hin'!$AO$9:$AO$68,\"1स्मदीउ5C\")=0,COUNTIF('Entry sheet-2-hin'!$AO$9:$AO$68,\"1स्मदीउ5\")*5,COUNTIF('Entry sheet-2-hin'!$AO$9:$AO$68,\"1स्मदीउ5C\")*5))","v":""},{"$f":"IF(B57=\"\",\"\",IF(AND(COUNTIF('Entry sheet-2-hin'!$AO$9:$AO$68,\"49UMCC\")=0,COUNTIF('Entry sheet-2-hin'!$AO$9:$AO$68,\"49UMC\")=0),\"\",IF(COUNTIF('Entry sheet-2-hin'!$AO$9:$AO$68,\"49UMCC\")=0,COUNTIF('Entry sheet-2-hin'!$AO$9:$AO$68,\"49UMC\"),COUNTIF('Entry sheet-2-hin'!$AO$9:$AO$68,\"49UMCC\")&\"*\")))","v":""},"",{"$f":"IF(B57=\"\",\"\",IF(AND(COUNTIF('Entry sheet-2-hin'!$AO$9:$AO$68,\"1समवनि\")=0),\"\",COUNTIF('Entry sheet-2-hin'!$AO$9:$AO$68,\"1समवनि\")))","v":""},"",{"$f":"IF(B57=\"\",\"\",IF(AND(COUNTIF('Entry sheet-2-hin'!$AO$9:$AO$68,\"1समअलउ\")=0),\"\",COUNTIF('Entry sheet-2-hin'!$AO$9:$AO$68,\"1समअलउ\")))","v":""},"",{"$f":"IF(B57=\"\",\"\",IF(AND(COUNTIF('Entry sheet-2-hin'!$AO$9:$AO$68,\"49USA2C\")=0,COUNTIF('Entry sheet-2-hin'!$AO$9:$AO$68,\"49USA2\")=0),\"\",IF(COUNTIF('Entry sheet-2-hin'!$AO$9:$AO$68,\"49USA2C\")=0,COUNTIF('Entry sheet-2-hin'!$AO$9:$AO$68,\"49USA2\"),COUNTIF('Entry sheet-2-hin'!$AO$9:$AO$68,\"49USA2C\")&\"*\")))","v":""},{"$f":"IF(W57=\"\",\"\",IF(COUNTIF('Entry sheet-2-hin'!$AO$9:$AO$68,\"49USA2C\")=0,COUNTIF('Entry sheet-2-hin'!$AO$9:$AO$68,\"49USA2\")*2,COUNTIF('Entry sheet-2-hin'!$AO$9:$AO$68,\"49USA2C\")*2))","v":""},{"$f":"IF(B57=\"\",\"\",IF(AND(COUNTIF('Entry sheet-2-hin'!$AO$9:$AO$68,\"49ULA1C\")=0,COUNTIF('Entry sheet-2-hin'!$AO$9:$AO$68,\"49ULA1\")=0),\"\",IF(COUNTIF('Entry sheet-2-hin'!$AO$9:$AO$68,\"49ULA1C\")=0,COUNTIF('Entry sheet-2-hin'!$AO$9:$AO$68,\"49ULA1\"),COUNTIF('Entry sheet-2-hin'!$AO$9:$AO$68,\"49ULA1C\")&\"*\")))","v":""},{"$f":"IF(Y57=\"\",\"\",IF(COUNTIF('Entry sheet-2-hin'!$AO$9:$AO$68,\"49ULA1C\")=0,COUNTIF('Entry sheet-2-hin'!$AO$9:$AO$68,\"49ULA1\")*3,COUNTIF('Entry sheet-2-hin'!$AO$9:$AO$68,\"49ULA1C\")*3))","v":""},{"$f":"IF(B57=\"\",\"\",IF(AND(COUNTIF('Entry sheet-2-hin'!$AO$9:$AO$68,\"1समदीउ४\")=0),\"\",COUNTIF('Entry sheet-2-hin'!$AO$9:$AO$68,\"1समदीउ४\")))","v":""},"",{"$f":"IF(B57=\"\",\"\",IF(AND(COUNTIF('Entry sheet-2-hin'!$AO$9:$AO$68,\"1समदीउ5\")=0),\"\",COUNTIF('Entry sheet-2-hin'!$AO$9:$AO$68,\"1समदीउ5\")))","v":""},{"$f":"IF(AC57=\"\",\"\",IF(COUNTIF('Entry sheet-2-hin'!$AO$9:$AO$68,\"1समदीउ5C\")=0,COUNTIF('Entry sheet-2-hin'!$AO$9:$AO$68,\"1समदीउ5\")*5,COUNTIF('Entry sheet-2-hin'!$AO$9:$AO$68,\"1समदीउ5C\")*5))","v":""},{"$f":"IF(B57=\"\",\"\",IF(AND(COUNTIF('Entry sheet-2-hin'!$AO$9:$AO$68,\"1अबवि\")=0),\"\",COUNTIF('Entry sheet-2-hin'!$AO$9:$AO$68,\"1अबवि\")))","v":""},{"$f":"IF(AE57=\"\",\"\",IF(COUNTIF('Entry sheet-2-hin'!$AO$9:$AO$68,\"49AMCC\")=0,COUNTIF('Entry sheet-2-hin'!$AO$9:$AO$68,\"49AMC\")*1,COUNTIF('Entry sheet-2-hin'!$AO$9:$AO$68,\"49AMCC\")*1))","v":""},{"$f":"IF(B57=\"\",\"\",IF(AND(COUNTIF('Entry sheet-2-hin'!$AO$9:$AO$68,\"49AOTC\")=0,COUNTIF('Entry sheet-2-hin'!$AO$9:$AO$68,\"49AOT\")=0),\"\",IF(COUNTIF('Entry sheet-2-hin'!$AO$9:$AO$68,\"49AOTC\")=0,COUNTIF('Entry sheet-2-hin'!$AO$9:$AO$68,\"49AOT\"),COUNTIF('Entry sheet-2-hin'!$AO$9:$AO$68,\"49AOTC\")&\"*\")))","v":""},{"$f":"IF(AG57=\"\",\"\",IF(COUNTIF('Entry sheet-2-hin'!$AO$9:$AO$68,\"49AOTC\")=0,COUNTIF('Entry sheet-2-hin'!$AO$9:$AO$68,\"49AOT\")*1,COUNTIF('Entry sheet-2-hin'!$AO$9:$AO$68,\"49AOTC\")*1))","v":""},{"$f":"IF(B57=\"\",\"\",IF(AND(COUNTIF('Entry sheet-2-hin'!$AO$9:$AO$68,\"1अअलउ\")=0),\"\",COUNTIF('Entry sheet-2-hin'!$AO$9:$AO$68,\"1अअलउ\")))","v":""},{"$f":"IF(AI57=\"\",\"\",IF(COUNTIF('Entry sheet-2-hin'!$AO$9:$AO$68,\"49ASA1C\")=0,COUNTIF('Entry sheet-2-hin'!$AO$9:$AO$68,\"49ASA1\")*1,COUNTIF('Entry sheet-2-hin'!$AO$9:$AO$68,\"49ASA1C\")*1))","v":""},{"$f":"IF(B57=\"\",\"\",IF(AND(COUNTIF('Entry sheet-2-hin'!$AO$9:$AO$68,\"49ASA2C\")=0,COUNTIF('Entry sheet-2-hin'!$AO$9:$AO$68,\"49ASA2\")=0),\"\",IF(COUNTIF('Entry sheet-2-hin'!$AO$9:$AO$68,\"49ASA2C\")=0,COUNTIF('Entry sheet-2-hin'!$AO$9:$AO$68,\"49ASA2\"),COUNTIF('Entry sheet-2-hin'!$AO$9:$AO$68,\"49ASA2C\")&\"*\")))","v":""},"",{"$f":"IF(B57=\"\",\"\",IF(AND(COUNTIF('Entry sheet-2-hin'!$AO$9:$AO$68,\"49ALA1C\")=0,COUNTIF('Entry sheet-2-hin'!$AO$9:$AO$68,\"49ALA1\")=0),\"\",IF(COUNTIF('Entry sheet-2-hin'!$AO$9:$AO$68,\"49ALA1C\")=0,COUNTIF('Entry sheet-2-hin'!$AO$9:$AO$68,\"49ALA1\"),COUNTIF('Entry sheet-2-hin'!$AO$9:$AO$68,\"49ALA1C\")&\"*\")))","v":""},"",{"$f":"IF(B57=\"\",\"\",IF(AND(COUNTIF('Entry sheet-2-hin'!$AO$9:$AO$68,\"49ALA2C\")=0,COUNTIF('Entry sheet-2-hin'!$AO$9:$AO$68,\"49ALA2\")=0),\"\",IF(COUNTIF('Entry sheet-2-hin'!$AO$9:$AO$68,\"49ALA2C\")=0,COUNTIF('Entry sheet-2-hin'!$AO$9:$AO$68,\"49ALA2\"),COUNTIF('Entry sheet-2-hin'!$AO$9:$AO$68,\"49ALA2C\")&\"*\")))","v":""},{"$f":"IF(AO57=\"\",\"\",IF(COUNTIF('Entry sheet-2-hin'!$AO$9:$AO$68,\"49ALA2C\")=0,COUNTIF('Entry sheet-2-hin'!$AO$9:$AO$68,\"49ALA2\")*4,COUNTIF('Entry sheet-2-hin'!$AO$9:$AO$68,\"49ALA2C\")*4))","v":""},{"$f":"IF(B57=\"\",\"\",IF(AND(COUNTIF('Entry sheet-2-hin'!$AO$9:$AO$68,\"1अदीउ5\")=0),\"\",COUNTIF('Entry sheet-2-hin'!$AO$9:$AO$68,\"1अदीउ5\")))","v":""},{"$f":"IF(AQ57=\"\",\"\",IF(COUNTIF('Entry sheet-2-hin'!$AO$9:$AO$68,\"1अदीउ5C\")=0,COUNTIF('Entry sheet-2-hin'!$AO$9:$AO$68,\"1अदीउ5\")*5,COUNTIF('Entry sheet-2-hin'!$AO$9:$AO$68,\"1अदीउ5C\")*5))","v":""},{"$f":"IF(B57=\"\",\"\",IF(AND(COUNTIF('Entry sheet-2-hin'!$AO$9:$AO$68,\"1रसबवि\")=0),\"\",COUNTIF('Entry sheet-2-hin'!$AO$9:$AO$68,\"1रसबवि\")))","v":""},{"$f":"IF(AS57=\"\",\"\",IF(COUNTIF('Entry sheet-2-hin'!$AO$9:$AO$68,\"49SMCC\")=0,COUNTIF('Entry sheet-2-hin'!$AO$9:$AO$68,\"49SMC\")*1,COUNTIF('Entry sheet-2-hin'!$AO$9:$AO$68,\"49SMCC\")*1))","v":""},{"$f":"IF(B57=\"\",\"\",IF(AND(COUNTIF('Entry sheet-2-hin'!$AO$9:$AO$68,\"49SOTC\")=0,COUNTIF('Entry sheet-2-hin'!$AO$9:$AO$68,\"49SOT\")=0),\"\",IF(COUNTIF('Entry sheet-2-hin'!$AO$9:$AO$68,\"49SOTC\")=0,COUNTIF('Entry sheet-2-hin'!$AO$9:$AO$68,\"49SOT\"),COUNTIF('Entry sheet-2-hin'!$AO$9:$AO$68,\"49SOTC\")&\"*\")))","v":""},{"$f":"IF(AU57=\"\",\"\",IF(COUNTIF('Entry sheet-2-hin'!$AO$9:$AO$68,\"49SOTC\")=0,COUNTIF('Entry sheet-2-hin'!$AO$9:$AO$68,\"49SOT\")*1,COUNTIF('Entry sheet-2-hin'!$AO$9:$AO$68,\"49SOTC\")*1))","v":""},{"$f":"IF(B57=\"\",\"\",IF(AND(COUNTIF('Entry sheet-2-hin'!$AO$9:$AO$68,\"1रसअलउ\")=0),\"\",COUNTIF('Entry sheet-2-hin'!$AO$9:$AO$68,\"1रसअलउ\")))","v":""},"",{"$f":"IF(B57=\"\",\"\",IF(AND(COUNTIF('Entry sheet-2-hin'!$AO$9:$AO$68,\"1रसलउ२\")=0),\"\",COUNTIF('Entry sheet-2-hin'!$AO$9:$AO$68,\"1रसलउ२\")))","v":""},{"$f":"IF(AY57=\"\",\"\",IF(COUNTIF('Entry sheet-2-hin'!$AO$9:$AO$68,\"49SSA2C\")=0,COUNTIF('Entry sheet-2-hin'!$AO$9:$AO$68,\"49SSA2\")*2,COUNTIF('Entry sheet-2-hin'!$AO$9:$AO$68,\"49SSA2C\")*2))","v":""},{"$f":"IF(B57=\"\",\"\",IF(AND(COUNTIF('Entry sheet-2-hin'!$AO$9:$AO$68,\"49SLA1C\")=0,COUNTIF('Entry sheet-2-hin'!$AO$9:$AO$68,\"49SLA1\")=0),\"\",IF(COUNTIF('Entry sheet-2-hin'!$AO$9:$AO$68,\"49SLA1C\")=0,COUNTIF('Entry sheet-2-hin'!$AO$9:$AO$68,\"49SLA1\"),COUNTIF('Entry sheet-2-hin'!$AO$9:$AO$68,\"49SLA1C\")&\"*\")))","v":""},{"$f":"IF(BA57=\"\",\"\",IF(COUNTIF('Entry sheet-2-hin'!$AO$9:$AO$68,\"49SLA1C\")=0,COUNTIF('Entry sheet-2-hin'!$AO$9:$AO$68,\"49SLA1\")*3,COUNTIF('Entry sheet-2-hin'!$AO$9:$AO$68,\"49SLA1C\")*3))","v":""},{"$f":"IF(B57=\"\",\"\",IF(AND(COUNTIF('Entry sheet-2-hin'!$AO$9:$AO$68,\"49SLA2C\")=0,COUNTIF('Entry sheet-2-hin'!$AO$9:$AO$68,\"49SLA2\")=0),\"\",IF(COUNTIF('Entry sheet-2-hin'!$AO$9:$AO$68,\"49SLA2C\")=0,COUNTIF('Entry sheet-2-hin'!$AO$9:$AO$68,\"49SLA2\"),COUNTIF('Entry sheet-2-hin'!$AO$9:$AO$68,\"49SLA2C\")&\"*\")))","v":""},"",{"$f":"IF(B57=\"\",\"\",IF(AND(COUNTIF('Entry sheet-2-hin'!$AO$9:$AO$68,\"1रसदीउ5\")=0),\"\",COUNTIF('Entry sheet-2-hin'!$AO$9:$AO$68,\"1रसदीउ5\")))","v":""},"","","","","","","","","","","","","","","","",""]
[{"$f":"IF('Entry sheet-1-hin'!A59=\"\",\"\",'Entry sheet-1-hin'!A59)","v":""},{"$f":"IF('Entry sheet-1-hin'!B59=\"\",\"\",'Entry sheet-1-hin'!B59)","v":""},{"$f":"IF(B58=\"\",\"\",IF(AND(COUNTIF('Entry sheet-2-hin'!$AO$9:$AO$68,\"50KMCC\")=0,COUNTIF('Entry sheet-2-hin'!$AO$9:$AO$68,\"50KMC\")=0),\"\",IF(COUNTIF('Entry sheet-2-hin'!$AO$9:$AO$68,\"50KMCC\")=0,COUNTIF('Entry sheet-2-hin'!$AO$9:$AO$68,\"50KMC\"),COUNTIF('Entry sheet-2-hin'!$AO$9:$AO$68,\"50KMCC\")&\"*\")))","v":""},"",{"$f":"IF(B58=\"\",\"\",IF(AND(COUNTIF('Entry sheet-2-hin'!$AO$9:$AO$68,\"50KOTC\")=0,COUNTIF('Entry sheet-2-hin'!$AO$9:$AO$68,\"50KOT\")=0),\"\",IF(COUNTIF('Entry sheet-2-hin'!$AO$9:$AO$68,\"50KOTC\")=0,COUNTIF('Entry sheet-2-hin'!$AO$9:$AO$68,\"50KOT\"),COUNTIF('Entry sheet-2-hin'!$AO$9:$AO$68,\"50KOTC\")&\"*\")))","v":""},"",{"$f":"IF(B58=\"\",\"\",IF(AND(COUNTIF('Entry sheet-2-hin'!$AO$9:$AO$68,\"50KSA1C\")=0,COUNTIF('Entry sheet-2-hin'!$AO$9:$AO$68,\"50KSA1\")=0),\"\",IF(COUNTIF('Entry sheet-2-hin'!$AO$9:$AO$68,\"50KSA1C\")=0,COUNTIF('Entry sheet-2-hin'!$AO$9:$AO$68,\"50KSA1\"),COUNTIF('Entry sheet-2-hin'!$AO$9:$AO$68,\"50KSA1C\")&\"*\")))","v":""},{"$f":"IF(G58=\"\",\"\",IF(COUNTIF('Entry sheet-2-hin'!$AO$9:$AO$68,\"50KSA1C\")=0,COUNTIF('Entry sheet-2-hin'!$AO$9:$AO$68,\"50KSA1\")*1,COUNTIF('Entry sheet-2-hin'!$AO$9:$AO$68,\"50KSA1C\")*1))","v":""},{"$f":"IF(B58=\"\",\"\",IF(AND(COUNTIF('Entry sheet-2-hin'!$AO$9:$AO$68,\"50KSA2C\")=0,COUNTIF('Entry sheet-2-hin'!$AO$9:$AO$68,\"50KSA2\")=0),\"\",IF(COUNTIF('Entry sheet-2-hin'!$AO$9:$AO$68,\"50KSA2C\")=0,COUNTIF('Entry sheet-2-hin'!$AO$9:$AO$68,\"50KSA2\"),COUNTIF('Entry sheet-2-hin'!$AO$9:$AO$68,\"50KSA2C\")&\"*\")))","v":""},{"$f":"IF(I58=\"\",\"\",IF(COUNTIF('Entry sheet-2-hin'!$AO$9:$AO$68,\"50KSA2C\")=0,COUNTIF('Entry sheet-2-hin'!$AO$9:$AO$68,\"50KSA2\")*2,COUNTIF('Entry sheet-2-hin'!$AO$9:$AO$68,\"50KSA2C\")*2))","v":""},{"$f":"IF(B58=\"\",\"\",IF(AND(COUNTIF('Entry sheet-2-hin'!$AO$9:$AO$68,\"50KLA1C\")=0,COUNTIF('Entry sheet-2-hin'!$AO$9:$AO$68,\"50KLA1\")=0),\"\",IF(COUNTIF('Entry sheet-2-hin'!$AO$9:$AO$68,\"50KLA1C\")=0,COUNTIF('Entry sheet-2-hin'!$AO$9:$AO$68,\"50KLA1\"),COUNTIF('Entry sheet-2-hin'!$AO$9:$AO$68,\"50KLA1C\")&\"*\")))","v":""},{"$f":"IF(K58=\"\",\"\",IF(COUNTIF('Entry sheet-2-hin'!$AO$9:$AO$68,\"50KLA1C\")=0,COUNTIF('Entry sheet-2-hin'!$AO$9:$AO$68,\"50KLA1\")*3,COUNTIF('Entry sheet-2-hin'!$AO$9:$AO$68,\"50KLA1C\")*3))","v":""},{"$f":"IF(B58=\"\",\"\",IF(AND(COUNTIF('Entry sheet-2-hin'!$AO$9:$AO$68,\"1स्मदीउ४\")=0),\"\",COUNTIF('Entry sheet-2-hin'!$AO$9:$AO$68,\"1स्मदीउ४\")))","v":""},"",{"$f":"IF(B58=\"\",\"\",IF(AND(COUNTIF('Entry sheet-2-hin'!$AO$9:$AO$68,\"1स्मदीउ5\")=0),\"\",COUNTIF('Entry sheet-2-hin'!$AO$9:$AO$68,\"1स्मदीउ5\")))","v":""},{"$f":"IF(O58=\"\",\"\",IF(COUNTIF('Entry sheet-2-hin'!$AO$9:$AO$68,\"1स्मदीउ5C\")=0,COUNTIF('Entry sheet-2-hin'!$AO$9:$AO$68,\"1स्मदीउ5\")*5,COUNTIF('Entry sheet-2-hin'!$AO$9:$AO$68,\"1स्मदीउ5C\")*5))","v":""},{"$f":"IF(B58=\"\",\"\",IF(AND(COUNTIF('Entry sheet-2-hin'!$AO$9:$AO$68,\"50UMCC\")=0,COUNTIF('Entry sheet-2-hin'!$AO$9:$AO$68,\"50UMC\")=0),\"\",IF(COUNTIF('Entry sheet-2-hin'!$AO$9:$AO$68,\"50UMCC\")=0,COUNTIF('Entry sheet-2-hin'!$AO$9:$AO$68,\"50UMC\"),COUNTIF('Entry sheet-2-hin'!$AO$9:$AO$68,\"50UMCC\")&\"*\")))","v":""},"",{"$f":"IF(B58=\"\",\"\",IF(AND(COUNTIF('Entry sheet-2-hin'!$AO$9:$AO$68,\"1समवनि\")=0),\"\",COUNTIF('Entry sheet-2-hin'!$AO$9:$AO$68,\"1समवनि\")))","v":""},"",{"$f":"IF(B58=\"\",\"\",IF(AND(COUNTIF('Entry sheet-2-hin'!$AO$9:$AO$68,\"1समअलउ\")=0),\"\",COUNTIF('Entry sheet-2-hin'!$AO$9:$AO$68,\"1समअलउ\")))","v":""},"",{"$f":"IF(B58=\"\",\"\",IF(AND(COUNTIF('Entry sheet-2-hin'!$AO$9:$AO$68,\"50USA2C\")=0,COUNTIF('Entry sheet-2-hin'!$AO$9:$AO$68,\"50USA2\")=0),\"\",IF(COUNTIF('Entry sheet-2-hin'!$AO$9:$AO$68,\"50USA2C\")=0,COUNTIF('Entry sheet-2-hin'!$AO$9:$AO$68,\"50USA2\"),COUNTIF('Entry sheet-2-hin'!$AO$9:$AO$68,\"50USA2C\")&\"*\")))","v":""},{"$f":"IF(W58=\"\",\"\",IF(COUNTIF('Entry sheet-2-hin'!$AO$9:$AO$68,\"50USA2C\")=0,COUNTIF('Entry sheet-2-hin'!$AO$9:$AO$68,\"50USA2\")*2,COUNTIF('Entry sheet-2-hin'!$AO$9:$AO$68,\"50USA2C\")*2))","v":""},{"$f":"IF(B58=\"\",\"\",IF(AND(COUNTIF('Entry sheet-2-hin'!$AO$9:$AO$68,\"50ULA1C\")=0,COUNTIF('Entry sheet-2-hin'!$AO$9:$AO$68,\"50ULA1\")=0),\"\",IF(COUNTIF('Entry sheet-2-hin'!$AO$9:$AO$68,\"50ULA1C\")=0,COUNTIF('Entry sheet-2-hin'!$AO$9:$AO$68,\"50ULA1\"),COUNTIF('Entry sheet-2-hin'!$AO$9:$AO$68,\"50ULA1C\")&\"*\")))","v":""},{"$f":"IF(Y58=\"\",\"\",IF(COUNTIF('Entry sheet-2-hin'!$AO$9:$AO$68,\"50ULA1C\")=0,COUNTIF('Entry sheet-2-hin'!$AO$9:$AO$68,\"50ULA1\")*3,COUNTIF('Entry sheet-2-hin'!$AO$9:$AO$68,\"50ULA1C\")*3))","v":""},{"$f":"IF(B58=\"\",\"\",IF(AND(COUNTIF('Entry sheet-2-hin'!$AO$9:$AO$68,\"1समदीउ४\")=0),\"\",COUNTIF('Entry sheet-2-hin'!$AO$9:$AO$68,\"1समदीउ४\")))","v":""},"",{"$f":"IF(B58=\"\",\"\",IF(AND(COUNTIF('Entry sheet-2-hin'!$AO$9:$AO$68,\"1समदीउ5\")=0),\"\",COUNTIF('Entry sheet-2-hin'!$AO$9:$AO$68,\"1समदीउ5\")))","v":""},{"$f":"IF(AC58=\"\",\"\",IF(COUNTIF('Entry sheet-2-hin'!$AO$9:$AO$68,\"1समदीउ5C\")=0,COUNTIF('Entry sheet-2-hin'!$AO$9:$AO$68,\"1समदीउ5\")*5,COUNTIF('Entry sheet-2-hin'!$AO$9:$AO$68,\"1समदीउ5C\")*5))","v":""},{"$f":"IF(B58=\"\",\"\",IF(AND(COUNTIF('Entry sheet-2-hin'!$AO$9:$AO$68,\"1अबवि\")=0),\"\",COUNTIF('Entry sheet-2-hin'!$AO$9:$AO$68,\"1अबवि\")))","v":""},{"$f":"IF(AE58=\"\",\"\",IF(COUNTIF('Entry sheet-2-hin'!$AO$9:$AO$68,\"50AMCC\")=0,COUNTIF('Entry sheet-2-hin'!$AO$9:$AO$68,\"50AMC\")*1,COUNTIF('Entry sheet-2-hin'!$AO$9:$AO$68,\"50AMCC\")*1))","v":""},{"$f":"IF(B58=\"\",\"\",IF(AND(COUNTIF('Entry sheet-2-hin'!$AO$9:$AO$68,\"50AOTC\")=0,COUNTIF('Entry sheet-2-hin'!$AO$9:$AO$68,\"50AOT\")=0),\"\",IF(COUNTIF('Entry sheet-2-hin'!$AO$9:$AO$68,\"50AOTC\")=0,COUNTIF('Entry sheet-2-hin'!$AO$9:$AO$68,\"50AOT\"),COUNTIF('Entry sheet-2-hin'!$AO$9:$AO$68,\"50AOTC\")&\"*\")))","v":""},{"$f":"IF(AG58=\"\",\"\",IF(COUNTIF('Entry sheet-2-hin'!$AO$9:$AO$68,\"50AOTC\")=0,COUNTIF('Entry sheet-2-hin'!$AO$9:$AO$68,\"50AOT\")*1,COUNTIF('Entry sheet-2-hin'!$AO$9:$AO$68,\"50AOTC\")*1))","v":""},{"$f":"IF(B58=\"\",\"\",IF(AND(COUNTIF('Entry sheet-2-hin'!$AO$9:$AO$68,\"1अअलउ\")=0),\"\",COUNTIF('Entry sheet-2-hin'!$AO$9:$AO$68,\"1अअलउ\")))","v":""},{"$f":"IF(AI58=\"\",\"\",IF(COUNTIF('Entry sheet-2-hin'!$AO$9:$AO$68,\"50ASA1C\")=0,COUNTIF('Entry sheet-2-hin'!$AO$9:$AO$68,\"50ASA1\")*1,COUNTIF('Entry sheet-2-hin'!$AO$9:$AO$68,\"50ASA1C\")*1))","v":""},{"$f":"IF(B58=\"\",\"\",IF(AND(COUNTIF('Entry sheet-2-hin'!$AO$9:$AO$68,\"50ASA2C\")=0,COUNTIF('Entry sheet-2-hin'!$AO$9:$AO$68,\"50ASA2\")=0),\"\",IF(COUNTIF('Entry sheet-2-hin'!$AO$9:$AO$68,\"50ASA2C\")=0,COUNTIF('Entry sheet-2-hin'!$AO$9:$AO$68,\"50ASA2\"),COUNTIF('Entry sheet-2-hin'!$AO$9:$AO$68,\"50ASA2C\")&\"*\")))","v":""},"",{"$f":"IF(B58=\"\",\"\",IF(AND(COUNTIF('Entry sheet-2-hin'!$AO$9:$AO$68,\"50ALA1C\")=0,COUNTIF('Entry sheet-2-hin'!$AO$9:$AO$68,\"50ALA1\")=0),\"\",IF(COUNTIF('Entry sheet-2-hin'!$AO$9:$AO$68,\"50ALA1C\")=0,COUNTIF('Entry sheet-2-hin'!$AO$9:$AO$68,\"50ALA1\"),COUNTIF('Entry sheet-2-hin'!$AO$9:$AO$68,\"50ALA1C\")&\"*\")))","v":""},"",{"$f":"IF(B58=\"\",\"\",IF(AND(COUNTIF('Entry sheet-2-hin'!$AO$9:$AO$68,\"50ALA2C\")=0,COUNTIF('Entry sheet-2-hin'!$AO$9:$AO$68,\"50ALA2\")=0),\"\",IF(COUNTIF('Entry sheet-2-hin'!$AO$9:$AO$68,\"50ALA2C\")=0,COUNTIF('Entry sheet-2-hin'!$AO$9:$AO$68,\"50ALA2\"),COUNTIF('Entry sheet-2-hin'!$AO$9:$AO$68,\"50ALA2C\")&\"*\")))","v":""},{"$f":"IF(AO58=\"\",\"\",IF(COUNTIF('Entry sheet-2-hin'!$AO$9:$AO$68,\"50ALA2C\")=0,COUNTIF('Entry sheet-2-hin'!$AO$9:$AO$68,\"50ALA2\")*4,COUNTIF('Entry sheet-2-hin'!$AO$9:$AO$68,\"50ALA2C\")*4))","v":""},{"$f":"IF(B58=\"\",\"\",IF(AND(COUNTIF('Entry sheet-2-hin'!$AO$9:$AO$68,\"1अदीउ5\")=0),\"\",COUNTIF('Entry sheet-2-hin'!$AO$9:$AO$68,\"1अदीउ5\")))","v":""},{"$f":"IF(AQ58=\"\",\"\",IF(COUNTIF('Entry sheet-2-hin'!$AO$9:$AO$68,\"1अदीउ5C\")=0,COUNTIF('Entry sheet-2-hin'!$AO$9:$AO$68,\"1अदीउ5\")*5,COUNTIF('Entry sheet-2-hin'!$AO$9:$AO$68,\"1अदीउ5C\")*5))","v":""},{"$f":"IF(B58=\"\",\"\",IF(AND(COUNTIF('Entry sheet-2-hin'!$AO$9:$AO$68,\"1रसबवि\")=0),\"\",COUNTIF('Entry sheet-2-hin'!$AO$9:$AO$68,\"1रसबवि\")))","v":""},{"$f":"IF(AS58=\"\",\"\",IF(COUNTIF('Entry sheet-2-hin'!$AO$9:$AO$68,\"50SMCC\")=0,COUNTIF('Entry sheet-2-hin'!$AO$9:$AO$68,\"50SMC\")*1,COUNTIF('Entry sheet-2-hin'!$AO$9:$AO$68,\"50SMCC\")*1))","v":""},{"$f":"IF(B58=\"\",\"\",IF(AND(COUNTIF('Entry sheet-2-hin'!$AO$9:$AO$68,\"50SOTC\")=0,COUNTIF('Entry sheet-2-hin'!$AO$9:$AO$68,\"50SOT\")=0),\"\",IF(COUNTIF('Entry sheet-2-hin'!$AO$9:$AO$68,\"50SOTC\")=0,COUNTIF('Entry sheet-2-hin'!$AO$9:$AO$68,\"50SOT\"),COUNTIF('Entry sheet-2-hin'!$AO$9:$AO$68,\"50SOTC\")&\"*\")))","v":""},{"$f":"IF(AU58=\"\",\"\",IF(COUNTIF('Entry sheet-2-hin'!$AO$9:$AO$68,\"50SOTC\")=0,COUNTIF('Entry sheet-2-hin'!$AO$9:$AO$68,\"50SOT\")*1,COUNTIF('Entry sheet-2-hin'!$AO$9:$AO$68,\"50SOTC\")*1))","v":""},{"$f":"IF(B58=\"\",\"\",IF(AND(COUNTIF('Entry sheet-2-hin'!$AO$9:$AO$68,\"1रसअलउ\")=0),\"\",COUNTIF('Entry sheet-2-hin'!$AO$9:$AO$68,\"1रसअलउ\")))","v":""},"",{"$f":"IF(B58=\"\",\"\",IF(AND(COUNTIF('Entry sheet-2-hin'!$AO$9:$AO$68,\"1रसलउ२\")=0),\"\",COUNTIF('Entry sheet-2-hin'!$AO$9:$AO$68,\"1रसलउ२\")))","v":""},{"$f":"IF(AY58=\"\",\"\",IF(COUNTIF('Entry sheet-2-hin'!$AO$9:$AO$68,\"50SSA2C\")=0,COUNTIF('Entry sheet-2-hin'!$AO$9:$AO$68,\"50SSA2\")*2,COUNTIF('Entry sheet-2-hin'!$AO$9:$AO$68,\"50SSA2C\")*2))","v":""},{"$f":"IF(B58=\"\",\"\",IF(AND(COUNTIF('Entry sheet-2-hin'!$AO$9:$AO$68,\"50SLA1C\")=0,COUNTIF('Entry sheet-2-hin'!$AO$9:$AO$68,\"50SLA1\")=0),\"\",IF(COUNTIF('Entry sheet-2-hin'!$AO$9:$AO$68,\"50SLA1C\")=0,COUNTIF('Entry sheet-2-hin'!$AO$9:$AO$68,\"50SLA1\"),COUNTIF('Entry sheet-2-hin'!$AO$9:$AO$68,\"50SLA1C\")&\"*\")))","v":""},{"$f":"IF(BA58=\"\",\"\",IF(COUNTIF('Entry sheet-2-hin'!$AO$9:$AO$68,\"50SLA1C\")=0,COUNTIF('Entry sheet-2-hin'!$AO$9:$AO$68,\"50SLA1\")*3,COUNTIF('Entry sheet-2-hin'!$AO$9:$AO$68,\"50SLA1C\")*3))","v":""},{"$f":"IF(B58=\"\",\"\",IF(AND(COUNTIF('Entry sheet-2-hin'!$AO$9:$AO$68,\"50SLA2C\")=0,COUNTIF('Entry sheet-2-hin'!$AO$9:$AO$68,\"50SLA2\")=0),\"\",IF(COUNTIF('Entry sheet-2-hin'!$AO$9:$AO$68,\"50SLA2C\")=0,COUNTIF('Entry sheet-2-hin'!$AO$9:$AO$68,\"50SLA2\"),COUNTIF('Entry sheet-2-hin'!$AO$9:$AO$68,\"50SLA2C\")&\"*\")))","v":""},"",{"$f":"IF(B58=\"\",\"\",IF(AND(COUNTIF('Entry sheet-2-hin'!$AO$9:$AO$68,\"1रसदीउ5\")=0),\"\",COUNTIF('Entry sheet-2-hin'!$AO$9:$AO$68,\"1रसदीउ5\")))","v":""},"","","","","","","","","","","","","","","","",""]
["कुल",null,{"$f":"SUM(C9:C58)","v":0},{"$f":"SUM(D9:D58)","v":0},0,0,2,2,1,2,0,0,0,0,0,0,4,4,4,4,4,4,0,0,1,3,1,4,0,0,0,0,0,0,2,2,4,8,0,0,1,4,0,0,0,0,0,0,0,0,0,0,1,3,0,0,0,0,{"$f":"SUM(BG9:BG58)","v":4},{"$f":"SUM(BH9:BH58)","v":4},{"$f":"SUM(BI9:BI58)","v":4},{"$f":"SUM(BJ9:BJ58)","v":4},{"$f":"SUM(BK9:BK58)","v":8},{"$f":"SUM(BL9:BL58)","v":8},{"$f":"SUM(BM9:BM58)","v":5},{"$f":"SUM(BN9:BN58)","v":10},{"$f":"SUM(BO9:BO58)","v":2},{"$f":"SUM(BP9:BP58)","v":6},{"$f":"SUM(BQ9:BQ58)","v":2},{"$f":"SUM(BR9:BR58)","v":8},{"$f":"SUM(BS9:BS58)","v":0},{"$f":"SUM(BT9:BT58)","v":0},{"$f":"SUM(BU9:BU58)","v":25},{"$f":"SUM(BV9:BV58)","v":40}]
[]
[]
[null,null,null,null,null,null,null,null,null,null,null,null,null,null,null,null,null,null,null,null,null,null,null,null,null,null,null,null,null,null,null,null,null,null,null,null,null,null,null,null,null,null,null,null,null,null,null,null,null,null,null,null,null,null,null,null,null,null,null,null,null,null,null,null,null,"हस्ताक्षर"]
[null,null,null,null,null,null,null,null,null,null,null,null,null,null,null,null,null,null,null,null,null,null,null,null,null,null,null,null,null,null,null,null,null,null,null,null,null,null,null,null,null,null,null,null,null,null,null,null,null,null,null,null,null,null,null,null,null,null,null,null,null,null,null,{"$f":"uddista!G22","v":"(नागलिंगय्या)"}]

{"sheet":"DATA","index":20,"n_rows":171,"n_cols":75,"rows_kept":171,"cut":false,"hidden":true,"merged":[[0,39,0,40],[0,41,0,42],[0,43,0,44],[0,45,0,46],[0,55,0,56],[0,47,0,48],[0,49,0,50],[0,51,0,52],[0,53,0,54],[0,35,0,36],[0,37,0,38],[0,1,0,2],[0,25,0,26],[0,27,0,28],[0,29,0,30],[0,33,0,34],[0,31,0,32]]}
["हिन्दी बहुविकल्पीय प्रश्‍न","जोड़कर लिखना",null,"अनुवाद","स्वामी विवेकानंद                                           ","गुलाब सिंह                                                                                                                                ","बस की यात्रा                                                                     ","मौसी ","मेरा बचपन                                                                                                      ","भीम और राक्षस                                                                                       ","बाहुबली ","हामिद खाँ                                                      ","खेलो- कूदो स्वस्थ रहो                                                   ","हिमालय की बेटियाँ                                                                    ","जय जय भारत माता","शिक्षा","मेरी अभिलाषा है                                                                        ","विनती ","कोई नहीं पराया                                                                     ","कबीर के दोहे                                                                                     ","कजाकी","वीर मालवजी","वृक्ष हमारे जीवन-साथी","पत्र लेखन","निबंध","स्वामी विवेकानंद                                           ",null,"गुलाब सिंह                                                                                                                                ",null,"बस की यात्रा                                                                     ",null,"मौसी ",null,"मेरा बचपन                                                                                                      ",null,"भीम और राक्षस                                                                                       ",null,"बाहुबली ",null,"हामिद खाँ                                                      ",null,"खेलो- कूदो स्वस्थ रहो                                                   ",null,"हिमालय की बेटियाँ                                                                    ",null,"जय जय भारत माता",null,"शिक्षा ",null,"मेरी अभिलाषा है                                                                        ",null,"विनती  ",null,"कोई नहीं पराया                                                                     ",null,"कबीर के दोहे                                                                                     ",null,"स्वामी विवेकानंद                                           ","गुलाब सिंह                                                                                                                                ","बस की यात्रा                                                                     ","मौसी ","मेरा बचपन                                                                                                      ","भीम और राक्षस                                                                                       ","बाहुबली ","हामिद खाँ                                                      ","खेलो- कूदो स्वस्थ रहो                                                   ","हिमालय की बेटियाँ                                                                    ","जय जय भारत माता","शिक्षा","मेरी अभिलाषा है                                                                        ","विनती ","कोई नहीं पराया                                                                     ","कबीर के दोहे                                                                                     ",null,"अपठित गद्य"]
["बच्चा  शब्द का अन्य लिंग रूप है -  \n   अ) बच्चों     आ) बच्ची    इ) बच्चीया    ई) बच्चे","अ","ब","भारत के इतिहास में स्वामी विवेकानंद जी का नाम अमर है ।                                    ","एक वाक्य","एक वाक्य","एक वाक्य","एक वाक्य","एक वाक्य","एक वाक्य","एक वाक्य","एक वाक्य","एक वाक्य","एक वाक्य","एक वाक्य","एक वाक्य","एक वाक्य","एक वाक्य","एक वाक्य","एक वाक्य","दो अंकवाले","दो  अंकवाले","दो  अंकवाले","चार दिनों की छुट्टी माँगते हुए अपने प्रधानाध्यापक के नाम पर एक पत्र लिखिए ।                                                      ","बेरोजगारी  (तात्पर्य, प्रकार, कारण, उपाय, उपसंहार)","भुवनेश्वरी देवि                                                             ","कालि मंदीर का पुजारी","बालक सारे घर का","तुम थक जाओगी ।","बस को देखा तो ","श्रद्धा उमड़ पड़ी ।","यह मेरा बेटा","यह मेरी बेटी","मेरे पिता                                                                                    ","चचेरे भाई  ","बकासुर                                                                                               ","  दुर्बल   ","विंध्यागिरी                                                                        ","    सेनाधिपती    ","अचानक एक दुकान नज़र आई ","जहाँ चपातियाँ सेंकी जा रही थी ।","जीवन में खेलों का स्थान","बहुत महत्वपूर्ण है ।","संभ्रांत महिला की भाँति","वे प्रतीत होती थीं ।","सौ-सौ सोतों से बह-बहकर","है पानी फूटा आता","उर छेद-छेदकर अपना","मुरली ने गाना सीखा","सूरज -सा ","दमकूँ मैं","आओ बहाओ गंगा","इस आग के विपिन में","मेरा घर","सारा संसार है","गुरु गॊविंद","आँगन कुटी छवाय ।","पक्षी लक्ष्मण शास्त्री  : शिव मंदिर के पुजारी    :: रामकृष्ण परमहंस   : -----","भीम और राक्षस : एकांकी  :: गुलाब सिंह :---","बाहुबली : यात्रा वर्णन :: बस की यात्रा :---","योगराज अपने घर से  : एक कटोरा दूध लाया :: गोपाल अपने घर से :--","स्वमी विवेकानंद : जीवनी   :: मेरा बचपन : ---","पानी पिलाना   :  सबक सिखाना  :: भाग्य फुटना :--","बाहुबली के मन में रहनेवाला घमंड से : केवल ज्ञान प्राप्त नहीं हुआ :: चाउण्डराय के मन में रहवाला घमंड से :---","कोडुंगल्लूर : भारत  :: तक्षशिला :-----","शारीरिक खेल  :  शारीरिक श्रम अधिक करना पडता  :: मानसिक खेल : ----","हिमालय  :  ससूर   :: सागर :----","दिल में अपना : आग दबाकर :: रखता हमको  :-----","जय-जय भारत माता  : मैथिली शरण गुप्त  :: शिक्षा : -----","सूरज -सा   :  दमकूँ  मैं  :: चंदा-सा :------","मैं नाम ले तुम्हारा : कब से बुला रहा हूँ  :: अपनी दया के दो कण :-----","मैं न बँधा हूँ : देश-काल की जंग लगी जंजीर में  :: मैं न- खड़ा हूँ  :----","गुरु ग्प्विंद दोउ खड़े : काके लागू पाय  :: बलिहारी गुरु आपने : -----",null,"यह स्वतंत्र सेनानी की कहानी है , जिसने देश के लिए अपनी जवानी, अपना जीवन, अपना परिवार त्याग कर अमर बन गया । वह सेनानी भगत सिंह है।  उन्होंने देश की आजादी के लिए साहस के साथ अंग्रेजों का मुकाबला किया । वे बंगा गाँव में २८ सितंबर १९०७ में जन्में। लाहोर के डी. ए,. वी. स्कूल में शिक्षा पाई । उन्होंने नौजवान भारत सभा का संघठन किया ।\n\n     \n\n"]
["‘पैसे’ इसका एकवचन  रूप है -  \n   अ) पैसा   आ) पैसे    इ) पैसों    ई) पैसियाँ",null,"कालि मंदीर का पुजारी","उनके बचपन का नाम नरेंद्र देव था ।                                                                 ","स्वामी विवेकानंद के बचपन का नाम क्या था ?                                                           ","गुलाब सिंह कहानी की लेखिका कौन हैं ?                                                        ","बस की यात्रा इस लेख का लेखक कौन हैं ?                                                                                                           ","मौसी इस कहानी का लेखक कौन हैं ?                                                      ","अब्दुल कालाम जी का जन्म कहाँ हुआ था ?                                                  ","भीम किसका पुत्र था ?                                                                                 ","श्रवणबेलगोल कहाँ है ?                                                                        ","हामिद खाँ पाठ का लेखक कौन हैं ?                                                        ","खेल की दुनिया में सदा कैसा वातावरण रहता है ?                                                        ","हिमालय की बेटियाँ इस निबम्ध का लेखक कौन हैं ?                                                              ","जय जय भारत माता कविता के कवि कौन हैं ?                                                                                            ","शिक्षा कविता के कवि कौन हैं ?                                                                 ","इस कविता के कवि कौन हैं ?                                                                    ","विनती इस कविता के कवि कौन हैं ?                                                            ","कवि का घर कौन-सा है ?                                                                               ","कबीरदास गुरु और गोचिंद इन में पहले किसके चरणों पर पडना चाहता है ?                           ","कजाकी के साथ लेखक के क्षन कैसे बीतते थे ?","शिवाजी ने मालव के बारे में तानाजी से क्या कहा ?","प्रकृति के स्त्रोत मनुष्य के जीवन साथी हैं । स्पष्ट कीजिए ।","अपनी पढ़ाई के बारे में बताते हुए अपने पिताजी को एक पत्र लिखिए ।"," पर्यटन का महत्व","विश्वनाथ दत्त                                                                    ","  सिस्टर निवेदिता","भाई खून से","दुलारा था ।","क्या रास्ते में","डाकू मिलते हैं ?","दोपहर होते-होते मौसी","स्कूल के पाटक पर जा पहूँचती ।","मद्रास राज्य                                                                 "," अंतरंग मित्र    ","राजा                                                                                        ","कुंती का पुत्र  ","बाहुबली                                                                                  ","गंगवंश का राजा       ","परदेश में मुसकराहट ही ","रक्षक और सहायक होती है ।","कई कंपनियाँ खिलाड़ियों को ","अपने प्रतिनिधि बना लेते हैं ।","ममता का एक ","और भी धागा है ।","तेरे पावन आँगन में ","अंधकार हटे और ज्ञान मिले","घट-बढ़कर शशि ने ","जग को पियूष पिलाना सीखा","चंदा-सा ","चमकूँ मैं","मैं नाम ले तुम्हारा ","कब से बुला रहा हूँ","मुझको प्यारा","स्वर्ग","कस्तूरी कुंडली बसै","साधु की ।","मेरा बचपन : आत्मकथा  :: स्वमी विवेकानंद : ---","स्वमी विवेकानंद : डॉ. जगदीश चंद्र  :: गुलाब सिंह :----","बाहुबली : डॉ. हिरण्मय :: बस की यात्रा :------","हिमालय की बेटियाँ  :  निबंध   ::  मौसी :---","कलाम के बाल जीवन पर गहरा असर पड़ा पहला व्यक्ति :जलालुद्दीन   :: कलाम के बाल जीवन पर गहरा असर पड़ा दूसरे व्यक्ति:---","हिम्मत न हारना : अटल रहना  ::  आग बबूला होना :---","भरत : अयोध्या का राजा  :: बाहुबली : ----","शिक्षा : ठाकुर गोपालशरण सिंह  :: हामिद खाँ :----","क्रिकेट  :  शारीरिक खेल  :: शतरंज :------","काका कालेलकर : नदियों को लोकमता कहा है  :; नागार्जुन : ----","इस धानी आँचल में देखो : कितने सुन्दर भाव पले  :; भाई-भाई मिल रहे सदा ही :---","शिशु ने : रो-रोकर हँसना सीखा  :: वीरों ने :------","फुलों - सा  :  महकूँ मैं    ::  विहगों -सा :-----","देखो ये भूखे-भूखे : जीवन में मर रहे हैं  ::  दो अन्न किसानों को :----","कहीं रहे कैसे भी मुझको  : प्यारा यह इन्सान है  :: मुझको अपनी मानवता पर : -----","जाति न पूछो साधु की : पूछ लीजिए ज्ञान  :: मोल करो तलवार का : -----",null,"1. देश के लिए अपने जीवन की आहुति देनेवाला सेनानी कौन है ? "]
["‘सत्याग्रह’ शब्द का समास है – \n   अ) अव्ययीभाव   आ) तत्पुरुष   इ) कर्मधारय    ई) द्विगु",null,"  सिस्टर निवेदिता","बालक नरेंद्र बचपन से ही पढाई-लिखाई में बडे तेज थे ।                                          ","नरेंद्र की माता कौन थी ?                                                                                                ","गुलाब सिंह को खाना क्यों नहीं दिया था ?                                                       ","लेखक और उनके मित्र कँहा से जा रहे थे ?                                                                                                           ","किसी के घर बिमार पडे तो लोग किसे बुलाते थे ?                                               ","अब्दुल कलाम के पिता कौन थे ?                                                                       ","ब्राह्मण की घरवालों ने कहाँ जाने की बातें कर रही थीं ?                                      ","श्रवणबेलगोल के दो पहाडों का नाम लिखो ।                                                      ","तक्षशिला आज किस देश में है ?                                                                         ","खेल से हमें क्या मिलता है ?                                                                          ","हिमालय लेखक को कैसे प्रतीत होता है ?                                                      ","मैथिलिशरण गुप्त जी की महाकाव्य कृती का नाम क्या है ?                                                                        ","शिशु हँसना कैसे सीखा ?                                                                       ","कवि कैसे दमकना चाहते हैं ?                                                                       ","कवि किस से विनती कर रहे हैं ?                                                               ","कवि अपने आपको किस बंधन में बांध लेना नहीं चाहते हैं ?                                ","गुरु ने किसके बारे में बता देता है ?                                                            ","कजाकी लेखक का मनोरंजन कैसे करता था ?","तानाजी के बारे में शिवाजी की राय क्या है ?","वृक्षों का महत्व समझाइए ।","अपने विद्यालय में मनाये गये वार्षिकोत्सव के बारे में बताते हुए अपनी माता को एक पत्र लिखिए ।               ","दहेज एक अभिशाप","रामकृष्ण परमहँस                                                                                               "," श्रे्ष्ठ वकील","बड़ी दूर जाना है","लथपथ पड़ा था ।","हर हिस्सा दूसरे से ","असहयोग कर रहा था ।","मौसी मैला-सा ","दुपट्टा ओढ़े रहती थि ।","शमशुद्दिन्न                                                                                 ","रामानंद शास्त्री   ","युद्द करना                                                                                       ","नगर की रक्षा","चाउँडराय                                                                                 "," गोम्मटेश्वर की मूर्ती","आप मुसलमानी होटेल में ","खाना खाएँगे ?","खेल छात्र जीवन का ","महत्वपूर्ण अंग है ।","एक दिन मेरी भी ","ऐसी भावना हुई थी।","मिलजुलकर ही ","हम सब गाएँ","जल-जजकर दीप-शिखा से","फिर प्रेम निभाना सीखा","कोयल - सा ","कुहुकूँ मैं","देखो ये भूखे-भूखे","जीवन में मर रहे हैं","देवत्व","इन्सान","निंदक नियरे राखिए","दोउ खडे ।","रामकृष्ण परमहंस के शिष्य : विवेकानंद  :: स्वामी विवेकानंद की शिष्या : ---",null,null,"गुलाब सिंह  :  सुभद्रा कुमारी चौहान  :: मौसी  :---","स्वामी विवेकानंद का जन्म : १२ जनवरी १८६३ :: अब्दुल कलाम का जन्म :-----","भरत और बाहुबली के युद्ध  :  बाहुबली की जीत  :: भीम और राक्षस के युद्ध : --","चाउण्डराय के मन में पैदा हुआ घमंड : यह महान कार्य मैने किया :: बाहुबली के मन में रहनेवाला घमंड :---","हिमालय की बेटियाँ : निबंध  :: हामिद खाँ :-----","मानसिक खेल  : केरम     शारीरिक खेल : -----",null,"तेरी लाल दिशा में ही माँ : चंद्र-सूर्य चिरकाल रहे  :: तेरे पावन आँगन में :-----","भूखे-प्यास से : विहग? ने उड़ना सीखा : चक्कर खाकर : ----","तारों - सा   :  दमकूँ मैं  :: कोयल - सा :-----","यह विनय पत्रिका है  : टूटे हुए दिलों की  :: मंजूर कर दो, भर दो :-----","मुझसे तुम न कहो : मंदिर-मस्जिद पर मैं टेक दूँ  :: मेरा तो आराध्य आदमी :-----","कस्तूरी कुंडली बसि  : मृग ढूंढै बन माहिं  :: ऐसै घटि घटि राम है :----",null,"2. भगत सिंग का जन्म कहाँ हुआ ? "]
["‘फूला ना समाना’ इस मुहावरे का अर्थ है – \n   अ) फूल लाना    आ) आँखे खुलना     इ) अत्यंत प्रसन्न होना     ई) फुल न सँभालना",null," श्रे्ष्ठ वकील","रामकृष्ण परमहँस काली मंदीर के पूजारी थे ।                                                       ","नारेंद्र का जन्म कब हुआ था ?                          ","बहन ने गुलाब सिंह को खाने के लिये क्या-क्या दिया ?                                            ","लेखक और उनके मित्र कँहा जा रहे थे ?                                                                                                           ","दोपहर होते ही मौसी कहाँ जा पहुँचती थी ?                                                          ","अब्दुल कलाम की माता कौन थी ?                                                                        ","ब्राह्मण के घर कौन-कौन आते हैं ?                                                                   ","गोम्मटेश्वर की मूर्ती कितनी फ़ीट ऊँची है ?                                                   ","लेखक तक्षशिला क्यों गये थे ?                                                                           ","मुख्यत: खोलों के कितने प्रकार होते हैं ?                                                         ","हिमालय के प्रती लेखक के मन में कैसा भाव था ?                                           ","भारत माता का हृदय कैसा है ?                                                                                                             ","शिशु कैसे बढना सीखा ?                                                                            ","कवि कैसे चमकना चाहते हैं ?                                                                        ","कवि किस का नाम ले कर बुला रहे हैं ?                                                       ","कवि अपने आप को कँहा नहीं खडा कर लेना चाहते हैं ?                                                 ","किसकी जाति नहीं पूछना चाहिए ?                                                                  ","एक दिन कजाकी डाकखाने देर से पसूँचा । क्यों ?","मरने से पहले मालव जी ने शिवाजी से क्या माँगा ?","प्रकृति की अमूल्य निधि कैसे उपयोगी है ?"," प्रमाण पत्र माँगते हुए अपने प्रधानाध्यापक जी को एक पत्र लिखिए ।","त्योहारों का महत्व","कुमारी नोबल                                                                  "," धर्म परायण नारी     ",null,null,"सीट का बॉडी से ","असहयोग चल रहा था ।","हमने ठेका तो","नहीं ले रखा है मौसी !","अहमद जलालुद्दिन                                                                           ","जैनुलाबदीन","भीम"," लडना ","राचमल्ल                                                                            ","पौदनपुर","उसकी आवाज़ में ","सच्चाई कूट-कूटकर भरी थी ।","हमारे प्रथम प्रधानमंत्री ","जवाहरलाल नेहरु",null,null,"कमल खिले ","तेरे पानी में ","सिर पटक-पटककर पत्थर पर ","झरनो ने झरना सीखा ","पर्वत से"," दृढ़ता लूँ","कुछ ऐसी शक्ति दे दो","बन मल्लिका चमेली","दधरती","मनुजत्व","जाति न पूछो","मृग ढूँढ़ै बन मांहि ।","अब्दुल कलाम का जन्म : १५ /१०/ १९३१ :: स्वामी विवेकानंद का जन्म :-----",null,null,"यह मेरा बेटा, यह मेरी बेटी : मौसी ने कहा  :: तू अपनी घर चली जा :---","स्वामी विवेकानंद : कायस्थ घराने में जन्म  :: अब्दुल कलाम  :-----","भीम   : लोगों का रक्षक   ::  राक्षस  : ----","बस की यात्रा  : व्यंग्य रचना :: बाहुबली :------",null,"वैयक्तिक खेल : दौड़ना   :: सामूहिक खेल :----",null,"शिक्षा : ठाकुर गोपालशरण सिंह  :: जय-जय भारत माता :-----","वारिधरों ने : मिट-मिटकर पानी बरसाना सीखा  :: नदियों ने :------","नभ से : निर्मलता लूँ   :: शशी से :-------","मुझको दो स्नेह इतना : पावन कि उमड़ कर मैं  :: भर दूँ प्रकाश बुझते :----",null,"निंदक नियरे राखिए  : आँगन कुटी छवाय  :: बिन पानी साबुन बिना : ----",null,"3. भगत सिंग ने किसका संघटन किया ? \n"]
["‘आसान का विलोम शब्द है – \n   अ)सरल    आ) आसमान    इ) आसन    ई) मुश्किल",null," धर्म परायण नारी     ","उनका भाषण  बडा गंभीर और हृदयस्पर्शी था ।                                               ","नरेंद्र का जन्म कँहा हुआ थे ?                                                                   ","कौन-सा जुलुस  निकाला गया था ?                                                             ","बस को देखते ही लेखक को क्या उमड आयी ?                                                                                                          ","छुट्टी की घंटी बजते ही बच्चे क्या करते थे ?                                                        ","अब्दुल कलाम के माता- पिता को उस समाज के लोग किस रुप में देखते थे ?                        ","ब्राह्मण किस नगर में रहता था ?                                                                 ","गोम्मटेश्वर की मूर्ती किस पर्वत पर है ?                                                       ","दुकान में मालिक क्या सेंक रहा था ?                                                       ","शारीरिक खेल किसे कहते हैं ?                                                                    ","हिमालय में जन्म पाने वाले नदियों का नाम बताओ ।                                                          ","कवि किस देवी की वंदना कर रहे हैं ?                                                                                                       ","शिशु कैसे चलना सीखा ?                                                                           ","तारों जैसे कवि क्या करना चाहते हैं ?                                                                    ","कवि इस वतन मे क्या बरसाने के लिये कह रहे हैं ?                                             ","कवि का धर्म किसका गुलाम नहीं है ?                                                               ","साधू से किसके बारे में पूछना चाहिए ?                                                           ","कजाकी की बीमारी का कारण क्या था ?","मालव जी ने शिवाजी के सामने क्या प्रतिज्ञा की ?","मनुष्य स्वार्थवश क्या कर रहा है ?","अपने भाई की शादी में भाग लेने का कारण बताते हुए अपने कक्षाध्यापक को एक पत्र लिखिए ।                                                 ","समाचार पत्र  ( अर्थ, प्रारंभ, प्रकार, गुण, उपसंहार )",null,null,null,null,"हम फ़ौरन खिड़की से ","दूर सरक गए ।","दूसरे दिन हमारा","हॉकी मैच था ।","पक्क दोस्त                                                                         "," चन्नाई  ","भीम                                                                     ","  विष्णु प्रभाकर     ","कुश्मांडिनिदेवी                                                                                 "," पौदनपुर  ","एक दुकानदार के नाते आपको ","खने के पैसे लेने पड़ेंगे ।","नेहरु जी को ","खेलों में विशेष रुचि थी ।",null,null,null,null,null,null,"सुमनों -सा"," बिछ जाऊँ","शुभ हो निशा व संध्या","शुभ हो दिवस सुखद हो",null,null,null,null,"अब्दुल कलाम का जन्म : मध्यम वर्गीय तमिल परिवार   :: स्वामी विवेकानंद का जन्म :-----",null,null,null,null,null,null,null,"कबड्डी  :  सामूहिक खेल   ::  शूटिंग :-----",null,null,null,"मेघों-सा  : मिट जाऊँ  :: सागर - सा :--------",null,null,null,null,"4. भगत सिंग ने किसका मुकाबाला किया ?"]
["‘स्वागत’  इसमें संधि है – \n   अ) दीर्घ    आ) व्यंजन    इ) गुण    ई) यण्‍",null,null,"बहन ने भाई को खाने के लिये क्या-क्या दिया और इसका परिणाम क्या हुआ ?                    ","विश्वनाथ दत्त क्या काम करते थे ?                                                                ","जुलूस न निकालने का हुकुम किसने दिया था ?                                               ","बस कैसे लगता था ?                                                                                                                                                 ","रोज दोपहर मौसी कहाँ जा पहुँचती थी ?                                                             ","आशियम्मा के वंशज को अंग्रेज सरकार से कौन-सी पदवी मिली थी ?                     ","किसको अपने द:ख से दु:खी नहीं करना चाहिए ?                                                    ","गोम्मटेश्वर मूर्ती के सिर के बाल कैसे हैं ?                                                         ","परदेश में हमारे रक्षक और सहायक क्या होती है ?                                                ","मानसिक खेल किसे कहते हैं ?                                                                 ","हिमालय को लेखक किस नाम से पुकारा है ?                                                   ","भारत माता के हृदय में क्या भरा है?                                                                                                              ","वीरों ने कैसे जीना सीखा ?                                                                            ","कवि कैसे महकना चाहता है ?                                                                              ","आग के विपिन में कवि भगवान से किसे बहाने के ल्ये कह रहे हैं ?                                        ","प्यार है तो हम घट-घट में किसे देख सकते हैं ?                                                       ","तलवार मूल्य निर्धार किसे देख कर नहीं करना चाहिए ?                                         ","लेखक के बाबूजी कजाकी पर क्यों बिगड़े ?","शिवाजी ने मालव का अपराध क्षमा करते हुए क्या कहा ?","वन अधिकारी ने वृक्ष्यों के बारे में क्या बताया ?","अपने विद्यालय में मनाये गये वार्षिकोत्सव के बारे में बताते हुए अपने मित्र को एक पत्र लिखिए ।","खेलों का महत्व  ( अर्थ, प्रकार, लाभ, उपसंहार )",null,null,null,null,"धीरे धीरे वृद्धा की ","आँखों की ज्योति जाने लगी ।",null,null,null,"तमिलुनाडु",null,null,null,null,null,null,null,null,null,null,null,null,null,null,null,null,null,null,null,null,null,null,null,null,null,null,null,null,null,null,"हाँकी  :  मैदानी खेल    ::  शतरंज :-----"]
["रोहन सुन्दर लड़का है ।- इस वाक्य में प्रयुक्त विराम चिन्ह है – \n   अ) प्रश्‍नावाचक    आ)अर्धविराम    इ) पूर्णविराम    ई)विस्मयादिबोधक",null,"तुम थक जाओगी ।","शहर में क्यों आतंक छा गया था ?                                                                ","भुवनेश्वरी देवी कैसी महिला थी ?                                                                  ","झंडा किन-किन रंगों का था ?                                                                 ","बस किस के लिये योग्य था ?                                                                                                                                     ","मौसी बच्चों को क्या-क्या सुनाती थी ?                                                               ","किस गली में अब्दुल कलाम का घर था ?                                               ","राक्षस का नाम क्या था ?                                                                        ","मूर्ति के ललाट और कर्ण कैसे हैं ?                                                                        ","होटेल का मालिक देखने में कैसे था ?                                                                 ","शारीरिक खोलों के दो उदाहरण दो ।                                                            ","नदियाँ किन से मिलने जा रही हैं ?                                                                 ","भारत माता अपने दिल में आग दबाकर हमें कैसे रखती है ?                                                                        ","चंगों ने कैसे चढना सीखा ?                                                                     ","कवि कैसे चहकना चाहता है ?                                                                          ","जीवन में लोग कैसे मर रहे हैं ?                                                                   ","कवि अपना सिर कँहा नहीं टेकना चाहते हैं ?                                                           ","कस्तूरी मृग के नाभी में क्या है ?                                                                    ","बाबूजी ने बिगड़कर कजाकी से क्या कहा ?","मालव जी ने शिवाजी की हत्या का प्रयास क्यों किया ?","खेती से पूर्व मानव का वनों से लगाव कैसा था ?","शैक्षिक पर्यटन जाने के लिए १००० रुपये माँगते हुए अपने पिता को एक पत्र लिखिए ।      ","नागरिक का कर्तव्य (नगरिक का अर्थ, कर्तव्य या लक्षण, नागरिक और सरकार,  उपसंहार)",null,null,null,null,"बस की रफ़्तार अब","पंद्रह-बीस मील हो गयी थी ।",null,null,null,"रामेश्वरम",null,null,null,null,null,null,null,null,null,null,null,null,null,null,null,null,null,null,null,null,null,null,null,null,null,null,null,null,null,null,"घरेलू खेल : केरम    :: मैदानी खेल :-----",null,null,null,null,null,null,null,null,"यह घटना सन् 1899 की है ।   उन दिनो कोलकता में प्लेग हुआ था ।   शायद  ही कोई ऐसा घर बचा थाजहाँ यह  बीमारी न पहूंची हो ।   ऐसी विकट स्थिति  में भी स्वामी  विवेकानंद और उनके  कई शिष्य रोगियों की सेवा-सुश्रुषा में जुटे हुए थे ।   वे  अपने हाथों  से नगर की गलियाँ और बाजार साफ  करते थे और जिस घर में प्लेग कोई मरीज होता था, उन्हें दवा आदि देकर उनका उपचार करते थे ।  उसी  दौरान  कुछ  लोग  स्वामी  विवेकानंद  के पास आए ।   उनका मुखिया बोला,  स्वामीजी ’ इस धरती पर पाप बहुत बढ गया है, इसलिए प्लेग की महामारी के रूप में भागवान लोगों को दंड दे रहे हैं ।   पर आप ऐसे लोगों को बचाने का यत्न कर रहे हैं ।   ऐसा करके आप भगवान के कार्यों में बाधा डाल रहे हैं ।    मंडली के    मुखिया कील ऐसी बातें सुनकर स्वामीजी गंभीरता से बोले,  ’ सबसे पहले तो मैं आप सब विद्वानों को नमस्कार करता हूँ ।      इसके  बाद स्वामीजी बोले,   आप सब यह हो जानते ही होंगे कि मनुष्य इस जीवन में अपने कर्मों के कारण कष्ट और सुख पाता है ।   ऐसे जो व्यक्ति कष्ट से पीडित है और तडाप रहा है, यदि दूसरा व्यक्ति उसके घावों पर मरहम लगा देता है तो वह  स्वयं ही पुण्य का अधिकारी बन जाता है ।   अब यदि आपके अनुसार प्लेगसे पॊडित लोग पाप के भारी हैं तो हमारे कार्यकर्ता इन लोगों की मदद कर रहे हैं तो हमारे जो कार्यकर्ता इन लोगों की मदद कर रहे हैं वे तो पुण्य के भागी बन रहे हैं ।   बताइए कि इस संदर्भ में आपको क्या कहना है ?   उनकी बात सुनकर सभी लोग भौंचक्के रह गये और  चुपचाप सिर झुकाकर वहाँ से चले गए ।\n\n\n\n"]
["‘राजवंश’ किस समास क उदाहारण है ? \n   अ) कर्मधारय    आ) द्वंद्व    इ)  अव्ययीयभाव   ई) बहुव्रीहि",null,"दुलारा था ।","भाई  बहन मिल कर झंडा कैसे तैयार किये ?                                                     ","बालक नरेंद्र बचपन से ही किन-किन विषयों में तेज था ?                                                    ","बहन ने भाई के माथे पर क्या लगाया ?                                                             ","डाक्टर के अनुसार बस हमें किस तरह गोद में लेकर चलेगी ?                                                                                       ","मौसी का दुपट्टा कैसे था ?                                                                             ","जैनुलाबदिन कैसे व्यक्ति थे ?                                                                      ","नगर की रक्षा कौन करता था ?                                                                  ","कितने वर्षों में एक बार महामस्तकाभिषेक चलता है ?                                             ","लेखक कहाँ के रहनेवाले थे ?                                                                 ","मानसिक खोलों के दो उदाहरण दो ।                                                                    ","सिंधु और ब्रह्मपुत्र नदियों का हाथ पकडने का श्रेय किसे मिला है ?                                 ","पानी में क्या खिल रहे हैं ?                                                                                                                        ","विहगों ने उडना कैसे सीखा ?                                                                             ","कवि कैसे कुहकना चाहता है ?                                                                    ","किसानों को कवि क्या देने के लिये कह रहे हैं ?                                                    ","कवि का आराध्य कौन है                                                                              ","वह प्राणी सुगंध को कँहा ढूंढता है ?                                                                   ","मुन्नू कौन था ? वह कजाकी को कैसे मिला ?",null,"वृक्ष और वर्षा का संबंध बताइए ।","दसवीं कक्षा की हिन्दी गाइड़ भेजने का निवेदन करते हुए सस्थाध्यक्ष, स्वप्न बुक स्टाल, बेंगलूर के नाम पर एक पत्र लिखिए ।","बेरोजगारी           (तात्पर्य,  प्रकार,  कारण , उपाय)",null,null,null,null,null,null,null,null,null,null,null,null,null,null,null,null,null,null,null,null,null,null,null,null,null,null,null,null,null,null,null,null,null,null,null,null,null,null,null,null,"अर्जुन पुरस्कार :  खिलाडियों को दिया जाता है   :: द्रोणाचार्य पुरस्कार :----",null,null,null,null,null,null,null,null,"1.  कलकत्ता में कौन-सी महामारी फैली थी ?"]
["‘संपदा’ का पर्यायवाची शब्द है – \n   अ) संप्रदान   आ) संपत्ति    इ) घर    ई) सदन",null,"लथपथ पड़ा था ।","बहन ने भाई को कैसे विधा की ?                                                                        ","नरेंद्र का शरीर कैसे था ?                                                                                  ","झंडेवालों को किसने रोखा ?                                                                                    ","छोडने आये लोग कैसे देख रहे थे ?                                                                                                                  ","मौसी से तुम कहाँ की रहने वाली ऐसे पुछे तो वह क्या उत्तर देती थी ?                          ","कलाम जी का बचपन कैसे बीता ?                                                          ","उस नगर का राजा कैसे था ?                                                                     ","कितने घडे पवित्र जल से मस्तकाभिषेक करते हैं ?                                                ","मालाबार भारत के किस राज्य में है ?                                                               ","खेलों को और किन-किन भेदों में विभाजित करते हैं ?                                                  ","लेखक हिमालय और समुद्र को कौन- सा नाम दिये हैं ?                                     ","भारत माता की लाल दिशा में कौन-कौन रहते हैं ?                                                                                                 ","उर छेद-छेद कर गाना किसने सीखा ?                                                                  ","कवि नभ से क्या लेना चाहता है ?                                                                  ","कवि किस की विनय पत्रिका भगवान को दे रहे हैं ?                                          ","कवि के लिये प्यारा कौन है ?                                                          ","श्रीराम कहाँ बसा है ?                                                                                       ",null,null,null,null,"इंटर्नेट क्रांति          (अर्थ,  लाभ,  हानी,  उपसंहार)",null,null,null,null,null,null,null,null,null,null,null,null,null,null,null,null,null,null,null,null,null,null,null,null,null,null,null,null,null,null,null,null,null,null,null,null,null,null,null,null,null,null,null,null,null,null,null,null,null,"2.  महामारी के विषय में कुछ लोगों की धारणा क्या थी  ?"]
["बहुत बोलनेवाला होता है – \n   अ) शिक्षक    आ) उपन्यासक    इ) वाचाल     ई) मूर्ख",null,null,"भाई को गिरते देख कर बहन ने क्या किया ?                                                          ","नरेंद को किन-किन खेलों में रुची थी ?                                                                ","बहन ने क्या थाम लिया ?                                                                                  ","बस स्टार्ट होते ही लेखक को कैसे लगा ?                                                                                                              ","तुम कौन हो यह प्रश्न पुछने पर मौसी क्या उत्तर देती थी ?                                  ","आशियम्मा कलाम जी को खाने के लिये क्या-क्या देती थी ?                                     ","रक्षा के बदले में राक्षस क्या-क्या माँगता था ?                                                ","लोग और किन-किन चीजों से भी मस्तकाभिषेक करते हैं ?                                  ","भारत मे लोग बढिया चाय, पलाव खाने कँहा जाते हैं ?                                  ","वैयक्तिक खेल कौन-कौन से हैं ?                                                               ","कालिदास का प्रेम काव्य कौन-सा है ?                                                         ","पानी कैसे फ़ूट आता है ?                                                                                                                              ","मिट-मिट कर किसने पानी बरसाना सीखा ?                                                         ","कवि शशी से क्या लेना चाहता है ?                                                                     ","कवि विश्व में क्या भर देने के लिये कह रहे हैं ?                                                     ","कवि को किस पर बहुत अभिमान है ?                                                              ","निंदक को कँहा रख लिना चाहिए ?                                                                   ",null,null,null,null,"समय का महत्व   ( विषयवस्तु, प्रकार, महत्व, उपसंहार )",null,null,null,null,null,null,null,null,null,null,null,null,null,null,null,null,null,null,null,null,null,null,null,null,null,null,null,null,null,null,null,null,null,null,null,null,null,null,null,null,null,null,null,null,null,null,null,null,null,"3.   कुछ लोगों की दृष्टि में विवेकानंद जी द्वारा पीडितों की सेवा करने का  अर्थ क्या था ?"]
["रमेश धीरे-धीरे  लिखता है । इस वाक्य में रेखांकित शब्द है -   \n  अ) संज्ञा    आ) विशेषण    इ) क्रिया    ई) क्रिया विशेषण",null,"श्रद्धा उमड़ पड़ी ।","बस की रफ़्तार पंद्रह-बीस मील हो गयी थी ।                                                                                                   ","अध्ययन काल में नरेंद्र किन विचारों में मग्न रहते थे ?                                                                                ","गुलाब सिंह क्या बिखेर कर चला गया ?                                                                 ","लेखक के अनुसार बस कब जवान रही थी ?                                                                                                                       ","मौसी के न रहने पर मुहल्ला कैसे लगता था ?                                                  ","किस मंदीर के करण रामेश्वर प्रसिद्द तीर्थस्तल है ?                                                               ","नगर के सब लोग मिल कर कौन-सा नियम बना लिया था ?                                           ","वृषभदेव किस राज्य का राजा था ?                                                        ","भारत का पहला मस्जीद कहाँ है ?                                                             ","सामूहिक खेल कौन-कौन से हैं ?                                                                    ","काका कालेकर ने नदियों को कौन-सा नाम दिये हैं ?                                     ","सुंदर भाव कहाँ पले हैं ?                                                                                                                                    ","सिर टपक –टपक कर किसने झरना सीखा ?                                                             ","कवि धरती से क्या लेना चाहता है ?                                                               ","कवि अपने लिये क्या माँग रहे हैं ?                                                                 ","कवि को देवत्व के बदले में किस पर ज्यादा विश्वास है ?                                                      ","निंदक को अपने पास रख लेने से हमें क्या फ़ायदा होता है ?                                            ",null,null,null,null,"परिश्रम का महत्व  ( अर्थ, विषयवस्तु, लाभ, महत्व, उपसंहार )",null,null,null,null,null,null,null,null,null,null,null,null,null,null,null,null,null,null,null,null,null,null,null,null,null,null,null,null,null,null,null,null,null,null,null,null,null,null,null,null,null,null,null,null,null,null,null,null,null,"4.   स्वामी विवेकानंद जी के अनुसार उनके तथा कार्यकर्ताओं द्वारा किया जा रहा कार्य कौन-सा था ?"]
["‘परोपकार’ का उचित संधि-विच्छेद रूप है – \n   अ) परोप+कार    आ) पर+उपकार   इ)परो+उपकार    ई) परोप+कार",null,"डाकू मिलते हैं ?","एका एक बस रुक गई ।                                                                                                                                  ","नरेंद्र के पिता कौन थे ?                                                                                                 ",null,"पहली बार बस क्यों रुक गयी ?                                                                                                                        ","एक दिन बच्चें ने मौसी को कहाँ देखा ?                                                         ","रामेश्वर में हिन्दु- मुस्लिम कैसे रहते हैं ?                                                           ","अगर कोई भोजन नहीं भेजा तो राक्षस क्या करता था ?                                         ","वृषभदेव के दो पुत्र कौन थे ?                                                                   ","कोडुँगल्लुर भारत के किस राज्य में है ?                                                          ","मैदान में खेले जानेवाले खेल कौन-कौन से हैं ?                                          ","लेखक को हिमालय की बेटियाँ क्या लगती हैं ?                                               ","गुप्त जी को कौन-सी उपाधी मिली है ?                                                                                                                  ","गुरु- गिरिवर से गिर-गिर कर किसने बहना सीखा ?                                                   ","कवि दृढता को किस से लेना चाहता है ?                                                             ","कवि किसके तन-मन में प्रकाश भरना चाहते हैं ?                                                ","कवि प्यार के बिना किसे स्विकार करना नहीं चाहते हैं ?                                                 ",null,null,null,null,null,"कंप्यूटर की उपयोगिता  ( अर्थ, विस्तार, लाभ, हानी, उपसंहार )"]
["‘वरदान’ शब्द का विलोम शब्द है – \n   अ) दान    आ) पुरस्कार    इ) शाप    ई) आशीर्वाद",null,"असहयोग कर रहा था ।","बस को देखे तो श्रृद्धा उमड पाडी ।                                                                                                                 ","नारेंद्र का जन्म किस वर्ष में हुआ था                                                          ","दो - तीन वाक्य","ड्रैवर पेट्रोल की बाटल कँहा रख लिया ?                                                                                                                ","मौसी किस पर लेटी थी ?                                                      ","रामेश्वरम मंदिर के सब से बडे पूजारी कौन थे ?                                                ","किसी के घर कोई नहीं रहे तो वे क्या कर सकते थे ?                                          ","वृषभदेव बाहुबली को किस प्रदेश का राजा बनाया ?                                            ","चारपाई पर बैठा हुआ व्यक्ति कौन था ?                                                          ","घर के अंदर खेले जानेवाले खेले कौन-कौन से हैं ?                                                   ","किसने नदियों को बहन कहा है ?                                                     ","हम भारत माता की येश की गाथा कैसे गाना चाहिए ?                                                                                             ","किसने जग को पियुष पिलाता है ?                                                                  ","कवि कैसे मिटना चाहते हैं ?                                                                                  ","कवि की आशा के अनुसार जग कैसे रहे ?                                                       ","कवि कौन-सी कहानियाँ सुनना नहीं चाहते हैं ?                                                       ","दो - अंकवाले",null,null,null,null,"विद्यार्थी जीवन",null,null,null,null,null,null,null,null,null,null,null,null,null,null,null,null,null,null,null,null,null,null,null,null,null,null,null,null,null,null,null,null,null,null,null,null,null,null,null,null,null,null,null,null,null,null,null,null,null,"यह सही है कि इन दोनों कुछ ऐसा माहौल बना है कि ईमानदारी से मेहनत करके जीविका चलाने वाले निरीह और भोले-भोले श्रमजीवी पिस रहे हैं और झूठ तथा फरेब का रोजगार करने वाले फल फूल रहे हैं । ईमानदारी को मूर्खता का पर्याय समझा जाने लगा है, सच्चाई केवल भीरु और बेबस लोगों के हिस्से पड़ी है । ऐसे स्थिति में जीवन के मूल्यों के बारे में लोगों की आस्था ही हिलने लगी है । सदा मनुष्य-बुद्धि नई परिस्थितियों का सामने करने के लिए नए सामाजिक विधि निषेधों को बनाती है, उनके ठीक न साबित होने पर उन्हें बदलती हैं ।\n\n\n"]
["‘श्री गणॆश करना’ मुहावरे का अर्थ है -   \n   अ) पूजा करना    आ) आरंभ करना    इ) भजन कर्ना    ई) समाप्त करना",null,"असहयोग चल रहा था ।","हमें लग रहा था कि हमारे सीट के नीचे इंजन है ।                                                                                                  ","विवेकानंद के गुरु कौन थे ?                                                                   ","बहन ने भाई को खाने के लिये क्या-क्या दिया और इसका परिणाम क्या हुआ ?                    ","दुबारा बस रुकी तो लेखक को वह दृश्य कैसे लगा ?                                                                                          ","मौसी का चेहरा कैसे हो गया था ?                                                                    ","नमाज से लोगों के बीच कौन-सी भावना बढती है ?                                        ","उस नगर के लोगों बीच में क्या नहीं था ?                                                           ","बाहुबली के मन कौन-सा घमंड़ भरा हुआ था ?","हामिद खाँ एक लडके को किस भाषा में आदेश दिया ?                                             ","राज्य और राष्ट्र स्तर के खिलाडियों को दिये जाने वाले पुरस्कारों का नाम बताओ ।                                                                               ","लेखक का मन कैसा हो गया था ?                                                                   ",null,"पतंग क्या जलाता है ?                                                                              ","कवि कैसे लहराना चाहते हैं ?                                                                       ","जग की माताएँ कैसे रहे ?                                                                              ","कवि के लिये सच्चा स्वर्ग कौन-सा है ?                                                          ","कबीरदास गुरु की महत्ता के बारे में क्या कहते हैं ?                                             ",null,null,null,null,"पर्यावरण की रक्षा ( अर्थ, विस्तार, लाभ, हानी, उपसंहार )",null,null,null,null,null,null,null,null,null,null,null,null,null,null,null,null,null,null,null,null,null,null,null,null,null,null,null,null,null,null,null,null,null,null,null,null,null,null,null,null,null,null,null,null,null,null,null,null,null,"1.  आजकल किनका बोल बाला है ?"]
["इनमें एकवचन शब्द है -  \n   अ) मालाएँ    आ) लड़कियाँ     इ) आँख    ई) किताबें",null,"दूर सरक गए ।","मर गया पर टायर नहीं बदला ।","रामकृष्ण परमहँस कँहा रहते थे ?                                                                     ","शहर में क्यों आतंक छा गया था ?                                                                ","फ़ुलिया के उपर बस क्यों रुक गयी ?                                                                                                         ","बच्चे कौन-सा खेल खेलने गये थे ?                                                                  ","नमाज के बाद जैनुलाबुद्दिन कहाँ जाते थे ?                                                    ","लोग हिम्मत करे तो क्या कर सकते थे ?                                                     ","भरत किस प्रदेश का राजा बना ?                                                                ","हामिद खाँ के अनुसार यह दुनिया कैसे है ?                                                    ","खेलों से बच्चों में किन-किन गुणों का विकास होता है ?                                                 ","तिब्बत में लेखक का तबियत कैसा था ?                                                              ","दो - तीन वाक्य","अपना देह जला कर पतंग क्या निभाता है ?                                                     ","किस पथ में कवि सुमनों सा बिछ जाना चाहते हैं ?                                                   ","प्रत्येक के वदन में कौन चमकते रहे ?                                                          ","देवत्व और मनुजत्व में श्रेष्ठ कौन-सा है ?                                                            ","कबीरदास जाति-पांती के बारे में क्या कहते हैं ?                                               ",null,null,null,null,"पर्यटन का महत्व ( अर्थ, लाभ, एक व्यापार, शौक, उपसंहार)"]
["यह शब्द गुण संधि का उदाहरण है -  \n   अ) गणेश    आ) सहानुभूति    इ) एकैक    ई) गायक",null,"आँखों की ज्योति जाने लगी ।","हम लोग अपने पैतृक धर में रहते थे ।                                                                              ","रामकृष्ण परमहँस किस मंदिर के पूजारी थे ?                                           ","भाई  बहन मिल कर झंडा कैसे तैयार किये ?                                                     ","लेखक कंपनी के हिस्सेदार को किस भाव से देखा ?                                                                                                       ","खेल कर वापस आते समय बच्चों ने मौसी को कहाँ बैटे देखे ?                                       ","जैनुलाबद्दिन कौन-सा काम शुरु किये थे ?                                                    ","कुंती के कितने पुत्र थे ?                                                          ","भरत और बाहुबली किस प्रकार के युद्द किये ?                                                     ","हामिद खाँ लेखक को खाने के लिये क्या-क्या दिया ?                                         ","खेलों का विकास के लिये किन का योगदान रहा है ?                                           ",null,"हिमालय के बारे में कवि की भावना क्या है ?                                                                                                        ",null,null,null,null,"निंदा करने वालों के बारे में कबीरदास क्या कहते है ?",null,null,null,null,"अनुशासन ( अर्थ, विद्यार्थी के जीवन में, महत्व, उपसंहार )",null,null,null,null,null,null,null,null,null,null,null,null,null,null,null,null,null,null,null,null,null,null,null,null,null,null,null,null,null,null,null,null,null,null,null,null,null,null,null,null,null,null,null,null,null,null,null,null,null,"2.  सच्चाई किनके हिस्से  का पर्याय मानी जाने  लगी है ?"]
["‘व्यवहार-कुशल’ में समास है -  \n   अ) अव्ययीभाव    आ) तत्पुरुष    इ) कर्मधारय    ई) द्विगु",null,"पंद्रह-बीस मील हो गयी थी ।","मेरे पिता आडंबरहीन व्यक्ति थे ।                                                                                   ","रामकृष्ण परमहँस की पत्नी कौन थी ?                                                             ","बहन ने भाई को कैसे विधा की ?                                                                        ",null,"मौसी के पास क्या-क्या थे ?                                                                          ","रामेश्वरम के स्थानिय ठेकेदार कौन थे ?                                                               ","भीम को बकासुर देखने में कैसे लगा ?                                                     ","भरत और बाहुबली के बीच के युद्द में किसे विजय मिला ?                                                          ","हामिद खाँ को लेखक कितने रूपये देने गये ?                                                   ","नेहरु जी को बचपन में किस में ज्यादा  रुची थी ?                                                ","दो - तीन वाक्य","“दिल में आग दबाकर”  इसका मतलब क्या है ?                                                                                          ",null,null,null,"दो - अंकवाले",null,null,null,null,null,null,null,null,null,null,null,null,null,null,null,null,null,null,null,null,null,null,null,null,null,null,null,null,null,null,null,null,null,null,null,null,null,null,null,null,null,null,null,null,null,null,null,null,null,null,null,null,null,null,null,"3.  किनके बारे में लोगों की आस्था डाँवाडोल है ?"]
["‘खतरे से बच जाना’ यह इस मुहावरे का अर्थ है -  \n   अ) होश हवास खोना     आ) श्री गणेश करना    इ) बाल-बाल बचना    ई) आग बबूला होना",null,null,"शिव मंदिर के कारण रामेश्वरम प्रसिद्द तीर्थस्तल है ।","विवेकानंद कब अमरिका गये ?                                                               ","भाई को गिरते देख कर बहन ने क्या किया ?                                                          ","दो - तीन वाक्य","सब लडकों ने एक स्वर में क्या कहा ?                                                          ","अब्दुल कलाम की बडी बहन कौन थी ?                                                          ","बकासुर के हाथ भीम को कैसे लगे ?                                                        ","बहुत दिनों तक तप करने पर भी बाहुबली को कौन-सा ज्ञान प्राप्त नहीं हुआ ?                    ","हामिद खाँ पैसे लेने क्यों इनकार किया ?                                                    ","भारत में कब येशियन खेलों का आयोजन किया गया था ?                                        ","हिमालय की गोद में कितनी नदियाँ थीं और उनका रुप कैसा था ?                              ","कवि ऊँचा हिया क्यों कहते हैं ?                                                                                                                             ","दो - तीन वाक्य",null,null,"कवि का संसार कैसा है ?                                                                             ",null,null,null,null,null,null,null,null,null,null,null,null,null,null,null,null,null,null,null,null,null,null,null,null,null,null,null,null,null,null,null,null,null,null,null,null,null,null,null,null,null,null,null,null,null,null,null,null,null,null,null,null,null,null,null,"4. नवीन सामाजिक विधि निषेध किस के लिए बनते है ?"]
["‘आयत’ का विलोम शब्द है -  \n   अ) निर्यात    आ) प्रख्यात    इ) भेजना   ई) आया था",null,"यह मेरी बेटी","यह मेरा बेटा यह मेरी बेटी ।                                                                        ","अमरिका में विवेकानंद किन के संदेशों का प्रसार किये ?                                        ",null,"बस की यात्रा इस लेख का लेखक कौन हैं और वे कँहा से कँहा जा रहे थे ?                                                                     ","बच्चों ने कहाँ से खाट उटा लाये ?                                                                     ","जोहरा का विवाह किस के साथ हुआ था ?                                                    ","भीम और बकासुर कौन-सा युद्द करने लगे ?                                                        ","कर्नाटक के रालवंशों में कौन-सा राजवंश श्रेष्ट है ?                                             ","हामिद खाँ क्या कह कर रूपया वापस किया ?                                                        ","नेहरु जी के अनुसार किस भावना से खेल खेलना चाहिए ?                                                   ","सिधु, ब्रह्मपुत्र का नाम लेते ही कौन-कौन सी नदियाँ आँखों के सामने आती हैं?                                                                                                       ","हमे मिलजुल कर क्या गाना चाहिए ?","शिशु दुनिया में आकर सब से पहले क्या सीखा और कैसे सीखा ?                                 ",null,"दो - तीन वाक्य","कवि स्वर्ग सुख की कामना क्यों नहीं करते ?                                                         "]
["अर्चना सुन्दर लड़की है ! इस वाक्य में प्रयुक्त विराम चिन्ह है -  \n   अ) प्रश्‍नावचक    आ) पूर्णविराम        इ) उद्धरण    ई) विस्मयादिबोधक",null,"स्कूल के पाटक पर जा पहूँचती ।","अब मैं अपने बच्चों को छोडकर कहीं नहीं जाऊँगी ।                                                    ","विवेकानंद किन-किन देशों का भ्रमण किये ?                                                  ","तीन - अंकवाले ","बस को देख कर लेखक के मन में क्यों श्रद्दा उमड पडी ?                                                  ","खाट के साथ बच्चे सीदा कहाँ गये ?                                                           ","अब्दुल कलाम के अंतरंग मित्र कौन था ?                                                             ","भीम के हाथों में बकासुर कैसे मर गया ?                                                              ","गंग वंश का प्रमुख राजा कौन था ?                                                        ",null,"स्वस्थ शरीर में किसका विकास होता है ?                                                                   ","कालिदास के विरही यक्ष ने मेघदूत से क्या कहा ?                                              ","तीन - अंकवाले","पतंग ने प्रेम निभाना कैसे सीखा ?","दो - तीन वाक्य","संतप्त समाज के निर्माण के लिये कवि भगवान से क्या प्रार्थना कर रहे हैं ?                                    ","कवि के लिये अपना देवालय और आरध्य कौन-सा हैं ?                                                 ","तीन अंकवाले",null,null,null,null,null,null,null,null,null,null,null,null,null,null,null,null,null,null,null,null,null,null,null,null,null,null,null,null,null,null,null,null,null,null,null,null,null,null,null,null,null,null,null,null,null,null,null,null,null,null,null,null,null,null,"एक सुसज्जित कमरे में शिवाजी एक पलंग पर से रहे थे । सामने भवानी का चित्र लटक रहाथा । पास ही मालवजी नाम का एक बालक हाथ में नंगी तलवार लिए हुए शिवाजी की हत्या करने के किए तैयार था । शिवाजी एक भायानक स्वप्न देखकर अचानक आँखे मलते हुए उठ बैठे । मालवजी उन पर वार करने के लिए तलवार उठाया । पीछे से तानाजी आकर उसका हाथ पकड़ लिया ।\n\n\n\n"]
["‘युवक’ शब्द का अन्यलिंग रूप है -  \n   अ) युबकी     आ) युवती     इ) युवति    ई) युवका",null,"दुपट्टा ओढ़े रहती थि ।","दूसरे दिन हमारा हाकि मैच था ।                                                               ","विवेकानंद के विदेशी शिष्या कौन थी ?                                                                                                           ","बहन ने भाई के हाथ से झंशए को अपने हाथ में थाम लिया । इस घटना का वर्णन कीजिए ।","बस के बारे में डाक्टर मित्र ने लेखक से क्या कहा ?                                                         ","कन्हैया अपने घर से क्या लाया ?                                                                 ","अहमद जलालुद्दिन अब्दुल कलाम को किस नाम से पुकारते थे ?                                ","बकासुर मरते ही वहाँ दौडकर कौन आये ?                                                         ","राचमल्ल का मुख्यमंत्री कौन था ?                                                           ","दो - तीन वाक्य",null,"लेखक ने नदियों को किन-किन भावनाओं में चित्रित किया है ?                                              ","निम्नलिखित कवितांश का भावार्थ भावार्थ लिखिए । \n  कमल खिले तेरे पानी में  धरती पर हैं आम फले,\n  इस धानी आँचल में देखो  कितने सुंदर भाव पले,\n  भाई-भाई मिल रहें सदा ही  टूटे कभी न नाता,\n  जय-जय भारत माता । ",null,"कवि कैसे चमकना और दमकना चाहते हैं ?                                                           ","विनती कविता में कवि की कौन-कौन सी अभिलाषाएँ प्रकट हुई हैं ?                          ","कवि को कौन-सा चीज प्यार है और किस पर अभिमान है ?                                      ","कबीरदास गुरु की महत्ता के बारे में क्या कहते हैं ?                                             ",null,null,null,null,null,null,null,null,null,null,null,null,null,null,null,null,null,null,null,null,null,null,null,null,null,null,null,null,null,null,null,null,null,null,null,null,null,null,null,null,null,null,null,null,null,null,null,null,null,null,null,null,null,null,"1) शिवाजी की हत्या करने के लिए कौन आया था ?"]
["कमरा का अन्यवचन रुप है -  \n   अ) कमरों     आ) कमरे     इ) कमरा     ई) कमराएँ",null,"नहीं ले रखा है मौसी !","आंगन में मौसी एक काट पर लेटी थी ।                                                              ","विवेकानंद का देहावसान कब हुआ ?                                                                                                 ","बहन भाई को कैसे विदा  की ?","बस में बैठे बंधुओं को छोडने आये लोग बस को देख कर क्या-क्या  सोच रहे थे ?                                             ","योगराज अपने घर से क्या लाया ?                                                                ","अब्दुल कलाम के चचेरे भाई कौन थे ?                                                       ","बकासुर के सिपाहियों को भीम क्या सूचना दिया ?                                             ","चाऊँडराय के सपने में कौन-कौन आये थे ?                                                 ","लेखक तक्षशिला का वर्णन कैसे किया है ?                                                        ","दो - तीन वाक्य",null,"निम्नलिखित कवितांश का भावार्थ भावार्थ लिखिए । \n  तेरी लाल दिशा में ही माँ  चंद्र-सूर्य चिरकाल रहें,\n  तेरे पावन आँगन में  अंधकार हटे और ज्ञान मिले,\n  मिलजुलकर ही हम सब गाएँ  तेरे यश की गाथा,\n  जय-जय भारत माता । ","तीन अंकवाले","कवि कैसे महकना और चहकना चाहते हैं ?                                                             ","विनती कविता की अंतिम चार पंक्तियों में कवि क्या कहते हैं ?","कवि अमरत्व को क्यों स्वीकार नहीं करना चाहते हैं ?","कबीरदास जाति-पांती के बारे में क्या कहते हैं ?                                               ",null,null,null,null,null,null,null,null,null,null,null,null,null,null,null,null,null,null,null,null,null,null,null,null,null,null,null,null,null,null,null,null,null,null,null,null,null,null,null,null,null,null,null,null,null,null,null,null,null,null,null,null,null,null,"2) शिवाजी क्या देखकर आँखें मलते हुए उठ बैठे ?"]
["‘संग्रहालय’ किस संधि का उदाहरण है ?  \n   अ) यण्     आ) गुण     इ) दीर्घ     ई) अयादि",null,"हॉकी मैच था ।","उसका पूरा नाम बकासुर था ।                                                                          ","विवेकानंद अपने गुरु के नाम पर किसकी स्थापना किये ?  ","चार अंकवाले","लेखक बस के हिस्सेदर के बारे में क्या सोचे ?                                                                                              ","गाँव वालों ने मौसी को कहाँ  रहने के लिये कहाँ जगह दिये ?    ","शमशुद्दिन कौन-सा काम करते थे ?                                                            ","सभी कैसे खडे थे ?                                                                        ","चाऊँडराय किसकी मूर्ती बनवाया ?                                                                ","कोडुंगल्लुर के बारे में लेखक के विचार क्या हैं ?                                                  ","नेहरुजी की घुड सवारी की घटना के बारे में लिखो ।                                                  ","तीन - अंकवाले","जय-जय भारत माता कविता का भावार्थ संक्षिप्त रूप में लिखिए ।","शिशु के बारे में ठाकुर गोपालशरन सिंह जी क्या कहा है ?","कवि किन-किन से क्या-क्या लेना चाहते हैं ?                                                      ",null,null,"निम्नलिखित कवितांश का भावार्थ भावार्थ लिखिए ।\n  गुरु गोविंद दोउ खड़े, काके लागू पाय ।\n  बलिहारी गुरु आपने, गोविंद दियो बताय ।।         ",null,null,null,null,null,null,null,null,null,null,null,null,null,null,null,null,null,null,null,null,null,null,null,null,null,null,null,null,null,null,null,null,null,null,null,null,null,null,null,null,null,null,null,null,null,null,null,null,null,null,null,null,null,null,"3) मालवजी शिवाजी पर वार करने के लिए क्या उठाया ?"]
["“लंबोदर’ इस समास का उदाहरण है -   \n   अ) बहुर्वीहि    आ) द्वंद्व     इ) द्विगु     ई) अव्ययीभाव",null,null,"इस नगर का राजा बडा दुर्बल है ।                                                                 ","दो - तीन वाक्य","बहन ने भाई के हाथ से झंशए को अपने हाथ में थाम लिया । इस घटना का वर्णन कीजिए ।",null,"अब मौसी कौन-सा काम कर रही है ?  ","कलाम के बचपन के पक्के दोस्त कौन-कौन थे ?                                              ","भीम लाश को कहाँ रखने के लिए कहा?                                                   ","किसकी इच्छा से इस मूर्ती का निर्माण हुआ ?                                                    ","हामिद खाँ ने खाने के पैसे लेने इनकार क्यों किया ?                                                       ","खोलों के प्रकार बताते हुए उदाहरण दो                                                                  ","पहाडी नदियों की धाराएँ विशाल मैदान में शांत होते देखकर लेखक ने क्या सोचा ?"," चार अंकवाले","निम्नलिखित कवितांश का भावार्थ भावार्थ लिखिए । \n  शिशु ने दुनिया में आकर,\n     रो-रोकर हँसना सीखा ।\n  लघु होकर बढ़ना सीखा,\n     गिर-गिरकर चलना सीखा। ","कवि की अंतीम अभिलाषा क्या है ?","तीन-अंकवाले","तीन अंकवाले","निम्नलिखित कवितांश का भावार्थ भावार्थ लिखिए ।\n  कस्तूरी कुंडली बसै, मृग ढूंढ़ै बन माहिं ।\n  ऐसै घटि-घटि राम हैं, दुनिया देखै नाहिं ।।         ",null,null,null,null,null,null,null,null,null,null,null,null,null,null,null,null,null,null,null,null,null,null,null,null,null,null,null,null,null,null,null,null,null,null,null,null,null,null,null,null,null,null,null,null,null,null,null,null,null,null,null,null,null,null,"4) तानाजी ने क्या किया ?"]
["‘सज्जन” का विलोम शब्द है -  \n   अ) बुरा जन    आ) दुर्जन     इ) नसज्जन    ई) असज्जन",null,"चचेरे भाई  ","भगवान तुम्हारे बेटे की रक्षा करें ।","विचेकानंद का जन्म कब हुआ था और उनके माता पिता कौन थे ?                                         ","बहन भाई को कैसे विदा की  ?","तीन - चार वाक्य ",null,"रमानंद शास्त्री कौन था ?                                                                             ",null,"चाऊँडराय बाहुबली की मूर्ती के तोरण द्वार पर किसकी मूर्ती बनवाया ?                       ","लेखक ने बाजार का वर्णन कैसे किया है ?","खेलों से क्या-क्या लाभ होता है ?                                                                    ","बहती नदियों के बारे में नागार्जुन ने क्या कहा है ?","इस पद्य भाग की पूर्ति कीजिए -\n   जय-जय भारत----------------------------------\n   ---------------------------------------------------\n-------------------------------------------हरा-भरा\n-----------------------------------------------------\nसौ-सौ सोतों--------------------------------------\n -------------------------------------भारत माता","निम्नलिखित कवितांश का भावार्थ भावार्थ लिखिए । \n  वीरों ने इस वसुधा में,\n     मर-मरकर जीना सीखा ।\n  कितने ही चक्कर खाकर,\n     चंगों ने चढ़ना सीखा। ",null,"निम्नलिखित कवितांश का भावार्थ भावार्थ लिखिए ।\n  देखो ये भूखे-भूखे - जीवन में मर रहे हैं ।\n  दो अन्न किसानों को - बस जाओं इनके मन में ।         ","कोई नहीं पराया   कविता भावार्थ लिखिए ।                                                                ","निम्नलिखित कवितांश का भावार्थ भावार्थ लिखिए ।\n  जाति न पूछो साधु की, पूछ लीजिए ज्ञान ।\n  मोल करो तलवार का, पड़ा रहन दो म्यान ।।         "]
["‘हिम्मत’ का समानार्थक शब्द है -  \n   अ) बलवान     आ) साहस    इ) ताकतवान     ई) अहिम्मत",null," अंतरंग मित्र    ","बाहुबली पौदनपुर का युवराज था ।                                                                  ","विवेकानंद ने भारत वासियों को क्या उपदेश दिये ?                                     ",null,"बस का इंजन स्टार्ट होने पर लेखक का अनुभव क्या था ?","दो - तीन वाक्य","दो - तीन वाक्य","दो - तीन वाक्य",null,null,"अच्चे खिलाडियों को क्या-क्या सुविधाएँ मिलती हैं ?                                                          ","सिंधु और ब्रह्मपुत्र नदियों की कौन-कौन-सी विशेषताएँ हैं ?                               ",null,"निम्नलिखित कवितांश का भावार्थ भावार्थ लिखिए । \n  मिट-मिटकर वारिधरों ने,\n     पानी बरसाना सीखा ।\n  सिर पटक-पटककर पत्थर पर,\n     झरनों ने झरना सीखा। ","तीन अंकवाले","निम्नलिखित कवितांश का भावार्थ भावार्थ लिखिए ।\n  मुझको दो स्नेह इतना - पावन कि उमड़कर मैं ।\n  भर दूँ प्रकाश बुझते - दीपों के तन मन में ।          ",null,"निम्नलिखित कवितांश का भावार्थ भावार्थ लिखिए ।\n  निंदक नियरे राखिए, आँगन कुटी छवाय ।\n  बिन पानी साबुन बिना, निर्मल करै सुभाय ।।         ",null,null,null,null,null,null,null,null,null,null,null,null,null,null,null,null,null,null,null,null,null,null,null,null,null,null,null,null,null,null,null,null,null,null,null,null,null,null,null,null,null,null,null,null,null,null,null,null,null,null,null,null,null,null,"विक्रम साराभाई का जन्म गुजरात के अहमदाबाद में हुआ था । उनकी माता  सरलादेवी और पिता अंबालाल था । विक्रम बचपन से ही प्रतिभावान थे । उनके प्रिय विषय गणित और विझ्ञान थे ।उन्होंने  कैंब्रिज विश्‍वविद्यालय लंड़न से त्रिपोस परीक्षा पास किये थे । अंतरिक्ष की गहराइयों से आनेवाले रहस्यमयी कास्मिक किरणों पर अनुसंधान करके वे कैंब्रिज विश्‍वविद्यालय से सन्‍ १९४७  में पी.एच्‍.डी की उपाधि अर्जित की थी ।\n\n\n"]
["क्या कर रहे हो ? इस वाक्य में प्रयुक्त विराम चिन्ह है -  \n   अ) पूर्णविराम     अ) अर्धविराम     इ) अल्पविराम       ई) प्रश्‍नावचक",null,"रामानंद शास्त्री   ","विंध्यागिरी पर्वत पर गोम्मटेश्वर की मूर्ती है ।","विवेकानंद कौन-सा व्रत लिये थे ?                                                          ",null,"जब बस सचमुच चल पड़ी, तब लेखक क्या-क्या महसूस कर रहे थे ?","मौसी कौन-कौन सी कहानियाँ सुनाती थी ?                                                       ","आशियम्मा जी अब्दुल कलम को खाने के लिये क्या- क्या देती थी ?                                 ","बकासुर क्या काम करता था और उसके बदले में क्या लेता था ?                         ","दो - तीन वाक्य","तीन - अंकवाले ",null,null,null,null,"इस कविता का भावर्थ अपने शब्दों में लिखिए ।","विनती कविता का भावार्थ संक्षिप्त रूप में लिखिए ।","चार अंक","चार अंक",null,null,null,null,null,null,null,null,null,null,null,null,null,null,null,null,null,null,null,null,null,null,null,null,null,null,null,null,null,null,null,null,null,null,null,null,null,null,null,null,null,null,null,null,null,null,null,null,null,null,null,null,null,null,"1) विक्रम साराभाई के माता का नाम क्या था ? "]
["यह शब्द अयादि संधि का उदाहरण है -  \n   अ) एकैक      आ) स्वागत      इ) गायक      ई) अत्यंत",null,"जैनुलाबदीन","मैं यही प्रार्थना अब भी कर रहा हूँ ।                                                                                    ","विवेकानंद चिकागो कब गये और वे किस सम्मेलन में भाग लिये ?                                          ",null,"इंजन में पेट्रॊल की नली जुड़ गई - उस समय लेखक की क्या उम्मीद थी ?","मौसी क्या ओढी रहती और वह बच्चों को क्या-क्या देती थी ?                           ","जैनलाबदिन नमाज के बारे में क्या कहते हैं ?                                                    ","ब्राह्मण कौन-सा कारण दे कर खुद जाना चाहता था ?                                     ","बाहुबली कि मूर्ती का वर्णन करो ।                                                                     ","किसने किससे कहा?किस पाठ से लिया गया है ? - \"क्या आपको मेरी बात पर विश्वास नहीं होता ?\"","तीन - अंकवाले","चार अंकवाले",null,null,"निम्नलिखित कवितांश का भावार्थ भावार्थ लिखिए ।\n  फुलों - सा महकूँ मैं\n  विहगों - सा चहकूँ मैं\n  गुंजरित कर वन-उपवन\n  कोयल - सा कुहुकूँ मैं\n  मेरी अभीलाषा है ।\n                                ","चार अंक","इस पद्य भाग की पूर्ति कीजिए -\n   कहीं रहे कैसे भी  --------------------------------------\n   ----------------------------------------------अभिमान है,\n  और छोड़कर --------------------------------------------\n  --------------------------------------ज्यादा सुकुमार है ।","इस पद्य भाग की पूर्ति कीजिए -\n    गुरु गोविंद  --------------------------------------।\n     ---------------------------------------दियो बताय ॥"]
["‘सोना’ शब्द का प्रथम प्रेरणार्थक क्रिया रूप है -  \n   अ) सो     आ)सुलाना     इ)सुलवाना     ई)सोलाना",null," चन्नाई  ","वे मेरे अब्बाजान हैं                                                                                               ","रामकृष्ण मिशन कँहा है और इसे किस के नाम पर स्तापित किया गया है?                            ",null,"बस की रफ़्तार बीस मील हो गई तो लेखक के मन में कौन-कौन से भाव उमड़ने लगे ?","दरवाजे के दरार से मौसी कैसे दिख पडी ?                                                         ","अब्दुल कलाम को संतुष्टी का आभास कैसे हुआ ?                                      ","एकचक्र नगर का राज कैसा था और उसे दबाकर किस ने राजा बना ?                              ","बाहुबली को केवल ज्ञान कैसे प्राप्त हुआ ?                                                    ","किसने किससे कहा?किस पाठ से लिया गया है ? - आप दस मिनट तक इंतजार कीजिए, सालन अभी पक रहा है ।","खेलों से सेहत अच्छी होती है - स्पष्ट करो ।","पहाडी नदियों की धाराएँ विशाल मैदान में शांत होते देखकर लेखक ने क्या सोचा ?",null,null,"निम्नलिखित कवितांश का भावार्थ भावार्थ लिखिए ।\n  नभ से निर्मलता लूँ\n  शशि से शीतलता लूँ\n  धरती से सहनशक्ति\n  पर्वत से दृढ़ता लूँ\n  मेरी अभीलाषा है ।\n                                ","विनती कविता का भावार्थ अपने शब्दों में लिखिए ।",null,"इस पद्य भाग की पूर्ति कीजिए -\n    गुरु गोविंद  --------------------------------------।\n     ---------------------------------------दियो बताय ॥",null,null,null,null,null,null,null,null,null,null,null,null,null,null,null,null,null,null,null,null,null,null,null,null,null,null,null,null,null,null,null,null,null,null,null,null,null,null,null,null,null,null,null,null,null,null,null,null,null,null,null,null,null,null,"2)  विक्रम का जन्म किस राज्य में हुआ ?"]
["‘राजमहल’ शब्द में समास है -  \n   अ)द्वंद्व     आ) तत्पुरुष     इ) द्विगु      ई) कर्मधारय",null,"तमिलुनाडु","मैं बेंच पर बैठकर रुमाल से हवा करने लगा                                                        ","विवेकानंद जी जनता को ललकार कर क्या कहने के लिये कहे ?                           ",null,null,"मौसी कहाँ बैठी रही ? सबने एक स्वर में क्या कहा ?","अब्दुल कलाम का जन्म कँहा हुआ था और  उनके माता पिता कौन थे ?                        ","भीम बकासुर को कैसे मारा और उसका लाशा कहाँ रखने के लिए कहा ?                                           ","श्रवणबेलगोल कहाँ है और वहाँ के दो पहाडों का नाम क्या है ?                                     ","किसने किससे कहा?किस पाठ से लिया गया है ? - पैसा नहीं लूँगा आप मेरे मेहमान है ।"," ","बहती नदियों के बारे में नागार्जुन ने क्या कहा है ?",null," चार अंकवाले","निम्नलिखित कवितांश का भावार्थ भावार्थ लिखिए ।\n  मेघों-सा मिट जाऊँ\n  सागर-सा लहराऊँ\n  सेवा के पथ पर मैं\n  सुमनों-सा बिछ जाऊँ\n  मेरी अभीलाषा है ।\n                                ",null,null,"इस पद्य भाग की पूर्ति कीजिए -\n    गुरु गोविंद  --------------------------------------।\n     --------------------------------------दियो बताय ॥",null,null,null,null,null,null,null,null,null,null,null,null,null,null,null,null,null,null,null,null,null,null,null,null,null,null,null,null,null,null,null,null,null,null,null,null,null,null,null,null,null,null,null,null,null,null,null,null,null,null,null,null,null,null,"3) विक्रम को पी.एच्‍.डी की उपाधि कब मिली ?"]
["‘मछली’ शब्द का बहुवचन रूप है -   \n   अ) मछलियाँ      आ) मछलिया     इ) मछलियों      ई) मछलियें",null,"रामेश्वरम","मुस्कुराते मैं दुकान के अंदर घुस गया ।                                                                     ","विवेकानंद की रुचि किन विषयों में थी ?",null,"चार अंकवाले","मौसी लाठी टेकती हुई मोहल्ले में क्या-क्या कर लेती थी ?","रामेश्वरम मंदीर कँहा है ?उसके पुजारी कौन थे ?                                             ","ब्राह्मण के घर में सब लोग क्यों रो रहे थे ?","अयोध्या का राजा कौन था और उनके दो पुत्र कौन थे ?                                          ",null,"मैदानी खेल और घरेलू खेलों में क्या अंतर है ? ","सिंधु और ब्रह्मपुत्र नदियों की कौन-कौन-सी विशेषताएँ हैं ?                               ",null,"शिक्षा कविता का भावार्थ संक्षिप्त रूप में लिखिए ।                                                                ",null,null,null,"इस पद्य भाग की पूर्ति कीजिए -\n    जाति न पूछो  --------------------------------------।\n     ------------------------------------रहन दो म्यान ॥",null,null,null,null,null,null,null,null,null,null,null,null,null,null,null,null,null,null,null,null,null,null,null,null,null,null,null,null,null,null,null,null,null,null,null,null,null,null,null,null,null,null,null,null,null,null,null,null,null,null,null,null,null,null,"4) किस विश्‍वविद्यालय से वे त्रिपोस परीक्षा पास किये थे ?"]
["‘रुपया’ शब्द का बहुवचन रूप है -  \n   अ) रुपयों     आ) रुपयाँ      इ) रुपयें        ई) रुपया",null,null,"भाई जान माफ़ कीजिये, पैसा नहीं लूँगा, आप मेरे मेहमान हैं ।","विवेकानंद ने किन-किन देशों की यात्राएँ कीं ?",null,"बस का इंजन स्टार्ट होने पर लेखक का अनुभव क्या था ?",null,"जलालुहद्दिन कौन थे और वह अब्दुल कलाम को किस नाम से पुकारता था ?               ",null,"गंग वंश का राजा और उनका सेनादिपती कौन था ?                                          ","चार अंकवाले",null,null,null,"इस पद्य भाग की पूर्ति कीजिए -\n  पहले पतंग --------------------------------------\n   ---------------------------------------------------\n-----------------------------------------------------\n----------------------------------निभाना सीखा ॥","इस पद्य भाग की पूर्ति कीजिए -\nसूरज - सा  --------------------------------------\n   ---------------------------------------------------\n-----------------------------------------------------\n--------------------------------------अभिलाषा है ।",null,null,"इस पद्य भाग की पूर्ति कीजिए -\n   कस्तूरी कुंडली  --------------------------------------।\n     --------------------------------------------देखै नाहिं॥"]
["‘पर्वतावली’ इसमें  संधि है -  \n   अ) दीर्घ      आ) यण्      इ) गुण      ई) व्यंजन",null,"  दुर्बल   ","खेल कई प्रकार के होते हैं ।                                                                    ",null,null,"जब बस सचमुच चल पड़ी, तब लेखक क्या-क्या महसूस कर रहे थे ?","तीन - अंकवाले ","अब्दुल कलाम का बचपन हबुत ही निश्चिंतता और सादेपन में बीतने के कारण लिखिए ।","तीन - अंकवाले ","चाउँडराय की माता ने क्या प्रतिज्ञा की ?                                                        ","हामिद खाँ से हिंदु -मुसलमानों के संबंध मे लेखक ने क्या कहा ?","चार अंकवाले",null,null,null,null,null,null,"इस पद्य भाग की पूर्ति कीजिए -\n    निंदक नियरे  --------------------------------------।\n     ---------------------------------------करै सुभाय ॥",null,null,null,null,null,null,null,null,null,null,null,null,null,null,null,null,null,null,null,null,null,null,null,null,null,null,null,null,null,null,null,null,null,null,null,null,null,null,null,null,null,null,null,null,null,null,null,null,null,null,null,null,null,null,"राणी चन्नम्मा का जन्म बेलगाम जिले के काकती में हुआ था । वह धूलप्प देसाई की इकलौती बेठी थी । बचपन में ही चन्नम्मा अपने पिता से घुड़दौड, तीर चलाना, जैसे युद्ध कौशलों को सीखी थी । बडी होने पर चन्नम्मा  की शादी कित्तूर के राजा मल्लसर्ज देसाई से हुई थी । पति के मरणोपरांत चन्नम्म कित्तूर की रानी बनकर राज्यभार चलाई । स्वातंत्र्य के लिए अंग्रेजों से लड़नेवाली प्रथम राणी चन्नम्मा थी ।\n\n\n\n"]
["‘जलप्रपात’ में समास है  -   \n   अ) द्विगु      आ) द्वंद्व       इ) कर्मधारय     ई) तत्पुरुष",null,"कुंती का पुत्र  ","जीवन में खेलों का स्थान बहुत महत्वपूर्ण है ।                                                    ","तीन - अंकवाले ",null,null,"दोपहर होते ही मौसी कहाँ जा पहुँचती थी ? तब स्कूल के बच्चे उसके साथ क्या-क्या करते थे ?                                                         ",null,"बकासुर को भोजन ले जाने के बारे में ब्राम्हण घरवालों के बीच हुई चर्चा के बारे में लिखिए ।","चाउँडराय के सपने में कौन-कौन आये और वे क्या बताये ?                                                  ",null,"खेलों से सेहत अच्छी होती है - स्पष्ट करो ।",null,null,null,null,null,null,null,null,null,null,null,null,null,null,null,null,null,null,null,null,null,null,null,null,null,null,null,null,null,null,null,null,null,null,null,null,null,null,null,null,null,null,null,null,null,null,null,null,null,null,null,null,null,null,null,null,null,null,null,null,null,"1. चन्नम्मा का जन्म किस जिले में हुआ था ?"]
["‘निराश’  शब्द  का विलोम रूप है  -   \n   अ) आशा       आ) निशा      इ) खुशी       ई) नआशा",null,"नगर की रक्षा","खेल को खेल की भवान से खेलना चाहिए ।                                                       ","विवेकानंद जी जनता को ललकार कर क्या कहने के लिये कहे ?                           ",null,null,"दोपहर ढ़लने पर मौसी बच्चों के साथ क्या-क्या करती थी ?","तीन - अंकवाले ","किसने किससे कहा?किस पाठ से लिया गया है ? - \"राक्षस ! कैसा राक्षस ? क्या यहाँ राक्षस रहता है ?\"",null,null,"मैदानी खेल और घरेलू खेलों में क्या अंतर है ? चर्चा कीजिए ।",null,null,null,null,null,null,null,null,null,null,null,null,null,null,null,null,null,null,null,null,null,null,null,null,null,null,null,null,null,null,null,null,null,null,null,null,null,null,null,null,null,null,null,null,null,null,null,null,null,null,null,null,null,null,null,null,null,null,null,null,null,"2. चन्नम्मा के पिता का नाम क्या था ?"]
["‘रोना’  शब्द का द्वितीय प्रेरणार्थक  क्रिया रूप है -  \n   अ) रोलाना      आ) रुलाना     इ) रुलवाना      ई) रोना",null," लडना ","हाकी भारत का राष्ट्रीय खेल है ।                                                                     ","रामकृष्ण मिशन के कार्यों के बारे में लिखिए ।",null,null,"हॉकी मैच के बाद जब लड़कों ने मौसी को देखा, तब उसकी हालत कैसी थी ?","शम्सुद्दीन अखबारों के वितरण का कार्य कैसे करते थे ?","किसने किससे कहा?किस पाठ से लिया गया है ? - \"तो क्या यहाँ आदमी बिकते भी है ?\"","तीन - अंकवाले ",null,"हमारे देश में खेलों के विकास एवं उन्हें विश्‍व स्तर पर लाने में नेहरू जी का योगदान के बारे में लिखिए ।",null,null,null,null,null,null,null,null,null,null,null,null,null,null,null,null,null,null,null,null,null,null,null,null,null,null,null,null,null,null,null,null,null,null,null,null,null,null,null,null,null,null,null,null,null,null,null,null,null,null,null,null,null,null,null,null,null,null,null,null,null,"3. चन्नम्मा बचपन में ही क्या सीखी  थी ?"]
["‘औपचारिक’ शब्द का विलोम शब्द है -  \n   अ) चारिक    आ) अनौपचारिक    इ) अनाचारिक        ई) उपचारिक",null,"  विष्णु प्रभाकर     ","खेलों द्वारा जीवन का अनुभव प्राप्त होता है ।","शिकागो नगर के सर्वधर्म सम्मेलन के बारे में लिखिए ।",null,null,"मसी को नीम के पेड़ के नीचे बिठाने के बाद किस-किसने क्या-क्या काम किया ?","जैनलाबदिन नमाज के बारे में क्या कहते हैं ?                                                    ","किसने किससे कहा?किस पाठ से लिया गया है ? - \"ओ! तुम बकासुर के सिपाही हो?\"","गोमटेश्‍वर मूर्ति का वर्णन कीजिए ।",null,null,null,null,null,"   ",null,null,null,null,null,null,null,null,null,null,null,null,null,null,null,null,null,null,null,null,null,null,null,null,null,null,null,null,null,null,null,null,null,null,null,null,null,null,null,null,null,null,null,null,null,null,null,null,null,null,null,null,null,null,null,null,null,"4. चन्नम्मा किसके साथ युद्ध की ?"]
["‘लोग’ का अन्यवचन रूप है -   \n   अ) लोगों     आ) लोगे      इ) लोग       ई) लोगाओं",null,null,"सतलज के किनारे जा कर बैठ गया ।                                                              ",null,null,null,"किसने किससे कहा ?  किस पाठ से लिया गाया है -  यह मेरा बेटा, यह मेरी बेटी ।","अब्दुल कलाम के पिता के बारे में लिखिए ।","किसने किससे कहा?किस पाठ से लिया गया है ? - \"बुआ, बुआ, तुम कितनी अच्छी हो ?\"","गोमटेश्‍वर मूर्ति की स्थापना के बारे में लिखिए ।  "]
["‘भेजना’ शब्द का प्रथम प्रेरणार्थक क्रिया रूप है -  \n   अ) भेजवाना     आ) भिजवाना    इ) भिजाना      ई) भेजाना",null,"    सेनाधिपती    ","दोपहर का समय था ।                                                                              ","चार अंकवाले",null,null,"किसने किससे कहा ? किस पाठ से लिया गाया है - तू अपने गाँव चली जा ।","अहमद जलालुद्दिन के बारे में अब्दुल कलाम  जी क्या कहा है ?                            ","किसने किससे कहा?किस पाठ से लिया गया है ? - \"ना बहन, कुछ अपराध नहीं हुआ ।\"","महामस्तकाभिषेक का वर्णन कीजिए ।",null,null,null,null,null,null,null,null,null,null,null,null,null,null,null,null,null,null,null,null,null,null,null,null,null,null,null,null,null,null,null,null,null,null,null,null,null,null,null,null,null,null,null,null,null,null,null,null,null,null,null,null,null,null,null,null,null,null,null,null,null,null,null,"            वन और पर्यावरण का गहरा संबंध है । वन प्रकृति की अमूल्य अंग है । वन जीवनदायक है । वन वर्षा लाने का कारण बनकर पर्यावरण की रक्षा करते हैं । वनों की कृपा से भूमि का कटाव रुकता है, सूखा कम पड़ता है तथा रेगिस्तान का फैलाव रुकता है । मानव सभ्यता-संस्कृति की रक्षा, जीवों की रक्षा, तरह-तरह की वनस्पतियों और औषधियों आदि की रक्षा के लिए वन संरक्षण आवश्यक हैं । पर्यावरण को ठीक रखने के लिए वनों के कटाव रोकना होगा ।\n\n\n\n\n"]
["‘सदैव’ इस संधि किस संधि का उदाहरण है  ?   \n   अ) यण्      आ) व्यंजन       इ) वृद्धि      ई) अयाधि",null,"गंगवंश का राजा       ","कहाँ भागी जा रही है ?                                                                                   ","रामकृष्ण मिशन के कार्यों के बारे में लिखिए ।",null,null,"किसने किससे कहा ? किस पाठ से लिया गाया है -  मैं यहाँ से जा रही हूँ बेटा ।","अब्दुल कलाम जी अपने बचपन के तीन पक्के दोस्तों के बारे में क्या कहा है ?",null,"चाउण्डराय का घमंड कैसे कम हुआ ?",null,null,null,null,null,null,null,null,null,null,null,null,null,null,null,null,null,null,null,null,null,null,null,null,null,null,null,null,null,null,null,null,null,null,null,null,null,null,null,null,null,null,null,null,null,null,null,null,null,null,null,null,null,null,null,null,null,null,null,null,null,null,null,"(क)  हमें वन संरक्षण क्यों करना चाहिए ?"]
["‘शताब्दी’  शब्द में समास है -  \n   अ) द्वंद्व      आ) कर्मधारय       इ) द्विगु       ई) बहुव्रीहि",null," गोम्मटेश्वर की मूर्ती","काका कालेकर ने नदियों को लोकमाता कहा है ।                                                     ","शिकागो नगर के सर्वधर्म सम्मेलन के बारे में लिखिए ।",null,null,"किसने किससे कहा ? किस पाठ से लिया गाया है -  तू तो बीमार थी मौसी ! तबीयत कैसी है ?",null,"चार अंकवाले",null,null,null,null,null,null,null,null,null,null,null,null,null,null,null,null,null,null,null,null,null,null,null,null,null,null,null,null,null,null,null,null,null,null,null,null,null,null,null,null,null,null,null,null,null,null,null,null,null,null,null,null,null,null,null,null,null,null,null,null,null,null,null,null,"(ख)  वनों से क्या-क्या लाभ होते है ?"]
["‘पक्षी’ का समानार्थक शब्द है -  \n   अ) खग     आ) जग      इ) वृक्ष        ई) गात",null,"पौदनपुर","कालिदास का मेघदूत एक विरह काव्य है ।",null,null,null,"किसने किससे कहा ? किस पाठ से लिया गाया है -  मौसी बीमार है । आप चलकर देखिए ।","चार अंकवाले","बकासुर को भोजन ले जाने के बारे में ब्राम्हण घरवालों के बीच हुई चर्चा के बारे में लिखिए ।",null,null,null,null,null,null,null,null,null,null,null,null,null,null,null,null,null,null,null,null,null,null,null,null,null,null,null,null,null,null,null,null,null,null,null,null,null,null,null,null,null,null,null,null,null,null,null,null,null,null,null,null,null,null,null,null,null,null,null,null,null,null,null,null,"(ग)  वन किसकी अमूल्य संपदा है ?"]
["‘मालिक’ शब्द का अन्यलिंग रूप है -  \n   अ) मालकी      आ) मालकिन       इ) मालक     ई) मालिका",null," पौदनपुर  ",null,null,null,null,null,"अब्दुल कलाम के पिता के बारे में लिखिए ।","भीम ने बकासुर का वध किस तरह किया ? अपने शब्दों में वर्णन कीजिए ।                                                        ","चार अंकवाले",null,null,null,null,null,null,null,null,null,null,null,null,null,null,null,null,null,null,null,null,null,null,null,null,null,null,null,null,null,null,null,null,null,null,null,null,null,null,null,null,null,null,null,null,null,null,null,null,null,null,null,null,null,null,null,null,null,null,null,null,null,null,null,"(घ)  वर्यावरण की रक्षा कैसे करते है ?"]
["‘पुस्तक’ शब्द का बहुवचन रूप है -  \n   अ) पुस्तकें      आ) पुस्तकाएँ       इ) पुस्तकों       ई) पुस्तक",null,null,null,null,null,null,"चार अंकवाले","अहमद जलालुद्दिन के बारे में अब्दुल कलाम  जी क्या कहा है ?                            ","बाकासुर के बारे में लिखिए ।","चाउण्डराय कौन था ? उसने क्या बनवाया ? उसका घमंड कैसे कम हुआ ?"]
["‘बढ़ना’ शब्द का विलोम रूप है -  \n   अ) बढ़ाना       आ) बहुत       इ)ज्यादा             ई) घटना",null,"जहाँ चपातियाँ सेंकी जा रही थी ।",null,null,null,null,"दोपहर ढ़लने पर मौसी बच्चों के साथ क्या-क्या करती थी ?","अब्दुल कलाम जी अपने बचपन के तीन पक्के दोस्तों के बारे में क्या कहा है ?",null,"चाउण्डराय द्वारा बाहुबली मूर्ति की स्थापना के बारे में लिखिए ।"]
["‘चलना शब्द का  द्वितीय प्रेरणार्थक क्रिया रूप है -   \n   अ) चल      आ) चलाना      इ) चलवाना     ई) चालना",null,"रक्षक और सहायक होती है ।",null,null,null,null,"मौसी और बच्चों के बीच के प्यार के बारे में अपने शब्दों में लिखिए ।",null,null,"महामस्तकाभिषेक का वर्णन कीजिए ।"]
["‘नौ-दो ग्यारह होना’ इस मुहावरे का अर्थ है -  \n   अ) होश हवास खोना      आ) सत्य प्रकट होना        इ) बयानब्बे      ई) भागजाना",null,"खाना खाएँगे ?",null,null,null,null,"मौसी पर  बच्चों के प्यार के बारे में लिखिए ।"]
["‘चौमास’ शब्द में समास है -   \n   अ) अव्ययीभाव     आ) द्विगु        इ) तत्पुरुष        ई) द्वंद्व",null,"सच्चाई कूट-कूटकर भरी थी ।",null,null,null,null,"बच्चों पर मौसी की ममता का वर्णन कीजिए ।"]
["‘सागर’  शब्द  का समानार्थक शब्द है -  \n   अ) समुद्र          आ) पानी          इ) गगन      ई) नदी",null,"खने के पैसे लेने पड़ेंगे ।"]
["‘सदाचार’  शब्द में संधि है -  \n   अ) दीर्घ       आ)  गुण       इ) यण्         ई) व्यंजन"]
["‘बूढ़ा’ शब्द का अन्यलिंग रूप  है -  \n   अ) बुढ़ापा     आ) वृद्ध      इ) बूढ़ी         ई) वृद्धे",null,"बहुत महत्वपूर्ण है ।"]
["‘हस्त’ शब्द का समानार्थक शब्द है -  \n  अ) हाथी      आ) हाथ       इ) हस्ता          ई) पैर",null,"अपने प्रतिनिधि बना लेते हैं ।"]
["‘जगनमोहन’  यह इस संधि का उदाहरण है -  \n   अ) दीर्घ    आ) व्यंजन        इ) विसर्ग      ई) वृद्धि",null,"महत्वपूर्ण अंग है ।"]
["‘उंगली पर नाचना’  इस मुहावरे क अर्थ है -  \n   अ) निश्‍चिंत रहना     आ) वश में रखना     इ) नष्ट करना       ई) होश आना",null,"जवाहरलाल नेहरु"]
["‘हिम्मत न हारना’ इस मुहावरे का अर्थ है -  \n   अ) परिश्रम करना      आ) धीरज बाँधना     इ) मज़बूत होना        ई) जिम्मेदारी लेना",null,"खेलों में विशेष रुचि थी ।"]
["‘मोर’ शब्द का अन्यलिंग रूप है -  \n   अ) मोरा     आ) मोरिन       इ) मोरनी     ई) मोरिनी"]
["मैं प्रतिदिन पढ़ता हूँ । इस वाक्य में  रेखांकित शब्द है -   \n   अ) संज्ञा     आ) सर्वनाम      इ) विशेषण     ई) क्रिया",null,"वे प्रतीत होती थीं ।"]
[null,null,"और भी धागा है ।"]
["‘माता’ शब्द का अन्यलिंग रूप है -\n   अ) माँ         आ) पिता        इ)  बहन        ई)  भाई",null,"ऐसी भावना हुई थी।"]
["‘घोड़ा’ का अन्यलिंग रूप है -\n   अ) घोड़ी       आ) घोड़िन      इ) घोड़नी       ई) घोड़ाइन"]
["‘अनुयायी’ का अन्यलिंग रूप है -\n   अ) अनुयायिन      आ) अनुयायिनी      इ) अनुयाय       ई)अनुवाइन",null,"है पानी फूटा आता"]
["‘स्वामी’ का अन्यलिंग रूप है -\n   अ) स्वामिन       आ) स्वामिनि      इ) स्वामिनी       ई) स्वामाइन",null,"अंधकार हटे और ज्ञान मिले"]
["‘गुरु’ का अन्यलिंग रूप है -\n   अ) गुरुवाइन      आ) गुरुमाता      इ) गुरुणी       ई) गुरुमाँ",null,"हम सब गाएँ"]
["‘बालक’ का अन्यलिंग रूप है -\n   अ) बालकी       आ) बालीका     इ) बाला      ई) बालिका",null,"तेरे पानी में "]
["‘शिष्य’ का अन्यलिंग रूप है -\n   अ) शिष्ये       आ) शिष्या      इ) शिष्यिणी       ई) शिष्याइन"]
["‘रूढ़ि’ का अन्यवचन रूप है -\n   अ) रूढ़ियाँ       आ) रूढ़िएँ      इ) रूढि       ई) रूढ़ों",null,"मुरली ने गाना सीखा"]
["‘व्याख्या’ का अन्यवचन रूप है -\n   अ) व्याख्या      आ) व्याख्याएँ      इ) व्याख्यों       ई) व्याख्यायाँ",null,"जग को पियूष पिलाना सीखा"]
["‘सेवा’ का अन्यवचन रूप है -\n   अ) सेवाएँ      आ) सेवा      इ) सेवाओं       ई) सेवायाँ",null,"फिर प्रेम निभाना सीखा"]
["‘बड़ा’ का अन्यवचन रूप है -\n   अ) बड़ी      आ) बड़ियाँ   इ) बड़िएँ      ई) बड़ा",null,"झरनो ने झरना सीखा "]
["‘प्रतियिगिता’ का अन्यवचन रूप है -\n   अ) प्रतियिगिताएँ      आ) प्रतियिगिताओं     इ) प्रतियिगिता       ई) प्रतियिगितें"]
["‘आज्ञा’ का अन्यवचन रूप है -\n   अ) आज्ञा       आ) आज्ञाएँ      इ) आज्ञाओं       ई) आज्ञायाँ",null,"दमकूँ मैं"]
["‘उपाधि’ का अन्यवचन रूप है -\n   अ) उपाधियाँ       आ) उपाधिएँ      इ) उपाधि       ई) उपाधियों",null,"चमकूँ मैं"]
["‘शाखा’ का अन्यवचन रूप है -\n   अ) शाखायाँ       आ) शाखाएँ      इ) शाखा      ई) शाखाओं",null,"कुहुकूँ मैं"]
["‘गौरव’ का विलोम रूप है -\n   अ) अगौरव      आ) दुर्गौरव      इ) नगौरव      ई) विगौरव",null," दृढ़ता लूँ"]
["‘जीवन’ का विलोम रूप है -\n   अ) मरण     आ) नजीवन    इ) अजीवन     ई) जिंदा",null," बिछ जाऊँ"]
["‘दुःख’ का विलोम रूप है -\n   अ) अदुःख     आ) नदुःख    इ) सुख    ई) कष्ट"]
["‘सत्य’ का विलोम रूप है -\n   अ) असत्य     आ) नसत्य    इ) झूठ    ई) पाप",null,"इस आग के विपिन में"]
["‘धर्म’ का विलोम रूप है -\n   अ) अधर्म     आ) नधर्म    इ) धर्महीन    ई) पाप",null,"कब से बुला रहा हूँ"]
["‘स्वदेश’ का विलोम रूप है -\n   अ) नस्वदेश    आ) विदेश   इ) हमारादेश    ई) दूसरादेश",null,"जीवन में मर रहे हैं"]
["‘समर्थ’ का विलोम रूप है -\n   अ) नसमर्थ    आ) विसमर्थ   इ) असमर्थ    ई) समर्थहीन",null,"बन मल्लिका चमेली"]
["‘सबल’ का विलोम रूप है -\n   अ) नसबल   आ) दुर्बल  इ) असबल    ई) बलहीन",null,"शुभ हो दिवस सुखद हो"]
["‘ज्ञान’ का विलोम रूप है -\n   अ) नज्ञान    आ) दुर्ज्ञान     इ) अज्ञान    ई) ज्ञानहीन"]
["‘सुगंध’ का विलोम रूप है -\n   अ) नसुगंध    आ) दुर्गंध    इ) असुगंध    ई) बदबू",null,"सारा संसार है"]
["‘दूर’ का विलोम रूप है -\n   अ) नदूर     आ) दूरहीन    इ) अदूर     ई) पास",null,"स्वर्ग"]
["‘अंत’ का विलोम रूप है -\n   अ) नअंत     आ) दुरंत     इ) अनंत    ई) आरंभ",null,"इन्सान"]
["‘धीरे’ का विलोम रूप है -\n   अ) नधीरे    आ) तेज    इ) अधीरे    ई) धीमी",null,"मनुजत्व"]
["‘गिरना’ का विलोम रूप है -\n   अ) नगिरना    आ) चढ़ना    इ) अगिरना    ई) उठना"]
["‘झंड़ा’ का अन्यवचन रूप है -\n   अ) झंड़ाएँ      आ) झंड़ाओं     इ) झंड़ा       ई) झड़ें",null,"आँगन कुटी छवाय ।"]
["‘दरवाजे’ का अन्यवचन रूप है -\n   अ) दरवाजाएँ      आ) दरवाजाओं     इ) दरवाजा     ई) दरवाजें",null,"साधु की ।"]
["‘ओढ़नी’ का अन्यवचन रूप है -\n   अ) ओढ़नीएँ      आ) ओढ़नीयें    इ) ओढ़नी    ई) ओढ़नीयाँ",null,"दोउ खडे ।"]
["‘कहानी’ का अन्यवचन रूप है -\n   अ) कहानीएँ      आ) कहानियें    इ) कहानी   ई) कहानियाँ",null,"मृग ढूँढ़ै बन मांहि ।"]
["‘डंडा’ का अन्यवचन रूप है -\n   अ) डंडाएँ      आ) डंडायें    इ) डंडा  ई) डंडे"]
["‘थाली’ का अन्यवचन रूप है -\n   अ) थालिएँ      आ) थालियें    इ) थालीयाँ  ई) थाली"]
["‘लेखक’ का अन्यलिंग रूप है -\n   अ) लेखकी       आ) लेखिका     इ) लेखीका      ई) लेखा"]
["‘देवता’ का अन्यलिंग रूप है -\n   अ) देवत       आ) देव    इ) देवी    ई) दैव"]
["‘राजा’ का अन्यलिंग रूप है -\n   अ) राणी      आ) राजणी   इ) राजी   ई) राजा की पत्नी"]
["‘पिता’ का अन्यलिंग रूप है -\n   अ) पित्रु     आ) माता   इ) पिताजी   ई) पुत्र"]
["‘बहन’ का अन्यलिंग रूप है -\n   अ) भाई  आ) बहनें    इ) बहनों     ई) बहन"]
["‘समीप’ का समानार्थक रूप है -\n   अ) नसमीप     आ) असमीप   इ) दूर    ई) पास"]
["‘खून’ का समानार्थक रूप है -\n   अ) नखून     आ) अखून   इ) रक्त    ई) पहचान"]
["‘दीया’ का समानार्थक रूप है -\n   अ) नदिया     आ) देना      इ) दिया हुआ     ई) दीप"]
["‘संतोष’ का समानार्थक रूप है -\n   अ) नसंतोष     आ) असंतोष   इ) आनंद      ई) दुःख"]
["‘बीमारी’ का समानार्थक रूप है -\n   अ) नबीमार    आ) अबीमार    इ) स्वस्थ्य     ई) रोग"]
["‘उम्मीद’ का समानार्थक रूप है -\n   अ) नउम्मीद    आ) अउम्मीद   इ) भरोसा    ई) उदीयमान"]
["‘उत्सर्ग’ का समानार्थक रूप है -\n   अ) उन्नत स्वर्ग    आ) त्याग     इ) पाना     ई) हत्या"]
["‘बुनियाद’ का समानार्थक रूप है -\n   अ) याद हुआ    आ) बनीयाद     इ) नींव      ई) पत्थर"]
["‘शरीर’ का समानार्थक रूप है -\n   अ)अशरीर    आ) नशरीर     इ) पेट     ई) गात"]
["‘दुनिया’ का समानार्थक रूप है -\n   अ) देश    आ) विदेश     इ) देश-विदेश    ई) संसार"]
["‘सेहत’ का समानार्थक रूप है -\n   अ) सेवा    आ) स्वहित    इ) सेवाहित    ई) स्वास्थ्य"]
["‘वतन’ का समानार्थक रूप है -\n   अ) जंगल    आ) शरीर    इ) देश     ई) विदेश"]
["‘विपिन’ का समानार्थक रूप है -\n   अ) जंगल    आ) शरीर    इ) देश     ई) विदेश"]
["‘वसुधा’ का समानार्थक रूप है -\n   अ) आकाश    आ) सागर    इ) नदी     ई) धरती"]
["‘विहंग’ का समानार्थक रूप है -\n   अ) गंदर्व    आ) पक्षी    इ) नदी     ई) धरती"]
["‘वारिधर’ का समानार्थक रूप है -\n   अ) बादल    आ) सागर    इ) नदी     ई) धरती"]
["‘नाता’ का समानार्थक रूप है -\n   अ) सुगंध    आ) संबंध    इ) नदी     ई) बदबू"]
["‘नौकर’ का अन्यलिंग रूप है -\n   अ) नौकरिन  आ) नौकरानी    इ) नौकरिणी   ई) नौकरी"]
["‘मौसी’ का अन्यलिंग रूप है -\n   अ) मौसा    आ) मौसरा     इ) मौस     ई) धोखादेनेवाला"]
["‘छोकरा’ का अन्यलिंग रूप है -\n   अ) छोकरी   आ) लड़का     इ) बेटा     ई) बच्चा"]
["‘छात्र’ का अन्यलिंग रूप है -\n   अ) छात्रिन   आ) छत्रिनी    इ) छात्रा    ई) छात्री"]
["‘भक्त’ का अन्यलिंग रूप है -\n   अ)भक्तिन  आ) भक्ति   इ) भक्ताइन   ई) भक्ता"]
["‘अविनय’ का विलोम रूप है -\n   अ) नअविनय   आ) दुर्विनय    इ) विनय    ई)अन्याय"]
["‘हाजिर’ का विलोम रूप है -\n   अ) नहाजिर   आ) अहाजिर   इ) मतहाजिर    ई) गैरहाजिर"]
["‘चैन’ का विलोम रूप है -\n   अ) नचैन   आ) अचैन   इ)  बेचैन    ई) चैनहीन"]
["‘अपना’ का विलोम रूप है -\n   अ) उनका    आ) सपना   इ)  पराया    ई) तुम्हारा"]
["‘वीर’ का विलोम रूप है -\n   अ) अवीर     आ ) नवीर     इ)  अधैर्य    ई) कायर"]
["‘चतुर’ का विलोम रूप है -\n   अ) अचतुर   आ) नचतुर     इ)  चतुरहीन    ई) उल्लू"]
["‘बदबू’ का विलोम रूप है -\n   अ) दुर्गंध      आ) नबदबू        इ) अबदबू    ई) सुगंध"]
["‘बढ़ना’ का विलोम रूप है -\n   अ) कम होना      आ) घटना      इ) ज्यादा होना    ई) बढ़ा होना"]
["‘बुझना’ का विलोम रूप है -\n   अ) जलना      आ) प्राकाश      इ) नबुझना    ई) उजाला"]
["‘पेड़’ का अन्यवचन रूप है -\n   अ) पेड़ें     आ) पेड़     इ) पेड़ों       ई) पेड़ाएँ"]
["‘घर’ का अन्यवचन रूप है -\n   अ) घर     आ) घरे     इ) घारों      ई) घराएँ"]
["‘आँख’ का अन्यवचन रूप है -\n   अ) आँखें     आ) आँख    इ) आँखों      ई) आँखाएँ"]
["‘किताब’ का अन्यवचन रूप है -\n   अ) किताब    आ) किताबें    इ) किताबों     ई) किताबाएँ"]
["‘नज़र’ का अन्यवचन रूप है -\n   अ) नज़र    आ) नज़रे    इ) नज़रों    ई) नज़राएँ"]
["‘बात’ का अन्यवचन रूप है -\n   अ) बात     आ) बातों    इ) बातें    ई) बाताएँ"]
["‘केला’ का अन्यवचन रूप है -\n   अ) केला    आ) केलें     इ) केलों      ई) केलाएँ"]
["‘नौका’ का अन्यवचन रूप है -\n   अ) नौका    आ) नौकाओं      इ) नौके          ई) नौकाएँ"]
["‘बाहु’ का अन्यवचन रूप है -\n   अ) बाहु    आ) बाहुओं       इ) बाहु          ई) बाहुएँ"]
["‘मुद्रा’ का अन्यवचन रूप है -\n   अ) मुद्रा    आ) मुद्राओं       इ) मुद्रे          ई) मुद्राएँ"]
["‘पुरोहित’ का अन्यवचन रूप है -\n   अ) पुरोहित   आ) पुरोहिताओं       इ) पुरोहितें          ई) पुरोहिताएँ"]
["‘आवाज़’ का अन्यवचन रूप है -\n   अ) आवाज़ें   आ) आवाज़ाओं       इ) आवाज़          ई) आवाज़ाएँ"]
["‘औलाद’ का अन्यवचन रूप है -\n   अ) औलादें   आ) औलादों      इ) औलाद          ई) औलादाएँ"]
["‘याद’ का अन्यवचन रूप है -\n   अ) यादें   आ) यादों      इ) याद         ई) यादाएँ"]
["‘हाथ’ का अन्यवचन रूप है -\n   अ) हाथें       आ) हाथ       इ) हाथों        ई) हाथाएँ"]
["‘पतंग’ का अन्यवचन रूप है -\n   अ) पतंगें      आ) पतंगों       इ) पतंग      ई) पतंगाएँ"]
["‘विहंग’ का अन्यवचन रूप है -\n   अ) विहंगें      आ) विहंगों       इ) विहंग      ई) विहंगाएँ"]
["‘नदी’ का अन्यवचन रूप है -\n   अ) नदियों     आ) नदियाँ       इ) नदियें      ई) नदी"]
["‘मुरली’ का अन्यवचन रूप है -\n   अ) मुरलियों     आ) मुरलियाँ       इ) मुरली     ई) मुरलिएँ"]
["‘कुंडली’ का अन्यवचन रूप है -\n   अ) कुंडलियों     आ) कुंडलियाँ       इ) कुंडली     ई) कुंडलिएँ"]
["‘कुटी’ का अन्यवचन रूप है -\n   अ) कुटियों     आ) कुटियाँ       इ) कुटी     ई) कुटिएँ"]
["‘जाति’ का अन्यवचन रूप है -\n   अ) जातियों     आ) जातियाँ       इ) जाति     ई) जातिएँ"]
["‘चलना’ का प्रथम प्रेरणार्थक क्रिया रूप है -\n   अ) चलना    आ) चलाना       इ) चल     ई) चलवाना"]
["‘ठहरना’ का द्वितीय प्रेरणार्थक क्रिया रूप है -\n   अ) ठहरना    आ) ठहराना      इ) ठहर     ई) ठहरवाना"]
["‘बोलना’ का द्वितीय प्रेरणार्थक क्रिया रूप है -\n   अ) बोलना    आ) बुलाना      इ) बुलाव     ई) बुलवाना"]
["‘हँसना’ का प्रथम प्रेरणार्थक क्रिया रूप है -\n   अ) हँसना    आ) हँसाना      इ) हँस     ई) हँसवाना"]
["‘लड़ना’ का प्रथम प्रेरणार्थक क्रिया रूप है -\n   अ) लड़ना    आ) लड़ाना      इ) लड़     ई) लड़वाना"]
["‘दौड़ना’ का द्वितीय प्रेरणार्थक क्रिया रूप है -\n   अ) दौड़ना    आ) दौड़ाना      इ) दौड़     ई) दौड़वाना"]
["‘काटना’ का द्वितीय प्रेरणार्थक क्रिया रूप है -\n   अ) काटना    आ) काटाना      इ) काट     ई) काटवाना"]
["‘सीखना’ का प्रथम प्रेरणार्थक क्रिया रूप है -\n   अ) सीखना    आ) सिखाना      इ) सीख     ई) सिखवाना"]
["‘पौ फटना’ इस मुहावरे का अर्थ  है -\n   अ) काम में आना     आ) प्रभात होना      इ) भाग जाना       ई) सबक सिखाना"]
["‘काम आना’ इस मुहावरे का अर्थ  है -\n   अ) काम में आना     आ) प्रभात होना      इ) भाग जाना       ई) सबक सिखाना"]
["‘पानी पिलाना’ इस मुहावरे का अर्थ  है -\n   अ) काम में आना     आ) अटल रहना     इ) प्यास हटाना       ई) सबक सिखाना"]
["‘हिम्मत न हारना’ इस मुहावरे का अर्थ  है -\n   अ) काम में आना     आ) अटल रहना     इ) प्यास हटाना       ई) सबक सिखाना"]
["‘आग बबूला होना’ इस मुहावरे का अर्थ  है -\n   अ) काम में आना     आ) अटल रहना     इ) प्यास हटाना       ई) क्रोधित होना"]
["‘आग में झोंकना’ इस मुहावरे का अर्थ  है -\n   अ) संकट में डालना    आ) अटल रहना     इ) प्यास हटाना       ई) क्रोधित होना"]
["राम ने दरवाजा खोला । इस वाक्य में प्रयुक्त कारक नाम है - \n   अ) कर्म     आ) कर्ता       इ) करण       ई) संबंध"]
["मैं ने राम  को बुलाया  । इस वाक्य में रेखांकित शब्द में कारक  है - \n   अ) कर्म     आ) कर्ता       इ) करण       ई) संबंध"]
["राम कलम से लिखता है  ।  इस वाक्य में प्रयुक्त कारक नाम है - \n   अ) कर्म     आ) कर्ता       इ) करण       ई) संबंध"]
["यह सीता की किताब है   ।  इस वाक्य में प्रयुक्त कारक नाम है - \n   अ) कर्म     आ) कर्ता       इ) करण       ई) संबंध"]
["शेर वन में पाया जाता है   ।  इस वाक्य में प्रयुक्त कारक नाम है - \n   अ) कर्म     आ) अधिकरण      इ) करण       ई) संबंध"]