{"text_format":"1","workbook":"xlsx","n_sheets":18,"sheets":["instruction 3","instruction 2","instructions","LINKS","Model Blueprint","Entry sheet-1-hin","Entry sheet-2-hin","Entry sheet-3-hin","uddista","QUESTION WISE","difficulty wise","chapterwise","PARTWISE","blue print","Question paper 80 marks","Question paper 80 marks (2)","Question paper 20 marks ","DATA"],"not_rendered":{"charts":5,"images":16,"macros":1,"external_links":0,"defined_names":433,"comments":0,"pivot_tables":0},"unopened":[],"bounds":{"document_bytes":16777216,"sheet_cells":100000,"rows_first":2000,"rows_last":500,"rows_between":2000,"halvings":0,"cell_chars":16384,"cell_head_chars":4096},"cells_cut":0,"cells_raw":0,"read":"whole","date_system":"1900"}

{"sheet":"instruction 3","index":0,"n_rows":22,"n_cols":20,"rows_kept":22,"cut":false,"hidden":false,"merged":[[11,19,11,20],[12,19,12,20],[13,19,13,20],[15,1,22,2],[6,19,6,20],[7,19,7,20],[8,19,8,20],[9,19,9,20],[10,19,10,20],[19,7,19,14],[20,7,20,14],[21,7,21,14],[12,4,12,18],[13,4,13,18],[15,4,15,18],[17,7,17,14],[18,7,18,14],[9,4,9,18],[10,4,10,18],[11,4,11,18],[1,1,1,18],[3,2,3,16],[4,1,4,18],[5,1,5,18],[7,4,7,18],[8,4,8,18],[2,2,2,16],[6,3,6,18]]}
[]
[null,"20 CAPÀUÀ¼À ಪ್ರಶ್ನೆ ಪತ್ರಿಕೆಯನ್ನು ತಯಾರಿಸಲು ನೀಲ ನಕ್ಷೆಯನ್ನು ಸಿದ್ಧಪಡಿಸುವುದು."]
[null,"*","¥Àæ±Éß ¥ÀwæPÉ ¹zÀÞ¥Àr¸À®Ä ¥ÁoÀUÀ¼À ¸ÀASÉå ªÀÄvÀÄÛ ¥Àæ±ÉßUÀ¼À C£ÀÄPÀæªÀÄ ¥ÀÆªÀð ¤zsÁðjvÀ. ¥ÁoÀUÀ½UÉ ¤UÀ¢üUÉÆ½¹gÀÄªÀ ¸ÀASÉåAiÀÄ£ÀÄß §¼À¹PÉÆAqÀÄ ¥Àæ±ÉßUÀ¼À£ÀÄß DAiÀÄÄÝPÉÆ¼Àî¨ÉÃPÀÄ. ¥ÀÆªÀð ¤zsÁðjvÀ ಪಾಠಗಳ ಸಂಖ್ಯೆಯನ್ನು ಮುಖ್ಯ ಪುಟ 1 ರಲ್ಲಿ ನಮೂಧಿಸಲಾಗಿದೆ."]
[null,"*","B9 £À°è ¥ÀÆªÀð ¤zsÁðjvÀ ¥ÁoÀzÀ ¸ÀASÉåAiÀÄ£ÀÄß vÀÄA©PÉÆAqÀÄ C9 jAzÀ G9 gÀªÀgÉUÉ ¥Àæ±ÉßUÀ¼À ««zsÀ ¥ÀæPÁgÀUÀ¼À£ÀÄß DAiÉÄÌ ªÀiÁrPÉÆ½î. ¤ÃªÀÅ DAiÉÄÌ ªÀiÁrPÉÆAqÀ ¥ÁoÀzÀ ¸ÀASÉå ºÁUÀÆ ¥Àæ±ÉßUÀ¼À ««zsÀ ¥ÀæPÁgÀUÀ¼ÀÄ प्रश्‍न चुनना ಪುಟದಲ್ಲಿ PÁtÄªÀzÀjAzÀ ¥Àæ±ÉßUÀ¼À ««zsÀ ¥ÀæPÁgÀUÀ½UÉ C£ÀÄ¸ÁgÀªÁV ¥Àæ±ÉßAiÀÄ£ÀÄß DAiÀÄÄÝPÉÆ¼Àî®Ä ¸ÀºÁAiÀÄAiÀiÁUÀÄvÀÛzÉ.\nप्रश्‍न चुनना ಪುಟದಲ್ಲಿ  \"ಜಿ:ಎಕ್ಸ14 ರಿಂದ ಜಿ-ಎಕ್ಸ 68\" ವರೆಗು ಕೇವಲ ನಿಮಗೆ ಬೇಕಾದ ಪ್ರಶ್ನೆಗಳನ್ನು ಮಾತ್ರ ಆಯ್ದುಕೊಳ್ಳುವುದು.."]
[null,"20 CAPÀUÀ¼À ¤Ã® £ÀPÉëAiÀÄ°è ¥ÀÀæ±ÉßUÀ¼À£ÀÄß  DAiÀÄÄÝPÉÆ¼ÀÄîªÀ C£ÀÄPÀæªÀÄtÂPÉ \n( मुख्य पृष्ठ-2 £À°è B9 jAzÀ B61 gÀªÀgÉV£À PÁ®AUÀ¼À°è ¥ÁoÀzÀ ¸ÀASÉåAiÀÄ£ÀÄß £ÀªÀÄÆ¢ü¸ÀÄªÀÅzÀgÀ ªÀÄÆ®PÀ )"]
[null,"ನೀಲ ನಕ್ಷೆಯ ಸಹಿತ ಪ್ರಶ್ನೆ ಪತ್ರಿಕೆಯು ಕೇವಲ 10 ನೇ ತರಗತಿಗೆ ಮಾತ್ರ. ನೀವು ಕೇವಲ ನೀಲ ನಕ್ಷೆಗಾಗಿ ಈ ತಂತ್ರಾಂಶವನ್ನು ಬಳಸುವುದಾದರೆ ಯಾವ ತರಗತಿಗೆ ಬೇಕಾದರು  ಬಳಸಿಕೊಳ್ಳಬಹುದು.(ಹಿಂದಿ ವಿಷಯಕ್ಕೆ ಮಾತ್ರ)"]
[null,null,"ಮುಖ್ಯಪುಟ2","ಮುಖ್ಯ ಪುಟ 2 ನಲ್ಲಿ ಈ ಕೆಳಗಿನ ಸೂಚನೆಯಂತೆ ನೀಲ ನಕ್ಷೆಯನ್ನು ಸಿದ್ಧಪಡಿಸಿ.",null,null,null,null,null,null,null,null,null,null,null,null,null,null,null,"प्रश्‍न चुनना "]
[null,1,"B9 - B11",null,"\u008d\u008d\u008d\u008d\u008d\u008d\u008d\u008d\u008d\u008d\u008dMAzÀÄ CAPÀzÀ 3 ¥Àæ±ÉßUÀ¼À£ÀÄß DAiÀÄÄÝPÉÆ½î. ( 1 CAPÀzÀ ¥Àæ±ÉßUÀ½UÉ AiÀiÁªÀ ¥ÁoÀ¢AzÀ ¥Àæ±ÉßUÀ¼À£ÀÄß PÉÆqÀ°aÑ¸ÀÄ«gÉÆ, D ¥ÁoÀzÀ ¸ÀASÉåAiÀÄ£ÀÄß `©9' ನಲ್ಲಿ ತುಂಬಿ \"ಸಿ9\" ನಲ್ಲಿ ಪ್ರಶ್ನೆಯ ಉದ್ದೇಶ, \"ಡಿ9\" ನಲ್ಲಿ ಪ್ರಶ್ನೆಯ ಸ್ತರ, \"ಇ9\" ನಲ್ಲಿ ಪ್ರಶ್ನೆಯ ಪ್ರಕಾರ, \"ಎಫ್9\" ನಲ್ಲಿ ವಿಷಯ ವಸ್ತು, ಹಾಗೂ \"ಜಿ9\" ನಲ್ಲಿ ಆಯ್ಕೆ ಪ್ರಶ್ನೆಯಾದರೆ \"ಸಿ\" ಎಂದು ಆಯ್ದುಕೊಳ್ಳಿ ಇಲ್ಲವಾದರೆ ಖಾಲಿ ಬಿಡಿ. EzÉÃ ¤AiÀÄªÀÄªÀ£ÀÄß J¯Áè ¥Àæ±ÉßUÀ¼À DAiÉÄÌUÀÆ C£ÀÄ¸Àj¹.)",null,null,null,null,null,null,null,null,null,null,null,null,null,null,"G:X14 - G:X16  "]
[null,2,"B15 - B18",null,"ºÉÆA¢¹ §gÉAiÀÄÄªÀ 2 ¥Àæ±ÉßUÀ¼À£ÀÄß DAiÀÄÄÝPÉÆ½î.  B17 ªÀÄvÀÄÛ  B18 gÀ ªÀÄÄA¢£À G PÁ®A£À°è wæ¨sÀÄeÁPÁgÀzÀ ªÉÄÃ¯É ªÀiË¸ï QèPï ªÀiÁqÀÄªÀÅzÀgÀ ªÀÄÆ®PÀ  C JAzÀÄ DAiÉÄÌ ªÀiÁrPÉÆ½î. »ÃUÉ ªÀiÁqÀÄªÀÅzÀjAzÀ ¤Ã® £ÀPÉëAiÀÄ°è CªÀÅUÀ¼À CAPÀUÀ¼À£ÀÄß vÉÆÃj¸ÀÄªÀÅ¢®è ºÁUÀÆ ºÉÆA¢¹ §gÉAiÀÄÄªÀ 2 ¥Àæ±ÉßUÀ¼À£ÀÄß ªÀiÁvÀæ £ÁªÀÅ DAiÀÄÄÝPÉÆAqÀAvÁUÀÄvÀÛzÉ. ¥Àæ±Éß ಚುನನಾ ¥ÀÄlzÀ°è ºÉÆA¢¹ §gÉAiÀÄÄªÀ ¥Àæ±ÉßUÀ¼À£ÀÄß DAiÀÄÄÝPÉÆ¼ÀÄîªÁUÀ G ¤AzÀ O ªÀgÉUÉ `PÀ' ¥ÀnÖAiÀÄ ¥Àæ±ÉßUÀ¼À£ÀÄß  ºÁUÀÆ  P ¤AzÀ X ªÀgÉUÉ `RÀ' ¥ÀnÖAiÀÄ ¥Àæ±ÉßUÀ¼À£ÀÄß DAiÀÄÄÝPÉÆ¼Àî®Ä CªÀPÁ±À PÀ°à¸À¯ÁVzÉ. G-O 20 \"ಕ\" ಪಟ್ಟಿಯನ್ನು ಹಾಗೂ  P-X 23 gÀ ªÀÄÄA¢£À PÉÃªÀ® `R' ¥ÀnÖAiÀÄ ¥Àæ±ÉßUÀ¼À£ÀÄß DAiÀÄÄÝPÉÆ½î. ",null,null,null,null,null,null,null,null,null,null,null,null,null,null,"G:O20 - G:O21 -\n\"ಕ\" ಪಟ್ಟಿ\nP:X20 - P:X23\n\"ಖ\" ಪಟ್ಟಿ"]
[null,3,"B25 - B27",null,"2 CAPÀUÀ¼À 3 ¥Àæ±ÉßUÀ¼À£ÀÄß DAiÀÄÄÝPÉÆ½î.  ಪದ್ಯ ಭಾಗದಿಂದ ಭಾವಾಥð ಕೊಡುವುದಾದರೆ 3 ನೇ ಪ್ರಶ್ನೆಯನ್ನು ಆಯ್ದುಕೊಳ್ಳಿ.",null,null,null,null,null,null,null,null,null,null,null,null,null,null,"G:X30- G:X32"]
[null,4,"B38 - ",null,"3 CAPÀUÀ¼À 1 ¥Àæ±ÉßUÀ¼À£ÀÄß DAiÀÄÄÝPÉÆ½î. ",null,null,null,null,null,null,null,null,null,null,null,null,null,null,"G:X43 "]
[null,5,"B46 - B47",null,"ªÁåPÀgÀt¢AzÀ §ºÀÄDAiÉÄÌAiÀÄ 2 ¥Àæ±ÉßUÀ¼À£ÀÄß DAiÀÄÄÝPÉÆ½î.",null,null,null,null,null,null,null,null,null,null,null,null,null,null,"G:X51 - G:X52"]
[null,6,"B62",null,"4 CAPÀUÀ¼À ¥ÀvÀæ¯ÉÃR£ÀzÀ 1 ¥Àæ±Éßಯ£ÀÄß DAiÀÄÄÝPÉÆ½î. ",null,null,null,null,null,null,null,null,null,null,null,null,null,null,"G:X64"]
[null,7,"B61 - ",null,"4 ಅಂಕಗಳ  ನಿಬಂಧವನ್ನು ಆಯ್ದುಕೊಂಡು ªÀÄÄA¢£À G PÁ®A£À°è C JAzÀÄ DAiÉÄÌ ªÀiÁrPÉÆ½î. ",null,null,null,null,null,null,null,null,null,null,null,null,null,null,"G:X66"]
[]
[null,"80 ಮತ್ತು 20 ಅಂಕಗಳಿಗೆ ಪ್ರಶ್ನೆ ಪತ್ರಿಕೆಗಳನ್ನು ಸಿದ್ಧಪಡಿಸುವಾಗ ಬೇರೆಡೆ ಕಾಪಿ ಮಾಡಿಕೊಂಡು ಸಿದ್ಧಪಡಿಸುವುದು. ಸೂಕ್ತ. ಏಕೆಂದರೆ ಬೇರೆ ಬೇರೆ ಅಂಕಗಳಿಗೆ ನೀಲ ನಕ್ಷೆ ತಯಾರಿಸುವಾಗ ಮೊದಲ ನೀಲ ನಕ್ಷೆಯನ್ನ ಕಳೆದುಕೊಳ್ಳುವಿರಿ.",null,null,"¥Àæ±ÉßUÀ¼À DAiÉÄÌAiÀÄ¯ÁèUÀ° ºÁUÀÆ ¥Àæ±Éß ¥ÀwæPÉAiÀÄ¯ÉèÃ DUÀ° §zÀ¯ÁªÀuÉ ªÀiÁqÀ®Ä CªÀPÁ±À«®è. ¥Àæ±ÉßUÀ¼À DAiÉÄÌAiÀÄ°è K£ÁzÀgÀÄ ªÀåvÁå¸À PÀAqÀÄ§AzÀ°è CzÀPÉÌ ¤Ã® £ÀPÉëAiÀÄ¯ÉèÃ ªÁåvÁå¸ÀªÁVgÀÄvÀÛzÉ. ¤Ã® £ÀPÉëAiÀÄ°è£À ªÀåvÁå¸ÀªÀ£ÀÄß ¸Àj¥Àr¸ÀÄªÀ ªÀÄÆ®PÀ ¥Àæ±ÉßUÀ¼À DAiÉÄÌAiÀÄ°è£À ºÁUÀÆ ¥Àæ±Éß ¥ÀwæPÉAiÀÄ°è£À ªÀåvÁå¸ÀªÀ£ÀÄß ¸Àj¥Àr¹PÉÆ½î. (¤Ã® £ÀPÉëAiÀÄ°è ¥ÁoÀzÀ ¸ÀASÉå, UÀzÀå,¥ÀzÀå, ªÁåPÀgÀt ( §ºÀÄ«PÀ°àÃAiÀÄ), ºÉÆA¢¹ §gÉAiÀÄÄªÀÅzÀÄ, EvÁå¢UÀ¼À ¥ÁoÀ ¸ÀASÉå ºÁUÀÆ ¥Àæ±ÉßUÀ¼À C£ÀÄPÀæªÀÄUÀ¼À°è ªÀåvÁå¸À«gÀÄvÀÛzÉ.) "]
[]
[null,null,null,null,null,null,null,"Prepared  By :"]
[null,null,null,null,null,null,null,"NAGALINGAIAH. Govt.P.U.COLLEGE (H.S)Gurugunta, TQ: Lingasugur"]
[null,null,null,null,null,null,null," District : Raichur"]
[null,null,null,null,null,null,null,"E Mail-  nagalingaiah.h@gmail.com"]
[null,null,null,null,null,null,null,"Mob: 9035172763, 7760399489"]

{"sheet":"instruction 2","index":1,"n_rows":26,"n_cols":20,"rows_kept":26,"cut":false,"hidden":false,"merged":[[15,19,15,20],[16,19,16,20],[17,19,17,20],[19,1,26,2],[10,19,10,20],[11,19,11,20],[12,19,12,20],[13,19,13,20],[14,19,14,20],[19,4,19,18],[12,4,12,18],[13,4,13,18],[15,4,15,18],[16,4,16,18],[17,4,17,18],[6,3,6,18],[6,19,6,20],[7,19,7,20],[8,19,8,20],[9,19,9,20],[2,2,2,16],[25,7,25,14],[1,1,1,18],[21,7,21,14],[22,7,22,14],[23,7,23,14],[24,7,24,14],[14,4,14,18],[4,1,4,18],[3,2,3,16],[7,4,7,18],[8,4,8,18],[9,4,9,18],[5,1,5,18],[10,4,10,18],[11,4,11,18]]}
[]
[null,"80 CAPÀUÀ¼À ಪ್ರಶ್ನೆ ಪತ್ರಿಕೆಯನ್ನು ತಯಾರಿಸಲು ನೀಲ ನಕ್ಷೆಯನ್ನು ಸಿದ್ಧಪಡಿಸುವುದು."]
[null,"*","¥Àæ±Éß ¥ÀwæPÉ ¹zÀÞ¥Àr¸À®Ä ¥ÁoÀUÀ¼À ¸ÀASÉå ªÀÄvÀÄÛ ¥Àæ±ÉßUÀ¼À C£ÀÄPÀæªÀÄ ¥ÀÆªÀð ¤zsÁðjvÀ. ¥ÁoÀUÀ½UÉ ¤UÀ¢üUÉÆ½¹gÀÄªÀ ¸ÀASÉåAiÀÄ£ÀÄß §¼À¹PÉÆAqÀÄ ¥Àæ±ÉßUÀ¼À£ÀÄß DAiÀÄÄÝPÉÆ¼Àî¨ÉÃPÀÄ. ¥ÀÆªÀð ¤zsÁðjvÀ ಪಾಠಗಳ ಸಂಖ್ಯೆಯನ್ನು ಮುಖ್ಯ ಪುಟ 1 ರಲ್ಲಿ ನಮೂಧಿಸಲಾಗಿದೆ."]
[null,"*","B9 £À°è ¥ÀÆªÀð ¤zsÁðjvÀ ¥ÁoÀzÀ ¸ÀASÉåAiÀÄ£ÀÄß vÀÄA©PÉÆAqÀÄ C9 jAzÀ G9 gÀªÀgÉUÉ ¥Àæ±ÉßUÀ¼À ««zsÀ ¥ÀæPÁgÀUÀ¼À£ÀÄß DAiÉÄÌ ªÀiÁrPÉÆ½î. ¤ÃªÀÅ DAiÉÄÌ ªÀiÁrPÉÆAqÀ ¥ÁoÀzÀ ¸ÀASÉå ºÁUÀÆ ¥Àæ±ÉßUÀ¼À ««zsÀ ¥ÀæPÁgÀUÀ¼ÀÄ प्रश्‍न चुनना ಪುಟದಲ್ಲಿ PÁtÄªÀzÀjAzÀ ¥Àæ±ÉßUÀ¼À ««zsÀ ¥ÀæPÁgÀUÀ½UÉ C£ÀÄ¸ÁgÀªÁV ¥Àæ±ÉßAiÀÄ£ÀÄß DAiÀÄÄÝPÉÆ¼Àî®Ä ¸ÀºÁAiÀÄAiÀiÁUÀÄvÀÛzÉ.\nप्रश्‍न चुनना ಪುಟದಲ್ಲಿ  \"ಜಿ:ಎಕ್ಸ14\" ನಲ್ಲಿ ಕೇವಲ ನಿಮಗೆ ಬೇಕಾದ ಪ್ರಶ್ನೆಗಳನ್ನು ಮಾತ್ರ ಆಯ್ದುಕೊಳ್ಳುವುದು.."]
[null,"80 CAPÀUÀ¼À ¤Ã® £ÀPÉëAiÀÄ°è ¥ÀÀæ±ÉßUÀ¼À£ÀÄß  DAiÀÄÄÝPÉÆ¼ÀÄîªÀ C£ÀÄPÀæªÀÄtÂPÉ \n( मुख्य पृष्ठ-2 £À°è B9 jAzÀ B66 gÀªÀgÉV£À PÁ®AUÀ¼À°è ¥ÁoÀzÀ ¸ÀASÉåAiÀÄ£ÀÄß £ÀªÀÄÆ¢ü¸ÀÄªÀÅzÀgÀ ªÀÄÆ®PÀ )"]
[null,"ನೀಲ ನಕ್ಷೆಯ ಸಹಿತ ಪ್ರಶ್ನೆ ಪತ್ರಿಕೆಯು ಕೇವಲ 10 ನೇ ತರಗತಿಗೆ ಮಾತ್ರ. ನೀವು ಕೇವಲ ನೀಲ ನಕ್ಷೆಗಾಗಿ ಈ ತಂತ್ರಾಂಶವನ್ನು ಬಳಸುವುದಾದರೆ ಯಾವ ತರಗತಿಗೆ ಬೇಕಾದರು  ಬಳಸಿಕೊಳ್ಳಬಹುದು.(ಹಿಂದಿ ವಿಷಯಕ್ಕೆ ಮಾತ್ರ)"]
[null,null,"ಮುಖ್ಯಪುಟ2","ಮುಖ್ಯ ಪುಟ 2 ನಲ್ಲಿ ಈ ಕೆಳಗಿನ ಸೂಚನೆಯಂತೆ ನೀಲ ನಕ್ಷೆಯನ್ನು ಸಿದ್ಧಪಡಿಸಿ.",null,null,null,null,null,null,null,null,null,null,null,null,null,null,null,"प्रश्‍न चुनना "]
[null,1,"B9 - B14 ",null,"\u008d\u008d\u008d\u008d\u008d\u008d\u008d\u008d\u008d\u008d\u008dMAzÀÄ CAPÀzÀ 6 ¥Àæ±ÉßUÀ¼À£ÀÄß DAiÀÄÄÝPÉÆ½î. ( 1 CAPÀzÀ ¥Àæ±ÉßUÀ½UÉ AiÀiÁªÀ ¥ÁoÀ¢AzÀ ¥Àæ±ÉßUÀ¼À£ÀÄß PÉÆqÀ°aÑ¸ÀÄ«gÉÆ, D ¥ÁoÀzÀ ¸ÀASÉåAiÀÄ£ÀÄß `©9' ನಲ್ಲಿ ತುಂಬಿ \"ಸಿ9\" ನಲ್ಲಿ ಪ್ರಶ್ನೆಯ ಉದ್ದೇಶ, \"ಡಿ9\" ನಲ್ಲಿ ಪ್ರಶ್ನೆಯ ಸ್ತರ, \"ಇ9\" ನಲ್ಲಿ ಪ್ರಶ್ನೆಯ ಪ್ರಕಾರ, \"ಎಫ್9\" ನಲ್ಲಿ ವಿಷಯ ವಸ್ತು, ಹಾಗೂ \"ಜಿ9\" ನಲ್ಲಿ ಆಯ್ಕೆ ಪ್ರಶ್ನೆಯಾದರೆ \"ಸಿ\" ಎಂದು ಆಯ್ದುಕೊಳ್ಳಿ ಇಲ್ಲವಾದರೆ ಖಾಲಿ ಬಿಡಿ. EzÉÃ ¤AiÀÄªÀÄªÀ£ÀÄß J¯Áè ¥Àæ±ÉßUÀ¼À DAiÉÄÌUÀÆ C£ÀÄ¸Àj¹.)",null,null,null,null,null,null,null,null,null,null,null,null,null,null,"G:X14 - G:X19  "]
[null,2,"B15 - B20",null,"ºÉÆA¢¹ §gÉAiÀÄÄªÀ 4 ¥Àæ±ÉßUÀ¼ÀÄ. B19 ªÀÄvÀÄÛ  B20 gÀ ªÀÄÄA¢£À G PÁ®A£À°è wæ¨sÀÄeÁPÁgÀzÀ ªÉÄÃ¯É ªÀiË¸ï QèPï ªÀiÁqÀÄªÀÅzÀgÀ ªÀÄÆ®PÀ  C JAzÀÄ DAiÉÄÌ ªÀiÁrPÉÆ½î. »ÃUÉ ªÀiÁqÀÄªÀÅzÀjAzÀ ¤Ã® £ÀPÉëAiÀÄ°è CªÀÅUÀ¼À CAPÀUÀ¼À£ÀÄß vÉÆÃj¸ÀÄªÀÅ¢®è ºÁUÀÆ ºÉÆA¢¹ §gÉAiÀÄÄªÀ 4 ¥Àæ±ÉßUÀ¼À£ÀÄß ªÀiÁvÀæ £ÁªÀÅ DAiÀÄÄÝPÉÆAqÀAvÁUÀÄvÀÛzÉ. ¥Àæ±Éß ¥ÀwæPÉAiÀÄ ¥ÀÄlzÀ°è ºÉÆA¢¹ §gÉAiÀÄÄªÀ ¥Àæ±ÉßUÀ¼À£ÀÄß DAiÀÄÄÝPÉÆ¼ÀÄîªÁUÀ G ¤AzÀ O ªÀgÉUÉ `PÀ' ¥ÀnÖAiÀÄ ¥Àæ±ÉßUÀ¼À£ÀÄß  ºÁUÀÆ  P ¤AzÀ X ªÀgÉUÉ `RÀ' ¥ÀnÖAiÀÄ ¥Àæ±ÉßUÀ¼À£ÀÄß DAiÀÄÄÝPÉÆ¼Àî®Ä CªÀPÁ±À PÀ°à¸À¯ÁVzÉ. G-O 20 \"ಕ\" ಪಟ್ಟಿಯನ್ನು ಹಾಗೂ  P-X 25 gÀ ªÀÄÄA¢£À PÉÃªÀ® `R' ¥ÀnÖAiÀÄ ¥Àæ±ÉßUÀ¼À£ÀÄß DAiÀÄÄÝPÉÆ½î. ",null,null,null,null,null,null,null,null,null,null,null,null,null,null,"G:O20 - G:O23 -\n\"ಕ\" ಪಟ್ಟಿ\nP:X20 - P:X25 \n\"ಖ\" ಪಟ್ಟಿ"]
[null,3,"B21 - B24",null,"C£ÀÄgÀÆ¥ÀvÁ 4 ¥Àæ±ÉßUÀ¼À£ÀÄß DAiÀÄÄÝPÉÆ½î.",null,null,null,null,null,null,null,null,null,null,null,null,null,null,"G:X26 - G:X29"]
[null,4,"B25 - B37",null,"2 CAPÀUÀ¼À 11 ¥Àæ±ÉßUÀ¼À£ÀÄß DAiÀÄÄÝPÉÆ½î. 10 ªÀÄvÀÄÛ 11 £ÉÃ ¥Àæ±ÉßUÀ¼À£ÀÄß ¥ÀÆgÀPÀ ªÁZÀ£À¢AzÀ DAiÀÄÄÝPÉÆ½î. 10 £ÉÃ ¥Àæ±ÉßUÉ JgÀqÀÄ ¥Àæ±ÉßUÀ¼À£ÀÄß DAiÀÄÄÝPÉÆAqÀÄ, DAiÀÄÄÝPÉÆAqÀ JgÀqÀgÀ°è MAzÀ£ÀÄß `DAiÉÄÌ' ¥Àæ±Éß ªÀiÁrPÉÆ½î. CAzÀgÉ, AiÀiÁªÀ ¥Àæ±ÉßAiÀÄ£ÀÄß `DAiÉÄÌ' ¥Àæ±ÉßAiÀÄ£ÁßV¸À®Ä EaÒ¸ÀÄ«gÉÆ D ¥Àæ±ÉßAiÀÄ G PÁ®A£À°è  C JAzÀÄ DAiÀÄÄÝPÉÆ½î. EzÉÃ PÀæªÀÄªÀ£ÀÄß 11 £ÉÃ ¥Àæ±ÉßAiÀÄ DAiÉÄÌUÀÄ C£ÀÄ¸Àj¹. ",null,null,null,null,null,null,null,null,null,null,null,null,null,null,"G:X30- G:X42"]
[null,5,"B38 - B41",null,"3 CAPÀUÀ¼À £Á®ÄÌ ¥Àæ±ÉßUÀ¼À£ÀÄß DAiÀÄÄÝPÉÆ½î. EzÀgÀ°è ¤ÃªÀÅ ¥ÀzÀåzÀ ¨sÁªÁxÀðªÀ£ÀÄß PÉÆqÀ°aÒ¹zÀ°è 4£ÉÃ ¥Àæ±ÉßAiÀÄ£ÀÄß ¨sÁªÁxÀðPÉÌ DAiÀÄÄÝPÉÆ½î.",null,null,null,null,null,null,null,null,null,null,null,null,null,null,"G:X43 - G:X46"]
[null,6,"B42 - B45",null,"4 CAPÀUÀ¼À 2 ¥Àæ±ÉßUÀ¼À£ÀÄß DAiÀÄÄÝPÉÆ½î. EzÀgÀ°è ªÉÆzÀ®£ÉAiÀÄ JgÀqÀÄ ¥Àæ±ÉßUÀ¼À£ÀÄß UÀzÀå¢AzÀ DAiÀÄÄÝPÉÆAqÀÄ AiÀiÁªÀÅzÁzÀgÀÄ MAzÀgÀ ªÀÄÄA¢£À  G PÁ®A£À°è  C JAzÀÄ DAiÀÄÄÝPÉÆ½î. £ÀAvÀgÀzÀ JgÀqÀÄ ¥Àæ±ÉßUÀ¼À£ÀÄß ¥ÀzÀå¢AzÀ DAiÀÄÄÝPÉÆAqÀÄ ( ¨ÉÃPÁzÀ ¥ÀzÀåzÀ ¥ÁoÀ ¸ÀASÉåAiÀÄ£ÀÄß ¤UÀ¢üvÀ PÁ®A£À°è £ÀªÀÄÆ¢ü¸ÀÄªÀÅzÀgÀ ªÀÄÆ®PÀ ) AiÀiÁªÀÅzÁzÀgÀÄ MAzÀgÀ ªÀÄÄA¢£À  G PÁ®A£À°è  C JAzÀÄ DAiÀÄÄÝPÉÆ½î.",null,null,null,null,null,null,null,null,null,null,null,null,null,null,"G:X47 - G:X50"]
[null,7,"B46 - B53",null,"ªÁåPÀgÀt¢AzÀ §ºÀÄDAiÉÄÌAiÀÄ 8 ¥Àæ±ÉßUÀ¼À£ÀÄß DAiÀÄÄÝPÉÆ½î.",null,null,null,null,null,null,null,null,null,null,null,null,null,null,"G:X51 - G:X58"]
[null,8,"B54 - B57",null,"C¥ÀpvÀ UÀzÀåªÀ£ÀÄß DAiÀÄÄÝPÉÆ½î. ( ಅತ್ಯಂತ ಲಘು ಉತ್ತರದಲ್ಲಿ ಆಯ್ದುಕೊಳ್ಳಿ)",null,null,null,null,null,null,null,null,null,null,null,null,null,null,"G:X59 "]
[null,9,"B58 - B61",null," 1 CAPÀzÀ £Á®ÄÌ C£ÀÄªÁzÀzÀ ¥Àæ±ÉßUÀ¼À£ÀÄß DAiÀÄÄÝPÉÆ½î.",null,null,null,null,null,null,null,null,null,null,null,null,null,null,"G:X60- G:X63"]
[null,10,"B62 - B63",null,"4 CAPÀUÀ¼À ¥ÀvÀæ¯ÉÃR£ÀzÀ 2 ¥Àæ±ÉßUÀ¼À£ÀÄß DAiÀÄÄÝPÉÆ½î. EzÀgÀ°è  AiÀiÁªÀÅzÁzÀgÀÄ MAzÀgÀ ªÀÄÄA¢£À  G PÁ®A£À°è  C JAzÀÄ DAiÀÄÄÝPÉÆ½î. ",null,null,null,null,null,null,null,null,null,null,null,null,null,null,"G:X64 - G:X65"]
[null,11,"B64 - B66",null,"4 CAPÀUÀ¼À ¤§AzsÀ gÀZÀ£ÉAiÀÄ 3 ¥Àæ±ÉßUÀ¼À£ÀÄß DAiÀÄÄÝPÉÆAqÀÄ CªÀÅUÀ¼À°è AiÀiÁªÀÅzÁzÀgÀÄ JgÀqÀgÀ ªÀÄÄA¢£À  G PÁ®A£À°è  C JAzÀÄ DAiÀÄÄÝPÉÆ½î. ",null,null,null,null,null,null,null,null,null,null,null,null,null,null,"G:X66 - G:X68"]
[]
[null,"80 ಮತ್ತು 20 ಅಂಕಗಳಿಗೆ ಪ್ರಶ್ನೆ ಪತ್ರಿಕೆಗಳನ್ನು ಸಿದ್ಧಪಡಿಸುವಾಗ ಬೇರೆಡೆ ಕಾಪಿ ಮಾಡಿಕೊಂಡು ಸಿದ್ಧಪಡಿಸುವುದು. ಸೂಕ್ತ. ಏಕೆಂದರೆ ಬೇರೆ ಬೇರೆ ಅಂಕಗಳಿಗೆ ನೀಲ ನಕ್ಷೆ ತಯಾರಿಸುವಾಗ ಮೊದಲ ನೀಲ ನಕ್ಷೆಯನ್ನ ಕಳೆದುಕೊಳ್ಳುವಿರಿ.",null,null,"¥Àæ±ÉßUÀ¼À DAiÉÄÌAiÀÄ¯ÁèUÀ° ºÁUÀÆ ¥Àæ±Éß ¥ÀwæPÉAiÀÄ¯ÉèÃ DUÀ° §zÀ¯ÁªÀuÉ ªÀiÁqÀ®Ä CªÀPÁ±À«®è. ¥Àæ±ÉßUÀ¼À DAiÉÄÌAiÀÄ°è K£ÁzÀgÀÄ ªÀåvÁå¸À PÀAqÀÄ§AzÀ°è CzÀPÉÌ ¤Ã® £ÀPÉëAiÀÄ¯ÉèÃ ªÁåvÁå¸ÀªÁVgÀÄvÀÛzÉ. ¤Ã® £ÀPÉëAiÀÄ°è£À ªÀåvÁå¸ÀªÀ£ÀÄß ¸Àj¥Àr¸ÀÄªÀ ªÀÄÆ®PÀ ¥Àæ±ÉßUÀ¼À DAiÉÄÌAiÀÄ°è£À ºÁUÀÆ ¥Àæ±Éß ¥ÀwæPÉAiÀÄ°è£À ªÀåvÁå¸ÀªÀ£ÀÄß ¸Àj¥Àr¹PÉÆ½î. (¤Ã® £ÀPÉëAiÀÄ°è ¥ÁoÀzÀ ¸ÀASÉå, UÀzÀå,¥ÀzÀå, ªÁåPÀgÀt ( §ºÀÄ«PÀ°àÃAiÀÄ), ºÉÆA¢¹ §gÉAiÀÄÄªÀÅzÀÄ, EvÁå¢UÀ¼À ¥ÁoÀ ¸ÀASÉå ºÁUÀÆ ¥Àæ±ÉßUÀ¼À C£ÀÄPÀæªÀÄUÀ¼À°è ªÀåvÁå¸À«gÀÄvÀÛzÉ.) "]
[]
[null,null,null,null,null,null,null,"Prepared  By :"]
[null,null,null,null,null,null,null,"NAGALINGAIAH. Govt.P.U.COLLEGE (H.S)Gurugunta, TQ: Lingasugur"]
[null,null,null,null,null,null,null," District : Raichur"]
[null,null,null,null,null,null,null,"E Mail-  nagalingaiah.h@gmail.com"]
[null,null,null,null,null,null,null,"Mob: 9035172763, 7760399489"]

{"sheet":"instructions","index":2,"n_rows":90,"n_cols":13,"rows_kept":90,"cut":false,"hidden":false,"merged":[[85,12,85,19],[86,12,86,19],[87,12,87,19],[88,12,88,19],[89,12,89,19]]}
[]
[]
["                 "]
[]
[]
[]
[]
[]
[]
[]
[]
[]
[]
[]
[]
[]
[]
[]
[]
[]
[]
[]
[]
[]
[]
[]
[]
[]
[]
[]
[]
[]
[]
[]
[]
[]
[]
[]
[]
[]
[]
[]
[]
[]
[]
[]
[]
[]
[]
[]
[]
[]
[]
[]
[]
[]
[]
[]
[]
[]
[]
[]
[]
[]
[]
[]
[]
[]
[]
[]
[]
[]
[]
[]
[]
[]
[]
[]
[]
[]
[]
[]
[]
[]
[]
[null,null,null,null,null,null,null,null,null,null,null,null,"Prepared  By :"]
[null,null,null,null,null,null,null,null,null,null,null,null,"NAGALINGAIAH. Govt.P.U.COLLEGE (H.S)Gurugunta, TQ: Lingasugur"]
[null,null,null,null,null,null,null,null,null,null,null,null," District : Raichur"]
[null,null,null,null,null,null,null,null,null,null,null,null,"E Mail-  nagalingaiah.h@gmail.com"]
[null,null,null,null,null,null,null,null,null,null,null,null,"Mob: 9035172763, 7760399489"]

{"sheet":"LINKS","index":3,"n_rows":31,"n_cols":13,"rows_kept":31,"cut":false,"hidden":false,"merged":[[26,12,26,19],[27,12,27,19],[28,12,28,19],[29,12,29,19],[30,12,30,19]]}
[]
[]
[]
[]
[]
[]
[]
[]
[]
[]
[]
[]
[]
[]
[]
[]
[]
[]
[]
[]
[]
[]
[]
[]
[]
[]
[null,null,null,null,null,null,null,null,null,null,null,null,"Prepared  By :"]
[null,null,null,null,null,null,null,null,null,null,null,null,"NAGALINGAIAH. Govt.P.U.COLLEGE (H.S)Gurugunta, TQ: Lingasugur"]
[null,null,null,null,null,null,null,null,null,null,null,null," District : Raichur"]
[null,null,null,null,null,null,null,null,null,null,null,null,"E Mail-  nagalingaiah.h@gmail.com"]
[null,null,null,null,null,null,null,null,null,null,null,null,"Mob: 9035172763, 7760399489"]

{"sheet":"Model Blueprint","index":4,"n_rows":37,"n_cols":12,"rows_kept":37,"cut":false,"hidden":false,"merged":[[29,1,29,2],[29,7,29,8],[30,2,30,4],[30,7,30,9],[31,2,31,9],[0,2,0,4],[0,7,0,9],[25,1,25,2],[25,7,25,8],[26,1,27,1],[26,7,27,7],[1,2,2,4],[1,7,2,9],[3,2,3,9],[10,2,10,4],[10,7,10,9],[11,2,11,9],[28,1,28,2],[28,7,28,8],[19,2,19,4],[19,7,19,11],[20,1,20,11],[21,1,21,2],[21,7,21,8],[22,1,24,1],[22,7,24,7]]}
[null,null,"New Blueprint From KSEEB",null,null,null,null,"Model Blueprint for 20 Marks"]
[null,null,"80 Marks",null,null,null,null,"20 Marks"]
[]
[null,null,"उद्देश्यों के आधार पर"]
[null,null,"उद्देश्य","अंक","प्रतिशत",null,null,"उद्देश्य","अंक","प्रतिशत"]
[null,null,"स्मरण रखना",16,20,null,null,"स्मरण रखना",4,{"$f":"I6*100/20","v":20}]
[null,null,"समझना",32,40,null,null,"समझना",8,{"$f":"I7*100/20","v":40}]
[null,null,"अभिव्यक्ति",29,36,null,null,"अभिव्यक्ति",6,30]
[null,null,"रसग्रहण",3,4,null,null,"रसग्रहण",2,10]
[null,null,"कुल",80,100,null,null,"कुल",{"$f":"D10/4","v":20},{"$f":"I10*100/20","v":100}]
[null,null,"80 Marks",null,null,null,null,"20 Marks"]
[null,null,"विषय वस्तु"]
[null,null,null,"अंक","प्रतिशत",null,null,null,"अंक","प्रतिशत"]
[null,null,"गद्य",32,40,null,null,"गद्य",8,{"$f":"I14*100/20","v":40}]
[null,null,"पद्य",20,25,null,null,"पद्य",{"$f":"D15/4","v":5},{"$f":"I15*100/20","v":25}]
[null,null,"व्याकरण",8,10,null,null,"व्याकरण",2,10]
[null,null,"रचना",16,20,null,null,"रचना",4,20]
[null,null,"पूरक वाचन",4,5,null,null,"पूरक वाचन",1,5]
[null,null,"कुल",80,100,null,null,"कुल",20,100]
[null,null,"80 Marks",null,null,null,null,"20 Marks"]
[null,"प्रश्‍नों के प्रकार"]
[null,null,null,"प्रश्‍नों","अंक","प्रतिशत",null,null,null,"प्रश्‍नों","अंक","प्रतिशत"]
[null,"वस्तुनिष्ठ","बहुविकल्पीय",8,8,10,null,"वस्तुनिष्ठ","बहुविकल्पीय",2,{"$f":"E23/4","v":2},{"$f":"K23*100/20","v":10}]
[null,null,"अनुरूपता",4,4,5,null,null,"अनुरूपता",1,1,5]
[null,null,"जोड़कर",4,4,5,null,null,"जोड़कर",1,1,5]
[null,"अति लघूत्तर",null,14,14,17.5,null,"अति लघूत्तर",null,3,3,15]
[null,"लघूत्तर","दो अंकवाले",11,22,27.5,null,"लघूत्तर","दो अंकवाले",3,6,30]
[null,null,"तीन अंकवाले",4,12,15,null,null,"तीन अंकवाले",{"$f":"D28/4","v":1},{"$f":"E28/4","v":3},15]
[null,"दीर्घोत्तर",null,4,16,20,null,"दीर्घोत्तर",null,{"$f":"D29/4","v":1},{"$f":"E29/4","v":4},20]
[null,"कुल",null,49,80,100,null,"कुल",null,{"$f":"SUM(J23:J29)","v":12},{"$f":"E30/4","v":20},100]
[null,null,"80 Marks",null,null,null,null,"20 Marks"]
[null,null,"प्रश्‍नों के स्तर के आधार पर"]
[null,null,null,"अंक","प्रतिशत",null,null,null,"अंक","प्रतिशत"]
[null,null,"सरल",24,30,null,null,"सरल",6,{"$f":"I34*100/20","v":30}]
[null,null,"सामान्य",40,50,null,null,"सामान्य",{"$f":"D35/4","v":10},50]
[null,null,"कठिन",16,20,null,null,"कठिन",4,20]
[null,null,null,80,100,null,null,null,20,100]

{"sheet":"Entry sheet-1-hin","index":5,"n_rows":70,"n_cols":12,"rows_kept":70,"cut":false,"hidden":false,"merged":[[69,0,69,1],[18,6,18,7],[3,0,3,1],[6,2,6,13],[13,6,13,7],[14,6,15,6],[8,6,8,7],[11,6,12,6],[9,6,10,6],[9,7,10,7],[9,8,10,8],[9,9,10,9],[26,6,26,8],[27,6,27,8],[28,6,28,8],[29,6,29,8],[0,0,0,13],[7,0,7,1],[1,0,1,1],[4,0,4,1],[2,0,2,1],[6,0,6,1],[5,2,5,13],[5,0,5,1],[1,2,1,13],[2,2,2,13],[3,2,3,13],[4,2,4,13],[49,6,49,8],[40,6,40,8],[41,6,41,8],[42,6,42,8],[43,6,43,8],[44,6,44,8],[25,5,25,8],[45,6,45,8],[46,6,46,8],[47,6,47,8],[48,6,48,8],[35,6,35,8],[36,6,36,8],[37,6,37,8],[38,6,38,8],[39,6,39,8],[30,6,30,8],[31,6,31,8],[32,6,32,8],[33,6,33,8],[34,6,34,8]]}
["F PÉ¼ÀV£À ªÀiÁ»wUÀ¼À£ÀÄß vÀ¥ÀàzÉÃ §wðªÀiÁr."]
["पाठशाला का नाम",null,"सरकारी पदवि पूर्व कॉलेंज (प्रौ.शा.वि) गुरुगुंटा, ता : लिंगसुगूर"]
["परीक्षा का नाम और साल",null,"रूपणात्मक परीक्षा - 2   २०१६-१७"]
["कक्षा",null,"दसवीं "]
["विषय",null,"हिंदी"]
[" अंक",null,80]
["शिक्षक का नाम",null,"नागलिंगय्या"]
[]
["क्र.सं","पाठ का नाम","निर्धारित अंक",null,"उद्देश्य","प्रतिशत","प्रश्‍न-प्रकार",null,"प्रश्‍नों की संख्या","अंक","स्तर","प्रतिशत"]
[{"$f":"IF(B10=\"\",\"\",1)","v":1},"व्याकरण ",8,null,"स्मरण रखना",20,"बहुविकल्पीय","बहुविकल्पीय (व्याकरण )",8,{"$f":"I10","v":8},"सरल",30]
[{"$f":"IF(B11=\"\",\"\",A10+1)","v":2},"प्रभो",10,null,"समझना",40,null,null,null,null,"सामान्य",50]
[3,"रवींद्रनाथ ठाकुर",7,null,"अभिव्यक्ति",36.25,"वस्तुनिष्ठ","अनुरूपता",4,{"$f":"I12","v":4},"कठिन",20]
[4,"भक्तों के भगवान",6,null,"रसग्रहण",3.75,null,"जोड़कर लिखना",4,{"$f":"I13","v":4}]
[5," इंटरनेट क्रांति",5,null,null,null,"अति लघूत्तर",null,14,{"$f":"I14","v":14}]
[6,"मातृभूमि",10,null,null,null,"लघूत्तर ","२ अंकवाले",11,{"$f":"I15*2","v":22}]
[7," गिल्लू",7,null,null,null,null,"३ अंकवाले",4,{"$f":"I16*3","v":12}]
[8,"बसंत की सच्चाई",7,null,null,null,"दीर्घोत्तर","४ अंकवाले",4,{"$f":"I17*4","v":16}]
[9,"कर्नाटक संपदा"]
[10,"आत्मकथा",null,null,"विषय वस्तु","अंक","चुननेवाला प्रश्‍न"]
[11,"ईमानदारों के सम्मेलन में",null,null,"गद्य",32,"अंक","प्रश्‍नों की संख्या"]
[12,"अभिनव मनुष्य",null,null,"पद्य",20,"वस्तुनिष्ठ",2]
[13,"वृक्ष प्रेमी तिम्मक्का",null,null,"व्याकरण",8,"2 अंक",2]
[14," तुलसी के दोहे",null,null,"रचना",16,"3अंक"]
[15,"सूर-श्याम",null,null,"पूरक वाचन",4,"4 अंक",5]
[16,"साहित्य सागर का मोती"]
[17,"शनि :  सबसे सुंद्रर ग्रह",4,null,null,"पूर्व निर्धारित पाठों की संख्या और नाम   ( नील नक्षा के साथ प्रश्‍न पत्रिका के लिए(१०वीं) )"]
[18," सत्य की महिमा",null,null,null,"क्र.सं","पाठ का नाम"]
[19,"अनमोल समय",null,null,null,{"$f":"IF(G28=\"\",\"\",1)","v":1},"व्याकरण "]
[20,"अपठित गद्यांश",4,null,null,{"$f":"IF(G29=\"\",\"\",F28+1)","v":2},"प्रभो"]
[21,"अनुवाद",4,null,null,3,"रवींद्रनाथ ठाकुर"]
[22,"पत्र लेखन",4,null,null,4,"भक्तों के भगवान"]
[23,"निबंध रचना",4,null,null,5," इंटरनेट क्रांति"]
["",null,null,null,null,6,"मातृभूमि"]
[{"$f":"IF(B34=\"\",\"\",A33+1)","v":""},null,null,null,null,7," गिल्लू"]
["",null,null,null,null,8,"बसंत की सच्चाई"]
["",null,null,null,null,9,"कर्नाटक संपदा"]
["",null,null,null,null,10,"आत्मकथा"]
["",null,null,null,null,11,"ईमानदारों के सम्मेलन में"]
["",null,null,null,null,12,"अभिनव मनुष्य"]
["",null,null,null,null,13,"वृक्ष प्रेमी तिम्मक्का"]
["",null,null,null,null,14," तुलसी के दोहे"]
["",null,null,null,null,15,"सूर-श्याम"]
["",null,null,null,null,16,"साहित्य सागर का मोती"]
["",null,null,null,null,17,"शनि :  सबसे सुंद्रर ग्रह"]
["",null,null,null,null,18," सत्य की महिमा"]
["",null,null,null,null,19,"अनमोल समय"]
["",null,null,null,null,20,"अपठित गद्यांश"]
["",null,null,null,null,21,"अनुवाद"]
["",null,null,null,null,22,"पत्र लेखन"]
["",null,null,null,null,23,"निबंध रचना"]
[""]
[""]
[""]
[""]
[""]
[""]
[""]
[""]
[""]
[{"$f":"IF(B60=\"\",\"\",A59+1)","v":""}]
[""]
[""]
[""]
[""]
[""]
[""]
[""]
[""]
[{"$f":"IF(B69=\"\",\"\",A68+1)","v":""}]
["कुल",null,{"$f":"SUM(C10:C69)","v":80}]

{"sheet":"Entry sheet-2-hin","index":6,"n_rows":69,"n_cols":59,"rows_kept":69,"cut":false,"hidden":false,"merged":[[68,8,68,16],[63,10,63,16],[64,10,64,16],[65,10,65,16],[66,10,66,16],[67,10,67,16],[58,10,58,16],[59,10,59,16],[60,10,60,16],[61,10,61,16],[62,10,62,16],[65,8,65,9],[66,8,66,9],[67,8,67,9],[63,8,63,9],[64,8,64,9],[43,8,43,9],[44,8,44,9],[45,8,45,9],[46,8,46,9],[57,8,57,9],[58,8,58,9],[59,8,59,9],[60,8,60,9],[52,8,52,9],[53,8,53,9],[54,8,54,9],[55,8,55,9],[56,8,56,9],[39,8,39,9],[40,8,40,9],[41,8,41,9],[32,8,32,9],[33,8,33,9],[34,8,34,9],[35,8,35,9],[36,8,36,9],[42,8,42,9],[23,8,23,9],[24,8,24,9],[25,8,25,9],[26,8,26,9],[37,8,37,9],[38,8,38,9],[0,13,0,18],[17,8,17,9],[18,8,18,9],[19,8,19,9],[20,8,20,9],[21,8,21,9],[7,8,7,9],[8,8,8,9],[9,8,9,9],[10,8,10,9],[11,8,11,9],[12,8,12,9],[13,8,13,9],[14,8,14,9],[15,8,15,9],[1,13,1,16],[10,10,10,16],[21,10,21,16],[2,19,2,20],[5,19,5,20],[46,10,46,16],[25,10,25,16],[26,10,26,16],[27,10,27,16],[28,10,28,16],[29,10,29,16],[30,10,30,16],[31,10,31,16],[32,10,32,16],[33,10,33,16],[34,10,34,16],[38,10,38,16],[39,10,39,16],[40,10,40,16],[41,10,41,16],[42,10,42,16],[24,10,24,16],[35,10,35,16],[36,10,36,16],[37,10,37,16],[43,10,43,16],[14,10,14,16],[5,23,5,24],[11,10,11,16],[12,10,12,16],[13,10,13,16],[3,23,3,24],[3,21,3,22],[3,19,3,20],[7,10,7,14],[4,12,4,13],[4,10,4,11],[3,14,3,16],[8,10,8,16],[9,10,9,16],[6,21,6,22],[1,19,1,24],[18,10,18,16],[19,10,19,16],[20,10,20,16],[4,19,4,20],[0,19,0,24],[4,0,6,0],[4,1,4,2],[4,3,4,4],[4,8,4,9],[1,1,1,2],[1,3,1,4],[1,8,1,9],[1,0,3,0],[1,17,1,18],[1,10,3,10],[1,11,1,12],[6,23,6,24],[6,19,6,20],[2,21,2,22],[4,21,4,22],[5,21,5,22],[2,23,2,24],[4,23,4,24],[56,10,56,16],[57,10,57,16],[47,8,47,9],[48,8,48,9],[49,8,49,9],[50,8,50,9],[51,8,51,9],[61,8,61,9],[55,10,55,16],[53,10,53,16],[54,10,54,16],[49,10,49,16],[50,10,50,16],[51,10,51,16],[52,10,52,16],[1,5,1,7],[6,6,6,7],[8,7,13,7],[14,7,17,7],[0,1,0,6],[0,9,0,10],[47,10,47,16],[48,10,48,16],[62,8,62,9],[44,10,44,16],[45,10,45,16],[2,14,2,16],[16,8,16,9],[27,8,27,9],[28,8,28,9],[15,10,15,16],[16,10,16,16],[17,10,17,16],[23,10,23,16],[22,10,22,16],[29,8,29,9],[30,8,30,9],[31,8,31,9],[22,8,22,9],[57,7,60,7],[64,7,65,7],[18,7,19,7],[20,7,23,7],[24,7,32,7],[37,7,40,7],[45,7,52,7],[53,7,56,7],[2,6,2,7],[3,6,3,7],[4,5,4,7],[5,6,5,7]]}
[null,"F PÉ¼ÀV£À ªÀiÁ»wUÀ¼À£ÀÄß vÀ¥ÀàzÉÃ ಭwðªÀiÁr.",null,null,null,null,null,null,null,"नील नक्षा ",null,null,null,"वास्तव भरे हुए प्रश्‍नों की संख्या",null,null,null,null,null,{"$f":"MAX(A9:A68)","v":49}]
[{"$f":"'Entry sheet-1-hin'!E9","v":"उद्देश्य"},{"$f":"'Entry sheet-1-hin'!E10","v":"स्मरण रखना"},null,{"$f":"'Entry sheet-1-hin'!E11","v":"समझना"},null,{"$f":"'Entry sheet-1-hin'!E12","v":"अभिव्यक्ति"},null,null,{"$f":"'Entry sheet-1-hin'!E13","v":"रसग्रहण"},null,"स्तर",{"$f":"'Entry sheet-1-hin'!K10","v":"सरल"},null,{"$f":"'Entry sheet-1-hin'!K11","v":"सामान्य"},null,null,null,{"$f":"'Entry sheet-1-hin'!K12","v":"कठिन"},null,"चुननेवाला प्रश्‍न",null,null,null,null,null,null,null,null,null,null,null,null,null,null,null,null,null,null,null,null,null,null,null,null,null,null,null,null,null,null,null,null,"स्म","सरल","बवि","ग",null,null,"C"]
[null,"पू.नि.","वास्तव","पू.नि.","वास्तव","पू.नि.","वास्तव",null,"पू.नि.","वास्तव",null,"पू.नि.","वास्तव","पू.नि.","वास्तव",null,null,"पू.नि.","वास्तव","अंक",null,"पू.नि",null,"वास्तव",null,null,null,null,null,null,null,null,null,null,null,null,null,null,null,null,null,null,null,null,null,null,null,null,null,null,null,null,"सम","सामान्य","वनि","प"]
[null,{"$f":"IF('Entry sheet-1-hin'!F10=\"\",\"\",'Entry sheet-1-hin'!F10)","v":20},{"$f":"IF('Entry sheet-1-hin'!$C$6=\"\",\"\",(COUNTIF($AE$9:$AE$68,\"स्मसरलबवि\")*1+COUNTIF(AE9:AE68,\"स्मसरलवनि\")*1+COUNTIF($AE$9:$AE$68,\"स्मसरलअलउ\")*1+COUNTIF($AE$9:AE$68,\"स्मसरललउ२\")*2+COUNTIF($AE$9:$AE$68,\"स्मसरललउ३\")*3+COUNTIF($AE$9:$AE$68,\"स्मसरलदीउ४\")*4+COUNTIF($AE$9:$AE$68,\"स्मसामान्यबवि\")*1+COUNTIF(AE9:AE68,\"स्मसामान्यवनि\")*1+COUNTIF($AE$9:$AE$68,\"स्मसामान्यअलउ\")*1+COUNTIF($AE$9:AE$68,\"स्मसामान्यलउ२\")*2+COUNTIF($AE$9:$AE$68,\"स्मसामान्यलउ३\")*3+COUNTIF($AE$9:$AE$68,\"स्मसामान्यदीउ४\")*4+COUNTIF($AE$9:$AE$68,\"स्मकठिनबवि\")*1+COUNTIF(AE9:AE68,\"स्मकठिनवनि\")*1+COUNTIF($AE$9:$AE$68,\"स्मकठिनअलउ\")*1+COUNTIF($AE$9:AE$68,\"स्मकठिनलउ२\")*2+COUNTIF($AE$9:$AE$68,\"स्मकठिनलउ३\")*3+COUNTIF($AE$9:$AE$68,\"स्मकठिनदीउ४\")*4)/'Entry sheet-1-hin'!$C$6*100)","v":20},{"$f":"IF('Entry sheet-1-hin'!F11=\"\",\"\",'Entry sheet-1-hin'!F11)","v":40},{"$f":"IF('Entry sheet-1-hin'!$C$6=\"\",\"\",COUNTIF($AE$9:$AE$68,\"समसरलबवि\")*1+COUNTIF($AE$9:$AE$68,\"समसरलवनि\")*1+COUNTIF($AE$9:$AE$68,\"समसरलअलउ\")*1+COUNTIF($AE$9:$AE$68,\"समसरललउ२\")*2+COUNTIF($AE$9:$AE$68,\"समसरललउ३\")*3+COUNTIF($AE$9:$AE$68,\"समसरलदीउ४\")*4+COUNTIF($AE$9:$AE$68,\"समसामान्यबवि\")*1+COUNTIF($AE$9:$AE$68,\"समसामान्यवनि\")*1+COUNTIF($AE$9:$AE$68,\"समसामान्यअलउ\")*1+COUNTIF($AE$9:$AE$68,\"समसामान्यलउ२\")*2+COUNTIF($AE$9:$AE$68,\"समसामान्यलउ३\")*3+COUNTIF($AE$9:$AE$68,\"समसामान्यदीउ४\")*4+COUNTIF($AE$9:$AE$68,\"समकठिनबवि\")*1+COUNTIF(AC9:AC68,\"समकठिनवनि\")*1+COUNTIF($AE$9:$AE$68,\"समकठिनअलउ\")*1+COUNTIF($AE$9:$AE$68,\"समकठिनलउ२\")*2+COUNTIF($AE$9:$AE$68,\"समकठिनलउ३\")*3+COUNTIF($AE$9:$AE$68,\"समकठिनदीउ४\")*4)/'Entry sheet-1-hin'!$C$6*100","v":40},{"$f":"IF('Entry sheet-1-hin'!F12=\"\",\"\",'Entry sheet-1-hin'!F12)","v":36.25},{"$f":"IF('Entry sheet-1-hin'!$C$6=\"\",\"\",COUNTIF($AE$9:$AE$68,\"असरलबवि\")*1+COUNTIF($AE$9:$AE$68,\"असरलवनि\")*1+COUNTIF($AE$9:$AE$68,\"असरलअलउ\")*1+COUNTIF($AE$9:$AE$68,\"असरललउ२\")*2+COUNTIF($AE$9:$AE$68,\"असरललउ३\")*3+COUNTIF($AE$9:$AE$68,\"असरलदीउ४\")*4+COUNTIF($AE$9:$AE$68,\"असामान्यबवि\")*1+COUNTIF(AE9:AE68,\"असामान्यवनि\")*1+COUNTIF($AE$9:$AE$68,\"असामान्यअलउ\")*1+COUNTIF($AE$9:$AE$68,\"असामान्यलउ२\")*2+COUNTIF($AE$9:$AE$68,\"असामान्यलउ३\")*3+COUNTIF($AE$9:$AE$68,\"असामान्यदीउ४\")*4+COUNTIF($AE$9:$AE$68,\"अकठिनबवि\")*1+COUNTIF(AE9:AE68,\"अकठिनवनि\")*1+COUNTIF($AE$9:$AE$68,\"अकठिनअलउ\")*1+COUNTIF($AE$9:$AE$68,\"अकठिनलउ२\")*2+COUNTIF($AE$9:$AE$68,\"अकठिनलउ३\")*3+COUNTIF($AE$9:$AE$68,\"अकठिनदीउ४\")*4)/'Entry sheet-1-hin'!$C$6*100","v":36.25},null,{"$f":"IF('Entry sheet-1-hin'!F13=\"\",\"\",'Entry sheet-1-hin'!F13)","v":3.75},{"$f":"IF('Entry sheet-1-hin'!$C$6=\"\",\"\",(COUNTIF($AE$9:$AE$68,\"रससरलबवि\")*1+COUNTIF(AE9:AE68,\"रससरलवनि\")*1+COUNTIF($AE$9:$AE$68,\"रससरलअलउ\")*1+COUNTIF($AE$9:$AE$68,\"रससरललउ२\")*2+COUNTIF($AE$9:$AE$68,\"रससरललउ३\")*3+COUNTIF($AE$9:$AE$68,\"रससरलदीउ४\")*4+COUNTIF($AE$9:$AE$68,\"रससामान्यबवि\")*1+COUNTIF(AE9:AE68,\"रससामान्यवनि\")*1+COUNTIF($AE$9:$AE$68,\"रससामान्यअलउ\")*1+COUNTIF($AE$9:$AE$68,\"रससामान्यलउ२\")*2+COUNTIF($AE$9:$AE$68,\"रससामान्यलउ३\")*3+COUNTIF($AE$9:$AE$68,\"रससामान्यदीउ४\")*4+COUNTIF($AE$9:$AE$68,\"रसकठिनबवि\")*1+COUNTIF(AE9:AE68,\"रसकठिनवनि\")*1+COUNTIF($AE$9:$AE$68,\"रसकठिनअलउ\")*1+COUNTIF($AE$9:$AE$68,\"रसकठिनलउ२\")*2+COUNTIF($AE$9:$AE$68,\"रसकठिनलउ३\")*3+COUNTIF($AE$9:$AE$68,\"रसकठिनदीउ४\")*4)/'Entry sheet-1-hin'!$C$6*100)","v":3.75},null,{"$f":"IF('Entry sheet-1-hin'!L10=\"\",\"\",'Entry sheet-1-hin'!L10)","v":30},{"$f":"IF('Entry sheet-1-hin'!$C$6=\"\",\"\",(COUNTIF($AE$9:$AE$68,\"स्मसरलबवि\")*1+COUNTIF(AE9:AE68,\"स्मसरलवनि\")*1+COUNTIF($AE$9:$AE$68,\"स्मसरलअलउ\")*1+COUNTIF($AE$9:AE$68,\"स्मसरललउ२\")*2+COUNTIF($AE$9:$AE$68,\"स्मसरललउ३\")*3+COUNTIF($AE$9:$AE$68,\"स्मसरलदीउ४\")*4+COUNTIF($AE$9:$AE$68,\"समसरलबवि\")*1+COUNTIF(AE9:AE68,\"समसरलवनि\")*1+COUNTIF($AE$9:$AE$68,\"समसरलअलउ\")*1+COUNTIF($AE$9:$AE$68,\"समसरललउ२\")*2+COUNTIF($AE$9:$AE$68,\"समसरललउ३\")*3+COUNTIF($AE$9:$AE$68,\"समसरलदीउ४\")*4+COUNTIF($AE$9:$AE$68,\"असरलबवि\")*1+COUNTIF(AE9:AE68,\"असरलवनि\")*1+COUNTIF($AE$9:$AE$68,\"असरलअलउ\")*1+COUNTIF($AE$9:$AE$68,\"असरललउ२\")*2+COUNTIF($AE$9:$AE$68,\"असरललउ३\")*3+COUNTIF($AE$9:$AE$68,\"असरलदीउ४\")*4+COUNTIF($AE$9:$AE$68,\"रससरलबवि\")*1+COUNTIF(AE9:AE68,\"रससरलवनि\")*1+COUNTIF($AE$9:$AE$68,\"रससरलअलउ\")*1+COUNTIF($AE$9:$AE$68,\"रससरललउ२\")*2+COUNTIF($AE$9:$AE$68,\"रससरललउ३\")*3+COUNTIF($AE$9:$AE$68,\"रससरलदीउ४\")*4)/'Entry sheet-1-hin'!$C$6*100)","v":30},{"$f":"IF('Entry sheet-1-hin'!L11=\"\",\"\",'Entry sheet-1-hin'!L11)","v":50},{"$f":"IF('Entry sheet-1-hin'!$C$6=\"\",\"\",(COUNTIF($AE$9:$AE$68,\"स्मसामान्यबवि\")*1+COUNTIF(AE9:AE68,\"स्मसामान्यवनि\")*1+COUNTIF($AE$9:$AE$68,\"स्मसामान्यअलउ\")*1+COUNTIF($AE$9:AE$68,\"स्मसामान्यलउ२\")*2+COUNTIF($AE$9:$AE$68,\"स्मसामान्यलउ३\")*3+COUNTIF($AE$9:$AE$68,\"स्मसामान्यदीउ४\")*4+COUNTIF($AE$9:$AE$68,\"समसामान्यबवि\")*1+COUNTIF(AE9:AE68,\"समसामान्यवनि\")*1+COUNTIF($AE$9:$AE$68,\"समसामान्यअलउ\")*1+COUNTIF($AE$9:$AE$68,\"समसामान्यलउ२\")*2+COUNTIF($AE$9:$AE$68,\"समसामान्यलउ३\")*3+COUNTIF($AE$9:$AE$68,\"समसामान्यदीउ४\")*4+COUNTIF($AE$9:$AE$68,\"असामान्यबवि\")*1+COUNTIF(AE9:AE68,\"असामान्यवनि\")*1+COUNTIF($AE$9:$AE$68,\"असामान्यअलउ\")*1+COUNTIF($AE$9:$AE$68,\"असामान्यलउ२\")*2+COUNTIF($AE$9:$AE$68,\"असामान्यलउ३\")*3+COUNTIF($AE$9:$AE$68,\"असामान्यदीउ४\")*4+COUNTIF($AE$9:$AE$68,\"रससामान्यबवि\")*1+COUNTIF(AE9:AE68,\"रससामान्यवनि\")*1+COUNTIF($AE$9:$AE$68,\"रससामान्यअलउ\")*1+COUNTIF($AE$9:$AE$68,\"रससामान्यलउ२\")*2+COUNTIF($AE$9:$AE$68,\"रससामान्यलउ३\")*3+COUNTIF($AE$9:$AE$68,\"रससामान्यदीउ४\")*4)/'Entry sheet-1-hin'!$C$6*100)","v":50},null,null,{"$f":"IF('Entry sheet-1-hin'!L12=\"\",\"\",'Entry sheet-1-hin'!L12)","v":20},{"$f":"IF('Entry sheet-1-hin'!$C$6=\"\",\"\",(COUNTIF($AE$9:$AE$68,\"स्मकठिनबवि\")*1+COUNTIF(AE9:AE68,\"स्मकठिनवनि\")*1+COUNTIF($AE$9:$AE$68,\"स्मकठिनअलउ\")*1+COUNTIF($AE$9:AE$68,\"स्मकठिनलउ२\")*2+COUNTIF($AE$9:$AE$68,\"स्मकठिनलउ३\")*3+COUNTIF($AE$9:$AE$68,\"स्मकठिनदीउ४\")*4+COUNTIF($AE$9:$AE$68,\"समकठिनबवि\")*1+COUNTIF(AE9:AE68,\"समकठिनवनि\")*1+COUNTIF($AE$9:$AE$68,\"समकठिनअलउ\")*1+COUNTIF($AE$9:$AE$68,\"समकठिनलउ२\")*2+COUNTIF($AE$9:$AE$68,\"समकठिनलउ३\")*3+COUNTIF($AE$9:$AE$68,\"समकठिनदीउ४\")*4+COUNTIF($AE$9:$AE$68,\"अकठिनबवि\")*1+COUNTIF(AE9:AE68,\"अकठिनवनि\")*1+COUNTIF($AE$9:$AE$68,\"अकठिनअलउ\")*1+COUNTIF($AE$9:$AE$68,\"अकठिनलउ२\")*2+COUNTIF($AE$9:$AE$68,\"अकठिनलउ३\")*3+COUNTIF($AE$9:$AE$68,\"अकठिनदीउ४\")*4+COUNTIF($AE$9:$AE$68,\"रसकठिनबवि\")*1+COUNTIF(AE9:AE68,\"रसकठिनवनि\")*1+COUNTIF($AE$9:$AE$68,\"रसकठिनअलउ\")*1+COUNTIF($AE$9:$AE$68,\"रसकठिनलउ२\")*2+COUNTIF($AE$9:$AE$68,\"रसकठिनलउ३\")*3+COUNTIF($AE$9:$AE$68,\"रसकठिनदीउ४\")*4)/'Entry sheet-1-hin'!$C$6*100)","v":20},{"$f":"IF('Entry sheet-1-hin'!G21=\"\",\"\",'Entry sheet-1-hin'!G21)","v":"वस्तुनिष्ठ"},null,{"$f":"IF('Entry sheet-1-hin'!H21=\"\",\"\",'Entry sheet-1-hin'!H21)","v":2},null,{"$f":"COUNTIF($AH$9:$AH$68,\"वनिC\")","v":2},null,null,null,null,null,null,null,null,null,null,null,null,null,null,null,null,null,null,null,null,null,null,null,null,null,null,null,null,"अ","कठिन","अलउ","व्या"]
[{"$f":"'Entry sheet-1-hin'!G9","v":"प्रश्‍न-प्रकार"},{"$f":"'Entry sheet-1-hin'!G10","v":"बहुविकल्पीय"},null,{"$f":"'Entry sheet-1-hin'!G12","v":"वस्तुनिष्ठ"},null,{"$f":"'Entry sheet-1-hin'!G14","v":"अति लघूत्तर"},null,null,{"$f":"'Entry sheet-1-hin'!H15","v":"२ अंकवाले"},null,{"$f":"'Entry sheet-1-hin'!H16","v":"३ अंकवाले"},null,{"$f":"'Entry sheet-1-hin'!G17","v":"दीर्घोत्तर"},null,{"$f":"'Entry sheet-1-hin'!E20","v":"गद्य"},{"$f":"'Entry sheet-1-hin'!E21","v":"पद्य"},{"$f":"'Entry sheet-1-hin'!E22","v":"व्याकरण"},{"$f":"'Entry sheet-1-hin'!E23","v":"रचना"},{"$f":"'Entry sheet-1-hin'!E24","v":"पूरक वाचन"},{"$f":"IF('Entry sheet-1-hin'!G22=\"\",\"\",'Entry sheet-1-hin'!G22)","v":"2 अंक"},null,{"$f":"IF('Entry sheet-1-hin'!H22=\"\",\"\",'Entry sheet-1-hin'!H22)","v":2},null,{"$f":"COUNTIF($AH$9:$AH$68,\"लउ२C\")","v":2},null,null,null,null,null,null,null,null,null,null,null,null,null,null,null,null,null,null,null,null,null,null,null,null,null,null,null,null,"रस",null,"लउ२","र"]
[null,"पू.नि.","वास्तव","पू.नि.","वास्तव","पू.नि.","वास्तव",null,"पू.नि.","वास्तव","पू.नि.","वास्तव","पू.नि.","वास्तव",{"$f":"'Entry sheet-1-hin'!F20","v":32},{"$f":"'Entry sheet-1-hin'!F21","v":20},{"$f":"'Entry sheet-1-hin'!F22","v":8},{"$f":"'Entry sheet-1-hin'!F23","v":16},{"$f":"'Entry sheet-1-hin'!F24","v":4},{"$f":"IF('Entry sheet-1-hin'!G23=\"\",\"\",'Entry sheet-1-hin'!G23)","v":"3अंक"},null,{"$f":"IF('Entry sheet-1-hin'!H23=\"\",\"\",'Entry sheet-1-hin'!H23)","v":""},null,{"$f":"COUNTIF($AH$9:$AH$68,\"लउ३C\")","v":0},null,null,null,null,null,null,null,null,null,null,null,null,null,null,null,null,null,null,null,null,null,null,null,null,null,null,null,null,null,null,"लउ३","पूवा"]
[null,{"$f":"'Entry sheet-1-hin'!J10+'Entry sheet-1-hin'!I11","v":8},{"$f":"COUNTIF($AD$9:$AD$68,\"बवि\")","v":8},{"$f":"'Entry sheet-1-hin'!J12+'Entry sheet-1-hin'!J13","v":8},{"$f":"COUNTIF($AD$9:$AD$68,\"वनि\")","v":8},{"$f":"'Entry sheet-1-hin'!I14","v":14},{"$f":"COUNTIF($AD$9:$AD$68,\"अलउ\")","v":14},null,{"$f":"'Entry sheet-1-hin'!I15","v":11},{"$f":"COUNTIF($AD$9:$AD$68,\"लउ२\")","v":11},{"$f":"'Entry sheet-1-hin'!I16","v":4},{"$f":"COUNTIF($AD$9:$AD$68,\"लउ३\")","v":4},{"$f":"'Entry sheet-1-hin'!I17","v":4},{"$f":"COUNTIF($AD$9:$AD$68,\"दीउ४\")","v":4},{"$f":"COUNTIF($AF$9:$AF$68,\"बविग\")*1+COUNTIF($AF$9:$AF$68,\"वनिग\")*1+COUNTIF($AF$9:$AF$68,\"अलउग\")*1+COUNTIF($AF$9:$AF$68,\"लउ२ग\")*2+COUNTIF($AF$9:$AF$68,\"लउ३ग\")*3+COUNTIF($AF$9:$AF$68,\"दीउ४ग\")*4","v":32},{"$f":"COUNTIF($AF$9:$AF$68,\"बविप\")*1+COUNTIF($AF$9:$AF$68,\"वनिप\")*1+COUNTIF($AF$9:$AF$68,\"अलउप\")*1+COUNTIF($AF$9:$AF$68,\"लउ२प\")*2+COUNTIF($AF$9:$AF$68,\"लउ३प\")*3+COUNTIF($AF$9:$AF$68,\"दीउ४प\")*4","v":20},{"$f":"COUNTIF($AF$9:$AF$68,\"बविव्या\")*1+COUNTIF($AF$9:$AF$68,\"वनिव्या\")*1+COUNTIF($AF$9:$AF$68,\"अलउव्या\")*1+COUNTIF($AF$9:$AF$68,\"लउ२व्या\")*2+COUNTIF($AF$9:$AF$68,\"लउ३व्या\")*3+COUNTIF($AF$9:$AF$68,\"दीउ४व्या\")*4","v":8},{"$f":"COUNTIF($AF$9:$AF$68,\"बविर\")*1+COUNTIF($AF$9:$AF$68,\"वनिर\")*1+COUNTIF($AF$9:$AF$68,\"अलउर\")*1+COUNTIF($AF$9:$AF$68,\"लउ२र\")*2+COUNTIF($AF$9:$AF$68,\"लउ३र\")*3+COUNTIF($AF$9:$AF$68,\"दीउ४र\")*4","v":16},{"$f":"COUNTIF($AF$9:$AF$68,\"बविपूवा\")*1+COUNTIF($AF$9:$AF$68,\"वनिपूवा\")*1+COUNTIF($AF$9:$AF$68,\"अलउपूवा\")*1+COUNTIF($AF$9:$AF$68,\"लउ२पूवा\")*2+COUNTIF($AF$9:$AF$68,\"लउ३पूवा\")*3+COUNTIF($AF$9:$AF$68,\"दीउ४पूवा\")*4","v":4},{"$f":"IF('Entry sheet-1-hin'!G24=\"\",\"\",'Entry sheet-1-hin'!G24)","v":"4 अंक"},null,{"$f":"IF('Entry sheet-1-hin'!H24=\"\",\"\",'Entry sheet-1-hin'!H24)","v":5},null,{"$f":"COUNTIF($AH$9:$AH$68,\"दीउ४C\")","v":5},null,null,null,null,null,null,null,null,null,null,null,null,null,null,null,null,null,null,null,null,null,null,null,null,null,null,null,null,null,null,"दीउ४"]
["प्रश्‍नों की संख्या","पाठ की संख्या","उद्देश्य","स्तर","प्रश्‍न प्रकार","विषय वस्तु","चुननेवाला प्रश्‍न",null,"पाठ की संख्या",null,"पाठ का नाम",null,null,null,null,null,null,"निर्धारित अंक","वास्तव","ब.वि","व.वि","अ.ल.उ","ल.उ2","ल.उ3","दी.उ",null,"PART+C","DIFF+C","OBJ+C","NO. OF QUESTIONS IN DIFF. TYPES","OBJECTIVES, DIFFICULTY LEVEL","PART OF THE SUBJECT","CHAPTER WISE MARKS CAL.","CHOICE","CHAPTER+OBJECTIVES","CHAPTER+QUESTIONS","CHAPTER+DIFFI","FINAL BLUE PRINT"]
[{"$f":"IF(B9=\"\",\"\",IF(G9=\"c\",\"C\",1))","v":1},2,"स्म","सरल","अलउ","ग",null,"1अंक",{"$f":"IF('Entry sheet-1-hin'!A10=\"\",\"\",'Entry sheet-1-hin'!A10)","v":1},null,{"$f":"IF('Entry sheet-1-hin'!B10=\"\",\"\",'Entry sheet-1-hin'!B10)","v":"व्याकरण "},null,null,null,null,null,null,{"$f":"IF('Entry sheet-1-hin'!C10=\"\",\"\",'Entry sheet-1-hin'!C10)","v":8},{"$f":"IF(K9=\"\",\"\",COUNTIF($AG$9:$AG$68,\"1बवि\")*1+COUNTIF($AG$9:$AG$68,\"1वनि\")*1+COUNTIF($AG$9:$AG$68,\"1अलउ\")*1+COUNTIF($AG$9:$AG$68,\"1लउ२\")*2+COUNTIF($AG$9:$AG$68,\"1Lलउ३\")*3+COUNTIF($AG$9:$AG$68,\"1दीउ४\")*4)","v":8},{"$f":"IF(chapterwise!G7=0,\"\",chapterwise!G7)","v":8},{"$f":"IF(chapterwise!H7=0,\"\",chapterwise!H7)","v":""},{"$f":"IF(chapterwise!I7=0,\"\",chapterwise!I7)","v":""},{"$f":"IF(chapterwise!J7=0,\"\",chapterwise!J7)","v":""},{"$f":"IF(chapterwise!K7=0,\"\",chapterwise!K7)","v":""},{"$f":"IF(chapterwise!L7=0,\"\",chapterwise!L7)","v":""},null,{"$f":"CONCATENATE(F9,G9)","v":"ग"},{"$f":"CONCATENATE(D9,G9)","v":"सरल"},{"$f":"CONCATENATE(C9,G9)","v":"स्म"},{"$f":"CONCATENATE(E9,G9)","v":"अलउ"},{"$f":"CONCATENATE(C9,D9,E9,G9)","v":"स्मसरलअलउ"},{"$f":"CONCATENATE(E9,F9,G9)","v":"अलउग"},{"$f":"CONCATENATE(B9,E9,G9)","v":"2अलउ"},{"$f":"CONCATENATE(E9,G9)","v":"अलउ"},{"$f":"CONCATENATE(B9,C9,G9)","v":"2स्म"},{"$f":"CONCATENATE(B9,E9,G9)","v":"2अलउ"},{"$f":"CONCATENATE(B9,D9,G9)","v":"2सरल"},{"$f":"CONCATENATE(B9,C9,E9,G9)","v":"2स्मअलउ"}]
[{"$f":"IF(B10=\"\",\"\",IF(G10=\"c\",\"C\",MAX(A9:A9)+1))","v":2},3,"स्म","सामान्य","अलउ","ग",null,null,{"$f":"IF('Entry sheet-1-hin'!A11=\"\",\"\",'Entry sheet-1-hin'!A11)","v":2},null,{"$f":"IF('Entry sheet-1-hin'!B11=\"\",\"\",'Entry sheet-1-hin'!B11)","v":"प्रभो"},null,null,null,null,null,null,{"$f":"IF('Entry sheet-1-hin'!C11=\"\",\"\",'Entry sheet-1-hin'!C11)","v":10},{"$f":"IF(K10=\"\",\"\",COUNTIF($AG$9:$AG$68,\"2बवि\")*1+COUNTIF($AG$9:$AG$68,\"2वनि\")*1+COUNTIF($AG$9:$AG$68,\"2अलउ\")*1+COUNTIF($AG$9:$AG$68,\"2लउ२\")*2+COUNTIF($AG$9:$AG$68,\"2लउ३\")*3+COUNTIF($AG$9:$AG$68,\"2दीउ४\")*4)","v":10},{"$f":"IF(chapterwise!G8=0,\"\",chapterwise!G8)","v":""},{"$f":"IF(chapterwise!H8=0,\"\",chapterwise!H8)","v":2},{"$f":"IF(chapterwise!I8=0,\"\",chapterwise!I8)","v":1},{"$f":"IF(chapterwise!J8=0,\"\",chapterwise!J8)","v":2},{"$f":"IF(chapterwise!K8=0,\"\",chapterwise!K8)","v":1},{"$f":"IF(chapterwise!L8=0,\"\",chapterwise!L8)","v":""},null,{"$f":"CONCATENATE(F10,G10)","v":"ग"},{"$f":"CONCATENATE(D10,G10)","v":"सामान्य"},{"$f":"CONCATENATE(C10,G10)","v":"स्म"},{"$f":"CONCATENATE(E10,G10)","v":"अलउ"},{"$f":"CONCATENATE(C10,D10,E10,G10)","v":"स्मसामान्यअलउ"},{"$f":"CONCATENATE(E10,F10,G10)","v":"अलउग"},{"$f":"CONCATENATE(B10,E10,G10)","v":"3अलउ"},{"$f":"CONCATENATE(E10,G10)","v":"अलउ"},{"$f":"CONCATENATE(B10,C10,G10)","v":"3स्म"},{"$f":"CONCATENATE(B10,E10,G10)","v":"3अलउ"},{"$f":"CONCATENATE(B10,D10,G10)","v":"3सामान्य"},{"$f":"CONCATENATE(B10,C10,E10,G10)","v":"3स्मअलउ"}]
[{"$f":"IF(B11=\"\",\"\",IF(G11=\"c\",\"C\",MAX($A$9:A10)+1))","v":3},4,"स्म","सरल","अलउ","ग",null,null,{"$f":"IF('Entry sheet-1-hin'!A12=\"\",\"\",'Entry sheet-1-hin'!A12)","v":3},null,{"$f":"IF('Entry sheet-1-hin'!B12=\"\",\"\",'Entry sheet-1-hin'!B12)","v":"रवींद्रनाथ ठाकुर"},null,null,null,null,null,null,{"$f":"IF('Entry sheet-1-hin'!C12=\"\",\"\",'Entry sheet-1-hin'!C12)","v":7},{"$f":"IF(K11=\"\",\"\",COUNTIF($AG$9:$AG$68,\"3बवि\")*1+COUNTIF($AG$9:$AG$68,\"3वनि\")*1+COUNTIF($AG$9:$AG$68,\"3अलउ\")*1+COUNTIF($AG$9:$AG$68,\"3लउ२\")*2+COUNTIF($AG$9:$AG$68,\"3लउ३\")*3+COUNTIF($AG$9:$AG$68,\"3दीउ४\")*4)","v":7},{"$f":"IF(chapterwise!G9=0,\"\",chapterwise!G9)","v":""},{"$f":"IF(chapterwise!H9=0,\"\",chapterwise!H9)","v":""},{"$f":"IF(chapterwise!I9=0,\"\",chapterwise!I9)","v":1},{"$f":"IF(chapterwise!J9=0,\"\",chapterwise!J9)","v":1},{"$f":"IF(chapterwise!K9=0,\"\",chapterwise!K9)","v":""},{"$f":"IF(chapterwise!L9=0,\"\",chapterwise!L9)","v":1},null,"ग","सरल","स्म","अलउ","स्मसरलअलउ","अलउग","4अलउ","अलउ","4स्म","4अलउ","4सरल","4स्मअलउ"]
[{"$f":"IF(B12=\"\",\"\",IF(G12=\"c\",\"C\",MAX($A$9:A11)+1))","v":4},5,"सम","सरल","अलउ","ग",null,null,{"$f":"IF('Entry sheet-1-hin'!A13=\"\",\"\",'Entry sheet-1-hin'!A13)","v":4},null,{"$f":"IF('Entry sheet-1-hin'!B13=\"\",\"\",'Entry sheet-1-hin'!B13)","v":"भक्तों के भगवान"},null,null,null,null,null,null,{"$f":"IF('Entry sheet-1-hin'!C13=\"\",\"\",'Entry sheet-1-hin'!C13)","v":6},{"$f":"IF(K12=\"\",\"\",COUNTIF($AG$9:$AG$68,\"4बवि\")*1+COUNTIF($AG$9:$AG$68,\"4वनि\")*1+COUNTIF($AG$9:$AG$68,\"4अलउ\")*1+COUNTIF($AG$9:$AG$68,\"4लउ२\")*2+COUNTIF($AG$9:$AG$68,\"4लउ३\")*3+COUNTIF($AG$9:$AG$68,\"4दीउ४\")*4)","v":6},{"$f":"IF(chapterwise!G10=0,\"\",chapterwise!G10)","v":""},{"$f":"IF(chapterwise!H10=0,\"\",chapterwise!H10)","v":""},{"$f":"IF(chapterwise!I10=0,\"\",chapterwise!I10)","v":1},{"$f":"IF(chapterwise!J10=0,\"\",chapterwise!J10)","v":1},{"$f":"IF(chapterwise!K10=0,\"\",chapterwise!K10)","v":1},{"$f":"IF(chapterwise!L10=0,\"\",chapterwise!L10)","v":""},null,"ग","सरल","सम","अलउ","समसरलअलउ","अलउग","5अलउ","अलउ","5सम","5अलउ","5सरल","5समअलउ"]
[{"$f":"IF(B13=\"\",\"\",IF(G13=\"c\",\"C\",MAX($A$9:A12)+1))","v":5},6,"सम","सरल","अलउ","प",null,null,{"$f":"IF('Entry sheet-1-hin'!A14=\"\",\"\",'Entry sheet-1-hin'!A14)","v":5},null,{"$f":"IF('Entry sheet-1-hin'!B14=\"\",\"\",'Entry sheet-1-hin'!B14)","v":" इंटरनेट क्रांति"},null,null,null,null,null,null,{"$f":"IF('Entry sheet-1-hin'!C14=\"\",\"\",'Entry sheet-1-hin'!C14)","v":5},{"$f":"IF(K13=\"\",\"\",COUNTIF($AG$9:$AG$68,\"5बवि\")*1+COUNTIF($AG$9:$AG$68,\"5वनि\")*1+COUNTIF($AG$9:$AG$68,\"5अलउ\")*1+COUNTIF($AG$9:$AG$68,\"5लउ२\")*2+COUNTIF($AG$9:$AG$68,\"5लउ३\")*3+COUNTIF($AG$9:$AG$68,\"5दीउ४\")*4)","v":5},{"$f":"IF(chapterwise!G11=0,\"\",chapterwise!G11)","v":""},{"$f":"IF(chapterwise!H11=0,\"\",chapterwise!H11)","v":2},{"$f":"IF(chapterwise!I11=0,\"\",chapterwise!I11)","v":1},{"$f":"IF(chapterwise!J11=0,\"\",chapterwise!J11)","v":1},{"$f":"IF(chapterwise!K11=0,\"\",chapterwise!K11)","v":""},{"$f":"IF(chapterwise!L11=0,\"\",chapterwise!L11)","v":""},null,"प","सरल","सम","अलउ","समसरलअलउ","अलउप","6अलउ","अलउ","6सम","6अलउ","6सरल","6समअलउ"]
[{"$f":"IF(B14=\"\",\"\",IF(G14=\"c\",\"C\",MAX($A$9:A13)+1))","v":6},7,"स्म","सामान्य","अलउ","ग",null,null,{"$f":"IF('Entry sheet-1-hin'!A15=\"\",\"\",'Entry sheet-1-hin'!A15)","v":6},null,{"$f":"IF('Entry sheet-1-hin'!B15=\"\",\"\",'Entry sheet-1-hin'!B15)","v":"मातृभूमि"},null,null,null,null,null,null,{"$f":"IF('Entry sheet-1-hin'!C15=\"\",\"\",'Entry sheet-1-hin'!C15)","v":10},{"$f":"IF(K14=\"\",\"\",COUNTIF($AG$9:$AG$68,\"6बवि\")*1+COUNTIF($AG$9:$AG$68,\"6वनि\")*1+COUNTIF($AG$9:$AG$68,\"6अलउ\")*1+COUNTIF($AG$9:$AG$68,\"6लउ२\")*2+COUNTIF($AG$9:$AG$68,\"6लउ३\")*3+COUNTIF($AG$9:$AG$68,\"6दीउ४\")*4)","v":10},{"$f":"IF(chapterwise!G12=0,\"\",chapterwise!G12)","v":""},{"$f":"IF(chapterwise!H12=0,\"\",chapterwise!H12)","v":1},{"$f":"IF(chapterwise!I12=0,\"\",chapterwise!I12)","v":1},{"$f":"IF(chapterwise!J12=0,\"\",chapterwise!J12)","v":2},{"$f":"IF(chapterwise!K12=0,\"\",chapterwise!K12)","v":""},{"$f":"IF(chapterwise!L12=0,\"\",chapterwise!L12)","v":1},null,"ग","सामान्य","स्म","अलउ","स्मसामान्यअलउ","अलउग","7अलउ","अलउ","7स्म","7अलउ","7सामान्य","7स्मअलउ"]
[{"$f":"IF(B15=\"\",\"\",IF(G15=\"c\",\"C\",MAX($A$9:A14)+1))","v":7},2,"सम","सरल","वनि","प",null,"जोड़कर लिखना",{"$f":"IF('Entry sheet-1-hin'!A16=\"\",\"\",'Entry sheet-1-hin'!A16)","v":7},null,{"$f":"IF('Entry sheet-1-hin'!B16=\"\",\"\",'Entry sheet-1-hin'!B16)","v":" गिल्लू"},null,null,null,null,null,null,{"$f":"IF('Entry sheet-1-hin'!C16=\"\",\"\",'Entry sheet-1-hin'!C16)","v":7},{"$f":"IF(K15=\"\",\"\",COUNTIF($AG$9:$AG$68,\"7बवि\")*1+COUNTIF($AG$9:$AG$68,\"7वनि\")*1+COUNTIF($AG$9:$AG$68,\"7अलउ\")*1+COUNTIF($AG$9:$AG$68,\"7लउ२\")*2+COUNTIF($AG$9:$AG$68,\"7लउ३\")*3+COUNTIF($AG$9:$AG$68,\"7दीउ४\")*4)","v":7},{"$f":"IF(chapterwise!G13=0,\"\",chapterwise!G13)","v":""},{"$f":"IF(chapterwise!H13=0,\"\",chapterwise!H13)","v":1},{"$f":"IF(chapterwise!I13=0,\"\",chapterwise!I13)","v":1},{"$f":"IF(chapterwise!J13=0,\"\",chapterwise!J13)","v":1},{"$f":"IF(chapterwise!K13=0,\"\",chapterwise!K13)","v":1},{"$f":"IF(chapterwise!L13=0,\"\",chapterwise!L13)","v":""},null,"प","सरल","सम","वनि","समसरलवनि","वनिप","2वनि","वनि","2सम","2वनि","2सरल","2समवनि"]
[{"$f":"IF(B16=\"\",\"\",IF(G16=\"c\",\"C\",MAX($A$9:A15)+1))","v":8},5,"स्म","सामान्य","वनि","ग",null,null,{"$f":"IF('Entry sheet-1-hin'!A17=\"\",\"\",'Entry sheet-1-hin'!A17)","v":8},null,{"$f":"IF('Entry sheet-1-hin'!B17=\"\",\"\",'Entry sheet-1-hin'!B17)","v":"बसंत की सच्चाई"},null,null,null,null,null,null,{"$f":"IF('Entry sheet-1-hin'!C17=\"\",\"\",'Entry sheet-1-hin'!C17)","v":7},{"$f":"IF(K16=\"\",\"\",COUNTIF($AG$9:$AG$68,\"8बवि\")*1+COUNTIF($AG$9:$AG$68,\"8वनि\")*1+COUNTIF($AG$9:$AG$68,\"8अलउ\")*1+COUNTIF($AG$9:$AG$68,\"8लउ२\")*2+COUNTIF($AG$9:$AG$68,\"8लउ३\")*3+COUNTIF($AG$9:$AG$68,\"8दीउ४\")*4)","v":7},{"$f":"IF(chapterwise!G14=0,\"\",chapterwise!G14)","v":""},{"$f":"IF(chapterwise!H14=0,\"\",chapterwise!H14)","v":2},{"$f":"IF(chapterwise!I14=0,\"\",chapterwise!I14)","v":""},{"$f":"IF(chapterwise!J14=0,\"\",chapterwise!J14)","v":1},{"$f":"IF(chapterwise!K14=0,\"\",chapterwise!K14)","v":1},{"$f":"IF(chapterwise!L14=0,\"\",chapterwise!L14)","v":""},null,"ग","सामान्य","स्म","वनि","स्मसामान्यवनि","वनिग","5वनि","वनि","5स्म","5वनि","5सामान्य","5स्मवनि"]
[{"$f":"IF(B17=\"\",\"\",IF(G17=\"c\",\"C\",MAX($A$9:A16)+1))","v":9},6,"सम","सामान्य","वनि","प",null,null,{"$f":"IF('Entry sheet-1-hin'!A18=\"\",\"\",'Entry sheet-1-hin'!A18)","v":9},null,{"$f":"IF('Entry sheet-1-hin'!B18=\"\",\"\",'Entry sheet-1-hin'!B18)","v":"कर्नाटक संपदा"},null,null,null,null,null,null,{"$f":"IF('Entry sheet-1-hin'!C18=\"\",\"\",'Entry sheet-1-hin'!C18)","v":""},{"$f":"IF(K17=\"\",\"\",COUNTIF($AG$9:$AG$68,\"9बवि\")*1+COUNTIF($AG$9:$AG$68,\"9वनि\")*1+COUNTIF($AG$9:$AG$68,\"9अलउ\")*1+COUNTIF($AG$9:$AG$68,\"9लउ२\")*2+COUNTIF($AG$9:$AG$68,\"9लउ३\")*3+COUNTIF($AG$9:$AG$68,\"9दीउ४\")*4)","v":0},{"$f":"IF(chapterwise!G15=0,\"\",chapterwise!G15)","v":""},{"$f":"IF(chapterwise!H15=0,\"\",chapterwise!H15)","v":""},{"$f":"IF(chapterwise!I15=0,\"\",chapterwise!I15)","v":""},{"$f":"IF(chapterwise!J15=0,\"\",chapterwise!J15)","v":""},{"$f":"IF(chapterwise!K15=0,\"\",chapterwise!K15)","v":""},{"$f":"IF(chapterwise!L15=0,\"\",chapterwise!L15)","v":""},null,"प","सामान्य","सम","वनि","समसामान्यवनि","वनिप","6वनि","वनि","6सम","6वनि","6सामान्य","6समवनि"]
[{"$f":"IF(B18=\"\",\"\",IF(G18=\"c\",\"C\",MAX($A$9:A17)+1))","v":10},8,"सम","सामान्य","वनि","ग",null,null,{"$f":"IF('Entry sheet-1-hin'!A19=\"\",\"\",'Entry sheet-1-hin'!A19)","v":10},null,{"$f":"IF('Entry sheet-1-hin'!B19=\"\",\"\",'Entry sheet-1-hin'!B19)","v":"आत्मकथा"},null,null,null,null,null,null,{"$f":"IF('Entry sheet-1-hin'!C19=\"\",\"\",'Entry sheet-1-hin'!C19)","v":""},{"$f":"IF(K18=\"\",\"\",COUNTIF($AG$9:$AG$68,\"10बवि\")*1+COUNTIF($AG$9:$AG$68,\"10वनि\")*1+COUNTIF($AG$9:$AG$68,\"10अलउ\")*1+COUNTIF($AG$9:$AG$68,\"10लउ२\")*2+COUNTIF($AG$9:$AG$68,\"10लउ३\")*3+COUNTIF($AG$9:$AG$68,\"10दीउ४\")*4)","v":0},{"$f":"IF(chapterwise!G16=0,\"\",chapterwise!G16)","v":""},{"$f":"IF(chapterwise!H16=0,\"\",chapterwise!H16)","v":""},{"$f":"IF(chapterwise!I16=0,\"\",chapterwise!I16)","v":""},{"$f":"IF(chapterwise!J16=0,\"\",chapterwise!J16)","v":""},{"$f":"IF(chapterwise!K16=0,\"\",chapterwise!K16)","v":""},{"$f":"IF(chapterwise!L16=0,\"\",chapterwise!L16)","v":""},null,"ग","सामान्य","सम","वनि","समसामान्यवनि","वनिग","8वनि","वनि","8सम","8वनि","8सामान्य","8समवनि"]
[{"$f":"IF(B19=\"\",\"\",IF(G19=\"c\",\"C\",MAX($A$9:A18)+1))","v":"C"},2,"सम","सरल","वनि","प","C","चुननेवाला",{"$f":"IF('Entry sheet-1-hin'!A20=\"\",\"\",'Entry sheet-1-hin'!A20)","v":11},null,{"$f":"IF('Entry sheet-1-hin'!B20=\"\",\"\",'Entry sheet-1-hin'!B20)","v":"ईमानदारों के सम्मेलन में"},null,null,null,null,null,null,{"$f":"IF('Entry sheet-1-hin'!C20=\"\",\"\",'Entry sheet-1-hin'!C20)","v":""},{"$f":"IF(K19=\"\",\"\",COUNTIF($AG$9:$AG$68,\"11बवि\")*1+COUNTIF($AG$9:$AG$68,\"11वनि\")*1+COUNTIF($AG$9:$AG$68,\"11अलउ\")*1+COUNTIF($AG$9:$AG$68,\"11लउ२\")*2+COUNTIF($AG$9:$AG$68,\"11लउ३\")*3+COUNTIF($AG$9:$AG$68,\"11दीउ४\")*4)","v":0},{"$f":"IF(chapterwise!G17=0,\"\",chapterwise!G17)","v":""},{"$f":"IF(chapterwise!H17=0,\"\",chapterwise!H17)","v":""},{"$f":"IF(chapterwise!I17=0,\"\",chapterwise!I17)","v":""},{"$f":"IF(chapterwise!J17=0,\"\",chapterwise!J17)","v":""},{"$f":"IF(chapterwise!K17=0,\"\",chapterwise!K17)","v":""},{"$f":"IF(chapterwise!L17=0,\"\",chapterwise!L17)","v":""},null,"पC","सरलC","समC","वनिC","समसरलवनिC","वनिपC","2वनिC","वनिC","2समC","2वनिC","2सरलC","2समवनिC"]
[{"$f":"IF(B20=\"\",\"\",IF(G20=\"c\",\"C\",MAX($A$9:A19)+1))","v":"C"},5,"स्म","सामान्य","वनि","ग","C",null,{"$f":"IF('Entry sheet-1-hin'!A21=\"\",\"\",'Entry sheet-1-hin'!A21)","v":12},null,{"$f":"IF('Entry sheet-1-hin'!B21=\"\",\"\",'Entry sheet-1-hin'!B21)","v":"अभिनव मनुष्य"},null,null,null,null,null,null,{"$f":"IF('Entry sheet-1-hin'!C21=\"\",\"\",'Entry sheet-1-hin'!C21)","v":""},{"$f":"IF(K20=\"\",\"\",COUNTIF($AG$9:$AG$68,\"12बवि\")*1+COUNTIF($AG$9:$AG$68,\"12वनि\")*1+COUNTIF($AG$9:$AG$68,\"12अलउ\")*1+COUNTIF($AG$9:$AG$68,\"12लउ२\")*2+COUNTIF($AG$9:$AG$68,\"12लउ३\")*3+COUNTIF($AG$9:$AG$68,\"12दीउ४\")*4)","v":0},{"$f":"IF(chapterwise!G18=0,\"\",chapterwise!G18)","v":""},{"$f":"IF(chapterwise!H18=0,\"\",chapterwise!H18)","v":""},{"$f":"IF(chapterwise!I18=0,\"\",chapterwise!I18)","v":""},{"$f":"IF(chapterwise!J18=0,\"\",chapterwise!J18)","v":""},{"$f":"IF(chapterwise!K18=0,\"\",chapterwise!K18)","v":""},{"$f":"IF(chapterwise!L18=0,\"\",chapterwise!L18)","v":""},null,"गC","सामान्यC","स्मC","वनिC","स्मसामान्यवनिC","वनिगC","5वनिC","वनिC","5स्मC","5वनिC","5सामान्यC","5स्मवनिC"]
[{"$f":"IF(B21=\"\",\"\",IF(G21=\"c\",\"C\",MAX($A$9:A20)+1))","v":11},2,"सम","सामान्य","वनि","प",null,"अनुरूपता",{"$f":"IF('Entry sheet-1-hin'!A22=\"\",\"\",'Entry sheet-1-hin'!A22)","v":13},null,{"$f":"IF('Entry sheet-1-hin'!B22=\"\",\"\",'Entry sheet-1-hin'!B22)","v":"वृक्ष प्रेमी तिम्मक्का"},null,null,null,null,null,null,{"$f":"IF('Entry sheet-1-hin'!C22=\"\",\"\",'Entry sheet-1-hin'!C22)","v":""},{"$f":"IF(K21=\"\",\"\",COUNTIF($AG$9:$AG$68,\"13बवि\")*1+COUNTIF($AG$9:$AG$68,\"13वनि\")*1+COUNTIF($AG$9:$AG$68,\"13अलउ\")*1+COUNTIF($AG$9:$AG$68,\"13लउ२\")*2+COUNTIF($AG$9:$AG$68,\"13लउ३\")*3+COUNTIF($AG$9:$AG$68,\"13दीउ४\")*4)","v":0},{"$f":"IF(chapterwise!G19=0,\"\",chapterwise!G19)","v":""},{"$f":"IF(chapterwise!H19=0,\"\",chapterwise!H19)","v":""},{"$f":"IF(chapterwise!I19=0,\"\",chapterwise!I19)","v":""},{"$f":"IF(chapterwise!J19=0,\"\",chapterwise!J19)","v":""},{"$f":"IF(chapterwise!K19=0,\"\",chapterwise!K19)","v":""},{"$f":"IF(chapterwise!L19=0,\"\",chapterwise!L19)","v":""},null,"प","सामान्य","सम","वनि","समसामान्यवनि","वनिप","2वनि","वनि","2सम","2वनि","2सामान्य","2समवनि"]
[{"$f":"IF(B22=\"\",\"\",IF(G22=\"c\",\"C\",MAX($A$9:A21)+1))","v":12},5,"स्म","सामान्य","वनि","ग",null,null,{"$f":"IF('Entry sheet-1-hin'!A23=\"\",\"\",'Entry sheet-1-hin'!A23)","v":14},null,{"$f":"IF('Entry sheet-1-hin'!B23=\"\",\"\",'Entry sheet-1-hin'!B23)","v":" तुलसी के दोहे"},null,null,null,null,null,null,{"$f":"IF('Entry sheet-1-hin'!C23=\"\",\"\",'Entry sheet-1-hin'!C23)","v":""},{"$f":"IF(K22=\"\",\"\",COUNTIF($AG$9:$AG$68,\"14बवि\")*1+COUNTIF($AG$9:$AG$68,\"14वनि\")*1+COUNTIF($AG$9:$AG$68,\"14अलउ\")*1+COUNTIF($AG$9:$AG$68,\"14लउ२\")*2+COUNTIF($AG$9:$AG$68,\"14लउ३\")*3+COUNTIF($AG$9:$AG$68,\"14दीउ४\")*4)","v":0},{"$f":"IF(chapterwise!G20=0,\"\",chapterwise!G20)","v":""},{"$f":"IF(chapterwise!H20=0,\"\",chapterwise!H20)","v":""},{"$f":"IF(chapterwise!I20=0,\"\",chapterwise!I20)","v":""},{"$f":"IF(chapterwise!J20=0,\"\",chapterwise!J20)","v":""},{"$f":"IF(chapterwise!K20=0,\"\",chapterwise!K20)","v":""},{"$f":"IF(chapterwise!L20=0,\"\",chapterwise!L20)","v":""},null,"ग","सामान्य","स्म","वनि","स्मसामान्यवनि","वनिग","5वनि","वनि","5स्म","5वनि","5सामान्य","5स्मवनि"]
[{"$f":"IF(B23=\"\",\"\",IF(G23=\"c\",\"C\",MAX($A$9:A22)+1))","v":13},7,"स्म","सरल","वनि","प",null,null,{"$f":"IF('Entry sheet-1-hin'!A24=\"\",\"\",'Entry sheet-1-hin'!A24)","v":15},null,{"$f":"IF('Entry sheet-1-hin'!B24=\"\",\"\",'Entry sheet-1-hin'!B24)","v":"सूर-श्याम"},null,null,null,null,null,null,{"$f":"IF('Entry sheet-1-hin'!C24=\"\",\"\",'Entry sheet-1-hin'!C24)","v":""},{"$f":"IF(K23=\"\",\"\",COUNTIF($AG$9:$AG$68,\"15बवि\")*1+COUNTIF($AG$9:$AG$68,\"15वनि\")*1+COUNTIF($AG$9:$AG$68,\"15अलउ\")*1+COUNTIF($AG$9:$AG$68,\"15लउ२\")*2+COUNTIF($AG$9:$AG$68,\"15लउ३\")*3+COUNTIF($AG$9:$AG$68,\"15दीउ४\")*4)","v":0},{"$f":"IF(chapterwise!G21=0,\"\",chapterwise!G21)","v":""},{"$f":"IF(chapterwise!H21=0,\"\",chapterwise!H21)","v":""},{"$f":"IF(chapterwise!I21=0,\"\",chapterwise!I21)","v":""},{"$f":"IF(chapterwise!J21=0,\"\",chapterwise!J21)","v":""},{"$f":"IF(chapterwise!K21=0,\"\",chapterwise!K21)","v":""},{"$f":"IF(chapterwise!L21=0,\"\",chapterwise!L21)","v":""},null,"प","सरल","स्म","वनि","स्मसरलवनि","वनिप","7वनि","वनि","7स्म","7वनि","7सरल","7स्मवनि"]
[{"$f":"IF(B24=\"\",\"\",IF(G24=\"c\",\"C\",MAX($A$9:A23)+1))","v":14},8,"अ","सामान्य","वनि","ग",null,null,{"$f":"IF('Entry sheet-1-hin'!A25=\"\",\"\",'Entry sheet-1-hin'!A25)","v":16},null,{"$f":"IF('Entry sheet-1-hin'!B25=\"\",\"\",'Entry sheet-1-hin'!B25)","v":"साहित्य सागर का मोती"},null,null,null,null,null,null,{"$f":"IF('Entry sheet-1-hin'!C25=\"\",\"\",'Entry sheet-1-hin'!C25)","v":""},{"$f":"IF(K24=\"\",\"\",COUNTIF($AG$9:$AG$68,\"16बवि\")*1+COUNTIF($AG$9:$AG$68,\"16वनि\")*1+COUNTIF($AG$9:$AG$68,\"16अलउ\")*1+COUNTIF($AG$9:$AG$68,\"16लउ२\")*2+COUNTIF($AG$9:$AG$68,\"16लउ३\")*3+COUNTIF($AG$9:$AG$68,\"16दीउ४\")*4)","v":0},{"$f":"IF(chapterwise!G22=0,\"\",chapterwise!G22)","v":""},{"$f":"IF(chapterwise!H22=0,\"\",chapterwise!H22)","v":""},{"$f":"IF(chapterwise!I22=0,\"\",chapterwise!I22)","v":""},{"$f":"IF(chapterwise!J22=0,\"\",chapterwise!J22)","v":""},{"$f":"IF(chapterwise!K22=0,\"\",chapterwise!K22)","v":""},{"$f":"IF(chapterwise!L22=0,\"\",chapterwise!L22)","v":""},null,"ग","सामान्य","अ","वनि","असामान्यवनि","वनिग","8वनि","वनि","8अ","8वनि","8सामान्य","8अवनि"]
[{"$f":"IF(B25=\"\",\"\",IF(G25=\"c\",\"C\",MAX($A$9:A24)+1))","v":15},2,"सम","सरल","लउ२","प",null," 2अंकवाले",{"$f":"IF('Entry sheet-1-hin'!A26=\"\",\"\",'Entry sheet-1-hin'!A26)","v":17},null,{"$f":"IF('Entry sheet-1-hin'!B26=\"\",\"\",'Entry sheet-1-hin'!B26)","v":"शनि :  सबसे सुंद्रर ग्रह"},null,null,null,null,null,null,{"$f":"IF('Entry sheet-1-hin'!C26=\"\",\"\",'Entry sheet-1-hin'!C26)","v":4},{"$f":"IF(K25=\"\",\"\",COUNTIF($AG$9:$AG$68,\"17बवि\")*1+COUNTIF($AG$9:$AG$68,\"17वनि\")*1+COUNTIF($AG$9:$AG$68,\"17अलउ\")*1+COUNTIF($AG$9:$AG$68,\"17लउ२\")*2+COUNTIF($AG$9:$AG$68,\"17लउ३\")*3+COUNTIF($AG$9:$AG$68,\"17दीउ४\")*4)","v":4},{"$f":"IF(chapterwise!G23=0,\"\",chapterwise!G23)","v":""},{"$f":"IF(chapterwise!H23=0,\"\",chapterwise!H23)","v":""},{"$f":"IF(chapterwise!I23=0,\"\",chapterwise!I23)","v":""},{"$f":"IF(chapterwise!J23=0,\"\",chapterwise!J23)","v":2},{"$f":"IF(chapterwise!K23=0,\"\",chapterwise!K23)","v":""},{"$f":"IF(chapterwise!L23=0,\"\",chapterwise!L23)","v":""},null,"प","सरल","सम","लउ२","समसरललउ२","लउ२प","2लउ२","लउ२","2सम","2लउ२","2सरल","2समलउ२"]
[{"$f":"IF(B26=\"\",\"\",IF(G26=\"c\",\"C\",MAX($A$9:A25)+1))","v":16},2,"स्म","सामान्य","लउ२","प",null,null,{"$f":"IF('Entry sheet-1-hin'!A27=\"\",\"\",'Entry sheet-1-hin'!A27)","v":18},null,{"$f":"IF('Entry sheet-1-hin'!B27=\"\",\"\",'Entry sheet-1-hin'!B27)","v":" सत्य की महिमा"},null,null,null,null,null,null,{"$f":"IF('Entry sheet-1-hin'!C27=\"\",\"\",'Entry sheet-1-hin'!C27)","v":""},{"$f":"IF(K26=\"\",\"\",COUNTIF($AG$9:$AG$68,\"18बवि\")*1+COUNTIF($AG$9:$AG$68,\"18वनि\")*1+COUNTIF($AG$9:$AG$68,\"18अलउ\")*1+COUNTIF($AG$9:$AG$68,\"18लउ२\")*2+COUNTIF($AG$9:$AG$68,\"18लउ३\")*3+COUNTIF($AG$9:$AG$68,\"18दीउ४\")*4)","v":0},{"$f":"IF(chapterwise!G24=0,\"\",chapterwise!G24)","v":""},{"$f":"IF(chapterwise!H24=0,\"\",chapterwise!H24)","v":""},{"$f":"IF(chapterwise!I24=0,\"\",chapterwise!I24)","v":""},{"$f":"IF(chapterwise!J24=0,\"\",chapterwise!J24)","v":""},{"$f":"IF(chapterwise!K24=0,\"\",chapterwise!K24)","v":""},{"$f":"IF(chapterwise!L24=0,\"\",chapterwise!L24)","v":""},null,"प","सामान्य","स्म","लउ२","स्मसामान्यलउ२","लउ२प","2लउ२","लउ२","2स्म","2लउ२","2सामान्य","2स्मलउ२"]
[{"$f":"IF(B27=\"\",\"\",IF(G27=\"c\",\"C\",MAX($A$9:A26)+1))","v":17},3,"सम","सरल","लउ२","ग",null,null,{"$f":"IF('Entry sheet-1-hin'!A28=\"\",\"\",'Entry sheet-1-hin'!A28)","v":19},null,{"$f":"IF('Entry sheet-1-hin'!B28=\"\",\"\",'Entry sheet-1-hin'!B28)","v":"अनमोल समय"},null,null,null,null,null,null,{"$f":"IF('Entry sheet-1-hin'!C28=\"\",\"\",'Entry sheet-1-hin'!C28)","v":""},{"$f":"IF(K27=\"\",\"\",COUNTIF($AG$9:$AG$68,\"19बवि\")*1+COUNTIF($AG$9:$AG$68,\"19वनि\")*1+COUNTIF($AG$9:$AG$68,\"19अलउ\")*1+COUNTIF($AG$9:$AG$68,\"19लउ२\")*2+COUNTIF($AG$9:$AG$68,\"19लउ३\")*3+COUNTIF($AG$9:$AG$68,\"19दीउ४\")*4)","v":0},{"$f":"IF(chapterwise!G25=0,\"\",chapterwise!G25)","v":""},{"$f":"IF(chapterwise!H25=0,\"\",chapterwise!H25)","v":""},{"$f":"IF(chapterwise!I25=0,\"\",chapterwise!I25)","v":""},{"$f":"IF(chapterwise!J25=0,\"\",chapterwise!J25)","v":""},{"$f":"IF(chapterwise!K25=0,\"\",chapterwise!K25)","v":""},{"$f":"IF(chapterwise!L25=0,\"\",chapterwise!L25)","v":""},null,"ग","सरल","सम","लउ२","समसरललउ२","लउ२ग","3लउ२","लउ२","3सम","3लउ२","3सरल","3समलउ२"]
[{"$f":"IF(B28=\"\",\"\",IF(G28=\"c\",\"C\",MAX($A$9:A27)+1))","v":18},4,"अ","सामान्य","लउ२","ग",null,null,{"$f":"IF('Entry sheet-1-hin'!A29=\"\",\"\",'Entry sheet-1-hin'!A29)","v":20},null,{"$f":"IF('Entry sheet-1-hin'!B29=\"\",\"\",'Entry sheet-1-hin'!B29)","v":"अपठित गद्यांश"},null,null,null,null,null,null,{"$f":"IF('Entry sheet-1-hin'!C29=\"\",\"\",'Entry sheet-1-hin'!C29)","v":4},{"$f":"IF(K28=\"\",\"\",COUNTIF($AG$9:$AG$68,\"20बवि\")*1+COUNTIF($AG$9:$AG$68,\"20वनि\")*1+COUNTIF($AG$9:$AG$68,\"20अलउ\")*1+COUNTIF($AG$9:$AG$68,\"20लउ२\")*2+COUNTIF($AG$9:$AG$68,\"20लउ३\")*3+COUNTIF($AG$9:$AG$68,\"20दीउ४\")*4)","v":4},{"$f":"IF(chapterwise!G26=0,\"\",chapterwise!G26)","v":""},{"$f":"IF(chapterwise!H26=0,\"\",chapterwise!H26)","v":""},{"$f":"IF(chapterwise!I26=0,\"\",chapterwise!I26)","v":4},{"$f":"IF(chapterwise!J26=0,\"\",chapterwise!J26)","v":""},{"$f":"IF(chapterwise!K26=0,\"\",chapterwise!K26)","v":""},{"$f":"IF(chapterwise!L26=0,\"\",chapterwise!L26)","v":""},null,"ग","सामान्य","अ","लउ२","असामान्यलउ२","लउ२ग","4लउ२","लउ२","4अ","4लउ२","4सामान्य","4अलउ२"]
[{"$f":"IF(B29=\"\",\"\",IF(G29=\"c\",\"C\",MAX($A$9:A28)+1))","v":19},5,"अ","सामान्य","लउ२","ग",null,null,{"$f":"IF('Entry sheet-1-hin'!A30=\"\",\"\",'Entry sheet-1-hin'!A30)","v":21},null,{"$f":"IF('Entry sheet-1-hin'!B30=\"\",\"\",'Entry sheet-1-hin'!B30)","v":"अनुवाद"},null,null,null,null,null,null,{"$f":"IF('Entry sheet-1-hin'!C30=\"\",\"\",'Entry sheet-1-hin'!C30)","v":4},{"$f":"IF(K29=\"\",\"\",COUNTIF($AG$9:$AG$68,\"21बवि\")*1+COUNTIF($AG$9:$AG$68,\"21वनि\")*1+COUNTIF($AG$9:$AG$68,\"21अलउ\")*1+COUNTIF($AG$9:$AG$68,\"21लउ२\")*2+COUNTIF($AG$9:$AG$68,\"21लउ३\")*3+COUNTIF($AG$9:$AG$68,\"21दीउ४\")*4)","v":4},{"$f":"IF(chapterwise!G27=0,\"\",chapterwise!G27)","v":""},{"$f":"IF(chapterwise!H27=0,\"\",chapterwise!H27)","v":""},{"$f":"IF(chapterwise!I27=0,\"\",chapterwise!I27)","v":4},{"$f":"IF(chapterwise!J27=0,\"\",chapterwise!J27)","v":""},{"$f":"IF(chapterwise!K27=0,\"\",chapterwise!K27)","v":""},{"$f":"IF(chapterwise!L27=0,\"\",chapterwise!L27)","v":""},null,"ग","सामान्य","अ","लउ२","असामान्यलउ२","लउ२ग","5लउ२","लउ२","5अ","5लउ२","5सामान्य","5अलउ२"]
[{"$f":"IF(B30=\"\",\"\",IF(G30=\"c\",\"C\",MAX($A$9:A29)+1))","v":20},6,"अ","सामान्य","लउ२","प",null,null,{"$f":"IF('Entry sheet-1-hin'!A31=\"\",\"\",'Entry sheet-1-hin'!A31)","v":22},null,{"$f":"IF('Entry sheet-1-hin'!B31=\"\",\"\",'Entry sheet-1-hin'!B31)","v":"पत्र लेखन"},null,null,null,null,null,null,{"$f":"IF('Entry sheet-1-hin'!C31=\"\",\"\",'Entry sheet-1-hin'!C31)","v":4},{"$f":"IF(K30=\"\",\"\",COUNTIF($AG$9:$AG$68,\"22बवि\")*1+COUNTIF($AG$9:$AG$68,\"22वनि\")*1+COUNTIF($AG$9:$AG$68,\"22अलउ\")*1+COUNTIF($AG$9:$AG$68,\"22लउ२\")*2+COUNTIF($AG$9:$AG$68,\"22लउ३\")*3+COUNTIF($AG$9:$AG$68,\"22दीउ४\")*4)","v":4},{"$f":"IF(chapterwise!G28=0,\"\",chapterwise!G28)","v":""},{"$f":"IF(chapterwise!H28=0,\"\",chapterwise!H28)","v":""},{"$f":"IF(chapterwise!I28=0,\"\",chapterwise!I28)","v":""},{"$f":"IF(chapterwise!J28=0,\"\",chapterwise!J28)","v":""},{"$f":"IF(chapterwise!K28=0,\"\",chapterwise!K28)","v":""},{"$f":"IF(chapterwise!L28=0,\"\",chapterwise!L28)","v":1},null,"प","सामान्य","अ","लउ२","असामान्यलउ२","लउ२प","6लउ२","लउ२","6अ","6लउ२","6सामान्य","6अलउ२"]
[{"$f":"IF(B31=\"\",\"\",IF(G31=\"c\",\"C\",MAX($A$9:A30)+1))","v":21},6,"अ","सरल","लउ२","प",null,null,{"$f":"IF('Entry sheet-1-hin'!A32=\"\",\"\",'Entry sheet-1-hin'!A32)","v":23},null,{"$f":"IF('Entry sheet-1-hin'!B32=\"\",\"\",'Entry sheet-1-hin'!B32)","v":"निबंध रचना"},null,null,null,null,null,null,{"$f":"IF('Entry sheet-1-hin'!C32=\"\",\"\",'Entry sheet-1-hin'!C32)","v":4},{"$f":"IF(K31=\"\",\"\",COUNTIF($AG$9:$AG$68,\"23बवि\")*1+COUNTIF($AG$9:$AG$68,\"23वनि\")*1+COUNTIF($AG$9:$AG$68,\"23अलउ\")*1+COUNTIF($AG$9:$AG$68,\"23लउ२\")*2+COUNTIF($AG$9:$AG$68,\"23लउ३\")*3+COUNTIF($AG$9:$AG$68,\"23दीउ४\")*4)","v":4},{"$f":"IF(chapterwise!G29=0,\"\",chapterwise!G29)","v":""},{"$f":"IF(chapterwise!H29=0,\"\",chapterwise!H29)","v":""},{"$f":"IF(chapterwise!I29=0,\"\",chapterwise!I29)","v":""},{"$f":"IF(chapterwise!J29=0,\"\",chapterwise!J29)","v":""},{"$f":"IF(chapterwise!K29=0,\"\",chapterwise!K29)","v":""},{"$f":"IF(chapterwise!L29=0,\"\",chapterwise!L29)","v":1},null,"प","सरल","अ","लउ२","असरललउ२","लउ२प","6लउ२","लउ२","6अ","6लउ२","6सरल","6अलउ२"]
[{"$f":"IF(B32=\"\",\"\",IF(G32=\"c\",\"C\",MAX($A$9:A31)+1))","v":22},7,"सम","सामान्य","लउ२","ग",null,null,{"$f":"IF('Entry sheet-1-hin'!A33=\"\",\"\",'Entry sheet-1-hin'!A33)","v":""},null,{"$f":"IF('Entry sheet-1-hin'!B33=\"\",\"\",'Entry sheet-1-hin'!B33)","v":""},null,null,null,null,null,null,{"$f":"IF('Entry sheet-1-hin'!C33=\"\",\"\",'Entry sheet-1-hin'!C33)","v":""},{"$f":"IF(K32=\"\",\"\",COUNTIF($AG$9:$AG$68,\"24बवि\")*1+COUNTIF($AG$9:$AG$68,\"24वनि\")*1+COUNTIF($AG$9:$AG$68,\"24अलउ\")*1+COUNTIF($AG$9:$AG$68,\"24लउ२\")*2+COUNTIF($AG$9:$AG$68,\"24लउ३\")*3+COUNTIF($AG$9:$AG$68,\"24दीउ४\")*4)","v":""},{"$f":"IF(chapterwise!G30=0,\"\",chapterwise!G30)","v":""},{"$f":"IF(chapterwise!H30=0,\"\",chapterwise!H30)","v":""},{"$f":"IF(chapterwise!I30=0,\"\",chapterwise!I30)","v":""},{"$f":"IF(chapterwise!J30=0,\"\",chapterwise!J30)","v":""},{"$f":"IF(chapterwise!K30=0,\"\",chapterwise!K30)","v":""},{"$f":"IF(chapterwise!L30=0,\"\",chapterwise!L30)","v":""},null,"ग","सामान्य","सम","लउ२","समसामान्यलउ२","लउ२ग","7लउ२","लउ२","7सम","7लउ२","7सामान्य","7समलउ२"]
[{"$f":"IF(B33=\"\",\"\",IF(G33=\"c\",\"C\",MAX($A$9:A32)+1))","v":23},8,"सम","सामान्य","लउ२","ग",null,null,{"$f":"IF('Entry sheet-1-hin'!A34=\"\",\"\",'Entry sheet-1-hin'!A34)","v":""},null,{"$f":"IF('Entry sheet-1-hin'!B34=\"\",\"\",'Entry sheet-1-hin'!B34)","v":""},null,null,null,null,null,null,{"$f":"IF('Entry sheet-1-hin'!C34=\"\",\"\",'Entry sheet-1-hin'!C34)","v":""},{"$f":"IF(K33=\"\",\"\",COUNTIF($AG$9:$AG$68,\"25बवि\")*1+COUNTIF($AG$9:$AG$68,\"25वनि\")*1+COUNTIF($AG$9:$AG$68,\"25अलउ\")*1+COUNTIF($AG$9:$AG$68,\"25लउ२\")*2+COUNTIF($AG$9:$AG$68,\"25लउ३\")*3+COUNTIF($AG$9:$AG$68,\"25दीउ४\")*4)","v":""},{"$f":"IF(chapterwise!G31=0,\"\",chapterwise!G31)","v":""},{"$f":"IF(chapterwise!H31=0,\"\",chapterwise!H31)","v":""},{"$f":"IF(chapterwise!I31=0,\"\",chapterwise!I31)","v":""},{"$f":"IF(chapterwise!J31=0,\"\",chapterwise!J31)","v":""},{"$f":"IF(chapterwise!K31=0,\"\",chapterwise!K31)","v":""},{"$f":"IF(chapterwise!L31=0,\"\",chapterwise!L31)","v":""},null,"ग","सामान्य","सम","लउ२","समसामान्यलउ२","लउ२ग","8लउ२","लउ२","8सम","8लउ२","8सामान्य","8समलउ२"]
[{"$f":"IF(B34=\"\",\"\",IF(G34=\"c\",\"C\",MAX($A$9:A33)+1))","v":24},17,"सम","सामान्य","लउ२","पूवा",null,"पूरकवाचन",{"$f":"IF('Entry sheet-1-hin'!A35=\"\",\"\",'Entry sheet-1-hin'!A35)","v":""},null,{"$f":"IF('Entry sheet-1-hin'!B35=\"\",\"\",'Entry sheet-1-hin'!B35)","v":""},null,null,null,null,null,null,{"$f":"IF('Entry sheet-1-hin'!C35=\"\",\"\",'Entry sheet-1-hin'!C35)","v":""},{"$f":"IF(K34=\"\",\"\",COUNTIF($AG$9:$AG$68,\"26बवि\")*1+COUNTIF($AG$9:$AG$68,\"26वनि\")*1+COUNTIF($AG$9:$AG$68,\"26अलउ\")*1+COUNTIF($AG$9:$AG$68,\"26लउ२\")*2+COUNTIF($AG$9:$AG$68,\"26लउ३\")*3+COUNTIF($AG$9:$AG$68,\"26दीउ४\")*4)","v":""},{"$f":"IF(chapterwise!G32=0,\"\",chapterwise!G32)","v":""},{"$f":"IF(chapterwise!H32=0,\"\",chapterwise!H32)","v":""},{"$f":"IF(chapterwise!I32=0,\"\",chapterwise!I32)","v":""},{"$f":"IF(chapterwise!J32=0,\"\",chapterwise!J32)","v":""},{"$f":"IF(chapterwise!K32=0,\"\",chapterwise!K32)","v":""},{"$f":"IF(chapterwise!L32=0,\"\",chapterwise!L32)","v":""},null,"पूवा","सामान्य","सम","लउ२","समसामान्यलउ२","लउ२पूवा","17लउ२","लउ२","17सम","17लउ२","17सामान्य","17समलउ२"]
[{"$f":"IF(B35=\"\",\"\",IF(G35=\"c\",\"C\",MAX($A$9:A34)+1))","v":"C"},17,"सम","सामान्य","लउ२","पूवा","C","चुननेवाला",{"$f":"IF('Entry sheet-1-hin'!A36=\"\",\"\",'Entry sheet-1-hin'!A36)","v":""},null,{"$f":"IF('Entry sheet-1-hin'!B36=\"\",\"\",'Entry sheet-1-hin'!B36)","v":""},null,null,null,null,null,null,{"$f":"IF('Entry sheet-1-hin'!C36=\"\",\"\",'Entry sheet-1-hin'!C36)","v":""},{"$f":"IF(K35=\"\",\"\",COUNTIF($AG$9:$AG$68,\"27बवि\")*1+COUNTIF($AG$9:$AG$68,\"27वनि\")*1+COUNTIF($AG$9:$AG$68,\"27अलउ\")*1+COUNTIF($AG$9:$AG$68,\"27लउ२\")*2+COUNTIF($AG$9:$AG$68,\"27लउ३\")*3+COUNTIF($AG$9:$AG$68,\"27दीउ४\")*4)","v":""},{"$f":"IF(chapterwise!G33=0,\"\",chapterwise!G33)","v":""},{"$f":"IF(chapterwise!H33=0,\"\",chapterwise!H33)","v":""},{"$f":"IF(chapterwise!I33=0,\"\",chapterwise!I33)","v":""},{"$f":"IF(chapterwise!J33=0,\"\",chapterwise!J33)","v":""},{"$f":"IF(chapterwise!K33=0,\"\",chapterwise!K33)","v":""},{"$f":"IF(chapterwise!L33=0,\"\",chapterwise!L33)","v":""},null,"पूवाC","सामान्यC","समC","लउ२C","समसामान्यलउ२C","लउ२पूवाC","17लउ२C","लउ२C","17समC","17लउ२C","17सामान्यC","17समलउ२C"]
[{"$f":"IF(B36=\"\",\"\",IF(G36=\"c\",\"C\",MAX($A$9:A35)+1))","v":25},17,"सम","कठिन","लउ२","पूवा",null,"पूरकवाचन",{"$f":"IF('Entry sheet-1-hin'!A37=\"\",\"\",'Entry sheet-1-hin'!A37)","v":""},null,{"$f":"IF('Entry sheet-1-hin'!B37=\"\",\"\",'Entry sheet-1-hin'!B37)","v":""},null,null,null,null,null,null,{"$f":"IF('Entry sheet-1-hin'!C37=\"\",\"\",'Entry sheet-1-hin'!C37)","v":""},{"$f":"IF(K36=\"\",\"\",COUNTIF($AG$9:$AG$68,\"28बवि\")*1+COUNTIF($AG$9:$AG$68,\"28वनि\")*1+COUNTIF($AG$9:$AG$68,\"28अलउ\")*1+COUNTIF($AG$9:$AG$68,\"28लउ२\")*2+COUNTIF($AG$9:$AG$68,\"28लउ३\")*3+COUNTIF($AG$9:$AG$68,\"28दीउ४\")*4)","v":""},{"$f":"IF(chapterwise!G34=0,\"\",chapterwise!G34)","v":""},{"$f":"IF(chapterwise!H34=0,\"\",chapterwise!H34)","v":""},{"$f":"IF(chapterwise!I34=0,\"\",chapterwise!I34)","v":""},{"$f":"IF(chapterwise!J34=0,\"\",chapterwise!J34)","v":""},{"$f":"IF(chapterwise!K34=0,\"\",chapterwise!K34)","v":""},{"$f":"IF(chapterwise!L34=0,\"\",chapterwise!L34)","v":""},null,"पूवा","कठिन","सम","लउ२","समकठिनलउ२","लउ२पूवा","17लउ२","लउ२","17सम","17लउ२","17कठिन","17समलउ२"]
[{"$f":"IF(B37=\"\",\"\",IF(G37=\"c\",\"C\",MAX($A$9:A36)+1))","v":"C"},17,"सम","सामान्य","लउ२","पूवा","C","चुननेवाला",{"$f":"IF('Entry sheet-1-hin'!A38=\"\",\"\",'Entry sheet-1-hin'!A38)","v":""},null,{"$f":"IF('Entry sheet-1-hin'!B38=\"\",\"\",'Entry sheet-1-hin'!B38)","v":""},null,null,null,null,null,null,{"$f":"IF('Entry sheet-1-hin'!C38=\"\",\"\",'Entry sheet-1-hin'!C38)","v":""},{"$f":"IF(K37=\"\",\"\",COUNTIF($AG$9:$AG$68,\"29बवि\")*1+COUNTIF($AG$9:$AG$68,\"29वनि\")*1+COUNTIF($AG$9:$AG$68,\"29अलउ\")*1+COUNTIF($AG$9:$AG$68,\"29लउ२\")*2+COUNTIF($AG$9:$AG$68,\"29लउ३\")*3+COUNTIF($AG$9:$AG$68,\"29दीउ४\")*4)","v":""},{"$f":"IF(chapterwise!G35=0,\"\",chapterwise!G35)","v":""},{"$f":"IF(chapterwise!H35=0,\"\",chapterwise!H35)","v":""},{"$f":"IF(chapterwise!I35=0,\"\",chapterwise!I35)","v":""},{"$f":"IF(chapterwise!J35=0,\"\",chapterwise!J35)","v":""},{"$f":"IF(chapterwise!K35=0,\"\",chapterwise!K35)","v":""},{"$f":"IF(chapterwise!L35=0,\"\",chapterwise!L35)","v":""},null,"पूवाC","सामान्यC","समC","लउ२C","समसामान्यलउ२C","लउ२पूवाC","17लउ२C","लउ२C","17समC","17लउ२C","17सामान्यC","17समलउ२C"]
[{"$f":"IF(B38=\"\",\"\",IF(G38=\"c\",\"C\",MAX($A$9:A37)+1))","v":26},4,"स्म","सरल","लउ३","ग",null,"3 अंकवाले",{"$f":"IF('Entry sheet-1-hin'!A39=\"\",\"\",'Entry sheet-1-hin'!A39)","v":""},null,{"$f":"IF('Entry sheet-1-hin'!B39=\"\",\"\",'Entry sheet-1-hin'!B39)","v":""},null,null,null,null,null,null,{"$f":"IF('Entry sheet-1-hin'!C39=\"\",\"\",'Entry sheet-1-hin'!C39)","v":""},{"$f":"IF(K38=\"\",\"\",COUNTIF($AG$9:$AG$68,\"30बवि\")*1+COUNTIF($AG$9:$AG$68,\"30वनि\")*1+COUNTIF($AG$9:$AG$68,\"30अलउ\")*1+COUNTIF($AG$9:$AG$68,\"30लउ२\")*2+COUNTIF($AG$9:$AG$68,\"30लउ३\")*3+COUNTIF($AG$9:$AG$68,\"30दीउ४\")*4)","v":""},{"$f":"IF(chapterwise!G36=0,\"\",chapterwise!G36)","v":""},{"$f":"IF(chapterwise!H36=0,\"\",chapterwise!H36)","v":""},{"$f":"IF(chapterwise!I36=0,\"\",chapterwise!I36)","v":""},{"$f":"IF(chapterwise!J36=0,\"\",chapterwise!J36)","v":""},{"$f":"IF(chapterwise!K36=0,\"\",chapterwise!K36)","v":""},{"$f":"IF(chapterwise!L36=0,\"\",chapterwise!L36)","v":""},null,"ग","सरल","स्म","लउ३","स्मसरललउ३","लउ३ग","4लउ३","लउ३","4स्म","4लउ३","4सरल","4स्मलउ३"]
[{"$f":"IF(B39=\"\",\"\",IF(G39=\"c\",\"C\",MAX($A$9:A38)+1))","v":27},7,"सम","सामान्य","लउ३","ग",null,null,{"$f":"IF('Entry sheet-1-hin'!A40=\"\",\"\",'Entry sheet-1-hin'!A40)","v":""},null,{"$f":"IF('Entry sheet-1-hin'!B40=\"\",\"\",'Entry sheet-1-hin'!B40)","v":""},null,null,null,null,null,null,{"$f":"IF('Entry sheet-1-hin'!C40=\"\",\"\",'Entry sheet-1-hin'!C40)","v":""},{"$f":"IF(K39=\"\",\"\",COUNTIF($AG$9:$AG$68,\"31बवि\")*1+COUNTIF($AG$9:$AG$68,\"31वनि\")*1+COUNTIF($AG$9:$AG$68,\"31अलउ\")*1+COUNTIF($AG$9:$AG$68,\"31लउ२\")*2+COUNTIF($AG$9:$AG$68,\"31लउ३\")*3+COUNTIF($AG$9:$AG$68,\"31दीउ४\")*4)","v":""},{"$f":"IF(chapterwise!G37=0,\"\",chapterwise!G37)","v":""},{"$f":"IF(chapterwise!H37=0,\"\",chapterwise!H37)","v":""},{"$f":"IF(chapterwise!I37=0,\"\",chapterwise!I37)","v":""},{"$f":"IF(chapterwise!J37=0,\"\",chapterwise!J37)","v":""},{"$f":"IF(chapterwise!K37=0,\"\",chapterwise!K37)","v":""},{"$f":"IF(chapterwise!L37=0,\"\",chapterwise!L37)","v":""},null,"ग","सामान्य","सम","लउ३","समसामान्यलउ३","लउ३ग","7लउ३","लउ३","7सम","7लउ३","7सामान्य","7समलउ३"]
[{"$f":"IF(B40=\"\",\"\",IF(G40=\"c\",\"C\",MAX($A$9:A39)+1))","v":28},8,"सम","कठिन","लउ३","ग",null,null,{"$f":"IF('Entry sheet-1-hin'!A41=\"\",\"\",'Entry sheet-1-hin'!A41)","v":""},null,{"$f":"IF('Entry sheet-1-hin'!B41=\"\",\"\",'Entry sheet-1-hin'!B41)","v":""},null,null,null,null,null,null,{"$f":"IF('Entry sheet-1-hin'!C41=\"\",\"\",'Entry sheet-1-hin'!C41)","v":""},{"$f":"IF(K40=\"\",\"\",COUNTIF($AG$9:$AG$68,\"32बवि\")*1+COUNTIF($AG$9:$AG$68,\"32वनि\")*1+COUNTIF($AG$9:$AG$68,\"32अलउ\")*1+COUNTIF($AG$9:$AG$68,\"32लउ२\")*2+COUNTIF($AG$9:$AG$68,\"32लउ३\")*3+COUNTIF($AG$9:$AG$68,\"32दीउ४\")*4)","v":""},{"$f":"IF(chapterwise!G38=0,\"\",chapterwise!G38)","v":""},{"$f":"IF(chapterwise!H38=0,\"\",chapterwise!H38)","v":""},{"$f":"IF(chapterwise!I38=0,\"\",chapterwise!I38)","v":""},{"$f":"IF(chapterwise!J38=0,\"\",chapterwise!J38)","v":""},{"$f":"IF(chapterwise!K38=0,\"\",chapterwise!K38)","v":""},{"$f":"IF(chapterwise!L38=0,\"\",chapterwise!L38)","v":""},null,"ग","कठिन","सम","लउ३","समकठिनलउ३","लउ३ग","8लउ३","लउ३","8सम","8लउ३","8कठिन","8समलउ३"]
[{"$f":"IF(B41=\"\",\"\",IF(G41=\"c\",\"C\",MAX($A$9:A40)+1))","v":29},2,"रस","कठिन","लउ३","प",null,null,{"$f":"IF('Entry sheet-1-hin'!A42=\"\",\"\",'Entry sheet-1-hin'!A42)","v":""},null,{"$f":"IF('Entry sheet-1-hin'!B42=\"\",\"\",'Entry sheet-1-hin'!B42)","v":""},null,null,null,null,null,null,{"$f":"IF('Entry sheet-1-hin'!C42=\"\",\"\",'Entry sheet-1-hin'!C42)","v":""},{"$f":"IF(K41=\"\",\"\",COUNTIF($AG$9:$AG$68,\"33बवि\")*1+COUNTIF($AG$9:$AG$68,\"33वनि\")*1+COUNTIF($AG$9:$AG$68,\"33अलउ\")*1+COUNTIF($AG$9:$AG$68,\"33लउ२\")*2+COUNTIF($AG$9:$AG$68,\"33लउ३\")*3+COUNTIF($AG$9:$AG$68,\"33दीउ४\")*4)","v":""},{"$f":"IF(chapterwise!G39=0,\"\",chapterwise!G39)","v":""},{"$f":"IF(chapterwise!H39=0,\"\",chapterwise!H39)","v":""},{"$f":"IF(chapterwise!I39=0,\"\",chapterwise!I39)","v":""},{"$f":"IF(chapterwise!J39=0,\"\",chapterwise!J39)","v":""},{"$f":"IF(chapterwise!K39=0,\"\",chapterwise!K39)","v":""},{"$f":"IF(chapterwise!L39=0,\"\",chapterwise!L39)","v":""},null,"प","कठिन","रस","लउ३","रसकठिनलउ३","लउ३प","2लउ३","लउ३","2रस","2लउ३","2कठिन","2रसलउ३"]
[{"$f":"IF(B42=\"\",\"\",IF(G42=\"c\",\"C\",MAX($A$9:A41)+1))","v":30},3,"अ","सरल","दीउ४","ग",null,"4 अंक",{"$f":"IF('Entry sheet-1-hin'!A43=\"\",\"\",'Entry sheet-1-hin'!A43)","v":""},null,{"$f":"IF('Entry sheet-1-hin'!B43=\"\",\"\",'Entry sheet-1-hin'!B43)","v":""},null,null,null,null,null,null,{"$f":"IF('Entry sheet-1-hin'!C43=\"\",\"\",'Entry sheet-1-hin'!C43)","v":""},{"$f":"IF(K42=\"\",\"\",COUNTIF($AG$9:$AG$68,\"34बवि\")*1+COUNTIF($AG$9:$AG$68,\"34वनि\")*1+COUNTIF($AG$9:$AG$68,\"34अलउ\")*1+COUNTIF($AG$9:$AG$68,\"34लउ२\")*2+COUNTIF($AG$9:$AG$68,\"34लउ३\")*3+COUNTIF($AG$9:$AG$68,\"34दीउ४\")*4)","v":""},{"$f":"IF(chapterwise!G40=0,\"\",chapterwise!G40)","v":""},{"$f":"IF(chapterwise!H40=0,\"\",chapterwise!H40)","v":""},{"$f":"IF(chapterwise!I40=0,\"\",chapterwise!I40)","v":""},{"$f":"IF(chapterwise!J40=0,\"\",chapterwise!J40)","v":""},{"$f":"IF(chapterwise!K40=0,\"\",chapterwise!K40)","v":""},{"$f":"IF(chapterwise!L40=0,\"\",chapterwise!L40)","v":""},null,"ग","सरल","अ","दीउ४","असरलदीउ४","दीउ४ग","3दीउ४","दीउ४","3अ","3दीउ४","3सरल","3अदीउ४"]
[{"$f":"IF(B43=\"\",\"\",IF(G43=\"c\",\"C\",MAX($A$9:A42)+1))","v":"C"},7,"अ","कठिन","दीउ४","ग","C","चुननेवाला",{"$f":"IF('Entry sheet-1-hin'!A44=\"\",\"\",'Entry sheet-1-hin'!A44)","v":""},null,{"$f":"IF('Entry sheet-1-hin'!B44=\"\",\"\",'Entry sheet-1-hin'!B44)","v":""},null,null,null,null,null,null,{"$f":"IF('Entry sheet-1-hin'!C44=\"\",\"\",'Entry sheet-1-hin'!C44)","v":""},{"$f":"IF(K43=\"\",\"\",COUNTIF($AG$9:$AG$68,\"35बवि\")*1+COUNTIF($AG$9:$AG$68,\"35वनि\")*1+COUNTIF($AG$9:$AG$68,\"35अलउ\")*1+COUNTIF($AG$9:$AG$68,\"35लउ२\")*2+COUNTIF($AG$9:$AG$68,\"35लउ३\")*3+COUNTIF($AG$9:$AG$68,\"35दीउ४\")*4)","v":""},{"$f":"IF(chapterwise!G41=0,\"\",chapterwise!G41)","v":""},{"$f":"IF(chapterwise!H41=0,\"\",chapterwise!H41)","v":""},{"$f":"IF(chapterwise!I41=0,\"\",chapterwise!I41)","v":""},{"$f":"IF(chapterwise!J41=0,\"\",chapterwise!J41)","v":""},{"$f":"IF(chapterwise!K41=0,\"\",chapterwise!K41)","v":""},{"$f":"IF(chapterwise!L41=0,\"\",chapterwise!L41)","v":""},null,"गC","कठिनC","अC","दीउ४C","अकठिनदीउ४C","दीउ४गC","7दीउ४C","दीउ४C","7अC","7दीउ४C","7कठिनC","7अदीउ४C"]
[{"$f":"IF(B44=\"\",\"\",IF(G44=\"c\",\"C\",MAX($A$9:A43)+1))","v":31},6,"स्म","सामान्य","दीउ४","प",null,"4 अंक",{"$f":"IF('Entry sheet-1-hin'!A45=\"\",\"\",'Entry sheet-1-hin'!A45)","v":""},null,{"$f":"IF('Entry sheet-1-hin'!B45=\"\",\"\",'Entry sheet-1-hin'!B45)","v":""},null,null,null,null,null,null,{"$f":"IF('Entry sheet-1-hin'!C45=\"\",\"\",'Entry sheet-1-hin'!C45)","v":""},{"$f":"IF(K44=\"\",\"\",COUNTIF($AG$9:$AG$68,\"36बवि\")*1+COUNTIF($AG$9:$AG$68,\"36वनि\")*1+COUNTIF($AG$9:$AG$68,\"36अलउ\")*1+COUNTIF($AG$9:$AG$68,\"36लउ२\")*2+COUNTIF($AG$9:$AG$68,\"36लउ३\")*3+COUNTIF($AG$9:$AG$68,\"36दीउ४\")*4)","v":""},{"$f":"IF(chapterwise!G42=0,\"\",chapterwise!G42)","v":""},{"$f":"IF(chapterwise!H42=0,\"\",chapterwise!H42)","v":""},{"$f":"IF(chapterwise!I42=0,\"\",chapterwise!I42)","v":""},{"$f":"IF(chapterwise!J42=0,\"\",chapterwise!J42)","v":""},{"$f":"IF(chapterwise!K42=0,\"\",chapterwise!K42)","v":""},{"$f":"IF(chapterwise!L42=0,\"\",chapterwise!L42)","v":""},null,"प","सामान्य","स्म","दीउ४","स्मसामान्यदीउ४","दीउ४प","6दीउ४","दीउ४","6स्म","6दीउ४","6सामान्य","6स्मदीउ४"]
[{"$f":"IF(B45=\"\",\"\",IF(G45=\"c\",\"C\",MAX($A$9:A44)+1))","v":"C"},2,"स्म","सामान्य","दीउ४","प","C","चुननेवाला",{"$f":"IF('Entry sheet-1-hin'!A46=\"\",\"\",'Entry sheet-1-hin'!A46)","v":""},null,{"$f":"IF('Entry sheet-1-hin'!B46=\"\",\"\",'Entry sheet-1-hin'!B46)","v":""},null,null,null,null,null,null,{"$f":"IF('Entry sheet-1-hin'!C46=\"\",\"\",'Entry sheet-1-hin'!C46)","v":""},{"$f":"IF(K45=\"\",\"\",COUNTIF($AG$9:$AG$68,\"37बवि\")*1+COUNTIF($AG$9:$AG$68,\"37वनि\")*1+COUNTIF($AG$9:$AG$68,\"37अलउ\")*1+COUNTIF($AG$9:$AG$68,\"37लउ२\")*2+COUNTIF($AG$9:$AG$68,\"37लउ३\")*3+COUNTIF($AG$9:$AG$68,\"37दीउ४\")*4)","v":""},{"$f":"IF(chapterwise!G43=0,\"\",chapterwise!G43)","v":""},{"$f":"IF(chapterwise!H43=0,\"\",chapterwise!H43)","v":""},{"$f":"IF(chapterwise!I43=0,\"\",chapterwise!I43)","v":""},{"$f":"IF(chapterwise!J43=0,\"\",chapterwise!J43)","v":""},{"$f":"IF(chapterwise!K43=0,\"\",chapterwise!K43)","v":""},{"$f":"IF(chapterwise!L43=0,\"\",chapterwise!L43)","v":""},null,"पC","सामान्यC","स्मC","दीउ४C","स्मसामान्यदीउ४C","दीउ४पC","2दीउ४C","दीउ४C","2स्मC","2दीउ४C","2सामान्यC","2स्मदीउ४C"]
[{"$f":"IF(B46=\"\",\"\",IF(G46=\"c\",\"C\",MAX($A$9:A45)+1))","v":32},1,"सम","सामान्य","बवि","व्या",null,"बहुविकल्पीय ( व्याकरण)",{"$f":"IF('Entry sheet-1-hin'!A47=\"\",\"\",'Entry sheet-1-hin'!A47)","v":""},null,{"$f":"IF('Entry sheet-1-hin'!B47=\"\",\"\",'Entry sheet-1-hin'!B47)","v":""},null,null,null,null,null,null,{"$f":"IF('Entry sheet-1-hin'!C47=\"\",\"\",'Entry sheet-1-hin'!C47)","v":""},{"$f":"IF(K46=\"\",\"\",COUNTIF($AG$9:$AG$68,\"38बवि\")*1+COUNTIF($AG$9:$AG$68,\"38वनि\")*1+COUNTIF($AG$9:$AG$68,\"38अलउ\")*1+COUNTIF($AG$9:$AG$68,\"38लउ२\")*2+COUNTIF($AG$9:$AG$68,\"38लउ३\")*3+COUNTIF($AG$9:$AG$68,\"38दीउ४\")*4)","v":""},{"$f":"IF(chapterwise!G44=0,\"\",chapterwise!G44)","v":""},{"$f":"IF(chapterwise!H44=0,\"\",chapterwise!H44)","v":""},{"$f":"IF(chapterwise!I44=0,\"\",chapterwise!I44)","v":""},{"$f":"IF(chapterwise!J44=0,\"\",chapterwise!J44)","v":""},{"$f":"IF(chapterwise!K44=0,\"\",chapterwise!K44)","v":""},{"$f":"IF(chapterwise!L44=0,\"\",chapterwise!L44)","v":""},null,"व्या","सामान्य","सम","बवि","समसामान्यबवि","बविव्या","1बवि","बवि","1सम","1बवि","1सामान्य","1समबवि"]
[{"$f":"IF(B47=\"\",\"\",IF(G47=\"c\",\"C\",MAX($A$9:A46)+1))","v":33},1,"सम","सामान्य","बवि","व्या",null,null,{"$f":"IF('Entry sheet-1-hin'!A48=\"\",\"\",'Entry sheet-1-hin'!A48)","v":""},null,{"$f":"IF('Entry sheet-1-hin'!B48=\"\",\"\",'Entry sheet-1-hin'!B48)","v":""},null,null,null,null,null,null,{"$f":"IF('Entry sheet-1-hin'!C48=\"\",\"\",'Entry sheet-1-hin'!C48)","v":""},{"$f":"IF(K47=\"\",\"\",COUNTIF($AG$9:$AG$68,\"39बवि\")*1+COUNTIF($AG$9:$AG$68,\"39वनि\")*1+COUNTIF($AG$9:$AG$68,\"39अलउ\")*1+COUNTIF($AG$9:$AG$68,\"39लउ२\")*2+COUNTIF($AG$9:$AG$68,\"39लउ३\")*3+COUNTIF($AG$9:$AG$68,\"39दीउ४\")*4)","v":""},{"$f":"IF(chapterwise!G45=0,\"\",chapterwise!G45)","v":""},{"$f":"IF(chapterwise!H45=0,\"\",chapterwise!H45)","v":""},{"$f":"IF(chapterwise!I45=0,\"\",chapterwise!I45)","v":""},{"$f":"IF(chapterwise!J45=0,\"\",chapterwise!J45)","v":""},{"$f":"IF(chapterwise!K45=0,\"\",chapterwise!K45)","v":""},{"$f":"IF(chapterwise!L45=0,\"\",chapterwise!L45)","v":""},null,"व्या","सामान्य","सम","बवि","समसामान्यबवि","बविव्या","1बवि","बवि","1सम","1बवि","1सामान्य","1समबवि"]
[{"$f":"IF(B48=\"\",\"\",IF(G48=\"c\",\"C\",MAX($A$9:A47)+1))","v":34},1,"सम","सामान्य","बवि","व्या",null,null,{"$f":"IF('Entry sheet-1-hin'!A49=\"\",\"\",'Entry sheet-1-hin'!A49)","v":""},null,{"$f":"IF('Entry sheet-1-hin'!B49=\"\",\"\",'Entry sheet-1-hin'!B49)","v":""},null,null,null,null,null,null,{"$f":"IF('Entry sheet-1-hin'!C49=\"\",\"\",'Entry sheet-1-hin'!C49)","v":""},{"$f":"IF(K48=\"\",\"\",COUNTIF($AG$9:$AG$68,\"40बवि\")*1+COUNTIF($AG$9:$AG$68,\"40वनि\")*1+COUNTIF($AG$9:$AG$68,\"40अलउ\")*1+COUNTIF($AG$9:$AG$68,\"40लउ२\")*2+COUNTIF($AG$9:$AG$68,\"40लउ३\")*3+COUNTIF($AG$9:$AG$68,\"40दीउ४\")*4)","v":""},{"$f":"IF(chapterwise!G46=0,\"\",chapterwise!G46)","v":""},{"$f":"IF(chapterwise!H46=0,\"\",chapterwise!H46)","v":""},{"$f":"IF(chapterwise!I46=0,\"\",chapterwise!I46)","v":""},{"$f":"IF(chapterwise!J46=0,\"\",chapterwise!J46)","v":""},{"$f":"IF(chapterwise!K46=0,\"\",chapterwise!K46)","v":""},{"$f":"IF(chapterwise!L46=0,\"\",chapterwise!L46)","v":""},null,"व्या","सामान्य","सम","बवि","समसामान्यबवि","बविव्या","1बवि","बवि","1सम","1बवि","1सामान्य","1समबवि"]
[{"$f":"IF(B49=\"\",\"\",IF(G49=\"c\",\"C\",MAX($A$9:A48)+1))","v":35},1,"सम","सामान्य","बवि","व्या",null,null,{"$f":"IF('Entry sheet-1-hin'!A50=\"\",\"\",'Entry sheet-1-hin'!A50)","v":""},null,{"$f":"IF('Entry sheet-1-hin'!B50=\"\",\"\",'Entry sheet-1-hin'!B50)","v":""},null,null,null,null,null,null,{"$f":"IF('Entry sheet-1-hin'!C50=\"\",\"\",'Entry sheet-1-hin'!C50)","v":""},{"$f":"IF(K49=\"\",\"\",COUNTIF($AG$9:$AG$68,\"41बवि\")*1+COUNTIF($AG$9:$AG$68,\"41वनि\")*1+COUNTIF($AG$9:$AG$68,\"41अलउ\")*1+COUNTIF($AG$9:$AG$68,\"41लउ२\")*2+COUNTIF($AG$9:$AG$68,\"41लउ३\")*3+COUNTIF($AG$9:$AG$68,\"41दीउ४\")*4)","v":""},{"$f":"IF(chapterwise!G47=0,\"\",chapterwise!G47)","v":""},{"$f":"IF(chapterwise!H47=0,\"\",chapterwise!H47)","v":""},{"$f":"IF(chapterwise!I47=0,\"\",chapterwise!I47)","v":""},{"$f":"IF(chapterwise!J47=0,\"\",chapterwise!J47)","v":""},{"$f":"IF(chapterwise!K47=0,\"\",chapterwise!K47)","v":""},{"$f":"IF(chapterwise!L47=0,\"\",chapterwise!L47)","v":""},null,"व्या","सामान्य","सम","बवि","समसामान्यबवि","बविव्या","1बवि","बवि","1सम","1बवि","1सामान्य","1समबवि"]
[{"$f":"IF(B50=\"\",\"\",IF(G50=\"c\",\"C\",MAX($A$9:A49)+1))","v":36},1,"सम","सामान्य","बवि","व्या",null,null,{"$f":"IF('Entry sheet-1-hin'!A51=\"\",\"\",'Entry sheet-1-hin'!A51)","v":""},null,{"$f":"IF('Entry sheet-1-hin'!B51=\"\",\"\",'Entry sheet-1-hin'!B51)","v":""},null,null,null,null,null,null,{"$f":"IF('Entry sheet-1-hin'!C51=\"\",\"\",'Entry sheet-1-hin'!C51)","v":""},{"$f":"IF(K50=\"\",\"\",COUNTIF($AG$9:$AG$68,\"42बवि\")*1+COUNTIF($AG$9:$AG$68,\"42वनि\")*1+COUNTIF($AG$9:$AG$68,\"42अलउ\")*1+COUNTIF($AG$9:$AG$68,\"42लउ२\")*2+COUNTIF($AG$9:$AG$68,\"42लउ३\")*3+COUNTIF($AG$9:$AG$68,\"42दीउ४\")*4)","v":""},{"$f":"IF(chapterwise!G48=0,\"\",chapterwise!G48)","v":""},{"$f":"IF(chapterwise!H48=0,\"\",chapterwise!H48)","v":""},{"$f":"IF(chapterwise!I48=0,\"\",chapterwise!I48)","v":""},{"$f":"IF(chapterwise!J48=0,\"\",chapterwise!J48)","v":""},{"$f":"IF(chapterwise!K48=0,\"\",chapterwise!K48)","v":""},{"$f":"IF(chapterwise!L48=0,\"\",chapterwise!L48)","v":""},null,"व्या","सामान्य","सम","बवि","समसामान्यबवि","बविव्या","1बवि","बवि","1सम","1बवि","1सामान्य","1समबवि"]
[{"$f":"IF(B51=\"\",\"\",IF(G51=\"c\",\"C\",MAX($A$9:A50)+1))","v":37},1,"सम","सामान्य","बवि","व्या",null,null,{"$f":"IF('Entry sheet-1-hin'!A52=\"\",\"\",'Entry sheet-1-hin'!A52)","v":""},null,{"$f":"IF('Entry sheet-1-hin'!B52=\"\",\"\",'Entry sheet-1-hin'!B52)","v":""},null,null,null,null,null,null,{"$f":"IF('Entry sheet-1-hin'!C52=\"\",\"\",'Entry sheet-1-hin'!C52)","v":""},{"$f":"IF(K51=\"\",\"\",COUNTIF($AG$9:$AG$68,\"43बवि\")*1+COUNTIF($AG$9:$AG$68,\"43वनि\")*1+COUNTIF($AG$9:$AG$68,\"43अलउ\")*1+COUNTIF($AG$9:$AG$68,\"43लउ२\")*2+COUNTIF($AG$9:$AG$68,\"43लउ३\")*3+COUNTIF($AG$9:$AG$68,\"43दीउ४\")*4)","v":""},{"$f":"IF(chapterwise!G49=0,\"\",chapterwise!G49)","v":""},{"$f":"IF(chapterwise!H49=0,\"\",chapterwise!H49)","v":""},{"$f":"IF(chapterwise!I49=0,\"\",chapterwise!I49)","v":""},{"$f":"IF(chapterwise!J49=0,\"\",chapterwise!J49)","v":""},{"$f":"IF(chapterwise!K49=0,\"\",chapterwise!K49)","v":""},{"$f":"IF(chapterwise!L49=0,\"\",chapterwise!L49)","v":""},null,"व्या","सामान्य","सम","बवि","समसामान्यबवि","बविव्या","1बवि","बवि","1सम","1बवि","1सामान्य","1समबवि"]
[{"$f":"IF(B52=\"\",\"\",IF(G52=\"c\",\"C\",MAX($A$9:A51)+1))","v":38},1,"सम","सामान्य","बवि","व्या",null,null,{"$f":"IF('Entry sheet-1-hin'!A53=\"\",\"\",'Entry sheet-1-hin'!A53)","v":""},null,{"$f":"IF('Entry sheet-1-hin'!B53=\"\",\"\",'Entry sheet-1-hin'!B53)","v":""},null,null,null,null,null,null,{"$f":"IF('Entry sheet-1-hin'!C53=\"\",\"\",'Entry sheet-1-hin'!C53)","v":""},{"$f":"IF(K52=\"\",\"\",COUNTIF($AG$9:$AG$68,\"44बवि\")*1+COUNTIF($AG$9:$AG$68,\"44वनि\")*1+COUNTIF($AG$9:$AG$68,\"44अलउ\")*1+COUNTIF($AG$9:$AG$68,\"44लउ२\")*2+COUNTIF($AG$9:$AG$68,\"44लउ३\")*3+COUNTIF($AG$9:$AG$68,\"44दीउ४\")*4)","v":""},{"$f":"IF(chapterwise!G50=0,\"\",chapterwise!G50)","v":""},{"$f":"IF(chapterwise!H50=0,\"\",chapterwise!H50)","v":""},{"$f":"IF(chapterwise!I50=0,\"\",chapterwise!I50)","v":""},{"$f":"IF(chapterwise!J50=0,\"\",chapterwise!J50)","v":""},{"$f":"IF(chapterwise!K50=0,\"\",chapterwise!K50)","v":""},{"$f":"IF(chapterwise!L50=0,\"\",chapterwise!L50)","v":""},null,"व्या","सामान्य","सम","बवि","समसामान्यबवि","बविव्या","1बवि","बवि","1सम","1बवि","1सामान्य","1समबवि"]
[{"$f":"IF(B53=\"\",\"\",IF(G53=\"c\",\"C\",MAX($A$9:A52)+1))","v":39},1,"सम","सरल","बवि","व्या",null,null,{"$f":"IF('Entry sheet-1-hin'!A54=\"\",\"\",'Entry sheet-1-hin'!A54)","v":""},null,{"$f":"IF('Entry sheet-1-hin'!B54=\"\",\"\",'Entry sheet-1-hin'!B54)","v":""},null,null,null,null,null,null,{"$f":"IF('Entry sheet-1-hin'!C54=\"\",\"\",'Entry sheet-1-hin'!C54)","v":""},{"$f":"IF(K53=\"\",\"\",COUNTIF($AG$9:$AG$68,\"45बवि\")*1+COUNTIF($AG$9:$AG$68,\"45वनि\")*1+COUNTIF($AG$9:$AG$68,\"45अलउ\")*1+COUNTIF($AG$9:$AG$68,\"45लउ२\")*2+COUNTIF($AG$9:$AG$68,\"45लउ३\")*3+COUNTIF($AG$9:$AG$68,\"45दीउ४\")*4)","v":""},{"$f":"IF(chapterwise!G51=0,\"\",chapterwise!G51)","v":""},{"$f":"IF(chapterwise!H51=0,\"\",chapterwise!H51)","v":""},{"$f":"IF(chapterwise!I51=0,\"\",chapterwise!I51)","v":""},{"$f":"IF(chapterwise!J51=0,\"\",chapterwise!J51)","v":""},{"$f":"IF(chapterwise!K51=0,\"\",chapterwise!K51)","v":""},{"$f":"IF(chapterwise!L51=0,\"\",chapterwise!L51)","v":""},null,"व्या","सरल","सम","बवि","समसरलबवि","बविव्या","1बवि","बवि","1सम","1बवि","1सरल","1समबवि"]
[{"$f":"IF(B54=\"\",\"\",IF(G54=\"c\",\"C\",MAX($A$9:A53)+1))","v":40},20,"अ","सामान्य","अलउ","र",null,"अपठित",{"$f":"IF('Entry sheet-1-hin'!A55=\"\",\"\",'Entry sheet-1-hin'!A55)","v":""},null,{"$f":"IF('Entry sheet-1-hin'!B55=\"\",\"\",'Entry sheet-1-hin'!B55)","v":""},null,null,null,null,null,null,{"$f":"IF('Entry sheet-1-hin'!C55=\"\",\"\",'Entry sheet-1-hin'!C55)","v":""},{"$f":"IF(K54=\"\",\"\",COUNTIF($AG$9:$AG$68,\"46बवि\")*1+COUNTIF($AG$9:$AG$68,\"46वनि\")*1+COUNTIF($AG$9:$AG$68,\"46अलउ\")*1+COUNTIF($AG$9:$AG$68,\"46लउ२\")*2+COUNTIF($AG$9:$AG$68,\"46लउ३\")*3+COUNTIF($AG$9:$AG$68,\"46दीउ४\")*4)","v":""},{"$f":"IF(chapterwise!G52=0,\"\",chapterwise!G52)","v":""},{"$f":"IF(chapterwise!H52=0,\"\",chapterwise!H52)","v":""},{"$f":"IF(chapterwise!I52=0,\"\",chapterwise!I52)","v":""},{"$f":"IF(chapterwise!J52=0,\"\",chapterwise!J52)","v":""},{"$f":"IF(chapterwise!K52=0,\"\",chapterwise!K52)","v":""},{"$f":"IF(chapterwise!L52=0,\"\",chapterwise!L52)","v":""},null,"र","सामान्य","अ","अलउ","असामान्यअलउ","अलउर","20अलउ","अलउ","20अ","20अलउ","20सामान्य","20अअलउ"]
[{"$f":"IF(B55=\"\",\"\",IF(G55=\"c\",\"C\",MAX($A$9:A54)+1))","v":41},20,"अ","सामान्य","अलउ","र",null,null,{"$f":"IF('Entry sheet-1-hin'!A56=\"\",\"\",'Entry sheet-1-hin'!A56)","v":""},null,{"$f":"IF('Entry sheet-1-hin'!B56=\"\",\"\",'Entry sheet-1-hin'!B56)","v":""},null,null,null,null,null,null,{"$f":"IF('Entry sheet-1-hin'!C56=\"\",\"\",'Entry sheet-1-hin'!C56)","v":""},{"$f":"IF(K55=\"\",\"\",COUNTIF($AG$9:$AG$68,\"47बवि\")*1+COUNTIF($AG$9:$AG$68,\"47वनि\")*1+COUNTIF($AG$9:$AG$68,\"47अलउ\")*1+COUNTIF($AG$9:$AG$68,\"47लउ२\")*2+COUNTIF($AG$9:$AG$68,\"47लउ३\")*3+COUNTIF($AG$9:$AG$68,\"47दीउ४\")*4)","v":""},{"$f":"IF(chapterwise!G53=0,\"\",chapterwise!G53)","v":""},{"$f":"IF(chapterwise!H53=0,\"\",chapterwise!H53)","v":""},{"$f":"IF(chapterwise!I53=0,\"\",chapterwise!I53)","v":""},{"$f":"IF(chapterwise!J53=0,\"\",chapterwise!J53)","v":""},{"$f":"IF(chapterwise!K53=0,\"\",chapterwise!K53)","v":""},{"$f":"IF(chapterwise!L53=0,\"\",chapterwise!L53)","v":""},null,"र","सामान्य","अ","अलउ","असामान्यअलउ","अलउर","20अलउ","अलउ","20अ","20अलउ","20सामान्य","20अअलउ"]
[{"$f":"IF(B56=\"\",\"\",IF(G56=\"c\",\"C\",MAX($A$9:A55)+1))","v":42},20,"अ","सामान्य","अलउ","र",null,null,{"$f":"IF('Entry sheet-1-hin'!A57=\"\",\"\",'Entry sheet-1-hin'!A57)","v":""},null,{"$f":"IF('Entry sheet-1-hin'!B57=\"\",\"\",'Entry sheet-1-hin'!B57)","v":""},null,null,null,null,null,null,{"$f":"IF('Entry sheet-1-hin'!C57=\"\",\"\",'Entry sheet-1-hin'!C57)","v":""},{"$f":"IF(K56=\"\",\"\",COUNTIF($AG$9:$AG$68,\"48बवि\")*1+COUNTIF($AG$9:$AG$68,\"48वनि\")*1+COUNTIF($AG$9:$AG$68,\"48अलउ\")*1+COUNTIF($AG$9:$AG$68,\"48लउ२\")*2+COUNTIF($AG$9:$AG$68,\"48लउ३\")*3+COUNTIF($AG$9:$AG$68,\"48दीउ४\")*4)","v":""},{"$f":"IF(chapterwise!G54=0,\"\",chapterwise!G54)","v":""},{"$f":"IF(chapterwise!H54=0,\"\",chapterwise!H54)","v":""},{"$f":"IF(chapterwise!I54=0,\"\",chapterwise!I54)","v":""},{"$f":"IF(chapterwise!J54=0,\"\",chapterwise!J54)","v":""},{"$f":"IF(chapterwise!K54=0,\"\",chapterwise!K54)","v":""},{"$f":"IF(chapterwise!L54=0,\"\",chapterwise!L54)","v":""},null,"र","सामान्य","अ","अलउ","असामान्यअलउ","अलउर","20अलउ","अलउ","20अ","20अलउ","20सामान्य","20अअलउ"]
[{"$f":"IF(B57=\"\",\"\",IF(G57=\"c\",\"C\",MAX($A$9:A56)+1))","v":43},20,"अ","सामान्य","अलउ","र",null,null,{"$f":"IF('Entry sheet-1-hin'!A58=\"\",\"\",'Entry sheet-1-hin'!A58)","v":""},null,{"$f":"IF('Entry sheet-1-hin'!B58=\"\",\"\",'Entry sheet-1-hin'!B58)","v":""},null,null,null,null,null,null,{"$f":"IF('Entry sheet-1-hin'!C58=\"\",\"\",'Entry sheet-1-hin'!C58)","v":""},{"$f":"IF(K57=\"\",\"\",COUNTIF($AG$9:$AG$68,\"49बवि\")*1+COUNTIF($AG$9:$AG$68,\"49वनि\")*1+COUNTIF($AG$9:$AG$68,\"49अलउ\")*1+COUNTIF($AG$9:$AG$68,\"49लउ२\")*2+COUNTIF($AG$9:$AG$68,\"49लउ३\")*3+COUNTIF($AG$9:$AG$68,\"49दीउ४\")*4)","v":""},{"$f":"IF(chapterwise!G55=0,\"\",chapterwise!G55)","v":""},{"$f":"IF(chapterwise!H55=0,\"\",chapterwise!H55)","v":""},{"$f":"IF(chapterwise!I55=0,\"\",chapterwise!I55)","v":""},{"$f":"IF(chapterwise!J55=0,\"\",chapterwise!J55)","v":""},{"$f":"IF(chapterwise!K55=0,\"\",chapterwise!K55)","v":""},{"$f":"IF(chapterwise!L55=0,\"\",chapterwise!L55)","v":""},null,"र","सामान्य","अ","अलउ","असामान्यअलउ","अलउर","20अलउ","अलउ","20अ","20अलउ","20सामान्य","20अअलउ"]
[{"$f":"IF(B58=\"\",\"\",IF(G58=\"c\",\"C\",MAX($A$9:A57)+1))","v":44},21,"अ","सरल","अलउ","र",null,"अनुवाद",{"$f":"IF('Entry sheet-1-hin'!A59=\"\",\"\",'Entry sheet-1-hin'!A59)","v":""},null,{"$f":"IF('Entry sheet-1-hin'!B59=\"\",\"\",'Entry sheet-1-hin'!B59)","v":""},null,null,null,null,null,null,{"$f":"IF('Entry sheet-1-hin'!C59=\"\",\"\",'Entry sheet-1-hin'!C59)","v":""},{"$f":"IF(K58=\"\",\"\",COUNTIF($AG$9:$AG$68,\"50बवि\")*1+COUNTIF($AG$9:$AG$68,\"50वनि\")*1+COUNTIF($AG$9:$AG$68,\"50अलउ\")*1+COUNTIF($AG$9:$AG$68,\"50लउ२\")*2+COUNTIF($AG$9:$AG$68,\"50लउ३\")*3+COUNTIF($AG$9:$AG$68,\"50दीउ४\")*4)","v":""},{"$f":"IF(chapterwise!G56=0,\"\",chapterwise!G56)","v":""},{"$f":"IF(chapterwise!H56=0,\"\",chapterwise!H56)","v":""},{"$f":"IF(chapterwise!I56=0,\"\",chapterwise!I56)","v":""},{"$f":"IF(chapterwise!J56=0,\"\",chapterwise!J56)","v":""},{"$f":"IF(chapterwise!K56=0,\"\",chapterwise!K56)","v":""},{"$f":"IF(chapterwise!L56=0,\"\",chapterwise!L56)","v":""},null,"र","सरल","अ","अलउ","असरलअलउ","अलउर","21अलउ","अलउ","21अ","21अलउ","21सरल","21अअलउ"]
[{"$f":"IF(B59=\"\",\"\",IF(G59=\"c\",\"C\",MAX($A$9:A58)+1))","v":45},21,"अ","सरल","अलउ","र",null,null,{"$f":"IF('Entry sheet-1-hin'!A60=\"\",\"\",'Entry sheet-1-hin'!A60)","v":""},null,{"$f":"IF('Entry sheet-1-hin'!B60=\"\",\"\",'Entry sheet-1-hin'!B60)","v":""},null,null,null,null,null,null,{"$f":"IF('Entry sheet-1-hin'!C60=\"\",\"\",'Entry sheet-1-hin'!C60)","v":""},{"$f":"IF(K69=\"\",\"\",COUNTIF($AG$9:$AG$68,\"51बवि\")*1+COUNTIF($AG$9:$AG$68,\"51वनि\")*1+COUNTIF($AG$9:$AG$68,\"51अलउ\")*1+COUNTIF($AG$9:$AG$68,\"51लउ२\")*2+COUNTIF($AG$9:$AG$68,\"51लउ३\")*3+COUNTIF($AG$9:$AG$68,\"51दीउ४\")*4)","v":""},null,null,null,null,null,null,null,"र","सरल","अ","अलउ","असरलअलउ","अलउर","21अलउ","अलउ","21अ","21अलउ","21सरल","21अअलउ"]
[{"$f":"IF(B60=\"\",\"\",IF(G60=\"c\",\"C\",MAX($A$9:A59)+1))","v":46},21,"अ","सरल","अलउ","र",null,null,{"$f":"IF('Entry sheet-1-hin'!A61=\"\",\"\",'Entry sheet-1-hin'!A61)","v":""},null,{"$f":"IF('Entry sheet-1-hin'!B61=\"\",\"\",'Entry sheet-1-hin'!B61)","v":""},null,null,null,null,null,null,{"$f":"IF('Entry sheet-1-hin'!C61=\"\",\"\",'Entry sheet-1-hin'!C61)","v":""},{"$f":"IF(K60=\"\",\"\",COUNTIF($AG$9:$AG$68,\"52बवि\")*1+COUNTIF($AG$9:$AG$68,\"52वनि\")*1+COUNTIF($AG$9:$AG$68,\"52अलउ\")*1+COUNTIF($AG$9:$AG$68,\"52लउ२\")*2+COUNTIF($AG$9:$AG$68,\"52लउ३\")*3+COUNTIF($AG$9:$AG$68,\"52दीउ४\")*4)","v":""},null,null,null,null,null,null,null,"र","सरल","अ","अलउ","असरलअलउ","अलउर","21अलउ","अलउ","21अ","21अलउ","21सरल","21अअलउ"]
[{"$f":"IF(B61=\"\",\"\",IF(G61=\"c\",\"C\",MAX($A$9:A60)+1))","v":47},21,"अ","सरल","अलउ","र",null,null,{"$f":"IF('Entry sheet-1-hin'!A62=\"\",\"\",'Entry sheet-1-hin'!A62)","v":""},null,{"$f":"IF('Entry sheet-1-hin'!B62=\"\",\"\",'Entry sheet-1-hin'!B62)","v":""},null,null,null,null,null,null,{"$f":"IF('Entry sheet-1-hin'!C62=\"\",\"\",'Entry sheet-1-hin'!C62)","v":""},{"$f":"IF(K61=\"\",\"\",COUNTIF($AG$9:$AG$68,\"53बवि\")*1+COUNTIF($AG$9:$AG$68,\"53वनि\")*1+COUNTIF($AG$9:$AG$68,\"53अलउ\")*1+COUNTIF($AG$9:$AG$68,\"53लउ२\")*2+COUNTIF($AG$9:$AG$68,\"53लउ३\")*3+COUNTIF($AG$9:$AG$68,\"53दीउ४\")*4)","v":""},null,null,null,null,null,null,null,"र","सरल","अ","अलउ","असरलअलउ","अलउर","21अलउ","अलउ","21अ","21अलउ","21सरल","21अअलउ"]
[{"$f":"IF(B62=\"\",\"\",IF(G62=\"c\",\"C\",MAX($A$9:A61)+1))","v":48},22,"अ","कठिन","दीउ४","र",null,"पत्र",{"$f":"IF('Entry sheet-1-hin'!A63=\"\",\"\",'Entry sheet-1-hin'!A63)","v":""},null,{"$f":"IF('Entry sheet-1-hin'!B63=\"\",\"\",'Entry sheet-1-hin'!B63)","v":""},null,null,null,null,null,null,{"$f":"IF('Entry sheet-1-hin'!C63=\"\",\"\",'Entry sheet-1-hin'!C63)","v":""},{"$f":"IF(K62=\"\",\"\",COUNTIF($AG$9:$AG$68,\"54बवि\")*1+COUNTIF($AG$9:$AG$68,\"54वनि\")*1+COUNTIF($AG$9:$AG$68,\"54अलउ\")*1+COUNTIF($AG$9:$AG$68,\"54लउ२\")*2+COUNTIF($AG$9:$AG$68,\"54लउ३\")*3+COUNTIF($AG$9:$AG$68,\"54दीउ४\")*4)","v":""},null,null,null,null,null,null,null,"र","कठिन","अ","दीउ४","अकठिनदीउ४","दीउ४र","22दीउ४","दीउ४","22अ","22दीउ४","22कठिन","22अदीउ४"]
[{"$f":"IF(B63=\"\",\"\",IF(G63=\"c\",\"C\",MAX($A$9:A62)+1))","v":"C"},22,"अ","कठिन","दीउ४","र","C","चुननेवाला",{"$f":"IF('Entry sheet-1-hin'!A64=\"\",\"\",'Entry sheet-1-hin'!A64)","v":""},null,{"$f":"IF('Entry sheet-1-hin'!B64=\"\",\"\",'Entry sheet-1-hin'!B64)","v":""},null,null,null,null,null,null,{"$f":"IF('Entry sheet-1-hin'!C64=\"\",\"\",'Entry sheet-1-hin'!C64)","v":""},{"$f":"IF(K63=\"\",\"\",COUNTIF($AG$9:$AG$68,\"55बवि\")*1+COUNTIF($AG$9:$AG$68,\"55वनि\")*1+COUNTIF($AG$9:$AG$68,\"55अलउ\")*1+COUNTIF($AG$9:$AG$68,\"55लउ२\")*2+COUNTIF($AG$9:$AG$68,\"55लउ३\")*3+COUNTIF($AG$9:$AG$68,\"55दीउ४\")*4)","v":""},null,null,null,null,null,null,null,"रC","कठिनC","अC","दीउ४C","अकठिनदीउ४C","दीउ४रC","22दीउ४C","दीउ४C","22अC","22दीउ४C","22कठिनC","22अदीउ४C"]
[{"$f":"IF(B64=\"\",\"\",IF(G64=\"c\",\"C\",MAX($A$9:A63)+1))","v":49},23,"अ","कठिन","दीउ४","र",null,"निबंध",{"$f":"IF('Entry sheet-1-hin'!A65=\"\",\"\",'Entry sheet-1-hin'!A65)","v":""},null,{"$f":"IF('Entry sheet-1-hin'!B65=\"\",\"\",'Entry sheet-1-hin'!B65)","v":""},null,null,null,null,null,null,{"$f":"IF('Entry sheet-1-hin'!C65=\"\",\"\",'Entry sheet-1-hin'!C65)","v":""},{"$f":"IF(K64=\"\",\"\",COUNTIF($AG$9:$AG$68,\"56बवि\")*1+COUNTIF($AG$9:$AG$68,\"56वनि\")*1+COUNTIF($AG$9:$AG$68,\"56अलउ\")*1+COUNTIF($AG$9:$AG$68,\"56लउ२\")*2+COUNTIF($AG$9:$AG$68,\"56लउ३\")*3+COUNTIF($AG$9:$AG$68,\"56दीउ४\")*4)","v":""},null,null,null,null,null,null,null,"र","कठिन","अ","दीउ४","अकठिनदीउ४","दीउ४र","23दीउ४","दीउ४","23अ","23दीउ४","23कठिन","23अदीउ४"]
[{"$f":"IF(B65=\"\",\"\",IF(G65=\"c\",\"C\",MAX($A$9:A64)+1))","v":"C"},23,"अ","कठिन","दीउ४","र","C","चुननेवाला",{"$f":"IF('Entry sheet-1-hin'!A66=\"\",\"\",'Entry sheet-1-hin'!A66)","v":""},null,{"$f":"IF('Entry sheet-1-hin'!B66=\"\",\"\",'Entry sheet-1-hin'!B66)","v":""},null,null,null,null,null,null,{"$f":"IF('Entry sheet-1-hin'!C66=\"\",\"\",'Entry sheet-1-hin'!C66)","v":""},{"$f":"IF(K65=\"\",\"\",COUNTIF($AG$9:$AG$68,\"57बवि\")*1+COUNTIF($AG$9:$AG$68,\"57वनि\")*1+COUNTIF($AG$9:$AG$68,\"57अलउ\")*1+COUNTIF($AG$9:$AG$68,\"57लउ२\")*2+COUNTIF($AG$9:$AG$68,\"57लउ३\")*3+COUNTIF($AG$9:$AG$68,\"57दीउ४\")*4)","v":""},null,null,null,null,null,null,null,"रC","कठिनC","अC","दीउ४C","अकठिनदीउ४C","दीउ४रC","23दीउ४C","दीउ४C","23अC","23दीउ४C","23कठिनC","23अदीउ४C"]
[{"$f":"IF(B66=\"\",\"\",IF(G66=\"c\",\"C\",MAX($A$9:A65)+1))","v":"C"},23,"अ","कठिन","दीउ४","र","C",null,{"$f":"IF('Entry sheet-1-hin'!A67=\"\",\"\",'Entry sheet-1-hin'!A67)","v":""},null,{"$f":"IF('Entry sheet-1-hin'!B67=\"\",\"\",'Entry sheet-1-hin'!B67)","v":""},null,null,null,null,null,null,{"$f":"IF('Entry sheet-1-hin'!C67=\"\",\"\",'Entry sheet-1-hin'!C67)","v":""},{"$f":"IF(K66=\"\",\"\",COUNTIF($AG$9:$AG$68,\"58बवि\")*1+COUNTIF($AG$9:$AG$68,\"58वनि\")*1+COUNTIF($AG$9:$AG$68,\"58अलउ\")*1+COUNTIF($AG$9:$AG$68,\"58लउ२\")*2+COUNTIF($AG$9:$AG$68,\"58लउ३\")*3+COUNTIF($AG$9:$AG$68,\"58दीउ४\")*4)","v":""},null,null,null,null,null,null,null,"रC","कठिनC","अC","दीउ४C","अकठिनदीउ४C","दीउ४रC","23दीउ४C","दीउ४C","23अC","23दीउ४C","23कठिनC","23अदीउ४C"]
[{"$f":"IF(B67=\"\",\"\",IF(G67=\"c\",\"C\",MAX($A$9:A66)+1))","v":""},null,null,null,null,null,null,null,{"$f":"IF('Entry sheet-1-hin'!A68=\"\",\"\",'Entry sheet-1-hin'!A68)","v":""},null,{"$f":"IF('Entry sheet-1-hin'!B68=\"\",\"\",'Entry sheet-1-hin'!B68)","v":""},null,null,null,null,null,null,{"$f":"IF('Entry sheet-1-hin'!C68=\"\",\"\",'Entry sheet-1-hin'!C68)","v":""},{"$f":"IF(K67=\"\",\"\",COUNTIF($AG$9:$AG$68,\"59बवि\")*1+COUNTIF($AG$9:$AG$68,\"59वनि\")*1+COUNTIF($AG$9:$AG$68,\"59अलउ\")*1+COUNTIF($AG$9:$AG$68,\"59लउ२\")*2+COUNTIF($AG$9:$AG$68,\"59लउ३\")*3+COUNTIF($AG$9:$AG$68,\"59दीउ४\")*4)","v":""},null,null,null,null,null,null,null,"","","","","","","","","","","",""]
[{"$f":"IF(B68=\"\",\"\",IF(G68=\"c\",\"C\",MAX($A$9:A67)+1))","v":""},null,null,null,null,null,null,null,{"$f":"IF('Entry sheet-1-hin'!A69=\"\",\"\",'Entry sheet-1-hin'!A69)","v":""},null,{"$f":"IF('Entry sheet-1-hin'!B69=\"\",\"\",'Entry sheet-1-hin'!B69)","v":""},null,null,null,null,null,null,{"$f":"IF('Entry sheet-1-hin'!C69=\"\",\"\",'Entry sheet-1-hin'!C69)","v":""},{"$f":"IF(K68=\"\",\"\",COUNTIF($AG$9:$AG$68,\"60बवि\")*1+COUNTIF($AG$9:$AG$68,\"60वनि\")*1+COUNTIF($AG$9:$AG$68,\"60अलउ\")*1+COUNTIF($AG$9:$AG$68,\"60लउ२\")*2+COUNTIF($AG$9:$AG$68,\"60लउ३\")*3+COUNTIF($AG$9:$AG$68,\"60दीउ४\")*4)","v":""},null,null,null,null,null,null,null,"","","","","","","","","","","",""]
[null,null,null,null,null,null,null,null,{"$f":"IF('Entry sheet-1-hin'!A70=\"\",\"\",'Entry sheet-1-hin'!A70)","v":"कुल"},null,null,null,null,null,null,null,null,{"$f":"IF('Entry sheet-1-hin'!C70=\"\",\"\",'Entry sheet-1-hin'!C70)","v":80},{"$f":"IF(S9=\"\",\"\",SUM(S9:S68))","v":80}]

{"sheet":"Entry sheet-3-hin","index":7,"n_rows":77,"n_cols":58,"rows_kept":77,"cut":false,"hidden":false,"merged":[[5,0,5,1],[6,0,6,1],[5,6,5,7],[6,6,6,7],[5,8,5,11],[0,18,0,19],[0,20,0,23],[3,20,3,23],[1,8,1,11],[2,8,2,11],[3,8,3,11],[4,8,4,11],[0,8,0,11],[0,12,0,13],[2,12,2,13],[3,12,3,13],[1,6,1,7],[2,6,2,7],[3,6,3,7],[4,6,4,7],[2,2,2,5],[3,2,3,5],[4,2,4,5],[5,2,5,5],[1,12,1,13],[1,0,1,1],[2,0,2,1],[3,0,3,1],[1,2,1,5],[0,2,0,5],[4,20,4,23],[4,12,4,13],[4,0,4,1],[1,20,1,23],[2,20,2,23],[0,0,0,1],[0,14,0,17],[1,14,1,17],[2,14,2,17],[3,14,3,17],[4,14,4,17],[1,18,1,19],[2,18,2,19],[3,18,3,19],[4,18,4,19],[0,6,0,7],[6,2,6,5],[12,2,12,5],[7,0,7,23],[8,0,8,1],[9,0,9,1],[10,0,10,1],[11,0,11,1],[6,8,6,11],[11,2,11,11],[11,12,11,21],[8,2,8,22],[9,2,9,22],[10,2,10,22],[5,20,5,23],[6,20,6,23],[5,12,5,13],[6,12,6,13],[5,14,5,17],[6,14,6,17],[5,18,5,19],[6,18,6,19],[26,6,26,23],[14,6,14,23],[15,6,15,23],[16,6,16,23],[17,6,17,23],[18,6,18,23],[19,6,19,14],[19,15,19,23],[20,6,20,14],[13,6,13,23],[27,6,27,23],[28,6,28,23],[29,6,29,23],[30,6,30,23],[31,6,31,23],[32,6,32,23],[33,6,33,23],[20,15,20,23],[21,6,21,14],[21,15,21,23],[22,6,22,14],[22,15,22,23],[25,6,25,23],[23,15,23,23],[24,15,24,23],[23,6,23,14],[24,6,24,14],[34,6,34,23],[35,6,35,23],[36,6,36,23],[37,6,37,23],[38,6,38,23],[39,6,39,23],[40,6,40,23],[41,6,41,23],[42,6,42,23],[59,6,59,23],[60,6,60,23],[43,6,43,23],[44,6,44,23],[45,6,45,23],[46,6,46,23],[47,6,47,23],[48,6,48,23],[49,6,49,23],[50,6,50,23],[51,6,51,23],[70,6,70,23],[71,6,71,23],[72,6,72,23],[73,6,73,23],[74,6,74,23],[75,6,75,23],[76,6,76,23],[12,6,12,23],[61,6,61,23],[62,6,62,23],[63,6,63,23],[64,6,64,23],[65,6,65,23],[66,6,66,23],[67,6,67,23],[68,6,68,23],[69,6,69,23],[52,6,52,23],[53,6,53,23],[54,6,54,23],[55,6,55,23],[56,6,56,23],[57,6,57,23],[58,6,58,23]]}
[]
[null,null,null,null,null,null,null,null,null,null,null,null,null,null,null,null,null,null,null,null,null,null,null,null,null,null,null,null,null,null,null,null,null,null,null,null,null,null,null,null,null,null,null,null,null,null,null,null,null,null,null,"स्म","सरल","बवि","ग",null,null,"C"]
[null,null,null,null,null,null,null,null,null,null,null,null,null,null,null,null,null,null,null,null,null,null,null,null,null,null,null,null,null,null,null,null,null,null,null,null,null,null,null,null,null,null,null,null,null,null,null,null,null,null,null,"सम","सामान्य","वनि","प"]
[null,null,null,null,null,null,null,null,null,null,null,null,null,null,null,null,null,null,null,null,null,null,null,null,null,null,null,null,null,null,null,null,null,null,null,null,null,null,null,null,null,null,null,null,null,null,null,null,null,null,null,"अ","कठिन","अलउ","व्या"]
[null,null,null,null,null,null,null,null,null,null,null,null,null,null,null,null,null,null,null,null,null,null,null,null,null,null,null,null,null,null,null,null,null,null,null,null,null,null,null,null,null,null,null,null,null,null,null,null,null,null,null,"रस",null,"लउ२","र"]
[null,null,null,null,null,null,null,null,null,null,null,null,null,null,null,null,null,null,null,null,null,null,null,null,null,null,null,null,null,null,null,null,null,null,null,null,null,null,null,null,null,null,null,null,null,null,null,null,null,null,null,null,null,"लउ३","पूवा"]
[null,null,null,null,null,null,null,null,null,null,null,null,null,null,null,null,null,null,null,null,null,null,null,null,null,null,null,null,null,null,null,null,null,null,null,null,null,null,null,null,null,null,null,null,null,null,null,null,null,null,null,null,null,"दीउ४"]
["उद्देश्‍यों के आधार पर कौन - सा प्रश्‍न किस उद्देश्‍य में आता है ? कुछ उदाहरण नीचे दिया गया है । इन प्रश्‍नों को आप तबदील कर सकते है । यह अनिवार्य नहीं है । मगर इससे  उद्देश्‍यों के आधार पर प्रश्‍न चुनने के लिए आसान होगा ।"]
[{"$f":"'Entry sheet-1-hin'!E10","v":"स्मरण रखना"},null,"पद्य, कौन,क्या,कब,कहाँ,किसमें,कौन सा,कितना,संज्ञा,सर्वनाम,लिंग,विशेषण,वचन,लेखनचिह्न आदि"]
[{"$f":"'Entry sheet-1-hin'!E11","v":"समझना"},null,"क्यों, कैसे, तुलना करना,अंतर बताना,संदर्भ,संधि,समास,प्रेरणार्थक क्रिया,मुहावरे,समानार्थक,विलोम आदि."]
[{"$f":"'Entry sheet-1-hin'!E12","v":"अभिव्यक्ति"},null,"पत्र,निबंध,किसे श्रेष्ठ मानते है? स्पष्ठ करो,पठित गद्य,अनुवाद,विवरण देना, अभिप्राय व्यक्त करना, ( दीर्घोत्तर प्रश्‍न)"]
[{"$f":"'Entry sheet-1-hin'!E13","v":"रसग्रहण"},null,"भावार्थ, कविता का आशय,कवि का आशय आदि",null,null,null,null,null,null,null,null,null,"प्रश्‍न पत्रिका के लिए प्रश्‍नों को नीचे चुन लीजिए\n",null,null,null,null,null,null,null,null,null,null,null,null,"PART+C","DIFF+C","OBJ+C","NO. OF QUESTIONS IN DIFF. TYPES","OBJECTIVES, DIFFICULTY LEVEL","PART OF THE SUBJECT","CHAPTER WISE MARKS CAL.","CHOICE","CHAPTER+OBJECTIVES","CHAPTER+QUESTIONS","CHAPTER+DIFFI","FINAL BLUE PRINT"]
["प्रश्‍न संख्या","पाठ की संख्या","पाठ की संख्या और प्रश्‍न का अभिकल्प",null,null,null,"c14 से F14 तक दिखनेवाले पाठों की संख्या और प्रश्‍नों के उद्देश्य, स्तर, प्रकार और विषय वस्तु के अधार पर नीचे प्रश्‍न चुन लीजिए "]
[{"$f":"'Entry sheet-2-hin'!A9","v":1},{"$f":"IF('Entry sheet-2-hin'!B9=\"\",\"\",'Entry sheet-2-hin'!B9)","v":2},{"$f":"IF('Entry sheet-2-hin'!C9=\"\",\"\",CONCATENATE(B14,'Entry sheet-2-hin'!C9))","v":"2स्म"},{"$f":"IF('Entry sheet-2-hin'!D9=\"\",\"\",CONCATENATE(B14,'Entry sheet-2-hin'!D9))","v":"2सरल"},{"$f":"IF('Entry sheet-2-hin'!E9=\"\",\"\",CONCATENATE(B14,'Entry sheet-2-hin'!E9))","v":"2अलउ"},{"$f":"IF('Entry sheet-2-hin'!F9=\"\",\"\",CONCATENATE(B14,'Entry sheet-2-hin'!F9))","v":"2ग"},"विमल इंदु की विशाल किरणें जगत को क्या दिखा रही हैं ? ",null,null,null,null,null,null,null,null,null,null,null,null,null,null,null,null,null,null,{"$f":"CONCATENATE(F14,L14)","v":"2ग"},{"$f":"CONCATENATE(D14,L14)","v":"2सरल"},{"$f":"CONCATENATE(C14,L14)","v":"2स्म"},{"$f":"CONCATENATE(E14,L14)","v":"2अलउ"},{"$f":"CONCATENATE(C14,D14,E14,L14)","v":"2स्म2सरल2अलउ"},{"$f":"CONCATENATE(E14,F14,L14)","v":"2अलउ2ग"},{"$f":"CONCATENATE(B14,E14,L14)","v":"22अलउ"},{"$f":"CONCATENATE(E14,L14)","v":"2अलउ"},{"$f":"CONCATENATE(B14,C14,L14)","v":"22स्म"},{"$f":"CONCATENATE(B14,E14,L14)","v":"22अलउ"},{"$f":"CONCATENATE(B14,D14,L14)","v":"22सरल"},{"$f":"CONCATENATE(B14,C14,E14,L14)","v":"22स्म2अलउ"}]
[{"$f":"IF(B15=\"\",\"\",IF(L15=\"c\",\"C\",MAX(A14:A14)+1))","v":2},{"$f":"IF('Entry sheet-2-hin'!B10=\"\",\"\",'Entry sheet-2-hin'!B10)","v":3},{"$f":"IF('Entry sheet-2-hin'!C10=\"\",\"\",CONCATENATE(B15,'Entry sheet-2-hin'!C10))","v":"3स्म"},{"$f":"IF('Entry sheet-2-hin'!D10=\"\",\"\",CONCATENATE(B15,'Entry sheet-2-hin'!D10))","v":"3सामान्य"},{"$f":"IF('Entry sheet-2-hin'!E10=\"\",\"\",CONCATENATE(B15,'Entry sheet-2-hin'!E10))","v":"3अलउ"},{"$f":"IF('Entry sheet-2-hin'!F10=\"\",\"\",CONCATENATE(B15,'Entry sheet-2-hin'!F10))","v":"3ग"},"कितने वर्ष की आयु में रविन्द्रनाथ अपने पिता की सम्पदाका दायित्व सम्भाले ?",null,null,null,null,null,null,null,null,null,null,null,null,null,null,null,null,null,null,{"$f":"CONCATENATE(F15,L15)","v":"3ग"},{"$f":"CONCATENATE(D15,L15)","v":"3सामान्य"},{"$f":"CONCATENATE(C15,L15)","v":"3स्म"},{"$f":"CONCATENATE(E15,L15)","v":"3अलउ"},{"$f":"CONCATENATE(C15,D15,E15,L15)","v":"3स्म3सामान्य3अलउ"},{"$f":"CONCATENATE(E15,F15,L15)","v":"3अलउ3ग"},{"$f":"CONCATENATE(B15,E15,L15)","v":"33अलउ"},{"$f":"CONCATENATE(E15,L15)","v":"3अलउ"},{"$f":"CONCATENATE(B15,C15,L15)","v":"33स्म"},{"$f":"CONCATENATE(B15,E15,L15)","v":"33अलउ"},{"$f":"CONCATENATE(B15,D15,L15)","v":"33सामान्य"},{"$f":"CONCATENATE(B15,C15,E15,L15)","v":"33स्म3अलउ"}]
[{"$f":"IF(B16=\"\",\"\",IF(L16=\"c\",\"C\",MAX($A$14:A15)+1))","v":3},{"$f":"IF('Entry sheet-2-hin'!B11=\"\",\"\",'Entry sheet-2-hin'!B11)","v":4},{"$f":"IF('Entry sheet-2-hin'!C11=\"\",\"\",CONCATENATE(B16,'Entry sheet-2-hin'!C11))","v":"4स्म"},{"$f":"IF('Entry sheet-2-hin'!D11=\"\",\"\",CONCATENATE(B16,'Entry sheet-2-hin'!D11))","v":"4सरल"},{"$f":"IF('Entry sheet-2-hin'!E11=\"\",\"\",CONCATENATE(B16,'Entry sheet-2-hin'!E11))","v":"4अलउ"},{"$f":"IF('Entry sheet-2-hin'!F11=\"\",\"\",CONCATENATE(B16,'Entry sheet-2-hin'!F11))","v":"4ग"},"एक दिन  नौकर साहुकार से क्या कहा ?",null,null,null,null,null,null,null,null,null,null,null,null,null,null,null,null,null,null,"4ग","4सरल","4स्म","4अलउ","4स्म4सरल4अलउ","4अलउ4ग","44अलउ","4अलउ","44स्म","44अलउ","44सरल","44स्म4अलउ"]
[{"$f":"IF(B17=\"\",\"\",IF(L17=\"c\",\"C\",MAX($A$14:A16)+1))","v":4},{"$f":"IF('Entry sheet-2-hin'!B12=\"\",\"\",'Entry sheet-2-hin'!B12)","v":5},{"$f":"IF('Entry sheet-2-hin'!C12=\"\",\"\",CONCATENATE(B17,'Entry sheet-2-hin'!C12))","v":"5सम"},{"$f":"IF('Entry sheet-2-hin'!D12=\"\",\"\",CONCATENATE(B17,'Entry sheet-2-hin'!D12))","v":"5सरल"},{"$f":"IF('Entry sheet-2-hin'!E12=\"\",\"\",CONCATENATE(B17,'Entry sheet-2-hin'!E12))","v":"5अलउ"},{"$f":"IF('Entry sheet-2-hin'!F12=\"\",\"\",CONCATENATE(B17,'Entry sheet-2-hin'!F12))","v":"5ग"},"किसके कारण जिंदजी के दृष्टिकोण बदल गया है ?                          ",null,null,null,null,null,null,null,null,null,null,null,null,null,null,null,null,null,null,"5ग","5सरल","5सम","5अलउ","5सम5सरल5अलउ","5अलउ5ग","55अलउ","5अलउ","55सम","55अलउ","55सरल","55सम5अलउ"]
[{"$f":"IF(B18=\"\",\"\",IF(L18=\"c\",\"C\",MAX($A$14:A17)+1))","v":5},{"$f":"IF('Entry sheet-2-hin'!B13=\"\",\"\",'Entry sheet-2-hin'!B13)","v":6},{"$f":"IF('Entry sheet-2-hin'!C13=\"\",\"\",CONCATENATE(B18,'Entry sheet-2-hin'!C13))","v":"6सम"},{"$f":"IF('Entry sheet-2-hin'!D13=\"\",\"\",CONCATENATE(B18,'Entry sheet-2-hin'!D13))","v":"6सरल"},{"$f":"IF('Entry sheet-2-hin'!E13=\"\",\"\",CONCATENATE(B18,'Entry sheet-2-hin'!E13))","v":"6अलउ"},{"$f":"IF('Entry sheet-2-hin'!F13=\"\",\"\",CONCATENATE(B18,'Entry sheet-2-hin'!F13))","v":"6प"},"हरे-भरे खेत कैसे लगते हैं ?                                                                             ",null,null,null,null,null,null,null,null,null,null,null,null,null,null,null,null,null,null,"6प","6सरल","6सम","6अलउ","6सम6सरल6अलउ","6अलउ6प","66अलउ","6अलउ","66सम","66अलउ","66सरल","66सम6अलउ"]
[{"$f":"IF(B19=\"\",\"\",IF(L19=\"c\",\"C\",MAX($A$14:A18)+1))","v":6},{"$f":"IF('Entry sheet-2-hin'!B14=\"\",\"\",'Entry sheet-2-hin'!B14)","v":7},{"$f":"IF('Entry sheet-2-hin'!C14=\"\",\"\",CONCATENATE(B19,'Entry sheet-2-hin'!C14))","v":"7स्म"},{"$f":"IF('Entry sheet-2-hin'!D14=\"\",\"\",CONCATENATE(B19,'Entry sheet-2-hin'!D14))","v":"7सामान्य"},{"$f":"IF('Entry sheet-2-hin'!E14=\"\",\"\",CONCATENATE(B19,'Entry sheet-2-hin'!E14))","v":"7अलउ"},{"$f":"IF('Entry sheet-2-hin'!F14=\"\",\"\",CONCATENATE(B19,'Entry sheet-2-hin'!F14))","v":"7ग"},"गिलहरी को किन-किन से बचाना एक समस्या बन गयी थी ?        ",null,null,null,null,null,null,null,null,null,null,null,null,null,null,null,null,null,null,"7ग","7सामान्य","7स्म","7अलउ","7स्म7सामान्य7अलउ","7अलउ7ग","77अलउ","7अलउ","77स्म","77अलउ","77सामान्य","77स्म7अलउ"]
[{"$f":"IF(B20=\"\",\"\",IF(L20=\"c\",\"C\",MAX($A$14:A19)+1))","v":7},{"$f":"IF('Entry sheet-2-hin'!B15=\"\",\"\",'Entry sheet-2-hin'!B15)","v":2},{"$f":"IF('Entry sheet-2-hin'!C15=\"\",\"\",CONCATENATE(B20,'Entry sheet-2-hin'!C15))","v":"2सम"},{"$f":"IF('Entry sheet-2-hin'!D15=\"\",\"\",CONCATENATE(B20,'Entry sheet-2-hin'!D15))","v":"2सरल"},{"$f":"IF('Entry sheet-2-hin'!E15=\"\",\"\",CONCATENATE(B20,'Entry sheet-2-hin'!E15))","v":"2वनि"},{"$f":"IF('Entry sheet-2-hin'!F15=\"\",\"\",CONCATENATE(B20,'Entry sheet-2-hin'!F15))","v":"2प"},"अनादि  तेरी  अनंत  माया     ",null,null,null,null,null,null,null,null,"आज साथ में",null,null,null,null,null,null,null,null,null,"2प","2सरल","2सम","2वनि","2सम2सरल2वनि","2वनि2प","22वनि","2वनि","22सम","22वनि","22सरल","22सम2वनि"]
[{"$f":"IF(B21=\"\",\"\",IF(L21=\"c\",\"C\",MAX($A$14:A20)+1))","v":8},{"$f":"IF('Entry sheet-2-hin'!B16=\"\",\"\",'Entry sheet-2-hin'!B16)","v":5},{"$f":"IF('Entry sheet-2-hin'!C16=\"\",\"\",CONCATENATE(B21,'Entry sheet-2-hin'!C16))","v":"5स्म"},{"$f":"IF('Entry sheet-2-hin'!D16=\"\",\"\",CONCATENATE(B21,'Entry sheet-2-hin'!D16))","v":"5सामान्य"},{"$f":"IF('Entry sheet-2-hin'!E16=\"\",\"\",CONCATENATE(B21,'Entry sheet-2-hin'!E16))","v":"5वनि"},{"$f":"IF('Entry sheet-2-hin'!F16=\"\",\"\",CONCATENATE(B21,'Entry sheet-2-hin'!F16))","v":"5ग"},"इंटरनेट द्वारा कोई भी",null,null,null,null,null,null,null,null,"तरंगमालाएँ  गा  रही हैं !",null,null,null,null,null,null,null,null,null,"5ग","5सामान्य","5स्म","5वनि","5स्म5सामान्य5वनि","5वनि5ग","55वनि","5वनि","55स्म","55वनि","55सामान्य","55स्म5वनि"]
[{"$f":"IF(B22=\"\",\"\",IF(L22=\"c\",\"C\",MAX($A$14:A21)+1))","v":9},{"$f":"IF('Entry sheet-2-hin'!B17=\"\",\"\",'Entry sheet-2-hin'!B17)","v":6},{"$f":"IF('Entry sheet-2-hin'!C17=\"\",\"\",CONCATENATE(B22,'Entry sheet-2-hin'!C17))","v":"6सम"},{"$f":"IF('Entry sheet-2-hin'!D17=\"\",\"\",CONCATENATE(B22,'Entry sheet-2-hin'!D17))","v":"6सामान्य"},{"$f":"IF('Entry sheet-2-hin'!E17=\"\",\"\",CONCATENATE(B22,'Entry sheet-2-hin'!E17))","v":"6वनि"},{"$f":"IF('Entry sheet-2-hin'!F17=\"\",\"\",CONCATENATE(B22,'Entry sheet-2-hin'!F17))","v":"6प"},"कोटि-कोटि हम",null,null,null,null,null,null,null,null,"जगत  को लीला  दिखा रही है ! ",null,null,null,null,null,null,null,null,null,"6प","6सामान्य","6सम","6वनि","6सम6सामान्य6वनि","6वनि6प","66वनि","6वनि","66सम","66वनि","66सामान्य","66सम6वनि"]
[{"$f":"IF(B23=\"\",\"\",IF(L23=\"c\",\"C\",MAX($A$14:A22)+1))","v":10},{"$f":"IF('Entry sheet-2-hin'!B18=\"\",\"\",'Entry sheet-2-hin'!B18)","v":8},{"$f":"IF('Entry sheet-2-hin'!C18=\"\",\"\",CONCATENATE(B23,'Entry sheet-2-hin'!C18))","v":"8सम"},{"$f":"IF('Entry sheet-2-hin'!D18=\"\",\"\",CONCATENATE(B23,'Entry sheet-2-hin'!D18))","v":"8सामान्य"},{"$f":"IF('Entry sheet-2-hin'!E18=\"\",\"\",CONCATENATE(B23,'Entry sheet-2-hin'!E18))","v":"8वनि"},{"$f":"IF('Entry sheet-2-hin'!F18=\"\",\"\",CONCATENATE(B23,'Entry sheet-2-hin'!F18))","v":"8ग"},"बसंत ",null,null,null,null,null,null,null,null,"बिल भर सकते है ।",null,null,null,null,null,null,null,null,null,"8ग","8सामान्य","8सम","8वनि","8सम8सामान्य8वनि","8वनि8ग","88वनि","8वनि","88सम","88वनि","88सामान्य","88सम8वनि"]
[null,{"$f":"IF('Entry sheet-2-hin'!B19=\"\",\"\",'Entry sheet-2-hin'!B19)","v":2},{"$f":"IF('Entry sheet-2-hin'!C19=\"\",\"\",CONCATENATE(B24,'Entry sheet-2-hin'!C19))","v":"2सम"},{"$f":"IF('Entry sheet-2-hin'!D19=\"\",\"\",CONCATENATE(B24,'Entry sheet-2-hin'!D19))","v":"2सरल"},{"$f":"IF('Entry sheet-2-hin'!E19=\"\",\"\",CONCATENATE(B24,'Entry sheet-2-hin'!E19))","v":"2वनि"},{"$f":"IF('Entry sheet-2-hin'!F19=\"\",\"\",CONCATENATE(B24,'Entry sheet-2-hin'!F19))","v":"2प"},null,null,null,null,null,null,null,null,null,"भीखू अहीर टीले"]
[null,{"$f":"IF('Entry sheet-2-hin'!B20=\"\",\"\",'Entry sheet-2-hin'!B20)","v":5},{"$f":"IF('Entry sheet-2-hin'!C20=\"\",\"\",CONCATENATE(B25,'Entry sheet-2-hin'!C20))","v":"5स्म"},{"$f":"IF('Entry sheet-2-hin'!D20=\"\",\"\",CONCATENATE(B25,'Entry sheet-2-hin'!D20))","v":"5सामान्य"},{"$f":"IF('Entry sheet-2-hin'!E20=\"\",\"\",CONCATENATE(B25,'Entry sheet-2-hin'!E20))","v":"5वनि"},{"$f":"IF('Entry sheet-2-hin'!F20=\"\",\"\",CONCATENATE(B25,'Entry sheet-2-hin'!F20))","v":"5ग"},null,null,null,null,null,null,null,null,null,"शत-शत बार प्रणाम"]
[{"$f":"IF(B26=\"\",\"\",IF(L26=\"c\",\"C\",MAX($A$14:A23)+1))","v":11},{"$f":"IF('Entry sheet-2-hin'!B21=\"\",\"\",'Entry sheet-2-hin'!B21)","v":2},{"$f":"IF('Entry sheet-2-hin'!C21=\"\",\"\",CONCATENATE(B26,'Entry sheet-2-hin'!C21))","v":"2सम"},{"$f":"IF('Entry sheet-2-hin'!D21=\"\",\"\",CONCATENATE(B26,'Entry sheet-2-hin'!D21))","v":"2सामान्य"},{"$f":"IF('Entry sheet-2-hin'!E21=\"\",\"\",CONCATENATE(B26,'Entry sheet-2-hin'!E21))","v":"2वनि"},{"$f":"IF('Entry sheet-2-hin'!F21=\"\",\"\",CONCATENATE(B26,'Entry sheet-2-hin'!F21))","v":"2प"},"भगवान की लीला  :  इन्दु की किरणें   :: भगवान की दया :---",null,null,null,null,null,null,null,null,null,null,null,null,null,null,null,null,null,null,"2प","2सामान्य","2सम","2वनि","2सम2सामान्य2वनि","2वनि2प","22वनि","2वनि","22सम","22वनि","22सामान्य","22सम2वनि"]
[{"$f":"IF(B27=\"\",\"\",IF(L27=\"c\",\"C\",MAX($A$14:A26)+1))","v":12},{"$f":"IF('Entry sheet-2-hin'!B22=\"\",\"\",'Entry sheet-2-hin'!B22)","v":5},{"$f":"IF('Entry sheet-2-hin'!C22=\"\",\"\",CONCATENATE(B27,'Entry sheet-2-hin'!C22))","v":"5स्म"},{"$f":"IF('Entry sheet-2-hin'!D22=\"\",\"\",CONCATENATE(B27,'Entry sheet-2-hin'!D22))","v":"5सामान्य"},{"$f":"IF('Entry sheet-2-hin'!E22=\"\",\"\",CONCATENATE(B27,'Entry sheet-2-hin'!E22))","v":"5वनि"},{"$f":"IF('Entry sheet-2-hin'!F22=\"\",\"\",CONCATENATE(B27,'Entry sheet-2-hin'!F22))","v":"5ग"},"काम को पारदर्शी बना सकता है : ई गवर्नेन्स  ::  आठ-दस व्यक्तियों के साथ बातचीत :--",null,null,null,null,null,null,null,null,null,null,null,null,null,null,null,null,null,null,"5ग","5सामान्य","5स्म","5वनि","5स्म5सामान्य5वनि","5वनि5ग","55वनि","5वनि","55स्म","55वनि","55सामान्य","55स्म5वनि"]
[{"$f":"IF(B28=\"\",\"\",IF(L28=\"c\",\"C\",MAX($A$14:A27)+1))","v":13},{"$f":"IF('Entry sheet-2-hin'!B23=\"\",\"\",'Entry sheet-2-hin'!B23)","v":7},{"$f":"IF('Entry sheet-2-hin'!C23=\"\",\"\",CONCATENATE(B28,'Entry sheet-2-hin'!C23))","v":"7स्म"},{"$f":"IF('Entry sheet-2-hin'!D23=\"\",\"\",CONCATENATE(B28,'Entry sheet-2-hin'!D23))","v":"7सरल"},{"$f":"IF('Entry sheet-2-hin'!E23=\"\",\"\",CONCATENATE(B28,'Entry sheet-2-hin'!E23))","v":"7वनि"},{"$f":"IF('Entry sheet-2-hin'!F23=\"\",\"\",CONCATENATE(B28,'Entry sheet-2-hin'!F23))","v":"7प"},"चिक-चिक करता है  :  गिल्लू   ::  कॉव-कॉव करता है  :---",null,null,null,null,null,null,null,null,null,null,null,null,null,null,null,null,null,null,"7प","7सरल","7स्म","7वनि","7स्म7सरल7वनि","7वनि7प","77वनि","7वनि","77स्म","77वनि","77सरल","77स्म7वनि"]
[{"$f":"IF(B29=\"\",\"\",IF(L29=\"c\",\"C\",MAX($A$14:A28)+1))","v":14},{"$f":"IF('Entry sheet-2-hin'!B24=\"\",\"\",'Entry sheet-2-hin'!B24)","v":8},{"$f":"IF('Entry sheet-2-hin'!C24=\"\",\"\",CONCATENATE(B29,'Entry sheet-2-hin'!C24))","v":"8अ"},{"$f":"IF('Entry sheet-2-hin'!D24=\"\",\"\",CONCATENATE(B29,'Entry sheet-2-hin'!D24))","v":"8सामान्य"},{"$f":"IF('Entry sheet-2-hin'!E24=\"\",\"\",CONCATENATE(B29,'Entry sheet-2-hin'!E24))","v":"8वनि"},{"$f":"IF('Entry sheet-2-hin'!F24=\"\",\"\",CONCATENATE(B29,'Entry sheet-2-hin'!F24))","v":"8ग"},"प्रभु  : जयशंकर प्रसाद    ::बसंत की सच्चाई       : --",null,null,null,null,null,null,null,null,null,null,null,null,null,null,null,null,null,null,"8ग","8सामान्य","8अ","8वनि","8अ8सामान्य8वनि","8वनि8ग","88वनि","8वनि","88अ","88वनि","88सामान्य","88अ8वनि"]
[{"$f":"IF(B30=\"\",\"\",IF(L30=\"c\",\"C\",MAX($A$14:A29)+1))","v":15},{"$f":"IF('Entry sheet-2-hin'!B25=\"\",\"\",'Entry sheet-2-hin'!B25)","v":2},{"$f":"IF('Entry sheet-2-hin'!C25=\"\",\"\",CONCATENATE(B30,'Entry sheet-2-hin'!C25))","v":"2सम"},{"$f":"IF('Entry sheet-2-hin'!D25=\"\",\"\",CONCATENATE(B30,'Entry sheet-2-hin'!D25))","v":"2सरल"},{"$f":"IF('Entry sheet-2-hin'!E25=\"\",\"\",CONCATENATE(B30,'Entry sheet-2-hin'!E25))","v":"2लउ२"},{"$f":"IF('Entry sheet-2-hin'!F25=\"\",\"\",CONCATENATE(B30,'Entry sheet-2-hin'!F25))","v":"2प"},"सभी का मनोरथ कैसे पूर्ण होते हैं ?  ",null,null,null,null,null,null,null,null,null,null,null,null,null,null,null,null,null,null,"2प","2सरल","2सम","2लउ२","2सम2सरल2लउ२","2लउ२2प","22लउ२","2लउ२","22सम","22लउ२","22सरल","22सम2लउ२"]
[{"$f":"IF(B31=\"\",\"\",IF(L31=\"c\",\"C\",MAX($A$14:A30)+1))","v":16},{"$f":"IF('Entry sheet-2-hin'!B26=\"\",\"\",'Entry sheet-2-hin'!B26)","v":2},{"$f":"IF('Entry sheet-2-hin'!C26=\"\",\"\",CONCATENATE(B31,'Entry sheet-2-hin'!C26))","v":"2स्म"},{"$f":"IF('Entry sheet-2-hin'!D26=\"\",\"\",CONCATENATE(B31,'Entry sheet-2-hin'!D26))","v":"2सामान्य"},{"$f":"IF('Entry sheet-2-hin'!E26=\"\",\"\",CONCATENATE(B31,'Entry sheet-2-hin'!E26))","v":"2लउ२"},{"$f":"IF('Entry sheet-2-hin'!F26=\"\",\"\",CONCATENATE(B31,'Entry sheet-2-hin'!F26))","v":"2प"},"प्रभु की दया को कौन दर्शा रहा है ? ",null,null,null,null,null,null,null,null,null,null,null,null,null,null,null,null,null,null,"2प","2सामान्य","2स्म","2लउ२","2स्म2सामान्य2लउ२","2लउ२2प","22लउ२","2लउ२","22स्म","22लउ२","22सामान्य","22स्म2लउ२"]
[{"$f":"IF(B32=\"\",\"\",IF(L32=\"c\",\"C\",MAX($A$14:A31)+1))","v":17},{"$f":"IF('Entry sheet-2-hin'!B27=\"\",\"\",'Entry sheet-2-hin'!B27)","v":3},{"$f":"IF('Entry sheet-2-hin'!C27=\"\",\"\",CONCATENATE(B32,'Entry sheet-2-hin'!C27))","v":"3सम"},{"$f":"IF('Entry sheet-2-hin'!D27=\"\",\"\",CONCATENATE(B32,'Entry sheet-2-hin'!D27))","v":"3सरल"},{"$f":"IF('Entry sheet-2-hin'!E27=\"\",\"\",CONCATENATE(B32,'Entry sheet-2-hin'!E27))","v":"3लउ२"},{"$f":"IF('Entry sheet-2-hin'!F27=\"\",\"\",CONCATENATE(B32,'Entry sheet-2-hin'!F27))","v":"3ग"},"रवींद्रनाथ जी ने ‘सर’ की उपाधि क्यों त्याग दी ?",null,null,null,null,null,null,null,null,null,null,null,null,null,null,null,null,null,null,"3ग","3सरल","3सम","3लउ२","3सम3सरल3लउ२","3लउ२3ग","33लउ२","3लउ२","33सम","33लउ२","33सरल","33सम3लउ२"]
[{"$f":"IF(B33=\"\",\"\",IF(L33=\"c\",\"C\",MAX($A$14:A32)+1))","v":18},{"$f":"IF('Entry sheet-2-hin'!B28=\"\",\"\",'Entry sheet-2-hin'!B28)","v":4},{"$f":"IF('Entry sheet-2-hin'!C28=\"\",\"\",CONCATENATE(B33,'Entry sheet-2-hin'!C28))","v":"4अ"},{"$f":"IF('Entry sheet-2-hin'!D28=\"\",\"\",CONCATENATE(B33,'Entry sheet-2-hin'!D28))","v":"4सामान्य"},{"$f":"IF('Entry sheet-2-hin'!E28=\"\",\"\",CONCATENATE(B33,'Entry sheet-2-hin'!E28))","v":"4लउ२"},{"$f":"IF('Entry sheet-2-hin'!F28=\"\",\"\",CONCATENATE(B33,'Entry sheet-2-hin'!F28))","v":"4ग"},"करोड़पति के होशहवास क्यों उड़ गये ?",null,null,null,null,null,null,null,null,null,null,null,null,null,null,null,null,null,null,"4ग","4सामान्य","4अ","4लउ२","4अ4सामान्य4लउ२","4लउ२4ग","44लउ२","4लउ२","44अ","44लउ२","44सामान्य","44अ4लउ२"]
[{"$f":"IF(B34=\"\",\"\",IF(L34=\"c\",\"C\",MAX($A$14:A33)+1))","v":19},{"$f":"IF('Entry sheet-2-hin'!B29=\"\",\"\",'Entry sheet-2-hin'!B29)","v":5},{"$f":"IF('Entry sheet-2-hin'!C29=\"\",\"\",CONCATENATE(B34,'Entry sheet-2-hin'!C29))","v":"5अ"},{"$f":"IF('Entry sheet-2-hin'!D29=\"\",\"\",CONCATENATE(B34,'Entry sheet-2-hin'!D29))","v":"5सामान्य"},{"$f":"IF('Entry sheet-2-hin'!E29=\"\",\"\",CONCATENATE(B34,'Entry sheet-2-hin'!E29))","v":"5लउ२"},{"$f":"IF('Entry sheet-2-hin'!F29=\"\",\"\",CONCATENATE(B34,'Entry sheet-2-hin'!F29))","v":"5ग"},"व्यापार और बैंकिंग में इंटरनेट से क्या मदद मिलती है ?",null,null,null,null,null,null,null,null,null,null,null,null,null,null,null,null,null,null,"5ग","5सामान्य","5अ","5लउ२","5अ5सामान्य5लउ२","5लउ२5ग","55लउ२","5लउ२","55अ","55लउ२","55सामान्य","55अ5लउ२"]
[{"$f":"IF(B35=\"\",\"\",IF(L35=\"c\",\"C\",MAX($A$14:A34)+1))","v":20},{"$f":"IF('Entry sheet-2-hin'!B30=\"\",\"\",'Entry sheet-2-hin'!B30)","v":6},{"$f":"IF('Entry sheet-2-hin'!C30=\"\",\"\",CONCATENATE(B35,'Entry sheet-2-hin'!C30))","v":"6अ"},{"$f":"IF('Entry sheet-2-hin'!D30=\"\",\"\",CONCATENATE(B35,'Entry sheet-2-hin'!D30))","v":"6सामान्य"},{"$f":"IF('Entry sheet-2-hin'!E30=\"\",\"\",CONCATENATE(B35,'Entry sheet-2-hin'!E30))","v":"6लउ२"},{"$f":"IF('Entry sheet-2-hin'!F30=\"\",\"\",CONCATENATE(B35,'Entry sheet-2-hin'!F30))","v":"6प"},"भारत माँ का स्वरुप कैसे सुशोभित है ?                                                  ",null,null,null,null,null,null,null,null,null,null,null,null,null,null,null,null,null,null,"6प","6सामान्य","6अ","6लउ२","6अ6सामान्य6लउ२","6लउ२6प","66लउ२","6लउ२","66अ","66लउ२","66सामान्य","66अ6लउ२"]
[{"$f":"IF(B36=\"\",\"\",IF(L36=\"c\",\"C\",MAX($A$14:A35)+1))","v":21},{"$f":"IF('Entry sheet-2-hin'!B31=\"\",\"\",'Entry sheet-2-hin'!B31)","v":6},{"$f":"IF('Entry sheet-2-hin'!C31=\"\",\"\",CONCATENATE(B36,'Entry sheet-2-hin'!C31))","v":"6अ"},{"$f":"IF('Entry sheet-2-hin'!D31=\"\",\"\",CONCATENATE(B36,'Entry sheet-2-hin'!D31))","v":"6सरल"},{"$f":"IF('Entry sheet-2-hin'!E31=\"\",\"\",CONCATENATE(B36,'Entry sheet-2-hin'!E31))","v":"6लउ२"},{"$f":"IF('Entry sheet-2-hin'!F31=\"\",\"\",CONCATENATE(B36,'Entry sheet-2-hin'!F31))","v":"6प"},"भारत माता के प्रकृती सौंदर्य कैसे है ?                                                            ",null,null,null,null,null,null,null,null,null,null,null,null,null,null,null,null,null,null,"6प","6सरल","6अ","6लउ२","6अ6सरल6लउ२","6लउ२6प","66लउ२","6लउ२","66अ","66लउ२","66सरल","66अ6लउ२"]
[{"$f":"IF(B37=\"\",\"\",IF(L37=\"c\",\"C\",MAX($A$14:A36)+1))","v":22},{"$f":"IF('Entry sheet-2-hin'!B32=\"\",\"\",'Entry sheet-2-hin'!B32)","v":7},{"$f":"IF('Entry sheet-2-hin'!C32=\"\",\"\",CONCATENATE(B37,'Entry sheet-2-hin'!C32))","v":"7सम"},{"$f":"IF('Entry sheet-2-hin'!D32=\"\",\"\",CONCATENATE(B37,'Entry sheet-2-hin'!D32))","v":"7सामान्य"},{"$f":"IF('Entry sheet-2-hin'!E32=\"\",\"\",CONCATENATE(B37,'Entry sheet-2-hin'!E32))","v":"7लउ२"},{"$f":"IF('Entry sheet-2-hin'!F32=\"\",\"\",CONCATENATE(B37,'Entry sheet-2-hin'!F32))","v":"7ग"},"लेखिका ने गिल्लू के प्राण कैसे बचाये ?",null,null,null,null,null,null,null,null,null,null,null,null,null,null,null,null,null,null,"7ग","7सामान्य","7सम","7लउ२","7सम7सामान्य7लउ२","7लउ२7ग","77लउ२","7लउ२","77सम","77लउ२","77सामान्य","77सम7लउ२"]
[{"$f":"IF(B38=\"\",\"\",IF(L38=\"c\",\"C\",MAX($A$14:A37)+1))","v":23},{"$f":"IF('Entry sheet-2-hin'!B33=\"\",\"\",'Entry sheet-2-hin'!B33)","v":8},{"$f":"IF('Entry sheet-2-hin'!C33=\"\",\"\",CONCATENATE(B38,'Entry sheet-2-hin'!C33))","v":"8सम"},{"$f":"IF('Entry sheet-2-hin'!D33=\"\",\"\",CONCATENATE(B38,'Entry sheet-2-hin'!D33))","v":"8सामान्य"},{"$f":"IF('Entry sheet-2-hin'!E33=\"\",\"\",CONCATENATE(B38,'Entry sheet-2-hin'!E33))","v":"8लउ२"},{"$f":"IF('Entry sheet-2-hin'!F33=\"\",\"\",CONCATENATE(B38,'Entry sheet-2-hin'!F33))","v":"8ग"},"बसंत राजकिशोर से दो पैसे लेने से क्यों इनकार करता है ?",null,null,null,null,null,null,null,null,null,null,null,null,null,null,null,null,null,null,"8ग","8सामान्य","8सम","8लउ२","8सम8सामान्य8लउ२","8लउ२8ग","88लउ२","8लउ२","88सम","88लउ२","88सामान्य","88सम8लउ२"]
[{"$f":"IF(B39=\"\",\"\",IF(L39=\"c\",\"C\",MAX($A$14:A38)+1))","v":24},{"$f":"IF('Entry sheet-2-hin'!B34=\"\",\"\",'Entry sheet-2-hin'!B34)","v":17},{"$f":"IF('Entry sheet-2-hin'!C34=\"\",\"\",CONCATENATE(B39,'Entry sheet-2-hin'!C34))","v":"17सम"},{"$f":"IF('Entry sheet-2-hin'!D34=\"\",\"\",CONCATENATE(B39,'Entry sheet-2-hin'!D34))","v":"17सामान्य"},{"$f":"IF('Entry sheet-2-hin'!E34=\"\",\"\",CONCATENATE(B39,'Entry sheet-2-hin'!E34))","v":"17लउ२"},{"$f":"IF('Entry sheet-2-hin'!F34=\"\",\"\",CONCATENATE(B39,'Entry sheet-2-hin'!F34))","v":"17पूवा"},"शनि किसका पुत्र है ? शनैःचर का अर्थ क्या है ?",null,null,null,null,null,null,null,null,null,null,null,null,null,null,null,null,null,null,"17पूवा","17सामान्य","17सम","17लउ२","17सम17सामान्य17लउ२","17लउ२17पूवा","1717लउ२","17लउ२","1717सम","1717लउ२","1717सामान्य","1717सम17लउ२"]
[{"$f":"IF(B40=\"\",\"\",IF(L40=\"c\",\"C\",MAX($A$14:A39)+1))","v":25},{"$f":"IF('Entry sheet-2-hin'!B35=\"\",\"\",'Entry sheet-2-hin'!B35)","v":17},{"$f":"IF('Entry sheet-2-hin'!C35=\"\",\"\",CONCATENATE(B40,'Entry sheet-2-hin'!C35))","v":"17सम"},{"$f":"IF('Entry sheet-2-hin'!D35=\"\",\"\",CONCATENATE(B40,'Entry sheet-2-hin'!D35))","v":"17सामान्य"},{"$f":"IF('Entry sheet-2-hin'!E35=\"\",\"\",CONCATENATE(B40,'Entry sheet-2-hin'!E35))","v":"17लउ२"},{"$f":"IF('Entry sheet-2-hin'!F35=\"\",\"\",CONCATENATE(B40,'Entry sheet-2-hin'!F35))","v":"17पूवा"},"शनि का निर्माण किस प्रकार हुआ है ?",null,null,null,null,null,null,null,null,null,null,null,null,null,null,null,null,null,null,"17पूवा","17सामान्य","17सम","17लउ२","17सम17सामान्य17लउ२","17लउ२17पूवा","1717लउ२","17लउ२","1717सम","1717लउ२","1717सामान्य","1717सम17लउ२"]
[{"$f":"IF(B41=\"\",\"\",IF(L41=\"c\",\"C\",MAX($A$14:A40)+1))","v":26},{"$f":"IF('Entry sheet-2-hin'!B36=\"\",\"\",'Entry sheet-2-hin'!B36)","v":17},{"$f":"IF('Entry sheet-2-hin'!C36=\"\",\"\",CONCATENATE(B41,'Entry sheet-2-hin'!C36))","v":"17सम"},{"$f":"IF('Entry sheet-2-hin'!D36=\"\",\"\",CONCATENATE(B41,'Entry sheet-2-hin'!D36))","v":"17कठिन"},{"$f":"IF('Entry sheet-2-hin'!E36=\"\",\"\",CONCATENATE(B41,'Entry sheet-2-hin'!E36))","v":"17लउ२"},{"$f":"IF('Entry sheet-2-hin'!F36=\"\",\"\",CONCATENATE(B41,'Entry sheet-2-hin'!F36))","v":"17पूवा"},null,null,null,null,null,null,null,null,null,null,null,null,null,null,null,null,null,null,null,"17पूवा","17कठिन","17सम","17लउ२","17सम17कठिन17लउ२","17लउ२17पूवा","1717लउ२","17लउ२","1717सम","1717लउ२","1717कठिन","1717सम17लउ२"]
[{"$f":"IF(B42=\"\",\"\",IF(L42=\"c\",\"C\",MAX($A$14:A41)+1))","v":27},{"$f":"IF('Entry sheet-2-hin'!B37=\"\",\"\",'Entry sheet-2-hin'!B37)","v":17},{"$f":"IF('Entry sheet-2-hin'!C37=\"\",\"\",CONCATENATE(B42,'Entry sheet-2-hin'!C37))","v":"17सम"},{"$f":"IF('Entry sheet-2-hin'!D37=\"\",\"\",CONCATENATE(B42,'Entry sheet-2-hin'!D37))","v":"17सामान्य"},{"$f":"IF('Entry sheet-2-hin'!E37=\"\",\"\",CONCATENATE(B42,'Entry sheet-2-hin'!E37))","v":"17लउ२"},{"$f":"IF('Entry sheet-2-hin'!F37=\"\",\"\",CONCATENATE(B42,'Entry sheet-2-hin'!F37))","v":"17पूवा"},null,null,null,null,null,null,null,null,null,null,null,null,null,null,null,null,null,null,null,"17पूवा","17सामान्य","17सम","17लउ२","17सम17सामान्य17लउ२","17लउ२17पूवा","1717लउ२","17लउ२","1717सम","1717लउ२","1717सामान्य","1717सम17लउ२"]
[{"$f":"IF(B43=\"\",\"\",IF(L43=\"c\",\"C\",MAX($A$14:A42)+1))","v":28},{"$f":"IF('Entry sheet-2-hin'!B38=\"\",\"\",'Entry sheet-2-hin'!B38)","v":4},{"$f":"IF('Entry sheet-2-hin'!C38=\"\",\"\",CONCATENATE(B43,'Entry sheet-2-hin'!C38))","v":"4स्म"},{"$f":"IF('Entry sheet-2-hin'!D38=\"\",\"\",CONCATENATE(B43,'Entry sheet-2-hin'!D38))","v":"4सरल"},{"$f":"IF('Entry sheet-2-hin'!E38=\"\",\"\",CONCATENATE(B43,'Entry sheet-2-hin'!E38))","v":"4लउ३"},{"$f":"IF('Entry sheet-2-hin'!F38=\"\",\"\",CONCATENATE(B43,'Entry sheet-2-hin'!F38))","v":"4ग"},"गिल्लू के प्रति महादेवी वर्मा जी की ममता का वर्णन कीजिए । ",null,null,null,null,null,null,null,null,null,null,null,null,null,null,null,null,null,null,"4ग","4सरल","4स्म","4लउ३","4स्म4सरल4लउ३","4लउ३4ग","44लउ३","4लउ३","44स्म","44लउ३","44सरल","44स्म4लउ३"]
[{"$f":"IF(B44=\"\",\"\",IF(L44=\"c\",\"C\",MAX($A$14:A43)+1))","v":29},{"$f":"IF('Entry sheet-2-hin'!B39=\"\",\"\",'Entry sheet-2-hin'!B39)","v":7},{"$f":"IF('Entry sheet-2-hin'!C39=\"\",\"\",CONCATENATE(B44,'Entry sheet-2-hin'!C39))","v":"7सम"},{"$f":"IF('Entry sheet-2-hin'!D39=\"\",\"\",CONCATENATE(B44,'Entry sheet-2-hin'!D39))","v":"7सामान्य"},{"$f":"IF('Entry sheet-2-hin'!E39=\"\",\"\",CONCATENATE(B44,'Entry sheet-2-hin'!E39))","v":"7लउ३"},{"$f":"IF('Entry sheet-2-hin'!F39=\"\",\"\",CONCATENATE(B44,'Entry sheet-2-hin'!F39))","v":"7ग"},null,null,null,null,null,null,null,null,null,null,null,null,null,null,null,null,null,null,null,"7ग","7सामान्य","7सम","7लउ३","7सम7सामान्य7लउ३","7लउ३7ग","77लउ३","7लउ३","77सम","77लउ३","77सामान्य","77सम7लउ३"]
[{"$f":"IF(B45=\"\",\"\",IF(L45=\"c\",\"C\",MAX($A$14:A44)+1))","v":30},{"$f":"IF('Entry sheet-2-hin'!B40=\"\",\"\",'Entry sheet-2-hin'!B40)","v":8},{"$f":"IF('Entry sheet-2-hin'!C40=\"\",\"\",CONCATENATE(B45,'Entry sheet-2-hin'!C40))","v":"8सम"},{"$f":"IF('Entry sheet-2-hin'!D40=\"\",\"\",CONCATENATE(B45,'Entry sheet-2-hin'!D40))","v":"8कठिन"},{"$f":"IF('Entry sheet-2-hin'!E40=\"\",\"\",CONCATENATE(B45,'Entry sheet-2-hin'!E40))","v":"8लउ३"},{"$f":"IF('Entry sheet-2-hin'!F40=\"\",\"\",CONCATENATE(B45,'Entry sheet-2-hin'!F40))","v":"8ग"},null,null,null,null,null,null,null,null,null,null,null,null,null,null,null,null,null,null,null,"8ग","8कठिन","8सम","8लउ३","8सम8कठिन8लउ३","8लउ३8ग","88लउ३","8लउ३","88सम","88लउ३","88कठिन","88सम8लउ३"]
[{"$f":"IF(B46=\"\",\"\",IF(L46=\"c\",\"C\",MAX($A$14:A45)+1))","v":31},{"$f":"IF('Entry sheet-2-hin'!B41=\"\",\"\",'Entry sheet-2-hin'!B41)","v":2},{"$f":"IF('Entry sheet-2-hin'!C41=\"\",\"\",CONCATENATE(B46,'Entry sheet-2-hin'!C41))","v":"2रस"},{"$f":"IF('Entry sheet-2-hin'!D41=\"\",\"\",CONCATENATE(B46,'Entry sheet-2-hin'!D41))","v":"2कठिन"},{"$f":"IF('Entry sheet-2-hin'!E41=\"\",\"\",CONCATENATE(B46,'Entry sheet-2-hin'!E41))","v":"2लउ३"},{"$f":"IF('Entry sheet-2-hin'!F41=\"\",\"\",CONCATENATE(B46,'Entry sheet-2-hin'!F41))","v":"2प"},null,null,null,null,null,null,null,null,null,null,null,null,null,null,null,null,null,null,null,"2प","2कठिन","2रस","2लउ३","2रस2कठिन2लउ३","2लउ३2प","22लउ३","2लउ३","22रस","22लउ३","22कठिन","22रस2लउ३"]
[{"$f":"IF(B47=\"\",\"\",IF(L47=\"c\",\"C\",MAX($A$14:A46)+1))","v":32},{"$f":"IF('Entry sheet-2-hin'!B42=\"\",\"\",'Entry sheet-2-hin'!B42)","v":3},{"$f":"IF('Entry sheet-2-hin'!C42=\"\",\"\",CONCATENATE(B47,'Entry sheet-2-hin'!C42))","v":"3अ"},{"$f":"IF('Entry sheet-2-hin'!D42=\"\",\"\",CONCATENATE(B47,'Entry sheet-2-hin'!D42))","v":"3सरल"},{"$f":"IF('Entry sheet-2-hin'!E42=\"\",\"\",CONCATENATE(B47,'Entry sheet-2-hin'!E42))","v":"3दीउ४"},{"$f":"IF('Entry sheet-2-hin'!F42=\"\",\"\",CONCATENATE(B47,'Entry sheet-2-hin'!F42))","v":"3ग"},null,null,null,null,null,null,null,null,null,null,null,null,null,null,null,null,null,null,null,"3ग","3सरल","3अ","3दीउ४","3अ3सरल3दीउ४","3दीउ४3ग","33दीउ४","3दीउ४","33अ","33दीउ४","33सरल","33अ3दीउ४"]
[{"$f":"IF(B48=\"\",\"\",IF(L48=\"c\",\"C\",MAX($A$14:A47)+1))","v":33},{"$f":"IF('Entry sheet-2-hin'!B43=\"\",\"\",'Entry sheet-2-hin'!B43)","v":7},{"$f":"IF('Entry sheet-2-hin'!C43=\"\",\"\",CONCATENATE(B48,'Entry sheet-2-hin'!C43))","v":"7अ"},{"$f":"IF('Entry sheet-2-hin'!D43=\"\",\"\",CONCATENATE(B48,'Entry sheet-2-hin'!D43))","v":"7कठिन"},{"$f":"IF('Entry sheet-2-hin'!E43=\"\",\"\",CONCATENATE(B48,'Entry sheet-2-hin'!E43))","v":"7दीउ४"},{"$f":"IF('Entry sheet-2-hin'!F43=\"\",\"\",CONCATENATE(B48,'Entry sheet-2-hin'!F43))","v":"7ग"},null,null,null,null,null,null,null,null,null,null,null,null,null,null,null,null,null,null,null,"7ग","7कठिन","7अ","7दीउ४","7अ7कठिन7दीउ४","7दीउ४7ग","77दीउ४","7दीउ४","77अ","77दीउ४","77कठिन","77अ7दीउ४"]
[{"$f":"IF(B49=\"\",\"\",IF(L49=\"c\",\"C\",MAX($A$14:A48)+1))","v":34},{"$f":"IF('Entry sheet-2-hin'!B44=\"\",\"\",'Entry sheet-2-hin'!B44)","v":6},{"$f":"IF('Entry sheet-2-hin'!C44=\"\",\"\",CONCATENATE(B49,'Entry sheet-2-hin'!C44))","v":"6स्म"},{"$f":"IF('Entry sheet-2-hin'!D44=\"\",\"\",CONCATENATE(B49,'Entry sheet-2-hin'!D44))","v":"6सामान्य"},{"$f":"IF('Entry sheet-2-hin'!E44=\"\",\"\",CONCATENATE(B49,'Entry sheet-2-hin'!E44))","v":"6दीउ४"},{"$f":"IF('Entry sheet-2-hin'!F44=\"\",\"\",CONCATENATE(B49,'Entry sheet-2-hin'!F44))","v":"6प"},null,null,null,null,null,null,null,null,null,null,null,null,null,null,null,null,null,null,null,"6प","6सामान्य","6स्म","6दीउ४","6स्म6सामान्य6दीउ४","6दीउ४6प","66दीउ४","6दीउ४","66स्म","66दीउ४","66सामान्य","66स्म6दीउ४"]
[{"$f":"IF(B50=\"\",\"\",IF(L50=\"c\",\"C\",MAX($A$14:A49)+1))","v":35},{"$f":"IF('Entry sheet-2-hin'!B45=\"\",\"\",'Entry sheet-2-hin'!B45)","v":2},{"$f":"IF('Entry sheet-2-hin'!C45=\"\",\"\",CONCATENATE(B50,'Entry sheet-2-hin'!C45))","v":"2स्म"},{"$f":"IF('Entry sheet-2-hin'!D45=\"\",\"\",CONCATENATE(B50,'Entry sheet-2-hin'!D45))","v":"2सामान्य"},{"$f":"IF('Entry sheet-2-hin'!E45=\"\",\"\",CONCATENATE(B50,'Entry sheet-2-hin'!E45))","v":"2दीउ४"},{"$f":"IF('Entry sheet-2-hin'!F45=\"\",\"\",CONCATENATE(B50,'Entry sheet-2-hin'!F45))","v":"2प"},null,null,null,null,null,null,null,null,null,null,null,null,null,null,null,null,null,null,null,"2प","2सामान्य","2स्म","2दीउ४","2स्म2सामान्य2दीउ४","2दीउ४2प","22दीउ४","2दीउ४","22स्म","22दीउ४","22सामान्य","22स्म2दीउ४"]
[{"$f":"IF(B51=\"\",\"\",IF(L51=\"c\",\"C\",MAX($A$14:A50)+1))","v":36},{"$f":"IF('Entry sheet-2-hin'!B46=\"\",\"\",'Entry sheet-2-hin'!B46)","v":1},{"$f":"IF('Entry sheet-2-hin'!C46=\"\",\"\",CONCATENATE(B51,'Entry sheet-2-hin'!C46))","v":"1सम"},{"$f":"IF('Entry sheet-2-hin'!D46=\"\",\"\",CONCATENATE(B51,'Entry sheet-2-hin'!D46))","v":"1सामान्य"},{"$f":"IF('Entry sheet-2-hin'!E46=\"\",\"\",CONCATENATE(B51,'Entry sheet-2-hin'!E46))","v":"1बवि"},{"$f":"IF('Entry sheet-2-hin'!F46=\"\",\"\",CONCATENATE(B51,'Entry sheet-2-hin'!F46))","v":"1व्या"},"‘चलना शब्द का  द्वितीय प्रेरणार्थक क्रिया रूप है -   \n   अ) चल      आ) चलाना      इ) चलवाना     ई) चालना",null,null,null,null,null,null,null,null,null,null,null,null,null,null,null,null,null,null,"1व्या","1सामान्य","1सम","1बवि","1सम1सामान्य1बवि","1बवि1व्या","11बवि","1बवि","11सम","11बवि","11सामान्य","11सम1बवि"]
[{"$f":"IF(B52=\"\",\"\",IF(L52=\"c\",\"C\",MAX($A$14:A51)+1))","v":37},{"$f":"IF('Entry sheet-2-hin'!B47=\"\",\"\",'Entry sheet-2-hin'!B47)","v":1},{"$f":"IF('Entry sheet-2-hin'!C47=\"\",\"\",CONCATENATE(B52,'Entry sheet-2-hin'!C47))","v":"1सम"},{"$f":"IF('Entry sheet-2-hin'!D47=\"\",\"\",CONCATENATE(B52,'Entry sheet-2-hin'!D47))","v":"1सामान्य"},{"$f":"IF('Entry sheet-2-hin'!E47=\"\",\"\",CONCATENATE(B52,'Entry sheet-2-hin'!E47))","v":"1बवि"},{"$f":"IF('Entry sheet-2-hin'!F47=\"\",\"\",CONCATENATE(B52,'Entry sheet-2-hin'!F47))","v":"1व्या"},"‘पक्षी’ का समानार्थक शब्द है -  \n   अ) खग     आ) जग      इ) वृक्ष        ई) गात",null,null,null,null,null,null,null,null,null,null,null,null,null,null,null,null,null,null,"1व्या","1सामान्य","1सम","1बवि","1सम1सामान्य1बवि","1बवि1व्या","11बवि","1बवि","11सम","11बवि","11सामान्य","11सम1बवि"]
[{"$f":"IF(B53=\"\",\"\",IF(L53=\"c\",\"C\",MAX($A$14:A52)+1))","v":38},{"$f":"IF('Entry sheet-2-hin'!B48=\"\",\"\",'Entry sheet-2-hin'!B48)","v":1},{"$f":"IF('Entry sheet-2-hin'!C48=\"\",\"\",CONCATENATE(B53,'Entry sheet-2-hin'!C48))","v":"1सम"},{"$f":"IF('Entry sheet-2-hin'!D48=\"\",\"\",CONCATENATE(B53,'Entry sheet-2-hin'!D48))","v":"1सामान्य"},{"$f":"IF('Entry sheet-2-hin'!E48=\"\",\"\",CONCATENATE(B53,'Entry sheet-2-hin'!E48))","v":"1बवि"},{"$f":"IF('Entry sheet-2-hin'!F48=\"\",\"\",CONCATENATE(B53,'Entry sheet-2-hin'!F48))","v":"1व्या"},null,null,null,null,null,null,null,null,null,null,null,null,null,null,null,null,null,null,null,"1व्या","1सामान्य","1सम","1बवि","1सम1सामान्य1बवि","1बवि1व्या","11बवि","1बवि","11सम","11बवि","11सामान्य","11सम1बवि"]
[{"$f":"IF(B54=\"\",\"\",IF(L54=\"c\",\"C\",MAX($A$14:A53)+1))","v":39},{"$f":"IF('Entry sheet-2-hin'!B49=\"\",\"\",'Entry sheet-2-hin'!B49)","v":1},{"$f":"IF('Entry sheet-2-hin'!C49=\"\",\"\",CONCATENATE(B54,'Entry sheet-2-hin'!C49))","v":"1सम"},{"$f":"IF('Entry sheet-2-hin'!D49=\"\",\"\",CONCATENATE(B54,'Entry sheet-2-hin'!D49))","v":"1सामान्य"},{"$f":"IF('Entry sheet-2-hin'!E49=\"\",\"\",CONCATENATE(B54,'Entry sheet-2-hin'!E49))","v":"1बवि"},{"$f":"IF('Entry sheet-2-hin'!F49=\"\",\"\",CONCATENATE(B54,'Entry sheet-2-hin'!F49))","v":"1व्या"},null,null,null,null,null,null,null,null,null,null,null,null,null,null,null,null,null,null,null,"1व्या","1सामान्य","1सम","1बवि","1सम1सामान्य1बवि","1बवि1व्या","11बवि","1बवि","11सम","11बवि","11सामान्य","11सम1बवि"]
[{"$f":"IF(B55=\"\",\"\",IF(L55=\"c\",\"C\",MAX($A$14:A54)+1))","v":40},{"$f":"IF('Entry sheet-2-hin'!B50=\"\",\"\",'Entry sheet-2-hin'!B50)","v":1},{"$f":"IF('Entry sheet-2-hin'!C50=\"\",\"\",CONCATENATE(B55,'Entry sheet-2-hin'!C50))","v":"1सम"},{"$f":"IF('Entry sheet-2-hin'!D50=\"\",\"\",CONCATENATE(B55,'Entry sheet-2-hin'!D50))","v":"1सामान्य"},{"$f":"IF('Entry sheet-2-hin'!E50=\"\",\"\",CONCATENATE(B55,'Entry sheet-2-hin'!E50))","v":"1बवि"},{"$f":"IF('Entry sheet-2-hin'!F50=\"\",\"\",CONCATENATE(B55,'Entry sheet-2-hin'!F50))","v":"1व्या"},null,null,null,null,null,null,null,null,null,null,null,null,null,null,null,null,null,null,null,"1व्या","1सामान्य","1सम","1बवि","1सम1सामान्य1बवि","1बवि1व्या","11बवि","1बवि","11सम","11बवि","11सामान्य","11सम1बवि"]
[{"$f":"IF(B56=\"\",\"\",IF(L56=\"c\",\"C\",MAX($A$14:A55)+1))","v":41},{"$f":"IF('Entry sheet-2-hin'!B51=\"\",\"\",'Entry sheet-2-hin'!B51)","v":1},{"$f":"IF('Entry sheet-2-hin'!C51=\"\",\"\",CONCATENATE(B56,'Entry sheet-2-hin'!C51))","v":"1सम"},{"$f":"IF('Entry sheet-2-hin'!D51=\"\",\"\",CONCATENATE(B56,'Entry sheet-2-hin'!D51))","v":"1सामान्य"},{"$f":"IF('Entry sheet-2-hin'!E51=\"\",\"\",CONCATENATE(B56,'Entry sheet-2-hin'!E51))","v":"1बवि"},{"$f":"IF('Entry sheet-2-hin'!F51=\"\",\"\",CONCATENATE(B56,'Entry sheet-2-hin'!F51))","v":"1व्या"},null,null,null,null,null,null,null,null,null,null,null,null,null,null,null,null,null,null,null,"1व्या","1सामान्य","1सम","1बवि","1सम1सामान्य1बवि","1बवि1व्या","11बवि","1बवि","11सम","11बवि","11सामान्य","11सम1बवि"]
[{"$f":"IF(B57=\"\",\"\",IF(L57=\"c\",\"C\",MAX($A$14:A56)+1))","v":42},{"$f":"IF('Entry sheet-2-hin'!B52=\"\",\"\",'Entry sheet-2-hin'!B52)","v":1},{"$f":"IF('Entry sheet-2-hin'!C52=\"\",\"\",CONCATENATE(B57,'Entry sheet-2-hin'!C52))","v":"1सम"},{"$f":"IF('Entry sheet-2-hin'!D52=\"\",\"\",CONCATENATE(B57,'Entry sheet-2-hin'!D52))","v":"1सामान्य"},{"$f":"IF('Entry sheet-2-hin'!E52=\"\",\"\",CONCATENATE(B57,'Entry sheet-2-hin'!E52))","v":"1बवि"},{"$f":"IF('Entry sheet-2-hin'!F52=\"\",\"\",CONCATENATE(B57,'Entry sheet-2-hin'!F52))","v":"1व्या"},null,null,null,null,null,null,null,null,null,null,null,null,null,null,null,null,null,null,null,"1व्या","1सामान्य","1सम","1बवि","1सम1सामान्य1बवि","1बवि1व्या","11बवि","1बवि","11सम","11बवि","11सामान्य","11सम1बवि"]
[{"$f":"IF(B58=\"\",\"\",IF(L58=\"c\",\"C\",MAX($A$14:A57)+1))","v":43},{"$f":"IF('Entry sheet-2-hin'!B53=\"\",\"\",'Entry sheet-2-hin'!B53)","v":1},{"$f":"IF('Entry sheet-2-hin'!C53=\"\",\"\",CONCATENATE(B58,'Entry sheet-2-hin'!C53))","v":"1सम"},{"$f":"IF('Entry sheet-2-hin'!D53=\"\",\"\",CONCATENATE(B58,'Entry sheet-2-hin'!D53))","v":"1सरल"},{"$f":"IF('Entry sheet-2-hin'!E53=\"\",\"\",CONCATENATE(B58,'Entry sheet-2-hin'!E53))","v":"1बवि"},{"$f":"IF('Entry sheet-2-hin'!F53=\"\",\"\",CONCATENATE(B58,'Entry sheet-2-hin'!F53))","v":"1व्या"},null,null,null,null,null,null,null,null,null,null,null,null,null,null,null,null,null,null,null,"1व्या","1सरल","1सम","1बवि","1सम1सरल1बवि","1बवि1व्या","11बवि","1बवि","11सम","11बवि","11सरल","11सम1बवि"]
[{"$f":"IF(B59=\"\",\"\",IF(L59=\"c\",\"C\",MAX($A$14:A58)+1))","v":44},{"$f":"IF('Entry sheet-2-hin'!B54=\"\",\"\",'Entry sheet-2-hin'!B54)","v":20},{"$f":"IF('Entry sheet-2-hin'!C54=\"\",\"\",CONCATENATE(B59,'Entry sheet-2-hin'!C54))","v":"20अ"},{"$f":"IF('Entry sheet-2-hin'!D54=\"\",\"\",CONCATENATE(B59,'Entry sheet-2-hin'!D54))","v":"20सामान्य"},{"$f":"IF('Entry sheet-2-hin'!E54=\"\",\"\",CONCATENATE(B59,'Entry sheet-2-hin'!E54))","v":"20अलउ"},{"$f":"IF('Entry sheet-2-hin'!F54=\"\",\"\",CONCATENATE(B59,'Entry sheet-2-hin'!F54))","v":"20र"},null,null,null,null,null,null,null,null,null,null,null,null,null,null,null,null,null,null,null,"20र","20सामान्य","20अ","20अलउ","20अ20सामान्य20अलउ","20अलउ20र","2020अलउ","20अलउ","2020अ","2020अलउ","2020सामान्य","2020अ20अलउ"]
[{"$f":"IF(B60=\"\",\"\",IF(L60=\"c\",\"C\",MAX($A$14:A59)+1))","v":45},{"$f":"IF('Entry sheet-2-hin'!B58=\"\",\"\",'Entry sheet-2-hin'!B58)","v":21},{"$f":"IF('Entry sheet-2-hin'!C58=\"\",\"\",CONCATENATE(B60,'Entry sheet-2-hin'!C58))","v":"21अ"},{"$f":"IF('Entry sheet-2-hin'!D58=\"\",\"\",CONCATENATE(B60,'Entry sheet-2-hin'!D58))","v":"21सरल"},{"$f":"IF('Entry sheet-2-hin'!E58=\"\",\"\",CONCATENATE(B60,'Entry sheet-2-hin'!E58))","v":"21अलउ"},{"$f":"IF('Entry sheet-2-hin'!F58=\"\",\"\",CONCATENATE(B60,'Entry sheet-2-hin'!F58))","v":"21र"},null,null,null,null,null,null,null,null,null,null,null,null,null,null,null,null,null,null,null,"21र","21सरल","21अ","21अलउ","21अ21सरल21अलउ","21अलउ21र","2121अलउ","21अलउ","2121अ","2121अलउ","2121सरल","2121अ21अलउ"]
[{"$f":"IF(B61=\"\",\"\",IF(L61=\"c\",\"C\",MAX($A$14:A60)+1))","v":46},{"$f":"IF('Entry sheet-2-hin'!B59=\"\",\"\",'Entry sheet-2-hin'!B59)","v":21},{"$f":"IF('Entry sheet-2-hin'!C59=\"\",\"\",CONCATENATE(B61,'Entry sheet-2-hin'!C59))","v":"21अ"},{"$f":"IF('Entry sheet-2-hin'!D59=\"\",\"\",CONCATENATE(B61,'Entry sheet-2-hin'!D59))","v":"21सरल"},{"$f":"IF('Entry sheet-2-hin'!E59=\"\",\"\",CONCATENATE(B61,'Entry sheet-2-hin'!E59))","v":"21अलउ"},{"$f":"IF('Entry sheet-2-hin'!F59=\"\",\"\",CONCATENATE(B61,'Entry sheet-2-hin'!F59))","v":"21र"},null,null,null,null,null,null,null,null,null,null,null,null,null,null,null,null,null,null,null,"21र","21सरल","21अ","21अलउ","21अ21सरल21अलउ","21अलउ21र","2121अलउ","21अलउ","2121अ","2121अलउ","2121सरल","2121अ21अलउ"]
[{"$f":"IF(B62=\"\",\"\",IF(L62=\"c\",\"C\",MAX($A$14:A61)+1))","v":47},{"$f":"IF('Entry sheet-2-hin'!B60=\"\",\"\",'Entry sheet-2-hin'!B60)","v":21},{"$f":"IF('Entry sheet-2-hin'!C60=\"\",\"\",CONCATENATE(B62,'Entry sheet-2-hin'!C60))","v":"21अ"},{"$f":"IF('Entry sheet-2-hin'!D60=\"\",\"\",CONCATENATE(B62,'Entry sheet-2-hin'!D60))","v":"21सरल"},{"$f":"IF('Entry sheet-2-hin'!E60=\"\",\"\",CONCATENATE(B62,'Entry sheet-2-hin'!E60))","v":"21अलउ"},{"$f":"IF('Entry sheet-2-hin'!F60=\"\",\"\",CONCATENATE(B62,'Entry sheet-2-hin'!F60))","v":"21र"},null,null,null,null,null,null,null,null,null,null,null,null,null,null,null,null,null,null,null,"21र","21सरल","21अ","21अलउ","21अ21सरल21अलउ","21अलउ21र","2121अलउ","21अलउ","2121अ","2121अलउ","2121सरल","2121अ21अलउ"]
[{"$f":"IF(B63=\"\",\"\",IF(L63=\"c\",\"C\",MAX($A$14:A62)+1))","v":48},{"$f":"IF('Entry sheet-2-hin'!B61=\"\",\"\",'Entry sheet-2-hin'!B61)","v":21},{"$f":"IF('Entry sheet-2-hin'!C61=\"\",\"\",CONCATENATE(B63,'Entry sheet-2-hin'!C61))","v":"21अ"},{"$f":"IF('Entry sheet-2-hin'!D61=\"\",\"\",CONCATENATE(B63,'Entry sheet-2-hin'!D61))","v":"21सरल"},{"$f":"IF('Entry sheet-2-hin'!E61=\"\",\"\",CONCATENATE(B63,'Entry sheet-2-hin'!E61))","v":"21अलउ"},{"$f":"IF('Entry sheet-2-hin'!F61=\"\",\"\",CONCATENATE(B63,'Entry sheet-2-hin'!F61))","v":"21र"},null,null,null,null,null,null,null,null,null,null,null,null,null,null,null,null,null,null,null,"21र","21सरल","21अ","21अलउ","21अ21सरल21अलउ","21अलउ21र","2121अलउ","21अलउ","2121अ","2121अलउ","2121सरल","2121अ21अलउ"]
[{"$f":"IF(B64=\"\",\"\",IF(L64=\"c\",\"C\",MAX($A$14:A63)+1))","v":49},{"$f":"IF('Entry sheet-2-hin'!B62=\"\",\"\",'Entry sheet-2-hin'!B62)","v":22},{"$f":"IF('Entry sheet-2-hin'!C62=\"\",\"\",CONCATENATE(B64,'Entry sheet-2-hin'!C62))","v":"22अ"},{"$f":"IF('Entry sheet-2-hin'!D62=\"\",\"\",CONCATENATE(B64,'Entry sheet-2-hin'!D62))","v":"22कठिन"},{"$f":"IF('Entry sheet-2-hin'!E62=\"\",\"\",CONCATENATE(B64,'Entry sheet-2-hin'!E62))","v":"22दीउ४"},{"$f":"IF('Entry sheet-2-hin'!F62=\"\",\"\",CONCATENATE(B64,'Entry sheet-2-hin'!F62))","v":"22र"},"अपने भाई की शादी में भाग लेने का कारण बताते हुए अपने कक्षाध्यापक को एक पत्र लिखिए ।                                                 ",null,null,null,null,null,null,null,null,null,null,null,null,null,null,null,null,null,null,"22र","22कठिन","22अ","22दीउ४","22अ22कठिन22दीउ४","22दीउ४22र","2222दीउ४","22दीउ४","2222अ","2222दीउ४","2222कठिन","2222अ22दीउ४"]
[{"$f":"IF(B65=\"\",\"\",IF(L65=\"c\",\"C\",MAX($A$14:A64)+1))","v":50},{"$f":"IF('Entry sheet-2-hin'!B63=\"\",\"\",'Entry sheet-2-hin'!B63)","v":22},{"$f":"IF('Entry sheet-2-hin'!C63=\"\",\"\",CONCATENATE(B65,'Entry sheet-2-hin'!C63))","v":"22अ"},{"$f":"IF('Entry sheet-2-hin'!D63=\"\",\"\",CONCATENATE(B65,'Entry sheet-2-hin'!D63))","v":"22कठिन"},{"$f":"IF('Entry sheet-2-hin'!E63=\"\",\"\",CONCATENATE(B65,'Entry sheet-2-hin'!E63))","v":"22दीउ४"},{"$f":"IF('Entry sheet-2-hin'!F63=\"\",\"\",CONCATENATE(B65,'Entry sheet-2-hin'!F63))","v":"22र"},null,null,null,null,null,null,null,null,null,null,null,null,null,null,null,null,null,null,null,"22र","22कठिन","22अ","22दीउ४","22अ22कठिन22दीउ४","22दीउ४22र","2222दीउ४","22दीउ४","2222अ","2222दीउ४","2222कठिन","2222अ22दीउ४"]
[{"$f":"IF(B66=\"\",\"\",IF(L66=\"c\",\"C\",MAX($A$14:A65)+1))","v":51},{"$f":"IF('Entry sheet-2-hin'!B64=\"\",\"\",'Entry sheet-2-hin'!B64)","v":23},{"$f":"IF('Entry sheet-2-hin'!C64=\"\",\"\",CONCATENATE(B66,'Entry sheet-2-hin'!C64))","v":"23अ"},{"$f":"IF('Entry sheet-2-hin'!D64=\"\",\"\",CONCATENATE(B66,'Entry sheet-2-hin'!D64))","v":"23कठिन"},{"$f":"IF('Entry sheet-2-hin'!E64=\"\",\"\",CONCATENATE(B66,'Entry sheet-2-hin'!E64))","v":"23दीउ४"},{"$f":"IF('Entry sheet-2-hin'!F64=\"\",\"\",CONCATENATE(B66,'Entry sheet-2-hin'!F64))","v":"23र"},"समय का महत्व   ( विषयवस्तु, प्रकार, महत्व, उपसंहार )",null,null,null,null,null,null,null,null,null,null,null,null,null,null,null,null,null,null,"23र","23कठिन","23अ","23दीउ४","23अ23कठिन23दीउ४","23दीउ४23र","2323दीउ४","23दीउ४","2323अ","2323दीउ४","2323कठिन","2323अ23दीउ४"]
[{"$f":"IF(B67=\"\",\"\",IF(L67=\"c\",\"C\",MAX($A$14:A66)+1))","v":52},{"$f":"IF('Entry sheet-2-hin'!B65=\"\",\"\",'Entry sheet-2-hin'!B65)","v":23},{"$f":"IF('Entry sheet-2-hin'!C65=\"\",\"\",CONCATENATE(B67,'Entry sheet-2-hin'!C65))","v":"23अ"},{"$f":"IF('Entry sheet-2-hin'!D65=\"\",\"\",CONCATENATE(B67,'Entry sheet-2-hin'!D65))","v":"23कठिन"},{"$f":"IF('Entry sheet-2-hin'!E65=\"\",\"\",CONCATENATE(B67,'Entry sheet-2-hin'!E65))","v":"23दीउ४"},{"$f":"IF('Entry sheet-2-hin'!F65=\"\",\"\",CONCATENATE(B67,'Entry sheet-2-hin'!F65))","v":"23र"},null,null,null,null,null,null,null,null,null,null,null,null,null,null,null,null,null,null,null,"23र","23कठिन","23अ","23दीउ४","23अ23कठिन23दीउ४","23दीउ४23र","2323दीउ४","23दीउ४","2323अ","2323दीउ४","2323कठिन","2323अ23दीउ४"]
[{"$f":"IF(B68=\"\",\"\",IF(L68=\"c\",\"C\",MAX($A$14:A67)+1))","v":53},{"$f":"IF('Entry sheet-2-hin'!B66=\"\",\"\",'Entry sheet-2-hin'!B66)","v":23},{"$f":"IF('Entry sheet-2-hin'!C66=\"\",\"\",CONCATENATE(B68,'Entry sheet-2-hin'!C66))","v":"23अ"},{"$f":"IF('Entry sheet-2-hin'!D66=\"\",\"\",CONCATENATE(B68,'Entry sheet-2-hin'!D66))","v":"23कठिन"},{"$f":"IF('Entry sheet-2-hin'!E66=\"\",\"\",CONCATENATE(B68,'Entry sheet-2-hin'!E66))","v":"23दीउ४"},{"$f":"IF('Entry sheet-2-hin'!F66=\"\",\"\",CONCATENATE(B68,'Entry sheet-2-hin'!F66))","v":"23र"},null,null,null,null,null,null,null,null,null,null,null,null,null,null,null,null,null,null,null,"23र","23कठिन","23अ","23दीउ४","23अ23कठिन23दीउ४","23दीउ४23र","2323दीउ४","23दीउ४","2323अ","2323दीउ४","2323कठिन","2323अ23दीउ४"]
[{"$f":"IF(B69=\"\",\"\",IF(L69=\"c\",\"C\",MAX($A$14:A68)+1))","v":""},{"$f":"IF('Entry sheet-2-hin'!B67=\"\",\"\",'Entry sheet-2-hin'!B67)","v":""},{"$f":"IF('Entry sheet-2-hin'!C67=\"\",\"\",CONCATENATE(B69,'Entry sheet-2-hin'!C67))","v":""},{"$f":"IF('Entry sheet-2-hin'!D67=\"\",\"\",CONCATENATE(B69,'Entry sheet-2-hin'!D67))","v":""},{"$f":"IF('Entry sheet-2-hin'!E67=\"\",\"\",CONCATENATE(B69,'Entry sheet-2-hin'!E67))","v":""},{"$f":"IF('Entry sheet-2-hin'!F67=\"\",\"\",CONCATENATE(B69,'Entry sheet-2-hin'!F67))","v":""},null,null,null,null,null,null,null,null,null,null,null,null,null,null,null,null,null,null,null,"","","","","","","","","","","",""]
[{"$f":"IF(B70=\"\",\"\",IF(L70=\"c\",\"C\",MAX($A$14:A69)+1))","v":""},{"$f":"IF('Entry sheet-2-hin'!B68=\"\",\"\",'Entry sheet-2-hin'!B68)","v":""},{"$f":"IF('Entry sheet-2-hin'!C68=\"\",\"\",CONCATENATE(B70,'Entry sheet-2-hin'!C68))","v":""},{"$f":"IF('Entry sheet-2-hin'!D68=\"\",\"\",CONCATENATE(B70,'Entry sheet-2-hin'!D68))","v":""},{"$f":"IF('Entry sheet-2-hin'!E68=\"\",\"\",CONCATENATE(B70,'Entry sheet-2-hin'!E68))","v":""},{"$f":"IF('Entry sheet-2-hin'!F68=\"\",\"\",CONCATENATE(B70,'Entry sheet-2-hin'!F68))","v":""},null,null,null,null,null,null,null,null,null,null,null,null,null,null,null,null,null,null,null,"","","","","","","","","","","",""]
[{"$f":"IF(B71=\"\",\"\",IF(L71=\"c\",\"C\",MAX($A$14:A70)+1))","v":""},{"$f":"IF('Entry sheet-2-hin'!B69=\"\",\"\",'Entry sheet-2-hin'!B69)","v":""},{"$f":"IF('Entry sheet-2-hin'!C69=\"\",\"\",CONCATENATE(B71,'Entry sheet-2-hin'!C69))","v":""},{"$f":"IF('Entry sheet-2-hin'!D69=\"\",\"\",CONCATENATE(B71,'Entry sheet-2-hin'!D69))","v":""},{"$f":"IF('Entry sheet-2-hin'!E69=\"\",\"\",CONCATENATE(B71,'Entry sheet-2-hin'!E69))","v":""},{"$f":"IF('Entry sheet-2-hin'!F69=\"\",\"\",CONCATENATE(B71,'Entry sheet-2-hin'!F69))","v":""},null,null,null,null,null,null,null,null,null,null,null,null,null,null,null,null,null,null,null,"","","","","","","","","","","",""]
[{"$f":"IF(B72=\"\",\"\",IF(L72=\"c\",\"C\",MAX($A$14:A71)+1))","v":""},{"$f":"IF('Entry sheet-2-hin'!B67=\"\",\"\",'Entry sheet-2-hin'!B67)","v":""},{"$f":"IF('Entry sheet-2-hin'!C70=\"\",\"\",CONCATENATE(B72,'Entry sheet-2-hin'!C70))","v":""},{"$f":"IF('Entry sheet-2-hin'!D70=\"\",\"\",CONCATENATE(B72,'Entry sheet-2-hin'!D70))","v":""},{"$f":"IF('Entry sheet-2-hin'!E70=\"\",\"\",CONCATENATE(B72,'Entry sheet-2-hin'!E70))","v":""},{"$f":"IF('Entry sheet-2-hin'!F70=\"\",\"\",CONCATENATE(B72,'Entry sheet-2-hin'!F70))","v":""},null,null,null,null,null,null,null,null,null,null,null,null,null,null,null,null,null,null,null,"","","","","","","","","","","",""]
[{"$f":"IF(B73=\"\",\"\",IF(L73=\"c\",\"C\",MAX($A$14:A72)+1))","v":""},{"$f":"IF('Entry sheet-2-hin'!B68=\"\",\"\",'Entry sheet-2-hin'!B68)","v":""},{"$f":"IF('Entry sheet-2-hin'!C71=\"\",\"\",CONCATENATE(B73,'Entry sheet-2-hin'!C71))","v":""},{"$f":"IF('Entry sheet-2-hin'!D71=\"\",\"\",CONCATENATE(B73,'Entry sheet-2-hin'!D71))","v":""},{"$f":"IF('Entry sheet-2-hin'!E71=\"\",\"\",CONCATENATE(B73,'Entry sheet-2-hin'!E71))","v":""},{"$f":"IF('Entry sheet-2-hin'!F71=\"\",\"\",CONCATENATE(B73,'Entry sheet-2-hin'!F71))","v":""},null,null,null,null,null,null,null,null,null,null,null,null,null,null,null,null,null,null,null,"","","","","","","","","","","",""]
[{"$f":"IF(B74=\"\",\"\",IF(L74=\"c\",\"C\",MAX($A$14:A73)+1))","v":""},{"$f":"IF('Entry sheet-2-hin'!B69=\"\",\"\",'Entry sheet-2-hin'!B69)","v":""},{"$f":"IF('Entry sheet-2-hin'!C72=\"\",\"\",CONCATENATE(B74,'Entry sheet-2-hin'!C72))","v":""},{"$f":"IF('Entry sheet-2-hin'!D72=\"\",\"\",CONCATENATE(B74,'Entry sheet-2-hin'!D72))","v":""},{"$f":"IF('Entry sheet-2-hin'!E72=\"\",\"\",CONCATENATE(B74,'Entry sheet-2-hin'!E72))","v":""},{"$f":"IF('Entry sheet-2-hin'!F72=\"\",\"\",CONCATENATE(B74,'Entry sheet-2-hin'!F72))","v":""},null,null,null,null,null,null,null,null,null,null,null,null,null,null,null,null,null,null,null,"","","","","","","","","","","",""]
[{"$f":"IF(B75=\"\",\"\",IF(L75=\"c\",\"C\",MAX($A$14:A74)+1))","v":""},{"$f":"IF('Entry sheet-2-hin'!B70=\"\",\"\",'Entry sheet-2-hin'!B70)","v":""},{"$f":"IF('Entry sheet-2-hin'!C73=\"\",\"\",CONCATENATE(B75,'Entry sheet-2-hin'!C73))","v":""},{"$f":"IF('Entry sheet-2-hin'!D73=\"\",\"\",CONCATENATE(B75,'Entry sheet-2-hin'!D73))","v":""},{"$f":"IF('Entry sheet-2-hin'!E73=\"\",\"\",CONCATENATE(B75,'Entry sheet-2-hin'!E73))","v":""},{"$f":"IF('Entry sheet-2-hin'!F73=\"\",\"\",CONCATENATE(B75,'Entry sheet-2-hin'!F73))","v":""},null,null,null,null,null,null,null,null,null,null,null,null,null,null,null,null,null,null,null,"","","","","","","","","","","",""]
[{"$f":"IF(B76=\"\",\"\",IF(L76=\"c\",\"C\",MAX($A$14:A75)+1))","v":""},{"$f":"IF('Entry sheet-2-hin'!B71=\"\",\"\",'Entry sheet-2-hin'!B71)","v":""},{"$f":"IF('Entry sheet-2-hin'!C74=\"\",\"\",CONCATENATE(B76,'Entry sheet-2-hin'!C74))","v":""},{"$f":"IF('Entry sheet-2-hin'!D74=\"\",\"\",CONCATENATE(B76,'Entry sheet-2-hin'!D74))","v":""},{"$f":"IF('Entry sheet-2-hin'!E74=\"\",\"\",CONCATENATE(B76,'Entry sheet-2-hin'!E74))","v":""},{"$f":"IF('Entry sheet-2-hin'!F74=\"\",\"\",CONCATENATE(B76,'Entry sheet-2-hin'!F74))","v":""},null,null,null,null,null,null,null,null,null,null,null,null,null,null,null,null,null,null,null,"","","","","","","","","","","",""]
[{"$f":"IF(B77=\"\",\"\",IF(L77=\"c\",\"C\",MAX($A$14:A76)+1))","v":""},{"$f":"IF('Entry sheet-2-hin'!B72=\"\",\"\",'Entry sheet-2-hin'!B72)","v":""},{"$f":"IF('Entry sheet-2-hin'!C75=\"\",\"\",CONCATENATE(B77,'Entry sheet-2-hin'!C75))","v":""},{"$f":"IF('Entry sheet-2-hin'!D75=\"\",\"\",CONCATENATE(B77,'Entry sheet-2-hin'!D75))","v":""},{"$f":"IF('Entry sheet-2-hin'!E75=\"\",\"\",CONCATENATE(B77,'Entry sheet-2-hin'!E75))","v":""},{"$f":"IF('Entry sheet-2-hin'!F75=\"\",\"\",CONCATENATE(B77,'Entry sheet-2-hin'!F75))","v":""},null,null,null,null,null,null,null,null,null,null,null,null,null,null,null,null,null,null,null,"","","","","","","","","","","",""]

{"sheet":"uddista","index":8,"n_rows":22,"n_cols":8,"rows_kept":22,"cut":false,"hidden":false,"merged":[[21,6,21,8],[20,6,20,8],[9,5,9,6],[5,7,5,8],[6,7,6,8],[9,0,9,2],[7,7,7,8],[8,7,8,8],[9,7,9,8],[7,3,7,4],[8,3,8,4],[9,3,9,4],[7,5,7,6],[8,5,8,6],[3,0,3,8],[0,0,0,9],[1,0,1,9],[5,3,5,4],[6,3,6,4],[5,5,5,6],[6,5,6,6],[4,1,4,2],[4,7,4,8],[4,5,4,6]]}
[{"$f":"IF('Entry sheet-1-hin'!C2=\"\",\"\",'Entry sheet-1-hin'!C2)","v":"सरकारी पदवि पूर्व कॉलेंज (प्रौ.शा.वि) गुरुगुंटा, ता : लिंगसुगूर"}]
[{"$f":"IF('Entry sheet-1-hin'!C3=\"\",\"\",'Entry sheet-1-hin'!C3)","v":"रूपणात्मक परीक्षा - 2   २०१६-१७"}]
[{"$f":"'Entry sheet-1-hin'!A4:B4","v":"कक्षा"},{"$f":"IF('Entry sheet-1-hin'!C4=\"\",\"\",'Entry sheet-1-hin'!C4)","v":"दसवीं "},null,null,null,null,null,{"$f":"'Entry sheet-1-hin'!A5&IF('Entry sheet-1-hin'!C5=\"\",\"\",'Entry sheet-1-hin'!C5)","v":"विषयहिंदी"}]
["उद्देश्यों के आधार पर"]
[{"$f":"'Entry sheet-1-hin'!A9","v":"क्र.सं"},{"$f":"'Entry sheet-1-hin'!E9","v":"उद्देश्य"},null,{"$f":"'Entry sheet-1-hin'!F9","v":"प्रतिशत"},"%",{"$f":"'Entry sheet-1-hin'!F19","v":"अंक"},null,"प्रश्‍न"]
[1,{"$f":"'Entry sheet-1-hin'!E10","v":"स्मरण रखना"},"स्म",{"$f":"IF(F6=\"\",\"\",F6/'Entry sheet-1-hin'!$C$6*100)","v":20},null,{"$f":"('Entry sheet-2-hin'!C4*'Entry sheet-1-hin'!$C$6)/100","v":16},null,{"$f":"COUNTIF('Entry sheet-2-hin'!$AC$9:$AC$68,\"स्म\")","v":10}]
[2,{"$f":"'Entry sheet-1-hin'!E11","v":"समझना"},"सम",{"$f":"IF(F7=\"\",\"\",F7/'Entry sheet-1-hin'!$C$6*100)","v":40},null,{"$f":"('Entry sheet-2-hin'!E4*('Entry sheet-1-hin'!$C$6)/100)","v":32},null,{"$f":"COUNTIF('Entry sheet-2-hin'!$AC$9:$AC$68,\"सम\")","v":22}]
[3,{"$f":"'Entry sheet-1-hin'!E12","v":"अभिव्यक्ति"},"अ",{"$f":"IF(F8=\"\",\"\",F8/'Entry sheet-1-hin'!$C$6*100)","v":36.25},null,{"$f":"('Entry sheet-2-hin'!G4*'Entry sheet-1-hin'!$C$6)/100","v":29},null,{"$f":"COUNTIF('Entry sheet-2-hin'!$AC$9:$AC$68,\"अ\")","v":16}]
[4,{"$f":"'Entry sheet-1-hin'!E13","v":"रसग्रहण"},"रस",{"$f":"IF(F9=\"\",\"\",F9/'Entry sheet-1-hin'!$C$6*100)","v":3.75},null,{"$f":"('Entry sheet-2-hin'!J4*'Entry sheet-1-hin'!$C$6)/100","v":3},null,{"$f":"COUNTIF('Entry sheet-2-hin'!$AC$9:$AC$68,\"रस\")","v":1}]
["कुल",null,null,{"$f":"IF(D6:D9=\"\",\"\",SUM(D6:D9))","v":100},null,{"$f":"IF(F6:F9=\"\",\"\",SUM(F6:F9))","v":80},null,{"$f":"IF(H6:H9=\"\",\"\",SUM(H6:H9))","v":49}]
[]
[]
[]
[]
[]
[]
[]
[]
[]
[]
[null,null,null,null,null,null,"हस्ताक्षर"]
[null,null,null,null,null,null,{"$f":"IF('Entry sheet-1-hin'!C7=\"\",\"\",\"(\"&'Entry sheet-1-hin'!C7&\")\")","v":"(नागलिंगय्या)"}]

{"sheet":"QUESTION WISE","index":9,"n_rows":25,"n_cols":8,"rows_kept":25,"cut":false,"hidden":false,"merged":[[24,6,24,8],[4,3,4,4],[23,6,23,8],[9,3,9,4],[9,5,9,6],[9,7,9,8],[7,3,7,4],[7,5,7,6],[7,7,7,8],[8,3,8,4],[8,5,8,6],[8,7,8,8],[11,0,11,2],[11,3,11,4],[11,5,11,6],[11,7,11,8],[10,3,10,4],[10,5,10,6],[10,7,10,8],[0,0,0,9],[1,0,1,9],[3,0,3,8],[4,1,4,2],[6,3,6,4],[6,5,6,6],[5,7,5,8],[5,3,5,4],[5,5,5,6],[6,7,6,8],[4,5,4,6],[4,7,4,8]]}
[{"$f":"IF('Entry sheet-1-hin'!C2=\"\",\"\",'Entry sheet-1-hin'!C2)","v":"सरकारी पदवि पूर्व कॉलेंज (प्रौ.शा.वि) गुरुगुंटा, ता : लिंगसुगूर"}]
[{"$f":"IF('Entry sheet-1-hin'!C3=\"\",\"\",'Entry sheet-1-hin'!C3)","v":"रूपणात्मक परीक्षा - 2   २०१६-१७"}]
["कक्षा:",{"$f":"IF('Entry sheet-1-hin'!C4=\"\",\"\",'Entry sheet-1-hin'!C4)","v":"दसवीं "},null,null,null,null,null,{"$f":"'Entry sheet-1-hin'!A5&IF('Entry sheet-1-hin'!C5=\"\",\"\",'Entry sheet-1-hin'!C5)","v":"विषयहिंदी"}]
["प्रश्‍नों के प्रकार के आधार पर प्रतिशत और अंक "]
[{"$f":"uddista!A5","v":"क्र.सं"},{"$f":"'Entry sheet-1-hin'!G9","v":"प्रश्‍न-प्रकार"},null,"प्रतिशत",null,"अंक",null,"प्रश्‍न"]
[1,"बहुविकल्पीय (व्याकरण और अपठित गद्य","MC",{"$f":"IF(F6=\"\",\"\",F6/'Entry sheet-1-hin'!$C$6*100)","v":10},null,{"$f":"IF(H6=\"\",\"\",H6*1)","v":8},null,{"$f":"IF('Entry sheet-2-hin'!$C$7=\"\",\"\",'Entry sheet-2-hin'!$C$7)","v":8}]
[2,"अनुरूपता और जोड़कर लिखना","OT",{"$f":"IF(F7=\"\",\"\",F7/'Entry sheet-1-hin'!$C$6*100)","v":10},null,{"$f":"IF(H7=\"\",\"\",H7*1)","v":8},null,{"$f":"IF('Entry sheet-2-hin'!$E$7=\"\",\"\",'Entry sheet-2-hin'!$E$7)","v":8}]
[3,"अति लघूत्तर","SA1",{"$f":"IF(F8=\"\",\"\",F8/'Entry sheet-1-hin'!$C$6*100)","v":17.5},null,14,null,{"$f":"IF('Entry sheet-2-hin'!$G$7=\"\",\"\",'Entry sheet-2-hin'!$G$7)","v":14}]
[4,"लघूत्तर ( 2अंकवाले)","SA2",{"$f":"IF(F9=\"\",\"\",F9/'Entry sheet-1-hin'!$C$6*100)","v":27.500000000000004},null,{"$f":"IF(H9=\"\",\"\",H9*2)","v":22},null,{"$f":"IF('Entry sheet-2-hin'!$J$7=\"\",\"\",'Entry sheet-2-hin'!$J$7)","v":11}]
[5,"लघूत्तर ( 3अंकवाले)","LA1",{"$f":"IF(F10=\"\",\"\",F10/'Entry sheet-1-hin'!$C$6*100)","v":15},null,{"$f":"IF(H10=\"\",\"\",H10*3)","v":12},null,{"$f":"IF('Entry sheet-2-hin'!$L$7=\"\",\"\",'Entry sheet-2-hin'!$L$7)","v":4}]
[6,"दीर्घोत्तर (4अंकवाले)","LA2",{"$f":"IF(F11=\"\",\"\",F11/'Entry sheet-1-hin'!$C$6*100)","v":20},null,{"$f":"IF(H11=\"\",\"\",H11*4)","v":16},null,{"$f":"IF('Entry sheet-2-hin'!$N$7=\"\",\"\",'Entry sheet-2-hin'!$N$7)","v":4}]
["MlÄÖ",null,null,{"$f":"IF(D6:D11=\"\",\"\",SUM(D6:D11))","v":100},null,{"$f":"IF(F6:F11=\"\",\"\",SUM(F6:F11))","v":80},null,{"$f":"IF(H6:H11=\"\",\"\",SUM(H6:H11))","v":49}]
[]
[]
[]
[]
[]
[]
[]
[]
[]
[]
[]
[null,null,null,null,null,null,"हस्ताक्षर"]
[null,null,null,null,null,null,{"$f":"IF('Entry sheet-1-hin'!C7=\"\",\"\",\"(\"&'Entry sheet-1-hin'!C7&\")\")","v":"(नागलिंगय्या)"}]

{"sheet":"difficulty wise","index":10,"n_rows":22,"n_cols":8,"rows_kept":22,"cut":false,"hidden":false,"merged":[[21,5,21,7],[20,5,20,7],[8,0,8,2],[8,3,8,4],[8,5,8,6],[8,7,8,8],[6,3,6,4],[6,5,6,6],[6,7,6,8],[7,3,7,4],[7,5,7,6],[7,7,7,8],[0,0,0,9],[1,0,1,9],[3,0,3,8],[4,1,4,2],[5,3,5,4],[5,5,5,6],[5,7,5,8],[4,3,4,4],[4,5,4,6],[4,7,4,8]]}
[{"$f":"IF('Entry sheet-1-hin'!C2=\"\",\"\",'Entry sheet-1-hin'!C2)","v":"सरकारी पदवि पूर्व कॉलेंज (प्रौ.शा.वि) गुरुगुंटा, ता : लिंगसुगूर"}]
[{"$f":"IF('Entry sheet-1-hin'!C3=\"\",\"\",'Entry sheet-1-hin'!C3)","v":"रूपणात्मक परीक्षा - 2   २०१६-१७"}]
["कक्षा",{"$f":"IF('Entry sheet-1-hin'!C4=\"\",\"\",'Entry sheet-1-hin'!C4)","v":"दसवीं "},null,null,null,null,null,{"$f":"'Entry sheet-1-hin'!A5&IF('Entry sheet-1-hin'!C5=\"\",\"\",'Entry sheet-1-hin'!C5)","v":"विषयहिंदी"}]
["स्तर के आधार पर"]
["क्र.सं","स्तर",null,"प्रतिशत",null,"अंक",null,"प्रश्‍न"]
[1,"सरल","E",{"$f":"IF(F6=\"\",\"\",F6/'Entry sheet-1-hin'!$C$6*100)","v":30},null,{"$f":"IF('Entry sheet-2-hin'!M4=\"\",\"\",('Entry sheet-2-hin'!M4*'Entry sheet-1-hin'!$C$6)/100)","v":24},null,{"$f":"IF(F6=\"\",\"\",COUNTIF('Entry sheet-2-hin'!$AB$9:$AB$68,\"सरल\"))","v":16}]
[2,"सामान्य","M",{"$f":"IF(F7=\"\",\"\",F7/'Entry sheet-1-hin'!$C$6*100)","v":50},null,{"$f":"IF('Entry sheet-2-hin'!O4=\"\",\"\",('Entry sheet-2-hin'!O4*'Entry sheet-1-hin'!$C$6)/100)","v":40},null,{"$f":"IF(F7=\"\",\"\",COUNTIF('Entry sheet-2-hin'!$AB$9:$AB$68,\"सामान्य\"))","v":28}]
[3,"कठिन","D",{"$f":"IF(F8=\"\",\"\",F8/'Entry sheet-1-hin'!$C$6*100)","v":20},null,{"$f":"IF('Entry sheet-2-hin'!S4=\"\",\"\",('Entry sheet-2-hin'!S4*'Entry sheet-1-hin'!$C$6)/100)","v":16},null,{"$f":"IF(F8=\"\",\"\",COUNTIF('Entry sheet-2-hin'!$AB$9:$AB$68,\"कठिन\"))","v":5}]
["कुल",null,null,{"$f":"IF(D6:D8=\"\",\"\",SUM(D6:D8))","v":100},null,{"$f":"IF(F6:F8=\"\",\"\",SUM(F6:F8))","v":80},null,{"$f":"IF(H6:H8=\"\",\"\",SUM(H6:H8))","v":49}]
[]
[]
[]
[]
[]
[]
[]
[]
[]
[]
[]
[null,null,null,null,null,"हस्ताक्षर"]
[null,null,null,null,null,{"$f":"IF('Entry sheet-1-hin'!C7=\"\",\"\",\"(\"&'Entry sheet-1-hin'!C7&\")\")","v":"(नागलिंगय्या)"}]

{"sheet":"chapterwise","index":11,"n_rows":72,"n_cols":18,"rows_kept":72,"cut":false,"hidden":false,"merged":[[1,0,1,17],[0,0,0,17],[4,16,5,16],[4,17,5,17],[4,15,5,15],[4,2,4,5],[4,0,5,0],[4,1,5,1],[4,6,4,11],[71,0,71,17],[59,11,59,15],[56,0,56,1],[4,12,4,14],[3,0,3,17]]}
[{"$f":"IF('Entry sheet-1-hin'!C2=\"\",\"\",'Entry sheet-1-hin'!C2)","v":"सरकारी पदवि पूर्व कॉलेंज (प्रौ.शा.वि) गुरुगुंटा, ता : लिंगसुगूर"}]
[{"$f":"IF('Entry sheet-1-hin'!C3=\"\",\"\",'Entry sheet-1-hin'!C3)","v":"रूपणात्मक परीक्षा - 2   २०१६-१७"}]
[{"$f":"'Entry sheet-1-hin'!A4:B4","v":"कक्षा"},{"$f":"IF('Entry sheet-1-hin'!C4=\"\",\"\",'Entry sheet-1-hin'!C4)","v":"दसवीं "},null,null,null,null,null,null,null,null,null,null,null,null,null,{"$f":"'Entry sheet-1-hin'!A5&IF('Entry sheet-1-hin'!C5=\"\",\"\",'Entry sheet-1-hin'!C5)","v":"विषयहिंदी"}]
["पाठों पर अंक बँटवार"]
["क्र.सं","पाठ का नाम","उद्देश्यों के आधार पर प्रश्‍नों की संख्या",null,null,null," प्रकार पर प्रश्‍नों की संख्या",null,null,null,null,null,"स्तर के आधार पर प्रश्‍नों की संख्या",null,null,"प्रश्‍नों की संख्या","कुल अंक","प्रतिशत"]
[null,null,"स्म","सम","अ","रस","बवि","वनि(जोड़कर,अनुरूपता)","अलउ","लउ२","लउ३","दीउ","सरल","सामान्य","कठिन","SA3","SA4","LA3"]
[{"$f":"IF('Entry sheet-1-hin'!A10=\"\",\"\",'Entry sheet-1-hin'!A10)","v":1},{"$f":"IF('Entry sheet-1-hin'!B10=\"\",\"\",'Entry sheet-1-hin'!B10)","v":"व्याकरण "},{"$f":"IF(B7=\"\",\"\",COUNTIF('Entry sheet-2-hin'!$AI$9:$AI$68,\"1स्म\"))","v":0},{"$f":"IF(B7=\"\",\"\",COUNTIF('Entry sheet-2-hin'!$AI$9:$AI$68,\"1सम\"))","v":8},{"$f":"IF(B7=\"\",\"\",COUNTIF('Entry sheet-2-hin'!$AI$9:$AI$68,\"1अ\"))","v":0},{"$f":"IF(B7=\"\",\"\",COUNTIF('Entry sheet-2-hin'!$AI$9:$AI$68,\"1रस\"))","v":0},{"$f":"IF(B7=\"\",\"\",COUNTIF('Entry sheet-2-hin'!$AJ$9:$AJ$68,\"1बवि\"))","v":8},{"$f":"IF(B7=\"\",\"\",COUNTIF('Entry sheet-2-hin'!$AJ$9:$AJ$68,\"1वनि\"))","v":0},{"$f":"IF(B7=\"\",\"\",COUNTIF('Entry sheet-2-hin'!$AJ$9:$AJ$68,\"1अलउ\"))","v":0},{"$f":"IF(B7=\"\",\"\",COUNTIF('Entry sheet-2-hin'!$AJ$9:$AJ$68,\"1लउ२\"))","v":0},{"$f":"IF(B7=\"\",\"\",COUNTIF('Entry sheet-2-hin'!$AJ$9:$AJ$68,\"1लउ३\"))","v":0},{"$f":"IF(B7=\"\",\"\",COUNTIF('Entry sheet-2-hin'!$AJ$9:$AJ$68,\"1दीउ४\"))","v":0},{"$f":"IF(B7=\"\",\"\",COUNTIF('Entry sheet-2-hin'!$AK$9:$AK$68,\"1सरल\"))","v":1},{"$f":"IF(B7=\"\",\"\",COUNTIF('Entry sheet-2-hin'!$AK$9:$AK$68,\"1सामान्य\"))","v":7},{"$f":"IF(B7=\"\",\"\",COUNTIF('Entry sheet-2-hin'!$AK$9:$AK$68,\"1कठिन\"))","v":0},{"$f":"IF(B7=\"\",\"\",SUM(G7:L7))","v":8},{"$f":"IF(B7=\"\",\"\",G7*1+H7*1+I7*1+J7*2+K7*3+L7*4)","v":8},{"$f":"IF(B7=\"\",\"\",Q7/'Entry sheet-1-hin'!$C$6*100)","v":10}]
[{"$f":"IF('Entry sheet-1-hin'!A11=\"\",\"\",'Entry sheet-1-hin'!A11)","v":2},{"$f":"IF('Entry sheet-1-hin'!B11=\"\",\"\",'Entry sheet-1-hin'!B11)","v":"प्रभो"},{"$f":"IF(B8=\"\",\"\",COUNTIF('Entry sheet-2-hin'!$AI$9:$AI$68,\"2स्म\"))","v":2},{"$f":"IF(B8=\"\",\"\",COUNTIF('Entry sheet-2-hin'!$AI$9:$AI$68,\"2सम\"))","v":3},{"$f":"IF(B8=\"\",\"\",COUNTIF('Entry sheet-2-hin'!$AI$9:$AI$68,\"2अ\"))","v":0},{"$f":"IF(B8=\"\",\"\",COUNTIF('Entry sheet-2-hin'!$AI$9:$AI$68,\"2रस\"))","v":1},{"$f":"IF(B8=\"\",\"\",COUNTIF('Entry sheet-2-hin'!$AJ$9:$AJ$68,\"2बवि\"))","v":0},{"$f":"IF(B8=\"\",\"\",COUNTIF('Entry sheet-2-hin'!$AJ$9:$AJ$68,\"2वनि\"))","v":2},{"$f":"IF(B8=\"\",\"\",COUNTIF('Entry sheet-2-hin'!$AJ$9:$AJ$68,\"2अलउ\"))","v":1},{"$f":"IF(B8=\"\",\"\",COUNTIF('Entry sheet-2-hin'!$AJ$9:$AJ$68,\"2लउ२\"))","v":2},{"$f":"IF(B8=\"\",\"\",COUNTIF('Entry sheet-2-hin'!$AJ$9:$AJ$68,\"2लउ३\"))","v":1},{"$f":"IF(B8=\"\",\"\",COUNTIF('Entry sheet-2-hin'!$AJ$9:$AJ$68,\"2दीउ४\"))","v":0},{"$f":"IF(B8=\"\",\"\",COUNTIF('Entry sheet-2-hin'!$AK$9:$AK$68,\"2सरल\"))","v":3},{"$f":"IF(B8=\"\",\"\",COUNTIF('Entry sheet-2-hin'!$AK$9:$AK$68,\"2सामान्य\"))","v":2},{"$f":"IF(B8=\"\",\"\",COUNTIF('Entry sheet-2-hin'!$AK$9:$AK$68,\"2कठिन\"))","v":1},{"$f":"IF(B8=\"\",\"\",SUM(G8:L8))","v":6},{"$f":"IF(B8=\"\",\"\",G8*1+H8*1+I8*1+J8*2+K8*3+L8*4)","v":10},{"$f":"IF(B8=\"\",\"\",Q8/'Entry sheet-1-hin'!$C$6*100)","v":12.5}]
[{"$f":"IF('Entry sheet-1-hin'!A12=\"\",\"\",'Entry sheet-1-hin'!A12)","v":3},{"$f":"IF('Entry sheet-1-hin'!B12=\"\",\"\",'Entry sheet-1-hin'!B12)","v":"रवींद्रनाथ ठाकुर"},{"$f":"IF(B9=\"\",\"\",COUNTIF('Entry sheet-2-hin'!$AI$9:$AI$68,\"3स्म\"))","v":1},{"$f":"IF(B9=\"\",\"\",COUNTIF('Entry sheet-2-hin'!$AI$9:$AI$68,\"3सम\"))","v":1},{"$f":"IF(B9=\"\",\"\",COUNTIF('Entry sheet-2-hin'!$AI$9:$AI$68,\"3अ\"))","v":1},{"$f":"IF(B9=\"\",\"\",COUNTIF('Entry sheet-2-hin'!$AI$9:$AI$68,\"3रस\"))","v":0},{"$f":"IF(B9=\"\",\"\",COUNTIF('Entry sheet-2-hin'!$AJ$9:$AJ$68,\"3बवि\"))","v":0},{"$f":"IF(B9=\"\",\"\",COUNTIF('Entry sheet-2-hin'!$AJ$9:$AJ$68,\"3वनि\"))","v":0},{"$f":"IF(B9=\"\",\"\",COUNTIF('Entry sheet-2-hin'!$AJ$9:$AJ$68,\"3अलउ\"))","v":1},{"$f":"IF(B9=\"\",\"\",COUNTIF('Entry sheet-2-hin'!$AJ$9:$AJ$68,\"3लउ२\"))","v":1},{"$f":"IF(B9=\"\",\"\",COUNTIF('Entry sheet-2-hin'!$AJ$9:$AJ$68,\"3लउ३\"))","v":0},{"$f":"IF(B9=\"\",\"\",COUNTIF('Entry sheet-2-hin'!$AJ$9:$AJ$68,\"3दीउ४\"))","v":1},{"$f":"IF(B9=\"\",\"\",COUNTIF('Entry sheet-2-hin'!$AK$9:$AK$68,\"3सरल\"))","v":2},{"$f":"IF(B9=\"\",\"\",COUNTIF('Entry sheet-2-hin'!$AK$9:$AK$68,\"3सामान्य\"))","v":1},{"$f":"IF(B9=\"\",\"\",COUNTIF('Entry sheet-2-hin'!$AK$9:$AK$68,\"3कठिन\"))","v":0},3,7,{"$f":"IF(B9=\"\",\"\",Q9/'Entry sheet-1-hin'!$C$6*100)","v":8.75}]
[{"$f":"IF('Entry sheet-1-hin'!A13=\"\",\"\",'Entry sheet-1-hin'!A13)","v":4},{"$f":"IF('Entry sheet-1-hin'!B13=\"\",\"\",'Entry sheet-1-hin'!B13)","v":"भक्तों के भगवान"},{"$f":"IF(B10=\"\",\"\",COUNTIF('Entry sheet-2-hin'!$AI$9:$AI$68,\"4स्म\"))","v":2},{"$f":"IF(B10=\"\",\"\",COUNTIF('Entry sheet-2-hin'!$AI$9:$AI$68,\"4सम\"))","v":0},{"$f":"IF(B10=\"\",\"\",COUNTIF('Entry sheet-2-hin'!$AI$9:$AI$68,\"4अ\"))","v":1},{"$f":"IF(B10=\"\",\"\",COUNTIF('Entry sheet-2-hin'!$AI$9:$AI$68,\"4रस\"))","v":0},{"$f":"IF(B10=\"\",\"\",COUNTIF('Entry sheet-2-hin'!$AJ$9:$AJ$68,\"4बवि\"))","v":0},{"$f":"IF(B10=\"\",\"\",COUNTIF('Entry sheet-2-hin'!$AJ$9:$AJ$68,\"4वनि\"))","v":0},{"$f":"IF(B10=\"\",\"\",COUNTIF('Entry sheet-2-hin'!$AJ$9:$AJ$68,\"4अलउ\"))","v":1},{"$f":"IF(B10=\"\",\"\",COUNTIF('Entry sheet-2-hin'!$AJ$9:$AJ$68,\"4लउ२\"))","v":1},{"$f":"IF(B10=\"\",\"\",COUNTIF('Entry sheet-2-hin'!$AJ$9:$AJ$68,\"4लउ३\"))","v":1},{"$f":"IF(B10=\"\",\"\",COUNTIF('Entry sheet-2-hin'!$AJ$9:$AJ$68,\"4दीउ४\"))","v":0},{"$f":"IF(B10=\"\",\"\",COUNTIF('Entry sheet-2-hin'!$AK$9:$AK$68,\"4सरल\"))","v":2},{"$f":"IF(B10=\"\",\"\",COUNTIF('Entry sheet-2-hin'!$AK$9:$AK$68,\"4सामान्य\"))","v":1},{"$f":"IF(B10=\"\",\"\",COUNTIF('Entry sheet-2-hin'!$AK$9:$AK$68,\"4कठिन\"))","v":0},3,6,{"$f":"IF(B10=\"\",\"\",Q10/'Entry sheet-1-hin'!$C$6*100)","v":7.5}]
[{"$f":"IF('Entry sheet-1-hin'!A14=\"\",\"\",'Entry sheet-1-hin'!A14)","v":5},{"$f":"IF('Entry sheet-1-hin'!B14=\"\",\"\",'Entry sheet-1-hin'!B14)","v":" इंटरनेट क्रांति"},{"$f":"IF(B11=\"\",\"\",COUNTIF('Entry sheet-2-hin'!$AI$9:$AI$68,\"5स्म\"))","v":2},{"$f":"IF(B11=\"\",\"\",COUNTIF('Entry sheet-2-hin'!$AI$9:$AI$68,\"5सम\"))","v":1},{"$f":"IF(B11=\"\",\"\",COUNTIF('Entry sheet-2-hin'!$AI$9:$AI$68,\"5अ\"))","v":1},{"$f":"IF(B11=\"\",\"\",COUNTIF('Entry sheet-2-hin'!$AI$9:$AI$68,\"5रस\"))","v":0},{"$f":"IF(B11=\"\",\"\",COUNTIF('Entry sheet-2-hin'!$AJ$9:$AJ$68,\"5बवि\"))","v":0},{"$f":"IF(B11=\"\",\"\",COUNTIF('Entry sheet-2-hin'!$AJ$9:$AJ$68,\"5वनि\"))","v":2},{"$f":"IF(B11=\"\",\"\",COUNTIF('Entry sheet-2-hin'!$AJ$9:$AJ$68,\"5अलउ\"))","v":1},{"$f":"IF(B11=\"\",\"\",COUNTIF('Entry sheet-2-hin'!$AJ$9:$AJ$68,\"5लउ२\"))","v":1},{"$f":"IF(B11=\"\",\"\",COUNTIF('Entry sheet-2-hin'!$AJ$9:$AJ$68,\"5लउ३\"))","v":0},{"$f":"IF(B11=\"\",\"\",COUNTIF('Entry sheet-2-hin'!$AJ$9:$AJ$68,\"5दीउ४\"))","v":0},{"$f":"IF(B11=\"\",\"\",COUNTIF('Entry sheet-2-hin'!$AK$9:$AK$68,\"5सरल\"))","v":1},{"$f":"IF(B11=\"\",\"\",COUNTIF('Entry sheet-2-hin'!$AK$9:$AK$68,\"5सामान्य\"))","v":3},{"$f":"IF(B11=\"\",\"\",COUNTIF('Entry sheet-2-hin'!$AK$9:$AK$68,\"5कठिन\"))","v":0},4,5,{"$f":"IF(B11=\"\",\"\",Q11/'Entry sheet-1-hin'!$C$6*100)","v":6.25}]
[{"$f":"IF('Entry sheet-1-hin'!A15=\"\",\"\",'Entry sheet-1-hin'!A15)","v":6},{"$f":"IF('Entry sheet-1-hin'!B15=\"\",\"\",'Entry sheet-1-hin'!B15)","v":"मातृभूमि"},{"$f":"IF(B12=\"\",\"\",COUNTIF('Entry sheet-2-hin'!$AI$9:$AI$68,\"6स्म\"))","v":1},{"$f":"IF(B12=\"\",\"\",COUNTIF('Entry sheet-2-hin'!$AI$9:$AI$68,\"6सम\"))","v":2},{"$f":"IF(B12=\"\",\"\",COUNTIF('Entry sheet-2-hin'!$AI$9:$AI$68,\"6अ\"))","v":2},{"$f":"IF(B12=\"\",\"\",COUNTIF('Entry sheet-2-hin'!$AI$9:$AI$68,\"6रस\"))","v":0},{"$f":"IF(B12=\"\",\"\",COUNTIF('Entry sheet-2-hin'!$AJ$9:$AJ$68,\"6बवि\"))","v":0},{"$f":"IF(B12=\"\",\"\",COUNTIF('Entry sheet-2-hin'!$AJ$9:$AJ$68,\"6वनि\"))","v":1},{"$f":"IF(B12=\"\",\"\",COUNTIF('Entry sheet-2-hin'!$AJ$9:$AJ$68,\"6अलउ\"))","v":1},{"$f":"IF(B12=\"\",\"\",COUNTIF('Entry sheet-2-hin'!$AJ$9:$AJ$68,\"6लउ२\"))","v":2},{"$f":"IF(B12=\"\",\"\",COUNTIF('Entry sheet-2-hin'!$AJ$9:$AJ$68,\"6लउ३\"))","v":0},{"$f":"IF(B12=\"\",\"\",COUNTIF('Entry sheet-2-hin'!$AJ$9:$AJ$68,\"6दीउ४\"))","v":1},{"$f":"IF(B12=\"\",\"\",COUNTIF('Entry sheet-2-hin'!$AK$9:$AK$68,\"6सरल\"))","v":2},{"$f":"IF(B12=\"\",\"\",COUNTIF('Entry sheet-2-hin'!$AK$9:$AK$68,\"6सामान्य\"))","v":3},{"$f":"IF(B12=\"\",\"\",COUNTIF('Entry sheet-2-hin'!$AK$9:$AK$68,\"6कठिन\"))","v":0},5,10,{"$f":"IF(B12=\"\",\"\",Q12/'Entry sheet-1-hin'!$C$6*100)","v":12.5}]
[{"$f":"IF('Entry sheet-1-hin'!A16=\"\",\"\",'Entry sheet-1-hin'!A16)","v":7},{"$f":"IF('Entry sheet-1-hin'!B16=\"\",\"\",'Entry sheet-1-hin'!B16)","v":" गिल्लू"},{"$f":"IF(B13=\"\",\"\",COUNTIF('Entry sheet-2-hin'!$AI$9:$AI$68,\"7स्म\"))","v":2},{"$f":"IF(B13=\"\",\"\",COUNTIF('Entry sheet-2-hin'!$AI$9:$AI$68,\"7सम\"))","v":2},{"$f":"IF(B13=\"\",\"\",COUNTIF('Entry sheet-2-hin'!$AI$9:$AI$68,\"7अ\"))","v":0},{"$f":"IF(B13=\"\",\"\",COUNTIF('Entry sheet-2-hin'!$AI$9:$AI$68,\"7रस\"))","v":0},{"$f":"IF(B13=\"\",\"\",COUNTIF('Entry sheet-2-hin'!$AJ$9:$AJ$68,\"7बवि\"))","v":0},{"$f":"IF(B13=\"\",\"\",COUNTIF('Entry sheet-2-hin'!$AJ$9:$AJ$68,\"7वनि\"))","v":1},{"$f":"IF(B13=\"\",\"\",COUNTIF('Entry sheet-2-hin'!$AJ$9:$AJ$68,\"7अलउ\"))","v":1},{"$f":"IF(B13=\"\",\"\",COUNTIF('Entry sheet-2-hin'!$AJ$9:$AJ$68,\"7लउ२\"))","v":1},{"$f":"IF(B13=\"\",\"\",COUNTIF('Entry sheet-2-hin'!$AJ$9:$AJ$68,\"7लउ३\"))","v":1},{"$f":"IF(B13=\"\",\"\",COUNTIF('Entry sheet-2-hin'!$AJ$9:$AJ$68,\"7दीउ४\"))","v":0},{"$f":"IF(B13=\"\",\"\",COUNTIF('Entry sheet-2-hin'!$AK$9:$AK$68,\"7सरल\"))","v":1},{"$f":"IF(B13=\"\",\"\",COUNTIF('Entry sheet-2-hin'!$AK$9:$AK$68,\"7सामान्य\"))","v":3},{"$f":"IF(B13=\"\",\"\",COUNTIF('Entry sheet-2-hin'!$AK$9:$AK$68,\"7कठिन\"))","v":0},4,7,{"$f":"IF(B13=\"\",\"\",Q13/'Entry sheet-1-hin'!$C$6*100)","v":8.75}]
[{"$f":"IF('Entry sheet-1-hin'!A17=\"\",\"\",'Entry sheet-1-hin'!A17)","v":8},{"$f":"IF('Entry sheet-1-hin'!B17=\"\",\"\",'Entry sheet-1-hin'!B17)","v":"बसंत की सच्चाई"},{"$f":"IF(B14=\"\",\"\",COUNTIF('Entry sheet-2-hin'!$AI$9:$AI$68,\"8स्म\"))","v":0},{"$f":"IF(B14=\"\",\"\",COUNTIF('Entry sheet-2-hin'!$AI$9:$AI$68,\"8सम\"))","v":3},{"$f":"IF(B14=\"\",\"\",COUNTIF('Entry sheet-2-hin'!$AI$9:$AI$68,\"8अ\"))","v":1},{"$f":"IF(B14=\"\",\"\",COUNTIF('Entry sheet-2-hin'!$AI$9:$AI$68,\"8रस\"))","v":0},{"$f":"IF(B14=\"\",\"\",COUNTIF('Entry sheet-2-hin'!$AJ$9:$AJ$68,\"8बवि\"))","v":0},{"$f":"IF(B14=\"\",\"\",COUNTIF('Entry sheet-2-hin'!$AJ$9:$AJ$68,\"8वनि\"))","v":2},{"$f":"IF(B14=\"\",\"\",COUNTIF('Entry sheet-2-hin'!$AJ$9:$AJ$68,\"8अलउ\"))","v":0},{"$f":"IF(B14=\"\",\"\",COUNTIF('Entry sheet-2-hin'!$AJ$9:$AJ$68,\"8लउ२\"))","v":1},{"$f":"IF(B14=\"\",\"\",COUNTIF('Entry sheet-2-hin'!$AJ$9:$AJ$68,\"8लउ३\"))","v":1},{"$f":"IF(B14=\"\",\"\",COUNTIF('Entry sheet-2-hin'!$AJ$9:$AJ$68,\"8दीउ४\"))","v":0},{"$f":"IF(B14=\"\",\"\",COUNTIF('Entry sheet-2-hin'!$AK$9:$AK$68,\"8सरल\"))","v":0},{"$f":"IF(B14=\"\",\"\",COUNTIF('Entry sheet-2-hin'!$AK$9:$AK$68,\"8सामान्य\"))","v":3},{"$f":"IF(B14=\"\",\"\",COUNTIF('Entry sheet-2-hin'!$AK$9:$AK$68,\"8कठिन\"))","v":1},4,7,{"$f":"IF(B14=\"\",\"\",Q14/'Entry sheet-1-hin'!$C$6*100)","v":8.75}]
[{"$f":"IF('Entry sheet-1-hin'!A18=\"\",\"\",'Entry sheet-1-hin'!A18)","v":9},{"$f":"IF('Entry sheet-1-hin'!B18=\"\",\"\",'Entry sheet-1-hin'!B18)","v":"कर्नाटक संपदा"},{"$f":"IF(B15=\"\",\"\",COUNTIF('Entry sheet-2-hin'!$AI$9:$AI$68,\"9स्म\"))","v":0},{"$f":"IF(B15=\"\",\"\",COUNTIF('Entry sheet-2-hin'!$AI$9:$AI$68,\"9सम\"))","v":0},{"$f":"IF(B15=\"\",\"\",COUNTIF('Entry sheet-2-hin'!$AI$9:$AI$68,\"9अ\"))","v":0},{"$f":"IF(B15=\"\",\"\",COUNTIF('Entry sheet-2-hin'!$AI$9:$AI$68,\"9रस\"))","v":0},{"$f":"IF(B15=\"\",\"\",COUNTIF('Entry sheet-2-hin'!$AJ$9:$AJ$68,\"9बवि\"))","v":0},{"$f":"IF(B15=\"\",\"\",COUNTIF('Entry sheet-2-hin'!$AJ$9:$AJ$68,\"9वनि\"))","v":0},{"$f":"IF(B15=\"\",\"\",COUNTIF('Entry sheet-2-hin'!$AJ$9:$AJ$68,\"9अलउ\"))","v":0},{"$f":"IF(B15=\"\",\"\",COUNTIF('Entry sheet-2-hin'!$AJ$9:$AJ$68,\"9लउ२\"))","v":0},{"$f":"IF(B15=\"\",\"\",COUNTIF('Entry sheet-2-hin'!$AJ$9:$AJ$68,\"9लउ३\"))","v":0},{"$f":"IF(B15=\"\",\"\",COUNTIF('Entry sheet-2-hin'!$AJ$9:$AJ$68,\"9दीउ४\"))","v":0},{"$f":"IF(B15=\"\",\"\",COUNTIF('Entry sheet-2-hin'!$AK$9:$AK$68,\"9सरल\"))","v":0},{"$f":"IF(B15=\"\",\"\",COUNTIF('Entry sheet-2-hin'!$AK$9:$AK$68,\"9सामान्य\"))","v":0},{"$f":"IF(B15=\"\",\"\",COUNTIF('Entry sheet-2-hin'!$AK$9:$AK$68,\"9कठिन\"))","v":0},0,0,{"$f":"IF(B15=\"\",\"\",Q15/'Entry sheet-1-hin'!$C$6*100)","v":0}]
[{"$f":"IF('Entry sheet-1-hin'!A19=\"\",\"\",'Entry sheet-1-hin'!A19)","v":10},{"$f":"IF('Entry sheet-1-hin'!B19=\"\",\"\",'Entry sheet-1-hin'!B19)","v":"आत्मकथा"},{"$f":"IF(B16=\"\",\"\",COUNTIF('Entry sheet-2-hin'!$AI$9:$AI$68,\"10स्म\"))","v":0},{"$f":"IF(B16=\"\",\"\",COUNTIF('Entry sheet-2-hin'!$AI$9:$AI$68,\"10सम\"))","v":0},{"$f":"IF(B16=\"\",\"\",COUNTIF('Entry sheet-2-hin'!$AI$9:$AI$68,\"10अ\"))","v":0},{"$f":"IF(B16=\"\",\"\",COUNTIF('Entry sheet-2-hin'!$AI$9:$AI$68,\"10रस\"))","v":0},{"$f":"IF(B16=\"\",\"\",COUNTIF('Entry sheet-2-hin'!$AJ$9:$AJ$68,\"10बवि\"))","v":0},{"$f":"IF(B16=\"\",\"\",COUNTIF('Entry sheet-2-hin'!$AJ$9:$AJ$68,\"10वनि\"))","v":0},{"$f":"IF(B16=\"\",\"\",COUNTIF('Entry sheet-2-hin'!$AJ$9:$AJ$68,\"10अलउ\"))","v":0},{"$f":"IF(B16=\"\",\"\",COUNTIF('Entry sheet-2-hin'!$AJ$9:$AJ$68,\"10लउ२\"))","v":0},{"$f":"IF(B16=\"\",\"\",COUNTIF('Entry sheet-2-hin'!$AJ$9:$AJ$68,\"10लउ३\"))","v":0},{"$f":"IF(B16=\"\",\"\",COUNTIF('Entry sheet-2-hin'!$AJ$9:$AJ$68,\"10दीउ४\"))","v":0},{"$f":"IF(B16=\"\",\"\",COUNTIF('Entry sheet-2-hin'!$AK$9:$AK$68,\"10सरल\"))","v":0},{"$f":"IF(B16=\"\",\"\",COUNTIF('Entry sheet-2-hin'!$AK$9:$AK$68,\"10सामान्य\"))","v":0},{"$f":"IF(B16=\"\",\"\",COUNTIF('Entry sheet-2-hin'!$AK$9:$AK$68,\"10कठिन\"))","v":0},0,0,{"$f":"IF(B16=\"\",\"\",Q16/'Entry sheet-1-hin'!$C$6*100)","v":0}]
[{"$f":"IF('Entry sheet-1-hin'!A20=\"\",\"\",'Entry sheet-1-hin'!A20)","v":11},{"$f":"IF('Entry sheet-1-hin'!B20=\"\",\"\",'Entry sheet-1-hin'!B20)","v":"ईमानदारों के सम्मेलन में"},{"$f":"IF(B17=\"\",\"\",COUNTIF('Entry sheet-2-hin'!$AI$9:$AI$68,\"11स्म\"))","v":0},{"$f":"IF(B17=\"\",\"\",COUNTIF('Entry sheet-2-hin'!$AI$9:$AI$68,\"11सम\"))","v":0},{"$f":"IF(B17=\"\",\"\",COUNTIF('Entry sheet-2-hin'!$AI$9:$AI$68,\"11अ\"))","v":0},{"$f":"IF(B17=\"\",\"\",COUNTIF('Entry sheet-2-hin'!$AI$9:$AI$68,\"11रस\"))","v":0},{"$f":"IF(B17=\"\",\"\",COUNTIF('Entry sheet-2-hin'!$AJ$9:$AJ$68,\"11बवि\"))","v":0},{"$f":"IF(B17=\"\",\"\",COUNTIF('Entry sheet-2-hin'!$AJ$9:$AJ$68,\"11वनि\"))","v":0},{"$f":"IF(B17=\"\",\"\",COUNTIF('Entry sheet-2-hin'!$AJ$9:$AJ$68,\"11अलउ\"))","v":0},{"$f":"IF(B17=\"\",\"\",COUNTIF('Entry sheet-2-hin'!$AJ$9:$AJ$68,\"11लउ२\"))","v":0},{"$f":"IF(B17=\"\",\"\",COUNTIF('Entry sheet-2-hin'!$AJ$9:$AJ$68,\"11लउ३\"))","v":0},{"$f":"IF(B17=\"\",\"\",COUNTIF('Entry sheet-2-hin'!$AJ$9:$AJ$68,\"11दीउ४\"))","v":0},{"$f":"IF(B17=\"\",\"\",COUNTIF('Entry sheet-2-hin'!$AK$9:$AK$68,\"11सरल\"))","v":0},{"$f":"IF(B17=\"\",\"\",COUNTIF('Entry sheet-2-hin'!$AK$9:$AK$68,\"11सामान्य\"))","v":0},{"$f":"IF(B17=\"\",\"\",COUNTIF('Entry sheet-2-hin'!$AK$9:$AK$68,\"11कठिन\"))","v":0},0,0,{"$f":"IF(B17=\"\",\"\",Q17/'Entry sheet-1-hin'!$C$6*100)","v":0}]
[{"$f":"IF('Entry sheet-1-hin'!A21=\"\",\"\",'Entry sheet-1-hin'!A21)","v":12},{"$f":"IF('Entry sheet-1-hin'!B21=\"\",\"\",'Entry sheet-1-hin'!B21)","v":"अभिनव मनुष्य"},{"$f":"IF(B18=\"\",\"\",COUNTIF('Entry sheet-2-hin'!$AI$9:$AI$68,\"12स्म\"))","v":0},{"$f":"IF(B18=\"\",\"\",COUNTIF('Entry sheet-2-hin'!$AI$9:$AI$68,\"12सम\"))","v":0},{"$f":"IF(B18=\"\",\"\",COUNTIF('Entry sheet-2-hin'!$AI$9:$AI$68,\"12अ\"))","v":0},{"$f":"IF(B18=\"\",\"\",COUNTIF('Entry sheet-2-hin'!$AI$9:$AI$68,\"12रस\"))","v":0},{"$f":"IF(B18=\"\",\"\",COUNTIF('Entry sheet-2-hin'!$AJ$9:$AJ$68,\"12बवि\"))","v":0},{"$f":"IF(B18=\"\",\"\",COUNTIF('Entry sheet-2-hin'!$AJ$9:$AJ$68,\"12वनि\"))","v":0},{"$f":"IF(B18=\"\",\"\",COUNTIF('Entry sheet-2-hin'!$AJ$9:$AJ$68,\"12अलउ\"))","v":0},{"$f":"IF(B18=\"\",\"\",COUNTIF('Entry sheet-2-hin'!$AJ$9:$AJ$68,\"12लउ२\"))","v":0},{"$f":"IF(B18=\"\",\"\",COUNTIF('Entry sheet-2-hin'!$AJ$9:$AJ$68,\"12लउ३\"))","v":0},{"$f":"IF(B18=\"\",\"\",COUNTIF('Entry sheet-2-hin'!$AJ$9:$AJ$68,\"12दीउ४\"))","v":0},{"$f":"IF(B18=\"\",\"\",COUNTIF('Entry sheet-2-hin'!$AK$9:$AK$68,\"12सरल\"))","v":0},{"$f":"IF(B18=\"\",\"\",COUNTIF('Entry sheet-2-hin'!$AK$9:$AK$68,\"12सामान्य\"))","v":0},{"$f":"IF(B18=\"\",\"\",COUNTIF('Entry sheet-2-hin'!$AK$9:$AK$68,\"12कठिन\"))","v":0},0,0,{"$f":"IF(B18=\"\",\"\",Q18/'Entry sheet-1-hin'!$C$6*100)","v":0}]
[{"$f":"IF('Entry sheet-1-hin'!A22=\"\",\"\",'Entry sheet-1-hin'!A22)","v":13},{"$f":"IF('Entry sheet-1-hin'!B22=\"\",\"\",'Entry sheet-1-hin'!B22)","v":"वृक्ष प्रेमी तिम्मक्का"},{"$f":"IF(B19=\"\",\"\",COUNTIF('Entry sheet-2-hin'!$AI$9:$AI$68,\"13स्म\"))","v":0},{"$f":"IF(B19=\"\",\"\",COUNTIF('Entry sheet-2-hin'!$AI$9:$AI$68,\"13सम\"))","v":0},{"$f":"IF(B19=\"\",\"\",COUNTIF('Entry sheet-2-hin'!$AI$9:$AI$68,\"13अ\"))","v":0},{"$f":"IF(B19=\"\",\"\",COUNTIF('Entry sheet-2-hin'!$AI$9:$AI$68,\"13रस\"))","v":0},{"$f":"IF(B19=\"\",\"\",COUNTIF('Entry sheet-2-hin'!$AJ$9:$AJ$68,\"13बवि\"))","v":0},{"$f":"IF(B19=\"\",\"\",COUNTIF('Entry sheet-2-hin'!$AJ$9:$AJ$68,\"13वनि\"))","v":0},{"$f":"IF(B19=\"\",\"\",COUNTIF('Entry sheet-2-hin'!$AJ$9:$AJ$68,\"13अलउ\"))","v":0},{"$f":"IF(B19=\"\",\"\",COUNTIF('Entry sheet-2-hin'!$AJ$9:$AJ$68,\"13लउ२\"))","v":0},{"$f":"IF(B19=\"\",\"\",COUNTIF('Entry sheet-2-hin'!$AJ$9:$AJ$68,\"13लउ३\"))","v":0},{"$f":"IF(B19=\"\",\"\",COUNTIF('Entry sheet-2-hin'!$AJ$9:$AJ$68,\"13दीउ४\"))","v":0},{"$f":"IF(B19=\"\",\"\",COUNTIF('Entry sheet-2-hin'!$AK$9:$AK$68,\"13सरल\"))","v":0},{"$f":"IF(B19=\"\",\"\",COUNTIF('Entry sheet-2-hin'!$AK$9:$AK$68,\"13सामान्य\"))","v":0},{"$f":"IF(B19=\"\",\"\",COUNTIF('Entry sheet-2-hin'!$AK$9:$AK$68,\"13कठिन\"))","v":0},0,0,{"$f":"IF(B19=\"\",\"\",Q19/'Entry sheet-1-hin'!$C$6*100)","v":0}]
[{"$f":"IF('Entry sheet-1-hin'!A23=\"\",\"\",'Entry sheet-1-hin'!A23)","v":14},{"$f":"IF('Entry sheet-1-hin'!B23=\"\",\"\",'Entry sheet-1-hin'!B23)","v":" तुलसी के दोहे"},{"$f":"IF(B20=\"\",\"\",COUNTIF('Entry sheet-2-hin'!$AI$9:$AI$68,\"14स्म\"))","v":0},{"$f":"IF(B20=\"\",\"\",COUNTIF('Entry sheet-2-hin'!$AI$9:$AI$68,\"14सम\"))","v":0},{"$f":"IF(B20=\"\",\"\",COUNTIF('Entry sheet-2-hin'!$AI$9:$AI$68,\"14अ\"))","v":0},{"$f":"IF(B20=\"\",\"\",COUNTIF('Entry sheet-2-hin'!$AI$9:$AI$68,\"14रस\"))","v":0},{"$f":"IF(B20=\"\",\"\",COUNTIF('Entry sheet-2-hin'!$AJ$9:$AJ$68,\"14बवि\"))","v":0},{"$f":"IF(B20=\"\",\"\",COUNTIF('Entry sheet-2-hin'!$AJ$9:$AJ$68,\"14वनि\"))","v":0},{"$f":"IF(B20=\"\",\"\",COUNTIF('Entry sheet-2-hin'!$AJ$9:$AJ$68,\"14अलउ\"))","v":0},{"$f":"IF(B20=\"\",\"\",COUNTIF('Entry sheet-2-hin'!$AJ$9:$AJ$68,\"14लउ२\"))","v":0},{"$f":"IF(B20=\"\",\"\",COUNTIF('Entry sheet-2-hin'!$AJ$9:$AJ$68,\"14लउ३\"))","v":0},{"$f":"IF(B20=\"\",\"\",COUNTIF('Entry sheet-2-hin'!$AJ$9:$AJ$68,\"14दीउ४\"))","v":0},{"$f":"IF(B20=\"\",\"\",COUNTIF('Entry sheet-2-hin'!$AK$9:$AK$68,\"14सरल\"))","v":0},{"$f":"IF(B20=\"\",\"\",COUNTIF('Entry sheet-2-hin'!$AK$9:$AK$68,\"14सामान्य\"))","v":0},{"$f":"IF(B20=\"\",\"\",COUNTIF('Entry sheet-2-hin'!$AK$9:$AK$68,\"14कठिन\"))","v":0},0,0,{"$f":"IF(B20=\"\",\"\",Q20/'Entry sheet-1-hin'!$C$6*100)","v":0}]
[{"$f":"IF('Entry sheet-1-hin'!A24=\"\",\"\",'Entry sheet-1-hin'!A24)","v":15},{"$f":"IF('Entry sheet-1-hin'!B24=\"\",\"\",'Entry sheet-1-hin'!B24)","v":"सूर-श्याम"},{"$f":"IF(B21=\"\",\"\",COUNTIF('Entry sheet-2-hin'!$AI$9:$AI$68,\"15स्म\"))","v":0},{"$f":"IF(B21=\"\",\"\",COUNTIF('Entry sheet-2-hin'!$AI$9:$AI$68,\"15सम\"))","v":0},{"$f":"IF(B21=\"\",\"\",COUNTIF('Entry sheet-2-hin'!$AI$9:$AI$68,\"15अ\"))","v":0},{"$f":"IF(B21=\"\",\"\",COUNTIF('Entry sheet-2-hin'!$AI$9:$AI$68,\"15रस\"))","v":0},{"$f":"IF(B21=\"\",\"\",COUNTIF('Entry sheet-2-hin'!$AJ$9:$AJ$68,\"15बवि\"))","v":0},{"$f":"IF(B21=\"\",\"\",COUNTIF('Entry sheet-2-hin'!$AJ$9:$AJ$68,\"15वनि\"))","v":0},{"$f":"IF(B21=\"\",\"\",COUNTIF('Entry sheet-2-hin'!$AJ$9:$AJ$68,\"15अलउ\"))","v":0},{"$f":"IF(B21=\"\",\"\",COUNTIF('Entry sheet-2-hin'!$AJ$9:$AJ$68,\"15लउ२\"))","v":0},{"$f":"IF(B21=\"\",\"\",COUNTIF('Entry sheet-2-hin'!$AJ$9:$AJ$68,\"15लउ३\"))","v":0},{"$f":"IF(B21=\"\",\"\",COUNTIF('Entry sheet-2-hin'!$AJ$9:$AJ$68,\"15दीउ४\"))","v":0},{"$f":"IF(B21=\"\",\"\",COUNTIF('Entry sheet-2-hin'!$AK$9:$AK$68,\"15सरल\"))","v":0},{"$f":"IF(B21=\"\",\"\",COUNTIF('Entry sheet-2-hin'!$AK$9:$AK$68,\"15सामान्य\"))","v":0},{"$f":"IF(B21=\"\",\"\",COUNTIF('Entry sheet-2-hin'!$AK$9:$AK$68,\"15कठिन\"))","v":0},0,0,{"$f":"IF(B21=\"\",\"\",Q21/'Entry sheet-1-hin'!$C$6*100)","v":0}]
[{"$f":"IF('Entry sheet-1-hin'!A25=\"\",\"\",'Entry sheet-1-hin'!A25)","v":16},{"$f":"IF('Entry sheet-1-hin'!B25=\"\",\"\",'Entry sheet-1-hin'!B25)","v":"साहित्य सागर का मोती"},{"$f":"IF(B22=\"\",\"\",COUNTIF('Entry sheet-2-hin'!$AI$9:$AI$68,\"16स्म\"))","v":0},{"$f":"IF(B22=\"\",\"\",COUNTIF('Entry sheet-2-hin'!$AI$9:$AI$68,\"16सम\"))","v":0},{"$f":"IF(B22=\"\",\"\",COUNTIF('Entry sheet-2-hin'!$AI$9:$AI$68,\"16अ\"))","v":0},{"$f":"IF(B22=\"\",\"\",COUNTIF('Entry sheet-2-hin'!$AI$9:$AI$68,\"16रस\"))","v":0},{"$f":"IF(B22=\"\",\"\",COUNTIF('Entry sheet-2-hin'!$AJ$9:$AJ$68,\"16बवि\"))","v":0},{"$f":"IF(B22=\"\",\"\",COUNTIF('Entry sheet-2-hin'!$AJ$9:$AJ$68,\"16वनि\"))","v":0},{"$f":"IF(B22=\"\",\"\",COUNTIF('Entry sheet-2-hin'!$AJ$9:$AJ$68,\"16अलउ\"))","v":0},{"$f":"IF(B22=\"\",\"\",COUNTIF('Entry sheet-2-hin'!$AJ$9:$AJ$68,\"16लउ२\"))","v":0},{"$f":"IF(B22=\"\",\"\",COUNTIF('Entry sheet-2-hin'!$AJ$9:$AJ$68,\"16लउ३\"))","v":0},{"$f":"IF(B22=\"\",\"\",COUNTIF('Entry sheet-2-hin'!$AJ$9:$AJ$68,\"16दीउ४\"))","v":0},{"$f":"IF(B22=\"\",\"\",COUNTIF('Entry sheet-2-hin'!$AK$9:$AK$68,\"16सरल\"))","v":0},{"$f":"IF(B22=\"\",\"\",COUNTIF('Entry sheet-2-hin'!$AK$9:$AK$68,\"16सामान्य\"))","v":0},{"$f":"IF(B22=\"\",\"\",COUNTIF('Entry sheet-2-hin'!$AK$9:$AK$68,\"16कठिन\"))","v":0},0,0,{"$f":"IF(B22=\"\",\"\",Q22/'Entry sheet-1-hin'!$C$6*100)","v":0}]
[{"$f":"IF('Entry sheet-1-hin'!A26=\"\",\"\",'Entry sheet-1-hin'!A26)","v":17},{"$f":"IF('Entry sheet-1-hin'!B26=\"\",\"\",'Entry sheet-1-hin'!B26)","v":"शनि :  सबसे सुंद्रर ग्रह"},{"$f":"IF(B23=\"\",\"\",COUNTIF('Entry sheet-2-hin'!$AI$9:$AI$68,\"17स्म\"))","v":0},{"$f":"IF(B23=\"\",\"\",COUNTIF('Entry sheet-2-hin'!$AI$9:$AI$68,\"17सम\"))","v":2},{"$f":"IF(B23=\"\",\"\",COUNTIF('Entry sheet-2-hin'!$AI$9:$AI$68,\"17अ\"))","v":0},{"$f":"IF(B23=\"\",\"\",COUNTIF('Entry sheet-2-hin'!$AI$9:$AI$68,\"17रस\"))","v":0},{"$f":"IF(B23=\"\",\"\",COUNTIF('Entry sheet-2-hin'!$AJ$9:$AJ$68,\"17बवि\"))","v":0},{"$f":"IF(B23=\"\",\"\",COUNTIF('Entry sheet-2-hin'!$AJ$9:$AJ$68,\"17वनि\"))","v":0},{"$f":"IF(B23=\"\",\"\",COUNTIF('Entry sheet-2-hin'!$AJ$9:$AJ$68,\"17अलउ\"))","v":0},{"$f":"IF(B23=\"\",\"\",COUNTIF('Entry sheet-2-hin'!$AJ$9:$AJ$68,\"17लउ२\"))","v":2},{"$f":"IF(B23=\"\",\"\",COUNTIF('Entry sheet-2-hin'!$AJ$9:$AJ$68,\"17लउ३\"))","v":0},{"$f":"IF(B23=\"\",\"\",COUNTIF('Entry sheet-2-hin'!$AJ$9:$AJ$68,\"17दीउ४\"))","v":0},{"$f":"IF(B23=\"\",\"\",COUNTIF('Entry sheet-2-hin'!$AK$9:$AK$68,\"17सरल\"))","v":0},{"$f":"IF(B23=\"\",\"\",COUNTIF('Entry sheet-2-hin'!$AK$9:$AK$68,\"17सामान्य\"))","v":1},{"$f":"IF(B23=\"\",\"\",COUNTIF('Entry sheet-2-hin'!$AK$9:$AK$68,\"17कठिन\"))","v":1},2,4,{"$f":"IF(B23=\"\",\"\",Q23/'Entry sheet-1-hin'!$C$6*100)","v":5}]
[{"$f":"IF('Entry sheet-1-hin'!A27=\"\",\"\",'Entry sheet-1-hin'!A27)","v":18},{"$f":"IF('Entry sheet-1-hin'!B27=\"\",\"\",'Entry sheet-1-hin'!B27)","v":" सत्य की महिमा"},{"$f":"IF(B24=\"\",\"\",COUNTIF('Entry sheet-2-hin'!$AI$9:$AI$68,\"18स्म\"))","v":0},{"$f":"IF(B24=\"\",\"\",COUNTIF('Entry sheet-2-hin'!$AI$9:$AI$68,\"18सम\"))","v":0},{"$f":"IF(B24=\"\",\"\",COUNTIF('Entry sheet-2-hin'!$AI$9:$AI$68,\"18अ\"))","v":0},{"$f":"IF(B24=\"\",\"\",COUNTIF('Entry sheet-2-hin'!$AI$9:$AI$68,\"18रस\"))","v":0},{"$f":"IF(B24=\"\",\"\",COUNTIF('Entry sheet-2-hin'!$AJ$9:$AJ$68,\"18बवि\"))","v":0},{"$f":"IF(B24=\"\",\"\",COUNTIF('Entry sheet-2-hin'!$AJ$9:$AJ$68,\"18वनि\"))","v":0},{"$f":"IF(B24=\"\",\"\",COUNTIF('Entry sheet-2-hin'!$AJ$9:$AJ$68,\"18अलउ\"))","v":0},{"$f":"IF(B24=\"\",\"\",COUNTIF('Entry sheet-2-hin'!$AJ$9:$AJ$68,\"18लउ२\"))","v":0},{"$f":"IF(B24=\"\",\"\",COUNTIF('Entry sheet-2-hin'!$AJ$9:$AJ$68,\"18लउ३\"))","v":0},{"$f":"IF(B24=\"\",\"\",COUNTIF('Entry sheet-2-hin'!$AJ$9:$AJ$68,\"18दीउ४\"))","v":0},{"$f":"IF(B24=\"\",\"\",COUNTIF('Entry sheet-2-hin'!$AK$9:$AK$68,\"18सरल\"))","v":0},{"$f":"IF(B24=\"\",\"\",COUNTIF('Entry sheet-2-hin'!$AK$9:$AK$68,\"18सामान्य\"))","v":0},{"$f":"IF(B24=\"\",\"\",COUNTIF('Entry sheet-2-hin'!$AK$9:$AK$68,\"18कठिन\"))","v":0},0,0,{"$f":"IF(B24=\"\",\"\",Q24/'Entry sheet-1-hin'!$C$6*100)","v":0}]
[{"$f":"IF('Entry sheet-1-hin'!A28=\"\",\"\",'Entry sheet-1-hin'!A28)","v":19},{"$f":"IF('Entry sheet-1-hin'!B28=\"\",\"\",'Entry sheet-1-hin'!B28)","v":"अनमोल समय"},{"$f":"IF(B25=\"\",\"\",COUNTIF('Entry sheet-2-hin'!$AI$9:$AI$68,\"19स्म\"))","v":0},{"$f":"IF(B25=\"\",\"\",COUNTIF('Entry sheet-2-hin'!$AI$9:$AI$68,\"19सम\"))","v":0},{"$f":"IF(B25=\"\",\"\",COUNTIF('Entry sheet-2-hin'!$AI$9:$AI$68,\"19अ\"))","v":0},{"$f":"IF(B25=\"\",\"\",COUNTIF('Entry sheet-2-hin'!$AI$9:$AI$68,\"19रस\"))","v":0},{"$f":"IF(B25=\"\",\"\",COUNTIF('Entry sheet-2-hin'!$AJ$9:$AJ$68,\"19बवि\"))","v":0},{"$f":"IF(B25=\"\",\"\",COUNTIF('Entry sheet-2-hin'!$AJ$9:$AJ$68,\"19वनि\"))","v":0},{"$f":"IF(B25=\"\",\"\",COUNTIF('Entry sheet-2-hin'!$AJ$9:$AJ$68,\"19अलउ\"))","v":0},{"$f":"IF(B25=\"\",\"\",COUNTIF('Entry sheet-2-hin'!$AJ$9:$AJ$68,\"19लउ२\"))","v":0},{"$f":"IF(B25=\"\",\"\",COUNTIF('Entry sheet-2-hin'!$AJ$9:$AJ$68,\"19लउ३\"))","v":0},{"$f":"IF(B25=\"\",\"\",COUNTIF('Entry sheet-2-hin'!$AJ$9:$AJ$68,\"19दीउ४\"))","v":0},{"$f":"IF(B25=\"\",\"\",COUNTIF('Entry sheet-2-hin'!$AK$9:$AK$68,\"19सरल\"))","v":0},{"$f":"IF(B25=\"\",\"\",COUNTIF('Entry sheet-2-hin'!$AK$9:$AK$68,\"19सामान्य\"))","v":0},{"$f":"IF(B25=\"\",\"\",COUNTIF('Entry sheet-2-hin'!$AK$9:$AK$68,\"19कठिन\"))","v":0},0,0,{"$f":"IF(B25=\"\",\"\",Q25/'Entry sheet-1-hin'!$C$6*100)","v":0}]
[{"$f":"IF('Entry sheet-1-hin'!A29=\"\",\"\",'Entry sheet-1-hin'!A29)","v":20},{"$f":"IF('Entry sheet-1-hin'!B29=\"\",\"\",'Entry sheet-1-hin'!B29)","v":"अपठित गद्यांश"},{"$f":"IF(B26=\"\",\"\",COUNTIF('Entry sheet-2-hin'!$AI$9:$AI$68,\"20स्म\"))","v":0},{"$f":"IF(B26=\"\",\"\",COUNTIF('Entry sheet-2-hin'!$AI$9:$AI$68,\"20सम\"))","v":0},{"$f":"IF(B26=\"\",\"\",COUNTIF('Entry sheet-2-hin'!$AI$9:$AI$68,\"20अ\"))","v":4},{"$f":"IF(B26=\"\",\"\",COUNTIF('Entry sheet-2-hin'!$AI$9:$AI$68,\"20रस\"))","v":0},{"$f":"IF(B26=\"\",\"\",COUNTIF('Entry sheet-2-hin'!$AJ$9:$AJ$68,\"20बवि\"))","v":0},{"$f":"IF(B26=\"\",\"\",COUNTIF('Entry sheet-2-hin'!$AJ$9:$AJ$68,\"20वनि\"))","v":0},{"$f":"IF(B26=\"\",\"\",COUNTIF('Entry sheet-2-hin'!$AJ$9:$AJ$68,\"20अलउ\"))","v":4},{"$f":"IF(B26=\"\",\"\",COUNTIF('Entry sheet-2-hin'!$AJ$9:$AJ$68,\"20लउ२\"))","v":0},{"$f":"IF(B26=\"\",\"\",COUNTIF('Entry sheet-2-hin'!$AJ$9:$AJ$68,\"20लउ३\"))","v":0},{"$f":"IF(B26=\"\",\"\",COUNTIF('Entry sheet-2-hin'!$AJ$9:$AJ$68,\"20दीउ४\"))","v":0},{"$f":"IF(B26=\"\",\"\",COUNTIF('Entry sheet-2-hin'!$AK$9:$AK$68,\"20सरल\"))","v":0},{"$f":"IF(B26=\"\",\"\",COUNTIF('Entry sheet-2-hin'!$AK$9:$AK$68,\"20सामान्य\"))","v":4},{"$f":"IF(B26=\"\",\"\",COUNTIF('Entry sheet-2-hin'!$AK$9:$AK$68,\"20कठिन\"))","v":0},4,4,{"$f":"IF(B26=\"\",\"\",Q26/'Entry sheet-1-hin'!$C$6*100)","v":5}]
[{"$f":"IF('Entry sheet-1-hin'!A30=\"\",\"\",'Entry sheet-1-hin'!A30)","v":21},{"$f":"IF('Entry sheet-1-hin'!B30=\"\",\"\",'Entry sheet-1-hin'!B30)","v":"अनुवाद"},{"$f":"IF(B27=\"\",\"\",COUNTIF('Entry sheet-2-hin'!$AI$9:$AI$68,\"21स्म\"))","v":0},{"$f":"IF(B27=\"\",\"\",COUNTIF('Entry sheet-2-hin'!$AI$9:$AI$68,\"21सम\"))","v":0},{"$f":"IF(B27=\"\",\"\",COUNTIF('Entry sheet-2-hin'!$AI$9:$AI$68,\"21अ\"))","v":4},{"$f":"IF(B27=\"\",\"\",COUNTIF('Entry sheet-2-hin'!$AI$9:$AI$68,\"21रस\"))","v":0},{"$f":"IF(B27=\"\",\"\",COUNTIF('Entry sheet-2-hin'!$AJ$9:$AJ$68,\"21बवि\"))","v":0},{"$f":"IF(B27=\"\",\"\",COUNTIF('Entry sheet-2-hin'!$AJ$9:$AJ$68,\"21वनि\"))","v":0},{"$f":"IF(B27=\"\",\"\",COUNTIF('Entry sheet-2-hin'!$AJ$9:$AJ$68,\"21अलउ\"))","v":4},{"$f":"IF(B27=\"\",\"\",COUNTIF('Entry sheet-2-hin'!$AJ$9:$AJ$68,\"21लउ२\"))","v":0},{"$f":"IF(B27=\"\",\"\",COUNTIF('Entry sheet-2-hin'!$AJ$9:$AJ$68,\"21लउ३\"))","v":0},{"$f":"IF(B27=\"\",\"\",COUNTIF('Entry sheet-2-hin'!$AJ$9:$AJ$68,\"21दीउ४\"))","v":0},{"$f":"IF(B27=\"\",\"\",COUNTIF('Entry sheet-2-hin'!$AK$9:$AK$68,\"21सरल\"))","v":4},{"$f":"IF(B27=\"\",\"\",COUNTIF('Entry sheet-2-hin'!$AK$9:$AK$68,\"21सामान्य\"))","v":0},{"$f":"IF(B27=\"\",\"\",COUNTIF('Entry sheet-2-hin'!$AK$9:$AK$68,\"21कठिन\"))","v":0},4,4,{"$f":"IF(B27=\"\",\"\",Q27/'Entry sheet-1-hin'!$C$6*100)","v":5}]
[{"$f":"IF('Entry sheet-1-hin'!A31=\"\",\"\",'Entry sheet-1-hin'!A31)","v":22},{"$f":"IF('Entry sheet-1-hin'!B31=\"\",\"\",'Entry sheet-1-hin'!B31)","v":"पत्र लेखन"},{"$f":"IF(B28=\"\",\"\",COUNTIF('Entry sheet-2-hin'!$AI$9:$AI$68,\"22स्म\"))","v":0},{"$f":"IF(B28=\"\",\"\",COUNTIF('Entry sheet-2-hin'!$AI$9:$AI$68,\"22सम\"))","v":0},{"$f":"IF(B28=\"\",\"\",COUNTIF('Entry sheet-2-hin'!$AI$9:$AI$68,\"22अ\"))","v":1},{"$f":"IF(B28=\"\",\"\",COUNTIF('Entry sheet-2-hin'!$AI$9:$AI$68,\"22रस\"))","v":0},{"$f":"IF(B28=\"\",\"\",COUNTIF('Entry sheet-2-hin'!$AJ$9:$AJ$68,\"22बवि\"))","v":0},{"$f":"IF(B28=\"\",\"\",COUNTIF('Entry sheet-2-hin'!$AJ$9:$AJ$68,\"22वनि\"))","v":0},{"$f":"IF(B28=\"\",\"\",COUNTIF('Entry sheet-2-hin'!$AJ$9:$AJ$68,\"22अलउ\"))","v":0},{"$f":"IF(B28=\"\",\"\",COUNTIF('Entry sheet-2-hin'!$AJ$9:$AJ$68,\"22लउ२\"))","v":0},{"$f":"IF(B28=\"\",\"\",COUNTIF('Entry sheet-2-hin'!$AJ$9:$AJ$68,\"22लउ३\"))","v":0},{"$f":"IF(B28=\"\",\"\",COUNTIF('Entry sheet-2-hin'!$AJ$9:$AJ$68,\"22दीउ४\"))","v":1},{"$f":"IF(B28=\"\",\"\",COUNTIF('Entry sheet-2-hin'!$AK$9:$AK$68,\"22सरल\"))","v":0},{"$f":"IF(B28=\"\",\"\",COUNTIF('Entry sheet-2-hin'!$AK$9:$AK$68,\"22सामान्य\"))","v":0},{"$f":"IF(B28=\"\",\"\",COUNTIF('Entry sheet-2-hin'!$AK$9:$AK$68,\"22कठिन\"))","v":1},1,4,{"$f":"IF(B28=\"\",\"\",Q28/'Entry sheet-1-hin'!$C$6*100)","v":5}]
[{"$f":"IF('Entry sheet-1-hin'!A32=\"\",\"\",'Entry sheet-1-hin'!A32)","v":23},{"$f":"IF('Entry sheet-1-hin'!B32=\"\",\"\",'Entry sheet-1-hin'!B32)","v":"निबंध रचना"},{"$f":"IF(B29=\"\",\"\",COUNTIF('Entry sheet-2-hin'!$AI$9:$AI$68,\"23स्म\"))","v":0},{"$f":"IF(B29=\"\",\"\",COUNTIF('Entry sheet-2-hin'!$AI$9:$AI$68,\"23सम\"))","v":0},{"$f":"IF(B29=\"\",\"\",COUNTIF('Entry sheet-2-hin'!$AI$9:$AI$68,\"23अ\"))","v":1},{"$f":"IF(B29=\"\",\"\",COUNTIF('Entry sheet-2-hin'!$AI$9:$AI$68,\"23रस\"))","v":0},{"$f":"IF(B29=\"\",\"\",COUNTIF('Entry sheet-2-hin'!$AJ$9:$AJ$68,\"23बवि\"))","v":0},{"$f":"IF(B29=\"\",\"\",COUNTIF('Entry sheet-2-hin'!$AJ$9:$AJ$68,\"23वनि\"))","v":0},{"$f":"IF(B29=\"\",\"\",COUNTIF('Entry sheet-2-hin'!$AJ$9:$AJ$68,\"23अलउ\"))","v":0},{"$f":"IF(B29=\"\",\"\",COUNTIF('Entry sheet-2-hin'!$AJ$9:$AJ$68,\"23लउ२\"))","v":0},{"$f":"IF(B29=\"\",\"\",COUNTIF('Entry sheet-2-hin'!$AJ$9:$AJ$68,\"23लउ३\"))","v":0},{"$f":"IF(B29=\"\",\"\",COUNTIF('Entry sheet-2-hin'!$AJ$9:$AJ$68,\"23दीउ४\"))","v":1},{"$f":"IF(B29=\"\",\"\",COUNTIF('Entry sheet-2-hin'!$AK$9:$AK$68,\"23सरल\"))","v":0},{"$f":"IF(B29=\"\",\"\",COUNTIF('Entry sheet-2-hin'!$AK$9:$AK$68,\"23सामान्य\"))","v":0},{"$f":"IF(B29=\"\",\"\",COUNTIF('Entry sheet-2-hin'!$AK$9:$AK$68,\"23कठिन\"))","v":1},1,4,{"$f":"IF(B29=\"\",\"\",Q29/'Entry sheet-1-hin'!$C$6*100)","v":5}]
[{"$f":"IF('Entry sheet-1-hin'!A33=\"\",\"\",'Entry sheet-1-hin'!A33)","v":""},{"$f":"IF('Entry sheet-1-hin'!B33=\"\",\"\",'Entry sheet-1-hin'!B33)","v":""},{"$f":"IF(B30=\"\",\"\",COUNTIF('Entry sheet-2-hin'!$AI$9:$AI$68,\"24स्म\"))","v":""},{"$f":"IF(B30=\"\",\"\",COUNTIF('Entry sheet-2-hin'!$AI$9:$AI$68,\"24सम\"))","v":""},{"$f":"IF(B30=\"\",\"\",COUNTIF('Entry sheet-2-hin'!$AI$9:$AI$68,\"24अ\"))","v":""},{"$f":"IF(B30=\"\",\"\",COUNTIF('Entry sheet-2-hin'!$AI$9:$AI$68,\"24रस\"))","v":""},{"$f":"IF(B30=\"\",\"\",COUNTIF('Entry sheet-2-hin'!$AJ$9:$AJ$68,\"24बवि\"))","v":""},{"$f":"IF(B30=\"\",\"\",COUNTIF('Entry sheet-2-hin'!$AJ$9:$AJ$68,\"24वनि\"))","v":""},{"$f":"IF(B30=\"\",\"\",COUNTIF('Entry sheet-2-hin'!$AJ$9:$AJ$68,\"24अलउ\"))","v":""},{"$f":"IF(B30=\"\",\"\",COUNTIF('Entry sheet-2-hin'!$AJ$9:$AJ$68,\"24लउ२\"))","v":""},{"$f":"IF(B30=\"\",\"\",COUNTIF('Entry sheet-2-hin'!$AJ$9:$AJ$68,\"24लउ३\"))","v":""},{"$f":"IF(B30=\"\",\"\",COUNTIF('Entry sheet-2-hin'!$AJ$9:$AJ$68,\"24दीउ४\"))","v":""},{"$f":"IF(B30=\"\",\"\",COUNTIF('Entry sheet-2-hin'!$AK$9:$AK$68,\"24सरल\"))","v":""},{"$f":"IF(B30=\"\",\"\",COUNTIF('Entry sheet-2-hin'!$AK$9:$AK$68,\"24सामान्य\"))","v":""},{"$f":"IF(B30=\"\",\"\",COUNTIF('Entry sheet-2-hin'!$AK$9:$AK$68,\"24कठिन\"))","v":""},"","",{"$f":"IF(B30=\"\",\"\",Q30/'Entry sheet-1-hin'!$C$6*100)","v":""}]
[{"$f":"IF('Entry sheet-1-hin'!A34=\"\",\"\",'Entry sheet-1-hin'!A34)","v":""},{"$f":"IF('Entry sheet-1-hin'!B34=\"\",\"\",'Entry sheet-1-hin'!B34)","v":""},{"$f":"IF(B31=\"\",\"\",COUNTIF('Entry sheet-2-hin'!$AI$9:$AI$68,\"25स्म\"))","v":""},{"$f":"IF(B31=\"\",\"\",COUNTIF('Entry sheet-2-hin'!$AI$9:$AI$68,\"25सम\"))","v":""},{"$f":"IF(B31=\"\",\"\",COUNTIF('Entry sheet-2-hin'!$AI$9:$AI$68,\"25अ\"))","v":""},{"$f":"IF(B31=\"\",\"\",COUNTIF('Entry sheet-2-hin'!$AI$9:$AI$68,\"25रस\"))","v":""},{"$f":"IF(B31=\"\",\"\",COUNTIF('Entry sheet-2-hin'!$AJ$9:$AJ$68,\"25बवि\"))","v":""},{"$f":"IF(B31=\"\",\"\",COUNTIF('Entry sheet-2-hin'!$AJ$9:$AJ$68,\"25वनि\"))","v":""},{"$f":"IF(B31=\"\",\"\",COUNTIF('Entry sheet-2-hin'!$AJ$9:$AJ$68,\"25अलउ\"))","v":""},{"$f":"IF(B31=\"\",\"\",COUNTIF('Entry sheet-2-hin'!$AJ$9:$AJ$68,\"25लउ२\"))","v":""},{"$f":"IF(B31=\"\",\"\",COUNTIF('Entry sheet-2-hin'!$AJ$9:$AJ$68,\"25लउ३\"))","v":""},{"$f":"IF(B31=\"\",\"\",COUNTIF('Entry sheet-2-hin'!$AJ$9:$AJ$68,\"25दीउ४\"))","v":""},{"$f":"IF(B31=\"\",\"\",COUNTIF('Entry sheet-2-hin'!$AK$9:$AK$68,\"25सरल\"))","v":""},{"$f":"IF(B31=\"\",\"\",COUNTIF('Entry sheet-2-hin'!$AK$9:$AK$68,\"25सामान्य\"))","v":""},{"$f":"IF(B31=\"\",\"\",COUNTIF('Entry sheet-2-hin'!$AK$9:$AK$68,\"25कठिन\"))","v":""},"","",{"$f":"IF(B31=\"\",\"\",Q31/'Entry sheet-1-hin'!$C$6*100)","v":""}]
[{"$f":"IF('Entry sheet-1-hin'!A35=\"\",\"\",'Entry sheet-1-hin'!A35)","v":""},{"$f":"IF('Entry sheet-1-hin'!B35=\"\",\"\",'Entry sheet-1-hin'!B35)","v":""},{"$f":"IF(B32=\"\",\"\",COUNTIF('Entry sheet-2-hin'!$AI$9:$AI$68,\"26स्म\"))","v":""},{"$f":"IF(B32=\"\",\"\",COUNTIF('Entry sheet-2-hin'!$AI$9:$AI$68,\"26सम\"))","v":""},{"$f":"IF(B32=\"\",\"\",COUNTIF('Entry sheet-2-hin'!$AI$9:$AI$68,\"26अ\"))","v":""},{"$f":"IF(B32=\"\",\"\",COUNTIF('Entry sheet-2-hin'!$AI$9:$AI$68,\"26रस\"))","v":""},{"$f":"IF(B32=\"\",\"\",COUNTIF('Entry sheet-2-hin'!$AJ$9:$AJ$68,\"26बवि\"))","v":""},{"$f":"IF(B32=\"\",\"\",COUNTIF('Entry sheet-2-hin'!$AJ$9:$AJ$68,\"26वनि\"))","v":""},{"$f":"IF(B32=\"\",\"\",COUNTIF('Entry sheet-2-hin'!$AJ$9:$AJ$68,\"26अलउ\"))","v":""},{"$f":"IF(B32=\"\",\"\",COUNTIF('Entry sheet-2-hin'!$AJ$9:$AJ$68,\"26लउ२\"))","v":""},{"$f":"IF(B32=\"\",\"\",COUNTIF('Entry sheet-2-hin'!$AJ$9:$AJ$68,\"26लउ३\"))","v":""},{"$f":"IF(B32=\"\",\"\",COUNTIF('Entry sheet-2-hin'!$AJ$9:$AJ$68,\"26दीउ४\"))","v":""},{"$f":"IF(B32=\"\",\"\",COUNTIF('Entry sheet-2-hin'!$AK$9:$AK$68,\"26सरल\"))","v":""},{"$f":"IF(B32=\"\",\"\",COUNTIF('Entry sheet-2-hin'!$AK$9:$AK$68,\"26सामान्य\"))","v":""},{"$f":"IF(B32=\"\",\"\",COUNTIF('Entry sheet-2-hin'!$AK$9:$AK$68,\"26कठिन\"))","v":""},"","",{"$f":"IF(B32=\"\",\"\",Q32/'Entry sheet-1-hin'!$C$6*100)","v":""}]
[{"$f":"IF('Entry sheet-1-hin'!A36=\"\",\"\",'Entry sheet-1-hin'!A36)","v":""},{"$f":"IF('Entry sheet-1-hin'!B36=\"\",\"\",'Entry sheet-1-hin'!B36)","v":""},{"$f":"IF(B33=\"\",\"\",COUNTIF('Entry sheet-2-hin'!$AI$9:$AI$68,\"27स्म\"))","v":""},{"$f":"IF(B33=\"\",\"\",COUNTIF('Entry sheet-2-hin'!$AI$9:$AI$68,\"27सम\"))","v":""},{"$f":"IF(B33=\"\",\"\",COUNTIF('Entry sheet-2-hin'!$AI$9:$AI$68,\"27अ\"))","v":""},{"$f":"IF(B33=\"\",\"\",COUNTIF('Entry sheet-2-hin'!$AI$9:$AI$68,\"27रस\"))","v":""},{"$f":"IF(B33=\"\",\"\",COUNTIF('Entry sheet-2-hin'!$AJ$9:$AJ$68,\"27बवि\"))","v":""},{"$f":"IF(B33=\"\",\"\",COUNTIF('Entry sheet-2-hin'!$AJ$9:$AJ$68,\"27वनि\"))","v":""},{"$f":"IF(B33=\"\",\"\",COUNTIF('Entry sheet-2-hin'!$AJ$9:$AJ$68,\"27अलउ\"))","v":""},{"$f":"IF(B33=\"\",\"\",COUNTIF('Entry sheet-2-hin'!$AJ$9:$AJ$68,\"27लउ२\"))","v":""},{"$f":"IF(B33=\"\",\"\",COUNTIF('Entry sheet-2-hin'!$AJ$9:$AJ$68,\"27लउ३\"))","v":""},{"$f":"IF(B33=\"\",\"\",COUNTIF('Entry sheet-2-hin'!$AJ$9:$AJ$68,\"27दीउ४\"))","v":""},{"$f":"IF(B33=\"\",\"\",COUNTIF('Entry sheet-2-hin'!$AK$9:$AK$68,\"27सरल\"))","v":""},{"$f":"IF(B33=\"\",\"\",COUNTIF('Entry sheet-2-hin'!$AK$9:$AK$68,\"27सामान्य\"))","v":""},{"$f":"IF(B33=\"\",\"\",COUNTIF('Entry sheet-2-hin'!$AK$9:$AK$68,\"27कठिन\"))","v":""},"","",{"$f":"IF(B33=\"\",\"\",Q33/'Entry sheet-1-hin'!$C$6*100)","v":""}]
[{"$f":"IF('Entry sheet-1-hin'!A37=\"\",\"\",'Entry sheet-1-hin'!A37)","v":""},{"$f":"IF('Entry sheet-1-hin'!B37=\"\",\"\",'Entry sheet-1-hin'!B37)","v":""},{"$f":"IF(B34=\"\",\"\",COUNTIF('Entry sheet-2-hin'!$AI$9:$AI$68,\"28स्म\"))","v":""},{"$f":"IF(B34=\"\",\"\",COUNTIF('Entry sheet-2-hin'!$AI$9:$AI$68,\"28सम\"))","v":""},{"$f":"IF(B34=\"\",\"\",COUNTIF('Entry sheet-2-hin'!$AI$9:$AI$68,\"28अ\"))","v":""},{"$f":"IF(B34=\"\",\"\",COUNTIF('Entry sheet-2-hin'!$AI$9:$AI$68,\"28रस\"))","v":""},{"$f":"IF(B34=\"\",\"\",COUNTIF('Entry sheet-2-hin'!$AJ$9:$AJ$68,\"28बवि\"))","v":""},{"$f":"IF(B34=\"\",\"\",COUNTIF('Entry sheet-2-hin'!$AJ$9:$AJ$68,\"28वनि\"))","v":""},{"$f":"IF(B34=\"\",\"\",COUNTIF('Entry sheet-2-hin'!$AJ$9:$AJ$68,\"28अलउ\"))","v":""},{"$f":"IF(B34=\"\",\"\",COUNTIF('Entry sheet-2-hin'!$AJ$9:$AJ$68,\"28लउ२\"))","v":""},{"$f":"IF(B34=\"\",\"\",COUNTIF('Entry sheet-2-hin'!$AJ$9:$AJ$68,\"28लउ३\"))","v":""},{"$f":"IF(B34=\"\",\"\",COUNTIF('Entry sheet-2-hin'!$AJ$9:$AJ$68,\"28दीउ४\"))","v":""},{"$f":"IF(B34=\"\",\"\",COUNTIF('Entry sheet-2-hin'!$AK$9:$AK$68,\"28सरल\"))","v":""},{"$f":"IF(B34=\"\",\"\",COUNTIF('Entry sheet-2-hin'!$AK$9:$AK$68,\"28सामान्य\"))","v":""},{"$f":"IF(B34=\"\",\"\",COUNTIF('Entry sheet-2-hin'!$AK$9:$AK$68,\"28कठिन\"))","v":""},"","",{"$f":"IF(B34=\"\",\"\",Q34/'Entry sheet-1-hin'!$C$6*100)","v":""}]
[{"$f":"IF('Entry sheet-1-hin'!A38=\"\",\"\",'Entry sheet-1-hin'!A38)","v":""},{"$f":"IF('Entry sheet-1-hin'!B38=\"\",\"\",'Entry sheet-1-hin'!B38)","v":""},{"$f":"IF(B35=\"\",\"\",COUNTIF('Entry sheet-2-hin'!$AI$9:$AI$68,\"29स्म\"))","v":""},{"$f":"IF(B35=\"\",\"\",COUNTIF('Entry sheet-2-hin'!$AI$9:$AI$68,\"29सम\"))","v":""},{"$f":"IF(B35=\"\",\"\",COUNTIF('Entry sheet-2-hin'!$AI$9:$AI$68,\"29अ\"))","v":""},{"$f":"IF(B35=\"\",\"\",COUNTIF('Entry sheet-2-hin'!$AI$9:$AI$68,\"29रस\"))","v":""},{"$f":"IF(B35=\"\",\"\",COUNTIF('Entry sheet-2-hin'!$AJ$9:$AJ$68,\"29बवि\"))","v":""},{"$f":"IF(B35=\"\",\"\",COUNTIF('Entry sheet-2-hin'!$AJ$9:$AJ$68,\"29वनि\"))","v":""},{"$f":"IF(B35=\"\",\"\",COUNTIF('Entry sheet-2-hin'!$AJ$9:$AJ$68,\"29अलउ\"))","v":""},{"$f":"IF(B35=\"\",\"\",COUNTIF('Entry sheet-2-hin'!$AJ$9:$AJ$68,\"29लउ२\"))","v":""},{"$f":"IF(B35=\"\",\"\",COUNTIF('Entry sheet-2-hin'!$AJ$9:$AJ$68,\"29लउ३\"))","v":""},{"$f":"IF(B35=\"\",\"\",COUNTIF('Entry sheet-2-hin'!$AJ$9:$AJ$68,\"29दीउ४\"))","v":""},{"$f":"IF(B35=\"\",\"\",COUNTIF('Entry sheet-2-hin'!$AK$9:$AK$68,\"29सरल\"))","v":""},{"$f":"IF(B35=\"\",\"\",COUNTIF('Entry sheet-2-hin'!$AK$9:$AK$68,\"29सामान्य\"))","v":""},{"$f":"IF(B35=\"\",\"\",COUNTIF('Entry sheet-2-hin'!$AK$9:$AK$68,\"29कठिन\"))","v":""},"","",{"$f":"IF(B35=\"\",\"\",Q35/'Entry sheet-1-hin'!$C$6*100)","v":""}]
[{"$f":"IF('Entry sheet-1-hin'!A39=\"\",\"\",'Entry sheet-1-hin'!A39)","v":""},{"$f":"IF('Entry sheet-1-hin'!B39=\"\",\"\",'Entry sheet-1-hin'!B39)","v":""},{"$f":"IF(B36=\"\",\"\",COUNTIF('Entry sheet-2-hin'!$AI$9:$AI$68,\"30स्म\"))","v":""},{"$f":"IF(B36=\"\",\"\",COUNTIF('Entry sheet-2-hin'!$AI$9:$AI$68,\"30सम\"))","v":""},{"$f":"IF(B36=\"\",\"\",COUNTIF('Entry sheet-2-hin'!$AI$9:$AI$68,\"30अ\"))","v":""},{"$f":"IF(B36=\"\",\"\",COUNTIF('Entry sheet-2-hin'!$AI$9:$AI$68,\"30रस\"))","v":""},{"$f":"IF(B36=\"\",\"\",COUNTIF('Entry sheet-2-hin'!$AJ$9:$AJ$68,\"30बवि\"))","v":""},{"$f":"IF(B36=\"\",\"\",COUNTIF('Entry sheet-2-hin'!$AJ$9:$AJ$68,\"30वनि\"))","v":""},{"$f":"IF(B36=\"\",\"\",COUNTIF('Entry sheet-2-hin'!$AJ$9:$AJ$68,\"30अलउ\"))","v":""},{"$f":"IF(B36=\"\",\"\",COUNTIF('Entry sheet-2-hin'!$AJ$9:$AJ$68,\"30लउ२\"))","v":""},{"$f":"IF(B36=\"\",\"\",COUNTIF('Entry sheet-2-hin'!$AJ$9:$AJ$68,\"30लउ३\"))","v":""},{"$f":"IF(B36=\"\",\"\",COUNTIF('Entry sheet-2-hin'!$AJ$9:$AJ$68,\"30दीउ४\"))","v":""},{"$f":"IF(B36=\"\",\"\",COUNTIF('Entry sheet-2-hin'!$AK$9:$AK$68,\"30सरल\"))","v":""},{"$f":"IF(B36=\"\",\"\",COUNTIF('Entry sheet-2-hin'!$AK$9:$AK$68,\"30सामान्य\"))","v":""},{"$f":"IF(B36=\"\",\"\",COUNTIF('Entry sheet-2-hin'!$AK$9:$AK$68,\"30कठिन\"))","v":""},"","",{"$f":"IF(B36=\"\",\"\",Q36/'Entry sheet-1-hin'!$C$6*100)","v":""}]
[{"$f":"IF('Entry sheet-1-hin'!A40=\"\",\"\",'Entry sheet-1-hin'!A40)","v":""},{"$f":"IF('Entry sheet-1-hin'!B40=\"\",\"\",'Entry sheet-1-hin'!B40)","v":""},{"$f":"IF(B37=\"\",\"\",COUNTIF('Entry sheet-2-hin'!$AI$9:$AI$68,\"31K\"))","v":""},{"$f":"IF(B37=\"\",\"\",COUNTIF('Entry sheet-2-hin'!$AI$9:$AI$68,\"31U\"))","v":""},{"$f":"IF(B37=\"\",\"\",COUNTIF('Entry sheet-2-hin'!$AI$9:$AI$68,\"31A\"))","v":""},{"$f":"IF(B37=\"\",\"\",COUNTIF('Entry sheet-2-hin'!$AI$9:$AI$68,\"31S\"))","v":""},{"$f":"IF(B37=\"\",\"\",COUNTIF('Entry sheet-2-hin'!$AJ$9:$AJ$68,\"31MC\"))","v":""},{"$f":"IF(B37=\"\",\"\",COUNTIF('Entry sheet-2-hin'!$AJ$9:$AJ$68,\"31OT\"))","v":""},{"$f":"IF(B37=\"\",\"\",COUNTIF('Entry sheet-2-hin'!$AJ$9:$AJ$68,\"31SA1\"))","v":""},{"$f":"IF(B37=\"\",\"\",COUNTIF('Entry sheet-2-hin'!$AJ$9:$AJ$68,\"31SA2\"))","v":""},{"$f":"IF(B37=\"\",\"\",COUNTIF('Entry sheet-2-hin'!$AJ$9:$AJ$68,\"31LA1\"))","v":""},{"$f":"IF(B37=\"\",\"\",COUNTIF('Entry sheet-2-hin'!$AJ$9:$AJ$68,\"31LA2\"))","v":""},{"$f":"IF(B37=\"\",\"\",COUNTIF('Entry sheet-2-hin'!$AK$9:$AK$68,\"31E\"))","v":""},{"$f":"IF(B37=\"\",\"\",COUNTIF('Entry sheet-2-hin'!$AK$9:$AK$68,\"31M\"))","v":""},{"$f":"IF(B37=\"\",\"\",COUNTIF('Entry sheet-2-hin'!$AK$9:$AK$68,\"31D\"))","v":""},"","",{"$f":"IF(B37=\"\",\"\",Q37/'Entry sheet-1-hin'!$C$6*100)","v":""}]
[{"$f":"IF('Entry sheet-1-hin'!A41=\"\",\"\",'Entry sheet-1-hin'!A41)","v":""},{"$f":"IF('Entry sheet-1-hin'!B41=\"\",\"\",'Entry sheet-1-hin'!B41)","v":""},{"$f":"IF(B38=\"\",\"\",COUNTIF('Entry sheet-2-hin'!$AI$9:$AI$68,\"32K\"))","v":""},{"$f":"IF(B38=\"\",\"\",COUNTIF('Entry sheet-2-hin'!$AI$9:$AI$68,\"32U\"))","v":""},{"$f":"IF(B38=\"\",\"\",COUNTIF('Entry sheet-2-hin'!$AI$9:$AI$68,\"32A\"))","v":""},{"$f":"IF(B38=\"\",\"\",COUNTIF('Entry sheet-2-hin'!$AI$9:$AI$68,\"32S\"))","v":""},{"$f":"IF(B38=\"\",\"\",COUNTIF('Entry sheet-2-hin'!$AJ$9:$AJ$68,\"32MC\"))","v":""},{"$f":"IF(B38=\"\",\"\",COUNTIF('Entry sheet-2-hin'!$AJ$9:$AJ$68,\"32OT\"))","v":""},{"$f":"IF(B38=\"\",\"\",COUNTIF('Entry sheet-2-hin'!$AJ$9:$AJ$68,\"32SA1\"))","v":""},{"$f":"IF(B38=\"\",\"\",COUNTIF('Entry sheet-2-hin'!$AJ$9:$AJ$68,\"32SA2\"))","v":""},{"$f":"IF(B38=\"\",\"\",COUNTIF('Entry sheet-2-hin'!$AJ$9:$AJ$68,\"32LA1\"))","v":""},{"$f":"IF(B38=\"\",\"\",COUNTIF('Entry sheet-2-hin'!$AJ$9:$AJ$68,\"32LA2\"))","v":""},{"$f":"IF(B38=\"\",\"\",COUNTIF('Entry sheet-2-hin'!$AK$9:$AK$68,\"32E\"))","v":""},{"$f":"IF(B38=\"\",\"\",COUNTIF('Entry sheet-2-hin'!$AK$9:$AK$68,\"32M\"))","v":""},{"$f":"IF(B38=\"\",\"\",COUNTIF('Entry sheet-2-hin'!$AK$9:$AK$68,\"32D\"))","v":""},"","",{"$f":"IF(B38=\"\",\"\",Q38/'Entry sheet-1-hin'!$C$6*100)","v":""}]
[{"$f":"IF('Entry sheet-1-hin'!A42=\"\",\"\",'Entry sheet-1-hin'!A42)","v":""},{"$f":"IF('Entry sheet-1-hin'!B42=\"\",\"\",'Entry sheet-1-hin'!B42)","v":""},{"$f":"IF(B39=\"\",\"\",COUNTIF('Entry sheet-2-hin'!$AI$9:$AI$68,\"33K\"))","v":""},{"$f":"IF(B39=\"\",\"\",COUNTIF('Entry sheet-2-hin'!$AI$9:$AI$68,\"33U\"))","v":""},{"$f":"IF(B39=\"\",\"\",COUNTIF('Entry sheet-2-hin'!$AI$9:$AI$68,\"33A\"))","v":""},{"$f":"IF(B39=\"\",\"\",COUNTIF('Entry sheet-2-hin'!$AI$9:$AI$68,\"33S\"))","v":""},{"$f":"IF(B39=\"\",\"\",COUNTIF('Entry sheet-2-hin'!$AJ$9:$AJ$68,\"33MC\"))","v":""},{"$f":"IF(B39=\"\",\"\",COUNTIF('Entry sheet-2-hin'!$AJ$9:$AJ$68,\"33OT\"))","v":""},{"$f":"IF(B39=\"\",\"\",COUNTIF('Entry sheet-2-hin'!$AJ$9:$AJ$68,\"33SA1\"))","v":""},{"$f":"IF(B39=\"\",\"\",COUNTIF('Entry sheet-2-hin'!$AJ$9:$AJ$68,\"33SA2\"))","v":""},{"$f":"IF(B39=\"\",\"\",COUNTIF('Entry sheet-2-hin'!$AJ$9:$AJ$68,\"33LA1\"))","v":""},{"$f":"IF(B39=\"\",\"\",COUNTIF('Entry sheet-2-hin'!$AJ$9:$AJ$68,\"33LA2\"))","v":""},{"$f":"IF(B39=\"\",\"\",COUNTIF('Entry sheet-2-hin'!$AK$9:$AK$68,\"33E\"))","v":""},{"$f":"IF(B39=\"\",\"\",COUNTIF('Entry sheet-2-hin'!$AK$9:$AK$68,\"33M\"))","v":""},{"$f":"IF(B39=\"\",\"\",COUNTIF('Entry sheet-2-hin'!$AK$9:$AK$68,\"33D\"))","v":""},"","",{"$f":"IF(B39=\"\",\"\",Q39/'Entry sheet-1-hin'!$C$6*100)","v":""}]
[{"$f":"IF('Entry sheet-1-hin'!A43=\"\",\"\",'Entry sheet-1-hin'!A43)","v":""},{"$f":"IF('Entry sheet-1-hin'!B43=\"\",\"\",'Entry sheet-1-hin'!B43)","v":""},{"$f":"IF(B40=\"\",\"\",COUNTIF('Entry sheet-2-hin'!$AI$9:$AI$68,\"34K\"))","v":""},{"$f":"IF(B40=\"\",\"\",COUNTIF('Entry sheet-2-hin'!$AI$9:$AI$68,\"34U\"))","v":""},{"$f":"IF(B40=\"\",\"\",COUNTIF('Entry sheet-2-hin'!$AI$9:$AI$68,\"34A\"))","v":""},{"$f":"IF(B40=\"\",\"\",COUNTIF('Entry sheet-2-hin'!$AI$9:$AI$68,\"34S\"))","v":""},{"$f":"IF(B40=\"\",\"\",COUNTIF('Entry sheet-2-hin'!$AJ$9:$AJ$68,\"34MC\"))","v":""},{"$f":"IF(B40=\"\",\"\",COUNTIF('Entry sheet-2-hin'!$AJ$9:$AJ$68,\"34OT\"))","v":""},{"$f":"IF(B40=\"\",\"\",COUNTIF('Entry sheet-2-hin'!$AJ$9:$AJ$68,\"34SA1\"))","v":""},{"$f":"IF(B40=\"\",\"\",COUNTIF('Entry sheet-2-hin'!$AJ$9:$AJ$68,\"34SA2\"))","v":""},{"$f":"IF(B40=\"\",\"\",COUNTIF('Entry sheet-2-hin'!$AJ$9:$AJ$68,\"34LA1\"))","v":""},{"$f":"IF(B40=\"\",\"\",COUNTIF('Entry sheet-2-hin'!$AJ$9:$AJ$68,\"34LA2\"))","v":""},{"$f":"IF(B40=\"\",\"\",COUNTIF('Entry sheet-2-hin'!$AK$9:$AK$68,\"34E\"))","v":""},{"$f":"IF(B40=\"\",\"\",COUNTIF('Entry sheet-2-hin'!$AK$9:$AK$68,\"34M\"))","v":""},{"$f":"IF(B40=\"\",\"\",COUNTIF('Entry sheet-2-hin'!$AK$9:$AK$68,\"34D\"))","v":""},"","",{"$f":"IF(B40=\"\",\"\",Q40/'Entry sheet-1-hin'!$C$6*100)","v":""}]
[{"$f":"IF('Entry sheet-1-hin'!A44=\"\",\"\",'Entry sheet-1-hin'!A44)","v":""},{"$f":"IF('Entry sheet-1-hin'!B44=\"\",\"\",'Entry sheet-1-hin'!B44)","v":""},{"$f":"IF(B41=\"\",\"\",COUNTIF('Entry sheet-2-hin'!$AI$9:$AI$68,\"35K\"))","v":""},{"$f":"IF(B41=\"\",\"\",COUNTIF('Entry sheet-2-hin'!$AI$9:$AI$68,\"35U\"))","v":""},{"$f":"IF(B41=\"\",\"\",COUNTIF('Entry sheet-2-hin'!$AI$9:$AI$68,\"35A\"))","v":""},{"$f":"IF(B41=\"\",\"\",COUNTIF('Entry sheet-2-hin'!$AI$9:$AI$68,\"35S\"))","v":""},{"$f":"IF(B41=\"\",\"\",COUNTIF('Entry sheet-2-hin'!$AJ$9:$AJ$68,\"35MC\"))","v":""},{"$f":"IF(B41=\"\",\"\",COUNTIF('Entry sheet-2-hin'!$AJ$9:$AJ$68,\"35OT\"))","v":""},{"$f":"IF(B41=\"\",\"\",COUNTIF('Entry sheet-2-hin'!$AJ$9:$AJ$68,\"35SA1\"))","v":""},{"$f":"IF(B41=\"\",\"\",COUNTIF('Entry sheet-2-hin'!$AJ$9:$AJ$68,\"35SA2\"))","v":""},{"$f":"IF(B41=\"\",\"\",COUNTIF('Entry sheet-2-hin'!$AJ$9:$AJ$68,\"35LA1\"))","v":""},{"$f":"IF(B41=\"\",\"\",COUNTIF('Entry sheet-2-hin'!$AJ$9:$AJ$68,\"35LA2\"))","v":""},{"$f":"IF(B41=\"\",\"\",COUNTIF('Entry sheet-2-hin'!$AK$9:$AK$68,\"35E\"))","v":""},{"$f":"IF(B41=\"\",\"\",COUNTIF('Entry sheet-2-hin'!$AK$9:$AK$68,\"35M\"))","v":""},{"$f":"IF(B41=\"\",\"\",COUNTIF('Entry sheet-2-hin'!$AK$9:$AK$68,\"35D\"))","v":""},"","",{"$f":"IF(B41=\"\",\"\",Q41/'Entry sheet-1-hin'!$C$6*100)","v":""}]
[{"$f":"IF('Entry sheet-1-hin'!A45=\"\",\"\",'Entry sheet-1-hin'!A45)","v":""},{"$f":"IF('Entry sheet-1-hin'!B45=\"\",\"\",'Entry sheet-1-hin'!B45)","v":""},{"$f":"IF(B42=\"\",\"\",COUNTIF('Entry sheet-2-hin'!$AI$9:$AI$68,\"36K\"))","v":""},{"$f":"IF(B42=\"\",\"\",COUNTIF('Entry sheet-2-hin'!$AI$9:$AI$68,\"36U\"))","v":""},{"$f":"IF(B42=\"\",\"\",COUNTIF('Entry sheet-2-hin'!$AI$9:$AI$68,\"36A\"))","v":""},{"$f":"IF(B42=\"\",\"\",COUNTIF('Entry sheet-2-hin'!$AI$9:$AI$68,\"36S\"))","v":""},{"$f":"IF(B42=\"\",\"\",COUNTIF('Entry sheet-2-hin'!$AJ$9:$AJ$68,\"36MC\"))","v":""},{"$f":"IF(B42=\"\",\"\",COUNTIF('Entry sheet-2-hin'!$AJ$9:$AJ$68,\"36OT\"))","v":""},{"$f":"IF(B42=\"\",\"\",COUNTIF('Entry sheet-2-hin'!$AJ$9:$AJ$68,\"36SA1\"))","v":""},{"$f":"IF(B42=\"\",\"\",COUNTIF('Entry sheet-2-hin'!$AJ$9:$AJ$68,\"36SA2\"))","v":""},{"$f":"IF(B42=\"\",\"\",COUNTIF('Entry sheet-2-hin'!$AJ$9:$AJ$68,\"36LA1\"))","v":""},{"$f":"IF(B42=\"\",\"\",COUNTIF('Entry sheet-2-hin'!$AJ$9:$AJ$68,\"36LA2\"))","v":""},{"$f":"IF(B42=\"\",\"\",COUNTIF('Entry sheet-2-hin'!$AK$9:$AK$68,\"36E\"))","v":""},{"$f":"IF(B42=\"\",\"\",COUNTIF('Entry sheet-2-hin'!$AK$9:$AK$68,\"36M\"))","v":""},{"$f":"IF(B42=\"\",\"\",COUNTIF('Entry sheet-2-hin'!$AK$9:$AK$68,\"36D\"))","v":""},"","",{"$f":"IF(B42=\"\",\"\",Q42/'Entry sheet-1-hin'!$C$6*100)","v":""}]
[{"$f":"IF('Entry sheet-1-hin'!A46=\"\",\"\",'Entry sheet-1-hin'!A46)","v":""},{"$f":"IF('Entry sheet-1-hin'!B46=\"\",\"\",'Entry sheet-1-hin'!B46)","v":""},{"$f":"IF(B43=\"\",\"\",COUNTIF('Entry sheet-2-hin'!$AI$9:$AI$68,\"37K\"))","v":""},{"$f":"IF(B43=\"\",\"\",COUNTIF('Entry sheet-2-hin'!$AI$9:$AI$68,\"37U\"))","v":""},{"$f":"IF(B43=\"\",\"\",COUNTIF('Entry sheet-2-hin'!$AI$9:$AI$68,\"37A\"))","v":""},{"$f":"IF(B43=\"\",\"\",COUNTIF('Entry sheet-2-hin'!$AI$9:$AI$68,\"37S\"))","v":""},{"$f":"IF(B43=\"\",\"\",COUNTIF('Entry sheet-2-hin'!$AJ$9:$AJ$68,\"37MC\"))","v":""},{"$f":"IF(B43=\"\",\"\",COUNTIF('Entry sheet-2-hin'!$AJ$9:$AJ$68,\"37OT\"))","v":""},{"$f":"IF(B43=\"\",\"\",COUNTIF('Entry sheet-2-hin'!$AJ$9:$AJ$68,\"37SA1\"))","v":""},{"$f":"IF(B43=\"\",\"\",COUNTIF('Entry sheet-2-hin'!$AJ$9:$AJ$68,\"37SA2\"))","v":""},{"$f":"IF(B43=\"\",\"\",COUNTIF('Entry sheet-2-hin'!$AJ$9:$AJ$68,\"37LA1\"))","v":""},{"$f":"IF(B43=\"\",\"\",COUNTIF('Entry sheet-2-hin'!$AJ$9:$AJ$68,\"37LA2\"))","v":""},{"$f":"IF(B43=\"\",\"\",COUNTIF('Entry sheet-2-hin'!$AK$9:$AK$68,\"37E\"))","v":""},{"$f":"IF(B43=\"\",\"\",COUNTIF('Entry sheet-2-hin'!$AK$9:$AK$68,\"37M\"))","v":""},{"$f":"IF(B43=\"\",\"\",COUNTIF('Entry sheet-2-hin'!$AK$9:$AK$68,\"37D\"))","v":""},"","",{"$f":"IF(B43=\"\",\"\",Q43/'Entry sheet-1-hin'!$C$6*100)","v":""}]
[{"$f":"IF('Entry sheet-1-hin'!A47=\"\",\"\",'Entry sheet-1-hin'!A47)","v":""},{"$f":"IF('Entry sheet-1-hin'!B47=\"\",\"\",'Entry sheet-1-hin'!B47)","v":""},{"$f":"IF(B44=\"\",\"\",COUNTIF('Entry sheet-2-hin'!$AI$9:$AI$68,\"38K\"))","v":""},{"$f":"IF(B44=\"\",\"\",COUNTIF('Entry sheet-2-hin'!$AI$9:$AI$68,\"38U\"))","v":""},{"$f":"IF(B44=\"\",\"\",COUNTIF('Entry sheet-2-hin'!$AI$9:$AI$68,\"38A\"))","v":""},{"$f":"IF(B44=\"\",\"\",COUNTIF('Entry sheet-2-hin'!$AI$9:$AI$68,\"38S\"))","v":""},{"$f":"IF(B44=\"\",\"\",COUNTIF('Entry sheet-2-hin'!$AJ$9:$AJ$68,\"38MC\"))","v":""},{"$f":"IF(B44=\"\",\"\",COUNTIF('Entry sheet-2-hin'!$AJ$9:$AJ$68,\"38OT\"))","v":""},{"$f":"IF(B44=\"\",\"\",COUNTIF('Entry sheet-2-hin'!$AJ$9:$AJ$68,\"38SA1\"))","v":""},{"$f":"IF(B44=\"\",\"\",COUNTIF('Entry sheet-2-hin'!$AJ$9:$AJ$68,\"38SA2\"))","v":""},{"$f":"IF(B44=\"\",\"\",COUNTIF('Entry sheet-2-hin'!$AJ$9:$AJ$68,\"38LA1\"))","v":""},{"$f":"IF(B44=\"\",\"\",COUNTIF('Entry sheet-2-hin'!$AJ$9:$AJ$68,\"38LA2\"))","v":""},{"$f":"IF(B44=\"\",\"\",COUNTIF('Entry sheet-2-hin'!$AK$9:$AK$68,\"38E\"))","v":""},{"$f":"IF(B44=\"\",\"\",COUNTIF('Entry sheet-2-hin'!$AK$9:$AK$68,\"38M\"))","v":""},{"$f":"IF(B44=\"\",\"\",COUNTIF('Entry sheet-2-hin'!$AK$9:$AK$68,\"38D\"))","v":""},"","",{"$f":"IF(B44=\"\",\"\",Q44/'Entry sheet-1-hin'!$C$6*100)","v":""}]
[{"$f":"IF('Entry sheet-1-hin'!A48=\"\",\"\",'Entry sheet-1-hin'!A48)","v":""},{"$f":"IF('Entry sheet-1-hin'!B48=\"\",\"\",'Entry sheet-1-hin'!B48)","v":""},{"$f":"IF(B45=\"\",\"\",COUNTIF('Entry sheet-2-hin'!$AI$9:$AI$68,\"39K\"))","v":""},{"$f":"IF(B45=\"\",\"\",COUNTIF('Entry sheet-2-hin'!$AI$9:$AI$68,\"39U\"))","v":""},{"$f":"IF(B45=\"\",\"\",COUNTIF('Entry sheet-2-hin'!$AI$9:$AI$68,\"39A\"))","v":""},{"$f":"IF(B45=\"\",\"\",COUNTIF('Entry sheet-2-hin'!$AI$9:$AI$68,\"39S\"))","v":""},{"$f":"IF(B45=\"\",\"\",COUNTIF('Entry sheet-2-hin'!$AJ$9:$AJ$68,\"39MC\"))","v":""},{"$f":"IF(B45=\"\",\"\",COUNTIF('Entry sheet-2-hin'!$AJ$9:$AJ$68,\"39OT\"))","v":""},{"$f":"IF(B45=\"\",\"\",COUNTIF('Entry sheet-2-hin'!$AJ$9:$AJ$68,\"39SA1\"))","v":""},{"$f":"IF(B45=\"\",\"\",COUNTIF('Entry sheet-2-hin'!$AJ$9:$AJ$68,\"39SA2\"))","v":""},{"$f":"IF(B45=\"\",\"\",COUNTIF('Entry sheet-2-hin'!$AJ$9:$AJ$68,\"39LA1\"))","v":""},{"$f":"IF(B45=\"\",\"\",COUNTIF('Entry sheet-2-hin'!$AJ$9:$AJ$68,\"39LA2\"))","v":""},{"$f":"IF(B45=\"\",\"\",COUNTIF('Entry sheet-2-hin'!$AK$9:$AK$68,\"39E\"))","v":""},{"$f":"IF(B45=\"\",\"\",COUNTIF('Entry sheet-2-hin'!$AK$9:$AK$68,\"39M\"))","v":""},{"$f":"IF(B45=\"\",\"\",COUNTIF('Entry sheet-2-hin'!$AK$9:$AK$68,\"39D\"))","v":""},"","",{"$f":"IF(B45=\"\",\"\",Q45/'Entry sheet-1-hin'!$C$6*100)","v":""}]
[{"$f":"IF('Entry sheet-1-hin'!A49=\"\",\"\",'Entry sheet-1-hin'!A49)","v":""},{"$f":"IF('Entry sheet-1-hin'!B49=\"\",\"\",'Entry sheet-1-hin'!B49)","v":""},{"$f":"IF(B46=\"\",\"\",COUNTIF('Entry sheet-2-hin'!$AI$9:$AI$68,\"40K\"))","v":""},{"$f":"IF(B46=\"\",\"\",COUNTIF('Entry sheet-2-hin'!$AI$9:$AI$68,\"40U\"))","v":""},{"$f":"IF(B46=\"\",\"\",COUNTIF('Entry sheet-2-hin'!$AI$9:$AI$68,\"40A\"))","v":""},{"$f":"IF(B46=\"\",\"\",COUNTIF('Entry sheet-2-hin'!$AI$9:$AI$68,\"40S\"))","v":""},{"$f":"IF(B46=\"\",\"\",COUNTIF('Entry sheet-2-hin'!$AJ$9:$AJ$68,\"40MC\"))","v":""},{"$f":"IF(B46=\"\",\"\",COUNTIF('Entry sheet-2-hin'!$AJ$9:$AJ$68,\"40OT\"))","v":""},{"$f":"IF(B46=\"\",\"\",COUNTIF('Entry sheet-2-hin'!$AJ$9:$AJ$68,\"40SA1\"))","v":""},{"$f":"IF(B46=\"\",\"\",COUNTIF('Entry sheet-2-hin'!$AJ$9:$AJ$68,\"40SA2\"))","v":""},{"$f":"IF(B46=\"\",\"\",COUNTIF('Entry sheet-2-hin'!$AJ$9:$AJ$68,\"40LA1\"))","v":""},{"$f":"IF(B46=\"\",\"\",COUNTIF('Entry sheet-2-hin'!$AJ$9:$AJ$68,\"40LA2\"))","v":""},{"$f":"IF(B46=\"\",\"\",COUNTIF('Entry sheet-2-hin'!$AK$9:$AK$68,\"40E\"))","v":""},{"$f":"IF(B46=\"\",\"\",COUNTIF('Entry sheet-2-hin'!$AK$9:$AK$68,\"40M\"))","v":""},{"$f":"IF(B46=\"\",\"\",COUNTIF('Entry sheet-2-hin'!$AK$9:$AK$68,\"40D\"))","v":""},"","",{"$f":"IF(B46=\"\",\"\",Q46/'Entry sheet-1-hin'!$C$6*100)","v":""}]
[{"$f":"IF('Entry sheet-1-hin'!A50=\"\",\"\",'Entry sheet-1-hin'!A50)","v":""},{"$f":"IF('Entry sheet-1-hin'!B50=\"\",\"\",'Entry sheet-1-hin'!B50)","v":""},{"$f":"IF(B47=\"\",\"\",COUNTIF('Entry sheet-2-hin'!$AI$9:$AI$68,\"41K\"))","v":""},{"$f":"IF(B47=\"\",\"\",COUNTIF('Entry sheet-2-hin'!$AI$9:$AI$68,\"41U\"))","v":""},{"$f":"IF(B47=\"\",\"\",COUNTIF('Entry sheet-2-hin'!$AI$9:$AI$68,\"41A\"))","v":""},{"$f":"IF(B47=\"\",\"\",COUNTIF('Entry sheet-2-hin'!$AI$9:$AI$68,\"41S\"))","v":""},{"$f":"IF(B47=\"\",\"\",COUNTIF('Entry sheet-2-hin'!$AJ$9:$AJ$68,\"41MC\"))","v":""},{"$f":"IF(B47=\"\",\"\",COUNTIF('Entry sheet-2-hin'!$AJ$9:$AJ$68,\"41OT\"))","v":""},{"$f":"IF(B47=\"\",\"\",COUNTIF('Entry sheet-2-hin'!$AJ$9:$AJ$68,\"41SA1\"))","v":""},{"$f":"IF(B47=\"\",\"\",COUNTIF('Entry sheet-2-hin'!$AJ$9:$AJ$68,\"41SA2\"))","v":""},{"$f":"IF(B47=\"\",\"\",COUNTIF('Entry sheet-2-hin'!$AJ$9:$AJ$68,\"41LA1\"))","v":""},{"$f":"IF(B47=\"\",\"\",COUNTIF('Entry sheet-2-hin'!$AJ$9:$AJ$68,\"41LA2\"))","v":""},{"$f":"IF(B47=\"\",\"\",COUNTIF('Entry sheet-2-hin'!$AK$9:$AK$68,\"41E\"))","v":""},{"$f":"IF(B47=\"\",\"\",COUNTIF('Entry sheet-2-hin'!$AK$9:$AK$68,\"41M\"))","v":""},{"$f":"IF(B47=\"\",\"\",COUNTIF('Entry sheet-2-hin'!$AK$9:$AK$68,\"41D\"))","v":""},"","",{"$f":"IF(B47=\"\",\"\",Q47/'Entry sheet-1-hin'!$C$6*100)","v":""}]
[{"$f":"IF('Entry sheet-1-hin'!A51=\"\",\"\",'Entry sheet-1-hin'!A51)","v":""},{"$f":"IF('Entry sheet-1-hin'!B51=\"\",\"\",'Entry sheet-1-hin'!B51)","v":""},{"$f":"IF(B48=\"\",\"\",COUNTIF('Entry sheet-2-hin'!$AI$9:$AI$68,\"42K\"))","v":""},{"$f":"IF(B48=\"\",\"\",COUNTIF('Entry sheet-2-hin'!$AI$9:$AI$68,\"42U\"))","v":""},{"$f":"IF(B48=\"\",\"\",COUNTIF('Entry sheet-2-hin'!$AI$9:$AI$68,\"42A\"))","v":""},{"$f":"IF(B48=\"\",\"\",COUNTIF('Entry sheet-2-hin'!$AI$9:$AI$68,\"42S\"))","v":""},{"$f":"IF(B48=\"\",\"\",COUNTIF('Entry sheet-2-hin'!$AJ$9:$AJ$68,\"42MC\"))","v":""},{"$f":"IF(B48=\"\",\"\",COUNTIF('Entry sheet-2-hin'!$AJ$9:$AJ$68,\"42OT\"))","v":""},{"$f":"IF(B48=\"\",\"\",COUNTIF('Entry sheet-2-hin'!$AJ$9:$AJ$68,\"42SA1\"))","v":""},{"$f":"IF(B48=\"\",\"\",COUNTIF('Entry sheet-2-hin'!$AJ$9:$AJ$68,\"42SA2\"))","v":""},{"$f":"IF(B48=\"\",\"\",COUNTIF('Entry sheet-2-hin'!$AJ$9:$AJ$68,\"42LA1\"))","v":""},{"$f":"IF(B48=\"\",\"\",COUNTIF('Entry sheet-2-hin'!$AJ$9:$AJ$68,\"42LA2\"))","v":""},{"$f":"IF(B48=\"\",\"\",COUNTIF('Entry sheet-2-hin'!$AK$9:$AK$68,\"42E\"))","v":""},{"$f":"IF(B48=\"\",\"\",COUNTIF('Entry sheet-2-hin'!$AK$9:$AK$68,\"42M\"))","v":""},{"$f":"IF(B48=\"\",\"\",COUNTIF('Entry sheet-2-hin'!$AK$9:$AK$68,\"42D\"))","v":""},"","",{"$f":"IF(B48=\"\",\"\",Q48/'Entry sheet-1-hin'!$C$6*100)","v":""}]
[{"$f":"IF('Entry sheet-1-hin'!A52=\"\",\"\",'Entry sheet-1-hin'!A52)","v":""},{"$f":"IF('Entry sheet-1-hin'!B52=\"\",\"\",'Entry sheet-1-hin'!B52)","v":""},{"$f":"IF(B49=\"\",\"\",COUNTIF('Entry sheet-2-hin'!$AI$9:$AI$68,\"43K\"))","v":""},{"$f":"IF(B49=\"\",\"\",COUNTIF('Entry sheet-2-hin'!$AI$9:$AI$68,\"43U\"))","v":""},{"$f":"IF(B49=\"\",\"\",COUNTIF('Entry sheet-2-hin'!$AI$9:$AI$68,\"43A\"))","v":""},{"$f":"IF(B49=\"\",\"\",COUNTIF('Entry sheet-2-hin'!$AI$9:$AI$68,\"43S\"))","v":""},{"$f":"IF(B49=\"\",\"\",COUNTIF('Entry sheet-2-hin'!$AJ$9:$AJ$68,\"43MC\"))","v":""},{"$f":"IF(B49=\"\",\"\",COUNTIF('Entry sheet-2-hin'!$AJ$9:$AJ$68,\"43OT\"))","v":""},{"$f":"IF(B49=\"\",\"\",COUNTIF('Entry sheet-2-hin'!$AJ$9:$AJ$68,\"43SA1\"))","v":""},{"$f":"IF(B49=\"\",\"\",COUNTIF('Entry sheet-2-hin'!$AJ$9:$AJ$68,\"43SA2\"))","v":""},{"$f":"IF(B49=\"\",\"\",COUNTIF('Entry sheet-2-hin'!$AJ$9:$AJ$68,\"43LA1\"))","v":""},{"$f":"IF(B49=\"\",\"\",COUNTIF('Entry sheet-2-hin'!$AJ$9:$AJ$68,\"43LA2\"))","v":""},{"$f":"IF(B49=\"\",\"\",COUNTIF('Entry sheet-2-hin'!$AK$9:$AK$68,\"43E\"))","v":""},{"$f":"IF(B49=\"\",\"\",COUNTIF('Entry sheet-2-hin'!$AK$9:$AK$68,\"43M\"))","v":""},{"$f":"IF(B49=\"\",\"\",COUNTIF('Entry sheet-2-hin'!$AK$9:$AK$68,\"43D\"))","v":""},"","",{"$f":"IF(B49=\"\",\"\",Q49/'Entry sheet-1-hin'!$C$6*100)","v":""}]
[{"$f":"IF('Entry sheet-1-hin'!A53=\"\",\"\",'Entry sheet-1-hin'!A53)","v":""},{"$f":"IF('Entry sheet-1-hin'!B53=\"\",\"\",'Entry sheet-1-hin'!B53)","v":""},{"$f":"IF(B50=\"\",\"\",COUNTIF('Entry sheet-2-hin'!$AI$9:$AI$68,\"44K\"))","v":""},{"$f":"IF(B50=\"\",\"\",COUNTIF('Entry sheet-2-hin'!$AI$9:$AI$68,\"44U\"))","v":""},{"$f":"IF(B50=\"\",\"\",COUNTIF('Entry sheet-2-hin'!$AI$9:$AI$68,\"44A\"))","v":""},{"$f":"IF(B50=\"\",\"\",COUNTIF('Entry sheet-2-hin'!$AI$9:$AI$68,\"44S\"))","v":""},{"$f":"IF(B50=\"\",\"\",COUNTIF('Entry sheet-2-hin'!$AJ$9:$AJ$68,\"44MC\"))","v":""},{"$f":"IF(B50=\"\",\"\",COUNTIF('Entry sheet-2-hin'!$AJ$9:$AJ$68,\"44OT\"))","v":""},{"$f":"IF(B50=\"\",\"\",COUNTIF('Entry sheet-2-hin'!$AJ$9:$AJ$68,\"44SA1\"))","v":""},{"$f":"IF(B50=\"\",\"\",COUNTIF('Entry sheet-2-hin'!$AJ$9:$AJ$68,\"44SA2\"))","v":""},{"$f":"IF(B50=\"\",\"\",COUNTIF('Entry sheet-2-hin'!$AJ$9:$AJ$68,\"44LA1\"))","v":""},{"$f":"IF(B50=\"\",\"\",COUNTIF('Entry sheet-2-hin'!$AJ$9:$AJ$68,\"44LA2\"))","v":""},{"$f":"IF(B50=\"\",\"\",COUNTIF('Entry sheet-2-hin'!$AK$9:$AK$68,\"44E\"))","v":""},{"$f":"IF(B50=\"\",\"\",COUNTIF('Entry sheet-2-hin'!$AK$9:$AK$68,\"44M\"))","v":""},{"$f":"IF(B50=\"\",\"\",COUNTIF('Entry sheet-2-hin'!$AK$9:$AK$68,\"44D\"))","v":""},"","",{"$f":"IF(B50=\"\",\"\",Q50/'Entry sheet-1-hin'!$C$6*100)","v":""}]
[{"$f":"IF('Entry sheet-1-hin'!A54=\"\",\"\",'Entry sheet-1-hin'!A54)","v":""},{"$f":"IF('Entry sheet-1-hin'!B54=\"\",\"\",'Entry sheet-1-hin'!B54)","v":""},{"$f":"IF(B51=\"\",\"\",COUNTIF('Entry sheet-2-hin'!$AI$9:$AI$68,\"45K\"))","v":""},{"$f":"IF(B51=\"\",\"\",COUNTIF('Entry sheet-2-hin'!$AI$9:$AI$68,\"45U\"))","v":""},{"$f":"IF(B51=\"\",\"\",COUNTIF('Entry sheet-2-hin'!$AI$9:$AI$68,\"45A\"))","v":""},{"$f":"IF(B51=\"\",\"\",COUNTIF('Entry sheet-2-hin'!$AI$9:$AI$68,\"45S\"))","v":""},{"$f":"IF(B51=\"\",\"\",COUNTIF('Entry sheet-2-hin'!$AJ$9:$AJ$68,\"45MC\"))","v":""},{"$f":"IF(B51=\"\",\"\",COUNTIF('Entry sheet-2-hin'!$AJ$9:$AJ$68,\"45OT\"))","v":""},{"$f":"IF(B51=\"\",\"\",COUNTIF('Entry sheet-2-hin'!$AJ$9:$AJ$68,\"45SA1\"))","v":""},{"$f":"IF(B51=\"\",\"\",COUNTIF('Entry sheet-2-hin'!$AJ$9:$AJ$68,\"45SA2\"))","v":""},{"$f":"IF(B51=\"\",\"\",COUNTIF('Entry sheet-2-hin'!$AJ$9:$AJ$68,\"45LA1\"))","v":""},{"$f":"IF(B51=\"\",\"\",COUNTIF('Entry sheet-2-hin'!$AJ$9:$AJ$68,\"45LA2\"))","v":""},{"$f":"IF(B51=\"\",\"\",COUNTIF('Entry sheet-2-hin'!$AK$9:$AK$68,\"45E\"))","v":""},{"$f":"IF(B51=\"\",\"\",COUNTIF('Entry sheet-2-hin'!$AK$9:$AK$68,\"45M\"))","v":""},{"$f":"IF(B51=\"\",\"\",COUNTIF('Entry sheet-2-hin'!$AK$9:$AK$68,\"45D\"))","v":""},"","",{"$f":"IF(B51=\"\",\"\",Q51/'Entry sheet-1-hin'!$C$6*100)","v":""}]
[{"$f":"IF('Entry sheet-1-hin'!A55=\"\",\"\",'Entry sheet-1-hin'!A55)","v":""},{"$f":"IF('Entry sheet-1-hin'!B55=\"\",\"\",'Entry sheet-1-hin'!B55)","v":""},{"$f":"IF(B52=\"\",\"\",COUNTIF('Entry sheet-2-hin'!$AI$9:$AI$68,\"46K\"))","v":""},{"$f":"IF(B52=\"\",\"\",COUNTIF('Entry sheet-2-hin'!$AI$9:$AI$68,\"46U\"))","v":""},{"$f":"IF(B52=\"\",\"\",COUNTIF('Entry sheet-2-hin'!$AI$9:$AI$68,\"46A\"))","v":""},{"$f":"IF(B52=\"\",\"\",COUNTIF('Entry sheet-2-hin'!$AI$9:$AI$68,\"46S\"))","v":""},{"$f":"IF(B52=\"\",\"\",COUNTIF('Entry sheet-2-hin'!$AJ$9:$AJ$68,\"46MC\"))","v":""},{"$f":"IF(B52=\"\",\"\",COUNTIF('Entry sheet-2-hin'!$AJ$9:$AJ$68,\"46OT\"))","v":""},{"$f":"IF(B52=\"\",\"\",COUNTIF('Entry sheet-2-hin'!$AJ$9:$AJ$68,\"46SA1\"))","v":""},{"$f":"IF(B52=\"\",\"\",COUNTIF('Entry sheet-2-hin'!$AJ$9:$AJ$68,\"46SA2\"))","v":""},{"$f":"IF(B52=\"\",\"\",COUNTIF('Entry sheet-2-hin'!$AJ$9:$AJ$68,\"46LA1\"))","v":""},{"$f":"IF(B52=\"\",\"\",COUNTIF('Entry sheet-2-hin'!$AJ$9:$AJ$68,\"46LA2\"))","v":""},{"$f":"IF(B52=\"\",\"\",COUNTIF('Entry sheet-2-hin'!$AK$9:$AK$68,\"46E\"))","v":""},{"$f":"IF(B52=\"\",\"\",COUNTIF('Entry sheet-2-hin'!$AK$9:$AK$68,\"46M\"))","v":""},{"$f":"IF(B52=\"\",\"\",COUNTIF('Entry sheet-2-hin'!$AK$9:$AK$68,\"46D\"))","v":""},"","",{"$f":"IF(B52=\"\",\"\",Q52/'Entry sheet-1-hin'!$C$6*100)","v":""}]
[{"$f":"IF('Entry sheet-1-hin'!A56=\"\",\"\",'Entry sheet-1-hin'!A56)","v":""},{"$f":"IF('Entry sheet-1-hin'!B56=\"\",\"\",'Entry sheet-1-hin'!B56)","v":""},{"$f":"IF(B53=\"\",\"\",COUNTIF('Entry sheet-2-hin'!$AI$9:$AI$68,\"47K\"))","v":""},{"$f":"IF(B53=\"\",\"\",COUNTIF('Entry sheet-2-hin'!$AI$9:$AI$68,\"47U\"))","v":""},{"$f":"IF(B53=\"\",\"\",COUNTIF('Entry sheet-2-hin'!$AI$9:$AI$68,\"47A\"))","v":""},{"$f":"IF(B53=\"\",\"\",COUNTIF('Entry sheet-2-hin'!$AI$9:$AI$68,\"47S\"))","v":""},{"$f":"IF(B53=\"\",\"\",COUNTIF('Entry sheet-2-hin'!$AJ$9:$AJ$68,\"47MC\"))","v":""},{"$f":"IF(B53=\"\",\"\",COUNTIF('Entry sheet-2-hin'!$AJ$9:$AJ$68,\"47OT\"))","v":""},{"$f":"IF(B53=\"\",\"\",COUNTIF('Entry sheet-2-hin'!$AJ$9:$AJ$68,\"47SA1\"))","v":""},{"$f":"IF(B53=\"\",\"\",COUNTIF('Entry sheet-2-hin'!$AJ$9:$AJ$68,\"47SA2\"))","v":""},{"$f":"IF(B53=\"\",\"\",COUNTIF('Entry sheet-2-hin'!$AJ$9:$AJ$68,\"47LA1\"))","v":""},{"$f":"IF(B53=\"\",\"\",COUNTIF('Entry sheet-2-hin'!$AJ$9:$AJ$68,\"47LA2\"))","v":""},{"$f":"IF(B53=\"\",\"\",COUNTIF('Entry sheet-2-hin'!$AK$9:$AK$68,\"47E\"))","v":""},{"$f":"IF(B53=\"\",\"\",COUNTIF('Entry sheet-2-hin'!$AK$9:$AK$68,\"47M\"))","v":""},{"$f":"IF(B53=\"\",\"\",COUNTIF('Entry sheet-2-hin'!$AK$9:$AK$68,\"47D\"))","v":""},"","",{"$f":"IF(B53=\"\",\"\",Q53/'Entry sheet-1-hin'!$C$6*100)","v":""}]
[{"$f":"IF('Entry sheet-1-hin'!A57=\"\",\"\",'Entry sheet-1-hin'!A57)","v":""},{"$f":"IF('Entry sheet-1-hin'!B57=\"\",\"\",'Entry sheet-1-hin'!B57)","v":""},{"$f":"IF(B54=\"\",\"\",COUNTIF('Entry sheet-2-hin'!$AI$9:$AI$68,\"48K\"))","v":""},{"$f":"IF(B54=\"\",\"\",COUNTIF('Entry sheet-2-hin'!$AI$9:$AI$68,\"48U\"))","v":""},{"$f":"IF(B54=\"\",\"\",COUNTIF('Entry sheet-2-hin'!$AI$9:$AI$68,\"48A\"))","v":""},{"$f":"IF(B54=\"\",\"\",COUNTIF('Entry sheet-2-hin'!$AI$9:$AI$68,\"48S\"))","v":""},{"$f":"IF(B54=\"\",\"\",COUNTIF('Entry sheet-2-hin'!$AJ$9:$AJ$68,\"48MC\"))","v":""},{"$f":"IF(B54=\"\",\"\",COUNTIF('Entry sheet-2-hin'!$AJ$9:$AJ$68,\"48OT\"))","v":""},{"$f":"IF(B54=\"\",\"\",COUNTIF('Entry sheet-2-hin'!$AJ$9:$AJ$68,\"48SA1\"))","v":""},{"$f":"IF(B54=\"\",\"\",COUNTIF('Entry sheet-2-hin'!$AJ$9:$AJ$68,\"48SA2\"))","v":""},{"$f":"IF(B54=\"\",\"\",COUNTIF('Entry sheet-2-hin'!$AJ$9:$AJ$68,\"48LA1\"))","v":""},{"$f":"IF(B54=\"\",\"\",COUNTIF('Entry sheet-2-hin'!$AJ$9:$AJ$68,\"48LA2\"))","v":""},{"$f":"IF(B54=\"\",\"\",COUNTIF('Entry sheet-2-hin'!$AK$9:$AK$68,\"48E\"))","v":""},{"$f":"IF(B54=\"\",\"\",COUNTIF('Entry sheet-2-hin'!$AK$9:$AK$68,\"48M\"))","v":""},{"$f":"IF(B54=\"\",\"\",COUNTIF('Entry sheet-2-hin'!$AK$9:$AK$68,\"48D\"))","v":""},"","",{"$f":"IF(B54=\"\",\"\",Q54/'Entry sheet-1-hin'!$C$6*100)","v":""}]
[{"$f":"IF('Entry sheet-1-hin'!A58=\"\",\"\",'Entry sheet-1-hin'!A58)","v":""},{"$f":"IF('Entry sheet-1-hin'!B58=\"\",\"\",'Entry sheet-1-hin'!B58)","v":""},{"$f":"IF(B55=\"\",\"\",COUNTIF('Entry sheet-2-hin'!$AI$9:$AI$68,\"49K\"))","v":""},{"$f":"IF(B55=\"\",\"\",COUNTIF('Entry sheet-2-hin'!$AI$9:$AI$68,\"49U\"))","v":""},{"$f":"IF(B55=\"\",\"\",COUNTIF('Entry sheet-2-hin'!$AI$9:$AI$68,\"49A\"))","v":""},{"$f":"IF(B55=\"\",\"\",COUNTIF('Entry sheet-2-hin'!$AI$9:$AI$68,\"49S\"))","v":""},{"$f":"IF(B55=\"\",\"\",COUNTIF('Entry sheet-2-hin'!$AJ$9:$AJ$68,\"49MC\"))","v":""},{"$f":"IF(B55=\"\",\"\",COUNTIF('Entry sheet-2-hin'!$AJ$9:$AJ$68,\"49OT\"))","v":""},{"$f":"IF(B55=\"\",\"\",COUNTIF('Entry sheet-2-hin'!$AJ$9:$AJ$68,\"49SA1\"))","v":""},{"$f":"IF(B55=\"\",\"\",COUNTIF('Entry sheet-2-hin'!$AJ$9:$AJ$68,\"49SA2\"))","v":""},{"$f":"IF(B55=\"\",\"\",COUNTIF('Entry sheet-2-hin'!$AJ$9:$AJ$68,\"49LA1\"))","v":""},{"$f":"IF(B55=\"\",\"\",COUNTIF('Entry sheet-2-hin'!$AJ$9:$AJ$68,\"49LA2\"))","v":""},{"$f":"IF(B55=\"\",\"\",COUNTIF('Entry sheet-2-hin'!$AK$9:$AK$68,\"49E\"))","v":""},{"$f":"IF(B55=\"\",\"\",COUNTIF('Entry sheet-2-hin'!$AK$9:$AK$68,\"49M\"))","v":""},{"$f":"IF(B55=\"\",\"\",COUNTIF('Entry sheet-2-hin'!$AK$9:$AK$68,\"49D\"))","v":""},"","",{"$f":"IF(B55=\"\",\"\",Q55/'Entry sheet-1-hin'!$C$6*100)","v":""}]
[{"$f":"IF('Entry sheet-1-hin'!A59=\"\",\"\",'Entry sheet-1-hin'!A59)","v":""},{"$f":"IF('Entry sheet-1-hin'!B59=\"\",\"\",'Entry sheet-1-hin'!B59)","v":""},{"$f":"IF(B56=\"\",\"\",COUNTIF('Entry sheet-2-hin'!$AI$9:$AI$68,\"50K\"))","v":""},{"$f":"IF(B56=\"\",\"\",COUNTIF('Entry sheet-2-hin'!$AI$9:$AI$68,\"50U\"))","v":""},{"$f":"IF(B56=\"\",\"\",COUNTIF('Entry sheet-2-hin'!$AI$9:$AI$68,\"50A\"))","v":""},{"$f":"IF(B56=\"\",\"\",COUNTIF('Entry sheet-2-hin'!$AI$9:$AI$68,\"50S\"))","v":""},{"$f":"IF(B56=\"\",\"\",COUNTIF('Entry sheet-2-hin'!$AJ$9:$AJ$68,\"50MC\"))","v":""},{"$f":"IF(B56=\"\",\"\",COUNTIF('Entry sheet-2-hin'!$AJ$9:$AJ$68,\"50OT\"))","v":""},{"$f":"IF(B56=\"\",\"\",COUNTIF('Entry sheet-2-hin'!$AJ$9:$AJ$68,\"50SA1\"))","v":""},{"$f":"IF(B56=\"\",\"\",COUNTIF('Entry sheet-2-hin'!$AJ$9:$AJ$68,\"50SA2\"))","v":""},{"$f":"IF(B56=\"\",\"\",COUNTIF('Entry sheet-2-hin'!$AJ$9:$AJ$68,\"50LA1\"))","v":""},{"$f":"IF(B56=\"\",\"\",COUNTIF('Entry sheet-2-hin'!$AJ$9:$AJ$68,\"50LA2\"))","v":""},{"$f":"IF(B56=\"\",\"\",COUNTIF('Entry sheet-2-hin'!$AK$9:$AK$68,\"50E\"))","v":""},{"$f":"IF(B56=\"\",\"\",COUNTIF('Entry sheet-2-hin'!$AK$9:$AK$68,\"50M\"))","v":""},{"$f":"IF(B56=\"\",\"\",COUNTIF('Entry sheet-2-hin'!$AK$9:$AK$68,\"50D\"))","v":""},"","",{"$f":"IF(B56=\"\",\"\",Q56/'Entry sheet-1-hin'!$C$6*100)","v":""}]
["MlÄÖ",null,{"$f":"SUM(C7:C56)","v":10},{"$f":"SUM(D7:D56)","v":22},16,1,8,8,14,11,4,4,16,28,5,{"$f":"SUM(P7:P56)","v":49},{"$f":"SUM(Q7:Q56)","v":80},{"$f":"IF(Q57=\"\",\"\",Q57/'Entry sheet-1-hin'!$C$6*100)","v":100}]
[]
[null,null,null,null,null,null,null,null,null,null,null,null,null,"हस्ताक्षर"]
[null,null,null,null,null,null,null,null,null,null,null,{"$f":"IF('Entry sheet-1-hin'!C7=\"\",\"\",\"(\"&'Entry sheet-1-hin'!C7&\")\")","v":"(नागलिंगय्या)"}]
[]
[]
[]
[]
[]
[]
[]
[]
[]
[]
[]
["पाठों पर प्रतिशत अंक बँटवार"]

{"sheet":"PARTWISE","index":12,"n_rows":24,"n_cols":8,"rows_kept":24,"cut":false,"hidden":false,"merged":[[22,5,22,6],[23,5,23,6],[10,0,10,2],[10,3,10,4],[10,5,10,6],[10,7,10,8],[6,3,6,4],[6,5,6,6],[6,7,6,8],[7,3,7,4],[7,5,7,6],[7,7,7,8],[8,3,8,4],[9,3,9,4],[8,5,8,6],[9,5,9,6],[8,7,8,8],[9,7,9,8],[0,0,0,9],[1,0,1,9],[3,0,3,8],[4,1,4,2],[5,3,5,4],[5,5,5,6],[5,7,5,8],[4,7,4,8],[4,5,4,6],[4,3,4,4]]}
[{"$f":"IF('Entry sheet-1-hin'!C2=\"\",\"\",'Entry sheet-1-hin'!C2)","v":"सरकारी पदवि पूर्व कॉलेंज (प्रौ.शा.वि) गुरुगुंटा, ता : लिंगसुगूर"}]
[{"$f":"IF('Entry sheet-1-hin'!C3=\"\",\"\",'Entry sheet-1-hin'!C3)","v":"रूपणात्मक परीक्षा - 2   २०१६-१७"}]
[{"$f":"uddista!A3","v":"कक्षा"},{"$f":"IF('Entry sheet-1-hin'!C4=\"\",\"\",'Entry sheet-1-hin'!C4)","v":"दसवीं "},null,null,null,null,null,{"$f":"'Entry sheet-1-hin'!A5&IF('Entry sheet-1-hin'!C5=\"\",\"\",'Entry sheet-1-hin'!C5)","v":"विषयहिंदी"}]
["विषय वस्तु के आधार पर"]
[{"$f":"uddista!A5","v":"क्र.सं"},{"$f":"'Entry sheet-1-hin'!E19","v":"विषय वस्तु"},null,{"$f":"'Entry sheet-1-hin'!F9","v":"प्रतिशत"},null,{"$f":"uddista!F5","v":"अंक"},null,{"$f":"uddista!H5","v":"प्रश्‍न"}]
[1,{"$f":"'Entry sheet-1-hin'!E20","v":"गद्य"},"ग",{"$f":"IF(F6=\"\",\"\",F6/'Entry sheet-1-hin'!$C$6*100)","v":40},null,{"$f":"IF('Entry sheet-2-hin'!O7=\"\",\"\",'Entry sheet-2-hin'!O7)","v":32},null,{"$f":"IF(F6=\"\",\"\",COUNTIF('Entry sheet-2-hin'!$AA$9:$AA$68,\"ग\"))","v":18}]
[2,{"$f":"'Entry sheet-1-hin'!E21","v":"पद्य"},"प",{"$f":"IF(F7=\"\",\"\",F7/'Entry sheet-1-hin'!$C$6*100)","v":25},null,{"$f":"IF('Entry sheet-2-hin'!P7=\"\",\"\",'Entry sheet-2-hin'!P7)","v":20},null,{"$f":"IF(F7=\"\",\"\",COUNTIF('Entry sheet-2-hin'!$AA$9:$AA$68,\"प\"))","v":11}]
[3,{"$f":"'Entry sheet-1-hin'!E22","v":"व्याकरण"},"व्या",{"$f":"IF(F8=\"\",\"\",F8/'Entry sheet-1-hin'!$C$6*100)","v":10},null,{"$f":"IF('Entry sheet-2-hin'!Q7=\"\",\"\",'Entry sheet-2-hin'!Q7)","v":8},null,{"$f":"IF(F8=\"\",\"\",COUNTIF('Entry sheet-2-hin'!$AA$9:$AA$68,\"व्या\"))","v":8}]
[4,{"$f":"'Entry sheet-1-hin'!E23","v":"रचना"},"र",{"$f":"IF(F9=\"\",\"\",F9/'Entry sheet-1-hin'!$C$6*100)","v":20},null,{"$f":"IF('Entry sheet-2-hin'!R7=\"\",\"\",'Entry sheet-2-hin'!R7)","v":16},null,{"$f":"IF(F9=\"\",\"\",COUNTIF('Entry sheet-2-hin'!$AA$9:$AA$68,\"र\"))","v":10}]
[5,{"$f":"'Entry sheet-1-hin'!E24","v":"पूरक वाचन"},"पूवा",{"$f":"IF(F10=\"\",\"\",F10/'Entry sheet-1-hin'!$C$6*100)","v":5},null,{"$f":"IF('Entry sheet-2-hin'!S7=\"\",\"\",'Entry sheet-2-hin'!S7)","v":4},null,{"$f":"IF(F10=\"\",\"\",COUNTIF('Entry sheet-2-hin'!$AA$9:$AA$68,\"पूवा\"))","v":2}]
[{"$f":"uddista!A10","v":"कुल"},null,null,{"$f":"IF(SUM(D6:D10)=\"\",\"\",SUM(D6:D10))","v":100},null,{"$f":"IF(SUM(F6:F10)=\"\",\"\",SUM(F6:F10))","v":80},null,{"$f":"IF(SUM(H6:H10)=\"\",\"\",SUM(H6:H10))","v":49}]
[]
[]
[]
[]
[]
[]
[]
[]
[]
[]
[null,"nagalingaiah.h@gmail.com      Mo :9035172763"]
[null,null,null,null,null,"हस्ताक्षर"]
[null,null,null,null,null,{"$f":"IF('Entry sheet-1-hin'!C7=\"\",\"\",\"(\"&'Entry sheet-1-hin'!C7&\")\")","v":"(नागलिंगय्या)"}]

{"sheet":"blue print","index":13,"n_rows":63,"n_cols":64,"rows_kept":63,"cut":false,"hidden":false,"merged":[[2,2,2,12],[2,58,2,63],[5,16,6,17],[61,57,61,58],[62,55,62,60],[4,2,4,13],[5,34,6,35],[5,2,6,3],[5,10,6,11],[4,14,4,25],[5,14,6,15],[5,18,6,19],[5,20,6,21],[5,22,6,23],[5,24,6,25],[5,12,6,13],[4,26,4,37],[4,38,4,49],[4,0,7,0],[4,1,7,1],[5,6,6,7],[5,8,6,9],[5,4,6,5],[5,26,6,27],[5,30,6,31],[5,32,6,33],[4,50,4,61],[5,50,6,51],[5,54,6,55],[5,56,6,57],[5,58,6,59],[5,60,6,61],[4,63,7,63],[58,0,58,1],[0,0,0,63],[1,0,1,63],[3,0,3,63],[5,28,6,29],[5,40,6,41],[5,52,6,53],[4,62,7,62],[5,36,6,37],[5,38,6,39],[5,46,6,47],[5,48,6,49],[5,42,6,43],[5,44,6,45],[2,0,2,1]]}
[{"$f":"'Entry sheet-1-hin'!C2","v":"सरकारी पदवि पूर्व कॉलेंज (प्रौ.शा.वि) गुरुगुंटा, ता : लिंगसुगूर"}]
[{"$f":"'Entry sheet-1-hin'!C3","v":"रूपणात्मक परीक्षा - 2   २०१६-१७"}]
[{"$f":"'Entry sheet-1-hin'!A4","v":"कक्षा"},null,{"$f":"'Entry sheet-1-hin'!C4:N4","v":"दसवीं "},null,null,null,null,null,null,null,null,null,null,null,null,null,null,null,null,null,null,null,null,null,null,null,null,null,null,null,null,null,null,null,null,null,null,null,null,null,null,null,null,null,null,null,null,null,null,null,null,null,null,null,null,null,null,null,{"$f":"'Entry sheet-1-hin'!A5&'Entry sheet-1-hin'!C5","v":"विषयहिंदी"}]
["नील नक्षा"]
["क्र.सं","पाठ का नाम","स्मरण",null,null,null,null,null,null,null,null,null,null,null,"समझना",null,null,null,null,null,null,null,null,null,null,null,"अभिव्यक्ति",null,null,null,null,null,null,null,null,null,null,null,"रसग्रहण",null,null,null,null,null,null,null,null,null,null,null,"कुल",null,null,null,null,null,null,null,null,null,null,null,"कुल प्रश्‍नों की संख्या","कुल अंक"]
[null,null,"ब.वि",null,"व.नि (जो,अ)",null,"अ.ल.उ",null,"ल.उ-2",null,"ल.उ-3",null,"दी.उ",null,"ब.वि",null,"व.नि (जो,अ)",null,"अ.ल.उ",null,"ल.उ-2",null,"ल.उ-3",null,"दी.उ",null,"ब.वि",null,"व.नि (जो,अ)",null,"अ.ल.उ",null,"ल.उ-2",null,"ल.उ-3",null,"दी.उ",null,"ब.वि",null,"व.नि (जो,अ)",null,"अ.ल.उ",null,"ल.उ-2",null,"ल.उ-3",null,"दी.उ",null,"ब.वि",null,"व.नि (जोडकर,अनुरूपता)",null,"अ.ल.उ",null,"ल.उ-2",null,"ल.उ-3",null,"दी.उ"]
[]
[null,null,"प्र","अ","प्र","अ","प्र","अ","प्र","अ","प्र","अ","प्र","अ","प्र","अ","प्र","अ","प्र","अ","प्र","अ","प्र","अ","प्र","अ","प्र","अ","प्र","अ","प्र","अ","प्र","अ","प्र","अ","प्र","अ","प्र","अ","प्र","अ","प्र","अ","प्र","अ","प्र","अ","प्र","अ","प्र","अ","प्र","अ","प्र","अ","प्र","अ","प्र","अ","प्र","अ"]
[{"$f":"IF('Entry sheet-1-hin'!A10=\"\",\"\",'Entry sheet-1-hin'!A10)","v":1},{"$f":"IF('Entry sheet-1-hin'!B10=\"\",\"\",'Entry sheet-1-hin'!B10)","v":"व्याकरण "},{"$f":"IF(B9=\"\",\"\",IF(AND(COUNTIF('Entry sheet-2-hin'!$AL$9:$AL$68,\"1स्मबवि\")=0),\"\",COUNTIF('Entry sheet-2-hin'!$AL$9:$AL$68,\"1स्मबवि\")))","v":""},{"$f":"IF(C9=\"\",\"\",C9)","v":""},{"$f":"IF(B9=\"\",\"\",IF(AND(COUNTIF('Entry sheet-2-hin'!$AL$9:$AL$68,\"1स्मवनि\")=0),\"\",COUNTIF('Entry sheet-2-hin'!$AL$9:$AL$68,\"1स्मवनि\")))","v":""},{"$f":"IF(E9=\"\",\"\",E9)","v":""},{"$f":"IF(B9=\"\",\"\",IF(AND(COUNTIF('Entry sheet-2-hin'!$AL$9:$AL$68,\"1स्मअलउ\")=0),\"\",COUNTIF('Entry sheet-2-hin'!$AL$9:$AL$68,\"1स्मअलउ\")))","v":""},{"$f":"IF(G9=\"\",\"\",G9)","v":""},{"$f":"IF(B9=\"\",\"\",IF(AND(COUNTIF('Entry sheet-2-hin'!$AL$9:$AL$68,\"1स्मलउ२\")=0),\"\",COUNTIF('Entry sheet-2-hin'!$AL$9:$AL$68,\"1स्मलउ२\")))","v":""},{"$f":"IF(I9=\"\",\"\",I9*2)","v":""},{"$f":"IF(B9=\"\",\"\",IF(AND(COUNTIF('Entry sheet-2-hin'!$AL$9:$AL$68,\"1स्मलउ३\")=0),\"\",COUNTIF('Entry sheet-2-hin'!$AL$9:$AL$68,\"1स्मलउ३\")))","v":""},{"$f":"IF(K9=\"\",\"\",K9*3)","v":""},{"$f":"IF(B9=\"\",\"\",IF(AND(COUNTIF('Entry sheet-2-hin'!$AL$9:$AL$68,\"1स्मदीउ४\")=0),\"\",COUNTIF('Entry sheet-2-hin'!$AL$9:$AL$68,\"1स्मदीउ४\")))","v":""},{"$f":"IF(M9=\"\",\"\",M9*4)","v":""},{"$f":"IF(B9=\"\",\"\",IF(AND(COUNTIF('Entry sheet-2-hin'!$AL$9:$AL$68,\"1समबवि\")=0),\"\",COUNTIF('Entry sheet-2-hin'!$AL$9:$AL$68,\"1समबवि\")))","v":8},{"$f":"IF(O9=\"\",\"\",O9)","v":8},{"$f":"IF(B9=\"\",\"\",IF(AND(COUNTIF('Entry sheet-2-hin'!$AL$9:$AL$68,\"1समवनि\")=0),\"\",COUNTIF('Entry sheet-2-hin'!$AL$9:$AL$68,\"1समवनि\")))","v":""},{"$f":"IF(Q9=\"\",\"\",Q9)","v":""},{"$f":"IF(B9=\"\",\"\",IF(AND(COUNTIF('Entry sheet-2-hin'!$AL$9:$AL$68,\"1समअलउ\")=0),\"\",COUNTIF('Entry sheet-2-hin'!$AL$9:$AL$68,\"1समअलउ\")))","v":""},{"$f":"IF(S9=\"\",\"\",S9)","v":""},{"$f":"IF(B9=\"\",\"\",IF(AND(COUNTIF('Entry sheet-2-hin'!$AL$9:$AL$68,\"1समलउ२\")=0),\"\",COUNTIF('Entry sheet-2-hin'!$AL$9:$AL$68,\"1समलउ२\")))","v":""},{"$f":"IF(U9=\"\",\"\",U9*2)","v":""},{"$f":"IF(B9=\"\",\"\",IF(AND(COUNTIF('Entry sheet-2-hin'!$AL$9:$AL$68,\"1समलउ३\")=0),\"\",COUNTIF('Entry sheet-2-hin'!$AL$9:$AL$68,\"1समलउ३\")))","v":""},{"$f":"IF(W9=\"\",\"\",W9*3)","v":""},{"$f":"IF(B9=\"\",\"\",IF(AND(COUNTIF('Entry sheet-2-hin'!$AL$9:$AL$68,\"1समदीउ४\")=0),\"\",COUNTIF('Entry sheet-2-hin'!$AL$9:$AL$68,\"1समदीउ४\")))","v":""},{"$f":"IF(Y9=\"\",\"\",Y9*4)","v":""},{"$f":"IF(B9=\"\",\"\",IF(AND(COUNTIF('Entry sheet-2-hin'!$AL$9:$AL$68,\"1अबवि\")=0),\"\",COUNTIF('Entry sheet-2-hin'!$AL$9:$AL$68,\"1अबवि\")))","v":""},{"$f":"IF(AA9=\"\",\"\",AA9)","v":""},{"$f":"IF(B9=\"\",\"\",IF(AND(COUNTIF('Entry sheet-2-hin'!$AL$9:$AL$68,\"1अवनि\")=0),\"\",COUNTIF('Entry sheet-2-hin'!$AL$9:$AL$68,\"1अवनि\")))","v":""},{"$f":"IF(AC9=\"\",\"\",AC9)","v":""},{"$f":"IF(B9=\"\",\"\",IF(AND(COUNTIF('Entry sheet-2-hin'!$AL$9:$AL$68,\"1अअलउ\")=0),\"\",COUNTIF('Entry sheet-2-hin'!$AL$9:$AL$68,\"1अअलउ\")))","v":""},{"$f":"IF(AE9=\"\",\"\",AE9)","v":""},{"$f":"IF(B9=\"\",\"\",IF(AND(COUNTIF('Entry sheet-2-hin'!$AL$9:$AL$68,\"1अलउ२\")=0),\"\",COUNTIF('Entry sheet-2-hin'!$AL$9:$AL$68,\"1अलउ२\")))","v":""},{"$f":"IF(AG9=\"\",\"\",AG9*2)","v":""},{"$f":"IF(B9=\"\",\"\",IF(AND(COUNTIF('Entry sheet-2-hin'!$AL$9:$AL$68,\"1अलउ३\")=0),\"\",COUNTIF('Entry sheet-2-hin'!$AL$9:$AL$68,\"1अलउ३\")))","v":""},{"$f":"IF(AI9=\"\",\"\",AI9*3)","v":""},{"$f":"IF(B9=\"\",\"\",IF(AND(COUNTIF('Entry sheet-2-hin'!$AL$9:$AL$68,\"1अदीउ४\")=0),\"\",COUNTIF('Entry sheet-2-hin'!$AL$9:$AL$68,\"1अदीउ४\")))","v":""},{"$f":"IF(AK9=\"\",\"\",AK9*4)","v":""},{"$f":"IF(B9=\"\",\"\",IF(AND(COUNTIF('Entry sheet-2-hin'!$AL$9:$AL$68,\"1रसबवि\")=0),\"\",COUNTIF('Entry sheet-2-hin'!$AL$9:$AL$68,\"1रसबवि\")))","v":""},{"$f":"IF(AM9=\"\",\"\",AM9)","v":""},{"$f":"IF(B9=\"\",\"\",IF(AND(COUNTIF('Entry sheet-2-hin'!$AL$9:$AL$68,\"1रसवनि\")=0),\"\",COUNTIF('Entry sheet-2-hin'!$AL$9:$AL$68,\"1रसवनि\")))","v":""},{"$f":"IF(AO9=\"\",\"\",AO9)","v":""},{"$f":"IF(B9=\"\",\"\",IF(AND(COUNTIF('Entry sheet-2-hin'!$AL$9:$AL$68,\"1रसअलउ\")=0),\"\",COUNTIF('Entry sheet-2-hin'!$AL$9:$AL$68,\"1रसअलउ\")))","v":""},{"$f":"IF(AQ9=\"\",\"\",AQ9)","v":""},{"$f":"IF(B9=\"\",\"\",IF(AND(COUNTIF('Entry sheet-2-hin'!$AL$9:$AL$68,\"1रसलउ२\")=0),\"\",COUNTIF('Entry sheet-2-hin'!$AL$9:$AL$68,\"1रसलउ२\")))","v":""},{"$f":"IF(AS9=\"\",\"\",AS9*2)","v":""},{"$f":"IF(B9=\"\",\"\",IF(AND(COUNTIF('Entry sheet-2-hin'!$AL$9:$AL$68,\"1रसलउ३\")=0),\"\",COUNTIF('Entry sheet-2-hin'!$AL$9:$AL$68,\"1रसलउ३\")))","v":""},{"$f":"IF(AU9=\"\",\"\",AU9*3)","v":""},{"$f":"IF(B9=\"\",\"\",IF(AND(COUNTIF('Entry sheet-2-hin'!$AL$9:$AL$68,\"1रसदीउ४\")=0),\"\",COUNTIF('Entry sheet-2-hin'!$AL$9:$AL$68,\"1रसदीउ४\")))","v":""},{"$f":"IF(AW9=\"\",\"\",AW9*4)","v":""},{"$f":"IF(B9=\"\",\"\",SUM(D9,P9,AB9,AN9))","v":8},{"$f":"IF(AY9=\"\",\"\",SUM(D9,P9,AB9,AN9))","v":8},{"$f":"IF(B9=\"\",\"\",SUM(F9,R9,AD9,AP9))","v":0},{"$f":"IF(BA9=\"\",\"\",SUM(F9,R9,AD9,AP9))","v":0},{"$f":"IF(B9=\"\",\"\",SUM(H9,T9,AF9,AR9))","v":0},{"$f":"IF(BC9=\"\",\"\",SUM(H9,T9,AF9,AR9))","v":0},{"$f":"IF(B9=\"\",\"\",SUM(J9,V9,AH9,AT9)/2)","v":0},{"$f":"IF(BE9=\"\",\"\",SUM(J9,V9,AH9,AT9))","v":0},{"$f":"IF(B9=\"\",\"\",SUM(L9,X9,AJ9,AV9)/3)","v":0},{"$f":"IF(BG9=\"\",\"\",SUM(L9,X9,AJ9,AV9))","v":0},{"$f":"IF(B9=\"\",\"\",SUM(N9,Z9,AL9,AX9)/4)","v":0},{"$f":"IF(BI9=\"\",\"\",SUM(N9,Z9,AL9,AX9))","v":0},{"$f":"IF(B9=\"\",\"\",SUM(AY9,BA9,BC9,BE9,BG9,BI9))","v":8},{"$f":"IF(B9=\"\",\"\",SUM(AZ9,BB9,BD9,BF9,BH9,BJ9))","v":8}]
[{"$f":"IF('Entry sheet-1-hin'!A11=\"\",\"\",'Entry sheet-1-hin'!A11)","v":2},{"$f":"IF('Entry sheet-1-hin'!B11=\"\",\"\",'Entry sheet-1-hin'!B11)","v":"प्रभो"},{"$f":"IF(B10=\"\",\"\",IF(AND(COUNTIF('Entry sheet-2-hin'!$AL$9:$AL$68,\"2स्मबवि\")=0),\"\",COUNTIF('Entry sheet-2-hin'!$AL$9:$AL$68,\"2स्मबवि\")))","v":""},{"$f":"IF(C10=\"\",\"\",C10)","v":""},{"$f":"IF(B10=\"\",\"\",IF(AND(COUNTIF('Entry sheet-2-hin'!$AL$9:$AL$68,\"2स्मवनि\")=0),\"\",COUNTIF('Entry sheet-2-hin'!$AL$9:$AL$68,\"2स्मवनि\")))","v":""},"",{"$f":"IF(B10=\"\",\"\",IF(AND(COUNTIF('Entry sheet-2-hin'!$AL$9:$AL$68,\"2स्मअलउ\")=0),\"\",COUNTIF('Entry sheet-2-hin'!$AL$9:$AL$68,\"2स्मअलउ\")))","v":1},{"$f":"IF(G10=\"\",\"\",G10)","v":1},{"$f":"IF(B10=\"\",\"\",IF(AND(COUNTIF('Entry sheet-2-hin'!$AL$9:$AL$68,\"2स्मलउ२\")=0),\"\",COUNTIF('Entry sheet-2-hin'!$AL$9:$AL$68,\"2स्मलउ२\")))","v":1},{"$f":"IF(I10=\"\",\"\",I10*2)","v":2},{"$f":"IF(B10=\"\",\"\",IF(AND(COUNTIF('Entry sheet-2-hin'!$AL$9:$AL$68,\"2स्मलउ३\")=0),\"\",COUNTIF('Entry sheet-2-hin'!$AL$9:$AL$68,\"2स्मलउ३\")))","v":""},{"$f":"IF(K10=\"\",\"\",K10*3)","v":""},{"$f":"IF(B10=\"\",\"\",IF(AND(COUNTIF('Entry sheet-2-hin'!$AL$9:$AL$68,\"2स्मदीउ४\")=0),\"\",COUNTIF('Entry sheet-2-hin'!$AL$9:$AL$68,\"2स्मदीउ४\")))","v":""},{"$f":"IF(M10=\"\",\"\",M10*4)","v":""},{"$f":"IF(B10=\"\",\"\",IF(AND(COUNTIF('Entry sheet-2-hin'!$AL$9:$AL$68,\"2समबवि\")=0),\"\",COUNTIF('Entry sheet-2-hin'!$AL$9:$AL$68,\"2समबवि\")))","v":""},{"$f":"IF(O10=\"\",\"\",O10)","v":""},{"$f":"IF(B10=\"\",\"\",IF(AND(COUNTIF('Entry sheet-2-hin'!$AL$9:$AL$68,\"2समवनि\")=0),\"\",COUNTIF('Entry sheet-2-hin'!$AL$9:$AL$68,\"2समवनि\")))","v":2},{"$f":"IF(Q10=\"\",\"\",Q10)","v":2},{"$f":"IF(B10=\"\",\"\",IF(AND(COUNTIF('Entry sheet-2-hin'!$AL$9:$AL$68,\"2समअलउ\")=0),\"\",COUNTIF('Entry sheet-2-hin'!$AL$9:$AL$68,\"2समअलउ\")))","v":""},{"$f":"IF(S10=\"\",\"\",S10)","v":""},{"$f":"IF(B10=\"\",\"\",IF(AND(COUNTIF('Entry sheet-2-hin'!$AL$9:$AL$68,\"2समलउ२\")=0),\"\",COUNTIF('Entry sheet-2-hin'!$AL$9:$AL$68,\"2समलउ२\")))","v":1},{"$f":"IF(U10=\"\",\"\",U10*2)","v":2},{"$f":"IF(B10=\"\",\"\",IF(AND(COUNTIF('Entry sheet-2-hin'!$AL$9:$AL$68,\"2समलउ३\")=0),\"\",COUNTIF('Entry sheet-2-hin'!$AL$9:$AL$68,\"2समलउ३\")))","v":""},{"$f":"IF(W10=\"\",\"\",W10*3)","v":""},{"$f":"IF(B10=\"\",\"\",IF(AND(COUNTIF('Entry sheet-2-hin'!$AL$9:$AL$68,\"2समदीउ४\")=0),\"\",COUNTIF('Entry sheet-2-hin'!$AL$9:$AL$68,\"2समदीउ४\")))","v":""},{"$f":"IF(Y10=\"\",\"\",Y10*4)","v":""},{"$f":"IF(B10=\"\",\"\",IF(AND(COUNTIF('Entry sheet-2-hin'!$AL$9:$AL$68,\"2अबवि\")=0),\"\",COUNTIF('Entry sheet-2-hin'!$AL$9:$AL$68,\"2अबवि\")))","v":""},{"$f":"IF(AA10=\"\",\"\",AA10)","v":""},{"$f":"IF(B10=\"\",\"\",IF(AND(COUNTIF('Entry sheet-2-hin'!$AL$9:$AL$68,\"2अवनि\")=0),\"\",COUNTIF('Entry sheet-2-hin'!$AL$9:$AL$68,\"2अवनि\")))","v":""},{"$f":"IF(AC10=\"\",\"\",AC10)","v":""},{"$f":"IF(B10=\"\",\"\",IF(AND(COUNTIF('Entry sheet-2-hin'!$AL$9:$AL$68,\"2अअलउ\")=0),\"\",COUNTIF('Entry sheet-2-hin'!$AL$9:$AL$68,\"2अअलउ\")))","v":""},{"$f":"IF(AE10=\"\",\"\",AE10)","v":""},{"$f":"IF(B10=\"\",\"\",IF(AND(COUNTIF('Entry sheet-2-hin'!$AL$9:$AL$68,\"2अलउ२\")=0),\"\",COUNTIF('Entry sheet-2-hin'!$AL$9:$AL$68,\"2अलउ२\")))","v":""},{"$f":"IF(AG10=\"\",\"\",AG10*2)","v":""},{"$f":"IF(B10=\"\",\"\",IF(AND(COUNTIF('Entry sheet-2-hin'!$AL$9:$AL$68,\"2अलउ३\")=0),\"\",COUNTIF('Entry sheet-2-hin'!$AL$9:$AL$68,\"2अलउ३\")))","v":""},{"$f":"IF(AI10=\"\",\"\",AI10*3)","v":""},{"$f":"IF(B10=\"\",\"\",IF(AND(COUNTIF('Entry sheet-2-hin'!$AL$9:$AL$68,\"2अदीउ४\")=0),\"\",COUNTIF('Entry sheet-2-hin'!$AL$9:$AL$68,\"2अदीउ४\")))","v":""},{"$f":"IF(AK10=\"\",\"\",AK10*4)","v":""},{"$f":"IF(B10=\"\",\"\",IF(AND(COUNTIF('Entry sheet-2-hin'!$AL$9:$AL$68,\"2रसबवि\")=0),\"\",COUNTIF('Entry sheet-2-hin'!$AL$9:$AL$68,\"2रसबवि\")))","v":""},{"$f":"IF(AM10=\"\",\"\",AM10)","v":""},{"$f":"IF(B10=\"\",\"\",IF(AND(COUNTIF('Entry sheet-2-hin'!$AL$9:$AL$68,\"2रसवनि\")=0),\"\",COUNTIF('Entry sheet-2-hin'!$AL$9:$AL$68,\"2रसवनि\")))","v":""},{"$f":"IF(AO10=\"\",\"\",AO10)","v":""},{"$f":"IF(B10=\"\",\"\",IF(AND(COUNTIF('Entry sheet-2-hin'!$AL$9:$AL$68,\"2रसअलउ\")=0),\"\",COUNTIF('Entry sheet-2-hin'!$AL$9:$AL$68,\"2रसअलउ\")))","v":""},{"$f":"IF(AQ10=\"\",\"\",AQ10)","v":""},{"$f":"IF(B10=\"\",\"\",IF(AND(COUNTIF('Entry sheet-2-hin'!$AL$9:$AL$68,\"2रसलउ२\")=0),\"\",COUNTIF('Entry sheet-2-hin'!$AL$9:$AL$68,\"2रसलउ२\")))","v":""},{"$f":"IF(AS10=\"\",\"\",AS10*2)","v":""},{"$f":"IF(B10=\"\",\"\",IF(AND(COUNTIF('Entry sheet-2-hin'!$AL$9:$AL$68,\"2रसलउ३\")=0),\"\",COUNTIF('Entry sheet-2-hin'!$AL$9:$AL$68,\"2रसलउ३\")))","v":1},{"$f":"IF(AU10=\"\",\"\",AU10*3)","v":3},{"$f":"IF(B10=\"\",\"\",IF(AND(COUNTIF('Entry sheet-2-hin'!$AL$9:$AL$68,\"2रसदीउ४\")=0),\"\",COUNTIF('Entry sheet-2-hin'!$AL$9:$AL$68,\"2रसदीउ४\")))","v":""},{"$f":"IF(AW10=\"\",\"\",AW10*4)","v":""},{"$f":"IF(B10=\"\",\"\",SUM(D10,P10,AB10,AN10))","v":0},{"$f":"IF(AY10=\"\",\"\",SUM(D10,P10,AB10,AN10))","v":0},{"$f":"IF(B10=\"\",\"\",SUM(F10,R10,AD10,AP10))","v":2},{"$f":"IF(BA10=\"\",\"\",SUM(F10,R10,AD10,AP10))","v":2},{"$f":"IF(B10=\"\",\"\",SUM(H10,T10,AF10,AR10))","v":1},{"$f":"IF(BC10=\"\",\"\",SUM(H10,T10,AF10,AR10))","v":1},{"$f":"IF(B10=\"\",\"\",SUM(J10,V10,AH10,AT10)/2)","v":2},{"$f":"IF(BE10=\"\",\"\",SUM(J10,V10,AH10,AT10))","v":4},{"$f":"IF(B10=\"\",\"\",SUM(L10,X10,AJ10,AV10)/3)","v":1},{"$f":"IF(BG10=\"\",\"\",SUM(L10,X10,AJ10,AV10))","v":3},{"$f":"IF(B10=\"\",\"\",SUM(N10,Z10,AL10,AX10)/4)","v":0},{"$f":"IF(BI10=\"\",\"\",SUM(N10,Z10,AL10,AX10))","v":0},{"$f":"IF(B10=\"\",\"\",SUM(AY10,BA10,BC10,BE10,BG10,BI10))","v":6},{"$f":"IF(B10=\"\",\"\",SUM(AZ10,BB10,BD10,BF10,BH10,BJ10))","v":10}]
[{"$f":"IF('Entry sheet-1-hin'!A12=\"\",\"\",'Entry sheet-1-hin'!A12)","v":3},{"$f":"IF('Entry sheet-1-hin'!B12=\"\",\"\",'Entry sheet-1-hin'!B12)","v":"रवींद्रनाथ ठाकुर"},{"$f":"IF(B11=\"\",\"\",IF(AND(COUNTIF('Entry sheet-2-hin'!$AL$9:$AL$68,\"3स्मबवि\")=0),\"\",COUNTIF('Entry sheet-2-hin'!$AL$9:$AL$68,\"3स्मबवि\")))","v":""},"",{"$f":"IF(B11=\"\",\"\",IF(AND(COUNTIF('Entry sheet-2-hin'!$AL$9:$AL$68,\"3स्मवनि\")=0),\"\",COUNTIF('Entry sheet-2-hin'!$AL$9:$AL$68,\"3स्मवनि\")))","v":""},"",{"$f":"IF(B11=\"\",\"\",IF(AND(COUNTIF('Entry sheet-2-hin'!$AL$9:$AL$68,\"3स्मअलउ\")=0),\"\",COUNTIF('Entry sheet-2-hin'!$AL$9:$AL$68,\"3स्मअलउ\")))","v":1},1,{"$f":"IF(B11=\"\",\"\",IF(AND(COUNTIF('Entry sheet-2-hin'!$AL$9:$AL$68,\"3स्मलउ२\")=0),\"\",COUNTIF('Entry sheet-2-hin'!$AL$9:$AL$68,\"3स्मलउ२\")))","v":""},"",{"$f":"IF(B11=\"\",\"\",IF(AND(COUNTIF('Entry sheet-2-hin'!$AL$9:$AL$68,\"3स्मलउ३\")=0),\"\",COUNTIF('Entry sheet-2-hin'!$AL$9:$AL$68,\"3स्मलउ३\")))","v":""},"",{"$f":"IF(B11=\"\",\"\",IF(AND(COUNTIF('Entry sheet-2-hin'!$AL$9:$AL$68,\"3स्मदीउ४\")=0),\"\",COUNTIF('Entry sheet-2-hin'!$AL$9:$AL$68,\"3स्मदीउ४\")))","v":""},"",{"$f":"IF(B11=\"\",\"\",IF(AND(COUNTIF('Entry sheet-2-hin'!$AL$9:$AL$68,\"3समबवि\")=0),\"\",COUNTIF('Entry sheet-2-hin'!$AL$9:$AL$68,\"3समबवि\")))","v":""},"",{"$f":"IF(B11=\"\",\"\",IF(AND(COUNTIF('Entry sheet-2-hin'!$AL$9:$AL$68,\"3समवनि\")=0),\"\",COUNTIF('Entry sheet-2-hin'!$AL$9:$AL$68,\"3समवनि\")))","v":""},"",{"$f":"IF(B11=\"\",\"\",IF(AND(COUNTIF('Entry sheet-2-hin'!$AL$9:$AL$68,\"3समअलउ\")=0),\"\",COUNTIF('Entry sheet-2-hin'!$AL$9:$AL$68,\"3समअलउ\")))","v":""},"",{"$f":"IF(B11=\"\",\"\",IF(AND(COUNTIF('Entry sheet-2-hin'!$AL$9:$AL$68,\"3समलउ२\")=0),\"\",COUNTIF('Entry sheet-2-hin'!$AL$9:$AL$68,\"3समलउ२\")))","v":1},2,{"$f":"IF(B11=\"\",\"\",IF(AND(COUNTIF('Entry sheet-2-hin'!$AL$9:$AL$68,\"3समलउ३\")=0),\"\",COUNTIF('Entry sheet-2-hin'!$AL$9:$AL$68,\"3समलउ३\")))","v":""},"",{"$f":"IF(B11=\"\",\"\",IF(AND(COUNTIF('Entry sheet-2-hin'!$AL$9:$AL$68,\"3समदीउ४\")=0),\"\",COUNTIF('Entry sheet-2-hin'!$AL$9:$AL$68,\"3समदीउ४\")))","v":""},"",{"$f":"IF(B11=\"\",\"\",IF(AND(COUNTIF('Entry sheet-2-hin'!$AL$9:$AL$68,\"3अबवि\")=0),\"\",COUNTIF('Entry sheet-2-hin'!$AL$9:$AL$68,\"3अबवि\")))","v":""},"",{"$f":"IF(B11=\"\",\"\",IF(AND(COUNTIF('Entry sheet-2-hin'!$AL$9:$AL$68,\"3अवनि\")=0),\"\",COUNTIF('Entry sheet-2-hin'!$AL$9:$AL$68,\"3अवनि\")))","v":""},"",{"$f":"IF(B11=\"\",\"\",IF(AND(COUNTIF('Entry sheet-2-hin'!$AL$9:$AL$68,\"3अअलउ\")=0),\"\",COUNTIF('Entry sheet-2-hin'!$AL$9:$AL$68,\"3अअलउ\")))","v":""},"",{"$f":"IF(B11=\"\",\"\",IF(AND(COUNTIF('Entry sheet-2-hin'!$AL$9:$AL$68,\"3अलउ२\")=0),\"\",COUNTIF('Entry sheet-2-hin'!$AL$9:$AL$68,\"3अलउ२\")))","v":""},"",{"$f":"IF(B11=\"\",\"\",IF(AND(COUNTIF('Entry sheet-2-hin'!$AL$9:$AL$68,\"3अलउ३\")=0),\"\",COUNTIF('Entry sheet-2-hin'!$AL$9:$AL$68,\"3अलउ३\")))","v":""},"",{"$f":"IF(B11=\"\",\"\",IF(AND(COUNTIF('Entry sheet-2-hin'!$AL$9:$AL$68,\"3अदीउ४\")=0),\"\",COUNTIF('Entry sheet-2-hin'!$AL$9:$AL$68,\"3अदीउ४\")))","v":1},4,{"$f":"IF(B11=\"\",\"\",IF(AND(COUNTIF('Entry sheet-2-hin'!$AL$9:$AL$68,\"3रसबवि\")=0),\"\",COUNTIF('Entry sheet-2-hin'!$AL$9:$AL$68,\"3रसबवि\")))","v":""},"",{"$f":"IF(B11=\"\",\"\",IF(AND(COUNTIF('Entry sheet-2-hin'!$AL$9:$AL$68,\"3रसवनि\")=0),\"\",COUNTIF('Entry sheet-2-hin'!$AL$9:$AL$68,\"3रसवनि\")))","v":""},"",{"$f":"IF(B11=\"\",\"\",IF(AND(COUNTIF('Entry sheet-2-hin'!$AL$9:$AL$68,\"3रसअलउ\")=0),\"\",COUNTIF('Entry sheet-2-hin'!$AL$9:$AL$68,\"3रसअलउ\")))","v":""},"",{"$f":"IF(B11=\"\",\"\",IF(AND(COUNTIF('Entry sheet-2-hin'!$AL$9:$AL$68,\"3रसलउ२\")=0),\"\",COUNTIF('Entry sheet-2-hin'!$AL$9:$AL$68,\"3रसलउ२\")))","v":""},"",{"$f":"IF(B11=\"\",\"\",IF(AND(COUNTIF('Entry sheet-2-hin'!$AL$9:$AL$68,\"3रसलउ३\")=0),\"\",COUNTIF('Entry sheet-2-hin'!$AL$9:$AL$68,\"3रसलउ३\")))","v":""},"",{"$f":"IF(B11=\"\",\"\",IF(AND(COUNTIF('Entry sheet-2-hin'!$AL$9:$AL$68,\"3रसदीउ४\")=0),\"\",COUNTIF('Entry sheet-2-hin'!$AL$9:$AL$68,\"3रसदीउ४\")))","v":""},"",0,0,0,0,1,1,1,2,0,0,1,4,3,7]
[{"$f":"IF('Entry sheet-1-hin'!A13=\"\",\"\",'Entry sheet-1-hin'!A13)","v":4},{"$f":"IF('Entry sheet-1-hin'!B13=\"\",\"\",'Entry sheet-1-hin'!B13)","v":"भक्तों के भगवान"},{"$f":"IF(B12=\"\",\"\",IF(AND(COUNTIF('Entry sheet-2-hin'!$AL$9:$AL$68,\"4स्मबवि\")=0),\"\",COUNTIF('Entry sheet-2-hin'!$AL$9:$AL$68,\"4स्मबवि\")))","v":""},"",{"$f":"IF(B12=\"\",\"\",IF(AND(COUNTIF('Entry sheet-2-hin'!$AL$9:$AL$68,\"4स्मवनि\")=0),\"\",COUNTIF('Entry sheet-2-hin'!$AL$9:$AL$68,\"4स्मवनि\")))","v":""},"",{"$f":"IF(B12=\"\",\"\",IF(AND(COUNTIF('Entry sheet-2-hin'!$AL$9:$AL$68,\"4स्मअलउ\")=0),\"\",COUNTIF('Entry sheet-2-hin'!$AL$9:$AL$68,\"4स्मअलउ\")))","v":1},1,{"$f":"IF(B12=\"\",\"\",IF(AND(COUNTIF('Entry sheet-2-hin'!$AL$9:$AL$68,\"4स्मलउ२\")=0),\"\",COUNTIF('Entry sheet-2-hin'!$AL$9:$AL$68,\"4स्मलउ२\")))","v":""},"",{"$f":"IF(B12=\"\",\"\",IF(AND(COUNTIF('Entry sheet-2-hin'!$AL$9:$AL$68,\"4स्मलउ३\")=0),\"\",COUNTIF('Entry sheet-2-hin'!$AL$9:$AL$68,\"4स्मलउ३\")))","v":1},3,{"$f":"IF(B12=\"\",\"\",IF(AND(COUNTIF('Entry sheet-2-hin'!$AL$9:$AL$68,\"4स्मदीउ४\")=0),\"\",COUNTIF('Entry sheet-2-hin'!$AL$9:$AL$68,\"4स्मदीउ४\")))","v":""},"",{"$f":"IF(B12=\"\",\"\",IF(AND(COUNTIF('Entry sheet-2-hin'!$AL$9:$AL$68,\"4समबवि\")=0),\"\",COUNTIF('Entry sheet-2-hin'!$AL$9:$AL$68,\"4समबवि\")))","v":""},"",{"$f":"IF(B12=\"\",\"\",IF(AND(COUNTIF('Entry sheet-2-hin'!$AL$9:$AL$68,\"4समवनि\")=0),\"\",COUNTIF('Entry sheet-2-hin'!$AL$9:$AL$68,\"4समवनि\")))","v":""},"",{"$f":"IF(B12=\"\",\"\",IF(AND(COUNTIF('Entry sheet-2-hin'!$AL$9:$AL$68,\"4समअलउ\")=0),\"\",COUNTIF('Entry sheet-2-hin'!$AL$9:$AL$68,\"4समअलउ\")))","v":""},"",{"$f":"IF(B12=\"\",\"\",IF(AND(COUNTIF('Entry sheet-2-hin'!$AL$9:$AL$68,\"4समलउ२\")=0),\"\",COUNTIF('Entry sheet-2-hin'!$AL$9:$AL$68,\"4समलउ२\")))","v":""},"",{"$f":"IF(B12=\"\",\"\",IF(AND(COUNTIF('Entry sheet-2-hin'!$AL$9:$AL$68,\"4समलउ३\")=0),\"\",COUNTIF('Entry sheet-2-hin'!$AL$9:$AL$68,\"4समलउ३\")))","v":""},"",{"$f":"IF(B12=\"\",\"\",IF(AND(COUNTIF('Entry sheet-2-hin'!$AL$9:$AL$68,\"4समदीउ४\")=0),\"\",COUNTIF('Entry sheet-2-hin'!$AL$9:$AL$68,\"4समदीउ४\")))","v":""},"",{"$f":"IF(B12=\"\",\"\",IF(AND(COUNTIF('Entry sheet-2-hin'!$AL$9:$AL$68,\"4अबवि\")=0),\"\",COUNTIF('Entry sheet-2-hin'!$AL$9:$AL$68,\"4अबवि\")))","v":""},"",{"$f":"IF(B12=\"\",\"\",IF(AND(COUNTIF('Entry sheet-2-hin'!$AL$9:$AL$68,\"4अवनि\")=0),\"\",COUNTIF('Entry sheet-2-hin'!$AL$9:$AL$68,\"4अवनि\")))","v":""},"",{"$f":"IF(B12=\"\",\"\",IF(AND(COUNTIF('Entry sheet-2-hin'!$AL$9:$AL$68,\"4अअलउ\")=0),\"\",COUNTIF('Entry sheet-2-hin'!$AL$9:$AL$68,\"4अअलउ\")))","v":""},"",{"$f":"IF(B12=\"\",\"\",IF(AND(COUNTIF('Entry sheet-2-hin'!$AL$9:$AL$68,\"4अलउ२\")=0),\"\",COUNTIF('Entry sheet-2-hin'!$AL$9:$AL$68,\"4अलउ२\")))","v":1},2,{"$f":"IF(B12=\"\",\"\",IF(AND(COUNTIF('Entry sheet-2-hin'!$AL$9:$AL$68,\"4अलउ३\")=0),\"\",COUNTIF('Entry sheet-2-hin'!$AL$9:$AL$68,\"4अलउ३\")))","v":""},"",{"$f":"IF(B12=\"\",\"\",IF(AND(COUNTIF('Entry sheet-2-hin'!$AL$9:$AL$68,\"4अदीउ४\")=0),\"\",COUNTIF('Entry sheet-2-hin'!$AL$9:$AL$68,\"4अदीउ४\")))","v":""},"",{"$f":"IF(B12=\"\",\"\",IF(AND(COUNTIF('Entry sheet-2-hin'!$AL$9:$AL$68,\"4रसबवि\")=0),\"\",COUNTIF('Entry sheet-2-hin'!$AL$9:$AL$68,\"4रसबवि\")))","v":""},"",{"$f":"IF(B12=\"\",\"\",IF(AND(COUNTIF('Entry sheet-2-hin'!$AL$9:$AL$68,\"4रसवनि\")=0),\"\",COUNTIF('Entry sheet-2-hin'!$AL$9:$AL$68,\"4रसवनि\")))","v":""},"",{"$f":"IF(B12=\"\",\"\",IF(AND(COUNTIF('Entry sheet-2-hin'!$AL$9:$AL$68,\"4रसअलउ\")=0),\"\",COUNTIF('Entry sheet-2-hin'!$AL$9:$AL$68,\"4रसअलउ\")))","v":""},"",{"$f":"IF(B12=\"\",\"\",IF(AND(COUNTIF('Entry sheet-2-hin'!$AL$9:$AL$68,\"4रसलउ२\")=0),\"\",COUNTIF('Entry sheet-2-hin'!$AL$9:$AL$68,\"4रसलउ२\")))","v":""},"",{"$f":"IF(B12=\"\",\"\",IF(AND(COUNTIF('Entry sheet-2-hin'!$AL$9:$AL$68,\"4रसलउ३\")=0),\"\",COUNTIF('Entry sheet-2-hin'!$AL$9:$AL$68,\"4रसलउ३\")))","v":""},"",{"$f":"IF(B12=\"\",\"\",IF(AND(COUNTIF('Entry sheet-2-hin'!$AL$9:$AL$68,\"4रसदीउ४\")=0),\"\",COUNTIF('Entry sheet-2-hin'!$AL$9:$AL$68,\"4रसदीउ४\")))","v":""},"",0,0,0,0,1,1,1,2,1,3,0,0,3,6]
[{"$f":"IF('Entry sheet-1-hin'!A14=\"\",\"\",'Entry sheet-1-hin'!A14)","v":5},{"$f":"IF('Entry sheet-1-hin'!B14=\"\",\"\",'Entry sheet-1-hin'!B14)","v":" इंटरनेट क्रांति"},{"$f":"IF(B13=\"\",\"\",IF(AND(COUNTIF('Entry sheet-2-hin'!$AL$9:$AL$68,\"5स्मबवि\")=0),\"\",COUNTIF('Entry sheet-2-hin'!$AL$9:$AL$68,\"5स्मबवि\")))","v":""},"",{"$f":"IF(B13=\"\",\"\",IF(AND(COUNTIF('Entry sheet-2-hin'!$AL$9:$AL$68,\"5स्मवनि\")=0),\"\",COUNTIF('Entry sheet-2-hin'!$AL$9:$AL$68,\"5स्मवनि\")))","v":2},2,{"$f":"IF(B13=\"\",\"\",IF(AND(COUNTIF('Entry sheet-2-hin'!$AL$9:$AL$68,\"5स्मअलउ\")=0),\"\",COUNTIF('Entry sheet-2-hin'!$AL$9:$AL$68,\"5स्मअलउ\")))","v":""},"",{"$f":"IF(B13=\"\",\"\",IF(AND(COUNTIF('Entry sheet-2-hin'!$AL$9:$AL$68,\"5स्मलउ२\")=0),\"\",COUNTIF('Entry sheet-2-hin'!$AL$9:$AL$68,\"5स्मलउ२\")))","v":""},"",{"$f":"IF(B13=\"\",\"\",IF(AND(COUNTIF('Entry sheet-2-hin'!$AL$9:$AL$68,\"5स्मलउ३\")=0),\"\",COUNTIF('Entry sheet-2-hin'!$AL$9:$AL$68,\"5स्मलउ३\")))","v":""},"",{"$f":"IF(B13=\"\",\"\",IF(AND(COUNTIF('Entry sheet-2-hin'!$AL$9:$AL$68,\"5स्मदीउ४\")=0),\"\",COUNTIF('Entry sheet-2-hin'!$AL$9:$AL$68,\"5स्मदीउ४\")))","v":""},"",{"$f":"IF(B13=\"\",\"\",IF(AND(COUNTIF('Entry sheet-2-hin'!$AL$9:$AL$68,\"5समबवि\")=0),\"\",COUNTIF('Entry sheet-2-hin'!$AL$9:$AL$68,\"5समबवि\")))","v":""},"",{"$f":"IF(B13=\"\",\"\",IF(AND(COUNTIF('Entry sheet-2-hin'!$AL$9:$AL$68,\"5समवनि\")=0),\"\",COUNTIF('Entry sheet-2-hin'!$AL$9:$AL$68,\"5समवनि\")))","v":""},"",{"$f":"IF(B13=\"\",\"\",IF(AND(COUNTIF('Entry sheet-2-hin'!$AL$9:$AL$68,\"5समअलउ\")=0),\"\",COUNTIF('Entry sheet-2-hin'!$AL$9:$AL$68,\"5समअलउ\")))","v":1},1,{"$f":"IF(B13=\"\",\"\",IF(AND(COUNTIF('Entry sheet-2-hin'!$AL$9:$AL$68,\"5समलउ२\")=0),\"\",COUNTIF('Entry sheet-2-hin'!$AL$9:$AL$68,\"5समलउ२\")))","v":""},"",{"$f":"IF(B13=\"\",\"\",IF(AND(COUNTIF('Entry sheet-2-hin'!$AL$9:$AL$68,\"5समलउ३\")=0),\"\",COUNTIF('Entry sheet-2-hin'!$AL$9:$AL$68,\"5समलउ३\")))","v":""},"",{"$f":"IF(B13=\"\",\"\",IF(AND(COUNTIF('Entry sheet-2-hin'!$AL$9:$AL$68,\"5समदीउ४\")=0),\"\",COUNTIF('Entry sheet-2-hin'!$AL$9:$AL$68,\"5समदीउ४\")))","v":""},"",{"$f":"IF(B13=\"\",\"\",IF(AND(COUNTIF('Entry sheet-2-hin'!$AL$9:$AL$68,\"5अबवि\")=0),\"\",COUNTIF('Entry sheet-2-hin'!$AL$9:$AL$68,\"5अबवि\")))","v":""},"",{"$f":"IF(B13=\"\",\"\",IF(AND(COUNTIF('Entry sheet-2-hin'!$AL$9:$AL$68,\"5अवनि\")=0),\"\",COUNTIF('Entry sheet-2-hin'!$AL$9:$AL$68,\"5अवनि\")))","v":""},"",{"$f":"IF(B13=\"\",\"\",IF(AND(COUNTIF('Entry sheet-2-hin'!$AL$9:$AL$68,\"5अअलउ\")=0),\"\",COUNTIF('Entry sheet-2-hin'!$AL$9:$AL$68,\"5अअलउ\")))","v":""},"",{"$f":"IF(B13=\"\",\"\",IF(AND(COUNTIF('Entry sheet-2-hin'!$AL$9:$AL$68,\"5अलउ२\")=0),\"\",COUNTIF('Entry sheet-2-hin'!$AL$9:$AL$68,\"5अलउ२\")))","v":1},2,{"$f":"IF(B13=\"\",\"\",IF(AND(COUNTIF('Entry sheet-2-hin'!$AL$9:$AL$68,\"5अलउ३\")=0),\"\",COUNTIF('Entry sheet-2-hin'!$AL$9:$AL$68,\"5अलउ३\")))","v":""},"",{"$f":"IF(B13=\"\",\"\",IF(AND(COUNTIF('Entry sheet-2-hin'!$AL$9:$AL$68,\"5अदीउ४\")=0),\"\",COUNTIF('Entry sheet-2-hin'!$AL$9:$AL$68,\"5अदीउ४\")))","v":""},"",{"$f":"IF(B13=\"\",\"\",IF(AND(COUNTIF('Entry sheet-2-hin'!$AL$9:$AL$68,\"5रसबवि\")=0),\"\",COUNTIF('Entry sheet-2-hin'!$AL$9:$AL$68,\"5रसबवि\")))","v":""},"",{"$f":"IF(B13=\"\",\"\",IF(AND(COUNTIF('Entry sheet-2-hin'!$AL$9:$AL$68,\"5रसवनि\")=0),\"\",COUNTIF('Entry sheet-2-hin'!$AL$9:$AL$68,\"5रसवनि\")))","v":""},"",{"$f":"IF(B13=\"\",\"\",IF(AND(COUNTIF('Entry sheet-2-hin'!$AL$9:$AL$68,\"5रसअलउ\")=0),\"\",COUNTIF('Entry sheet-2-hin'!$AL$9:$AL$68,\"5रसअलउ\")))","v":""},"",{"$f":"IF(B13=\"\",\"\",IF(AND(COUNTIF('Entry sheet-2-hin'!$AL$9:$AL$68,\"5रसलउ२\")=0),\"\",COUNTIF('Entry sheet-2-hin'!$AL$9:$AL$68,\"5रसलउ२\")))","v":""},"",{"$f":"IF(B13=\"\",\"\",IF(AND(COUNTIF('Entry sheet-2-hin'!$AL$9:$AL$68,\"5रसलउ३\")=0),\"\",COUNTIF('Entry sheet-2-hin'!$AL$9:$AL$68,\"5रसलउ३\")))","v":""},"",{"$f":"IF(B13=\"\",\"\",IF(AND(COUNTIF('Entry sheet-2-hin'!$AL$9:$AL$68,\"5रसदीउ४\")=0),\"\",COUNTIF('Entry sheet-2-hin'!$AL$9:$AL$68,\"5रसदीउ४\")))","v":""},"",0,0,2,2,1,1,1,2,0,0,0,0,4,5]
[{"$f":"IF('Entry sheet-1-hin'!A15=\"\",\"\",'Entry sheet-1-hin'!A15)","v":6},{"$f":"IF('Entry sheet-1-hin'!B15=\"\",\"\",'Entry sheet-1-hin'!B15)","v":"मातृभूमि"},{"$f":"IF(B14=\"\",\"\",IF(AND(COUNTIF('Entry sheet-2-hin'!$AL$9:$AL$68,\"6स्मबवि\")=0),\"\",COUNTIF('Entry sheet-2-hin'!$AL$9:$AL$68,\"6स्मबवि\")))","v":""},"",{"$f":"IF(B14=\"\",\"\",IF(AND(COUNTIF('Entry sheet-2-hin'!$AL$9:$AL$68,\"6स्मवनि\")=0),\"\",COUNTIF('Entry sheet-2-hin'!$AL$9:$AL$68,\"6स्मवनि\")))","v":""},"",{"$f":"IF(B14=\"\",\"\",IF(AND(COUNTIF('Entry sheet-2-hin'!$AL$9:$AL$68,\"6स्मअलउ\")=0),\"\",COUNTIF('Entry sheet-2-hin'!$AL$9:$AL$68,\"6स्मअलउ\")))","v":""},"",{"$f":"IF(B14=\"\",\"\",IF(AND(COUNTIF('Entry sheet-2-hin'!$AL$9:$AL$68,\"6स्मलउ२\")=0),\"\",COUNTIF('Entry sheet-2-hin'!$AL$9:$AL$68,\"6स्मलउ२\")))","v":""},"",{"$f":"IF(B14=\"\",\"\",IF(AND(COUNTIF('Entry sheet-2-hin'!$AL$9:$AL$68,\"6स्मलउ३\")=0),\"\",COUNTIF('Entry sheet-2-hin'!$AL$9:$AL$68,\"6स्मलउ३\")))","v":""},"",{"$f":"IF(B14=\"\",\"\",IF(AND(COUNTIF('Entry sheet-2-hin'!$AL$9:$AL$68,\"6स्मदीउ४\")=0),\"\",COUNTIF('Entry sheet-2-hin'!$AL$9:$AL$68,\"6स्मदीउ४\")))","v":1},4,{"$f":"IF(B14=\"\",\"\",IF(AND(COUNTIF('Entry sheet-2-hin'!$AL$9:$AL$68,\"6समबवि\")=0),\"\",COUNTIF('Entry sheet-2-hin'!$AL$9:$AL$68,\"6समबवि\")))","v":""},"",{"$f":"IF(B14=\"\",\"\",IF(AND(COUNTIF('Entry sheet-2-hin'!$AL$9:$AL$68,\"6समवनि\")=0),\"\",COUNTIF('Entry sheet-2-hin'!$AL$9:$AL$68,\"6समवनि\")))","v":1},1,{"$f":"IF(B14=\"\",\"\",IF(AND(COUNTIF('Entry sheet-2-hin'!$AL$9:$AL$68,\"6समअलउ\")=0),\"\",COUNTIF('Entry sheet-2-hin'!$AL$9:$AL$68,\"6समअलउ\")))","v":1},1,{"$f":"IF(B14=\"\",\"\",IF(AND(COUNTIF('Entry sheet-2-hin'!$AL$9:$AL$68,\"6समलउ२\")=0),\"\",COUNTIF('Entry sheet-2-hin'!$AL$9:$AL$68,\"6समलउ२\")))","v":""},"",{"$f":"IF(B14=\"\",\"\",IF(AND(COUNTIF('Entry sheet-2-hin'!$AL$9:$AL$68,\"6समलउ३\")=0),\"\",COUNTIF('Entry sheet-2-hin'!$AL$9:$AL$68,\"6समलउ३\")))","v":""},"",{"$f":"IF(B14=\"\",\"\",IF(AND(COUNTIF('Entry sheet-2-hin'!$AL$9:$AL$68,\"6समदीउ४\")=0),\"\",COUNTIF('Entry sheet-2-hin'!$AL$9:$AL$68,\"6समदीउ४\")))","v":""},"",{"$f":"IF(B14=\"\",\"\",IF(AND(COUNTIF('Entry sheet-2-hin'!$AL$9:$AL$68,\"6अबवि\")=0),\"\",COUNTIF('Entry sheet-2-hin'!$AL$9:$AL$68,\"6अबवि\")))","v":""},"",{"$f":"IF(B14=\"\",\"\",IF(AND(COUNTIF('Entry sheet-2-hin'!$AL$9:$AL$68,\"6अवनि\")=0),\"\",COUNTIF('Entry sheet-2-hin'!$AL$9:$AL$68,\"6अवनि\")))","v":""},"",{"$f":"IF(B14=\"\",\"\",IF(AND(COUNTIF('Entry sheet-2-hin'!$AL$9:$AL$68,\"6अअलउ\")=0),\"\",COUNTIF('Entry sheet-2-hin'!$AL$9:$AL$68,\"6अअलउ\")))","v":""},"",{"$f":"IF(B14=\"\",\"\",IF(AND(COUNTIF('Entry sheet-2-hin'!$AL$9:$AL$68,\"6अलउ२\")=0),\"\",COUNTIF('Entry sheet-2-hin'!$AL$9:$AL$68,\"6अलउ२\")))","v":2},4,{"$f":"IF(B14=\"\",\"\",IF(AND(COUNTIF('Entry sheet-2-hin'!$AL$9:$AL$68,\"6अलउ३\")=0),\"\",COUNTIF('Entry sheet-2-hin'!$AL$9:$AL$68,\"6अलउ३\")))","v":""},"",{"$f":"IF(B14=\"\",\"\",IF(AND(COUNTIF('Entry sheet-2-hin'!$AL$9:$AL$68,\"6अदीउ४\")=0),\"\",COUNTIF('Entry sheet-2-hin'!$AL$9:$AL$68,\"6अदीउ४\")))","v":""},"",{"$f":"IF(B14=\"\",\"\",IF(AND(COUNTIF('Entry sheet-2-hin'!$AL$9:$AL$68,\"6रसबवि\")=0),\"\",COUNTIF('Entry sheet-2-hin'!$AL$9:$AL$68,\"6रसबवि\")))","v":""},"",{"$f":"IF(B14=\"\",\"\",IF(AND(COUNTIF('Entry sheet-2-hin'!$AL$9:$AL$68,\"6रसवनि\")=0),\"\",COUNTIF('Entry sheet-2-hin'!$AL$9:$AL$68,\"6रसवनि\")))","v":""},"",{"$f":"IF(B14=\"\",\"\",IF(AND(COUNTIF('Entry sheet-2-hin'!$AL$9:$AL$68,\"6रसअलउ\")=0),\"\",COUNTIF('Entry sheet-2-hin'!$AL$9:$AL$68,\"6रसअलउ\")))","v":""},"",{"$f":"IF(B14=\"\",\"\",IF(AND(COUNTIF('Entry sheet-2-hin'!$AL$9:$AL$68,\"6रसलउ२\")=0),\"\",COUNTIF('Entry sheet-2-hin'!$AL$9:$AL$68,\"6रसलउ२\")))","v":""},"",{"$f":"IF(B14=\"\",\"\",IF(AND(COUNTIF('Entry sheet-2-hin'!$AL$9:$AL$68,\"6रसलउ३\")=0),\"\",COUNTIF('Entry sheet-2-hin'!$AL$9:$AL$68,\"6रसलउ३\")))","v":""},"",{"$f":"IF(B14=\"\",\"\",IF(AND(COUNTIF('Entry sheet-2-hin'!$AL$9:$AL$68,\"6रसदीउ४\")=0),\"\",COUNTIF('Entry sheet-2-hin'!$AL$9:$AL$68,\"6रसदीउ४\")))","v":""},"",0,0,1,1,1,1,2,4,0,0,1,4,5,10]
[{"$f":"IF('Entry sheet-1-hin'!A16=\"\",\"\",'Entry sheet-1-hin'!A16)","v":7},{"$f":"IF('Entry sheet-1-hin'!B16=\"\",\"\",'Entry sheet-1-hin'!B16)","v":" गिल्लू"},{"$f":"IF(B15=\"\",\"\",IF(AND(COUNTIF('Entry sheet-2-hin'!$AL$9:$AL$68,\"7स्मबवि\")=0),\"\",COUNTIF('Entry sheet-2-hin'!$AL$9:$AL$68,\"7स्मबवि\")))","v":""},"",{"$f":"IF(B15=\"\",\"\",IF(AND(COUNTIF('Entry sheet-2-hin'!$AL$9:$AL$68,\"7स्मवनि\")=0),\"\",COUNTIF('Entry sheet-2-hin'!$AL$9:$AL$68,\"7स्मवनि\")))","v":1},1,{"$f":"IF(B15=\"\",\"\",IF(AND(COUNTIF('Entry sheet-2-hin'!$AL$9:$AL$68,\"7स्मअलउ\")=0),\"\",COUNTIF('Entry sheet-2-hin'!$AL$9:$AL$68,\"7स्मअलउ\")))","v":1},1,{"$f":"IF(B15=\"\",\"\",IF(AND(COUNTIF('Entry sheet-2-hin'!$AL$9:$AL$68,\"7स्मलउ२\")=0),\"\",COUNTIF('Entry sheet-2-hin'!$AL$9:$AL$68,\"7स्मलउ२\")))","v":""},"",{"$f":"IF(B15=\"\",\"\",IF(AND(COUNTIF('Entry sheet-2-hin'!$AL$9:$AL$68,\"7स्मलउ३\")=0),\"\",COUNTIF('Entry sheet-2-hin'!$AL$9:$AL$68,\"7स्मलउ३\")))","v":""},"",{"$f":"IF(B15=\"\",\"\",IF(AND(COUNTIF('Entry sheet-2-hin'!$AL$9:$AL$68,\"7स्मदीउ४\")=0),\"\",COUNTIF('Entry sheet-2-hin'!$AL$9:$AL$68,\"7स्मदीउ४\")))","v":""},"",{"$f":"IF(B15=\"\",\"\",IF(AND(COUNTIF('Entry sheet-2-hin'!$AL$9:$AL$68,\"7समबवि\")=0),\"\",COUNTIF('Entry sheet-2-hin'!$AL$9:$AL$68,\"7समबवि\")))","v":""},"",{"$f":"IF(B15=\"\",\"\",IF(AND(COUNTIF('Entry sheet-2-hin'!$AL$9:$AL$68,\"7समवनि\")=0),\"\",COUNTIF('Entry sheet-2-hin'!$AL$9:$AL$68,\"7समवनि\")))","v":""},"",{"$f":"IF(B15=\"\",\"\",IF(AND(COUNTIF('Entry sheet-2-hin'!$AL$9:$AL$68,\"7समअलउ\")=0),\"\",COUNTIF('Entry sheet-2-hin'!$AL$9:$AL$68,\"7समअलउ\")))","v":""},"",{"$f":"IF(B15=\"\",\"\",IF(AND(COUNTIF('Entry sheet-2-hin'!$AL$9:$AL$68,\"7समलउ२\")=0),\"\",COUNTIF('Entry sheet-2-hin'!$AL$9:$AL$68,\"7समलउ२\")))","v":1},2,{"$f":"IF(B15=\"\",\"\",IF(AND(COUNTIF('Entry sheet-2-hin'!$AL$9:$AL$68,\"7समलउ३\")=0),\"\",COUNTIF('Entry sheet-2-hin'!$AL$9:$AL$68,\"7समलउ३\")))","v":1},3,{"$f":"IF(B15=\"\",\"\",IF(AND(COUNTIF('Entry sheet-2-hin'!$AL$9:$AL$68,\"7समदीउ४\")=0),\"\",COUNTIF('Entry sheet-2-hin'!$AL$9:$AL$68,\"7समदीउ४\")))","v":""},"",{"$f":"IF(B15=\"\",\"\",IF(AND(COUNTIF('Entry sheet-2-hin'!$AL$9:$AL$68,\"7अबवि\")=0),\"\",COUNTIF('Entry sheet-2-hin'!$AL$9:$AL$68,\"7अबवि\")))","v":""},"",{"$f":"IF(B15=\"\",\"\",IF(AND(COUNTIF('Entry sheet-2-hin'!$AL$9:$AL$68,\"7अवनि\")=0),\"\",COUNTIF('Entry sheet-2-hin'!$AL$9:$AL$68,\"7अवनि\")))","v":""},"",{"$f":"IF(B15=\"\",\"\",IF(AND(COUNTIF('Entry sheet-2-hin'!$AL$9:$AL$68,\"7अअलउ\")=0),\"\",COUNTIF('Entry sheet-2-hin'!$AL$9:$AL$68,\"7अअलउ\")))","v":""},"",{"$f":"IF(B15=\"\",\"\",IF(AND(COUNTIF('Entry sheet-2-hin'!$AL$9:$AL$68,\"7अलउ२\")=0),\"\",COUNTIF('Entry sheet-2-hin'!$AL$9:$AL$68,\"7अलउ२\")))","v":""},"",{"$f":"IF(B15=\"\",\"\",IF(AND(COUNTIF('Entry sheet-2-hin'!$AL$9:$AL$68,\"7अलउ३\")=0),\"\",COUNTIF('Entry sheet-2-hin'!$AL$9:$AL$68,\"7अलउ३\")))","v":""},"",{"$f":"IF(B15=\"\",\"\",IF(AND(COUNTIF('Entry sheet-2-hin'!$AL$9:$AL$68,\"7अदीउ४\")=0),\"\",COUNTIF('Entry sheet-2-hin'!$AL$9:$AL$68,\"7अदीउ४\")))","v":""},"",{"$f":"IF(B15=\"\",\"\",IF(AND(COUNTIF('Entry sheet-2-hin'!$AL$9:$AL$68,\"7रसबवि\")=0),\"\",COUNTIF('Entry sheet-2-hin'!$AL$9:$AL$68,\"7रसबवि\")))","v":""},"",{"$f":"IF(B15=\"\",\"\",IF(AND(COUNTIF('Entry sheet-2-hin'!$AL$9:$AL$68,\"7रसवनि\")=0),\"\",COUNTIF('Entry sheet-2-hin'!$AL$9:$AL$68,\"7रसवनि\")))","v":""},"",{"$f":"IF(B15=\"\",\"\",IF(AND(COUNTIF('Entry sheet-2-hin'!$AL$9:$AL$68,\"7रसअलउ\")=0),\"\",COUNTIF('Entry sheet-2-hin'!$AL$9:$AL$68,\"7रसअलउ\")))","v":""},"",{"$f":"IF(B15=\"\",\"\",IF(AND(COUNTIF('Entry sheet-2-hin'!$AL$9:$AL$68,\"7रसलउ२\")=0),\"\",COUNTIF('Entry sheet-2-hin'!$AL$9:$AL$68,\"7रसलउ२\")))","v":""},"",{"$f":"IF(B15=\"\",\"\",IF(AND(COUNTIF('Entry sheet-2-hin'!$AL$9:$AL$68,\"7रसलउ३\")=0),\"\",COUNTIF('Entry sheet-2-hin'!$AL$9:$AL$68,\"7रसलउ३\")))","v":""},"",{"$f":"IF(B15=\"\",\"\",IF(AND(COUNTIF('Entry sheet-2-hin'!$AL$9:$AL$68,\"7रसदीउ४\")=0),\"\",COUNTIF('Entry sheet-2-hin'!$AL$9:$AL$68,\"7रसदीउ४\")))","v":""},"",0,0,1,1,1,1,1,2,1,3,0,0,4,7]
[{"$f":"IF('Entry sheet-1-hin'!A17=\"\",\"\",'Entry sheet-1-hin'!A17)","v":8},{"$f":"IF('Entry sheet-1-hin'!B17=\"\",\"\",'Entry sheet-1-hin'!B17)","v":"बसंत की सच्चाई"},{"$f":"IF(B16=\"\",\"\",IF(AND(COUNTIF('Entry sheet-2-hin'!$AL$9:$AL$68,\"8स्मबवि\")=0),\"\",COUNTIF('Entry sheet-2-hin'!$AL$9:$AL$68,\"8स्मबवि\")))","v":""},"",{"$f":"IF(B16=\"\",\"\",IF(AND(COUNTIF('Entry sheet-2-hin'!$AL$9:$AL$68,\"8स्मवनि\")=0),\"\",COUNTIF('Entry sheet-2-hin'!$AL$9:$AL$68,\"8स्मवनि\")))","v":""},"",{"$f":"IF(B16=\"\",\"\",IF(AND(COUNTIF('Entry sheet-2-hin'!$AL$9:$AL$68,\"8स्मअलउ\")=0),\"\",COUNTIF('Entry sheet-2-hin'!$AL$9:$AL$68,\"8स्मअलउ\")))","v":""},"",{"$f":"IF(B16=\"\",\"\",IF(AND(COUNTIF('Entry sheet-2-hin'!$AL$9:$AL$68,\"8स्मलउ२\")=0),\"\",COUNTIF('Entry sheet-2-hin'!$AL$9:$AL$68,\"8स्मलउ२\")))","v":""},"",{"$f":"IF(B16=\"\",\"\",IF(AND(COUNTIF('Entry sheet-2-hin'!$AL$9:$AL$68,\"8स्मलउ३\")=0),\"\",COUNTIF('Entry sheet-2-hin'!$AL$9:$AL$68,\"8स्मलउ३\")))","v":""},"",{"$f":"IF(B16=\"\",\"\",IF(AND(COUNTIF('Entry sheet-2-hin'!$AL$9:$AL$68,\"8स्मदीउ४\")=0),\"\",COUNTIF('Entry sheet-2-hin'!$AL$9:$AL$68,\"8स्मदीउ४\")))","v":""},"",{"$f":"IF(B16=\"\",\"\",IF(AND(COUNTIF('Entry sheet-2-hin'!$AL$9:$AL$68,\"8समबवि\")=0),\"\",COUNTIF('Entry sheet-2-hin'!$AL$9:$AL$68,\"8समबवि\")))","v":""},"",{"$f":"IF(B16=\"\",\"\",IF(AND(COUNTIF('Entry sheet-2-hin'!$AL$9:$AL$68,\"8समवनि\")=0),\"\",COUNTIF('Entry sheet-2-hin'!$AL$9:$AL$68,\"8समवनि\")))","v":1},1,{"$f":"IF(B16=\"\",\"\",IF(AND(COUNTIF('Entry sheet-2-hin'!$AL$9:$AL$68,\"8समअलउ\")=0),\"\",COUNTIF('Entry sheet-2-hin'!$AL$9:$AL$68,\"8समअलउ\")))","v":""},"",{"$f":"IF(B16=\"\",\"\",IF(AND(COUNTIF('Entry sheet-2-hin'!$AL$9:$AL$68,\"8समलउ२\")=0),\"\",COUNTIF('Entry sheet-2-hin'!$AL$9:$AL$68,\"8समलउ२\")))","v":1},2,{"$f":"IF(B16=\"\",\"\",IF(AND(COUNTIF('Entry sheet-2-hin'!$AL$9:$AL$68,\"8समलउ३\")=0),\"\",COUNTIF('Entry sheet-2-hin'!$AL$9:$AL$68,\"8समलउ३\")))","v":1},3,{"$f":"IF(B16=\"\",\"\",IF(AND(COUNTIF('Entry sheet-2-hin'!$AL$9:$AL$68,\"8समदीउ४\")=0),\"\",COUNTIF('Entry sheet-2-hin'!$AL$9:$AL$68,\"8समदीउ४\")))","v":""},"",{"$f":"IF(B16=\"\",\"\",IF(AND(COUNTIF('Entry sheet-2-hin'!$AL$9:$AL$68,\"8अबवि\")=0),\"\",COUNTIF('Entry sheet-2-hin'!$AL$9:$AL$68,\"8अबवि\")))","v":""},"",{"$f":"IF(B16=\"\",\"\",IF(AND(COUNTIF('Entry sheet-2-hin'!$AL$9:$AL$68,\"8अवनि\")=0),\"\",COUNTIF('Entry sheet-2-hin'!$AL$9:$AL$68,\"8अवनि\")))","v":1},1,{"$f":"IF(B16=\"\",\"\",IF(AND(COUNTIF('Entry sheet-2-hin'!$AL$9:$AL$68,\"8अअलउ\")=0),\"\",COUNTIF('Entry sheet-2-hin'!$AL$9:$AL$68,\"8अअलउ\")))","v":""},"",{"$f":"IF(B16=\"\",\"\",IF(AND(COUNTIF('Entry sheet-2-hin'!$AL$9:$AL$68,\"8अलउ२\")=0),\"\",COUNTIF('Entry sheet-2-hin'!$AL$9:$AL$68,\"8अलउ२\")))","v":""},"",{"$f":"IF(B16=\"\",\"\",IF(AND(COUNTIF('Entry sheet-2-hin'!$AL$9:$AL$68,\"8अलउ३\")=0),\"\",COUNTIF('Entry sheet-2-hin'!$AL$9:$AL$68,\"8अलउ३\")))","v":""},"",{"$f":"IF(B16=\"\",\"\",IF(AND(COUNTIF('Entry sheet-2-hin'!$AL$9:$AL$68,\"8अदीउ४\")=0),\"\",COUNTIF('Entry sheet-2-hin'!$AL$9:$AL$68,\"8अदीउ४\")))","v":""},"",{"$f":"IF(B16=\"\",\"\",IF(AND(COUNTIF('Entry sheet-2-hin'!$AL$9:$AL$68,\"8रसबवि\")=0),\"\",COUNTIF('Entry sheet-2-hin'!$AL$9:$AL$68,\"8रसबवि\")))","v":""},"",{"$f":"IF(B16=\"\",\"\",IF(AND(COUNTIF('Entry sheet-2-hin'!$AL$9:$AL$68,\"8रसवनि\")=0),\"\",COUNTIF('Entry sheet-2-hin'!$AL$9:$AL$68,\"8रसवनि\")))","v":""},"",{"$f":"IF(B16=\"\",\"\",IF(AND(COUNTIF('Entry sheet-2-hin'!$AL$9:$AL$68,\"8रसअलउ\")=0),\"\",COUNTIF('Entry sheet-2-hin'!$AL$9:$AL$68,\"8रसअलउ\")))","v":""},"",{"$f":"IF(B16=\"\",\"\",IF(AND(COUNTIF('Entry sheet-2-hin'!$AL$9:$AL$68,\"8रसलउ२\")=0),\"\",COUNTIF('Entry sheet-2-hin'!$AL$9:$AL$68,\"8रसलउ२\")))","v":""},"",{"$f":"IF(B16=\"\",\"\",IF(AND(COUNTIF('Entry sheet-2-hin'!$AL$9:$AL$68,\"8रसलउ३\")=0),\"\",COUNTIF('Entry sheet-2-hin'!$AL$9:$AL$68,\"8रसलउ३\")))","v":""},"",{"$f":"IF(B16=\"\",\"\",IF(AND(COUNTIF('Entry sheet-2-hin'!$AL$9:$AL$68,\"8रसदीउ४\")=0),\"\",COUNTIF('Entry sheet-2-hin'!$AL$9:$AL$68,\"8रसदीउ४\")))","v":""},"",0,0,2,2,0,0,1,2,1,3,0,0,4,7]
[{"$f":"IF('Entry sheet-1-hin'!A18=\"\",\"\",'Entry sheet-1-hin'!A18)","v":9},{"$f":"IF('Entry sheet-1-hin'!B18=\"\",\"\",'Entry sheet-1-hin'!B18)","v":"कर्नाटक संपदा"},{"$f":"IF(B17=\"\",\"\",IF(AND(COUNTIF('Entry sheet-2-hin'!$AL$9:$AL$68,\"9स्मबवि\")=0),\"\",COUNTIF('Entry sheet-2-hin'!$AL$9:$AL$68,\"9स्मबवि\")))","v":""},"",{"$f":"IF(B17=\"\",\"\",IF(AND(COUNTIF('Entry sheet-2-hin'!$AL$9:$AL$68,\"9स्मवनि\")=0),\"\",COUNTIF('Entry sheet-2-hin'!$AL$9:$AL$68,\"9स्मवनि\")))","v":""},"",{"$f":"IF(B17=\"\",\"\",IF(AND(COUNTIF('Entry sheet-2-hin'!$AL$9:$AL$68,\"9स्मअलउ\")=0),\"\",COUNTIF('Entry sheet-2-hin'!$AL$9:$AL$68,\"9स्मअलउ\")))","v":""},"",{"$f":"IF(B17=\"\",\"\",IF(AND(COUNTIF('Entry sheet-2-hin'!$AL$9:$AL$68,\"9स्मलउ२\")=0),\"\",COUNTIF('Entry sheet-2-hin'!$AL$9:$AL$68,\"9स्मलउ२\")))","v":""},"",{"$f":"IF(B17=\"\",\"\",IF(AND(COUNTIF('Entry sheet-2-hin'!$AL$9:$AL$68,\"9स्मलउ३\")=0),\"\",COUNTIF('Entry sheet-2-hin'!$AL$9:$AL$68,\"9स्मलउ३\")))","v":""},"",{"$f":"IF(B17=\"\",\"\",IF(AND(COUNTIF('Entry sheet-2-hin'!$AL$9:$AL$68,\"9स्मदीउ४\")=0),\"\",COUNTIF('Entry sheet-2-hin'!$AL$9:$AL$68,\"9स्मदीउ४\")))","v":""},"",{"$f":"IF(B17=\"\",\"\",IF(AND(COUNTIF('Entry sheet-2-hin'!$AL$9:$AL$68,\"9समबवि\")=0),\"\",COUNTIF('Entry sheet-2-hin'!$AL$9:$AL$68,\"9समबवि\")))","v":""},"",{"$f":"IF(B17=\"\",\"\",IF(AND(COUNTIF('Entry sheet-2-hin'!$AL$9:$AL$68,\"9समवनि\")=0),\"\",COUNTIF('Entry sheet-2-hin'!$AL$9:$AL$68,\"9समवनि\")))","v":""},"",{"$f":"IF(B17=\"\",\"\",IF(AND(COUNTIF('Entry sheet-2-hin'!$AL$9:$AL$68,\"9समअलउ\")=0),\"\",COUNTIF('Entry sheet-2-hin'!$AL$9:$AL$68,\"9समअलउ\")))","v":""},"",{"$f":"IF(B17=\"\",\"\",IF(AND(COUNTIF('Entry sheet-2-hin'!$AL$9:$AL$68,\"9समलउ२\")=0),\"\",COUNTIF('Entry sheet-2-hin'!$AL$9:$AL$68,\"9समलउ२\")))","v":""},"",{"$f":"IF(B17=\"\",\"\",IF(AND(COUNTIF('Entry sheet-2-hin'!$AL$9:$AL$68,\"9समलउ३\")=0),\"\",COUNTIF('Entry sheet-2-hin'!$AL$9:$AL$68,\"9समलउ३\")))","v":""},"",{"$f":"IF(B17=\"\",\"\",IF(AND(COUNTIF('Entry sheet-2-hin'!$AL$9:$AL$68,\"9समदीउ४\")=0),\"\",COUNTIF('Entry sheet-2-hin'!$AL$9:$AL$68,\"9समदीउ४\")))","v":""},"",{"$f":"IF(B17=\"\",\"\",IF(AND(COUNTIF('Entry sheet-2-hin'!$AL$9:$AL$68,\"9अबवि\")=0),\"\",COUNTIF('Entry sheet-2-hin'!$AL$9:$AL$68,\"9अबवि\")))","v":""},"",{"$f":"IF(B17=\"\",\"\",IF(AND(COUNTIF('Entry sheet-2-hin'!$AL$9:$AL$68,\"9अवनि\")=0),\"\",COUNTIF('Entry sheet-2-hin'!$AL$9:$AL$68,\"9अवनि\")))","v":""},"",{"$f":"IF(B17=\"\",\"\",IF(AND(COUNTIF('Entry sheet-2-hin'!$AL$9:$AL$68,\"9अअलउ\")=0),\"\",COUNTIF('Entry sheet-2-hin'!$AL$9:$AL$68,\"9अअलउ\")))","v":""},"",{"$f":"IF(B17=\"\",\"\",IF(AND(COUNTIF('Entry sheet-2-hin'!$AL$9:$AL$68,\"9अलउ२\")=0),\"\",COUNTIF('Entry sheet-2-hin'!$AL$9:$AL$68,\"9अलउ२\")))","v":""},"",{"$f":"IF(B17=\"\",\"\",IF(AND(COUNTIF('Entry sheet-2-hin'!$AL$9:$AL$68,\"9अलउ३\")=0),\"\",COUNTIF('Entry sheet-2-hin'!$AL$9:$AL$68,\"9अलउ३\")))","v":""},"",{"$f":"IF(B17=\"\",\"\",IF(AND(COUNTIF('Entry sheet-2-hin'!$AL$9:$AL$68,\"9अदीउ४\")=0),\"\",COUNTIF('Entry sheet-2-hin'!$AL$9:$AL$68,\"9अदीउ४\")))","v":""},"",{"$f":"IF(B17=\"\",\"\",IF(AND(COUNTIF('Entry sheet-2-hin'!$AL$9:$AL$68,\"9रसबवि\")=0),\"\",COUNTIF('Entry sheet-2-hin'!$AL$9:$AL$68,\"9रसबवि\")))","v":""},"",{"$f":"IF(B17=\"\",\"\",IF(AND(COUNTIF('Entry sheet-2-hin'!$AL$9:$AL$68,\"9रसवनि\")=0),\"\",COUNTIF('Entry sheet-2-hin'!$AL$9:$AL$68,\"9रसवनि\")))","v":""},"",{"$f":"IF(B17=\"\",\"\",IF(AND(COUNTIF('Entry sheet-2-hin'!$AL$9:$AL$68,\"9रसअलउ\")=0),\"\",COUNTIF('Entry sheet-2-hin'!$AL$9:$AL$68,\"9रसअलउ\")))","v":""},"",{"$f":"IF(B17=\"\",\"\",IF(AND(COUNTIF('Entry sheet-2-hin'!$AL$9:$AL$68,\"9रसलउ२\")=0),\"\",COUNTIF('Entry sheet-2-hin'!$AL$9:$AL$68,\"9रसलउ२\")))","v":""},"",{"$f":"IF(B17=\"\",\"\",IF(AND(COUNTIF('Entry sheet-2-hin'!$AL$9:$AL$68,\"9रसलउ३\")=0),\"\",COUNTIF('Entry sheet-2-hin'!$AL$9:$AL$68,\"9रसलउ३\")))","v":""},"",{"$f":"IF(B17=\"\",\"\",IF(AND(COUNTIF('Entry sheet-2-hin'!$AL$9:$AL$68,\"9रसदीउ४\")=0),\"\",COUNTIF('Entry sheet-2-hin'!$AL$9:$AL$68,\"9रसदीउ४\")))","v":""},"",0,0,0,0,0,0,0,0,0,0,0,0,0,0]
[{"$f":"IF('Entry sheet-1-hin'!A19=\"\",\"\",'Entry sheet-1-hin'!A19)","v":10},{"$f":"IF('Entry sheet-1-hin'!B19=\"\",\"\",'Entry sheet-1-hin'!B19)","v":"आत्मकथा"},{"$f":"IF(B8=\"\",\"\",IF(AND(COUNTIF('Entry sheet-2-hin'!$AL$9:$AL$68,\"10स्मबवि\")=0),\"\",COUNTIF('Entry sheet-2-hin'!$AL$9:$AL$68,\"10स्मबवि\")))","v":""},"",{"$f":"IF(B18=\"\",\"\",IF(AND(COUNTIF('Entry sheet-2-hin'!$AL$9:$AL$68,\"10स्मवनि\")=0),\"\",COUNTIF('Entry sheet-2-hin'!$AL$9:$AL$68,\"10स्मवनि\")))","v":""},"",{"$f":"IF(B18=\"\",\"\",IF(AND(COUNTIF('Entry sheet-2-hin'!$AL$9:$AL$68,\"10स्मअलउ\")=0),\"\",COUNTIF('Entry sheet-2-hin'!$AL$9:$AL$68,\"10स्मअलउ\")))","v":""},"",{"$f":"IF(B18=\"\",\"\",IF(AND(COUNTIF('Entry sheet-2-hin'!$AL$9:$AL$68,\"10स्मलउ२\")=0),\"\",COUNTIF('Entry sheet-2-hin'!$AL$9:$AL$68,\"10स्मलउ२\")))","v":""},"",{"$f":"IF(B18=\"\",\"\",IF(AND(COUNTIF('Entry sheet-2-hin'!$AL$9:$AL$68,\"10स्मलउ३\")=0),\"\",COUNTIF('Entry sheet-2-hin'!$AL$9:$AL$68,\"10स्मलउ३\")))","v":""},"",{"$f":"IF(B18=\"\",\"\",IF(AND(COUNTIF('Entry sheet-2-hin'!$AL$9:$AL$68,\"10स्मदीउ४\")=0),\"\",COUNTIF('Entry sheet-2-hin'!$AL$9:$AL$68,\"10स्मदीउ४\")))","v":""},"",{"$f":"IF(B18=\"\",\"\",IF(AND(COUNTIF('Entry sheet-2-hin'!$AL$9:$AL$68,\"10समबवि\")=0),\"\",COUNTIF('Entry sheet-2-hin'!$AL$9:$AL$68,\"10समबवि\")))","v":""},"",{"$f":"IF(B18=\"\",\"\",IF(AND(COUNTIF('Entry sheet-2-hin'!$AL$9:$AL$68,\"10समवनि\")=0),\"\",COUNTIF('Entry sheet-2-hin'!$AL$9:$AL$68,\"10समवनि\")))","v":""},"",{"$f":"IF(B18=\"\",\"\",IF(AND(COUNTIF('Entry sheet-2-hin'!$AL$9:$AL$68,\"10समअलउ\")=0),\"\",COUNTIF('Entry sheet-2-hin'!$AL$9:$AL$68,\"10समअलउ\")))","v":""},"",{"$f":"IF(B18=\"\",\"\",IF(AND(COUNTIF('Entry sheet-2-hin'!$AL$9:$AL$68,\"10समलउ२\")=0),\"\",COUNTIF('Entry sheet-2-hin'!$AL$9:$AL$68,\"10समलउ२\")))","v":""},"",{"$f":"IF(B18=\"\",\"\",IF(AND(COUNTIF('Entry sheet-2-hin'!$AL$9:$AL$68,\"10समलउ३\")=0),\"\",COUNTIF('Entry sheet-2-hin'!$AL$9:$AL$68,\"10समलउ३\")))","v":""},"",{"$f":"IF(B18=\"\",\"\",IF(AND(COUNTIF('Entry sheet-2-hin'!$AL$9:$AL$68,\"10समदीउ४\")=0),\"\",COUNTIF('Entry sheet-2-hin'!$AL$9:$AL$68,\"10समदीउ४\")))","v":""},"",{"$f":"IF(B18=\"\",\"\",IF(AND(COUNTIF('Entry sheet-2-hin'!$AL$9:$AL$68,\"10अबवि\")=0),\"\",COUNTIF('Entry sheet-2-hin'!$AL$9:$AL$68,\"10अबवि\")))","v":""},"",{"$f":"IF(B18=\"\",\"\",IF(AND(COUNTIF('Entry sheet-2-hin'!$AL$9:$AL$68,\"10अवनि\")=0),\"\",COUNTIF('Entry sheet-2-hin'!$AL$9:$AL$68,\"10अवनि\")))","v":""},"",{"$f":"IF(B18=\"\",\"\",IF(AND(COUNTIF('Entry sheet-2-hin'!$AL$9:$AL$68,\"10अअलउ\")=0),\"\",COUNTIF('Entry sheet-2-hin'!$AL$9:$AL$68,\"10अअलउ\")))","v":""},"",{"$f":"IF(B18=\"\",\"\",IF(AND(COUNTIF('Entry sheet-2-hin'!$AL$9:$AL$68,\"10अलउ२\")=0),\"\",COUNTIF('Entry sheet-2-hin'!$AL$9:$AL$68,\"10अलउ२\")))","v":""},"",{"$f":"IF(B18=\"\",\"\",IF(AND(COUNTIF('Entry sheet-2-hin'!$AL$9:$AL$68,\"10अलउ३\")=0),\"\",COUNTIF('Entry sheet-2-hin'!$AL$9:$AL$68,\"10अलउ३\")))","v":""},"",{"$f":"IF(B18=\"\",\"\",IF(AND(COUNTIF('Entry sheet-2-hin'!$AL$9:$AL$68,\"10अदीउ४\")=0),\"\",COUNTIF('Entry sheet-2-hin'!$AL$9:$AL$68,\"10अदीउ४\")))","v":""},"",{"$f":"IF(B18=\"\",\"\",IF(AND(COUNTIF('Entry sheet-2-hin'!$AL$9:$AL$68,\"10रसबवि\")=0),\"\",COUNTIF('Entry sheet-2-hin'!$AL$9:$AL$68,\"10रसबवि\")))","v":""},"",{"$f":"IF(B18=\"\",\"\",IF(AND(COUNTIF('Entry sheet-2-hin'!$AL$9:$AL$68,\"10रसवनि\")=0),\"\",COUNTIF('Entry sheet-2-hin'!$AL$9:$AL$68,\"10रसवनि\")))","v":""},"",{"$f":"IF(B18=\"\",\"\",IF(AND(COUNTIF('Entry sheet-2-hin'!$AL$9:$AL$68,\"10रसअलउ\")=0),\"\",COUNTIF('Entry sheet-2-hin'!$AL$9:$AL$68,\"10रसअलउ\")))","v":""},"",{"$f":"IF(B18=\"\",\"\",IF(AND(COUNTIF('Entry sheet-2-hin'!$AL$9:$AL$68,\"10रसलउ२\")=0),\"\",COUNTIF('Entry sheet-2-hin'!$AL$9:$AL$68,\"10रसलउ२\")))","v":""},"",{"$f":"IF(B18=\"\",\"\",IF(AND(COUNTIF('Entry sheet-2-hin'!$AL$9:$AL$68,\"10रसलउ३\")=0),\"\",COUNTIF('Entry sheet-2-hin'!$AL$9:$AL$68,\"10रसलउ३\")))","v":""},"",{"$f":"IF(B18=\"\",\"\",IF(AND(COUNTIF('Entry sheet-2-hin'!$AL$9:$AL$68,\"10रसदीउ४\")=0),\"\",COUNTIF('Entry sheet-2-hin'!$AL$9:$AL$68,\"10रसदीउ४\")))","v":""},"",0,0,0,0,0,0,0,0,0,0,0,0,0,0]
[{"$f":"IF('Entry sheet-1-hin'!A20=\"\",\"\",'Entry sheet-1-hin'!A20)","v":11},{"$f":"IF('Entry sheet-1-hin'!B20=\"\",\"\",'Entry sheet-1-hin'!B20)","v":"ईमानदारों के सम्मेलन में"},{"$f":"IF(B19=\"\",\"\",IF(AND(COUNTIF('Entry sheet-2-hin'!$AL$9:$AL$68,\"11स्मबवि\")=0),\"\",COUNTIF('Entry sheet-2-hin'!$AL$9:$AL$68,\"11स्मबवि\")))","v":""},"",{"$f":"IF(B19=\"\",\"\",IF(AND(COUNTIF('Entry sheet-2-hin'!$AL$9:$AL$68,\"11स्मवनि\")=0),\"\",COUNTIF('Entry sheet-2-hin'!$AL$9:$AL$68,\"11स्मवनि\")))","v":""},"",{"$f":"IF(B19=\"\",\"\",IF(AND(COUNTIF('Entry sheet-2-hin'!$AL$9:$AL$68,\"11स्मअलउ\")=0),\"\",COUNTIF('Entry sheet-2-hin'!$AL$9:$AL$68,\"11स्मअलउ\")))","v":""},"",{"$f":"IF(B19=\"\",\"\",IF(AND(COUNTIF('Entry sheet-2-hin'!$AL$9:$AL$68,\"11स्मलउ२\")=0),\"\",COUNTIF('Entry sheet-2-hin'!$AL$9:$AL$68,\"11स्मलउ२\")))","v":""},"",{"$f":"IF(B19=\"\",\"\",IF(AND(COUNTIF('Entry sheet-2-hin'!$AL$9:$AL$68,\"11स्मलउ३\")=0),\"\",COUNTIF('Entry sheet-2-hin'!$AL$9:$AL$68,\"11स्मलउ३\")))","v":""},"",{"$f":"IF(B19=\"\",\"\",IF(AND(COUNTIF('Entry sheet-2-hin'!$AL$9:$AL$68,\"11स्मदीउ४\")=0),\"\",COUNTIF('Entry sheet-2-hin'!$AL$9:$AL$68,\"11स्मदीउ४\")))","v":""},"",{"$f":"IF(B19=\"\",\"\",IF(AND(COUNTIF('Entry sheet-2-hin'!$AL$9:$AL$68,\"11समबवि\")=0),\"\",COUNTIF('Entry sheet-2-hin'!$AL$9:$AL$68,\"11समबवि\")))","v":""},"",{"$f":"IF(B19=\"\",\"\",IF(AND(COUNTIF('Entry sheet-2-hin'!$AL$9:$AL$68,\"11समवनि\")=0),\"\",COUNTIF('Entry sheet-2-hin'!$AL$9:$AL$68,\"11समवनि\")))","v":""},"",{"$f":"IF(B19=\"\",\"\",IF(AND(COUNTIF('Entry sheet-2-hin'!$AL$9:$AL$68,\"11समअलउ\")=0),\"\",COUNTIF('Entry sheet-2-hin'!$AL$9:$AL$68,\"11समअलउ\")))","v":""},"",{"$f":"IF(B19=\"\",\"\",IF(AND(COUNTIF('Entry sheet-2-hin'!$AL$9:$AL$68,\"11समलउ२\")=0),\"\",COUNTIF('Entry sheet-2-hin'!$AL$9:$AL$68,\"11समलउ२\")))","v":""},"",{"$f":"IF(B19=\"\",\"\",IF(AND(COUNTIF('Entry sheet-2-hin'!$AL$9:$AL$68,\"11समलउ३\")=0),\"\",COUNTIF('Entry sheet-2-hin'!$AL$9:$AL$68,\"11समलउ३\")))","v":""},"",{"$f":"IF(B19=\"\",\"\",IF(AND(COUNTIF('Entry sheet-2-hin'!$AL$9:$AL$68,\"11समदीउ४\")=0),\"\",COUNTIF('Entry sheet-2-hin'!$AL$9:$AL$68,\"11समदीउ४\")))","v":""},"",{"$f":"IF(B19=\"\",\"\",IF(AND(COUNTIF('Entry sheet-2-hin'!$AL$9:$AL$68,\"11अबवि\")=0),\"\",COUNTIF('Entry sheet-2-hin'!$AL$9:$AL$68,\"11अबवि\")))","v":""},"",{"$f":"IF(B19=\"\",\"\",IF(AND(COUNTIF('Entry sheet-2-hin'!$AL$9:$AL$68,\"11अवनि\")=0),\"\",COUNTIF('Entry sheet-2-hin'!$AL$9:$AL$68,\"11अवनि\")))","v":""},"",{"$f":"IF(B19=\"\",\"\",IF(AND(COUNTIF('Entry sheet-2-hin'!$AL$9:$AL$68,\"11अअलउ\")=0),\"\",COUNTIF('Entry sheet-2-hin'!$AL$9:$AL$68,\"11अअलउ\")))","v":""},"",{"$f":"IF(B19=\"\",\"\",IF(AND(COUNTIF('Entry sheet-2-hin'!$AL$9:$AL$68,\"11अलउ२\")=0),\"\",COUNTIF('Entry sheet-2-hin'!$AL$9:$AL$68,\"11अलउ२\")))","v":""},"",{"$f":"IF(B19=\"\",\"\",IF(AND(COUNTIF('Entry sheet-2-hin'!$AL$9:$AL$68,\"11अलउ३\")=0),\"\",COUNTIF('Entry sheet-2-hin'!$AL$9:$AL$68,\"11अलउ३\")))","v":""},"",{"$f":"IF(B19=\"\",\"\",IF(AND(COUNTIF('Entry sheet-2-hin'!$AL$9:$AL$68,\"11अदीउ४\")=0),\"\",COUNTIF('Entry sheet-2-hin'!$AL$9:$AL$68,\"11अदीउ४\")))","v":""},"",{"$f":"IF(B19=\"\",\"\",IF(AND(COUNTIF('Entry sheet-2-hin'!$AL$9:$AL$68,\"11रसबवि\")=0),\"\",COUNTIF('Entry sheet-2-hin'!$AL$9:$AL$68,\"11रसबवि\")))","v":""},"",{"$f":"IF(B19=\"\",\"\",IF(AND(COUNTIF('Entry sheet-2-hin'!$AL$9:$AL$68,\"11रसवनि\")=0),\"\",COUNTIF('Entry sheet-2-hin'!$AL$9:$AL$68,\"11रसवनि\")))","v":""},"",{"$f":"IF(B19=\"\",\"\",IF(AND(COUNTIF('Entry sheet-2-hin'!$AL$9:$AL$68,\"11रसअलउ\")=0),\"\",COUNTIF('Entry sheet-2-hin'!$AL$9:$AL$68,\"11रसअलउ\")))","v":""},"",{"$f":"IF(B19=\"\",\"\",IF(AND(COUNTIF('Entry sheet-2-hin'!$AL$9:$AL$68,\"11रसलउ२\")=0),\"\",COUNTIF('Entry sheet-2-hin'!$AL$9:$AL$68,\"11रसलउ२\")))","v":""},"",{"$f":"IF(B19=\"\",\"\",IF(AND(COUNTIF('Entry sheet-2-hin'!$AL$9:$AL$68,\"11रसलउ३\")=0),\"\",COUNTIF('Entry sheet-2-hin'!$AL$9:$AL$68,\"11रसलउ३\")))","v":""},"",{"$f":"IF(B19=\"\",\"\",IF(AND(COUNTIF('Entry sheet-2-hin'!$AL$9:$AL$68,\"11रसदीउ४\")=0),\"\",COUNTIF('Entry sheet-2-hin'!$AL$9:$AL$68,\"11रसदीउ४\")))","v":""},"",0,0,0,0,0,0,0,0,0,0,0,0,0,0]
[{"$f":"IF('Entry sheet-1-hin'!A21=\"\",\"\",'Entry sheet-1-hin'!A21)","v":12},{"$f":"IF('Entry sheet-1-hin'!B21=\"\",\"\",'Entry sheet-1-hin'!B21)","v":"अभिनव मनुष्य"},{"$f":"IF(B20=\"\",\"\",IF(AND(COUNTIF('Entry sheet-2-hin'!$AL$9:$AL$68,\"12स्मबवि\")=0),\"\",COUNTIF('Entry sheet-2-hin'!$AL$9:$AL$68,\"12स्मबवि\")))","v":""},"",{"$f":"IF(B20=\"\",\"\",IF(AND(COUNTIF('Entry sheet-2-hin'!$AL$9:$AL$68,\"12स्मवनि\")=0),\"\",COUNTIF('Entry sheet-2-hin'!$AL$9:$AL$68,\"12स्मवनि\")))","v":""},"",{"$f":"IF(B20=\"\",\"\",IF(AND(COUNTIF('Entry sheet-2-hin'!$AL$9:$AL$68,\"12स्मअलउ\")=0),\"\",COUNTIF('Entry sheet-2-hin'!$AL$9:$AL$68,\"12स्मअलउ\")))","v":""},"",{"$f":"IF(B20=\"\",\"\",IF(AND(COUNTIF('Entry sheet-2-hin'!$AL$9:$AL$68,\"12स्मलउ२\")=0),\"\",COUNTIF('Entry sheet-2-hin'!$AL$9:$AL$68,\"12स्मलउ२\")))","v":""},"",{"$f":"IF(B20=\"\",\"\",IF(AND(COUNTIF('Entry sheet-2-hin'!$AL$9:$AL$68,\"12स्मलउ३\")=0),\"\",COUNTIF('Entry sheet-2-hin'!$AL$9:$AL$68,\"12स्मलउ३\")))","v":""},"",{"$f":"IF(B20=\"\",\"\",IF(AND(COUNTIF('Entry sheet-2-hin'!$AL$9:$AL$68,\"12स्मदीउ४\")=0),\"\",COUNTIF('Entry sheet-2-hin'!$AL$9:$AL$68,\"12स्मदीउ४\")))","v":""},"",{"$f":"IF(B20=\"\",\"\",IF(AND(COUNTIF('Entry sheet-2-hin'!$AL$9:$AL$68,\"12समबवि\")=0),\"\",COUNTIF('Entry sheet-2-hin'!$AL$9:$AL$68,\"12समबवि\")))","v":""},"",{"$f":"IF(B20=\"\",\"\",IF(AND(COUNTIF('Entry sheet-2-hin'!$AL$9:$AL$68,\"12समवनि\")=0),\"\",COUNTIF('Entry sheet-2-hin'!$AL$9:$AL$68,\"12समवनि\")))","v":""},"",{"$f":"IF(B20=\"\",\"\",IF(AND(COUNTIF('Entry sheet-2-hin'!$AL$9:$AL$68,\"12समअलउ\")=0),\"\",COUNTIF('Entry sheet-2-hin'!$AL$9:$AL$68,\"12समअलउ\")))","v":""},"",{"$f":"IF(B20=\"\",\"\",IF(AND(COUNTIF('Entry sheet-2-hin'!$AL$9:$AL$68,\"12समलउ२\")=0),\"\",COUNTIF('Entry sheet-2-hin'!$AL$9:$AL$68,\"12समलउ२\")))","v":""},"",{"$f":"IF(B20=\"\",\"\",IF(AND(COUNTIF('Entry sheet-2-hin'!$AL$9:$AL$68,\"12समलउ३\")=0),\"\",COUNTIF('Entry sheet-2-hin'!$AL$9:$AL$68,\"12समलउ३\")))","v":""},"",{"$f":"IF(B20=\"\",\"\",IF(AND(COUNTIF('Entry sheet-2-hin'!$AL$9:$AL$68,\"12समदीउ४\")=0),\"\",COUNTIF('Entry sheet-2-hin'!$AL$9:$AL$68,\"12समदीउ४\")))","v":""},"",{"$f":"IF(B20=\"\",\"\",IF(AND(COUNTIF('Entry sheet-2-hin'!$AL$9:$AL$68,\"12अबवि\")=0),\"\",COUNTIF('Entry sheet-2-hin'!$AL$9:$AL$68,\"12अबवि\")))","v":""},"",{"$f":"IF(B20=\"\",\"\",IF(AND(COUNTIF('Entry sheet-2-hin'!$AL$9:$AL$68,\"12अवनि\")=0),\"\",COUNTIF('Entry sheet-2-hin'!$AL$9:$AL$68,\"12अवनि\")))","v":""},"",{"$f":"IF(B20=\"\",\"\",IF(AND(COUNTIF('Entry sheet-2-hin'!$AL$9:$AL$68,\"12अअलउ\")=0),\"\",COUNTIF('Entry sheet-2-hin'!$AL$9:$AL$68,\"12अअलउ\")))","v":""},"",{"$f":"IF(B20=\"\",\"\",IF(AND(COUNTIF('Entry sheet-2-hin'!$AL$9:$AL$68,\"12अलउ२\")=0),\"\",COUNTIF('Entry sheet-2-hin'!$AL$9:$AL$68,\"12अलउ२\")))","v":""},"",{"$f":"IF(B20=\"\",\"\",IF(AND(COUNTIF('Entry sheet-2-hin'!$AL$9:$AL$68,\"12अलउ३\")=0),\"\",COUNTIF('Entry sheet-2-hin'!$AL$9:$AL$68,\"12अलउ३\")))","v":""},"",{"$f":"IF(B20=\"\",\"\",IF(AND(COUNTIF('Entry sheet-2-hin'!$AL$9:$AL$68,\"12अदीउ४\")=0),\"\",COUNTIF('Entry sheet-2-hin'!$AL$9:$AL$68,\"12अदीउ४\")))","v":""},"",{"$f":"IF(B20=\"\",\"\",IF(AND(COUNTIF('Entry sheet-2-hin'!$AL$9:$AL$68,\"12रसबवि\")=0),\"\",COUNTIF('Entry sheet-2-hin'!$AL$9:$AL$68,\"12रसबवि\")))","v":""},"",{"$f":"IF(B20=\"\",\"\",IF(AND(COUNTIF('Entry sheet-2-hin'!$AL$9:$AL$68,\"12रसवनि\")=0),\"\",COUNTIF('Entry sheet-2-hin'!$AL$9:$AL$68,\"12रसवनि\")))","v":""},"",{"$f":"IF(B20=\"\",\"\",IF(AND(COUNTIF('Entry sheet-2-hin'!$AL$9:$AL$68,\"12रसअलउ\")=0),\"\",COUNTIF('Entry sheet-2-hin'!$AL$9:$AL$68,\"12रसअलउ\")))","v":""},"",{"$f":"IF(B20=\"\",\"\",IF(AND(COUNTIF('Entry sheet-2-hin'!$AL$9:$AL$68,\"12रसलउ२\")=0),\"\",COUNTIF('Entry sheet-2-hin'!$AL$9:$AL$68,\"12रसलउ२\")))","v":""},"",{"$f":"IF(B20=\"\",\"\",IF(AND(COUNTIF('Entry sheet-2-hin'!$AL$9:$AL$68,\"12रसलउ३\")=0),\"\",COUNTIF('Entry sheet-2-hin'!$AL$9:$AL$68,\"12रसलउ३\")))","v":""},"",{"$f":"IF(B20=\"\",\"\",IF(AND(COUNTIF('Entry sheet-2-hin'!$AL$9:$AL$68,\"12रसदीउ४\")=0),\"\",COUNTIF('Entry sheet-2-hin'!$AL$9:$AL$68,\"12रसदीउ४\")))","v":""},"",0,0,0,0,0,0,0,0,0,0,0,0,0,0]
[{"$f":"IF('Entry sheet-1-hin'!A22=\"\",\"\",'Entry sheet-1-hin'!A22)","v":13},{"$f":"IF('Entry sheet-1-hin'!B22=\"\",\"\",'Entry sheet-1-hin'!B22)","v":"वृक्ष प्रेमी तिम्मक्का"},{"$f":"IF(B21=\"\",\"\",IF(AND(COUNTIF('Entry sheet-2-hin'!$AL$9:$AL$68,\"13स्मबवि\")=0),\"\",COUNTIF('Entry sheet-2-hin'!$AL$9:$AL$68,\"13स्मबवि\")))","v":""},"",{"$f":"IF(B21=\"\",\"\",IF(AND(COUNTIF('Entry sheet-2-hin'!$AL$9:$AL$68,\"13स्मवनि\")=0),\"\",COUNTIF('Entry sheet-2-hin'!$AL$9:$AL$68,\"13स्मवनि\")))","v":""},"",{"$f":"IF(B21=\"\",\"\",IF(AND(COUNTIF('Entry sheet-2-hin'!$AL$9:$AL$68,\"13स्मअलउ\")=0),\"\",COUNTIF('Entry sheet-2-hin'!$AL$9:$AL$68,\"13स्मअलउ\")))","v":""},"",{"$f":"IF(B21=\"\",\"\",IF(AND(COUNTIF('Entry sheet-2-hin'!$AL$9:$AL$68,\"13स्मलउ२\")=0),\"\",COUNTIF('Entry sheet-2-hin'!$AL$9:$AL$68,\"13स्मलउ२\")))","v":""},"",{"$f":"IF(B21=\"\",\"\",IF(AND(COUNTIF('Entry sheet-2-hin'!$AL$9:$AL$68,\"13स्मलउ३\")=0),\"\",COUNTIF('Entry sheet-2-hin'!$AL$9:$AL$68,\"13स्मलउ३\")))","v":""},"",{"$f":"IF(B21=\"\",\"\",IF(AND(COUNTIF('Entry sheet-2-hin'!$AL$9:$AL$68,\"13स्मदीउ४\")=0),\"\",COUNTIF('Entry sheet-2-hin'!$AL$9:$AL$68,\"13स्मदीउ४\")))","v":""},"",{"$f":"IF(B21=\"\",\"\",IF(AND(COUNTIF('Entry sheet-2-hin'!$AL$9:$AL$68,\"13समबवि\")=0),\"\",COUNTIF('Entry sheet-2-hin'!$AL$9:$AL$68,\"13समबवि\")))","v":""},"",{"$f":"IF(B21=\"\",\"\",IF(AND(COUNTIF('Entry sheet-2-hin'!$AL$9:$AL$68,\"13समवनि\")=0),\"\",COUNTIF('Entry sheet-2-hin'!$AL$9:$AL$68,\"13समवनि\")))","v":""},"",{"$f":"IF(B21=\"\",\"\",IF(AND(COUNTIF('Entry sheet-2-hin'!$AL$9:$AL$68,\"13समअलउ\")=0),\"\",COUNTIF('Entry sheet-2-hin'!$AL$9:$AL$68,\"13समअलउ\")))","v":""},"",{"$f":"IF(B21=\"\",\"\",IF(AND(COUNTIF('Entry sheet-2-hin'!$AL$9:$AL$68,\"13समलउ२\")=0),\"\",COUNTIF('Entry sheet-2-hin'!$AL$9:$AL$68,\"13समलउ२\")))","v":""},"",{"$f":"IF(B21=\"\",\"\",IF(AND(COUNTIF('Entry sheet-2-hin'!$AL$9:$AL$68,\"13समलउ३\")=0),\"\",COUNTIF('Entry sheet-2-hin'!$AL$9:$AL$68,\"13समलउ३\")))","v":""},"",{"$f":"IF(B21=\"\",\"\",IF(AND(COUNTIF('Entry sheet-2-hin'!$AL$9:$AL$68,\"13समदीउ४\")=0),\"\",COUNTIF('Entry sheet-2-hin'!$AL$9:$AL$68,\"13समदीउ४\")))","v":""},"",{"$f":"IF(B21=\"\",\"\",IF(AND(COUNTIF('Entry sheet-2-hin'!$AL$9:$AL$68,\"13अबवि\")=0),\"\",COUNTIF('Entry sheet-2-hin'!$AL$9:$AL$68,\"13अबवि\")))","v":""},"",{"$f":"IF(B21=\"\",\"\",IF(AND(COUNTIF('Entry sheet-2-hin'!$AL$9:$AL$68,\"13अवनि\")=0),\"\",COUNTIF('Entry sheet-2-hin'!$AL$9:$AL$68,\"13अवनि\")))","v":""},"",{"$f":"IF(B21=\"\",\"\",IF(AND(COUNTIF('Entry sheet-2-hin'!$AL$9:$AL$68,\"13अअलउ\")=0),\"\",COUNTIF('Entry sheet-2-hin'!$AL$9:$AL$68,\"13अअलउ\")))","v":""},"",{"$f":"IF(B21=\"\",\"\",IF(AND(COUNTIF('Entry sheet-2-hin'!$AL$9:$AL$68,\"13अलउ२\")=0),\"\",COUNTIF('Entry sheet-2-hin'!$AL$9:$AL$68,\"13अलउ२\")))","v":""},"",{"$f":"IF(B21=\"\",\"\",IF(AND(COUNTIF('Entry sheet-2-hin'!$AL$9:$AL$68,\"13अलउ३\")=0),\"\",COUNTIF('Entry sheet-2-hin'!$AL$9:$AL$68,\"13अलउ३\")))","v":""},"",{"$f":"IF(B21=\"\",\"\",IF(AND(COUNTIF('Entry sheet-2-hin'!$AL$9:$AL$68,\"13अदीउ४\")=0),\"\",COUNTIF('Entry sheet-2-hin'!$AL$9:$AL$68,\"13अदीउ४\")))","v":""},"",{"$f":"IF(B21=\"\",\"\",IF(AND(COUNTIF('Entry sheet-2-hin'!$AL$9:$AL$68,\"13रसबवि\")=0),\"\",COUNTIF('Entry sheet-2-hin'!$AL$9:$AL$68,\"13रसबवि\")))","v":""},"",{"$f":"IF(B21=\"\",\"\",IF(AND(COUNTIF('Entry sheet-2-hin'!$AL$9:$AL$68,\"13रसवनि\")=0),\"\",COUNTIF('Entry sheet-2-hin'!$AL$9:$AL$68,\"13रसवनि\")))","v":""},"",{"$f":"IF(B21=\"\",\"\",IF(AND(COUNTIF('Entry sheet-2-hin'!$AL$9:$AL$68,\"13रसअलउ\")=0),\"\",COUNTIF('Entry sheet-2-hin'!$AL$9:$AL$68,\"13रसअलउ\")))","v":""},"",{"$f":"IF(B21=\"\",\"\",IF(AND(COUNTIF('Entry sheet-2-hin'!$AL$9:$AL$68,\"13रसलउ२\")=0),\"\",COUNTIF('Entry sheet-2-hin'!$AL$9:$AL$68,\"13रसलउ२\")))","v":""},"",{"$f":"IF(B21=\"\",\"\",IF(AND(COUNTIF('Entry sheet-2-hin'!$AL$9:$AL$68,\"13रसलउ३\")=0),\"\",COUNTIF('Entry sheet-2-hin'!$AL$9:$AL$68,\"13रसलउ३\")))","v":""},"",{"$f":"IF(B21=\"\",\"\",IF(AND(COUNTIF('Entry sheet-2-hin'!$AL$9:$AL$68,\"13रसदीउ४\")=0),\"\",COUNTIF('Entry sheet-2-hin'!$AL$9:$AL$68,\"13रसदीउ४\")))","v":""},"",0,0,0,0,0,0,0,0,0,0,0,0,0,0]
[{"$f":"IF('Entry sheet-1-hin'!A23=\"\",\"\",'Entry sheet-1-hin'!A23)","v":14},{"$f":"IF('Entry sheet-1-hin'!B23=\"\",\"\",'Entry sheet-1-hin'!B23)","v":" तुलसी के दोहे"},{"$f":"IF(B22=\"\",\"\",IF(AND(COUNTIF('Entry sheet-2-hin'!$AL$9:$AL$68,\"14स्मबवि\")=0),\"\",COUNTIF('Entry sheet-2-hin'!$AL$9:$AL$68,\"14स्मबवि\")))","v":""},"",{"$f":"IF(B22=\"\",\"\",IF(AND(COUNTIF('Entry sheet-2-hin'!$AL$9:$AL$68,\"14स्मवनि\")=0),\"\",COUNTIF('Entry sheet-2-hin'!$AL$9:$AL$68,\"14स्मवनि\")))","v":""},"",{"$f":"IF(B22=\"\",\"\",IF(AND(COUNTIF('Entry sheet-2-hin'!$AL$9:$AL$68,\"14स्मअलउ\")=0),\"\",COUNTIF('Entry sheet-2-hin'!$AL$9:$AL$68,\"14स्मअलउ\")))","v":""},"",{"$f":"IF(B22=\"\",\"\",IF(AND(COUNTIF('Entry sheet-2-hin'!$AL$9:$AL$68,\"14स्मलउ२\")=0),\"\",COUNTIF('Entry sheet-2-hin'!$AL$9:$AL$68,\"14स्मलउ२\")))","v":""},"",{"$f":"IF(B22=\"\",\"\",IF(AND(COUNTIF('Entry sheet-2-hin'!$AL$9:$AL$68,\"14स्मलउ३\")=0),\"\",COUNTIF('Entry sheet-2-hin'!$AL$9:$AL$68,\"14स्मलउ३\")))","v":""},"",{"$f":"IF(B22=\"\",\"\",IF(AND(COUNTIF('Entry sheet-2-hin'!$AL$9:$AL$68,\"14स्मदीउ४\")=0),\"\",COUNTIF('Entry sheet-2-hin'!$AL$9:$AL$68,\"14स्मदीउ४\")))","v":""},"",{"$f":"IF(B22=\"\",\"\",IF(AND(COUNTIF('Entry sheet-2-hin'!$AL$9:$AL$68,\"14समबवि\")=0),\"\",COUNTIF('Entry sheet-2-hin'!$AL$9:$AL$68,\"14समबवि\")))","v":""},"",{"$f":"IF(B22=\"\",\"\",IF(AND(COUNTIF('Entry sheet-2-hin'!$AL$9:$AL$68,\"14समवनि\")=0),\"\",COUNTIF('Entry sheet-2-hin'!$AL$9:$AL$68,\"14समवनि\")))","v":""},"",{"$f":"IF(B22=\"\",\"\",IF(AND(COUNTIF('Entry sheet-2-hin'!$AL$9:$AL$68,\"14समअलउ\")=0),\"\",COUNTIF('Entry sheet-2-hin'!$AL$9:$AL$68,\"14समअलउ\")))","v":""},"",{"$f":"IF(B22=\"\",\"\",IF(AND(COUNTIF('Entry sheet-2-hin'!$AL$9:$AL$68,\"14समलउ२\")=0),\"\",COUNTIF('Entry sheet-2-hin'!$AL$9:$AL$68,\"14समलउ२\")))","v":""},"",{"$f":"IF(B22=\"\",\"\",IF(AND(COUNTIF('Entry sheet-2-hin'!$AL$9:$AL$68,\"14समलउ३\")=0),\"\",COUNTIF('Entry sheet-2-hin'!$AL$9:$AL$68,\"14समलउ३\")))","v":""},"",{"$f":"IF(B22=\"\",\"\",IF(AND(COUNTIF('Entry sheet-2-hin'!$AL$9:$AL$68,\"14समदीउ४\")=0),\"\",COUNTIF('Entry sheet-2-hin'!$AL$9:$AL$68,\"14समदीउ४\")))","v":""},"",{"$f":"IF(B22=\"\",\"\",IF(AND(COUNTIF('Entry sheet-2-hin'!$AL$9:$AL$68,\"14अबवि\")=0),\"\",COUNTIF('Entry sheet-2-hin'!$AL$9:$AL$68,\"14अबवि\")))","v":""},"",{"$f":"IF(B22=\"\",\"\",IF(AND(COUNTIF('Entry sheet-2-hin'!$AL$9:$AL$68,\"14अवनि\")=0),\"\",COUNTIF('Entry sheet-2-hin'!$AL$9:$AL$68,\"14अवनि\")))","v":""},"",{"$f":"IF(B22=\"\",\"\",IF(AND(COUNTIF('Entry sheet-2-hin'!$AL$9:$AL$68,\"14अअलउ\")=0),\"\",COUNTIF('Entry sheet-2-hin'!$AL$9:$AL$68,\"14अअलउ\")))","v":""},"",{"$f":"IF(B22=\"\",\"\",IF(AND(COUNTIF('Entry sheet-2-hin'!$AL$9:$AL$68,\"14अलउ२\")=0),\"\",COUNTIF('Entry sheet-2-hin'!$AL$9:$AL$68,\"14अलउ२\")))","v":""},"",{"$f":"IF(B22=\"\",\"\",IF(AND(COUNTIF('Entry sheet-2-hin'!$AL$9:$AL$68,\"14अलउ३\")=0),\"\",COUNTIF('Entry sheet-2-hin'!$AL$9:$AL$68,\"14अलउ३\")))","v":""},"",{"$f":"IF(B22=\"\",\"\",IF(AND(COUNTIF('Entry sheet-2-hin'!$AL$9:$AL$68,\"14अदीउ४\")=0),\"\",COUNTIF('Entry sheet-2-hin'!$AL$9:$AL$68,\"14अदीउ४\")))","v":""},"",{"$f":"IF(B22=\"\",\"\",IF(AND(COUNTIF('Entry sheet-2-hin'!$AL$9:$AL$68,\"14रसबवि\")=0),\"\",COUNTIF('Entry sheet-2-hin'!$AL$9:$AL$68,\"14रसबवि\")))","v":""},"",{"$f":"IF(B22=\"\",\"\",IF(AND(COUNTIF('Entry sheet-2-hin'!$AL$9:$AL$68,\"14रसवनि\")=0),\"\",COUNTIF('Entry sheet-2-hin'!$AL$9:$AL$68,\"14रसवनि\")))","v":""},"",{"$f":"IF(B22=\"\",\"\",IF(AND(COUNTIF('Entry sheet-2-hin'!$AL$9:$AL$68,\"14रसअलउ\")=0),\"\",COUNTIF('Entry sheet-2-hin'!$AL$9:$AL$68,\"14रसअलउ\")))","v":""},"",{"$f":"IF(B22=\"\",\"\",IF(AND(COUNTIF('Entry sheet-2-hin'!$AL$9:$AL$68,\"14रसलउ२\")=0),\"\",COUNTIF('Entry sheet-2-hin'!$AL$9:$AL$68,\"14रसलउ२\")))","v":""},"",{"$f":"IF(B22=\"\",\"\",IF(AND(COUNTIF('Entry sheet-2-hin'!$AL$9:$AL$68,\"14रसलउ३\")=0),\"\",COUNTIF('Entry sheet-2-hin'!$AL$9:$AL$68,\"14रसलउ३\")))","v":""},"",{"$f":"IF(B22=\"\",\"\",IF(AND(COUNTIF('Entry sheet-2-hin'!$AL$9:$AL$68,\"14रसदीउ४\")=0),\"\",COUNTIF('Entry sheet-2-hin'!$AL$9:$AL$68,\"14रसदीउ४\")))","v":""},"",0,0,0,0,0,0,0,0,0,0,0,0,0,0]
[{"$f":"IF('Entry sheet-1-hin'!A24=\"\",\"\",'Entry sheet-1-hin'!A24)","v":15},{"$f":"IF('Entry sheet-1-hin'!B24=\"\",\"\",'Entry sheet-1-hin'!B24)","v":"सूर-श्याम"},{"$f":"IF(B23=\"\",\"\",IF(AND(COUNTIF('Entry sheet-2-hin'!$AL$9:$AL$68,\"15स्मबवि\")=0),\"\",COUNTIF('Entry sheet-2-hin'!$AL$9:$AL$68,\"15स्मबवि\")))","v":""},"",{"$f":"IF(B23=\"\",\"\",IF(AND(COUNTIF('Entry sheet-2-hin'!$AL$9:$AL$68,\"15स्मवनि\")=0),\"\",COUNTIF('Entry sheet-2-hin'!$AL$9:$AL$68,\"15स्मवनि\")))","v":""},"",{"$f":"IF(B23=\"\",\"\",IF(AND(COUNTIF('Entry sheet-2-hin'!$AL$9:$AL$68,\"15स्मअलउ\")=0),\"\",COUNTIF('Entry sheet-2-hin'!$AL$9:$AL$68,\"15स्मअलउ\")))","v":""},"",{"$f":"IF(B23=\"\",\"\",IF(AND(COUNTIF('Entry sheet-2-hin'!$AL$9:$AL$68,\"15स्मलउ२\")=0),\"\",COUNTIF('Entry sheet-2-hin'!$AL$9:$AL$68,\"15स्मलउ२\")))","v":""},"",{"$f":"IF(B23=\"\",\"\",IF(AND(COUNTIF('Entry sheet-2-hin'!$AL$9:$AL$68,\"15स्मलउ३\")=0),\"\",COUNTIF('Entry sheet-2-hin'!$AL$9:$AL$68,\"15स्मलउ३\")))","v":""},"",{"$f":"IF(B23=\"\",\"\",IF(AND(COUNTIF('Entry sheet-2-hin'!$AL$9:$AL$68,\"15स्मदीउ४\")=0),\"\",COUNTIF('Entry sheet-2-hin'!$AL$9:$AL$68,\"15स्मदीउ४\")))","v":""},"",{"$f":"IF(B23=\"\",\"\",IF(AND(COUNTIF('Entry sheet-2-hin'!$AL$9:$AL$68,\"15समबवि\")=0),\"\",COUNTIF('Entry sheet-2-hin'!$AL$9:$AL$68,\"15समबवि\")))","v":""},"",{"$f":"IF(B23=\"\",\"\",IF(AND(COUNTIF('Entry sheet-2-hin'!$AL$9:$AL$68,\"15समवनि\")=0),\"\",COUNTIF('Entry sheet-2-hin'!$AL$9:$AL$68,\"15समवनि\")))","v":""},"",{"$f":"IF(B23=\"\",\"\",IF(AND(COUNTIF('Entry sheet-2-hin'!$AL$9:$AL$68,\"15समअलउ\")=0),\"\",COUNTIF('Entry sheet-2-hin'!$AL$9:$AL$68,\"15समअलउ\")))","v":""},"",{"$f":"IF(B23=\"\",\"\",IF(AND(COUNTIF('Entry sheet-2-hin'!$AL$9:$AL$68,\"15समलउ२\")=0),\"\",COUNTIF('Entry sheet-2-hin'!$AL$9:$AL$68,\"15समलउ२\")))","v":""},"",{"$f":"IF(B23=\"\",\"\",IF(AND(COUNTIF('Entry sheet-2-hin'!$AL$9:$AL$68,\"15समलउ३\")=0),\"\",COUNTIF('Entry sheet-2-hin'!$AL$9:$AL$68,\"15समलउ३\")))","v":""},"",{"$f":"IF(B23=\"\",\"\",IF(AND(COUNTIF('Entry sheet-2-hin'!$AL$9:$AL$68,\"15समदीउ४\")=0),\"\",COUNTIF('Entry sheet-2-hin'!$AL$9:$AL$68,\"15समदीउ४\")))","v":""},"",{"$f":"IF(B23=\"\",\"\",IF(AND(COUNTIF('Entry sheet-2-hin'!$AL$9:$AL$68,\"15अबवि\")=0),\"\",COUNTIF('Entry sheet-2-hin'!$AL$9:$AL$68,\"15अबवि\")))","v":""},"",{"$f":"IF(B23=\"\",\"\",IF(AND(COUNTIF('Entry sheet-2-hin'!$AL$9:$AL$68,\"15अवनि\")=0),\"\",COUNTIF('Entry sheet-2-hin'!$AL$9:$AL$68,\"15अवनि\")))","v":""},"",{"$f":"IF(B23=\"\",\"\",IF(AND(COUNTIF('Entry sheet-2-hin'!$AL$9:$AL$68,\"15अअलउ\")=0),\"\",COUNTIF('Entry sheet-2-hin'!$AL$9:$AL$68,\"15अअलउ\")))","v":""},"",{"$f":"IF(B23=\"\",\"\",IF(AND(COUNTIF('Entry sheet-2-hin'!$AL$9:$AL$68,\"15अलउ२\")=0),\"\",COUNTIF('Entry sheet-2-hin'!$AL$9:$AL$68,\"15अलउ२\")))","v":""},"",{"$f":"IF(B23=\"\",\"\",IF(AND(COUNTIF('Entry sheet-2-hin'!$AL$9:$AL$68,\"15अलउ३\")=0),\"\",COUNTIF('Entry sheet-2-hin'!$AL$9:$AL$68,\"15अलउ३\")))","v":""},"",{"$f":"IF(B23=\"\",\"\",IF(AND(COUNTIF('Entry sheet-2-hin'!$AL$9:$AL$68,\"15अदीउ४\")=0),\"\",COUNTIF('Entry sheet-2-hin'!$AL$9:$AL$68,\"15अदीउ४\")))","v":""},"",{"$f":"IF(B23=\"\",\"\",IF(AND(COUNTIF('Entry sheet-2-hin'!$AL$9:$AL$68,\"15रसबवि\")=0),\"\",COUNTIF('Entry sheet-2-hin'!$AL$9:$AL$68,\"15रसबवि\")))","v":""},"",{"$f":"IF(B23=\"\",\"\",IF(AND(COUNTIF('Entry sheet-2-hin'!$AL$9:$AL$68,\"15रसवनि\")=0),\"\",COUNTIF('Entry sheet-2-hin'!$AL$9:$AL$68,\"15रसवनि\")))","v":""},"",{"$f":"IF(B23=\"\",\"\",IF(AND(COUNTIF('Entry sheet-2-hin'!$AL$9:$AL$68,\"15रसअलउ\")=0),\"\",COUNTIF('Entry sheet-2-hin'!$AL$9:$AL$68,\"15रसअलउ\")))","v":""},"",{"$f":"IF(B23=\"\",\"\",IF(AND(COUNTIF('Entry sheet-2-hin'!$AL$9:$AL$68,\"15रसलउ२\")=0),\"\",COUNTIF('Entry sheet-2-hin'!$AL$9:$AL$68,\"15रसलउ२\")))","v":""},"",{"$f":"IF(B23=\"\",\"\",IF(AND(COUNTIF('Entry sheet-2-hin'!$AL$9:$AL$68,\"15रसलउ३\")=0),\"\",COUNTIF('Entry sheet-2-hin'!$AL$9:$AL$68,\"15रसलउ३\")))","v":""},"",{"$f":"IF(B23=\"\",\"\",IF(AND(COUNTIF('Entry sheet-2-hin'!$AL$9:$AL$68,\"15रसदीउ४\")=0),\"\",COUNTIF('Entry sheet-2-hin'!$AL$9:$AL$68,\"15रसदीउ४\")))","v":""},"",0,0,0,0,0,0,0,0,0,0,0,0,0,0]
[{"$f":"IF('Entry sheet-1-hin'!A25=\"\",\"\",'Entry sheet-1-hin'!A25)","v":16},{"$f":"IF('Entry sheet-1-hin'!B25=\"\",\"\",'Entry sheet-1-hin'!B25)","v":"साहित्य सागर का मोती"},{"$f":"IF(B24=\"\",\"\",IF(AND(COUNTIF('Entry sheet-2-hin'!$AL$9:$AL$68,\"16स्मबवि\")=0),\"\",COUNTIF('Entry sheet-2-hin'!$AL$9:$AL$68,\"16स्मबवि\")))","v":""},"",{"$f":"IF(B24=\"\",\"\",IF(AND(COUNTIF('Entry sheet-2-hin'!$AL$9:$AL$68,\"16स्मवनि\")=0),\"\",COUNTIF('Entry sheet-2-hin'!$AL$9:$AL$68,\"16स्मवनि\")))","v":""},"",{"$f":"IF(B24=\"\",\"\",IF(AND(COUNTIF('Entry sheet-2-hin'!$AL$9:$AL$68,\"16स्मअलउ\")=0),\"\",COUNTIF('Entry sheet-2-hin'!$AL$9:$AL$68,\"16स्मअलउ\")))","v":""},"",{"$f":"IF(B24=\"\",\"\",IF(AND(COUNTIF('Entry sheet-2-hin'!$AL$9:$AL$68,\"16स्मलउ२\")=0),\"\",COUNTIF('Entry sheet-2-hin'!$AL$9:$AL$68,\"16स्मलउ२\")))","v":""},"",{"$f":"IF(B24=\"\",\"\",IF(AND(COUNTIF('Entry sheet-2-hin'!$AL$9:$AL$68,\"16स्मलउ३\")=0),\"\",COUNTIF('Entry sheet-2-hin'!$AL$9:$AL$68,\"16स्मलउ३\")))","v":""},"",{"$f":"IF(B24=\"\",\"\",IF(AND(COUNTIF('Entry sheet-2-hin'!$AL$9:$AL$68,\"16स्मदीउ४\")=0),\"\",COUNTIF('Entry sheet-2-hin'!$AL$9:$AL$68,\"16स्मदीउ४\")))","v":""},"",{"$f":"IF(B24=\"\",\"\",IF(AND(COUNTIF('Entry sheet-2-hin'!$AL$9:$AL$68,\"16समबवि\")=0),\"\",COUNTIF('Entry sheet-2-hin'!$AL$9:$AL$68,\"16समबवि\")))","v":""},"",{"$f":"IF(B24=\"\",\"\",IF(AND(COUNTIF('Entry sheet-2-hin'!$AL$9:$AL$68,\"16समवनि\")=0),\"\",COUNTIF('Entry sheet-2-hin'!$AL$9:$AL$68,\"16समवनि\")))","v":""},"",{"$f":"IF(B24=\"\",\"\",IF(AND(COUNTIF('Entry sheet-2-hin'!$AL$9:$AL$68,\"16समअलउ\")=0),\"\",COUNTIF('Entry sheet-2-hin'!$AL$9:$AL$68,\"16समअलउ\")))","v":""},"",{"$f":"IF(B24=\"\",\"\",IF(AND(COUNTIF('Entry sheet-2-hin'!$AL$9:$AL$68,\"16समलउ२\")=0),\"\",COUNTIF('Entry sheet-2-hin'!$AL$9:$AL$68,\"16समलउ२\")))","v":""},"",{"$f":"IF(B24=\"\",\"\",IF(AND(COUNTIF('Entry sheet-2-hin'!$AL$9:$AL$68,\"16समलउ३\")=0),\"\",COUNTIF('Entry sheet-2-hin'!$AL$9:$AL$68,\"16समलउ३\")))","v":""},"",{"$f":"IF(B24=\"\",\"\",IF(AND(COUNTIF('Entry sheet-2-hin'!$AL$9:$AL$68,\"16समदीउ४\")=0),\"\",COUNTIF('Entry sheet-2-hin'!$AL$9:$AL$68,\"16समदीउ४\")))","v":""},"",{"$f":"IF(B24=\"\",\"\",IF(AND(COUNTIF('Entry sheet-2-hin'!$AL$9:$AL$68,\"16अबवि\")=0),\"\",COUNTIF('Entry sheet-2-hin'!$AL$9:$AL$68,\"16अबवि\")))","v":""},"",{"$f":"IF(B24=\"\",\"\",IF(AND(COUNTIF('Entry sheet-2-hin'!$AL$9:$AL$68,\"16अवनि\")=0),\"\",COUNTIF('Entry sheet-2-hin'!$AL$9:$AL$68,\"16अवनि\")))","v":""},"",{"$f":"IF(B24=\"\",\"\",IF(AND(COUNTIF('Entry sheet-2-hin'!$AL$9:$AL$68,\"16अअलउ\")=0),\"\",COUNTIF('Entry sheet-2-hin'!$AL$9:$AL$68,\"16अअलउ\")))","v":""},"",{"$f":"IF(B24=\"\",\"\",IF(AND(COUNTIF('Entry sheet-2-hin'!$AL$9:$AL$68,\"16अलउ२\")=0),\"\",COUNTIF('Entry sheet-2-hin'!$AL$9:$AL$68,\"16अलउ२\")))","v":""},"",{"$f":"IF(B24=\"\",\"\",IF(AND(COUNTIF('Entry sheet-2-hin'!$AL$9:$AL$68,\"16अलउ३\")=0),\"\",COUNTIF('Entry sheet-2-hin'!$AL$9:$AL$68,\"16अलउ३\")))","v":""},"",{"$f":"IF(B24=\"\",\"\",IF(AND(COUNTIF('Entry sheet-2-hin'!$AL$9:$AL$68,\"16अदीउ४\")=0),\"\",COUNTIF('Entry sheet-2-hin'!$AL$9:$AL$68,\"16अदीउ४\")))","v":""},"",{"$f":"IF(B24=\"\",\"\",IF(AND(COUNTIF('Entry sheet-2-hin'!$AL$9:$AL$68,\"16रसबवि\")=0),\"\",COUNTIF('Entry sheet-2-hin'!$AL$9:$AL$68,\"16रसबवि\")))","v":""},"",{"$f":"IF(B24=\"\",\"\",IF(AND(COUNTIF('Entry sheet-2-hin'!$AL$9:$AL$68,\"16रसवनि\")=0),\"\",COUNTIF('Entry sheet-2-hin'!$AL$9:$AL$68,\"16रसवनि\")))","v":""},"",{"$f":"IF(B24=\"\",\"\",IF(AND(COUNTIF('Entry sheet-2-hin'!$AL$9:$AL$68,\"16रसअलउ\")=0),\"\",COUNTIF('Entry sheet-2-hin'!$AL$9:$AL$68,\"16रसअलउ\")))","v":""},"",{"$f":"IF(B24=\"\",\"\",IF(AND(COUNTIF('Entry sheet-2-hin'!$AL$9:$AL$68,\"16रसलउ२\")=0),\"\",COUNTIF('Entry sheet-2-hin'!$AL$9:$AL$68,\"16रसलउ२\")))","v":""},"",{"$f":"IF(B24=\"\",\"\",IF(AND(COUNTIF('Entry sheet-2-hin'!$AL$9:$AL$68,\"16रसलउ३\")=0),\"\",COUNTIF('Entry sheet-2-hin'!$AL$9:$AL$68,\"16रसलउ३\")))","v":""},"",{"$f":"IF(B24=\"\",\"\",IF(AND(COUNTIF('Entry sheet-2-hin'!$AL$9:$AL$68,\"16रसदीउ४\")=0),\"\",COUNTIF('Entry sheet-2-hin'!$AL$9:$AL$68,\"16रसदीउ४\")))","v":""},"",0,0,0,0,0,0,0,0,0,0,0,0,0,0]
[{"$f":"IF('Entry sheet-1-hin'!A26=\"\",\"\",'Entry sheet-1-hin'!A26)","v":17},{"$f":"IF('Entry sheet-1-hin'!B26=\"\",\"\",'Entry sheet-1-hin'!B26)","v":"शनि :  सबसे सुंद्रर ग्रह"},{"$f":"IF(B25=\"\",\"\",IF(AND(COUNTIF('Entry sheet-2-hin'!$AL$9:$AL$68,\"17स्मबवि\")=0),\"\",COUNTIF('Entry sheet-2-hin'!$AL$9:$AL$68,\"17स्मबवि\")))","v":""},"",{"$f":"IF(B25=\"\",\"\",IF(AND(COUNTIF('Entry sheet-2-hin'!$AL$9:$AL$68,\"17स्मवनि\")=0),\"\",COUNTIF('Entry sheet-2-hin'!$AL$9:$AL$68,\"17स्मवनि\")))","v":""},"",{"$f":"IF(B25=\"\",\"\",IF(AND(COUNTIF('Entry sheet-2-hin'!$AL$9:$AL$68,\"17स्मअलउ\")=0),\"\",COUNTIF('Entry sheet-2-hin'!$AL$9:$AL$68,\"17स्मअलउ\")))","v":""},"",{"$f":"IF(B25=\"\",\"\",IF(AND(COUNTIF('Entry sheet-2-hin'!$AL$9:$AL$68,\"17स्मलउ२\")=0),\"\",COUNTIF('Entry sheet-2-hin'!$AL$9:$AL$68,\"17स्मलउ२\")))","v":""},"",{"$f":"IF(B25=\"\",\"\",IF(AND(COUNTIF('Entry sheet-2-hin'!$AL$9:$AL$68,\"17स्मलउ३\")=0),\"\",COUNTIF('Entry sheet-2-hin'!$AL$9:$AL$68,\"17स्मलउ३\")))","v":""},"",{"$f":"IF(B25=\"\",\"\",IF(AND(COUNTIF('Entry sheet-2-hin'!$AL$9:$AL$68,\"17स्मदीउ४\")=0),\"\",COUNTIF('Entry sheet-2-hin'!$AL$9:$AL$68,\"17स्मदीउ४\")))","v":""},"",{"$f":"IF(B25=\"\",\"\",IF(AND(COUNTIF('Entry sheet-2-hin'!$AL$9:$AL$68,\"17समबवि\")=0),\"\",COUNTIF('Entry sheet-2-hin'!$AL$9:$AL$68,\"17समबवि\")))","v":""},"",{"$f":"IF(B25=\"\",\"\",IF(AND(COUNTIF('Entry sheet-2-hin'!$AL$9:$AL$68,\"17समवनि\")=0),\"\",COUNTIF('Entry sheet-2-hin'!$AL$9:$AL$68,\"17समवनि\")))","v":""},"",{"$f":"IF(B25=\"\",\"\",IF(AND(COUNTIF('Entry sheet-2-hin'!$AL$9:$AL$68,\"17समअलउ\")=0),\"\",COUNTIF('Entry sheet-2-hin'!$AL$9:$AL$68,\"17समअलउ\")))","v":""},"",{"$f":"IF(B25=\"\",\"\",IF(AND(COUNTIF('Entry sheet-2-hin'!$AL$9:$AL$68,\"17समलउ२\")=0),\"\",COUNTIF('Entry sheet-2-hin'!$AL$9:$AL$68,\"17समलउ२\")))","v":2},4,{"$f":"IF(B25=\"\",\"\",IF(AND(COUNTIF('Entry sheet-2-hin'!$AL$9:$AL$68,\"17समलउ३\")=0),\"\",COUNTIF('Entry sheet-2-hin'!$AL$9:$AL$68,\"17समलउ३\")))","v":""},"",{"$f":"IF(B25=\"\",\"\",IF(AND(COUNTIF('Entry sheet-2-hin'!$AL$9:$AL$68,\"17समदीउ४\")=0),\"\",COUNTIF('Entry sheet-2-hin'!$AL$9:$AL$68,\"17समदीउ४\")))","v":""},"",{"$f":"IF(B25=\"\",\"\",IF(AND(COUNTIF('Entry sheet-2-hin'!$AL$9:$AL$68,\"17अबवि\")=0),\"\",COUNTIF('Entry sheet-2-hin'!$AL$9:$AL$68,\"17अबवि\")))","v":""},"",{"$f":"IF(B25=\"\",\"\",IF(AND(COUNTIF('Entry sheet-2-hin'!$AL$9:$AL$68,\"17अवनि\")=0),\"\",COUNTIF('Entry sheet-2-hin'!$AL$9:$AL$68,\"17अवनि\")))","v":""},"",{"$f":"IF(B25=\"\",\"\",IF(AND(COUNTIF('Entry sheet-2-hin'!$AL$9:$AL$68,\"17अअलउ\")=0),\"\",COUNTIF('Entry sheet-2-hin'!$AL$9:$AL$68,\"17अअलउ\")))","v":""},"",{"$f":"IF(B25=\"\",\"\",IF(AND(COUNTIF('Entry sheet-2-hin'!$AL$9:$AL$68,\"17अलउ२\")=0),\"\",COUNTIF('Entry sheet-2-hin'!$AL$9:$AL$68,\"17अलउ२\")))","v":""},"",{"$f":"IF(B25=\"\",\"\",IF(AND(COUNTIF('Entry sheet-2-hin'!$AL$9:$AL$68,\"17अलउ३\")=0),\"\",COUNTIF('Entry sheet-2-hin'!$AL$9:$AL$68,\"17अलउ३\")))","v":""},"",{"$f":"IF(B25=\"\",\"\",IF(AND(COUNTIF('Entry sheet-2-hin'!$AL$9:$AL$68,\"17अदीउ४\")=0),\"\",COUNTIF('Entry sheet-2-hin'!$AL$9:$AL$68,\"17अदीउ४\")))","v":""},"",{"$f":"IF(B25=\"\",\"\",IF(AND(COUNTIF('Entry sheet-2-hin'!$AL$9:$AL$68,\"17रसबवि\")=0),\"\",COUNTIF('Entry sheet-2-hin'!$AL$9:$AL$68,\"17रसबवि\")))","v":""},"",{"$f":"IF(B25=\"\",\"\",IF(AND(COUNTIF('Entry sheet-2-hin'!$AL$9:$AL$68,\"17रसवनि\")=0),\"\",COUNTIF('Entry sheet-2-hin'!$AL$9:$AL$68,\"17रसवनि\")))","v":""},"",{"$f":"IF(B25=\"\",\"\",IF(AND(COUNTIF('Entry sheet-2-hin'!$AL$9:$AL$68,\"17रसअलउ\")=0),\"\",COUNTIF('Entry sheet-2-hin'!$AL$9:$AL$68,\"17रसअलउ\")))","v":""},"",{"$f":"IF(B25=\"\",\"\",IF(AND(COUNTIF('Entry sheet-2-hin'!$AL$9:$AL$68,\"17रसलउ२\")=0),\"\",COUNTIF('Entry sheet-2-hin'!$AL$9:$AL$68,\"17रसलउ२\")))","v":""},"",{"$f":"IF(B25=\"\",\"\",IF(AND(COUNTIF('Entry sheet-2-hin'!$AL$9:$AL$68,\"17रसलउ३\")=0),\"\",COUNTIF('Entry sheet-2-hin'!$AL$9:$AL$68,\"17रसलउ३\")))","v":""},"",{"$f":"IF(B25=\"\",\"\",IF(AND(COUNTIF('Entry sheet-2-hin'!$AL$9:$AL$68,\"17रसदीउ४\")=0),\"\",COUNTIF('Entry sheet-2-hin'!$AL$9:$AL$68,\"17रसदीउ४\")))","v":""},"",0,0,0,0,0,0,2,4,0,0,0,0,2,4]
[{"$f":"IF('Entry sheet-1-hin'!A27=\"\",\"\",'Entry sheet-1-hin'!A27)","v":18},{"$f":"IF('Entry sheet-1-hin'!B27=\"\",\"\",'Entry sheet-1-hin'!B27)","v":" सत्य की महिमा"},{"$f":"IF(B26=\"\",\"\",IF(AND(COUNTIF('Entry sheet-2-hin'!$AL$9:$AL$68,\"18स्मबवि\")=0),\"\",COUNTIF('Entry sheet-2-hin'!$AL$9:$AL$68,\"18स्मबवि\")))","v":""},"",{"$f":"IF(B26=\"\",\"\",IF(AND(COUNTIF('Entry sheet-2-hin'!$AL$9:$AL$68,\"18स्मवनि\")=0),\"\",COUNTIF('Entry sheet-2-hin'!$AL$9:$AL$68,\"18स्मवनि\")))","v":""},"",{"$f":"IF(B26=\"\",\"\",IF(AND(COUNTIF('Entry sheet-2-hin'!$AL$9:$AL$68,\"18स्मअलउ\")=0),\"\",COUNTIF('Entry sheet-2-hin'!$AL$9:$AL$68,\"18स्मअलउ\")))","v":""},"",{"$f":"IF(B26=\"\",\"\",IF(AND(COUNTIF('Entry sheet-2-hin'!$AL$9:$AL$68,\"18स्मलउ२\")=0),\"\",COUNTIF('Entry sheet-2-hin'!$AL$9:$AL$68,\"18स्मलउ२\")))","v":""},"",{"$f":"IF(B26=\"\",\"\",IF(AND(COUNTIF('Entry sheet-2-hin'!$AL$9:$AL$68,\"18स्मलउ३\")=0),\"\",COUNTIF('Entry sheet-2-hin'!$AL$9:$AL$68,\"18स्मलउ३\")))","v":""},"",{"$f":"IF(B26=\"\",\"\",IF(AND(COUNTIF('Entry sheet-2-hin'!$AL$9:$AL$68,\"18स्मदीउ४\")=0),\"\",COUNTIF('Entry sheet-2-hin'!$AL$9:$AL$68,\"18स्मदीउ४\")))","v":""},"",{"$f":"IF(B26=\"\",\"\",IF(AND(COUNTIF('Entry sheet-2-hin'!$AL$9:$AL$68,\"18समबवि\")=0),\"\",COUNTIF('Entry sheet-2-hin'!$AL$9:$AL$68,\"18समबवि\")))","v":""},"",{"$f":"IF(B26=\"\",\"\",IF(AND(COUNTIF('Entry sheet-2-hin'!$AL$9:$AL$68,\"18समवनि\")=0),\"\",COUNTIF('Entry sheet-2-hin'!$AL$9:$AL$68,\"18समवनि\")))","v":""},"",{"$f":"IF(B26=\"\",\"\",IF(AND(COUNTIF('Entry sheet-2-hin'!$AL$9:$AL$68,\"18समअलउ\")=0),\"\",COUNTIF('Entry sheet-2-hin'!$AL$9:$AL$68,\"18समअलउ\")))","v":""},"",{"$f":"IF(B26=\"\",\"\",IF(AND(COUNTIF('Entry sheet-2-hin'!$AL$9:$AL$68,\"18समलउ२\")=0),\"\",COUNTIF('Entry sheet-2-hin'!$AL$9:$AL$68,\"18समलउ२\")))","v":""},"",{"$f":"IF(B26=\"\",\"\",IF(AND(COUNTIF('Entry sheet-2-hin'!$AL$9:$AL$68,\"18समलउ३\")=0),\"\",COUNTIF('Entry sheet-2-hin'!$AL$9:$AL$68,\"18समलउ३\")))","v":""},"",{"$f":"IF(B26=\"\",\"\",IF(AND(COUNTIF('Entry sheet-2-hin'!$AL$9:$AL$68,\"18समदीउ४\")=0),\"\",COUNTIF('Entry sheet-2-hin'!$AL$9:$AL$68,\"18समदीउ४\")))","v":""},"",{"$f":"IF(B26=\"\",\"\",IF(AND(COUNTIF('Entry sheet-2-hin'!$AL$9:$AL$68,\"18अबवि\")=0),\"\",COUNTIF('Entry sheet-2-hin'!$AL$9:$AL$68,\"18अबवि\")))","v":""},"",{"$f":"IF(B26=\"\",\"\",IF(AND(COUNTIF('Entry sheet-2-hin'!$AL$9:$AL$68,\"18अवनि\")=0),\"\",COUNTIF('Entry sheet-2-hin'!$AL$9:$AL$68,\"18अवनि\")))","v":""},"",{"$f":"IF(B26=\"\",\"\",IF(AND(COUNTIF('Entry sheet-2-hin'!$AL$9:$AL$68,\"18अअलउ\")=0),\"\",COUNTIF('Entry sheet-2-hin'!$AL$9:$AL$68,\"18अअलउ\")))","v":""},"",{"$f":"IF(B26=\"\",\"\",IF(AND(COUNTIF('Entry sheet-2-hin'!$AL$9:$AL$68,\"18अलउ२\")=0),\"\",COUNTIF('Entry sheet-2-hin'!$AL$9:$AL$68,\"18अलउ२\")))","v":""},"",{"$f":"IF(B26=\"\",\"\",IF(AND(COUNTIF('Entry sheet-2-hin'!$AL$9:$AL$68,\"18अलउ३\")=0),\"\",COUNTIF('Entry sheet-2-hin'!$AL$9:$AL$68,\"18अलउ३\")))","v":""},"",{"$f":"IF(B26=\"\",\"\",IF(AND(COUNTIF('Entry sheet-2-hin'!$AL$9:$AL$68,\"18अदीउ४\")=0),\"\",COUNTIF('Entry sheet-2-hin'!$AL$9:$AL$68,\"18अदीउ४\")))","v":""},"",{"$f":"IF(B26=\"\",\"\",IF(AND(COUNTIF('Entry sheet-2-hin'!$AL$9:$AL$68,\"18रसबवि\")=0),\"\",COUNTIF('Entry sheet-2-hin'!$AL$9:$AL$68,\"18रसबवि\")))","v":""},"",{"$f":"IF(B26=\"\",\"\",IF(AND(COUNTIF('Entry sheet-2-hin'!$AL$9:$AL$68,\"18रसवनि\")=0),\"\",COUNTIF('Entry sheet-2-hin'!$AL$9:$AL$68,\"18रसवनि\")))","v":""},"",{"$f":"IF(B26=\"\",\"\",IF(AND(COUNTIF('Entry sheet-2-hin'!$AL$9:$AL$68,\"18रसअलउ\")=0),\"\",COUNTIF('Entry sheet-2-hin'!$AL$9:$AL$68,\"18रसअलउ\")))","v":""},"",{"$f":"IF(B26=\"\",\"\",IF(AND(COUNTIF('Entry sheet-2-hin'!$AL$9:$AL$68,\"18रसलउ२\")=0),\"\",COUNTIF('Entry sheet-2-hin'!$AL$9:$AL$68,\"18रसलउ२\")))","v":""},"",{"$f":"IF(B26=\"\",\"\",IF(AND(COUNTIF('Entry sheet-2-hin'!$AL$9:$AL$68,\"18रसलउ३\")=0),\"\",COUNTIF('Entry sheet-2-hin'!$AL$9:$AL$68,\"18रसलउ३\")))","v":""},"",{"$f":"IF(B26=\"\",\"\",IF(AND(COUNTIF('Entry sheet-2-hin'!$AL$9:$AL$68,\"18रसदीउ४\")=0),\"\",COUNTIF('Entry sheet-2-hin'!$AL$9:$AL$68,\"18रसदीउ४\")))","v":""},"",0,0,0,0,0,0,0,0,0,0,0,0,0,0]
[{"$f":"IF('Entry sheet-1-hin'!A28=\"\",\"\",'Entry sheet-1-hin'!A28)","v":19},{"$f":"IF('Entry sheet-1-hin'!B28=\"\",\"\",'Entry sheet-1-hin'!B28)","v":"अनमोल समय"},{"$f":"IF(B27=\"\",\"\",IF(AND(COUNTIF('Entry sheet-2-hin'!$AL$9:$AL$68,\"19स्मबवि\")=0),\"\",COUNTIF('Entry sheet-2-hin'!$AL$9:$AL$68,\"19स्मबवि\")))","v":""},"",{"$f":"IF(B27=\"\",\"\",IF(AND(COUNTIF('Entry sheet-2-hin'!$AL$9:$AL$68,\"19स्मवनि\")=0),\"\",COUNTIF('Entry sheet-2-hin'!$AL$9:$AL$68,\"19स्मवनि\")))","v":""},"",{"$f":"IF(B27=\"\",\"\",IF(AND(COUNTIF('Entry sheet-2-hin'!$AL$9:$AL$68,\"19स्मअलउ\")=0),\"\",COUNTIF('Entry sheet-2-hin'!$AL$9:$AL$68,\"19स्मअलउ\")))","v":""},"",{"$f":"IF(B27=\"\",\"\",IF(AND(COUNTIF('Entry sheet-2-hin'!$AL$9:$AL$68,\"19स्मलउ२\")=0),\"\",COUNTIF('Entry sheet-2-hin'!$AL$9:$AL$68,\"19स्मलउ२\")))","v":""},"",{"$f":"IF(B27=\"\",\"\",IF(AND(COUNTIF('Entry sheet-2-hin'!$AL$9:$AL$68,\"19स्मलउ३\")=0),\"\",COUNTIF('Entry sheet-2-hin'!$AL$9:$AL$68,\"19स्मलउ३\")))","v":""},"",{"$f":"IF(B27=\"\",\"\",IF(AND(COUNTIF('Entry sheet-2-hin'!$AL$9:$AL$68,\"19स्मदीउ४\")=0),\"\",COUNTIF('Entry sheet-2-hin'!$AL$9:$AL$68,\"19स्मदीउ४\")))","v":""},"",{"$f":"IF(B27=\"\",\"\",IF(AND(COUNTIF('Entry sheet-2-hin'!$AL$9:$AL$68,\"19समबवि\")=0),\"\",COUNTIF('Entry sheet-2-hin'!$AL$9:$AL$68,\"19समबवि\")))","v":""},"",{"$f":"IF(B27=\"\",\"\",IF(AND(COUNTIF('Entry sheet-2-hin'!$AL$9:$AL$68,\"19समवनि\")=0),\"\",COUNTIF('Entry sheet-2-hin'!$AL$9:$AL$68,\"19समवनि\")))","v":""},"",{"$f":"IF(B27=\"\",\"\",IF(AND(COUNTIF('Entry sheet-2-hin'!$AL$9:$AL$68,\"19समअलउ\")=0),\"\",COUNTIF('Entry sheet-2-hin'!$AL$9:$AL$68,\"19समअलउ\")))","v":""},"",{"$f":"IF(B27=\"\",\"\",IF(AND(COUNTIF('Entry sheet-2-hin'!$AL$9:$AL$68,\"19समलउ२\")=0),\"\",COUNTIF('Entry sheet-2-hin'!$AL$9:$AL$68,\"19समलउ२\")))","v":""},"",{"$f":"IF(B27=\"\",\"\",IF(AND(COUNTIF('Entry sheet-2-hin'!$AL$9:$AL$68,\"19समलउ३\")=0),\"\",COUNTIF('Entry sheet-2-hin'!$AL$9:$AL$68,\"19समलउ३\")))","v":""},"",{"$f":"IF(B27=\"\",\"\",IF(AND(COUNTIF('Entry sheet-2-hin'!$AL$9:$AL$68,\"19समदीउ४\")=0),\"\",COUNTIF('Entry sheet-2-hin'!$AL$9:$AL$68,\"19समदीउ४\")))","v":""},"",{"$f":"IF(B27=\"\",\"\",IF(AND(COUNTIF('Entry sheet-2-hin'!$AL$9:$AL$68,\"19अबवि\")=0),\"\",COUNTIF('Entry sheet-2-hin'!$AL$9:$AL$68,\"19अबवि\")))","v":""},"",{"$f":"IF(B27=\"\",\"\",IF(AND(COUNTIF('Entry sheet-2-hin'!$AL$9:$AL$68,\"19अवनि\")=0),\"\",COUNTIF('Entry sheet-2-hin'!$AL$9:$AL$68,\"19अवनि\")))","v":""},"",{"$f":"IF(B27=\"\",\"\",IF(AND(COUNTIF('Entry sheet-2-hin'!$AL$9:$AL$68,\"19अअलउ\")=0),\"\",COUNTIF('Entry sheet-2-hin'!$AL$9:$AL$68,\"19अअलउ\")))","v":""},"",{"$f":"IF(B27=\"\",\"\",IF(AND(COUNTIF('Entry sheet-2-hin'!$AL$9:$AL$68,\"19अलउ२\")=0),\"\",COUNTIF('Entry sheet-2-hin'!$AL$9:$AL$68,\"19अलउ२\")))","v":""},"",{"$f":"IF(B27=\"\",\"\",IF(AND(COUNTIF('Entry sheet-2-hin'!$AL$9:$AL$68,\"19अलउ३\")=0),\"\",COUNTIF('Entry sheet-2-hin'!$AL$9:$AL$68,\"19अलउ३\")))","v":""},"",{"$f":"IF(B27=\"\",\"\",IF(AND(COUNTIF('Entry sheet-2-hin'!$AL$9:$AL$68,\"19अदीउ४\")=0),\"\",COUNTIF('Entry sheet-2-hin'!$AL$9:$AL$68,\"19अदीउ४\")))","v":""},"",{"$f":"IF(B27=\"\",\"\",IF(AND(COUNTIF('Entry sheet-2-hin'!$AL$9:$AL$68,\"19रसबवि\")=0),\"\",COUNTIF('Entry sheet-2-hin'!$AL$9:$AL$68,\"19रसबवि\")))","v":""},"",{"$f":"IF(B27=\"\",\"\",IF(AND(COUNTIF('Entry sheet-2-hin'!$AL$9:$AL$68,\"19रसवनि\")=0),\"\",COUNTIF('Entry sheet-2-hin'!$AL$9:$AL$68,\"19रसवनि\")))","v":""},"",{"$f":"IF(B27=\"\",\"\",IF(AND(COUNTIF('Entry sheet-2-hin'!$AL$9:$AL$68,\"19रसअलउ\")=0),\"\",COUNTIF('Entry sheet-2-hin'!$AL$9:$AL$68,\"19रसअलउ\")))","v":""},"",{"$f":"IF(B27=\"\",\"\",IF(AND(COUNTIF('Entry sheet-2-hin'!$AL$9:$AL$68,\"19रसलउ२\")=0),\"\",COUNTIF('Entry sheet-2-hin'!$AL$9:$AL$68,\"19रसलउ२\")))","v":""},"",{"$f":"IF(B27=\"\",\"\",IF(AND(COUNTIF('Entry sheet-2-hin'!$AL$9:$AL$68,\"19रसलउ३\")=0),\"\",COUNTIF('Entry sheet-2-hin'!$AL$9:$AL$68,\"19रसलउ३\")))","v":""},"",{"$f":"IF(B27=\"\",\"\",IF(AND(COUNTIF('Entry sheet-2-hin'!$AL$9:$AL$68,\"19रसदीउ४\")=0),\"\",COUNTIF('Entry sheet-2-hin'!$AL$9:$AL$68,\"19रसदीउ४\")))","v":""},"",0,0,0,0,0,0,0,0,0,0,0,0,0,0]
[{"$f":"IF('Entry sheet-1-hin'!A29=\"\",\"\",'Entry sheet-1-hin'!A29)","v":20},{"$f":"IF('Entry sheet-1-hin'!B29=\"\",\"\",'Entry sheet-1-hin'!B29)","v":"अपठित गद्यांश"},{"$f":"IF(B28=\"\",\"\",IF(AND(COUNTIF('Entry sheet-2-hin'!$AL$9:$AL$68,\"20स्मबवि\")=0),\"\",COUNTIF('Entry sheet-2-hin'!$AL$9:$AL$68,\"20स्मबवि\")))","v":""},"",{"$f":"IF(B28=\"\",\"\",IF(AND(COUNTIF('Entry sheet-2-hin'!$AL$9:$AL$68,\"20स्मवनि\")=0),\"\",COUNTIF('Entry sheet-2-hin'!$AL$9:$AL$68,\"20स्मवनि\")))","v":""},"",{"$f":"IF(B28=\"\",\"\",IF(AND(COUNTIF('Entry sheet-2-hin'!$AL$9:$AL$68,\"20स्मअलउ\")=0),\"\",COUNTIF('Entry sheet-2-hin'!$AL$9:$AL$68,\"20स्मअलउ\")))","v":""},"",{"$f":"IF(B28=\"\",\"\",IF(AND(COUNTIF('Entry sheet-2-hin'!$AL$9:$AL$68,\"20स्मलउ२\")=0),\"\",COUNTIF('Entry sheet-2-hin'!$AL$9:$AL$68,\"20स्मलउ२\")))","v":""},"",{"$f":"IF(B28=\"\",\"\",IF(AND(COUNTIF('Entry sheet-2-hin'!$AL$9:$AL$68,\"20स्मलउ३\")=0),\"\",COUNTIF('Entry sheet-2-hin'!$AL$9:$AL$68,\"20स्मलउ३\")))","v":""},"",{"$f":"IF(B28=\"\",\"\",IF(AND(COUNTIF('Entry sheet-2-hin'!$AL$9:$AL$68,\"20स्मदीउ४\")=0),\"\",COUNTIF('Entry sheet-2-hin'!$AL$9:$AL$68,\"20स्मदीउ४\")))","v":""},"",{"$f":"IF(B28=\"\",\"\",IF(AND(COUNTIF('Entry sheet-2-hin'!$AL$9:$AL$68,\"20समबवि\")=0),\"\",COUNTIF('Entry sheet-2-hin'!$AL$9:$AL$68,\"20समबवि\")))","v":""},"",{"$f":"IF(B28=\"\",\"\",IF(AND(COUNTIF('Entry sheet-2-hin'!$AL$9:$AL$68,\"20समवनि\")=0),\"\",COUNTIF('Entry sheet-2-hin'!$AL$9:$AL$68,\"20समवनि\")))","v":""},"",{"$f":"IF(B28=\"\",\"\",IF(AND(COUNTIF('Entry sheet-2-hin'!$AL$9:$AL$68,\"20समअलउ\")=0),\"\",COUNTIF('Entry sheet-2-hin'!$AL$9:$AL$68,\"20समअलउ\")))","v":""},"",{"$f":"IF(B28=\"\",\"\",IF(AND(COUNTIF('Entry sheet-2-hin'!$AL$9:$AL$68,\"20समलउ२\")=0),\"\",COUNTIF('Entry sheet-2-hin'!$AL$9:$AL$68,\"20समलउ२\")))","v":""},"",{"$f":"IF(B28=\"\",\"\",IF(AND(COUNTIF('Entry sheet-2-hin'!$AL$9:$AL$68,\"20समलउ३\")=0),\"\",COUNTIF('Entry sheet-2-hin'!$AL$9:$AL$68,\"20समलउ३\")))","v":""},"",{"$f":"IF(B28=\"\",\"\",IF(AND(COUNTIF('Entry sheet-2-hin'!$AL$9:$AL$68,\"20समदीउ४\")=0),\"\",COUNTIF('Entry sheet-2-hin'!$AL$9:$AL$68,\"20समदीउ४\")))","v":""},"",{"$f":"IF(B28=\"\",\"\",IF(AND(COUNTIF('Entry sheet-2-hin'!$AL$9:$AL$68,\"20अबवि\")=0),\"\",COUNTIF('Entry sheet-2-hin'!$AL$9:$AL$68,\"20अबवि\")))","v":""},"",{"$f":"IF(B28=\"\",\"\",IF(AND(COUNTIF('Entry sheet-2-hin'!$AL$9:$AL$68,\"20अवनि\")=0),\"\",COUNTIF('Entry sheet-2-hin'!$AL$9:$AL$68,\"20अवनि\")))","v":""},"",{"$f":"IF(B28=\"\",\"\",IF(AND(COUNTIF('Entry sheet-2-hin'!$AL$9:$AL$68,\"20अअलउ\")=0),\"\",COUNTIF('Entry sheet-2-hin'!$AL$9:$AL$68,\"20अअलउ\")))","v":4},4,{"$f":"IF(B28=\"\",\"\",IF(AND(COUNTIF('Entry sheet-2-hin'!$AL$9:$AL$68,\"20अलउ२\")=0),\"\",COUNTIF('Entry sheet-2-hin'!$AL$9:$AL$68,\"20अलउ२\")))","v":""},"",{"$f":"IF(B28=\"\",\"\",IF(AND(COUNTIF('Entry sheet-2-hin'!$AL$9:$AL$68,\"20अलउ३\")=0),\"\",COUNTIF('Entry sheet-2-hin'!$AL$9:$AL$68,\"20अलउ३\")))","v":""},"",{"$f":"IF(B28=\"\",\"\",IF(AND(COUNTIF('Entry sheet-2-hin'!$AL$9:$AL$68,\"20अदीउ४\")=0),\"\",COUNTIF('Entry sheet-2-hin'!$AL$9:$AL$68,\"20अदीउ४\")))","v":""},"",{"$f":"IF(B28=\"\",\"\",IF(AND(COUNTIF('Entry sheet-2-hin'!$AL$9:$AL$68,\"20रसबवि\")=0),\"\",COUNTIF('Entry sheet-2-hin'!$AL$9:$AL$68,\"20रसबवि\")))","v":""},"",{"$f":"IF(B28=\"\",\"\",IF(AND(COUNTIF('Entry sheet-2-hin'!$AL$9:$AL$68,\"20रसवनि\")=0),\"\",COUNTIF('Entry sheet-2-hin'!$AL$9:$AL$68,\"20रसवनि\")))","v":""},"",{"$f":"IF(B28=\"\",\"\",IF(AND(COUNTIF('Entry sheet-2-hin'!$AL$9:$AL$68,\"20रसअलउ\")=0),\"\",COUNTIF('Entry sheet-2-hin'!$AL$9:$AL$68,\"20रसअलउ\")))","v":""},"",{"$f":"IF(B28=\"\",\"\",IF(AND(COUNTIF('Entry sheet-2-hin'!$AL$9:$AL$68,\"20रसलउ२\")=0),\"\",COUNTIF('Entry sheet-2-hin'!$AL$9:$AL$68,\"20रसलउ२\")))","v":""},"",{"$f":"IF(B28=\"\",\"\",IF(AND(COUNTIF('Entry sheet-2-hin'!$AL$9:$AL$68,\"20रसलउ३\")=0),\"\",COUNTIF('Entry sheet-2-hin'!$AL$9:$AL$68,\"20रसलउ३\")))","v":""},"",{"$f":"IF(B28=\"\",\"\",IF(AND(COUNTIF('Entry sheet-2-hin'!$AL$9:$AL$68,\"20रसदीउ४\")=0),\"\",COUNTIF('Entry sheet-2-hin'!$AL$9:$AL$68,\"20रसदीउ४\")))","v":""},"",0,0,0,0,4,4,0,0,0,0,0,0,4,4]
[{"$f":"IF('Entry sheet-1-hin'!A30=\"\",\"\",'Entry sheet-1-hin'!A30)","v":21},{"$f":"IF('Entry sheet-1-hin'!B30=\"\",\"\",'Entry sheet-1-hin'!B30)","v":"अनुवाद"},{"$f":"IF(B29=\"\",\"\",IF(AND(COUNTIF('Entry sheet-2-hin'!$AL$9:$AL$68,\"21स्मबवि\")=0),\"\",COUNTIF('Entry sheet-2-hin'!$AL$9:$AL$68,\"21स्मबवि\")))","v":""},"",{"$f":"IF(B29=\"\",\"\",IF(AND(COUNTIF('Entry sheet-2-hin'!$AL$9:$AL$68,\"21स्मवनि\")=0),\"\",COUNTIF('Entry sheet-2-hin'!$AL$9:$AL$68,\"21स्मवनि\")))","v":""},"",{"$f":"IF(B29=\"\",\"\",IF(AND(COUNTIF('Entry sheet-2-hin'!$AL$9:$AL$68,\"21स्मअलउ\")=0),\"\",COUNTIF('Entry sheet-2-hin'!$AL$9:$AL$68,\"21स्मअलउ\")))","v":""},"",{"$f":"IF(B29=\"\",\"\",IF(AND(COUNTIF('Entry sheet-2-hin'!$AL$9:$AL$68,\"21स्मलउ२\")=0),\"\",COUNTIF('Entry sheet-2-hin'!$AL$9:$AL$68,\"21स्मलउ२\")))","v":""},"",{"$f":"IF(B29=\"\",\"\",IF(AND(COUNTIF('Entry sheet-2-hin'!$AL$9:$AL$68,\"21स्मलउ३\")=0),\"\",COUNTIF('Entry sheet-2-hin'!$AL$9:$AL$68,\"21स्मलउ३\")))","v":""},"",{"$f":"IF(B29=\"\",\"\",IF(AND(COUNTIF('Entry sheet-2-hin'!$AL$9:$AL$68,\"21स्मदीउ४\")=0),\"\",COUNTIF('Entry sheet-2-hin'!$AL$9:$AL$68,\"21स्मदीउ४\")))","v":""},"",{"$f":"IF(B29=\"\",\"\",IF(AND(COUNTIF('Entry sheet-2-hin'!$AL$9:$AL$68,\"21समबवि\")=0),\"\",COUNTIF('Entry sheet-2-hin'!$AL$9:$AL$68,\"21समबवि\")))","v":""},"",{"$f":"IF(B29=\"\",\"\",IF(AND(COUNTIF('Entry sheet-2-hin'!$AL$9:$AL$68,\"21समवनि\")=0),\"\",COUNTIF('Entry sheet-2-hin'!$AL$9:$AL$68,\"21समवनि\")))","v":""},"",{"$f":"IF(B29=\"\",\"\",IF(AND(COUNTIF('Entry sheet-2-hin'!$AL$9:$AL$68,\"21समअलउ\")=0),\"\",COUNTIF('Entry sheet-2-hin'!$AL$9:$AL$68,\"21समअलउ\")))","v":""},"",{"$f":"IF(B29=\"\",\"\",IF(AND(COUNTIF('Entry sheet-2-hin'!$AL$9:$AL$68,\"21समलउ२\")=0),\"\",COUNTIF('Entry sheet-2-hin'!$AL$9:$AL$68,\"21समलउ२\")))","v":""},"",{"$f":"IF(B29=\"\",\"\",IF(AND(COUNTIF('Entry sheet-2-hin'!$AL$9:$AL$68,\"21समलउ३\")=0),\"\",COUNTIF('Entry sheet-2-hin'!$AL$9:$AL$68,\"21समलउ३\")))","v":""},"",{"$f":"IF(B29=\"\",\"\",IF(AND(COUNTIF('Entry sheet-2-hin'!$AL$9:$AL$68,\"21समदीउ४\")=0),\"\",COUNTIF('Entry sheet-2-hin'!$AL$9:$AL$68,\"21समदीउ४\")))","v":""},"",{"$f":"IF(B29=\"\",\"\",IF(AND(COUNTIF('Entry sheet-2-hin'!$AL$9:$AL$68,\"21अबवि\")=0),\"\",COUNTIF('Entry sheet-2-hin'!$AL$9:$AL$68,\"21अबवि\")))","v":""},"",{"$f":"IF(B29=\"\",\"\",IF(AND(COUNTIF('Entry sheet-2-hin'!$AL$9:$AL$68,\"21अवनि\")=0),\"\",COUNTIF('Entry sheet-2-hin'!$AL$9:$AL$68,\"21अवनि\")))","v":""},"",{"$f":"IF(B29=\"\",\"\",IF(AND(COUNTIF('Entry sheet-2-hin'!$AL$9:$AL$68,\"21अअलउ\")=0),\"\",COUNTIF('Entry sheet-2-hin'!$AL$9:$AL$68,\"21अअलउ\")))","v":4},4,{"$f":"IF(B29=\"\",\"\",IF(AND(COUNTIF('Entry sheet-2-hin'!$AL$9:$AL$68,\"21अलउ२\")=0),\"\",COUNTIF('Entry sheet-2-hin'!$AL$9:$AL$68,\"21अलउ२\")))","v":""},"",{"$f":"IF(B29=\"\",\"\",IF(AND(COUNTIF('Entry sheet-2-hin'!$AL$9:$AL$68,\"21अलउ३\")=0),\"\",COUNTIF('Entry sheet-2-hin'!$AL$9:$AL$68,\"21अलउ३\")))","v":""},"",{"$f":"IF(B29=\"\",\"\",IF(AND(COUNTIF('Entry sheet-2-hin'!$AL$9:$AL$68,\"21अदीउ४\")=0),\"\",COUNTIF('Entry sheet-2-hin'!$AL$9:$AL$68,\"21अदीउ४\")))","v":""},"",{"$f":"IF(B29=\"\",\"\",IF(AND(COUNTIF('Entry sheet-2-hin'!$AL$9:$AL$68,\"21रसबवि\")=0),\"\",COUNTIF('Entry sheet-2-hin'!$AL$9:$AL$68,\"21रसबवि\")))","v":""},"",{"$f":"IF(B29=\"\",\"\",IF(AND(COUNTIF('Entry sheet-2-hin'!$AL$9:$AL$68,\"21रसवनि\")=0),\"\",COUNTIF('Entry sheet-2-hin'!$AL$9:$AL$68,\"21रसवनि\")))","v":""},"",{"$f":"IF(B29=\"\",\"\",IF(AND(COUNTIF('Entry sheet-2-hin'!$AL$9:$AL$68,\"21रसअलउ\")=0),\"\",COUNTIF('Entry sheet-2-hin'!$AL$9:$AL$68,\"21रसअलउ\")))","v":""},"",{"$f":"IF(B29=\"\",\"\",IF(AND(COUNTIF('Entry sheet-2-hin'!$AL$9:$AL$68,\"21रसलउ२\")=0),\"\",COUNTIF('Entry sheet-2-hin'!$AL$9:$AL$68,\"21रसलउ२\")))","v":""},"",{"$f":"IF(B29=\"\",\"\",IF(AND(COUNTIF('Entry sheet-2-hin'!$AL$9:$AL$68,\"21रसलउ३\")=0),\"\",COUNTIF('Entry sheet-2-hin'!$AL$9:$AL$68,\"21रसलउ३\")))","v":""},"",{"$f":"IF(B29=\"\",\"\",IF(AND(COUNTIF('Entry sheet-2-hin'!$AL$9:$AL$68,\"21रसदीउ४\")=0),\"\",COUNTIF('Entry sheet-2-hin'!$AL$9:$AL$68,\"21रसदीउ४\")))","v":""},"",0,0,0,0,4,4,0,0,0,0,0,0,4,4]
[{"$f":"IF('Entry sheet-1-hin'!A31=\"\",\"\",'Entry sheet-1-hin'!A31)","v":22},{"$f":"IF('Entry sheet-1-hin'!B31=\"\",\"\",'Entry sheet-1-hin'!B31)","v":"पत्र लेखन"},{"$f":"IF(B30=\"\",\"\",IF(AND(COUNTIF('Entry sheet-2-hin'!$AL$9:$AL$68,\"22स्मबवि\")=0),\"\",COUNTIF('Entry sheet-2-hin'!$AL$9:$AL$68,\"22स्मबवि\")))","v":""},"",{"$f":"IF(B30=\"\",\"\",IF(AND(COUNTIF('Entry sheet-2-hin'!$AL$9:$AL$68,\"22स्मवनि\")=0),\"\",COUNTIF('Entry sheet-2-hin'!$AL$9:$AL$68,\"22स्मवनि\")))","v":""},"",{"$f":"IF(B30=\"\",\"\",IF(AND(COUNTIF('Entry sheet-2-hin'!$AL$9:$AL$68,\"22स्मअलउ\")=0),\"\",COUNTIF('Entry sheet-2-hin'!$AL$9:$AL$68,\"22स्मअलउ\")))","v":""},"",{"$f":"IF(B30=\"\",\"\",IF(AND(COUNTIF('Entry sheet-2-hin'!$AL$9:$AL$68,\"22स्मलउ२\")=0),\"\",COUNTIF('Entry sheet-2-hin'!$AL$9:$AL$68,\"22स्मलउ२\")))","v":""},"",{"$f":"IF(B30=\"\",\"\",IF(AND(COUNTIF('Entry sheet-2-hin'!$AL$9:$AL$68,\"22स्मलउ३\")=0),\"\",COUNTIF('Entry sheet-2-hin'!$AL$9:$AL$68,\"22स्मलउ३\")))","v":""},"",{"$f":"IF(B30=\"\",\"\",IF(AND(COUNTIF('Entry sheet-2-hin'!$AL$9:$AL$68,\"22स्मदीउ४\")=0),\"\",COUNTIF('Entry sheet-2-hin'!$AL$9:$AL$68,\"22स्मदीउ४\")))","v":""},"",{"$f":"IF(B30=\"\",\"\",IF(AND(COUNTIF('Entry sheet-2-hin'!$AL$9:$AL$68,\"22समबवि\")=0),\"\",COUNTIF('Entry sheet-2-hin'!$AL$9:$AL$68,\"22समबवि\")))","v":""},"",{"$f":"IF(B30=\"\",\"\",IF(AND(COUNTIF('Entry sheet-2-hin'!$AL$9:$AL$68,\"22समवनि\")=0),\"\",COUNTIF('Entry sheet-2-hin'!$AL$9:$AL$68,\"22समवनि\")))","v":""},"",{"$f":"IF(B30=\"\",\"\",IF(AND(COUNTIF('Entry sheet-2-hin'!$AL$9:$AL$68,\"22समअलउ\")=0),\"\",COUNTIF('Entry sheet-2-hin'!$AL$9:$AL$68,\"22समअलउ\")))","v":""},"",{"$f":"IF(B30=\"\",\"\",IF(AND(COUNTIF('Entry sheet-2-hin'!$AL$9:$AL$68,\"22समलउ२\")=0),\"\",COUNTIF('Entry sheet-2-hin'!$AL$9:$AL$68,\"22समलउ२\")))","v":""},"",{"$f":"IF(B30=\"\",\"\",IF(AND(COUNTIF('Entry sheet-2-hin'!$AL$9:$AL$68,\"22समलउ३\")=0),\"\",COUNTIF('Entry sheet-2-hin'!$AL$9:$AL$68,\"22समलउ३\")))","v":""},"",{"$f":"IF(B30=\"\",\"\",IF(AND(COUNTIF('Entry sheet-2-hin'!$AL$9:$AL$68,\"22समदीउ४\")=0),\"\",COUNTIF('Entry sheet-2-hin'!$AL$9:$AL$68,\"22समदीउ४\")))","v":""},"",{"$f":"IF(B30=\"\",\"\",IF(AND(COUNTIF('Entry sheet-2-hin'!$AL$9:$AL$68,\"22अबवि\")=0),\"\",COUNTIF('Entry sheet-2-hin'!$AL$9:$AL$68,\"22अबवि\")))","v":""},"",{"$f":"IF(B30=\"\",\"\",IF(AND(COUNTIF('Entry sheet-2-hin'!$AL$9:$AL$68,\"22अवनि\")=0),\"\",COUNTIF('Entry sheet-2-hin'!$AL$9:$AL$68,\"22अवनि\")))","v":""},"",{"$f":"IF(B30=\"\",\"\",IF(AND(COUNTIF('Entry sheet-2-hin'!$AL$9:$AL$68,\"22अअलउ\")=0),\"\",COUNTIF('Entry sheet-2-hin'!$AL$9:$AL$68,\"22अअलउ\")))","v":""},"",{"$f":"IF(B30=\"\",\"\",IF(AND(COUNTIF('Entry sheet-2-hin'!$AL$9:$AL$68,\"22अलउ२\")=0),\"\",COUNTIF('Entry sheet-2-hin'!$AL$9:$AL$68,\"22अलउ२\")))","v":""},"",{"$f":"IF(B30=\"\",\"\",IF(AND(COUNTIF('Entry sheet-2-hin'!$AL$9:$AL$68,\"22अलउ३\")=0),\"\",COUNTIF('Entry sheet-2-hin'!$AL$9:$AL$68,\"22अलउ३\")))","v":""},"",{"$f":"IF(B30=\"\",\"\",IF(AND(COUNTIF('Entry sheet-2-hin'!$AL$9:$AL$68,\"22अदीउ४\")=0),\"\",COUNTIF('Entry sheet-2-hin'!$AL$9:$AL$68,\"22अदीउ४\")))","v":1},4,{"$f":"IF(B30=\"\",\"\",IF(AND(COUNTIF('Entry sheet-2-hin'!$AL$9:$AL$68,\"22रसबवि\")=0),\"\",COUNTIF('Entry sheet-2-hin'!$AL$9:$AL$68,\"22रसबवि\")))","v":""},"",{"$f":"IF(B30=\"\",\"\",IF(AND(COUNTIF('Entry sheet-2-hin'!$AL$9:$AL$68,\"22रसवनि\")=0),\"\",COUNTIF('Entry sheet-2-hin'!$AL$9:$AL$68,\"22रसवनि\")))","v":""},"",{"$f":"IF(B30=\"\",\"\",IF(AND(COUNTIF('Entry sheet-2-hin'!$AL$9:$AL$68,\"22रसअलउ\")=0),\"\",COUNTIF('Entry sheet-2-hin'!$AL$9:$AL$68,\"22रसअलउ\")))","v":""},"",{"$f":"IF(B30=\"\",\"\",IF(AND(COUNTIF('Entry sheet-2-hin'!$AL$9:$AL$68,\"22रसलउ२\")=0),\"\",COUNTIF('Entry sheet-2-hin'!$AL$9:$AL$68,\"22रसलउ२\")))","v":""},"",{"$f":"IF(B30=\"\",\"\",IF(AND(COUNTIF('Entry sheet-2-hin'!$AL$9:$AL$68,\"22रसलउ३\")=0),\"\",COUNTIF('Entry sheet-2-hin'!$AL$9:$AL$68,\"22रसलउ३\")))","v":""},"",{"$f":"IF(B30=\"\",\"\",IF(AND(COUNTIF('Entry sheet-2-hin'!$AL$9:$AL$68,\"22रसदीउ४\")=0),\"\",COUNTIF('Entry sheet-2-hin'!$AL$9:$AL$68,\"22रसदीउ४\")))","v":""},"",0,0,0,0,0,0,0,0,0,0,1,4,1,4]
[{"$f":"IF('Entry sheet-1-hin'!A32=\"\",\"\",'Entry sheet-1-hin'!A32)","v":23},{"$f":"IF('Entry sheet-1-hin'!B32=\"\",\"\",'Entry sheet-1-hin'!B32)","v":"निबंध रचना"},{"$f":"IF(B31=\"\",\"\",IF(AND(COUNTIF('Entry sheet-2-hin'!$AL$9:$AL$68,\"23स्मबवि\")=0),\"\",COUNTIF('Entry sheet-2-hin'!$AL$9:$AL$68,\"23स्मबवि\")))","v":""},"",{"$f":"IF(B31=\"\",\"\",IF(AND(COUNTIF('Entry sheet-2-hin'!$AL$9:$AL$68,\"23स्मवनि\")=0),\"\",COUNTIF('Entry sheet-2-hin'!$AL$9:$AL$68,\"23स्मवनि\")))","v":""},"",{"$f":"IF(B31=\"\",\"\",IF(AND(COUNTIF('Entry sheet-2-hin'!$AL$9:$AL$68,\"23स्मअलउ\")=0),\"\",COUNTIF('Entry sheet-2-hin'!$AL$9:$AL$68,\"23स्मअलउ\")))","v":""},"",{"$f":"IF(B31=\"\",\"\",IF(AND(COUNTIF('Entry sheet-2-hin'!$AL$9:$AL$68,\"23स्मलउ२\")=0),\"\",COUNTIF('Entry sheet-2-hin'!$AL$9:$AL$68,\"23स्मलउ२\")))","v":""},"",{"$f":"IF(B31=\"\",\"\",IF(AND(COUNTIF('Entry sheet-2-hin'!$AL$9:$AL$68,\"23स्मलउ३\")=0),\"\",COUNTIF('Entry sheet-2-hin'!$AL$9:$AL$68,\"23स्मलउ३\")))","v":""},"",{"$f":"IF(B31=\"\",\"\",IF(AND(COUNTIF('Entry sheet-2-hin'!$AL$9:$AL$68,\"23स्मदीउ४\")=0),\"\",COUNTIF('Entry sheet-2-hin'!$AL$9:$AL$68,\"23स्मदीउ४\")))","v":""},"",{"$f":"IF(B31=\"\",\"\",IF(AND(COUNTIF('Entry sheet-2-hin'!$AL$9:$AL$68,\"23समबवि\")=0),\"\",COUNTIF('Entry sheet-2-hin'!$AL$9:$AL$68,\"23समबवि\")))","v":""},"",{"$f":"IF(B31=\"\",\"\",IF(AND(COUNTIF('Entry sheet-2-hin'!$AL$9:$AL$68,\"23समवनि\")=0),\"\",COUNTIF('Entry sheet-2-hin'!$AL$9:$AL$68,\"23समवनि\")))","v":""},"",{"$f":"IF(B31=\"\",\"\",IF(AND(COUNTIF('Entry sheet-2-hin'!$AL$9:$AL$68,\"23समअलउ\")=0),\"\",COUNTIF('Entry sheet-2-hin'!$AL$9:$AL$68,\"23समअलउ\")))","v":""},"",{"$f":"IF(B31=\"\",\"\",IF(AND(COUNTIF('Entry sheet-2-hin'!$AL$9:$AL$68,\"23समलउ२\")=0),\"\",COUNTIF('Entry sheet-2-hin'!$AL$9:$AL$68,\"23समलउ२\")))","v":""},"",{"$f":"IF(B31=\"\",\"\",IF(AND(COUNTIF('Entry sheet-2-hin'!$AL$9:$AL$68,\"23समलउ३\")=0),\"\",COUNTIF('Entry sheet-2-hin'!$AL$9:$AL$68,\"23समलउ३\")))","v":""},"",{"$f":"IF(B31=\"\",\"\",IF(AND(COUNTIF('Entry sheet-2-hin'!$AL$9:$AL$68,\"23समदीउ४\")=0),\"\",COUNTIF('Entry sheet-2-hin'!$AL$9:$AL$68,\"23समदीउ४\")))","v":""},"",{"$f":"IF(B31=\"\",\"\",IF(AND(COUNTIF('Entry sheet-2-hin'!$AL$9:$AL$68,\"23अबवि\")=0),\"\",COUNTIF('Entry sheet-2-hin'!$AL$9:$AL$68,\"23अबवि\")))","v":""},"",{"$f":"IF(B31=\"\",\"\",IF(AND(COUNTIF('Entry sheet-2-hin'!$AL$9:$AL$68,\"23अवनि\")=0),\"\",COUNTIF('Entry sheet-2-hin'!$AL$9:$AL$68,\"23अवनि\")))","v":""},"",{"$f":"IF(B31=\"\",\"\",IF(AND(COUNTIF('Entry sheet-2-hin'!$AL$9:$AL$68,\"23अअलउ\")=0),\"\",COUNTIF('Entry sheet-2-hin'!$AL$9:$AL$68,\"23अअलउ\")))","v":""},"",{"$f":"IF(B31=\"\",\"\",IF(AND(COUNTIF('Entry sheet-2-hin'!$AL$9:$AL$68,\"23अलउ२\")=0),\"\",COUNTIF('Entry sheet-2-hin'!$AL$9:$AL$68,\"23अलउ२\")))","v":""},"",{"$f":"IF(B31=\"\",\"\",IF(AND(COUNTIF('Entry sheet-2-hin'!$AL$9:$AL$68,\"23अलउ३\")=0),\"\",COUNTIF('Entry sheet-2-hin'!$AL$9:$AL$68,\"23अलउ३\")))","v":""},"",{"$f":"IF(B31=\"\",\"\",IF(AND(COUNTIF('Entry sheet-2-hin'!$AL$9:$AL$68,\"23अदीउ४\")=0),\"\",COUNTIF('Entry sheet-2-hin'!$AL$9:$AL$68,\"23अदीउ४\")))","v":1},4,{"$f":"IF(B31=\"\",\"\",IF(AND(COUNTIF('Entry sheet-2-hin'!$AL$9:$AL$68,\"23रसबवि\")=0),\"\",COUNTIF('Entry sheet-2-hin'!$AL$9:$AL$68,\"23रसबवि\")))","v":""},"",{"$f":"IF(B31=\"\",\"\",IF(AND(COUNTIF('Entry sheet-2-hin'!$AL$9:$AL$68,\"23रसवनि\")=0),\"\",COUNTIF('Entry sheet-2-hin'!$AL$9:$AL$68,\"23रसवनि\")))","v":""},"",{"$f":"IF(B31=\"\",\"\",IF(AND(COUNTIF('Entry sheet-2-hin'!$AL$9:$AL$68,\"23रसअलउ\")=0),\"\",COUNTIF('Entry sheet-2-hin'!$AL$9:$AL$68,\"23रसअलउ\")))","v":""},"",{"$f":"IF(B31=\"\",\"\",IF(AND(COUNTIF('Entry sheet-2-hin'!$AL$9:$AL$68,\"23रसलउ२\")=0),\"\",COUNTIF('Entry sheet-2-hin'!$AL$9:$AL$68,\"23रसलउ२\")))","v":""},"",{"$f":"IF(B31=\"\",\"\",IF(AND(COUNTIF('Entry sheet-2-hin'!$AL$9:$AL$68,\"23रसलउ३\")=0),\"\",COUNTIF('Entry sheet-2-hin'!$AL$9:$AL$68,\"23रसलउ३\")))","v":""},"",{"$f":"IF(B31=\"\",\"\",IF(AND(COUNTIF('Entry sheet-2-hin'!$AL$9:$AL$68,\"23रसदीउ४\")=0),\"\",COUNTIF('Entry sheet-2-hin'!$AL$9:$AL$68,\"23रसदीउ४\")))","v":""},"",0,0,0,0,0,0,0,0,0,0,1,4,1,4]
[{"$f":"IF('Entry sheet-1-hin'!A33=\"\",\"\",'Entry sheet-1-hin'!A33)","v":""},{"$f":"IF('Entry sheet-1-hin'!B33=\"\",\"\",'Entry sheet-1-hin'!B33)","v":""},{"$f":"IF(B32=\"\",\"\",IF(AND(COUNTIF('Entry sheet-2-hin'!$AL$9:$AL$68,\"24स्मबवि\")=0),\"\",COUNTIF('Entry sheet-2-hin'!$AL$9:$AL$68,\"24स्मबवि\")))","v":""},"",{"$f":"IF(B32=\"\",\"\",IF(AND(COUNTIF('Entry sheet-2-hin'!$AL$9:$AL$68,\"24स्मवनि\")=0),\"\",COUNTIF('Entry sheet-2-hin'!$AL$9:$AL$68,\"24स्मवनि\")))","v":""},"",{"$f":"IF(B32=\"\",\"\",IF(AND(COUNTIF('Entry sheet-2-hin'!$AL$9:$AL$68,\"24स्मअलउ\")=0),\"\",COUNTIF('Entry sheet-2-hin'!$AL$9:$AL$68,\"24स्मअलउ\")))","v":""},"",{"$f":"IF(B32=\"\",\"\",IF(AND(COUNTIF('Entry sheet-2-hin'!$AL$9:$AL$68,\"24स्मलउ२\")=0),\"\",COUNTIF('Entry sheet-2-hin'!$AL$9:$AL$68,\"24स्मलउ२\")))","v":""},"",{"$f":"IF(B32=\"\",\"\",IF(AND(COUNTIF('Entry sheet-2-hin'!$AL$9:$AL$68,\"24स्मलउ३\")=0),\"\",COUNTIF('Entry sheet-2-hin'!$AL$9:$AL$68,\"24स्मलउ३\")))","v":""},"",{"$f":"IF(B32=\"\",\"\",IF(AND(COUNTIF('Entry sheet-2-hin'!$AL$9:$AL$68,\"24स्मदीउ४\")=0),\"\",COUNTIF('Entry sheet-2-hin'!$AL$9:$AL$68,\"24स्मदीउ४\")))","v":""},"",{"$f":"IF(B32=\"\",\"\",IF(AND(COUNTIF('Entry sheet-2-hin'!$AL$9:$AL$68,\"24समबवि\")=0),\"\",COUNTIF('Entry sheet-2-hin'!$AL$9:$AL$68,\"24समबवि\")))","v":""},"",{"$f":"IF(B32=\"\",\"\",IF(AND(COUNTIF('Entry sheet-2-hin'!$AL$9:$AL$68,\"24समवनि\")=0),\"\",COUNTIF('Entry sheet-2-hin'!$AL$9:$AL$68,\"24समवनि\")))","v":""},"",{"$f":"IF(B32=\"\",\"\",IF(AND(COUNTIF('Entry sheet-2-hin'!$AL$9:$AL$68,\"24समअलउ\")=0),\"\",COUNTIF('Entry sheet-2-hin'!$AL$9:$AL$68,\"24समअलउ\")))","v":""},"",{"$f":"IF(B32=\"\",\"\",IF(AND(COUNTIF('Entry sheet-2-hin'!$AL$9:$AL$68,\"24समलउ२\")=0),\"\",COUNTIF('Entry sheet-2-hin'!$AL$9:$AL$68,\"24समलउ२\")))","v":""},"",{"$f":"IF(B32=\"\",\"\",IF(AND(COUNTIF('Entry sheet-2-hin'!$AL$9:$AL$68,\"24समलउ३\")=0),\"\",COUNTIF('Entry sheet-2-hin'!$AL$9:$AL$68,\"24समलउ३\")))","v":""},"",{"$f":"IF(B32=\"\",\"\",IF(AND(COUNTIF('Entry sheet-2-hin'!$AL$9:$AL$68,\"24समदीउ४\")=0),\"\",COUNTIF('Entry sheet-2-hin'!$AL$9:$AL$68,\"24समदीउ४\")))","v":""},"",{"$f":"IF(B32=\"\",\"\",IF(AND(COUNTIF('Entry sheet-2-hin'!$AL$9:$AL$68,\"24अबवि\")=0),\"\",COUNTIF('Entry sheet-2-hin'!$AL$9:$AL$68,\"24अबवि\")))","v":""},"",{"$f":"IF(B32=\"\",\"\",IF(AND(COUNTIF('Entry sheet-2-hin'!$AL$9:$AL$68,\"24अवनि\")=0),\"\",COUNTIF('Entry sheet-2-hin'!$AL$9:$AL$68,\"24अवनि\")))","v":""},"",{"$f":"IF(B32=\"\",\"\",IF(AND(COUNTIF('Entry sheet-2-hin'!$AL$9:$AL$68,\"24अअलउ\")=0),\"\",COUNTIF('Entry sheet-2-hin'!$AL$9:$AL$68,\"24अअलउ\")))","v":""},"",{"$f":"IF(B32=\"\",\"\",IF(AND(COUNTIF('Entry sheet-2-hin'!$AL$9:$AL$68,\"24अलउ२\")=0),\"\",COUNTIF('Entry sheet-2-hin'!$AL$9:$AL$68,\"24अलउ२\")))","v":""},"",{"$f":"IF(B32=\"\",\"\",IF(AND(COUNTIF('Entry sheet-2-hin'!$AL$9:$AL$68,\"24अलउ३\")=0),\"\",COUNTIF('Entry sheet-2-hin'!$AL$9:$AL$68,\"24अलउ३\")))","v":""},"",{"$f":"IF(B32=\"\",\"\",IF(AND(COUNTIF('Entry sheet-2-hin'!$AL$9:$AL$68,\"24अदीउ४\")=0),\"\",COUNTIF('Entry sheet-2-hin'!$AL$9:$AL$68,\"24अदीउ४\")))","v":""},"",{"$f":"IF(B32=\"\",\"\",IF(AND(COUNTIF('Entry sheet-2-hin'!$AL$9:$AL$68,\"24रसबवि\")=0),\"\",COUNTIF('Entry sheet-2-hin'!$AL$9:$AL$68,\"24रसबवि\")))","v":""},"",{"$f":"IF(B32=\"\",\"\",IF(AND(COUNTIF('Entry sheet-2-hin'!$AL$9:$AL$68,\"24रसवनि\")=0),\"\",COUNTIF('Entry sheet-2-hin'!$AL$9:$AL$68,\"24रसवनि\")))","v":""},"",{"$f":"IF(B32=\"\",\"\",IF(AND(COUNTIF('Entry sheet-2-hin'!$AL$9:$AL$68,\"24रसअलउ\")=0),\"\",COUNTIF('Entry sheet-2-hin'!$AL$9:$AL$68,\"24रसअलउ\")))","v":""},"",{"$f":"IF(B32=\"\",\"\",IF(AND(COUNTIF('Entry sheet-2-hin'!$AL$9:$AL$68,\"24रसलउ२\")=0),\"\",COUNTIF('Entry sheet-2-hin'!$AL$9:$AL$68,\"24रसलउ२\")))","v":""},"",{"$f":"IF(B32=\"\",\"\",IF(AND(COUNTIF('Entry sheet-2-hin'!$AL$9:$AL$68,\"24रसलउ३\")=0),\"\",COUNTIF('Entry sheet-2-hin'!$AL$9:$AL$68,\"24रसलउ३\")))","v":""},"",{"$f":"IF(B32=\"\",\"\",IF(AND(COUNTIF('Entry sheet-2-hin'!$AL$9:$AL$68,\"24रसदीउ४\")=0),\"\",COUNTIF('Entry sheet-2-hin'!$AL$9:$AL$68,\"24रसदीउ४\")))","v":""},"","","","","","","","","","","","","","",""]
[{"$f":"IF('Entry sheet-1-hin'!A34=\"\",\"\",'Entry sheet-1-hin'!A34)","v":""},{"$f":"IF('Entry sheet-1-hin'!B34=\"\",\"\",'Entry sheet-1-hin'!B34)","v":""},{"$f":"IF(B33=\"\",\"\",IF(AND(COUNTIF('Entry sheet-2-hin'!$AL$9:$AL$68,\"25KMCC\")=0,COUNTIF('Entry sheet-2-hin'!$AL$9:$AL$68,\"25KMC\")=0),\"\",IF(COUNTIF('Entry sheet-2-hin'!$AL$9:$AL$68,\"25KMCC\")=0,COUNTIF('Entry sheet-2-hin'!$AL$9:$AL$68,\"25KMC\"),COUNTIF('Entry sheet-2-hin'!$AL$9:$AL$68,\"25KMCC\")&\"*\")))","v":""},{"$f":"IF(C33=\"\",\"\",IF(COUNTIF('Entry sheet-2-hin'!$AL$9:$AL$68,\"25KMCC\")=0,COUNTIF('Entry sheet-2-hin'!$AL$9:$AL$68,\"25KMC\")*1,COUNTIF('Entry sheet-2-hin'!$AL$9:$AL$68,\"25KMCC\")*1))","v":""},{"$f":"IF(B33=\"\",\"\",IF(AND(COUNTIF('Entry sheet-2-hin'!$AL$9:$AL$68,\"25KOTC\")=0,COUNTIF('Entry sheet-2-hin'!$AL$9:$AL$68,\"25KOT\")=0),\"\",IF(COUNTIF('Entry sheet-2-hin'!$AL$9:$AL$68,\"25KOTC\")=0,COUNTIF('Entry sheet-2-hin'!$AL$9:$AL$68,\"25KOT\"),COUNTIF('Entry sheet-2-hin'!$AL$9:$AL$68,\"25KOTC\")&\"*\")))","v":""},{"$f":"IF(E33=\"\",\"\",IF(COUNTIF('Entry sheet-2-hin'!$AL$9:$AL$68,\"25KOTC\")=0,COUNTIF('Entry sheet-2-hin'!$AL$9:$AL$68,\"25KOT\")*1,COUNTIF('Entry sheet-2-hin'!$AL$9:$AL$68,\"25KOTC\")*1))","v":""},{"$f":"IF(B33=\"\",\"\",IF(AND(COUNTIF('Entry sheet-2-hin'!$AL$9:$AL$68,\"25KSA1C\")=0,COUNTIF('Entry sheet-2-hin'!$AL$9:$AL$68,\"25KSA1\")=0),\"\",IF(COUNTIF('Entry sheet-2-hin'!$AL$9:$AL$68,\"25KSA1C\")=0,COUNTIF('Entry sheet-2-hin'!$AL$9:$AL$68,\"25KSA1\"),COUNTIF('Entry sheet-2-hin'!$AL$9:$AL$68,\"25KSA1C\")&\"*\")))","v":""},{"$f":"IF(G33=\"\",\"\",IF(COUNTIF('Entry sheet-2-hin'!$AL$9:$AL$68,\"25KSA1C\")=0,COUNTIF('Entry sheet-2-hin'!$AL$9:$AL$68,\"25KSA1\")*1,COUNTIF('Entry sheet-2-hin'!$AL$9:$AL$68,\"25KSA1C\")*1))","v":""},{"$f":"IF(B33=\"\",\"\",IF(AND(COUNTIF('Entry sheet-2-hin'!$AL$9:$AL$68,\"25KSA2C\")=0,COUNTIF('Entry sheet-2-hin'!$AL$9:$AL$68,\"25KSA2\")=0),\"\",IF(COUNTIF('Entry sheet-2-hin'!$AL$9:$AL$68,\"25KSA2C\")=0,COUNTIF('Entry sheet-2-hin'!$AL$9:$AL$68,\"25KSA2\"),COUNTIF('Entry sheet-2-hin'!$AL$9:$AL$68,\"25KSA2C\")&\"*\")))","v":""},{"$f":"IF(I33=\"\",\"\",IF(COUNTIF('Entry sheet-2-hin'!$AL$9:$AL$68,\"25KSA2C\")=0,COUNTIF('Entry sheet-2-hin'!$AL$9:$AL$68,\"25KSA2\")*2,COUNTIF('Entry sheet-2-hin'!$AL$9:$AL$68,\"25KSA2C\")*2))","v":""},{"$f":"IF(B33=\"\",\"\",IF(AND(COUNTIF('Entry sheet-2-hin'!$AL$9:$AL$68,\"25KLA1C\")=0,COUNTIF('Entry sheet-2-hin'!$AL$9:$AL$68,\"25KLA1\")=0),\"\",IF(COUNTIF('Entry sheet-2-hin'!$AL$9:$AL$68,\"25KLA1C\")=0,COUNTIF('Entry sheet-2-hin'!$AL$9:$AL$68,\"25KLA1\"),COUNTIF('Entry sheet-2-hin'!$AL$9:$AL$68,\"25KLA1C\")&\"*\")))","v":""},{"$f":"IF(K33=\"\",\"\",IF(COUNTIF('Entry sheet-2-hin'!$AL$9:$AL$68,\"25KLA1C\")=0,COUNTIF('Entry sheet-2-hin'!$AL$9:$AL$68,\"25KLA1\")*3,COUNTIF('Entry sheet-2-hin'!$AL$9:$AL$68,\"25KLA1C\")*3))","v":""},{"$f":"IF(B33=\"\",\"\",IF(AND(COUNTIF('Entry sheet-2-hin'!$AL$9:$AL$68,\"1स्मदीउ४\")=0),\"\",COUNTIF('Entry sheet-2-hin'!$AL$9:$AL$68,\"1स्मदीउ४\")))","v":""},"",{"$f":"IF(B33=\"\",\"\",IF(AND(COUNTIF('Entry sheet-2-hin'!$AL$9:$AL$68,\"25UMCC\")=0,COUNTIF('Entry sheet-2-hin'!$AL$9:$AL$68,\"25UMC\")=0),\"\",IF(COUNTIF('Entry sheet-2-hin'!$AL$9:$AL$68,\"25UMCC\")=0,COUNTIF('Entry sheet-2-hin'!$AL$9:$AL$68,\"25UMC\"),COUNTIF('Entry sheet-2-hin'!$AL$9:$AL$68,\"25UMCC\")&\"*\")))","v":""},{"$f":"IF(O33=\"\",\"\",IF(COUNTIF('Entry sheet-2-hin'!$AL$9:$AL$68,\"25UMCC\")=0,COUNTIF('Entry sheet-2-hin'!$AL$9:$AL$68,\"25UMC\")*1,COUNTIF('Entry sheet-2-hin'!$AL$9:$AL$68,\"25UMCC\")*1))","v":""},{"$f":"IF(B33=\"\",\"\",IF(AND(COUNTIF('Entry sheet-2-hin'!$AL$9:$AL$68,\"1समवनि\")=0),\"\",COUNTIF('Entry sheet-2-hin'!$AL$9:$AL$68,\"1समवनि\")))","v":""},{"$f":"IF(Q33=\"\",\"\",IF(COUNTIF('Entry sheet-2-hin'!$AL$9:$AL$68,\"25UOTC\")=0,COUNTIF('Entry sheet-2-hin'!$AL$9:$AL$68,\"25UOT\")*1,COUNTIF('Entry sheet-2-hin'!$AL$9:$AL$68,\"25UOTC\")*1))","v":""},{"$f":"IF(B33=\"\",\"\",IF(AND(COUNTIF('Entry sheet-2-hin'!$AL$9:$AL$68,\"1समअलउ\")=0),\"\",COUNTIF('Entry sheet-2-hin'!$AL$9:$AL$68,\"1समअलउ\")))","v":""},{"$f":"IF(S33=\"\",\"\",IF(COUNTIF('Entry sheet-2-hin'!$AL$9:$AL$68,\"25USA1C\")=0,COUNTIF('Entry sheet-2-hin'!$AL$9:$AL$68,\"25USA1\")*1,COUNTIF('Entry sheet-2-hin'!$AL$9:$AL$68,\"25USA1C\")*1))","v":""},{"$f":"IF(B33=\"\",\"\",IF(AND(COUNTIF('Entry sheet-2-hin'!$AL$9:$AL$68,\"25USA2C\")=0,COUNTIF('Entry sheet-2-hin'!$AL$9:$AL$68,\"25USA2\")=0),\"\",IF(COUNTIF('Entry sheet-2-hin'!$AL$9:$AL$68,\"25USA2C\")=0,COUNTIF('Entry sheet-2-hin'!$AL$9:$AL$68,\"25USA2\"),COUNTIF('Entry sheet-2-hin'!$AL$9:$AL$68,\"25USA2C\")&\"*\")))","v":""},{"$f":"IF(U33=\"\",\"\",IF(COUNTIF('Entry sheet-2-hin'!$AL$9:$AL$68,\"25USA2C\")=0,COUNTIF('Entry sheet-2-hin'!$AL$9:$AL$68,\"25USA2\")*2,COUNTIF('Entry sheet-2-hin'!$AL$9:$AL$68,\"25USA2C\")*2))","v":""},{"$f":"IF(B33=\"\",\"\",IF(AND(COUNTIF('Entry sheet-2-hin'!$AL$9:$AL$68,\"25ULA1C\")=0,COUNTIF('Entry sheet-2-hin'!$AL$9:$AL$68,\"25ULA1\")=0),\"\",IF(COUNTIF('Entry sheet-2-hin'!$AL$9:$AL$68,\"25ULA1C\")=0,COUNTIF('Entry sheet-2-hin'!$AL$9:$AL$68,\"25ULA1\"),COUNTIF('Entry sheet-2-hin'!$AL$9:$AL$68,\"25ULA1C\")&\"*\")))","v":""},{"$f":"IF(W33=\"\",\"\",IF(COUNTIF('Entry sheet-2-hin'!$AL$9:$AL$68,\"25ULA1C\")=0,COUNTIF('Entry sheet-2-hin'!$AL$9:$AL$68,\"25ULA1\")*3,COUNTIF('Entry sheet-2-hin'!$AL$9:$AL$68,\"25ULA1C\")*3))","v":""},{"$f":"IF(B33=\"\",\"\",IF(AND(COUNTIF('Entry sheet-2-hin'!$AL$9:$AL$68,\"1समदीउ४\")=0),\"\",COUNTIF('Entry sheet-2-hin'!$AL$9:$AL$68,\"1समदीउ४\")))","v":""},{"$f":"IF(Y33=\"\",\"\",IF(COUNTIF('Entry sheet-2-hin'!$AL$9:$AL$68,\"25ULA2C\")=0,COUNTIF('Entry sheet-2-hin'!$AL$9:$AL$68,\"25ULA2\")*4,COUNTIF('Entry sheet-2-hin'!$AL$9:$AL$68,\"25ULA2C\")*4))","v":""},{"$f":"IF(B33=\"\",\"\",IF(AND(COUNTIF('Entry sheet-2-hin'!$AL$9:$AL$68,\"1अबवि\")=0),\"\",COUNTIF('Entry sheet-2-hin'!$AL$9:$AL$68,\"1अबवि\")))","v":""},"",{"$f":"IF(B33=\"\",\"\",IF(AND(COUNTIF('Entry sheet-2-hin'!$AL$9:$AL$68,\"25AOTC\")=0,COUNTIF('Entry sheet-2-hin'!$AL$9:$AL$68,\"25AOT\")=0),\"\",IF(COUNTIF('Entry sheet-2-hin'!$AL$9:$AL$68,\"25AOTC\")=0,COUNTIF('Entry sheet-2-hin'!$AL$9:$AL$68,\"25AOT\"),COUNTIF('Entry sheet-2-hin'!$AL$9:$AL$68,\"25AOTC\")&\"*\")))","v":""},{"$f":"IF(AC33=\"\",\"\",IF(COUNTIF('Entry sheet-2-hin'!$AL$9:$AL$68,\"25AOTC\")=0,COUNTIF('Entry sheet-2-hin'!$AL$9:$AL$68,\"25AOT\")*1,COUNTIF('Entry sheet-2-hin'!$AL$9:$AL$68,\"25AOTC\")*1))","v":""},{"$f":"IF(B33=\"\",\"\",IF(AND(COUNTIF('Entry sheet-2-hin'!$AL$9:$AL$68,\"1अअलउ\")=0),\"\",COUNTIF('Entry sheet-2-hin'!$AL$9:$AL$68,\"1अअलउ\")))","v":""},{"$f":"IF(AE33=\"\",\"\",IF(COUNTIF('Entry sheet-2-hin'!$AL$9:$AL$68,\"25ASA1C\")=0,COUNTIF('Entry sheet-2-hin'!$AL$9:$AL$68,\"25ASA1\")*1,COUNTIF('Entry sheet-2-hin'!$AL$9:$AL$68,\"25ASA1C\")*1))","v":""},{"$f":"IF(B33=\"\",\"\",IF(AND(COUNTIF('Entry sheet-2-hin'!$AL$9:$AL$68,\"25ASA2C\")=0,COUNTIF('Entry sheet-2-hin'!$AL$9:$AL$68,\"25ASA2\")=0),\"\",IF(COUNTIF('Entry sheet-2-hin'!$AL$9:$AL$68,\"25ASA2C\")=0,COUNTIF('Entry sheet-2-hin'!$AL$9:$AL$68,\"25ASA2\"),COUNTIF('Entry sheet-2-hin'!$AL$9:$AL$68,\"25ASA2C\")&\"*\")))","v":""},{"$f":"IF(AG33=\"\",\"\",IF(COUNTIF('Entry sheet-2-hin'!$AL$9:$AL$68,\"25ASA2C\")=0,COUNTIF('Entry sheet-2-hin'!$AL$9:$AL$68,\"25ASA2\")*2,COUNTIF('Entry sheet-2-hin'!$AL$9:$AL$68,\"25ASA2C\")*2))","v":""},{"$f":"IF(B33=\"\",\"\",IF(AND(COUNTIF('Entry sheet-2-hin'!$AL$9:$AL$68,\"25ALA1C\")=0,COUNTIF('Entry sheet-2-hin'!$AL$9:$AL$68,\"25ALA1\")=0),\"\",IF(COUNTIF('Entry sheet-2-hin'!$AL$9:$AL$68,\"25ALA1C\")=0,COUNTIF('Entry sheet-2-hin'!$AL$9:$AL$68,\"25ALA1\"),COUNTIF('Entry sheet-2-hin'!$AL$9:$AL$68,\"25ALA1C\")&\"*\")))","v":""},"",{"$f":"IF(B33=\"\",\"\",IF(AND(COUNTIF('Entry sheet-2-hin'!$AL$9:$AL$68,\"25ALA2C\")=0,COUNTIF('Entry sheet-2-hin'!$AL$9:$AL$68,\"25ALA2\")=0),\"\",IF(COUNTIF('Entry sheet-2-hin'!$AL$9:$AL$68,\"25ALA2C\")=0,COUNTIF('Entry sheet-2-hin'!$AL$9:$AL$68,\"25ALA2\"),COUNTIF('Entry sheet-2-hin'!$AL$9:$AL$68,\"25ALA2C\")&\"*\")))","v":""},{"$f":"IF(AK33=\"\",\"\",IF(COUNTIF('Entry sheet-2-hin'!$AL$9:$AL$68,\"25ALA2C\")=0,COUNTIF('Entry sheet-2-hin'!$AL$9:$AL$68,\"25ALA2\")*4,COUNTIF('Entry sheet-2-hin'!$AL$9:$AL$68,\"25ALA2C\")*4))","v":""},{"$f":"IF(B33=\"\",\"\",IF(AND(COUNTIF('Entry sheet-2-hin'!$AL$9:$AL$68,\"1रसबवि\")=0),\"\",COUNTIF('Entry sheet-2-hin'!$AL$9:$AL$68,\"1रसबवि\")))","v":""},"",{"$f":"IF(B33=\"\",\"\",IF(AND(COUNTIF('Entry sheet-2-hin'!$AL$9:$AL$68,\"25SOTC\")=0,COUNTIF('Entry sheet-2-hin'!$AL$9:$AL$68,\"25SOT\")=0),\"\",IF(COUNTIF('Entry sheet-2-hin'!$AL$9:$AL$68,\"25SOTC\")=0,COUNTIF('Entry sheet-2-hin'!$AL$9:$AL$68,\"25SOT\"),COUNTIF('Entry sheet-2-hin'!$AL$9:$AL$68,\"25SOTC\")&\"*\")))","v":""},{"$f":"IF(AO33=\"\",\"\",IF(COUNTIF('Entry sheet-2-hin'!$AL$9:$AL$68,\"25SOTC\")=0,COUNTIF('Entry sheet-2-hin'!$AL$9:$AL$68,\"25SOT\")*1,COUNTIF('Entry sheet-2-hin'!$AL$9:$AL$68,\"25SOTC\")*1))","v":""},{"$f":"IF(B33=\"\",\"\",IF(AND(COUNTIF('Entry sheet-2-hin'!$AL$9:$AL$68,\"1रसअलउ\")=0),\"\",COUNTIF('Entry sheet-2-hin'!$AL$9:$AL$68,\"1रसअलउ\")))","v":""},{"$f":"IF(AQ33=\"\",\"\",IF(COUNTIF('Entry sheet-2-hin'!$AL$9:$AL$68,\"25SSA1C\")=0,COUNTIF('Entry sheet-2-hin'!$AL$9:$AL$68,\"25SSA1\")*1,COUNTIF('Entry sheet-2-hin'!$AL$9:$AL$68,\"25SSA1C\")*1))","v":""},{"$f":"IF(B33=\"\",\"\",IF(AND(COUNTIF('Entry sheet-2-hin'!$AL$9:$AL$68,\"1रसलउ२\")=0),\"\",COUNTIF('Entry sheet-2-hin'!$AL$9:$AL$68,\"1रसलउ२\")))","v":""},"",{"$f":"IF(B33=\"\",\"\",IF(AND(COUNTIF('Entry sheet-2-hin'!$AL$9:$AL$68,\"25SLA1C\")=0,COUNTIF('Entry sheet-2-hin'!$AL$9:$AL$68,\"25SLA1\")=0),\"\",IF(COUNTIF('Entry sheet-2-hin'!$AL$9:$AL$68,\"25SLA1C\")=0,COUNTIF('Entry sheet-2-hin'!$AL$9:$AL$68,\"25SLA1\"),COUNTIF('Entry sheet-2-hin'!$AL$9:$AL$68,\"25SLA1C\")&\"*\")))","v":""},"",{"$f":"IF(B33=\"\",\"\",IF(AND(COUNTIF('Entry sheet-2-hin'!$AL$9:$AL$68,\"25SLA2C\")=0,COUNTIF('Entry sheet-2-hin'!$AL$9:$AL$68,\"25SLA2\")=0),\"\",IF(COUNTIF('Entry sheet-2-hin'!$AL$9:$AL$68,\"25SLA2C\")=0,COUNTIF('Entry sheet-2-hin'!$AL$9:$AL$68,\"25SLA2\"),COUNTIF('Entry sheet-2-hin'!$AL$9:$AL$68,\"25SLA2C\")&\"*\")))","v":""},"","","","","","","","","","","","","","",""]
[{"$f":"IF('Entry sheet-1-hin'!A35=\"\",\"\",'Entry sheet-1-hin'!A35)","v":""},{"$f":"IF('Entry sheet-1-hin'!B35=\"\",\"\",'Entry sheet-1-hin'!B35)","v":""},{"$f":"IF(B34=\"\",\"\",IF(AND(COUNTIF('Entry sheet-2-hin'!$AL$9:$AL$68,\"26KMCC\")=0,COUNTIF('Entry sheet-2-hin'!$AL$9:$AL$68,\"26KMC\")=0),\"\",IF(COUNTIF('Entry sheet-2-hin'!$AL$9:$AL$68,\"26KMCC\")=0,COUNTIF('Entry sheet-2-hin'!$AL$9:$AL$68,\"26KMC\"),COUNTIF('Entry sheet-2-hin'!$AL$9:$AL$68,\"26KMCC\")&\"*\")))","v":""},{"$f":"IF(C34=\"\",\"\",IF(COUNTIF('Entry sheet-2-hin'!$AL$9:$AL$68,\"26KMCC\")=0,COUNTIF('Entry sheet-2-hin'!$AL$9:$AL$68,\"26KMC\")*1,COUNTIF('Entry sheet-2-hin'!$AL$9:$AL$68,\"26KMCC\")*1))","v":""},{"$f":"IF(B34=\"\",\"\",IF(AND(COUNTIF('Entry sheet-2-hin'!$AL$9:$AL$68,\"26KOTC\")=0,COUNTIF('Entry sheet-2-hin'!$AL$9:$AL$68,\"26KOT\")=0),\"\",IF(COUNTIF('Entry sheet-2-hin'!$AL$9:$AL$68,\"26KOTC\")=0,COUNTIF('Entry sheet-2-hin'!$AL$9:$AL$68,\"26KOT\"),COUNTIF('Entry sheet-2-hin'!$AL$9:$AL$68,\"26KOTC\")&\"*\")))","v":""},{"$f":"IF(E34=\"\",\"\",IF(COUNTIF('Entry sheet-2-hin'!$AL$9:$AL$68,\"26KOTC\")=0,COUNTIF('Entry sheet-2-hin'!$AL$9:$AL$68,\"26KOT\")*1,COUNTIF('Entry sheet-2-hin'!$AL$9:$AL$68,\"26KOTC\")*1))","v":""},{"$f":"IF(B34=\"\",\"\",IF(AND(COUNTIF('Entry sheet-2-hin'!$AL$9:$AL$68,\"26KSA1C\")=0,COUNTIF('Entry sheet-2-hin'!$AL$9:$AL$68,\"26KSA1\")=0),\"\",IF(COUNTIF('Entry sheet-2-hin'!$AL$9:$AL$68,\"26KSA1C\")=0,COUNTIF('Entry sheet-2-hin'!$AL$9:$AL$68,\"26KSA1\"),COUNTIF('Entry sheet-2-hin'!$AL$9:$AL$68,\"26KSA1C\")&\"*\")))","v":""},{"$f":"IF(G34=\"\",\"\",IF(COUNTIF('Entry sheet-2-hin'!$AL$9:$AL$68,\"26KSA1C\")=0,COUNTIF('Entry sheet-2-hin'!$AL$9:$AL$68,\"26KSA1\")*1,COUNTIF('Entry sheet-2-hin'!$AL$9:$AL$68,\"26KSA1C\")*1))","v":""},{"$f":"IF(B34=\"\",\"\",IF(AND(COUNTIF('Entry sheet-2-hin'!$AL$9:$AL$68,\"26KSA2C\")=0,COUNTIF('Entry sheet-2-hin'!$AL$9:$AL$68,\"26KSA2\")=0),\"\",IF(COUNTIF('Entry sheet-2-hin'!$AL$9:$AL$68,\"26KSA2C\")=0,COUNTIF('Entry sheet-2-hin'!$AL$9:$AL$68,\"26KSA2\"),COUNTIF('Entry sheet-2-hin'!$AL$9:$AL$68,\"26KSA2C\")&\"*\")))","v":""},{"$f":"IF(I34=\"\",\"\",IF(COUNTIF('Entry sheet-2-hin'!$AL$9:$AL$68,\"26KSA2C\")=0,COUNTIF('Entry sheet-2-hin'!$AL$9:$AL$68,\"26KSA2\")*2,COUNTIF('Entry sheet-2-hin'!$AL$9:$AL$68,\"26KSA2C\")*2))","v":""},{"$f":"IF(B34=\"\",\"\",IF(AND(COUNTIF('Entry sheet-2-hin'!$AL$9:$AL$68,\"26KLA1C\")=0,COUNTIF('Entry sheet-2-hin'!$AL$9:$AL$68,\"26KLA1\")=0),\"\",IF(COUNTIF('Entry sheet-2-hin'!$AL$9:$AL$68,\"26KLA1C\")=0,COUNTIF('Entry sheet-2-hin'!$AL$9:$AL$68,\"26KLA1\"),COUNTIF('Entry sheet-2-hin'!$AL$9:$AL$68,\"26KLA1C\")&\"*\")))","v":""},{"$f":"IF(K34=\"\",\"\",IF(COUNTIF('Entry sheet-2-hin'!$AL$9:$AL$68,\"26KLA1C\")=0,COUNTIF('Entry sheet-2-hin'!$AL$9:$AL$68,\"26KLA1\")*3,COUNTIF('Entry sheet-2-hin'!$AL$9:$AL$68,\"26KLA1C\")*3))","v":""},{"$f":"IF(B34=\"\",\"\",IF(AND(COUNTIF('Entry sheet-2-hin'!$AL$9:$AL$68,\"1स्मदीउ४\")=0),\"\",COUNTIF('Entry sheet-2-hin'!$AL$9:$AL$68,\"1स्मदीउ४\")))","v":""},"",{"$f":"IF(B34=\"\",\"\",IF(AND(COUNTIF('Entry sheet-2-hin'!$AL$9:$AL$68,\"26UMCC\")=0,COUNTIF('Entry sheet-2-hin'!$AL$9:$AL$68,\"26UMC\")=0),\"\",IF(COUNTIF('Entry sheet-2-hin'!$AL$9:$AL$68,\"26UMCC\")=0,COUNTIF('Entry sheet-2-hin'!$AL$9:$AL$68,\"26UMC\"),COUNTIF('Entry sheet-2-hin'!$AL$9:$AL$68,\"26UMCC\")&\"*\")))","v":""},{"$f":"IF(O34=\"\",\"\",IF(COUNTIF('Entry sheet-2-hin'!$AL$9:$AL$68,\"26UMCC\")=0,COUNTIF('Entry sheet-2-hin'!$AL$9:$AL$68,\"26UMC\")*1,COUNTIF('Entry sheet-2-hin'!$AL$9:$AL$68,\"26UMCC\")*1))","v":""},{"$f":"IF(B34=\"\",\"\",IF(AND(COUNTIF('Entry sheet-2-hin'!$AL$9:$AL$68,\"1समवनि\")=0),\"\",COUNTIF('Entry sheet-2-hin'!$AL$9:$AL$68,\"1समवनि\")))","v":""},{"$f":"IF(Q34=\"\",\"\",IF(COUNTIF('Entry sheet-2-hin'!$AL$9:$AL$68,\"26UOTC\")=0,COUNTIF('Entry sheet-2-hin'!$AL$9:$AL$68,\"26UOT\")*1,COUNTIF('Entry sheet-2-hin'!$AL$9:$AL$68,\"26UOTC\")*1))","v":""},{"$f":"IF(B34=\"\",\"\",IF(AND(COUNTIF('Entry sheet-2-hin'!$AL$9:$AL$68,\"1समअलउ\")=0),\"\",COUNTIF('Entry sheet-2-hin'!$AL$9:$AL$68,\"1समअलउ\")))","v":""},{"$f":"IF(S34=\"\",\"\",IF(COUNTIF('Entry sheet-2-hin'!$AL$9:$AL$68,\"26USA1C\")=0,COUNTIF('Entry sheet-2-hin'!$AL$9:$AL$68,\"26USA1\")*1,COUNTIF('Entry sheet-2-hin'!$AL$9:$AL$68,\"26USA1C\")*1))","v":""},{"$f":"IF(B34=\"\",\"\",IF(AND(COUNTIF('Entry sheet-2-hin'!$AL$9:$AL$68,\"26USA2C\")=0,COUNTIF('Entry sheet-2-hin'!$AL$9:$AL$68,\"26USA2\")=0),\"\",IF(COUNTIF('Entry sheet-2-hin'!$AL$9:$AL$68,\"26USA2C\")=0,COUNTIF('Entry sheet-2-hin'!$AL$9:$AL$68,\"26USA2\"),COUNTIF('Entry sheet-2-hin'!$AL$9:$AL$68,\"26USA2C\")&\"*\")))","v":""},{"$f":"IF(U34=\"\",\"\",IF(COUNTIF('Entry sheet-2-hin'!$AL$9:$AL$68,\"26USA2C\")=0,COUNTIF('Entry sheet-2-hin'!$AL$9:$AL$68,\"26USA2\")*2,COUNTIF('Entry sheet-2-hin'!$AL$9:$AL$68,\"26USA2C\")*2))","v":""},{"$f":"IF(B34=\"\",\"\",IF(AND(COUNTIF('Entry sheet-2-hin'!$AL$9:$AL$68,\"26ULA1C\")=0,COUNTIF('Entry sheet-2-hin'!$AL$9:$AL$68,\"26ULA1\")=0),\"\",IF(COUNTIF('Entry sheet-2-hin'!$AL$9:$AL$68,\"26ULA1C\")=0,COUNTIF('Entry sheet-2-hin'!$AL$9:$AL$68,\"26ULA1\"),COUNTIF('Entry sheet-2-hin'!$AL$9:$AL$68,\"26ULA1C\")&\"*\")))","v":""},{"$f":"IF(W34=\"\",\"\",IF(COUNTIF('Entry sheet-2-hin'!$AL$9:$AL$68,\"26ULA1C\")=0,COUNTIF('Entry sheet-2-hin'!$AL$9:$AL$68,\"26ULA1\")*3,COUNTIF('Entry sheet-2-hin'!$AL$9:$AL$68,\"26ULA1C\")*3))","v":""},{"$f":"IF(B34=\"\",\"\",IF(AND(COUNTIF('Entry sheet-2-hin'!$AL$9:$AL$68,\"1समदीउ४\")=0),\"\",COUNTIF('Entry sheet-2-hin'!$AL$9:$AL$68,\"1समदीउ४\")))","v":""},{"$f":"IF(Y34=\"\",\"\",IF(COUNTIF('Entry sheet-2-hin'!$AL$9:$AL$68,\"26ULA2C\")=0,COUNTIF('Entry sheet-2-hin'!$AL$9:$AL$68,\"26ULA2\")*4,COUNTIF('Entry sheet-2-hin'!$AL$9:$AL$68,\"26ULA2C\")*4))","v":""},{"$f":"IF(B34=\"\",\"\",IF(AND(COUNTIF('Entry sheet-2-hin'!$AL$9:$AL$68,\"1अबवि\")=0),\"\",COUNTIF('Entry sheet-2-hin'!$AL$9:$AL$68,\"1अबवि\")))","v":""},"",{"$f":"IF(B34=\"\",\"\",IF(AND(COUNTIF('Entry sheet-2-hin'!$AL$9:$AL$68,\"26AOTC\")=0,COUNTIF('Entry sheet-2-hin'!$AL$9:$AL$68,\"26AOT\")=0),\"\",IF(COUNTIF('Entry sheet-2-hin'!$AL$9:$AL$68,\"26AOTC\")=0,COUNTIF('Entry sheet-2-hin'!$AL$9:$AL$68,\"26AOT\"),COUNTIF('Entry sheet-2-hin'!$AL$9:$AL$68,\"26AOTC\")&\"*\")))","v":""},{"$f":"IF(AC34=\"\",\"\",IF(COUNTIF('Entry sheet-2-hin'!$AL$9:$AL$68,\"26AOTC\")=0,COUNTIF('Entry sheet-2-hin'!$AL$9:$AL$68,\"26AOT\")*1,COUNTIF('Entry sheet-2-hin'!$AL$9:$AL$68,\"26AOTC\")*1))","v":""},{"$f":"IF(B34=\"\",\"\",IF(AND(COUNTIF('Entry sheet-2-hin'!$AL$9:$AL$68,\"1अअलउ\")=0),\"\",COUNTIF('Entry sheet-2-hin'!$AL$9:$AL$68,\"1अअलउ\")))","v":""},{"$f":"IF(AE34=\"\",\"\",IF(COUNTIF('Entry sheet-2-hin'!$AL$9:$AL$68,\"26ASA1C\")=0,COUNTIF('Entry sheet-2-hin'!$AL$9:$AL$68,\"26ASA1\")*1,COUNTIF('Entry sheet-2-hin'!$AL$9:$AL$68,\"26ASA1C\")*1))","v":""},{"$f":"IF(B34=\"\",\"\",IF(AND(COUNTIF('Entry sheet-2-hin'!$AL$9:$AL$68,\"26ASA2C\")=0,COUNTIF('Entry sheet-2-hin'!$AL$9:$AL$68,\"26ASA2\")=0),\"\",IF(COUNTIF('Entry sheet-2-hin'!$AL$9:$AL$68,\"26ASA2C\")=0,COUNTIF('Entry sheet-2-hin'!$AL$9:$AL$68,\"26ASA2\"),COUNTIF('Entry sheet-2-hin'!$AL$9:$AL$68,\"26ASA2C\")&\"*\")))","v":""},{"$f":"IF(AG34=\"\",\"\",IF(COUNTIF('Entry sheet-2-hin'!$AL$9:$AL$68,\"26ASA2C\")=0,COUNTIF('Entry sheet-2-hin'!$AL$9:$AL$68,\"26ASA2\")*2,COUNTIF('Entry sheet-2-hin'!$AL$9:$AL$68,\"26ASA2C\")*2))","v":""},{"$f":"IF(B34=\"\",\"\",IF(AND(COUNTIF('Entry sheet-2-hin'!$AL$9:$AL$68,\"26ALA1C\")=0,COUNTIF('Entry sheet-2-hin'!$AL$9:$AL$68,\"26ALA1\")=0),\"\",IF(COUNTIF('Entry sheet-2-hin'!$AL$9:$AL$68,\"26ALA1C\")=0,COUNTIF('Entry sheet-2-hin'!$AL$9:$AL$68,\"26ALA1\"),COUNTIF('Entry sheet-2-hin'!$AL$9:$AL$68,\"26ALA1C\")&\"*\")))","v":""},"",{"$f":"IF(B34=\"\",\"\",IF(AND(COUNTIF('Entry sheet-2-hin'!$AL$9:$AL$68,\"26ALA2C\")=0,COUNTIF('Entry sheet-2-hin'!$AL$9:$AL$68,\"26ALA2\")=0),\"\",IF(COUNTIF('Entry sheet-2-hin'!$AL$9:$AL$68,\"26ALA2C\")=0,COUNTIF('Entry sheet-2-hin'!$AL$9:$AL$68,\"26ALA2\"),COUNTIF('Entry sheet-2-hin'!$AL$9:$AL$68,\"26ALA2C\")&\"*\")))","v":""},{"$f":"IF(AK34=\"\",\"\",IF(COUNTIF('Entry sheet-2-hin'!$AL$9:$AL$68,\"26ALA2C\")=0,COUNTIF('Entry sheet-2-hin'!$AL$9:$AL$68,\"26ALA2\")*4,COUNTIF('Entry sheet-2-hin'!$AL$9:$AL$68,\"26ALA2C\")*4))","v":""},{"$f":"IF(B34=\"\",\"\",IF(AND(COUNTIF('Entry sheet-2-hin'!$AL$9:$AL$68,\"1रसबवि\")=0),\"\",COUNTIF('Entry sheet-2-hin'!$AL$9:$AL$68,\"1रसबवि\")))","v":""},"",{"$f":"IF(B34=\"\",\"\",IF(AND(COUNTIF('Entry sheet-2-hin'!$AL$9:$AL$68,\"26SOTC\")=0,COUNTIF('Entry sheet-2-hin'!$AL$9:$AL$68,\"26SOT\")=0),\"\",IF(COUNTIF('Entry sheet-2-hin'!$AL$9:$AL$68,\"26SOTC\")=0,COUNTIF('Entry sheet-2-hin'!$AL$9:$AL$68,\"26SOT\"),COUNTIF('Entry sheet-2-hin'!$AL$9:$AL$68,\"26SOTC\")&\"*\")))","v":""},{"$f":"IF(AO34=\"\",\"\",IF(COUNTIF('Entry sheet-2-hin'!$AL$9:$AL$68,\"26SOTC\")=0,COUNTIF('Entry sheet-2-hin'!$AL$9:$AL$68,\"26SOT\")*1,COUNTIF('Entry sheet-2-hin'!$AL$9:$AL$68,\"26SOTC\")*1))","v":""},{"$f":"IF(B34=\"\",\"\",IF(AND(COUNTIF('Entry sheet-2-hin'!$AL$9:$AL$68,\"1रसअलउ\")=0),\"\",COUNTIF('Entry sheet-2-hin'!$AL$9:$AL$68,\"1रसअलउ\")))","v":""},{"$f":"IF(AQ34=\"\",\"\",IF(COUNTIF('Entry sheet-2-hin'!$AL$9:$AL$68,\"26SSA1C\")=0,COUNTIF('Entry sheet-2-hin'!$AL$9:$AL$68,\"26SSA1\")*1,COUNTIF('Entry sheet-2-hin'!$AL$9:$AL$68,\"26SSA1C\")*1))","v":""},{"$f":"IF(B34=\"\",\"\",IF(AND(COUNTIF('Entry sheet-2-hin'!$AL$9:$AL$68,\"1रसलउ२\")=0),\"\",COUNTIF('Entry sheet-2-hin'!$AL$9:$AL$68,\"1रसलउ२\")))","v":""},"",{"$f":"IF(B34=\"\",\"\",IF(AND(COUNTIF('Entry sheet-2-hin'!$AL$9:$AL$68,\"26SLA1C\")=0,COUNTIF('Entry sheet-2-hin'!$AL$9:$AL$68,\"26SLA1\")=0),\"\",IF(COUNTIF('Entry sheet-2-hin'!$AL$9:$AL$68,\"26SLA1C\")=0,COUNTIF('Entry sheet-2-hin'!$AL$9:$AL$68,\"26SLA1\"),COUNTIF('Entry sheet-2-hin'!$AL$9:$AL$68,\"26SLA1C\")&\"*\")))","v":""},"",{"$f":"IF(B34=\"\",\"\",IF(AND(COUNTIF('Entry sheet-2-hin'!$AL$9:$AL$68,\"26SLA2C\")=0,COUNTIF('Entry sheet-2-hin'!$AL$9:$AL$68,\"26SLA2\")=0),\"\",IF(COUNTIF('Entry sheet-2-hin'!$AL$9:$AL$68,\"26SLA2C\")=0,COUNTIF('Entry sheet-2-hin'!$AL$9:$AL$68,\"26SLA2\"),COUNTIF('Entry sheet-2-hin'!$AL$9:$AL$68,\"26SLA2C\")&\"*\")))","v":""},"","","","","","","","","","","","","","",""]
[{"$f":"IF('Entry sheet-1-hin'!A36=\"\",\"\",'Entry sheet-1-hin'!A36)","v":""},{"$f":"IF('Entry sheet-1-hin'!B36=\"\",\"\",'Entry sheet-1-hin'!B36)","v":""},{"$f":"IF(B35=\"\",\"\",IF(AND(COUNTIF('Entry sheet-2-hin'!$AL$9:$AL$68,\"27KMCC\")=0,COUNTIF('Entry sheet-2-hin'!$AL$9:$AL$68,\"27KMC\")=0),\"\",IF(COUNTIF('Entry sheet-2-hin'!$AL$9:$AL$68,\"27KMCC\")=0,COUNTIF('Entry sheet-2-hin'!$AL$9:$AL$68,\"27KMC\"),COUNTIF('Entry sheet-2-hin'!$AL$9:$AL$68,\"27KMCC\")&\"*\")))","v":""},{"$f":"IF(C35=\"\",\"\",IF(COUNTIF('Entry sheet-2-hin'!$AL$9:$AL$68,\"27KMCC\")=0,COUNTIF('Entry sheet-2-hin'!$AL$9:$AL$68,\"27KMC\")*1,COUNTIF('Entry sheet-2-hin'!$AL$9:$AL$68,\"27KMCC\")*1))","v":""},{"$f":"IF(B35=\"\",\"\",IF(AND(COUNTIF('Entry sheet-2-hin'!$AL$9:$AL$68,\"27KOTC\")=0,COUNTIF('Entry sheet-2-hin'!$AL$9:$AL$68,\"27KOT\")=0),\"\",IF(COUNTIF('Entry sheet-2-hin'!$AL$9:$AL$68,\"27KOTC\")=0,COUNTIF('Entry sheet-2-hin'!$AL$9:$AL$68,\"27KOT\"),COUNTIF('Entry sheet-2-hin'!$AL$9:$AL$68,\"27KOTC\")&\"*\")))","v":""},{"$f":"IF(E35=\"\",\"\",IF(COUNTIF('Entry sheet-2-hin'!$AL$9:$AL$68,\"27KOTC\")=0,COUNTIF('Entry sheet-2-hin'!$AL$9:$AL$68,\"27KOT\")*1,COUNTIF('Entry sheet-2-hin'!$AL$9:$AL$68,\"27KOTC\")*1))","v":""},{"$f":"IF(B35=\"\",\"\",IF(AND(COUNTIF('Entry sheet-2-hin'!$AL$9:$AL$68,\"27KSA1C\")=0,COUNTIF('Entry sheet-2-hin'!$AL$9:$AL$68,\"27KSA1\")=0),\"\",IF(COUNTIF('Entry sheet-2-hin'!$AL$9:$AL$68,\"27KSA1C\")=0,COUNTIF('Entry sheet-2-hin'!$AL$9:$AL$68,\"27KSA1\"),COUNTIF('Entry sheet-2-hin'!$AL$9:$AL$68,\"27KSA1C\")&\"*\")))","v":""},{"$f":"IF(G35=\"\",\"\",IF(COUNTIF('Entry sheet-2-hin'!$AL$9:$AL$68,\"27KSA1C\")=0,COUNTIF('Entry sheet-2-hin'!$AL$9:$AL$68,\"27KSA1\")*1,COUNTIF('Entry sheet-2-hin'!$AL$9:$AL$68,\"27KSA1C\")*1))","v":""},{"$f":"IF(B35=\"\",\"\",IF(AND(COUNTIF('Entry sheet-2-hin'!$AL$9:$AL$68,\"27KSA2C\")=0,COUNTIF('Entry sheet-2-hin'!$AL$9:$AL$68,\"27KSA2\")=0),\"\",IF(COUNTIF('Entry sheet-2-hin'!$AL$9:$AL$68,\"27KSA2C\")=0,COUNTIF('Entry sheet-2-hin'!$AL$9:$AL$68,\"27KSA2\"),COUNTIF('Entry sheet-2-hin'!$AL$9:$AL$68,\"27KSA2C\")&\"*\")))","v":""},{"$f":"IF(I35=\"\",\"\",IF(COUNTIF('Entry sheet-2-hin'!$AL$9:$AL$68,\"27KSA2C\")=0,COUNTIF('Entry sheet-2-hin'!$AL$9:$AL$68,\"27KSA2\")*2,COUNTIF('Entry sheet-2-hin'!$AL$9:$AL$68,\"27KSA2C\")*2))","v":""},{"$f":"IF(B35=\"\",\"\",IF(AND(COUNTIF('Entry sheet-2-hin'!$AL$9:$AL$68,\"27KLA1C\")=0,COUNTIF('Entry sheet-2-hin'!$AL$9:$AL$68,\"27KLA1\")=0),\"\",IF(COUNTIF('Entry sheet-2-hin'!$AL$9:$AL$68,\"27KLA1C\")=0,COUNTIF('Entry sheet-2-hin'!$AL$9:$AL$68,\"27KLA1\"),COUNTIF('Entry sheet-2-hin'!$AL$9:$AL$68,\"27KLA1C\")&\"*\")))","v":""},{"$f":"IF(K35=\"\",\"\",IF(COUNTIF('Entry sheet-2-hin'!$AL$9:$AL$68,\"27KLA1C\")=0,COUNTIF('Entry sheet-2-hin'!$AL$9:$AL$68,\"27KLA1\")*3,COUNTIF('Entry sheet-2-hin'!$AL$9:$AL$68,\"27KLA1C\")*3))","v":""},{"$f":"IF(B35=\"\",\"\",IF(AND(COUNTIF('Entry sheet-2-hin'!$AL$9:$AL$68,\"1स्मदीउ४\")=0),\"\",COUNTIF('Entry sheet-2-hin'!$AL$9:$AL$68,\"1स्मदीउ४\")))","v":""},"",{"$f":"IF(B35=\"\",\"\",IF(AND(COUNTIF('Entry sheet-2-hin'!$AL$9:$AL$68,\"27UMCC\")=0,COUNTIF('Entry sheet-2-hin'!$AL$9:$AL$68,\"27UMC\")=0),\"\",IF(COUNTIF('Entry sheet-2-hin'!$AL$9:$AL$68,\"27UMCC\")=0,COUNTIF('Entry sheet-2-hin'!$AL$9:$AL$68,\"27UMC\"),COUNTIF('Entry sheet-2-hin'!$AL$9:$AL$68,\"27UMCC\")&\"*\")))","v":""},{"$f":"IF(O35=\"\",\"\",IF(COUNTIF('Entry sheet-2-hin'!$AL$9:$AL$68,\"27UMCC\")=0,COUNTIF('Entry sheet-2-hin'!$AL$9:$AL$68,\"27UMC\")*1,COUNTIF('Entry sheet-2-hin'!$AL$9:$AL$68,\"27UMCC\")*1))","v":""},{"$f":"IF(B35=\"\",\"\",IF(AND(COUNTIF('Entry sheet-2-hin'!$AL$9:$AL$68,\"1समवनि\")=0),\"\",COUNTIF('Entry sheet-2-hin'!$AL$9:$AL$68,\"1समवनि\")))","v":""},{"$f":"IF(Q35=\"\",\"\",IF(COUNTIF('Entry sheet-2-hin'!$AL$9:$AL$68,\"27UOTC\")=0,COUNTIF('Entry sheet-2-hin'!$AL$9:$AL$68,\"27UOT\")*1,COUNTIF('Entry sheet-2-hin'!$AL$9:$AL$68,\"27UOTC\")*1))","v":""},{"$f":"IF(B35=\"\",\"\",IF(AND(COUNTIF('Entry sheet-2-hin'!$AL$9:$AL$68,\"1समअलउ\")=0),\"\",COUNTIF('Entry sheet-2-hin'!$AL$9:$AL$68,\"1समअलउ\")))","v":""},{"$f":"IF(S35=\"\",\"\",IF(COUNTIF('Entry sheet-2-hin'!$AL$9:$AL$68,\"27USA1C\")=0,COUNTIF('Entry sheet-2-hin'!$AL$9:$AL$68,\"27USA1\")*1,COUNTIF('Entry sheet-2-hin'!$AL$9:$AL$68,\"27USA1C\")*1))","v":""},{"$f":"IF(B35=\"\",\"\",IF(AND(COUNTIF('Entry sheet-2-hin'!$AL$9:$AL$68,\"27USA2C\")=0,COUNTIF('Entry sheet-2-hin'!$AL$9:$AL$68,\"27USA2\")=0),\"\",IF(COUNTIF('Entry sheet-2-hin'!$AL$9:$AL$68,\"27USA2C\")=0,COUNTIF('Entry sheet-2-hin'!$AL$9:$AL$68,\"27USA2\"),COUNTIF('Entry sheet-2-hin'!$AL$9:$AL$68,\"27USA2C\")&\"*\")))","v":""},{"$f":"IF(U35=\"\",\"\",IF(COUNTIF('Entry sheet-2-hin'!$AL$9:$AL$68,\"27USA2C\")=0,COUNTIF('Entry sheet-2-hin'!$AL$9:$AL$68,\"27USA2\")*2,COUNTIF('Entry sheet-2-hin'!$AL$9:$AL$68,\"27USA2C\")*2))","v":""},{"$f":"IF(B35=\"\",\"\",IF(AND(COUNTIF('Entry sheet-2-hin'!$AL$9:$AL$68,\"27ULA1C\")=0,COUNTIF('Entry sheet-2-hin'!$AL$9:$AL$68,\"27ULA1\")=0),\"\",IF(COUNTIF('Entry sheet-2-hin'!$AL$9:$AL$68,\"27ULA1C\")=0,COUNTIF('Entry sheet-2-hin'!$AL$9:$AL$68,\"27ULA1\"),COUNTIF('Entry sheet-2-hin'!$AL$9:$AL$68,\"27ULA1C\")&\"*\")))","v":""},{"$f":"IF(W35=\"\",\"\",IF(COUNTIF('Entry sheet-2-hin'!$AL$9:$AL$68,\"27ULA1C\")=0,COUNTIF('Entry sheet-2-hin'!$AL$9:$AL$68,\"27ULA1\")*3,COUNTIF('Entry sheet-2-hin'!$AL$9:$AL$68,\"27ULA1C\")*3))","v":""},{"$f":"IF(B35=\"\",\"\",IF(AND(COUNTIF('Entry sheet-2-hin'!$AL$9:$AL$68,\"1समदीउ४\")=0),\"\",COUNTIF('Entry sheet-2-hin'!$AL$9:$AL$68,\"1समदीउ४\")))","v":""},{"$f":"IF(Y35=\"\",\"\",IF(COUNTIF('Entry sheet-2-hin'!$AL$9:$AL$68,\"27ULA2C\")=0,COUNTIF('Entry sheet-2-hin'!$AL$9:$AL$68,\"27ULA2\")*4,COUNTIF('Entry sheet-2-hin'!$AL$9:$AL$68,\"27ULA2C\")*4))","v":""},{"$f":"IF(B35=\"\",\"\",IF(AND(COUNTIF('Entry sheet-2-hin'!$AL$9:$AL$68,\"1अबवि\")=0),\"\",COUNTIF('Entry sheet-2-hin'!$AL$9:$AL$68,\"1अबवि\")))","v":""},"",{"$f":"IF(B35=\"\",\"\",IF(AND(COUNTIF('Entry sheet-2-hin'!$AL$9:$AL$68,\"27AOTC\")=0,COUNTIF('Entry sheet-2-hin'!$AL$9:$AL$68,\"27AOT\")=0),\"\",IF(COUNTIF('Entry sheet-2-hin'!$AL$9:$AL$68,\"27AOTC\")=0,COUNTIF('Entry sheet-2-hin'!$AL$9:$AL$68,\"27AOT\"),COUNTIF('Entry sheet-2-hin'!$AL$9:$AL$68,\"27AOTC\")&\"*\")))","v":""},{"$f":"IF(AC35=\"\",\"\",IF(COUNTIF('Entry sheet-2-hin'!$AL$9:$AL$68,\"27AOTC\")=0,COUNTIF('Entry sheet-2-hin'!$AL$9:$AL$68,\"27AOT\")*1,COUNTIF('Entry sheet-2-hin'!$AL$9:$AL$68,\"27AOTC\")*1))","v":""},{"$f":"IF(B35=\"\",\"\",IF(AND(COUNTIF('Entry sheet-2-hin'!$AL$9:$AL$68,\"1अअलउ\")=0),\"\",COUNTIF('Entry sheet-2-hin'!$AL$9:$AL$68,\"1अअलउ\")))","v":""},{"$f":"IF(AE35=\"\",\"\",IF(COUNTIF('Entry sheet-2-hin'!$AL$9:$AL$68,\"27ASA1C\")=0,COUNTIF('Entry sheet-2-hin'!$AL$9:$AL$68,\"27ASA1\")*1,COUNTIF('Entry sheet-2-hin'!$AL$9:$AL$68,\"27ASA1C\")*1))","v":""},{"$f":"IF(B35=\"\",\"\",IF(AND(COUNTIF('Entry sheet-2-hin'!$AL$9:$AL$68,\"27ASA2C\")=0,COUNTIF('Entry sheet-2-hin'!$AL$9:$AL$68,\"27ASA2\")=0),\"\",IF(COUNTIF('Entry sheet-2-hin'!$AL$9:$AL$68,\"27ASA2C\")=0,COUNTIF('Entry sheet-2-hin'!$AL$9:$AL$68,\"27ASA2\"),COUNTIF('Entry sheet-2-hin'!$AL$9:$AL$68,\"27ASA2C\")&\"*\")))","v":""},{"$f":"IF(AG35=\"\",\"\",IF(COUNTIF('Entry sheet-2-hin'!$AL$9:$AL$68,\"27ASA2C\")=0,COUNTIF('Entry sheet-2-hin'!$AL$9:$AL$68,\"27ASA2\")*2,COUNTIF('Entry sheet-2-hin'!$AL$9:$AL$68,\"27ASA2C\")*2))","v":""},{"$f":"IF(B35=\"\",\"\",IF(AND(COUNTIF('Entry sheet-2-hin'!$AL$9:$AL$68,\"27ALA1C\")=0,COUNTIF('Entry sheet-2-hin'!$AL$9:$AL$68,\"27ALA1\")=0),\"\",IF(COUNTIF('Entry sheet-2-hin'!$AL$9:$AL$68,\"27ALA1C\")=0,COUNTIF('Entry sheet-2-hin'!$AL$9:$AL$68,\"27ALA1\"),COUNTIF('Entry sheet-2-hin'!$AL$9:$AL$68,\"27ALA1C\")&\"*\")))","v":""},"",{"$f":"IF(B35=\"\",\"\",IF(AND(COUNTIF('Entry sheet-2-hin'!$AL$9:$AL$68,\"27ALA2C\")=0,COUNTIF('Entry sheet-2-hin'!$AL$9:$AL$68,\"27ALA2\")=0),\"\",IF(COUNTIF('Entry sheet-2-hin'!$AL$9:$AL$68,\"27ALA2C\")=0,COUNTIF('Entry sheet-2-hin'!$AL$9:$AL$68,\"27ALA2\"),COUNTIF('Entry sheet-2-hin'!$AL$9:$AL$68,\"27ALA2C\")&\"*\")))","v":""},{"$f":"IF(AK35=\"\",\"\",IF(COUNTIF('Entry sheet-2-hin'!$AL$9:$AL$68,\"27ALA2C\")=0,COUNTIF('Entry sheet-2-hin'!$AL$9:$AL$68,\"27ALA2\")*4,COUNTIF('Entry sheet-2-hin'!$AL$9:$AL$68,\"27ALA2C\")*4))","v":""},{"$f":"IF(B35=\"\",\"\",IF(AND(COUNTIF('Entry sheet-2-hin'!$AL$9:$AL$68,\"1रसबवि\")=0),\"\",COUNTIF('Entry sheet-2-hin'!$AL$9:$AL$68,\"1रसबवि\")))","v":""},"",{"$f":"IF(B35=\"\",\"\",IF(AND(COUNTIF('Entry sheet-2-hin'!$AL$9:$AL$68,\"27SOTC\")=0,COUNTIF('Entry sheet-2-hin'!$AL$9:$AL$68,\"27SOT\")=0),\"\",IF(COUNTIF('Entry sheet-2-hin'!$AL$9:$AL$68,\"27SOTC\")=0,COUNTIF('Entry sheet-2-hin'!$AL$9:$AL$68,\"27SOT\"),COUNTIF('Entry sheet-2-hin'!$AL$9:$AL$68,\"27SOTC\")&\"*\")))","v":""},{"$f":"IF(AO35=\"\",\"\",IF(COUNTIF('Entry sheet-2-hin'!$AL$9:$AL$68,\"27SOTC\")=0,COUNTIF('Entry sheet-2-hin'!$AL$9:$AL$68,\"27SOT\")*1,COUNTIF('Entry sheet-2-hin'!$AL$9:$AL$68,\"27SOTC\")*1))","v":""},{"$f":"IF(B35=\"\",\"\",IF(AND(COUNTIF('Entry sheet-2-hin'!$AL$9:$AL$68,\"1रसअलउ\")=0),\"\",COUNTIF('Entry sheet-2-hin'!$AL$9:$AL$68,\"1रसअलउ\")))","v":""},{"$f":"IF(AQ35=\"\",\"\",IF(COUNTIF('Entry sheet-2-hin'!$AL$9:$AL$68,\"27SSA1C\")=0,COUNTIF('Entry sheet-2-hin'!$AL$9:$AL$68,\"27SSA1\")*1,COUNTIF('Entry sheet-2-hin'!$AL$9:$AL$68,\"27SSA1C\")*1))","v":""},{"$f":"IF(B35=\"\",\"\",IF(AND(COUNTIF('Entry sheet-2-hin'!$AL$9:$AL$68,\"1रसलउ२\")=0),\"\",COUNTIF('Entry sheet-2-hin'!$AL$9:$AL$68,\"1रसलउ२\")))","v":""},"",{"$f":"IF(B35=\"\",\"\",IF(AND(COUNTIF('Entry sheet-2-hin'!$AL$9:$AL$68,\"27SLA1C\")=0,COUNTIF('Entry sheet-2-hin'!$AL$9:$AL$68,\"27SLA1\")=0),\"\",IF(COUNTIF('Entry sheet-2-hin'!$AL$9:$AL$68,\"27SLA1C\")=0,COUNTIF('Entry sheet-2-hin'!$AL$9:$AL$68,\"27SLA1\"),COUNTIF('Entry sheet-2-hin'!$AL$9:$AL$68,\"27SLA1C\")&\"*\")))","v":""},"",{"$f":"IF(B35=\"\",\"\",IF(AND(COUNTIF('Entry sheet-2-hin'!$AL$9:$AL$68,\"27SLA2C\")=0,COUNTIF('Entry sheet-2-hin'!$AL$9:$AL$68,\"27SLA2\")=0),\"\",IF(COUNTIF('Entry sheet-2-hin'!$AL$9:$AL$68,\"27SLA2C\")=0,COUNTIF('Entry sheet-2-hin'!$AL$9:$AL$68,\"27SLA2\"),COUNTIF('Entry sheet-2-hin'!$AL$9:$AL$68,\"27SLA2C\")&\"*\")))","v":""},"","","","","","","","","","","","","","",""]
[{"$f":"IF('Entry sheet-1-hin'!A37=\"\",\"\",'Entry sheet-1-hin'!A37)","v":""},{"$f":"IF('Entry sheet-1-hin'!B37=\"\",\"\",'Entry sheet-1-hin'!B37)","v":""},{"$f":"IF(B36=\"\",\"\",IF(AND(COUNTIF('Entry sheet-2-hin'!$AL$9:$AL$68,\"28KMCC\")=0,COUNTIF('Entry sheet-2-hin'!$AL$9:$AL$68,\"28KMC\")=0),\"\",IF(COUNTIF('Entry sheet-2-hin'!$AL$9:$AL$68,\"28KMCC\")=0,COUNTIF('Entry sheet-2-hin'!$AL$9:$AL$68,\"28KMC\"),COUNTIF('Entry sheet-2-hin'!$AL$9:$AL$68,\"28KMCC\")&\"*\")))","v":""},{"$f":"IF(C36=\"\",\"\",IF(COUNTIF('Entry sheet-2-hin'!$AL$9:$AL$68,\"28KMCC\")=0,COUNTIF('Entry sheet-2-hin'!$AL$9:$AL$68,\"28KMC\")*1,COUNTIF('Entry sheet-2-hin'!$AL$9:$AL$68,\"28KMCC\")*1))","v":""},{"$f":"IF(B36=\"\",\"\",IF(AND(COUNTIF('Entry sheet-2-hin'!$AL$9:$AL$68,\"28KOTC\")=0,COUNTIF('Entry sheet-2-hin'!$AL$9:$AL$68,\"28KOT\")=0),\"\",IF(COUNTIF('Entry sheet-2-hin'!$AL$9:$AL$68,\"28KOTC\")=0,COUNTIF('Entry sheet-2-hin'!$AL$9:$AL$68,\"28KOT\"),COUNTIF('Entry sheet-2-hin'!$AL$9:$AL$68,\"28KOTC\")&\"*\")))","v":""},{"$f":"IF(E36=\"\",\"\",IF(COUNTIF('Entry sheet-2-hin'!$AL$9:$AL$68,\"28KOTC\")=0,COUNTIF('Entry sheet-2-hin'!$AL$9:$AL$68,\"28KOT\")*1,COUNTIF('Entry sheet-2-hin'!$AL$9:$AL$68,\"28KOTC\")*1))","v":""},{"$f":"IF(B36=\"\",\"\",IF(AND(COUNTIF('Entry sheet-2-hin'!$AL$9:$AL$68,\"28KSA1C\")=0,COUNTIF('Entry sheet-2-hin'!$AL$9:$AL$68,\"28KSA1\")=0),\"\",IF(COUNTIF('Entry sheet-2-hin'!$AL$9:$AL$68,\"28KSA1C\")=0,COUNTIF('Entry sheet-2-hin'!$AL$9:$AL$68,\"28KSA1\"),COUNTIF('Entry sheet-2-hin'!$AL$9:$AL$68,\"28KSA1C\")&\"*\")))","v":""},{"$f":"IF(G36=\"\",\"\",IF(COUNTIF('Entry sheet-2-hin'!$AL$9:$AL$68,\"28KSA1C\")=0,COUNTIF('Entry sheet-2-hin'!$AL$9:$AL$68,\"28KSA1\")*1,COUNTIF('Entry sheet-2-hin'!$AL$9:$AL$68,\"28KSA1C\")*1))","v":""},{"$f":"IF(B36=\"\",\"\",IF(AND(COUNTIF('Entry sheet-2-hin'!$AL$9:$AL$68,\"28KSA2C\")=0,COUNTIF('Entry sheet-2-hin'!$AL$9:$AL$68,\"28KSA2\")=0),\"\",IF(COUNTIF('Entry sheet-2-hin'!$AL$9:$AL$68,\"28KSA2C\")=0,COUNTIF('Entry sheet-2-hin'!$AL$9:$AL$68,\"28KSA2\"),COUNTIF('Entry sheet-2-hin'!$AL$9:$AL$68,\"28KSA2C\")&\"*\")))","v":""},{"$f":"IF(I36=\"\",\"\",IF(COUNTIF('Entry sheet-2-hin'!$AL$9:$AL$68,\"28KSA2C\")=0,COUNTIF('Entry sheet-2-hin'!$AL$9:$AL$68,\"28KSA2\")*2,COUNTIF('Entry sheet-2-hin'!$AL$9:$AL$68,\"28KSA2C\")*2))","v":""},{"$f":"IF(B36=\"\",\"\",IF(AND(COUNTIF('Entry sheet-2-hin'!$AL$9:$AL$68,\"28KLA1C\")=0,COUNTIF('Entry sheet-2-hin'!$AL$9:$AL$68,\"28KLA1\")=0),\"\",IF(COUNTIF('Entry sheet-2-hin'!$AL$9:$AL$68,\"28KLA1C\")=0,COUNTIF('Entry sheet-2-hin'!$AL$9:$AL$68,\"28KLA1\"),COUNTIF('Entry sheet-2-hin'!$AL$9:$AL$68,\"28KLA1C\")&\"*\")))","v":""},{"$f":"IF(K36=\"\",\"\",IF(COUNTIF('Entry sheet-2-hin'!$AL$9:$AL$68,\"28KLA1C\")=0,COUNTIF('Entry sheet-2-hin'!$AL$9:$AL$68,\"28KLA1\")*3,COUNTIF('Entry sheet-2-hin'!$AL$9:$AL$68,\"28KLA1C\")*3))","v":""},{"$f":"IF(B36=\"\",\"\",IF(AND(COUNTIF('Entry sheet-2-hin'!$AL$9:$AL$68,\"1स्मदीउ४\")=0),\"\",COUNTIF('Entry sheet-2-hin'!$AL$9:$AL$68,\"1स्मदीउ४\")))","v":""},"",{"$f":"IF(B36=\"\",\"\",IF(AND(COUNTIF('Entry sheet-2-hin'!$AL$9:$AL$68,\"28UMCC\")=0,COUNTIF('Entry sheet-2-hin'!$AL$9:$AL$68,\"28UMC\")=0),\"\",IF(COUNTIF('Entry sheet-2-hin'!$AL$9:$AL$68,\"28UMCC\")=0,COUNTIF('Entry sheet-2-hin'!$AL$9:$AL$68,\"28UMC\"),COUNTIF('Entry sheet-2-hin'!$AL$9:$AL$68,\"28UMCC\")&\"*\")))","v":""},{"$f":"IF(O36=\"\",\"\",IF(COUNTIF('Entry sheet-2-hin'!$AL$9:$AL$68,\"28UMCC\")=0,COUNTIF('Entry sheet-2-hin'!$AL$9:$AL$68,\"28UMC\")*1,COUNTIF('Entry sheet-2-hin'!$AL$9:$AL$68,\"28UMCC\")*1))","v":""},{"$f":"IF(B36=\"\",\"\",IF(AND(COUNTIF('Entry sheet-2-hin'!$AL$9:$AL$68,\"1समवनि\")=0),\"\",COUNTIF('Entry sheet-2-hin'!$AL$9:$AL$68,\"1समवनि\")))","v":""},{"$f":"IF(Q36=\"\",\"\",IF(COUNTIF('Entry sheet-2-hin'!$AL$9:$AL$68,\"28UOTC\")=0,COUNTIF('Entry sheet-2-hin'!$AL$9:$AL$68,\"28UOT\")*1,COUNTIF('Entry sheet-2-hin'!$AL$9:$AL$68,\"28UOTC\")*1))","v":""},{"$f":"IF(B36=\"\",\"\",IF(AND(COUNTIF('Entry sheet-2-hin'!$AL$9:$AL$68,\"1समअलउ\")=0),\"\",COUNTIF('Entry sheet-2-hin'!$AL$9:$AL$68,\"1समअलउ\")))","v":""},{"$f":"IF(S36=\"\",\"\",IF(COUNTIF('Entry sheet-2-hin'!$AL$9:$AL$68,\"28USA1C\")=0,COUNTIF('Entry sheet-2-hin'!$AL$9:$AL$68,\"28USA1\")*1,COUNTIF('Entry sheet-2-hin'!$AL$9:$AL$68,\"28USA1C\")*1))","v":""},{"$f":"IF(B36=\"\",\"\",IF(AND(COUNTIF('Entry sheet-2-hin'!$AL$9:$AL$68,\"28USA2C\")=0,COUNTIF('Entry sheet-2-hin'!$AL$9:$AL$68,\"28USA2\")=0),\"\",IF(COUNTIF('Entry sheet-2-hin'!$AL$9:$AL$68,\"28USA2C\")=0,COUNTIF('Entry sheet-2-hin'!$AL$9:$AL$68,\"28USA2\"),COUNTIF('Entry sheet-2-hin'!$AL$9:$AL$68,\"28USA2C\")&\"*\")))","v":""},{"$f":"IF(U36=\"\",\"\",IF(COUNTIF('Entry sheet-2-hin'!$AL$9:$AL$68,\"28USA2C\")=0,COUNTIF('Entry sheet-2-hin'!$AL$9:$AL$68,\"28USA2\")*2,COUNTIF('Entry sheet-2-hin'!$AL$9:$AL$68,\"28USA2C\")*2))","v":""},{"$f":"IF(B36=\"\",\"\",IF(AND(COUNTIF('Entry sheet-2-hin'!$AL$9:$AL$68,\"28ULA1C\")=0,COUNTIF('Entry sheet-2-hin'!$AL$9:$AL$68,\"28ULA1\")=0),\"\",IF(COUNTIF('Entry sheet-2-hin'!$AL$9:$AL$68,\"28ULA1C\")=0,COUNTIF('Entry sheet-2-hin'!$AL$9:$AL$68,\"28ULA1\"),COUNTIF('Entry sheet-2-hin'!$AL$9:$AL$68,\"28ULA1C\")&\"*\")))","v":""},{"$f":"IF(W36=\"\",\"\",IF(COUNTIF('Entry sheet-2-hin'!$AL$9:$AL$68,\"28ULA1C\")=0,COUNTIF('Entry sheet-2-hin'!$AL$9:$AL$68,\"28ULA1\")*3,COUNTIF('Entry sheet-2-hin'!$AL$9:$AL$68,\"28ULA1C\")*3))","v":""},{"$f":"IF(B36=\"\",\"\",IF(AND(COUNTIF('Entry sheet-2-hin'!$AL$9:$AL$68,\"1समदीउ४\")=0),\"\",COUNTIF('Entry sheet-2-hin'!$AL$9:$AL$68,\"1समदीउ४\")))","v":""},{"$f":"IF(Y36=\"\",\"\",IF(COUNTIF('Entry sheet-2-hin'!$AL$9:$AL$68,\"28ULA2C\")=0,COUNTIF('Entry sheet-2-hin'!$AL$9:$AL$68,\"28ULA2\")*4,COUNTIF('Entry sheet-2-hin'!$AL$9:$AL$68,\"28ULA2C\")*4))","v":""},{"$f":"IF(B36=\"\",\"\",IF(AND(COUNTIF('Entry sheet-2-hin'!$AL$9:$AL$68,\"1अबवि\")=0),\"\",COUNTIF('Entry sheet-2-hin'!$AL$9:$AL$68,\"1अबवि\")))","v":""},"",{"$f":"IF(B36=\"\",\"\",IF(AND(COUNTIF('Entry sheet-2-hin'!$AL$9:$AL$68,\"28AOTC\")=0,COUNTIF('Entry sheet-2-hin'!$AL$9:$AL$68,\"28AOT\")=0),\"\",IF(COUNTIF('Entry sheet-2-hin'!$AL$9:$AL$68,\"28AOTC\")=0,COUNTIF('Entry sheet-2-hin'!$AL$9:$AL$68,\"28AOT\"),COUNTIF('Entry sheet-2-hin'!$AL$9:$AL$68,\"28AOTC\")&\"*\")))","v":""},{"$f":"IF(AC36=\"\",\"\",IF(COUNTIF('Entry sheet-2-hin'!$AL$9:$AL$68,\"28AOTC\")=0,COUNTIF('Entry sheet-2-hin'!$AL$9:$AL$68,\"28AOT\")*1,COUNTIF('Entry sheet-2-hin'!$AL$9:$AL$68,\"28AOTC\")*1))","v":""},{"$f":"IF(B36=\"\",\"\",IF(AND(COUNTIF('Entry sheet-2-hin'!$AL$9:$AL$68,\"1अअलउ\")=0),\"\",COUNTIF('Entry sheet-2-hin'!$AL$9:$AL$68,\"1अअलउ\")))","v":""},{"$f":"IF(AE36=\"\",\"\",IF(COUNTIF('Entry sheet-2-hin'!$AL$9:$AL$68,\"28ASA1C\")=0,COUNTIF('Entry sheet-2-hin'!$AL$9:$AL$68,\"28ASA1\")*1,COUNTIF('Entry sheet-2-hin'!$AL$9:$AL$68,\"28ASA1C\")*1))","v":""},{"$f":"IF(B36=\"\",\"\",IF(AND(COUNTIF('Entry sheet-2-hin'!$AL$9:$AL$68,\"28ASA2C\")=0,COUNTIF('Entry sheet-2-hin'!$AL$9:$AL$68,\"28ASA2\")=0),\"\",IF(COUNTIF('Entry sheet-2-hin'!$AL$9:$AL$68,\"28ASA2C\")=0,COUNTIF('Entry sheet-2-hin'!$AL$9:$AL$68,\"28ASA2\"),COUNTIF('Entry sheet-2-hin'!$AL$9:$AL$68,\"28ASA2C\")&\"*\")))","v":""},{"$f":"IF(AG36=\"\",\"\",IF(COUNTIF('Entry sheet-2-hin'!$AL$9:$AL$68,\"28ASA2C\")=0,COUNTIF('Entry sheet-2-hin'!$AL$9:$AL$68,\"28ASA2\")*2,COUNTIF('Entry sheet-2-hin'!$AL$9:$AL$68,\"28ASA2C\")*2))","v":""},{"$f":"IF(B36=\"\",\"\",IF(AND(COUNTIF('Entry sheet-2-hin'!$AL$9:$AL$68,\"28ALA1C\")=0,COUNTIF('Entry sheet-2-hin'!$AL$9:$AL$68,\"28ALA1\")=0),\"\",IF(COUNTIF('Entry sheet-2-hin'!$AL$9:$AL$68,\"28ALA1C\")=0,COUNTIF('Entry sheet-2-hin'!$AL$9:$AL$68,\"28ALA1\"),COUNTIF('Entry sheet-2-hin'!$AL$9:$AL$68,\"28ALA1C\")&\"*\")))","v":""},"",{"$f":"IF(B36=\"\",\"\",IF(AND(COUNTIF('Entry sheet-2-hin'!$AL$9:$AL$68,\"28ALA2C\")=0,COUNTIF('Entry sheet-2-hin'!$AL$9:$AL$68,\"28ALA2\")=0),\"\",IF(COUNTIF('Entry sheet-2-hin'!$AL$9:$AL$68,\"28ALA2C\")=0,COUNTIF('Entry sheet-2-hin'!$AL$9:$AL$68,\"28ALA2\"),COUNTIF('Entry sheet-2-hin'!$AL$9:$AL$68,\"28ALA2C\")&\"*\")))","v":""},{"$f":"IF(AK36=\"\",\"\",IF(COUNTIF('Entry sheet-2-hin'!$AL$9:$AL$68,\"28ALA2C\")=0,COUNTIF('Entry sheet-2-hin'!$AL$9:$AL$68,\"28ALA2\")*4,COUNTIF('Entry sheet-2-hin'!$AL$9:$AL$68,\"28ALA2C\")*4))","v":""},{"$f":"IF(B36=\"\",\"\",IF(AND(COUNTIF('Entry sheet-2-hin'!$AL$9:$AL$68,\"1रसबवि\")=0),\"\",COUNTIF('Entry sheet-2-hin'!$AL$9:$AL$68,\"1रसबवि\")))","v":""},"",{"$f":"IF(B36=\"\",\"\",IF(AND(COUNTIF('Entry sheet-2-hin'!$AL$9:$AL$68,\"28SOTC\")=0,COUNTIF('Entry sheet-2-hin'!$AL$9:$AL$68,\"28SOT\")=0),\"\",IF(COUNTIF('Entry sheet-2-hin'!$AL$9:$AL$68,\"28SOTC\")=0,COUNTIF('Entry sheet-2-hin'!$AL$9:$AL$68,\"28SOT\"),COUNTIF('Entry sheet-2-hin'!$AL$9:$AL$68,\"28SOTC\")&\"*\")))","v":""},{"$f":"IF(AO36=\"\",\"\",IF(COUNTIF('Entry sheet-2-hin'!$AL$9:$AL$68,\"28SOTC\")=0,COUNTIF('Entry sheet-2-hin'!$AL$9:$AL$68,\"28SOT\")*1,COUNTIF('Entry sheet-2-hin'!$AL$9:$AL$68,\"28SOTC\")*1))","v":""},{"$f":"IF(B36=\"\",\"\",IF(AND(COUNTIF('Entry sheet-2-hin'!$AL$9:$AL$68,\"1रसअलउ\")=0),\"\",COUNTIF('Entry sheet-2-hin'!$AL$9:$AL$68,\"1रसअलउ\")))","v":""},{"$f":"IF(AQ36=\"\",\"\",IF(COUNTIF('Entry sheet-2-hin'!$AL$9:$AL$68,\"28SSA1C\")=0,COUNTIF('Entry sheet-2-hin'!$AL$9:$AL$68,\"28SSA1\")*1,COUNTIF('Entry sheet-2-hin'!$AL$9:$AL$68,\"28SSA1C\")*1))","v":""},{"$f":"IF(B36=\"\",\"\",IF(AND(COUNTIF('Entry sheet-2-hin'!$AL$9:$AL$68,\"1रसलउ२\")=0),\"\",COUNTIF('Entry sheet-2-hin'!$AL$9:$AL$68,\"1रसलउ२\")))","v":""},"",{"$f":"IF(B36=\"\",\"\",IF(AND(COUNTIF('Entry sheet-2-hin'!$AL$9:$AL$68,\"28SLA1C\")=0,COUNTIF('Entry sheet-2-hin'!$AL$9:$AL$68,\"28SLA1\")=0),\"\",IF(COUNTIF('Entry sheet-2-hin'!$AL$9:$AL$68,\"28SLA1C\")=0,COUNTIF('Entry sheet-2-hin'!$AL$9:$AL$68,\"28SLA1\"),COUNTIF('Entry sheet-2-hin'!$AL$9:$AL$68,\"28SLA1C\")&\"*\")))","v":""},"",{"$f":"IF(B36=\"\",\"\",IF(AND(COUNTIF('Entry sheet-2-hin'!$AL$9:$AL$68,\"28SLA2C\")=0,COUNTIF('Entry sheet-2-hin'!$AL$9:$AL$68,\"28SLA2\")=0),\"\",IF(COUNTIF('Entry sheet-2-hin'!$AL$9:$AL$68,\"28SLA2C\")=0,COUNTIF('Entry sheet-2-hin'!$AL$9:$AL$68,\"28SLA2\"),COUNTIF('Entry sheet-2-hin'!$AL$9:$AL$68,\"28SLA2C\")&\"*\")))","v":""},"","","","","","","","","","","","","","",""]
[{"$f":"IF('Entry sheet-1-hin'!A38=\"\",\"\",'Entry sheet-1-hin'!A38)","v":""},{"$f":"IF('Entry sheet-1-hin'!B38=\"\",\"\",'Entry sheet-1-hin'!B38)","v":""},{"$f":"IF(B37=\"\",\"\",IF(AND(COUNTIF('Entry sheet-2-hin'!$AL$9:$AL$68,\"29KMCC\")=0,COUNTIF('Entry sheet-2-hin'!$AL$9:$AL$68,\"29KMC\")=0),\"\",IF(COUNTIF('Entry sheet-2-hin'!$AL$9:$AL$68,\"29KMCC\")=0,COUNTIF('Entry sheet-2-hin'!$AL$9:$AL$68,\"29KMC\"),COUNTIF('Entry sheet-2-hin'!$AL$9:$AL$68,\"29KMCC\")&\"*\")))","v":""},{"$f":"IF(C37=\"\",\"\",IF(COUNTIF('Entry sheet-2-hin'!$AL$9:$AL$68,\"29KMCC\")=0,COUNTIF('Entry sheet-2-hin'!$AL$9:$AL$68,\"29KMC\")*1,COUNTIF('Entry sheet-2-hin'!$AL$9:$AL$68,\"29KMCC\")*1))","v":""},{"$f":"IF(B37=\"\",\"\",IF(AND(COUNTIF('Entry sheet-2-hin'!$AL$9:$AL$68,\"29KOTC\")=0,COUNTIF('Entry sheet-2-hin'!$AL$9:$AL$68,\"29KOT\")=0),\"\",IF(COUNTIF('Entry sheet-2-hin'!$AL$9:$AL$68,\"29KOTC\")=0,COUNTIF('Entry sheet-2-hin'!$AL$9:$AL$68,\"29KOT\"),COUNTIF('Entry sheet-2-hin'!$AL$9:$AL$68,\"29KOTC\")&\"*\")))","v":""},{"$f":"IF(E37=\"\",\"\",IF(COUNTIF('Entry sheet-2-hin'!$AL$9:$AL$68,\"29KOTC\")=0,COUNTIF('Entry sheet-2-hin'!$AL$9:$AL$68,\"29KOT\")*1,COUNTIF('Entry sheet-2-hin'!$AL$9:$AL$68,\"29KOTC\")*1))","v":""},{"$f":"IF(B37=\"\",\"\",IF(AND(COUNTIF('Entry sheet-2-hin'!$AL$9:$AL$68,\"29KSA1C\")=0,COUNTIF('Entry sheet-2-hin'!$AL$9:$AL$68,\"29KSA1\")=0),\"\",IF(COUNTIF('Entry sheet-2-hin'!$AL$9:$AL$68,\"29KSA1C\")=0,COUNTIF('Entry sheet-2-hin'!$AL$9:$AL$68,\"29KSA1\"),COUNTIF('Entry sheet-2-hin'!$AL$9:$AL$68,\"29KSA1C\")&\"*\")))","v":""},{"$f":"IF(G37=\"\",\"\",IF(COUNTIF('Entry sheet-2-hin'!$AL$9:$AL$68,\"29KSA1C\")=0,COUNTIF('Entry sheet-2-hin'!$AL$9:$AL$68,\"29KSA1\")*1,COUNTIF('Entry sheet-2-hin'!$AL$9:$AL$68,\"29KSA1C\")*1))","v":""},{"$f":"IF(B37=\"\",\"\",IF(AND(COUNTIF('Entry sheet-2-hin'!$AL$9:$AL$68,\"29KSA2C\")=0,COUNTIF('Entry sheet-2-hin'!$AL$9:$AL$68,\"29KSA2\")=0),\"\",IF(COUNTIF('Entry sheet-2-hin'!$AL$9:$AL$68,\"29KSA2C\")=0,COUNTIF('Entry sheet-2-hin'!$AL$9:$AL$68,\"29KSA2\"),COUNTIF('Entry sheet-2-hin'!$AL$9:$AL$68,\"29KSA2C\")&\"*\")))","v":""},{"$f":"IF(I37=\"\",\"\",IF(COUNTIF('Entry sheet-2-hin'!$AL$9:$AL$68,\"29KSA2C\")=0,COUNTIF('Entry sheet-2-hin'!$AL$9:$AL$68,\"29KSA2\")*2,COUNTIF('Entry sheet-2-hin'!$AL$9:$AL$68,\"29KSA2C\")*2))","v":""},{"$f":"IF(B37=\"\",\"\",IF(AND(COUNTIF('Entry sheet-2-hin'!$AL$9:$AL$68,\"29KLA1C\")=0,COUNTIF('Entry sheet-2-hin'!$AL$9:$AL$68,\"29KLA1\")=0),\"\",IF(COUNTIF('Entry sheet-2-hin'!$AL$9:$AL$68,\"29KLA1C\")=0,COUNTIF('Entry sheet-2-hin'!$AL$9:$AL$68,\"29KLA1\"),COUNTIF('Entry sheet-2-hin'!$AL$9:$AL$68,\"29KLA1C\")&\"*\")))","v":""},{"$f":"IF(K37=\"\",\"\",IF(COUNTIF('Entry sheet-2-hin'!$AL$9:$AL$68,\"29KLA1C\")=0,COUNTIF('Entry sheet-2-hin'!$AL$9:$AL$68,\"29KLA1\")*3,COUNTIF('Entry sheet-2-hin'!$AL$9:$AL$68,\"29KLA1C\")*3))","v":""},{"$f":"IF(B37=\"\",\"\",IF(AND(COUNTIF('Entry sheet-2-hin'!$AL$9:$AL$68,\"1स्मदीउ४\")=0),\"\",COUNTIF('Entry sheet-2-hin'!$AL$9:$AL$68,\"1स्मदीउ४\")))","v":""},"",{"$f":"IF(B37=\"\",\"\",IF(AND(COUNTIF('Entry sheet-2-hin'!$AL$9:$AL$68,\"29UMCC\")=0,COUNTIF('Entry sheet-2-hin'!$AL$9:$AL$68,\"29UMC\")=0),\"\",IF(COUNTIF('Entry sheet-2-hin'!$AL$9:$AL$68,\"29UMCC\")=0,COUNTIF('Entry sheet-2-hin'!$AL$9:$AL$68,\"29UMC\"),COUNTIF('Entry sheet-2-hin'!$AL$9:$AL$68,\"29UMCC\")&\"*\")))","v":""},{"$f":"IF(O37=\"\",\"\",IF(COUNTIF('Entry sheet-2-hin'!$AL$9:$AL$68,\"29UMCC\")=0,COUNTIF('Entry sheet-2-hin'!$AL$9:$AL$68,\"29UMC\")*1,COUNTIF('Entry sheet-2-hin'!$AL$9:$AL$68,\"29UMCC\")*1))","v":""},{"$f":"IF(B37=\"\",\"\",IF(AND(COUNTIF('Entry sheet-2-hin'!$AL$9:$AL$68,\"1समवनि\")=0),\"\",COUNTIF('Entry sheet-2-hin'!$AL$9:$AL$68,\"1समवनि\")))","v":""},{"$f":"IF(Q37=\"\",\"\",IF(COUNTIF('Entry sheet-2-hin'!$AL$9:$AL$68,\"29UOTC\")=0,COUNTIF('Entry sheet-2-hin'!$AL$9:$AL$68,\"29UOT\")*1,COUNTIF('Entry sheet-2-hin'!$AL$9:$AL$68,\"29UOTC\")*1))","v":""},{"$f":"IF(B37=\"\",\"\",IF(AND(COUNTIF('Entry sheet-2-hin'!$AL$9:$AL$68,\"1समअलउ\")=0),\"\",COUNTIF('Entry sheet-2-hin'!$AL$9:$AL$68,\"1समअलउ\")))","v":""},{"$f":"IF(S37=\"\",\"\",IF(COUNTIF('Entry sheet-2-hin'!$AL$9:$AL$68,\"29USA1C\")=0,COUNTIF('Entry sheet-2-hin'!$AL$9:$AL$68,\"29USA1\")*1,COUNTIF('Entry sheet-2-hin'!$AL$9:$AL$68,\"29USA1C\")*1))","v":""},{"$f":"IF(B37=\"\",\"\",IF(AND(COUNTIF('Entry sheet-2-hin'!$AL$9:$AL$68,\"29USA2C\")=0,COUNTIF('Entry sheet-2-hin'!$AL$9:$AL$68,\"29USA2\")=0),\"\",IF(COUNTIF('Entry sheet-2-hin'!$AL$9:$AL$68,\"29USA2C\")=0,COUNTIF('Entry sheet-2-hin'!$AL$9:$AL$68,\"29USA2\"),COUNTIF('Entry sheet-2-hin'!$AL$9:$AL$68,\"29USA2C\")&\"*\")))","v":""},{"$f":"IF(U37=\"\",\"\",IF(COUNTIF('Entry sheet-2-hin'!$AL$9:$AL$68,\"29USA2C\")=0,COUNTIF('Entry sheet-2-hin'!$AL$9:$AL$68,\"29USA2\")*2,COUNTIF('Entry sheet-2-hin'!$AL$9:$AL$68,\"29USA2C\")*2))","v":""},{"$f":"IF(B37=\"\",\"\",IF(AND(COUNTIF('Entry sheet-2-hin'!$AL$9:$AL$68,\"29ULA1C\")=0,COUNTIF('Entry sheet-2-hin'!$AL$9:$AL$68,\"29ULA1\")=0),\"\",IF(COUNTIF('Entry sheet-2-hin'!$AL$9:$AL$68,\"29ULA1C\")=0,COUNTIF('Entry sheet-2-hin'!$AL$9:$AL$68,\"29ULA1\"),COUNTIF('Entry sheet-2-hin'!$AL$9:$AL$68,\"29ULA1C\")&\"*\")))","v":""},{"$f":"IF(W37=\"\",\"\",IF(COUNTIF('Entry sheet-2-hin'!$AL$9:$AL$68,\"29ULA1C\")=0,COUNTIF('Entry sheet-2-hin'!$AL$9:$AL$68,\"29ULA1\")*3,COUNTIF('Entry sheet-2-hin'!$AL$9:$AL$68,\"29ULA1C\")*3))","v":""},{"$f":"IF(B37=\"\",\"\",IF(AND(COUNTIF('Entry sheet-2-hin'!$AL$9:$AL$68,\"1समदीउ४\")=0),\"\",COUNTIF('Entry sheet-2-hin'!$AL$9:$AL$68,\"1समदीउ४\")))","v":""},{"$f":"IF(Y37=\"\",\"\",IF(COUNTIF('Entry sheet-2-hin'!$AL$9:$AL$68,\"29ULA2C\")=0,COUNTIF('Entry sheet-2-hin'!$AL$9:$AL$68,\"29ULA2\")*4,COUNTIF('Entry sheet-2-hin'!$AL$9:$AL$68,\"29ULA2C\")*4))","v":""},{"$f":"IF(B37=\"\",\"\",IF(AND(COUNTIF('Entry sheet-2-hin'!$AL$9:$AL$68,\"1अबवि\")=0),\"\",COUNTIF('Entry sheet-2-hin'!$AL$9:$AL$68,\"1अबवि\")))","v":""},"",{"$f":"IF(B37=\"\",\"\",IF(AND(COUNTIF('Entry sheet-2-hin'!$AL$9:$AL$68,\"29AOTC\")=0,COUNTIF('Entry sheet-2-hin'!$AL$9:$AL$68,\"29AOT\")=0),\"\",IF(COUNTIF('Entry sheet-2-hin'!$AL$9:$AL$68,\"29AOTC\")=0,COUNTIF('Entry sheet-2-hin'!$AL$9:$AL$68,\"29AOT\"),COUNTIF('Entry sheet-2-hin'!$AL$9:$AL$68,\"29AOTC\")&\"*\")))","v":""},{"$f":"IF(AC37=\"\",\"\",IF(COUNTIF('Entry sheet-2-hin'!$AL$9:$AL$68,\"29AOTC\")=0,COUNTIF('Entry sheet-2-hin'!$AL$9:$AL$68,\"29AOT\")*1,COUNTIF('Entry sheet-2-hin'!$AL$9:$AL$68,\"29AOTC\")*1))","v":""},{"$f":"IF(B37=\"\",\"\",IF(AND(COUNTIF('Entry sheet-2-hin'!$AL$9:$AL$68,\"1अअलउ\")=0),\"\",COUNTIF('Entry sheet-2-hin'!$AL$9:$AL$68,\"1अअलउ\")))","v":""},{"$f":"IF(AE37=\"\",\"\",IF(COUNTIF('Entry sheet-2-hin'!$AL$9:$AL$68,\"29ASA1C\")=0,COUNTIF('Entry sheet-2-hin'!$AL$9:$AL$68,\"29ASA1\")*1,COUNTIF('Entry sheet-2-hin'!$AL$9:$AL$68,\"29ASA1C\")*1))","v":""},{"$f":"IF(B37=\"\",\"\",IF(AND(COUNTIF('Entry sheet-2-hin'!$AL$9:$AL$68,\"29ASA2C\")=0,COUNTIF('Entry sheet-2-hin'!$AL$9:$AL$68,\"29ASA2\")=0),\"\",IF(COUNTIF('Entry sheet-2-hin'!$AL$9:$AL$68,\"29ASA2C\")=0,COUNTIF('Entry sheet-2-hin'!$AL$9:$AL$68,\"29ASA2\"),COUNTIF('Entry sheet-2-hin'!$AL$9:$AL$68,\"29ASA2C\")&\"*\")))","v":""},{"$f":"IF(AG37=\"\",\"\",IF(COUNTIF('Entry sheet-2-hin'!$AL$9:$AL$68,\"29ASA2C\")=0,COUNTIF('Entry sheet-2-hin'!$AL$9:$AL$68,\"29ASA2\")*2,COUNTIF('Entry sheet-2-hin'!$AL$9:$AL$68,\"29ASA2C\")*2))","v":""},{"$f":"IF(B37=\"\",\"\",IF(AND(COUNTIF('Entry sheet-2-hin'!$AL$9:$AL$68,\"29ALA1C\")=0,COUNTIF('Entry sheet-2-hin'!$AL$9:$AL$68,\"29ALA1\")=0),\"\",IF(COUNTIF('Entry sheet-2-hin'!$AL$9:$AL$68,\"29ALA1C\")=0,COUNTIF('Entry sheet-2-hin'!$AL$9:$AL$68,\"29ALA1\"),COUNTIF('Entry sheet-2-hin'!$AL$9:$AL$68,\"29ALA1C\")&\"*\")))","v":""},"",{"$f":"IF(B37=\"\",\"\",IF(AND(COUNTIF('Entry sheet-2-hin'!$AL$9:$AL$68,\"29ALA2C\")=0,COUNTIF('Entry sheet-2-hin'!$AL$9:$AL$68,\"29ALA2\")=0),\"\",IF(COUNTIF('Entry sheet-2-hin'!$AL$9:$AL$68,\"29ALA2C\")=0,COUNTIF('Entry sheet-2-hin'!$AL$9:$AL$68,\"29ALA2\"),COUNTIF('Entry sheet-2-hin'!$AL$9:$AL$68,\"29ALA2C\")&\"*\")))","v":""},{"$f":"IF(AK37=\"\",\"\",IF(COUNTIF('Entry sheet-2-hin'!$AL$9:$AL$68,\"29ALA2C\")=0,COUNTIF('Entry sheet-2-hin'!$AL$9:$AL$68,\"29ALA2\")*4,COUNTIF('Entry sheet-2-hin'!$AL$9:$AL$68,\"29ALA2C\")*4))","v":""},{"$f":"IF(B37=\"\",\"\",IF(AND(COUNTIF('Entry sheet-2-hin'!$AL$9:$AL$68,\"1रसबवि\")=0),\"\",COUNTIF('Entry sheet-2-hin'!$AL$9:$AL$68,\"1रसबवि\")))","v":""},"",{"$f":"IF(B37=\"\",\"\",IF(AND(COUNTIF('Entry sheet-2-hin'!$AL$9:$AL$68,\"29SOTC\")=0,COUNTIF('Entry sheet-2-hin'!$AL$9:$AL$68,\"29SOT\")=0),\"\",IF(COUNTIF('Entry sheet-2-hin'!$AL$9:$AL$68,\"29SOTC\")=0,COUNTIF('Entry sheet-2-hin'!$AL$9:$AL$68,\"29SOT\"),COUNTIF('Entry sheet-2-hin'!$AL$9:$AL$68,\"29SOTC\")&\"*\")))","v":""},{"$f":"IF(AO37=\"\",\"\",IF(COUNTIF('Entry sheet-2-hin'!$AL$9:$AL$68,\"29SOTC\")=0,COUNTIF('Entry sheet-2-hin'!$AL$9:$AL$68,\"29SOT\")*1,COUNTIF('Entry sheet-2-hin'!$AL$9:$AL$68,\"29SOTC\")*1))","v":""},{"$f":"IF(B37=\"\",\"\",IF(AND(COUNTIF('Entry sheet-2-hin'!$AL$9:$AL$68,\"1रसअलउ\")=0),\"\",COUNTIF('Entry sheet-2-hin'!$AL$9:$AL$68,\"1रसअलउ\")))","v":""},{"$f":"IF(AQ37=\"\",\"\",IF(COUNTIF('Entry sheet-2-hin'!$AL$9:$AL$68,\"29SSA1C\")=0,COUNTIF('Entry sheet-2-hin'!$AL$9:$AL$68,\"29SSA1\")*1,COUNTIF('Entry sheet-2-hin'!$AL$9:$AL$68,\"29SSA1C\")*1))","v":""},{"$f":"IF(B37=\"\",\"\",IF(AND(COUNTIF('Entry sheet-2-hin'!$AL$9:$AL$68,\"1रसलउ२\")=0),\"\",COUNTIF('Entry sheet-2-hin'!$AL$9:$AL$68,\"1रसलउ२\")))","v":""},"",{"$f":"IF(B37=\"\",\"\",IF(AND(COUNTIF('Entry sheet-2-hin'!$AL$9:$AL$68,\"29SLA1C\")=0,COUNTIF('Entry sheet-2-hin'!$AL$9:$AL$68,\"29SLA1\")=0),\"\",IF(COUNTIF('Entry sheet-2-hin'!$AL$9:$AL$68,\"29SLA1C\")=0,COUNTIF('Entry sheet-2-hin'!$AL$9:$AL$68,\"29SLA1\"),COUNTIF('Entry sheet-2-hin'!$AL$9:$AL$68,\"29SLA1C\")&\"*\")))","v":""},"",{"$f":"IF(B37=\"\",\"\",IF(AND(COUNTIF('Entry sheet-2-hin'!$AL$9:$AL$68,\"29SLA2C\")=0,COUNTIF('Entry sheet-2-hin'!$AL$9:$AL$68,\"29SLA2\")=0),\"\",IF(COUNTIF('Entry sheet-2-hin'!$AL$9:$AL$68,\"29SLA2C\")=0,COUNTIF('Entry sheet-2-hin'!$AL$9:$AL$68,\"29SLA2\"),COUNTIF('Entry sheet-2-hin'!$AL$9:$AL$68,\"29SLA2C\")&\"*\")))","v":""},"","","","","","","","","","","","","","",""]
[{"$f":"IF('Entry sheet-1-hin'!A39=\"\",\"\",'Entry sheet-1-hin'!A39)","v":""},{"$f":"IF('Entry sheet-1-hin'!B39=\"\",\"\",'Entry sheet-1-hin'!B39)","v":""},{"$f":"IF(B38=\"\",\"\",IF(AND(COUNTIF('Entry sheet-2-hin'!$AL$9:$AL$68,\"30KMCC\")=0,COUNTIF('Entry sheet-2-hin'!$AL$9:$AL$68,\"30KMC\")=0),\"\",IF(COUNTIF('Entry sheet-2-hin'!$AL$9:$AL$68,\"30KMCC\")=0,COUNTIF('Entry sheet-2-hin'!$AL$9:$AL$68,\"30KMC\"),COUNTIF('Entry sheet-2-hin'!$AL$9:$AL$68,\"30KMCC\")&\"*\")))","v":""},{"$f":"IF(C38=\"\",\"\",IF(COUNTIF('Entry sheet-2-hin'!$AL$9:$AL$68,\"30KMCC\")=0,COUNTIF('Entry sheet-2-hin'!$AL$9:$AL$68,\"30KMC\")*1,COUNTIF('Entry sheet-2-hin'!$AL$9:$AL$68,\"30KMCC\")*1))","v":""},{"$f":"IF(B38=\"\",\"\",IF(AND(COUNTIF('Entry sheet-2-hin'!$AL$9:$AL$68,\"30KOTC\")=0,COUNTIF('Entry sheet-2-hin'!$AL$9:$AL$68,\"30KOT\")=0),\"\",IF(COUNTIF('Entry sheet-2-hin'!$AL$9:$AL$68,\"30KOTC\")=0,COUNTIF('Entry sheet-2-hin'!$AL$9:$AL$68,\"30KOT\"),COUNTIF('Entry sheet-2-hin'!$AL$9:$AL$68,\"30KOTC\")&\"*\")))","v":""},{"$f":"IF(E38=\"\",\"\",IF(COUNTIF('Entry sheet-2-hin'!$AL$9:$AL$68,\"30KOTC\")=0,COUNTIF('Entry sheet-2-hin'!$AL$9:$AL$68,\"30KOT\")*1,COUNTIF('Entry sheet-2-hin'!$AL$9:$AL$68,\"30KOTC\")*1))","v":""},{"$f":"IF(B38=\"\",\"\",IF(AND(COUNTIF('Entry sheet-2-hin'!$AL$9:$AL$68,\"30KSA1C\")=0,COUNTIF('Entry sheet-2-hin'!$AL$9:$AL$68,\"30KSA1\")=0),\"\",IF(COUNTIF('Entry sheet-2-hin'!$AL$9:$AL$68,\"30KSA1C\")=0,COUNTIF('Entry sheet-2-hin'!$AL$9:$AL$68,\"30KSA1\"),COUNTIF('Entry sheet-2-hin'!$AL$9:$AL$68,\"30KSA1C\")&\"*\")))","v":""},{"$f":"IF(G38=\"\",\"\",IF(COUNTIF('Entry sheet-2-hin'!$AL$9:$AL$68,\"30KSA1C\")=0,COUNTIF('Entry sheet-2-hin'!$AL$9:$AL$68,\"30KSA1\")*1,COUNTIF('Entry sheet-2-hin'!$AL$9:$AL$68,\"30KSA1C\")*1))","v":""},{"$f":"IF(B38=\"\",\"\",IF(AND(COUNTIF('Entry sheet-2-hin'!$AL$9:$AL$68,\"30KSA2C\")=0,COUNTIF('Entry sheet-2-hin'!$AL$9:$AL$68,\"30KSA2\")=0),\"\",IF(COUNTIF('Entry sheet-2-hin'!$AL$9:$AL$68,\"30KSA2C\")=0,COUNTIF('Entry sheet-2-hin'!$AL$9:$AL$68,\"30KSA2\"),COUNTIF('Entry sheet-2-hin'!$AL$9:$AL$68,\"30KSA2C\")&\"*\")))","v":""},{"$f":"IF(I38=\"\",\"\",IF(COUNTIF('Entry sheet-2-hin'!$AL$9:$AL$68,\"30KSA2C\")=0,COUNTIF('Entry sheet-2-hin'!$AL$9:$AL$68,\"30KSA2\")*2,COUNTIF('Entry sheet-2-hin'!$AL$9:$AL$68,\"30KSA2C\")*2))","v":""},{"$f":"IF(B38=\"\",\"\",IF(AND(COUNTIF('Entry sheet-2-hin'!$AL$9:$AL$68,\"30KLA1C\")=0,COUNTIF('Entry sheet-2-hin'!$AL$9:$AL$68,\"30KLA1\")=0),\"\",IF(COUNTIF('Entry sheet-2-hin'!$AL$9:$AL$68,\"30KLA1C\")=0,COUNTIF('Entry sheet-2-hin'!$AL$9:$AL$68,\"30KLA1\"),COUNTIF('Entry sheet-2-hin'!$AL$9:$AL$68,\"30KLA1C\")&\"*\")))","v":""},{"$f":"IF(K38=\"\",\"\",IF(COUNTIF('Entry sheet-2-hin'!$AL$9:$AL$68,\"30KLA1C\")=0,COUNTIF('Entry sheet-2-hin'!$AL$9:$AL$68,\"30KLA1\")*3,COUNTIF('Entry sheet-2-hin'!$AL$9:$AL$68,\"30KLA1C\")*3))","v":""},{"$f":"IF(B38=\"\",\"\",IF(AND(COUNTIF('Entry sheet-2-hin'!$AL$9:$AL$68,\"1स्मदीउ४\")=0),\"\",COUNTIF('Entry sheet-2-hin'!$AL$9:$AL$68,\"1स्मदीउ४\")))","v":""},"",{"$f":"IF(B38=\"\",\"\",IF(AND(COUNTIF('Entry sheet-2-hin'!$AL$9:$AL$68,\"30UMCC\")=0,COUNTIF('Entry sheet-2-hin'!$AL$9:$AL$68,\"30UMC\")=0),\"\",IF(COUNTIF('Entry sheet-2-hin'!$AL$9:$AL$68,\"30UMCC\")=0,COUNTIF('Entry sheet-2-hin'!$AL$9:$AL$68,\"30UMC\"),COUNTIF('Entry sheet-2-hin'!$AL$9:$AL$68,\"30UMCC\")&\"*\")))","v":""},{"$f":"IF(O38=\"\",\"\",IF(COUNTIF('Entry sheet-2-hin'!$AL$9:$AL$68,\"30UMCC\")=0,COUNTIF('Entry sheet-2-hin'!$AL$9:$AL$68,\"30UMC\")*1,COUNTIF('Entry sheet-2-hin'!$AL$9:$AL$68,\"30UMCC\")*1))","v":""},{"$f":"IF(B38=\"\",\"\",IF(AND(COUNTIF('Entry sheet-2-hin'!$AL$9:$AL$68,\"1समवनि\")=0),\"\",COUNTIF('Entry sheet-2-hin'!$AL$9:$AL$68,\"1समवनि\")))","v":""},{"$f":"IF(Q38=\"\",\"\",IF(COUNTIF('Entry sheet-2-hin'!$AL$9:$AL$68,\"30UOTC\")=0,COUNTIF('Entry sheet-2-hin'!$AL$9:$AL$68,\"30UOT\")*1,COUNTIF('Entry sheet-2-hin'!$AL$9:$AL$68,\"30UOTC\")*1))","v":""},{"$f":"IF(B38=\"\",\"\",IF(AND(COUNTIF('Entry sheet-2-hin'!$AL$9:$AL$68,\"1समअलउ\")=0),\"\",COUNTIF('Entry sheet-2-hin'!$AL$9:$AL$68,\"1समअलउ\")))","v":""},{"$f":"IF(S38=\"\",\"\",IF(COUNTIF('Entry sheet-2-hin'!$AL$9:$AL$68,\"30USA1C\")=0,COUNTIF('Entry sheet-2-hin'!$AL$9:$AL$68,\"30USA1\")*1,COUNTIF('Entry sheet-2-hin'!$AL$9:$AL$68,\"30USA1C\")*1))","v":""},{"$f":"IF(B38=\"\",\"\",IF(AND(COUNTIF('Entry sheet-2-hin'!$AL$9:$AL$68,\"30USA2C\")=0,COUNTIF('Entry sheet-2-hin'!$AL$9:$AL$68,\"30USA2\")=0),\"\",IF(COUNTIF('Entry sheet-2-hin'!$AL$9:$AL$68,\"30USA2C\")=0,COUNTIF('Entry sheet-2-hin'!$AL$9:$AL$68,\"30USA2\"),COUNTIF('Entry sheet-2-hin'!$AL$9:$AL$68,\"30USA2C\")&\"*\")))","v":""},{"$f":"IF(U38=\"\",\"\",IF(COUNTIF('Entry sheet-2-hin'!$AL$9:$AL$68,\"30USA2C\")=0,COUNTIF('Entry sheet-2-hin'!$AL$9:$AL$68,\"30USA2\")*2,COUNTIF('Entry sheet-2-hin'!$AL$9:$AL$68,\"30USA2C\")*2))","v":""},{"$f":"IF(B38=\"\",\"\",IF(AND(COUNTIF('Entry sheet-2-hin'!$AL$9:$AL$68,\"30ULA1C\")=0,COUNTIF('Entry sheet-2-hin'!$AL$9:$AL$68,\"30ULA1\")=0),\"\",IF(COUNTIF('Entry sheet-2-hin'!$AL$9:$AL$68,\"30ULA1C\")=0,COUNTIF('Entry sheet-2-hin'!$AL$9:$AL$68,\"30ULA1\"),COUNTIF('Entry sheet-2-hin'!$AL$9:$AL$68,\"30ULA1C\")&\"*\")))","v":""},{"$f":"IF(W38=\"\",\"\",IF(COUNTIF('Entry sheet-2-hin'!$AL$9:$AL$68,\"30ULA1C\")=0,COUNTIF('Entry sheet-2-hin'!$AL$9:$AL$68,\"30ULA1\")*3,COUNTIF('Entry sheet-2-hin'!$AL$9:$AL$68,\"30ULA1C\")*3))","v":""},{"$f":"IF(B38=\"\",\"\",IF(AND(COUNTIF('Entry sheet-2-hin'!$AL$9:$AL$68,\"1समदीउ४\")=0),\"\",COUNTIF('Entry sheet-2-hin'!$AL$9:$AL$68,\"1समदीउ४\")))","v":""},{"$f":"IF(Y38=\"\",\"\",IF(COUNTIF('Entry sheet-2-hin'!$AL$9:$AL$68,\"30ULA2C\")=0,COUNTIF('Entry sheet-2-hin'!$AL$9:$AL$68,\"30ULA2\")*4,COUNTIF('Entry sheet-2-hin'!$AL$9:$AL$68,\"30ULA2C\")*4))","v":""},{"$f":"IF(B38=\"\",\"\",IF(AND(COUNTIF('Entry sheet-2-hin'!$AL$9:$AL$68,\"1अबवि\")=0),\"\",COUNTIF('Entry sheet-2-hin'!$AL$9:$AL$68,\"1अबवि\")))","v":""},"",{"$f":"IF(B38=\"\",\"\",IF(AND(COUNTIF('Entry sheet-2-hin'!$AL$9:$AL$68,\"30AOTC\")=0,COUNTIF('Entry sheet-2-hin'!$AL$9:$AL$68,\"30AOT\")=0),\"\",IF(COUNTIF('Entry sheet-2-hin'!$AL$9:$AL$68,\"30AOTC\")=0,COUNTIF('Entry sheet-2-hin'!$AL$9:$AL$68,\"30AOT\"),COUNTIF('Entry sheet-2-hin'!$AL$9:$AL$68,\"30AOTC\")&\"*\")))","v":""},{"$f":"IF(AC38=\"\",\"\",IF(COUNTIF('Entry sheet-2-hin'!$AL$9:$AL$68,\"30AOTC\")=0,COUNTIF('Entry sheet-2-hin'!$AL$9:$AL$68,\"30AOT\")*1,COUNTIF('Entry sheet-2-hin'!$AL$9:$AL$68,\"30AOTC\")*1))","v":""},{"$f":"IF(B38=\"\",\"\",IF(AND(COUNTIF('Entry sheet-2-hin'!$AL$9:$AL$68,\"1अअलउ\")=0),\"\",COUNTIF('Entry sheet-2-hin'!$AL$9:$AL$68,\"1अअलउ\")))","v":""},{"$f":"IF(AE38=\"\",\"\",IF(COUNTIF('Entry sheet-2-hin'!$AL$9:$AL$68,\"30ASA1C\")=0,COUNTIF('Entry sheet-2-hin'!$AL$9:$AL$68,\"30ASA1\")*1,COUNTIF('Entry sheet-2-hin'!$AL$9:$AL$68,\"30ASA1C\")*1))","v":""},{"$f":"IF(B38=\"\",\"\",IF(AND(COUNTIF('Entry sheet-2-hin'!$AL$9:$AL$68,\"30ASA2C\")=0,COUNTIF('Entry sheet-2-hin'!$AL$9:$AL$68,\"30ASA2\")=0),\"\",IF(COUNTIF('Entry sheet-2-hin'!$AL$9:$AL$68,\"30ASA2C\")=0,COUNTIF('Entry sheet-2-hin'!$AL$9:$AL$68,\"30ASA2\"),COUNTIF('Entry sheet-2-hin'!$AL$9:$AL$68,\"30ASA2C\")&\"*\")))","v":""},{"$f":"IF(AG38=\"\",\"\",IF(COUNTIF('Entry sheet-2-hin'!$AL$9:$AL$68,\"30ASA2C\")=0,COUNTIF('Entry sheet-2-hin'!$AL$9:$AL$68,\"30ASA2\")*2,COUNTIF('Entry sheet-2-hin'!$AL$9:$AL$68,\"30ASA2C\")*2))","v":""},{"$f":"IF(B38=\"\",\"\",IF(AND(COUNTIF('Entry sheet-2-hin'!$AL$9:$AL$68,\"30ALA1C\")=0,COUNTIF('Entry sheet-2-hin'!$AL$9:$AL$68,\"30ALA1\")=0),\"\",IF(COUNTIF('Entry sheet-2-hin'!$AL$9:$AL$68,\"30ALA1C\")=0,COUNTIF('Entry sheet-2-hin'!$AL$9:$AL$68,\"30ALA1\"),COUNTIF('Entry sheet-2-hin'!$AL$9:$AL$68,\"30ALA1C\")&\"*\")))","v":""},"",{"$f":"IF(B38=\"\",\"\",IF(AND(COUNTIF('Entry sheet-2-hin'!$AL$9:$AL$68,\"30ALA2C\")=0,COUNTIF('Entry sheet-2-hin'!$AL$9:$AL$68,\"30ALA2\")=0),\"\",IF(COUNTIF('Entry sheet-2-hin'!$AL$9:$AL$68,\"30ALA2C\")=0,COUNTIF('Entry sheet-2-hin'!$AL$9:$AL$68,\"30ALA2\"),COUNTIF('Entry sheet-2-hin'!$AL$9:$AL$68,\"30ALA2C\")&\"*\")))","v":""},{"$f":"IF(AK38=\"\",\"\",IF(COUNTIF('Entry sheet-2-hin'!$AL$9:$AL$68,\"30ALA2C\")=0,COUNTIF('Entry sheet-2-hin'!$AL$9:$AL$68,\"30ALA2\")*4,COUNTIF('Entry sheet-2-hin'!$AL$9:$AL$68,\"30ALA2C\")*4))","v":""},{"$f":"IF(B38=\"\",\"\",IF(AND(COUNTIF('Entry sheet-2-hin'!$AL$9:$AL$68,\"1रसबवि\")=0),\"\",COUNTIF('Entry sheet-2-hin'!$AL$9:$AL$68,\"1रसबवि\")))","v":""},"",{"$f":"IF(B38=\"\",\"\",IF(AND(COUNTIF('Entry sheet-2-hin'!$AL$9:$AL$68,\"30SOTC\")=0,COUNTIF('Entry sheet-2-hin'!$AL$9:$AL$68,\"30SOT\")=0),\"\",IF(COUNTIF('Entry sheet-2-hin'!$AL$9:$AL$68,\"30SOTC\")=0,COUNTIF('Entry sheet-2-hin'!$AL$9:$AL$68,\"30SOT\"),COUNTIF('Entry sheet-2-hin'!$AL$9:$AL$68,\"30SOTC\")&\"*\")))","v":""},{"$f":"IF(AO38=\"\",\"\",IF(COUNTIF('Entry sheet-2-hin'!$AL$9:$AL$68,\"30SOTC\")=0,COUNTIF('Entry sheet-2-hin'!$AL$9:$AL$68,\"30SOT\")*1,COUNTIF('Entry sheet-2-hin'!$AL$9:$AL$68,\"30SOTC\")*1))","v":""},{"$f":"IF(B38=\"\",\"\",IF(AND(COUNTIF('Entry sheet-2-hin'!$AL$9:$AL$68,\"1रसअलउ\")=0),\"\",COUNTIF('Entry sheet-2-hin'!$AL$9:$AL$68,\"1रसअलउ\")))","v":""},{"$f":"IF(AQ38=\"\",\"\",IF(COUNTIF('Entry sheet-2-hin'!$AL$9:$AL$68,\"30SSA1C\")=0,COUNTIF('Entry sheet-2-hin'!$AL$9:$AL$68,\"30SSA1\")*1,COUNTIF('Entry sheet-2-hin'!$AL$9:$AL$68,\"30SSA1C\")*1))","v":""},{"$f":"IF(B38=\"\",\"\",IF(AND(COUNTIF('Entry sheet-2-hin'!$AL$9:$AL$68,\"1रसलउ२\")=0),\"\",COUNTIF('Entry sheet-2-hin'!$AL$9:$AL$68,\"1रसलउ२\")))","v":""},"",{"$f":"IF(B38=\"\",\"\",IF(AND(COUNTIF('Entry sheet-2-hin'!$AL$9:$AL$68,\"30SLA1C\")=0,COUNTIF('Entry sheet-2-hin'!$AL$9:$AL$68,\"30SLA1\")=0),\"\",IF(COUNTIF('Entry sheet-2-hin'!$AL$9:$AL$68,\"30SLA1C\")=0,COUNTIF('Entry sheet-2-hin'!$AL$9:$AL$68,\"30SLA1\"),COUNTIF('Entry sheet-2-hin'!$AL$9:$AL$68,\"30SLA1C\")&\"*\")))","v":""},"",{"$f":"IF(B38=\"\",\"\",IF(AND(COUNTIF('Entry sheet-2-hin'!$AL$9:$AL$68,\"30SLA2C\")=0,COUNTIF('Entry sheet-2-hin'!$AL$9:$AL$68,\"30SLA2\")=0),\"\",IF(COUNTIF('Entry sheet-2-hin'!$AL$9:$AL$68,\"30SLA2C\")=0,COUNTIF('Entry sheet-2-hin'!$AL$9:$AL$68,\"30SLA2\"),COUNTIF('Entry sheet-2-hin'!$AL$9:$AL$68,\"30SLA2C\")&\"*\")))","v":""},"","","","","","","","","","","","","","",""]
[{"$f":"IF('Entry sheet-1-hin'!A40=\"\",\"\",'Entry sheet-1-hin'!A40)","v":""},{"$f":"IF('Entry sheet-1-hin'!B40=\"\",\"\",'Entry sheet-1-hin'!B40)","v":""},{"$f":"IF(B39=\"\",\"\",IF(AND(COUNTIF('Entry sheet-2-hin'!$AL$9:$AL$68,\"31KMCC\")=0,COUNTIF('Entry sheet-2-hin'!$AL$9:$AL$68,\"31KMC\")=0),\"\",IF(COUNTIF('Entry sheet-2-hin'!$AL$9:$AL$68,\"31KMCC\")=0,COUNTIF('Entry sheet-2-hin'!$AL$9:$AL$68,\"31KMC\"),COUNTIF('Entry sheet-2-hin'!$AL$9:$AL$68,\"31KMCC\")&\"*\")))","v":""},{"$f":"IF(C39=\"\",\"\",IF(COUNTIF('Entry sheet-2-hin'!$AL$9:$AL$68,\"31KMCC\")=0,COUNTIF('Entry sheet-2-hin'!$AL$9:$AL$68,\"31KMC\")*1,COUNTIF('Entry sheet-2-hin'!$AL$9:$AL$68,\"31KMCC\")*1))","v":""},{"$f":"IF(B39=\"\",\"\",IF(AND(COUNTIF('Entry sheet-2-hin'!$AL$9:$AL$68,\"31KOTC\")=0,COUNTIF('Entry sheet-2-hin'!$AL$9:$AL$68,\"31KOT\")=0),\"\",IF(COUNTIF('Entry sheet-2-hin'!$AL$9:$AL$68,\"31KOTC\")=0,COUNTIF('Entry sheet-2-hin'!$AL$9:$AL$68,\"31KOT\"),COUNTIF('Entry sheet-2-hin'!$AL$9:$AL$68,\"31KOTC\")&\"*\")))","v":""},{"$f":"IF(E39=\"\",\"\",IF(COUNTIF('Entry sheet-2-hin'!$AL$9:$AL$68,\"31KOTC\")=0,COUNTIF('Entry sheet-2-hin'!$AL$9:$AL$68,\"31KOT\")*1,COUNTIF('Entry sheet-2-hin'!$AL$9:$AL$68,\"31KOTC\")*1))","v":""},{"$f":"IF(B39=\"\",\"\",IF(AND(COUNTIF('Entry sheet-2-hin'!$AL$9:$AL$68,\"31KSA1C\")=0,COUNTIF('Entry sheet-2-hin'!$AL$9:$AL$68,\"31KSA1\")=0),\"\",IF(COUNTIF('Entry sheet-2-hin'!$AL$9:$AL$68,\"31KSA1C\")=0,COUNTIF('Entry sheet-2-hin'!$AL$9:$AL$68,\"31KSA1\"),COUNTIF('Entry sheet-2-hin'!$AL$9:$AL$68,\"31KSA1C\")&\"*\")))","v":""},{"$f":"IF(G39=\"\",\"\",IF(COUNTIF('Entry sheet-2-hin'!$AL$9:$AL$68,\"31KSA1C\")=0,COUNTIF('Entry sheet-2-hin'!$AL$9:$AL$68,\"31KSA1\")*1,COUNTIF('Entry sheet-2-hin'!$AL$9:$AL$68,\"31KSA1C\")*1))","v":""},{"$f":"IF(B39=\"\",\"\",IF(AND(COUNTIF('Entry sheet-2-hin'!$AL$9:$AL$68,\"31KSA2C\")=0,COUNTIF('Entry sheet-2-hin'!$AL$9:$AL$68,\"31KSA2\")=0),\"\",IF(COUNTIF('Entry sheet-2-hin'!$AL$9:$AL$68,\"31KSA2C\")=0,COUNTIF('Entry sheet-2-hin'!$AL$9:$AL$68,\"31KSA2\"),COUNTIF('Entry sheet-2-hin'!$AL$9:$AL$68,\"31KSA2C\")&\"*\")))","v":""},{"$f":"IF(I39=\"\",\"\",IF(COUNTIF('Entry sheet-2-hin'!$AL$9:$AL$68,\"31KSA2C\")=0,COUNTIF('Entry sheet-2-hin'!$AL$9:$AL$68,\"31KSA2\")*2,COUNTIF('Entry sheet-2-hin'!$AL$9:$AL$68,\"31KSA2C\")*2))","v":""},{"$f":"IF(B39=\"\",\"\",IF(AND(COUNTIF('Entry sheet-2-hin'!$AL$9:$AL$68,\"31KLA1C\")=0,COUNTIF('Entry sheet-2-hin'!$AL$9:$AL$68,\"31KLA1\")=0),\"\",IF(COUNTIF('Entry sheet-2-hin'!$AL$9:$AL$68,\"31KLA1C\")=0,COUNTIF('Entry sheet-2-hin'!$AL$9:$AL$68,\"31KLA1\"),COUNTIF('Entry sheet-2-hin'!$AL$9:$AL$68,\"31KLA1C\")&\"*\")))","v":""},{"$f":"IF(K39=\"\",\"\",IF(COUNTIF('Entry sheet-2-hin'!$AL$9:$AL$68,\"31KLA1C\")=0,COUNTIF('Entry sheet-2-hin'!$AL$9:$AL$68,\"31KLA1\")*3,COUNTIF('Entry sheet-2-hin'!$AL$9:$AL$68,\"31KLA1C\")*3))","v":""},{"$f":"IF(B39=\"\",\"\",IF(AND(COUNTIF('Entry sheet-2-hin'!$AL$9:$AL$68,\"1स्मदीउ४\")=0),\"\",COUNTIF('Entry sheet-2-hin'!$AL$9:$AL$68,\"1स्मदीउ४\")))","v":""},"",{"$f":"IF(B39=\"\",\"\",IF(AND(COUNTIF('Entry sheet-2-hin'!$AL$9:$AL$68,\"31UMCC\")=0,COUNTIF('Entry sheet-2-hin'!$AL$9:$AL$68,\"31UMC\")=0),\"\",IF(COUNTIF('Entry sheet-2-hin'!$AL$9:$AL$68,\"31UMCC\")=0,COUNTIF('Entry sheet-2-hin'!$AL$9:$AL$68,\"31UMC\"),COUNTIF('Entry sheet-2-hin'!$AL$9:$AL$68,\"31UMCC\")&\"*\")))","v":""},{"$f":"IF(O39=\"\",\"\",IF(COUNTIF('Entry sheet-2-hin'!$AL$9:$AL$68,\"31UMCC\")=0,COUNTIF('Entry sheet-2-hin'!$AL$9:$AL$68,\"31UMC\")*1,COUNTIF('Entry sheet-2-hin'!$AL$9:$AL$68,\"31UMCC\")*1))","v":""},{"$f":"IF(B39=\"\",\"\",IF(AND(COUNTIF('Entry sheet-2-hin'!$AL$9:$AL$68,\"1समवनि\")=0),\"\",COUNTIF('Entry sheet-2-hin'!$AL$9:$AL$68,\"1समवनि\")))","v":""},{"$f":"IF(Q39=\"\",\"\",IF(COUNTIF('Entry sheet-2-hin'!$AL$9:$AL$68,\"31UOTC\")=0,COUNTIF('Entry sheet-2-hin'!$AL$9:$AL$68,\"31UOT\")*1,COUNTIF('Entry sheet-2-hin'!$AL$9:$AL$68,\"31UOTC\")*1))","v":""},{"$f":"IF(B39=\"\",\"\",IF(AND(COUNTIF('Entry sheet-2-hin'!$AL$9:$AL$68,\"1समअलउ\")=0),\"\",COUNTIF('Entry sheet-2-hin'!$AL$9:$AL$68,\"1समअलउ\")))","v":""},{"$f":"IF(S39=\"\",\"\",IF(COUNTIF('Entry sheet-2-hin'!$AL$9:$AL$68,\"31USA1C\")=0,COUNTIF('Entry sheet-2-hin'!$AL$9:$AL$68,\"31USA1\")*1,COUNTIF('Entry sheet-2-hin'!$AL$9:$AL$68,\"31USA1C\")*1))","v":""},{"$f":"IF(B39=\"\",\"\",IF(AND(COUNTIF('Entry sheet-2-hin'!$AL$9:$AL$68,\"31USA2C\")=0,COUNTIF('Entry sheet-2-hin'!$AL$9:$AL$68,\"31USA2\")=0),\"\",IF(COUNTIF('Entry sheet-2-hin'!$AL$9:$AL$68,\"31USA2C\")=0,COUNTIF('Entry sheet-2-hin'!$AL$9:$AL$68,\"31USA2\"),COUNTIF('Entry sheet-2-hin'!$AL$9:$AL$68,\"31USA2C\")&\"*\")))","v":""},{"$f":"IF(U39=\"\",\"\",IF(COUNTIF('Entry sheet-2-hin'!$AL$9:$AL$68,\"31USA2C\")=0,COUNTIF('Entry sheet-2-hin'!$AL$9:$AL$68,\"31USA2\")*2,COUNTIF('Entry sheet-2-hin'!$AL$9:$AL$68,\"31USA2C\")*2))","v":""},{"$f":"IF(B39=\"\",\"\",IF(AND(COUNTIF('Entry sheet-2-hin'!$AL$9:$AL$68,\"31ULA1C\")=0,COUNTIF('Entry sheet-2-hin'!$AL$9:$AL$68,\"31ULA1\")=0),\"\",IF(COUNTIF('Entry sheet-2-hin'!$AL$9:$AL$68,\"31ULA1C\")=0,COUNTIF('Entry sheet-2-hin'!$AL$9:$AL$68,\"31ULA1\"),COUNTIF('Entry sheet-2-hin'!$AL$9:$AL$68,\"31ULA1C\")&\"*\")))","v":""},{"$f":"IF(W39=\"\",\"\",IF(COUNTIF('Entry sheet-2-hin'!$AL$9:$AL$68,\"31ULA1C\")=0,COUNTIF('Entry sheet-2-hin'!$AL$9:$AL$68,\"31ULA1\")*3,COUNTIF('Entry sheet-2-hin'!$AL$9:$AL$68,\"31ULA1C\")*3))","v":""},{"$f":"IF(B39=\"\",\"\",IF(AND(COUNTIF('Entry sheet-2-hin'!$AL$9:$AL$68,\"1समदीउ४\")=0),\"\",COUNTIF('Entry sheet-2-hin'!$AL$9:$AL$68,\"1समदीउ४\")))","v":""},{"$f":"IF(Y39=\"\",\"\",IF(COUNTIF('Entry sheet-2-hin'!$AL$9:$AL$68,\"31ULA2C\")=0,COUNTIF('Entry sheet-2-hin'!$AL$9:$AL$68,\"31ULA2\")*4,COUNTIF('Entry sheet-2-hin'!$AL$9:$AL$68,\"31ULA2C\")*4))","v":""},{"$f":"IF(B39=\"\",\"\",IF(AND(COUNTIF('Entry sheet-2-hin'!$AL$9:$AL$68,\"1अबवि\")=0),\"\",COUNTIF('Entry sheet-2-hin'!$AL$9:$AL$68,\"1अबवि\")))","v":""},"",{"$f":"IF(B39=\"\",\"\",IF(AND(COUNTIF('Entry sheet-2-hin'!$AL$9:$AL$68,\"31AOTC\")=0,COUNTIF('Entry sheet-2-hin'!$AL$9:$AL$68,\"31AOT\")=0),\"\",IF(COUNTIF('Entry sheet-2-hin'!$AL$9:$AL$68,\"31AOTC\")=0,COUNTIF('Entry sheet-2-hin'!$AL$9:$AL$68,\"31AOT\"),COUNTIF('Entry sheet-2-hin'!$AL$9:$AL$68,\"31AOTC\")&\"*\")))","v":""},{"$f":"IF(AC39=\"\",\"\",IF(COUNTIF('Entry sheet-2-hin'!$AL$9:$AL$68,\"31AOTC\")=0,COUNTIF('Entry sheet-2-hin'!$AL$9:$AL$68,\"31AOT\")*1,COUNTIF('Entry sheet-2-hin'!$AL$9:$AL$68,\"31AOTC\")*1))","v":""},{"$f":"IF(B39=\"\",\"\",IF(AND(COUNTIF('Entry sheet-2-hin'!$AL$9:$AL$68,\"1अअलउ\")=0),\"\",COUNTIF('Entry sheet-2-hin'!$AL$9:$AL$68,\"1अअलउ\")))","v":""},{"$f":"IF(AE39=\"\",\"\",IF(COUNTIF('Entry sheet-2-hin'!$AL$9:$AL$68,\"31ASA1C\")=0,COUNTIF('Entry sheet-2-hin'!$AL$9:$AL$68,\"31ASA1\")*1,COUNTIF('Entry sheet-2-hin'!$AL$9:$AL$68,\"31ASA1C\")*1))","v":""},{"$f":"IF(B39=\"\",\"\",IF(AND(COUNTIF('Entry sheet-2-hin'!$AL$9:$AL$68,\"31ASA2C\")=0,COUNTIF('Entry sheet-2-hin'!$AL$9:$AL$68,\"31ASA2\")=0),\"\",IF(COUNTIF('Entry sheet-2-hin'!$AL$9:$AL$68,\"31ASA2C\")=0,COUNTIF('Entry sheet-2-hin'!$AL$9:$AL$68,\"31ASA2\"),COUNTIF('Entry sheet-2-hin'!$AL$9:$AL$68,\"31ASA2C\")&\"*\")))","v":""},{"$f":"IF(AG39=\"\",\"\",IF(COUNTIF('Entry sheet-2-hin'!$AL$9:$AL$68,\"31ASA2C\")=0,COUNTIF('Entry sheet-2-hin'!$AL$9:$AL$68,\"31ASA2\")*2,COUNTIF('Entry sheet-2-hin'!$AL$9:$AL$68,\"31ASA2C\")*2))","v":""},{"$f":"IF(B39=\"\",\"\",IF(AND(COUNTIF('Entry sheet-2-hin'!$AL$9:$AL$68,\"31ALA1C\")=0,COUNTIF('Entry sheet-2-hin'!$AL$9:$AL$68,\"31ALA1\")=0),\"\",IF(COUNTIF('Entry sheet-2-hin'!$AL$9:$AL$68,\"31ALA1C\")=0,COUNTIF('Entry sheet-2-hin'!$AL$9:$AL$68,\"31ALA1\"),COUNTIF('Entry sheet-2-hin'!$AL$9:$AL$68,\"31ALA1C\")&\"*\")))","v":""},"",{"$f":"IF(B39=\"\",\"\",IF(AND(COUNTIF('Entry sheet-2-hin'!$AL$9:$AL$68,\"31ALA2C\")=0,COUNTIF('Entry sheet-2-hin'!$AL$9:$AL$68,\"31ALA2\")=0),\"\",IF(COUNTIF('Entry sheet-2-hin'!$AL$9:$AL$68,\"31ALA2C\")=0,COUNTIF('Entry sheet-2-hin'!$AL$9:$AL$68,\"31ALA2\"),COUNTIF('Entry sheet-2-hin'!$AL$9:$AL$68,\"31ALA2C\")&\"*\")))","v":""},{"$f":"IF(AK39=\"\",\"\",IF(COUNTIF('Entry sheet-2-hin'!$AL$9:$AL$68,\"31ALA2C\")=0,COUNTIF('Entry sheet-2-hin'!$AL$9:$AL$68,\"31ALA2\")*4,COUNTIF('Entry sheet-2-hin'!$AL$9:$AL$68,\"31ALA2C\")*4))","v":""},{"$f":"IF(B39=\"\",\"\",IF(AND(COUNTIF('Entry sheet-2-hin'!$AL$9:$AL$68,\"1रसबवि\")=0),\"\",COUNTIF('Entry sheet-2-hin'!$AL$9:$AL$68,\"1रसबवि\")))","v":""},"",{"$f":"IF(B39=\"\",\"\",IF(AND(COUNTIF('Entry sheet-2-hin'!$AL$9:$AL$68,\"31SOTC\")=0,COUNTIF('Entry sheet-2-hin'!$AL$9:$AL$68,\"31SOT\")=0),\"\",IF(COUNTIF('Entry sheet-2-hin'!$AL$9:$AL$68,\"31SOTC\")=0,COUNTIF('Entry sheet-2-hin'!$AL$9:$AL$68,\"31SOT\"),COUNTIF('Entry sheet-2-hin'!$AL$9:$AL$68,\"31SOTC\")&\"*\")))","v":""},{"$f":"IF(AO39=\"\",\"\",IF(COUNTIF('Entry sheet-2-hin'!$AL$9:$AL$68,\"31SOTC\")=0,COUNTIF('Entry sheet-2-hin'!$AL$9:$AL$68,\"31SOT\")*1,COUNTIF('Entry sheet-2-hin'!$AL$9:$AL$68,\"31SOTC\")*1))","v":""},{"$f":"IF(B39=\"\",\"\",IF(AND(COUNTIF('Entry sheet-2-hin'!$AL$9:$AL$68,\"1रसअलउ\")=0),\"\",COUNTIF('Entry sheet-2-hin'!$AL$9:$AL$68,\"1रसअलउ\")))","v":""},{"$f":"IF(AQ39=\"\",\"\",IF(COUNTIF('Entry sheet-2-hin'!$AL$9:$AL$68,\"31SSA1C\")=0,COUNTIF('Entry sheet-2-hin'!$AL$9:$AL$68,\"31SSA1\")*1,COUNTIF('Entry sheet-2-hin'!$AL$9:$AL$68,\"31SSA1C\")*1))","v":""},{"$f":"IF(B39=\"\",\"\",IF(AND(COUNTIF('Entry sheet-2-hin'!$AL$9:$AL$68,\"1रसलउ२\")=0),\"\",COUNTIF('Entry sheet-2-hin'!$AL$9:$AL$68,\"1रसलउ२\")))","v":""},"",{"$f":"IF(B39=\"\",\"\",IF(AND(COUNTIF('Entry sheet-2-hin'!$AL$9:$AL$68,\"31SLA1C\")=0,COUNTIF('Entry sheet-2-hin'!$AL$9:$AL$68,\"31SLA1\")=0),\"\",IF(COUNTIF('Entry sheet-2-hin'!$AL$9:$AL$68,\"31SLA1C\")=0,COUNTIF('Entry sheet-2-hin'!$AL$9:$AL$68,\"31SLA1\"),COUNTIF('Entry sheet-2-hin'!$AL$9:$AL$68,\"31SLA1C\")&\"*\")))","v":""},"",{"$f":"IF(B39=\"\",\"\",IF(AND(COUNTIF('Entry sheet-2-hin'!$AL$9:$AL$68,\"31SLA2C\")=0,COUNTIF('Entry sheet-2-hin'!$AL$9:$AL$68,\"31SLA2\")=0),\"\",IF(COUNTIF('Entry sheet-2-hin'!$AL$9:$AL$68,\"31SLA2C\")=0,COUNTIF('Entry sheet-2-hin'!$AL$9:$AL$68,\"31SLA2\"),COUNTIF('Entry sheet-2-hin'!$AL$9:$AL$68,\"31SLA2C\")&\"*\")))","v":""},"","","","","","","","","","","","","","",""]
[{"$f":"IF('Entry sheet-1-hin'!A41=\"\",\"\",'Entry sheet-1-hin'!A41)","v":""},{"$f":"IF('Entry sheet-1-hin'!B41=\"\",\"\",'Entry sheet-1-hin'!B41)","v":""},{"$f":"IF(B40=\"\",\"\",IF(AND(COUNTIF('Entry sheet-2-hin'!$AL$9:$AL$68,\"32KMCC\")=0,COUNTIF('Entry sheet-2-hin'!$AL$9:$AL$68,\"32KMC\")=0),\"\",IF(COUNTIF('Entry sheet-2-hin'!$AL$9:$AL$68,\"32KMCC\")=0,COUNTIF('Entry sheet-2-hin'!$AL$9:$AL$68,\"32KMC\"),COUNTIF('Entry sheet-2-hin'!$AL$9:$AL$68,\"32KMCC\")&\"*\")))","v":""},{"$f":"IF(C40=\"\",\"\",IF(COUNTIF('Entry sheet-2-hin'!$AL$9:$AL$68,\"32KMCC\")=0,COUNTIF('Entry sheet-2-hin'!$AL$9:$AL$68,\"32KMC\")*1,COUNTIF('Entry sheet-2-hin'!$AL$9:$AL$68,\"32KMCC\")*1))","v":""},{"$f":"IF(B40=\"\",\"\",IF(AND(COUNTIF('Entry sheet-2-hin'!$AL$9:$AL$68,\"32KOTC\")=0,COUNTIF('Entry sheet-2-hin'!$AL$9:$AL$68,\"32KOT\")=0),\"\",IF(COUNTIF('Entry sheet-2-hin'!$AL$9:$AL$68,\"32KOTC\")=0,COUNTIF('Entry sheet-2-hin'!$AL$9:$AL$68,\"32KOT\"),COUNTIF('Entry sheet-2-hin'!$AL$9:$AL$68,\"32KOTC\")&\"*\")))","v":""},{"$f":"IF(E40=\"\",\"\",IF(COUNTIF('Entry sheet-2-hin'!$AL$9:$AL$68,\"32KOTC\")=0,COUNTIF('Entry sheet-2-hin'!$AL$9:$AL$68,\"32KOT\")*1,COUNTIF('Entry sheet-2-hin'!$AL$9:$AL$68,\"32KOTC\")*1))","v":""},{"$f":"IF(B40=\"\",\"\",IF(AND(COUNTIF('Entry sheet-2-hin'!$AL$9:$AL$68,\"32KSA1C\")=0,COUNTIF('Entry sheet-2-hin'!$AL$9:$AL$68,\"32KSA1\")=0),\"\",IF(COUNTIF('Entry sheet-2-hin'!$AL$9:$AL$68,\"32KSA1C\")=0,COUNTIF('Entry sheet-2-hin'!$AL$9:$AL$68,\"32KSA1\"),COUNTIF('Entry sheet-2-hin'!$AL$9:$AL$68,\"32KSA1C\")&\"*\")))","v":""},{"$f":"IF(G40=\"\",\"\",IF(COUNTIF('Entry sheet-2-hin'!$AL$9:$AL$68,\"32KSA1C\")=0,COUNTIF('Entry sheet-2-hin'!$AL$9:$AL$68,\"32KSA1\")*1,COUNTIF('Entry sheet-2-hin'!$AL$9:$AL$68,\"32KSA1C\")*1))","v":""},{"$f":"IF(B40=\"\",\"\",IF(AND(COUNTIF('Entry sheet-2-hin'!$AL$9:$AL$68,\"32KSA2C\")=0,COUNTIF('Entry sheet-2-hin'!$AL$9:$AL$68,\"32KSA2\")=0),\"\",IF(COUNTIF('Entry sheet-2-hin'!$AL$9:$AL$68,\"32KSA2C\")=0,COUNTIF('Entry sheet-2-hin'!$AL$9:$AL$68,\"32KSA2\"),COUNTIF('Entry sheet-2-hin'!$AL$9:$AL$68,\"32KSA2C\")&\"*\")))","v":""},{"$f":"IF(I40=\"\",\"\",IF(COUNTIF('Entry sheet-2-hin'!$AL$9:$AL$68,\"32KSA2C\")=0,COUNTIF('Entry sheet-2-hin'!$AL$9:$AL$68,\"32KSA2\")*2,COUNTIF('Entry sheet-2-hin'!$AL$9:$AL$68,\"32KSA2C\")*2))","v":""},{"$f":"IF(B40=\"\",\"\",IF(AND(COUNTIF('Entry sheet-2-hin'!$AL$9:$AL$68,\"32KLA1C\")=0,COUNTIF('Entry sheet-2-hin'!$AL$9:$AL$68,\"32KLA1\")=0),\"\",IF(COUNTIF('Entry sheet-2-hin'!$AL$9:$AL$68,\"32KLA1C\")=0,COUNTIF('Entry sheet-2-hin'!$AL$9:$AL$68,\"32KLA1\"),COUNTIF('Entry sheet-2-hin'!$AL$9:$AL$68,\"32KLA1C\")&\"*\")))","v":""},{"$f":"IF(K40=\"\",\"\",IF(COUNTIF('Entry sheet-2-hin'!$AL$9:$AL$68,\"32KLA1C\")=0,COUNTIF('Entry sheet-2-hin'!$AL$9:$AL$68,\"32KLA1\")*3,COUNTIF('Entry sheet-2-hin'!$AL$9:$AL$68,\"32KLA1C\")*3))","v":""},{"$f":"IF(B40=\"\",\"\",IF(AND(COUNTIF('Entry sheet-2-hin'!$AL$9:$AL$68,\"1स्मदीउ४\")=0),\"\",COUNTIF('Entry sheet-2-hin'!$AL$9:$AL$68,\"1स्मदीउ४\")))","v":""},"",{"$f":"IF(B40=\"\",\"\",IF(AND(COUNTIF('Entry sheet-2-hin'!$AL$9:$AL$68,\"32UMCC\")=0,COUNTIF('Entry sheet-2-hin'!$AL$9:$AL$68,\"32UMC\")=0),\"\",IF(COUNTIF('Entry sheet-2-hin'!$AL$9:$AL$68,\"32UMCC\")=0,COUNTIF('Entry sheet-2-hin'!$AL$9:$AL$68,\"32UMC\"),COUNTIF('Entry sheet-2-hin'!$AL$9:$AL$68,\"32UMCC\")&\"*\")))","v":""},{"$f":"IF(O40=\"\",\"\",IF(COUNTIF('Entry sheet-2-hin'!$AL$9:$AL$68,\"32UMCC\")=0,COUNTIF('Entry sheet-2-hin'!$AL$9:$AL$68,\"32UMC\")*1,COUNTIF('Entry sheet-2-hin'!$AL$9:$AL$68,\"32UMCC\")*1))","v":""},{"$f":"IF(B40=\"\",\"\",IF(AND(COUNTIF('Entry sheet-2-hin'!$AL$9:$AL$68,\"1समवनि\")=0),\"\",COUNTIF('Entry sheet-2-hin'!$AL$9:$AL$68,\"1समवनि\")))","v":""},{"$f":"IF(Q40=\"\",\"\",IF(COUNTIF('Entry sheet-2-hin'!$AL$9:$AL$68,\"32UOTC\")=0,COUNTIF('Entry sheet-2-hin'!$AL$9:$AL$68,\"32UOT\")*1,COUNTIF('Entry sheet-2-hin'!$AL$9:$AL$68,\"32UOTC\")*1))","v":""},{"$f":"IF(B40=\"\",\"\",IF(AND(COUNTIF('Entry sheet-2-hin'!$AL$9:$AL$68,\"1समअलउ\")=0),\"\",COUNTIF('Entry sheet-2-hin'!$AL$9:$AL$68,\"1समअलउ\")))","v":""},{"$f":"IF(S40=\"\",\"\",IF(COUNTIF('Entry sheet-2-hin'!$AL$9:$AL$68,\"32USA1C\")=0,COUNTIF('Entry sheet-2-hin'!$AL$9:$AL$68,\"32USA1\")*1,COUNTIF('Entry sheet-2-hin'!$AL$9:$AL$68,\"32USA1C\")*1))","v":""},{"$f":"IF(B40=\"\",\"\",IF(AND(COUNTIF('Entry sheet-2-hin'!$AL$9:$AL$68,\"32USA2C\")=0,COUNTIF('Entry sheet-2-hin'!$AL$9:$AL$68,\"32USA2\")=0),\"\",IF(COUNTIF('Entry sheet-2-hin'!$AL$9:$AL$68,\"32USA2C\")=0,COUNTIF('Entry sheet-2-hin'!$AL$9:$AL$68,\"32USA2\"),COUNTIF('Entry sheet-2-hin'!$AL$9:$AL$68,\"32USA2C\")&\"*\")))","v":""},{"$f":"IF(U40=\"\",\"\",IF(COUNTIF('Entry sheet-2-hin'!$AL$9:$AL$68,\"32USA2C\")=0,COUNTIF('Entry sheet-2-hin'!$AL$9:$AL$68,\"32USA2\")*2,COUNTIF('Entry sheet-2-hin'!$AL$9:$AL$68,\"32USA2C\")*2))","v":""},{"$f":"IF(B40=\"\",\"\",IF(AND(COUNTIF('Entry sheet-2-hin'!$AL$9:$AL$68,\"32ULA1C\")=0,COUNTIF('Entry sheet-2-hin'!$AL$9:$AL$68,\"32ULA1\")=0),\"\",IF(COUNTIF('Entry sheet-2-hin'!$AL$9:$AL$68,\"32ULA1C\")=0,COUNTIF('Entry sheet-2-hin'!$AL$9:$AL$68,\"32ULA1\"),COUNTIF('Entry sheet-2-hin'!$AL$9:$AL$68,\"32ULA1C\")&\"*\")))","v":""},{"$f":"IF(W40=\"\",\"\",IF(COUNTIF('Entry sheet-2-hin'!$AL$9:$AL$68,\"32ULA1C\")=0,COUNTIF('Entry sheet-2-hin'!$AL$9:$AL$68,\"32ULA1\")*3,COUNTIF('Entry sheet-2-hin'!$AL$9:$AL$68,\"32ULA1C\")*3))","v":""},{"$f":"IF(B40=\"\",\"\",IF(AND(COUNTIF('Entry sheet-2-hin'!$AL$9:$AL$68,\"1समदीउ४\")=0),\"\",COUNTIF('Entry sheet-2-hin'!$AL$9:$AL$68,\"1समदीउ४\")))","v":""},{"$f":"IF(Y40=\"\",\"\",IF(COUNTIF('Entry sheet-2-hin'!$AL$9:$AL$68,\"32ULA2C\")=0,COUNTIF('Entry sheet-2-hin'!$AL$9:$AL$68,\"32ULA2\")*4,COUNTIF('Entry sheet-2-hin'!$AL$9:$AL$68,\"32ULA2C\")*4))","v":""},{"$f":"IF(B40=\"\",\"\",IF(AND(COUNTIF('Entry sheet-2-hin'!$AL$9:$AL$68,\"1अबवि\")=0),\"\",COUNTIF('Entry sheet-2-hin'!$AL$9:$AL$68,\"1अबवि\")))","v":""},"",{"$f":"IF(B40=\"\",\"\",IF(AND(COUNTIF('Entry sheet-2-hin'!$AL$9:$AL$68,\"32AOTC\")=0,COUNTIF('Entry sheet-2-hin'!$AL$9:$AL$68,\"32AOT\")=0),\"\",IF(COUNTIF('Entry sheet-2-hin'!$AL$9:$AL$68,\"32AOTC\")=0,COUNTIF('Entry sheet-2-hin'!$AL$9:$AL$68,\"32AOT\"),COUNTIF('Entry sheet-2-hin'!$AL$9:$AL$68,\"32AOTC\")&\"*\")))","v":""},{"$f":"IF(AC40=\"\",\"\",IF(COUNTIF('Entry sheet-2-hin'!$AL$9:$AL$68,\"32AOTC\")=0,COUNTIF('Entry sheet-2-hin'!$AL$9:$AL$68,\"32AOT\")*1,COUNTIF('Entry sheet-2-hin'!$AL$9:$AL$68,\"32AOTC\")*1))","v":""},{"$f":"IF(B40=\"\",\"\",IF(AND(COUNTIF('Entry sheet-2-hin'!$AL$9:$AL$68,\"1अअलउ\")=0),\"\",COUNTIF('Entry sheet-2-hin'!$AL$9:$AL$68,\"1अअलउ\")))","v":""},{"$f":"IF(AE40=\"\",\"\",IF(COUNTIF('Entry sheet-2-hin'!$AL$9:$AL$68,\"32ASA1C\")=0,COUNTIF('Entry sheet-2-hin'!$AL$9:$AL$68,\"32ASA1\")*1,COUNTIF('Entry sheet-2-hin'!$AL$9:$AL$68,\"32ASA1C\")*1))","v":""},{"$f":"IF(B40=\"\",\"\",IF(AND(COUNTIF('Entry sheet-2-hin'!$AL$9:$AL$68,\"32ASA2C\")=0,COUNTIF('Entry sheet-2-hin'!$AL$9:$AL$68,\"32ASA2\")=0),\"\",IF(COUNTIF('Entry sheet-2-hin'!$AL$9:$AL$68,\"32ASA2C\")=0,COUNTIF('Entry sheet-2-hin'!$AL$9:$AL$68,\"32ASA2\"),COUNTIF('Entry sheet-2-hin'!$AL$9:$AL$68,\"32ASA2C\")&\"*\")))","v":""},{"$f":"IF(AG40=\"\",\"\",IF(COUNTIF('Entry sheet-2-hin'!$AL$9:$AL$68,\"32ASA2C\")=0,COUNTIF('Entry sheet-2-hin'!$AL$9:$AL$68,\"32ASA2\")*2,COUNTIF('Entry sheet-2-hin'!$AL$9:$AL$68,\"32ASA2C\")*2))","v":""},{"$f":"IF(B40=\"\",\"\",IF(AND(COUNTIF('Entry sheet-2-hin'!$AL$9:$AL$68,\"32ALA1C\")=0,COUNTIF('Entry sheet-2-hin'!$AL$9:$AL$68,\"32ALA1\")=0),\"\",IF(COUNTIF('Entry sheet-2-hin'!$AL$9:$AL$68,\"32ALA1C\")=0,COUNTIF('Entry sheet-2-hin'!$AL$9:$AL$68,\"32ALA1\"),COUNTIF('Entry sheet-2-hin'!$AL$9:$AL$68,\"32ALA1C\")&\"*\")))","v":""},"",{"$f":"IF(B40=\"\",\"\",IF(AND(COUNTIF('Entry sheet-2-hin'!$AL$9:$AL$68,\"32ALA2C\")=0,COUNTIF('Entry sheet-2-hin'!$AL$9:$AL$68,\"32ALA2\")=0),\"\",IF(COUNTIF('Entry sheet-2-hin'!$AL$9:$AL$68,\"32ALA2C\")=0,COUNTIF('Entry sheet-2-hin'!$AL$9:$AL$68,\"32ALA2\"),COUNTIF('Entry sheet-2-hin'!$AL$9:$AL$68,\"32ALA2C\")&\"*\")))","v":""},{"$f":"IF(AK40=\"\",\"\",IF(COUNTIF('Entry sheet-2-hin'!$AL$9:$AL$68,\"32ALA2C\")=0,COUNTIF('Entry sheet-2-hin'!$AL$9:$AL$68,\"32ALA2\")*4,COUNTIF('Entry sheet-2-hin'!$AL$9:$AL$68,\"32ALA2C\")*4))","v":""},{"$f":"IF(B40=\"\",\"\",IF(AND(COUNTIF('Entry sheet-2-hin'!$AL$9:$AL$68,\"1रसबवि\")=0),\"\",COUNTIF('Entry sheet-2-hin'!$AL$9:$AL$68,\"1रसबवि\")))","v":""},"",{"$f":"IF(B40=\"\",\"\",IF(AND(COUNTIF('Entry sheet-2-hin'!$AL$9:$AL$68,\"32SOTC\")=0,COUNTIF('Entry sheet-2-hin'!$AL$9:$AL$68,\"32SOT\")=0),\"\",IF(COUNTIF('Entry sheet-2-hin'!$AL$9:$AL$68,\"32SOTC\")=0,COUNTIF('Entry sheet-2-hin'!$AL$9:$AL$68,\"32SOT\"),COUNTIF('Entry sheet-2-hin'!$AL$9:$AL$68,\"32SOTC\")&\"*\")))","v":""},{"$f":"IF(AO40=\"\",\"\",IF(COUNTIF('Entry sheet-2-hin'!$AL$9:$AL$68,\"32SOTC\")=0,COUNTIF('Entry sheet-2-hin'!$AL$9:$AL$68,\"32SOT\")*1,COUNTIF('Entry sheet-2-hin'!$AL$9:$AL$68,\"32SOTC\")*1))","v":""},{"$f":"IF(B40=\"\",\"\",IF(AND(COUNTIF('Entry sheet-2-hin'!$AL$9:$AL$68,\"1रसअलउ\")=0),\"\",COUNTIF('Entry sheet-2-hin'!$AL$9:$AL$68,\"1रसअलउ\")))","v":""},{"$f":"IF(AQ40=\"\",\"\",IF(COUNTIF('Entry sheet-2-hin'!$AL$9:$AL$68,\"32SSA1C\")=0,COUNTIF('Entry sheet-2-hin'!$AL$9:$AL$68,\"32SSA1\")*1,COUNTIF('Entry sheet-2-hin'!$AL$9:$AL$68,\"32SSA1C\")*1))","v":""},{"$f":"IF(B40=\"\",\"\",IF(AND(COUNTIF('Entry sheet-2-hin'!$AL$9:$AL$68,\"1रसलउ२\")=0),\"\",COUNTIF('Entry sheet-2-hin'!$AL$9:$AL$68,\"1रसलउ२\")))","v":""},"",{"$f":"IF(B40=\"\",\"\",IF(AND(COUNTIF('Entry sheet-2-hin'!$AL$9:$AL$68,\"32SLA1C\")=0,COUNTIF('Entry sheet-2-hin'!$AL$9:$AL$68,\"32SLA1\")=0),\"\",IF(COUNTIF('Entry sheet-2-hin'!$AL$9:$AL$68,\"32SLA1C\")=0,COUNTIF('Entry sheet-2-hin'!$AL$9:$AL$68,\"32SLA1\"),COUNTIF('Entry sheet-2-hin'!$AL$9:$AL$68,\"32SLA1C\")&\"*\")))","v":""},"",{"$f":"IF(B40=\"\",\"\",IF(AND(COUNTIF('Entry sheet-2-hin'!$AL$9:$AL$68,\"32SLA2C\")=0,COUNTIF('Entry sheet-2-hin'!$AL$9:$AL$68,\"32SLA2\")=0),\"\",IF(COUNTIF('Entry sheet-2-hin'!$AL$9:$AL$68,\"32SLA2C\")=0,COUNTIF('Entry sheet-2-hin'!$AL$9:$AL$68,\"32SLA2\"),COUNTIF('Entry sheet-2-hin'!$AL$9:$AL$68,\"32SLA2C\")&\"*\")))","v":""},"","","","","","","","","","","","","","",""]
[{"$f":"IF('Entry sheet-1-hin'!A42=\"\",\"\",'Entry sheet-1-hin'!A42)","v":""},{"$f":"IF('Entry sheet-1-hin'!B42=\"\",\"\",'Entry sheet-1-hin'!B42)","v":""},{"$f":"IF(B41=\"\",\"\",IF(AND(COUNTIF('Entry sheet-2-hin'!$AL$9:$AL$68,\"33KMCC\")=0,COUNTIF('Entry sheet-2-hin'!$AL$9:$AL$68,\"33KMC\")=0),\"\",IF(COUNTIF('Entry sheet-2-hin'!$AL$9:$AL$68,\"33KMCC\")=0,COUNTIF('Entry sheet-2-hin'!$AL$9:$AL$68,\"33KMC\"),COUNTIF('Entry sheet-2-hin'!$AL$9:$AL$68,\"33KMCC\")&\"*\")))","v":""},{"$f":"IF(C41=\"\",\"\",IF(COUNTIF('Entry sheet-2-hin'!$AL$9:$AL$68,\"33KMCC\")=0,COUNTIF('Entry sheet-2-hin'!$AL$9:$AL$68,\"33KMC\")*1,COUNTIF('Entry sheet-2-hin'!$AL$9:$AL$68,\"33KMCC\")*1))","v":""},{"$f":"IF(B41=\"\",\"\",IF(AND(COUNTIF('Entry sheet-2-hin'!$AL$9:$AL$68,\"33KOTC\")=0,COUNTIF('Entry sheet-2-hin'!$AL$9:$AL$68,\"33KOT\")=0),\"\",IF(COUNTIF('Entry sheet-2-hin'!$AL$9:$AL$68,\"33KOTC\")=0,COUNTIF('Entry sheet-2-hin'!$AL$9:$AL$68,\"33KOT\"),COUNTIF('Entry sheet-2-hin'!$AL$9:$AL$68,\"33KOTC\")&\"*\")))","v":""},{"$f":"IF(E41=\"\",\"\",IF(COUNTIF('Entry sheet-2-hin'!$AL$9:$AL$68,\"33KOTC\")=0,COUNTIF('Entry sheet-2-hin'!$AL$9:$AL$68,\"33KOT\")*1,COUNTIF('Entry sheet-2-hin'!$AL$9:$AL$68,\"33KOTC\")*1))","v":""},{"$f":"IF(B41=\"\",\"\",IF(AND(COUNTIF('Entry sheet-2-hin'!$AL$9:$AL$68,\"33KSA1C\")=0,COUNTIF('Entry sheet-2-hin'!$AL$9:$AL$68,\"33KSA1\")=0),\"\",IF(COUNTIF('Entry sheet-2-hin'!$AL$9:$AL$68,\"33KSA1C\")=0,COUNTIF('Entry sheet-2-hin'!$AL$9:$AL$68,\"33KSA1\"),COUNTIF('Entry sheet-2-hin'!$AL$9:$AL$68,\"33KSA1C\")&\"*\")))","v":""},{"$f":"IF(G41=\"\",\"\",IF(COUNTIF('Entry sheet-2-hin'!$AL$9:$AL$68,\"33KSA1C\")=0,COUNTIF('Entry sheet-2-hin'!$AL$9:$AL$68,\"33KSA1\")*1,COUNTIF('Entry sheet-2-hin'!$AL$9:$AL$68,\"33KSA1C\")*1))","v":""},{"$f":"IF(B41=\"\",\"\",IF(AND(COUNTIF('Entry sheet-2-hin'!$AL$9:$AL$68,\"33KSA2C\")=0,COUNTIF('Entry sheet-2-hin'!$AL$9:$AL$68,\"33KSA2\")=0),\"\",IF(COUNTIF('Entry sheet-2-hin'!$AL$9:$AL$68,\"33KSA2C\")=0,COUNTIF('Entry sheet-2-hin'!$AL$9:$AL$68,\"33KSA2\"),COUNTIF('Entry sheet-2-hin'!$AL$9:$AL$68,\"33KSA2C\")&\"*\")))","v":""},{"$f":"IF(I41=\"\",\"\",IF(COUNTIF('Entry sheet-2-hin'!$AL$9:$AL$68,\"33KSA2C\")=0,COUNTIF('Entry sheet-2-hin'!$AL$9:$AL$68,\"33KSA2\")*2,COUNTIF('Entry sheet-2-hin'!$AL$9:$AL$68,\"33KSA2C\")*2))","v":""},{"$f":"IF(B41=\"\",\"\",IF(AND(COUNTIF('Entry sheet-2-hin'!$AL$9:$AL$68,\"33KLA1C\")=0,COUNTIF('Entry sheet-2-hin'!$AL$9:$AL$68,\"33KLA1\")=0),\"\",IF(COUNTIF('Entry sheet-2-hin'!$AL$9:$AL$68,\"33KLA1C\")=0,COUNTIF('Entry sheet-2-hin'!$AL$9:$AL$68,\"33KLA1\"),COUNTIF('Entry sheet-2-hin'!$AL$9:$AL$68,\"33KLA1C\")&\"*\")))","v":""},{"$f":"IF(K41=\"\",\"\",IF(COUNTIF('Entry sheet-2-hin'!$AL$9:$AL$68,\"33KLA1C\")=0,COUNTIF('Entry sheet-2-hin'!$AL$9:$AL$68,\"33KLA1\")*3,COUNTIF('Entry sheet-2-hin'!$AL$9:$AL$68,\"33KLA1C\")*3))","v":""},{"$f":"IF(B41=\"\",\"\",IF(AND(COUNTIF('Entry sheet-2-hin'!$AL$9:$AL$68,\"1स्मदीउ४\")=0),\"\",COUNTIF('Entry sheet-2-hin'!$AL$9:$AL$68,\"1स्मदीउ४\")))","v":""},"",{"$f":"IF(B41=\"\",\"\",IF(AND(COUNTIF('Entry sheet-2-hin'!$AL$9:$AL$68,\"33UMCC\")=0,COUNTIF('Entry sheet-2-hin'!$AL$9:$AL$68,\"33UMC\")=0),\"\",IF(COUNTIF('Entry sheet-2-hin'!$AL$9:$AL$68,\"33UMCC\")=0,COUNTIF('Entry sheet-2-hin'!$AL$9:$AL$68,\"33UMC\"),COUNTIF('Entry sheet-2-hin'!$AL$9:$AL$68,\"33UMCC\")&\"*\")))","v":""},{"$f":"IF(O41=\"\",\"\",IF(COUNTIF('Entry sheet-2-hin'!$AL$9:$AL$68,\"33UMCC\")=0,COUNTIF('Entry sheet-2-hin'!$AL$9:$AL$68,\"33UMC\")*1,COUNTIF('Entry sheet-2-hin'!$AL$9:$AL$68,\"33UMCC\")*1))","v":""},{"$f":"IF(B41=\"\",\"\",IF(AND(COUNTIF('Entry sheet-2-hin'!$AL$9:$AL$68,\"1समवनि\")=0),\"\",COUNTIF('Entry sheet-2-hin'!$AL$9:$AL$68,\"1समवनि\")))","v":""},{"$f":"IF(Q41=\"\",\"\",IF(COUNTIF('Entry sheet-2-hin'!$AL$9:$AL$68,\"33UOTC\")=0,COUNTIF('Entry sheet-2-hin'!$AL$9:$AL$68,\"33UOT\")*1,COUNTIF('Entry sheet-2-hin'!$AL$9:$AL$68,\"33UOTC\")*1))","v":""},{"$f":"IF(B41=\"\",\"\",IF(AND(COUNTIF('Entry sheet-2-hin'!$AL$9:$AL$68,\"1समअलउ\")=0),\"\",COUNTIF('Entry sheet-2-hin'!$AL$9:$AL$68,\"1समअलउ\")))","v":""},{"$f":"IF(S41=\"\",\"\",IF(COUNTIF('Entry sheet-2-hin'!$AL$9:$AL$68,\"33USA1C\")=0,COUNTIF('Entry sheet-2-hin'!$AL$9:$AL$68,\"33USA1\")*1,COUNTIF('Entry sheet-2-hin'!$AL$9:$AL$68,\"33USA1C\")*1))","v":""},{"$f":"IF(B41=\"\",\"\",IF(AND(COUNTIF('Entry sheet-2-hin'!$AL$9:$AL$68,\"33USA2C\")=0,COUNTIF('Entry sheet-2-hin'!$AL$9:$AL$68,\"33USA2\")=0),\"\",IF(COUNTIF('Entry sheet-2-hin'!$AL$9:$AL$68,\"33USA2C\")=0,COUNTIF('Entry sheet-2-hin'!$AL$9:$AL$68,\"33USA2\"),COUNTIF('Entry sheet-2-hin'!$AL$9:$AL$68,\"33USA2C\")&\"*\")))","v":""},{"$f":"IF(U41=\"\",\"\",IF(COUNTIF('Entry sheet-2-hin'!$AL$9:$AL$68,\"33USA2C\")=0,COUNTIF('Entry sheet-2-hin'!$AL$9:$AL$68,\"33USA2\")*2,COUNTIF('Entry sheet-2-hin'!$AL$9:$AL$68,\"33USA2C\")*2))","v":""},{"$f":"IF(B41=\"\",\"\",IF(AND(COUNTIF('Entry sheet-2-hin'!$AL$9:$AL$68,\"33ULA1C\")=0,COUNTIF('Entry sheet-2-hin'!$AL$9:$AL$68,\"33ULA1\")=0),\"\",IF(COUNTIF('Entry sheet-2-hin'!$AL$9:$AL$68,\"33ULA1C\")=0,COUNTIF('Entry sheet-2-hin'!$AL$9:$AL$68,\"33ULA1\"),COUNTIF('Entry sheet-2-hin'!$AL$9:$AL$68,\"33ULA1C\")&\"*\")))","v":""},{"$f":"IF(W41=\"\",\"\",IF(COUNTIF('Entry sheet-2-hin'!$AL$9:$AL$68,\"33ULA1C\")=0,COUNTIF('Entry sheet-2-hin'!$AL$9:$AL$68,\"33ULA1\")*3,COUNTIF('Entry sheet-2-hin'!$AL$9:$AL$68,\"33ULA1C\")*3))","v":""},{"$f":"IF(B41=\"\",\"\",IF(AND(COUNTIF('Entry sheet-2-hin'!$AL$9:$AL$68,\"1समदीउ४\")=0),\"\",COUNTIF('Entry sheet-2-hin'!$AL$9:$AL$68,\"1समदीउ४\")))","v":""},{"$f":"IF(Y41=\"\",\"\",IF(COUNTIF('Entry sheet-2-hin'!$AL$9:$AL$68,\"33ULA2C\")=0,COUNTIF('Entry sheet-2-hin'!$AL$9:$AL$68,\"33ULA2\")*4,COUNTIF('Entry sheet-2-hin'!$AL$9:$AL$68,\"33ULA2C\")*4))","v":""},{"$f":"IF(B41=\"\",\"\",IF(AND(COUNTIF('Entry sheet-2-hin'!$AL$9:$AL$68,\"1अबवि\")=0),\"\",COUNTIF('Entry sheet-2-hin'!$AL$9:$AL$68,\"1अबवि\")))","v":""},"",{"$f":"IF(B41=\"\",\"\",IF(AND(COUNTIF('Entry sheet-2-hin'!$AL$9:$AL$68,\"33AOTC\")=0,COUNTIF('Entry sheet-2-hin'!$AL$9:$AL$68,\"33AOT\")=0),\"\",IF(COUNTIF('Entry sheet-2-hin'!$AL$9:$AL$68,\"33AOTC\")=0,COUNTIF('Entry sheet-2-hin'!$AL$9:$AL$68,\"33AOT\"),COUNTIF('Entry sheet-2-hin'!$AL$9:$AL$68,\"33AOTC\")&\"*\")))","v":""},{"$f":"IF(AC41=\"\",\"\",IF(COUNTIF('Entry sheet-2-hin'!$AL$9:$AL$68,\"33AOTC\")=0,COUNTIF('Entry sheet-2-hin'!$AL$9:$AL$68,\"33AOT\")*1,COUNTIF('Entry sheet-2-hin'!$AL$9:$AL$68,\"33AOTC\")*1))","v":""},{"$f":"IF(B41=\"\",\"\",IF(AND(COUNTIF('Entry sheet-2-hin'!$AL$9:$AL$68,\"1अअलउ\")=0),\"\",COUNTIF('Entry sheet-2-hin'!$AL$9:$AL$68,\"1अअलउ\")))","v":""},{"$f":"IF(AE41=\"\",\"\",IF(COUNTIF('Entry sheet-2-hin'!$AL$9:$AL$68,\"33ASA1C\")=0,COUNTIF('Entry sheet-2-hin'!$AL$9:$AL$68,\"33ASA1\")*1,COUNTIF('Entry sheet-2-hin'!$AL$9:$AL$68,\"33ASA1C\")*1))","v":""},{"$f":"IF(B41=\"\",\"\",IF(AND(COUNTIF('Entry sheet-2-hin'!$AL$9:$AL$68,\"33ASA2C\")=0,COUNTIF('Entry sheet-2-hin'!$AL$9:$AL$68,\"33ASA2\")=0),\"\",IF(COUNTIF('Entry sheet-2-hin'!$AL$9:$AL$68,\"33ASA2C\")=0,COUNTIF('Entry sheet-2-hin'!$AL$9:$AL$68,\"33ASA2\"),COUNTIF('Entry sheet-2-hin'!$AL$9:$AL$68,\"33ASA2C\")&\"*\")))","v":""},{"$f":"IF(AG41=\"\",\"\",IF(COUNTIF('Entry sheet-2-hin'!$AL$9:$AL$68,\"33ASA2C\")=0,COUNTIF('Entry sheet-2-hin'!$AL$9:$AL$68,\"33ASA2\")*2,COUNTIF('Entry sheet-2-hin'!$AL$9:$AL$68,\"33ASA2C\")*2))","v":""},{"$f":"IF(B41=\"\",\"\",IF(AND(COUNTIF('Entry sheet-2-hin'!$AL$9:$AL$68,\"33ALA1C\")=0,COUNTIF('Entry sheet-2-hin'!$AL$9:$AL$68,\"33ALA1\")=0),\"\",IF(COUNTIF('Entry sheet-2-hin'!$AL$9:$AL$68,\"33ALA1C\")=0,COUNTIF('Entry sheet-2-hin'!$AL$9:$AL$68,\"33ALA1\"),COUNTIF('Entry sheet-2-hin'!$AL$9:$AL$68,\"33ALA1C\")&\"*\")))","v":""},"",{"$f":"IF(B41=\"\",\"\",IF(AND(COUNTIF('Entry sheet-2-hin'!$AL$9:$AL$68,\"33ALA2C\")=0,COUNTIF('Entry sheet-2-hin'!$AL$9:$AL$68,\"33ALA2\")=0),\"\",IF(COUNTIF('Entry sheet-2-hin'!$AL$9:$AL$68,\"33ALA2C\")=0,COUNTIF('Entry sheet-2-hin'!$AL$9:$AL$68,\"33ALA2\"),COUNTIF('Entry sheet-2-hin'!$AL$9:$AL$68,\"33ALA2C\")&\"*\")))","v":""},{"$f":"IF(AK41=\"\",\"\",IF(COUNTIF('Entry sheet-2-hin'!$AL$9:$AL$68,\"33ALA2C\")=0,COUNTIF('Entry sheet-2-hin'!$AL$9:$AL$68,\"33ALA2\")*4,COUNTIF('Entry sheet-2-hin'!$AL$9:$AL$68,\"33ALA2C\")*4))","v":""},{"$f":"IF(B41=\"\",\"\",IF(AND(COUNTIF('Entry sheet-2-hin'!$AL$9:$AL$68,\"1रसबवि\")=0),\"\",COUNTIF('Entry sheet-2-hin'!$AL$9:$AL$68,\"1रसबवि\")))","v":""},"",{"$f":"IF(B41=\"\",\"\",IF(AND(COUNTIF('Entry sheet-2-hin'!$AL$9:$AL$68,\"33SOTC\")=0,COUNTIF('Entry sheet-2-hin'!$AL$9:$AL$68,\"33SOT\")=0),\"\",IF(COUNTIF('Entry sheet-2-hin'!$AL$9:$AL$68,\"33SOTC\")=0,COUNTIF('Entry sheet-2-hin'!$AL$9:$AL$68,\"33SOT\"),COUNTIF('Entry sheet-2-hin'!$AL$9:$AL$68,\"33SOTC\")&\"*\")))","v":""},{"$f":"IF(AO41=\"\",\"\",IF(COUNTIF('Entry sheet-2-hin'!$AL$9:$AL$68,\"33SOTC\")=0,COUNTIF('Entry sheet-2-hin'!$AL$9:$AL$68,\"33SOT\")*1,COUNTIF('Entry sheet-2-hin'!$AL$9:$AL$68,\"33SOTC\")*1))","v":""},{"$f":"IF(B41=\"\",\"\",IF(AND(COUNTIF('Entry sheet-2-hin'!$AL$9:$AL$68,\"1रसअलउ\")=0),\"\",COUNTIF('Entry sheet-2-hin'!$AL$9:$AL$68,\"1रसअलउ\")))","v":""},{"$f":"IF(AQ41=\"\",\"\",IF(COUNTIF('Entry sheet-2-hin'!$AL$9:$AL$68,\"33SSA1C\")=0,COUNTIF('Entry sheet-2-hin'!$AL$9:$AL$68,\"33SSA1\")*1,COUNTIF('Entry sheet-2-hin'!$AL$9:$AL$68,\"33SSA1C\")*1))","v":""},{"$f":"IF(B41=\"\",\"\",IF(AND(COUNTIF('Entry sheet-2-hin'!$AL$9:$AL$68,\"1रसलउ२\")=0),\"\",COUNTIF('Entry sheet-2-hin'!$AL$9:$AL$68,\"1रसलउ२\")))","v":""},"",{"$f":"IF(B41=\"\",\"\",IF(AND(COUNTIF('Entry sheet-2-hin'!$AL$9:$AL$68,\"33SLA1C\")=0,COUNTIF('Entry sheet-2-hin'!$AL$9:$AL$68,\"33SLA1\")=0),\"\",IF(COUNTIF('Entry sheet-2-hin'!$AL$9:$AL$68,\"33SLA1C\")=0,COUNTIF('Entry sheet-2-hin'!$AL$9:$AL$68,\"33SLA1\"),COUNTIF('Entry sheet-2-hin'!$AL$9:$AL$68,\"33SLA1C\")&\"*\")))","v":""},"",{"$f":"IF(B41=\"\",\"\",IF(AND(COUNTIF('Entry sheet-2-hin'!$AL$9:$AL$68,\"33SLA2C\")=0,COUNTIF('Entry sheet-2-hin'!$AL$9:$AL$68,\"33SLA2\")=0),\"\",IF(COUNTIF('Entry sheet-2-hin'!$AL$9:$AL$68,\"33SLA2C\")=0,COUNTIF('Entry sheet-2-hin'!$AL$9:$AL$68,\"33SLA2\"),COUNTIF('Entry sheet-2-hin'!$AL$9:$AL$68,\"33SLA2C\")&\"*\")))","v":""},"","","","","","","","","","","","","","",""]
[{"$f":"IF('Entry sheet-1-hin'!A43=\"\",\"\",'Entry sheet-1-hin'!A43)","v":""},{"$f":"IF('Entry sheet-1-hin'!B43=\"\",\"\",'Entry sheet-1-hin'!B43)","v":""},{"$f":"IF(B42=\"\",\"\",IF(AND(COUNTIF('Entry sheet-2-hin'!$AL$9:$AL$68,\"34KMCC\")=0,COUNTIF('Entry sheet-2-hin'!$AL$9:$AL$68,\"34KMC\")=0),\"\",IF(COUNTIF('Entry sheet-2-hin'!$AL$9:$AL$68,\"34KMCC\")=0,COUNTIF('Entry sheet-2-hin'!$AL$9:$AL$68,\"34KMC\"),COUNTIF('Entry sheet-2-hin'!$AL$9:$AL$68,\"34KMCC\")&\"*\")))","v":""},{"$f":"IF(C42=\"\",\"\",IF(COUNTIF('Entry sheet-2-hin'!$AL$9:$AL$68,\"34KMCC\")=0,COUNTIF('Entry sheet-2-hin'!$AL$9:$AL$68,\"34KMC\")*1,COUNTIF('Entry sheet-2-hin'!$AL$9:$AL$68,\"34KMCC\")*1))","v":""},{"$f":"IF(B42=\"\",\"\",IF(AND(COUNTIF('Entry sheet-2-hin'!$AL$9:$AL$68,\"34KOTC\")=0,COUNTIF('Entry sheet-2-hin'!$AL$9:$AL$68,\"34KOT\")=0),\"\",IF(COUNTIF('Entry sheet-2-hin'!$AL$9:$AL$68,\"34KOTC\")=0,COUNTIF('Entry sheet-2-hin'!$AL$9:$AL$68,\"34KOT\"),COUNTIF('Entry sheet-2-hin'!$AL$9:$AL$68,\"34KOTC\")&\"*\")))","v":""},{"$f":"IF(E42=\"\",\"\",IF(COUNTIF('Entry sheet-2-hin'!$AL$9:$AL$68,\"34KOTC\")=0,COUNTIF('Entry sheet-2-hin'!$AL$9:$AL$68,\"34KOT\")*1,COUNTIF('Entry sheet-2-hin'!$AL$9:$AL$68,\"34KOTC\")*1))","v":""},{"$f":"IF(B42=\"\",\"\",IF(AND(COUNTIF('Entry sheet-2-hin'!$AL$9:$AL$68,\"34KSA1C\")=0,COUNTIF('Entry sheet-2-hin'!$AL$9:$AL$68,\"34KSA1\")=0),\"\",IF(COUNTIF('Entry sheet-2-hin'!$AL$9:$AL$68,\"34KSA1C\")=0,COUNTIF('Entry sheet-2-hin'!$AL$9:$AL$68,\"34KSA1\"),COUNTIF('Entry sheet-2-hin'!$AL$9:$AL$68,\"34KSA1C\")&\"*\")))","v":""},{"$f":"IF(G42=\"\",\"\",IF(COUNTIF('Entry sheet-2-hin'!$AL$9:$AL$68,\"34KSA1C\")=0,COUNTIF('Entry sheet-2-hin'!$AL$9:$AL$68,\"34KSA1\")*1,COUNTIF('Entry sheet-2-hin'!$AL$9:$AL$68,\"34KSA1C\")*1))","v":""},{"$f":"IF(B42=\"\",\"\",IF(AND(COUNTIF('Entry sheet-2-hin'!$AL$9:$AL$68,\"34KSA2C\")=0,COUNTIF('Entry sheet-2-hin'!$AL$9:$AL$68,\"34KSA2\")=0),\"\",IF(COUNTIF('Entry sheet-2-hin'!$AL$9:$AL$68,\"34KSA2C\")=0,COUNTIF('Entry sheet-2-hin'!$AL$9:$AL$68,\"34KSA2\"),COUNTIF('Entry sheet-2-hin'!$AL$9:$AL$68,\"34KSA2C\")&\"*\")))","v":""},{"$f":"IF(I42=\"\",\"\",IF(COUNTIF('Entry sheet-2-hin'!$AL$9:$AL$68,\"34KSA2C\")=0,COUNTIF('Entry sheet-2-hin'!$AL$9:$AL$68,\"34KSA2\")*2,COUNTIF('Entry sheet-2-hin'!$AL$9:$AL$68,\"34KSA2C\")*2))","v":""},{"$f":"IF(B42=\"\",\"\",IF(AND(COUNTIF('Entry sheet-2-hin'!$AL$9:$AL$68,\"34KLA1C\")=0,COUNTIF('Entry sheet-2-hin'!$AL$9:$AL$68,\"34KLA1\")=0),\"\",IF(COUNTIF('Entry sheet-2-hin'!$AL$9:$AL$68,\"34KLA1C\")=0,COUNTIF('Entry sheet-2-hin'!$AL$9:$AL$68,\"34KLA1\"),COUNTIF('Entry sheet-2-hin'!$AL$9:$AL$68,\"34KLA1C\")&\"*\")))","v":""},{"$f":"IF(K42=\"\",\"\",IF(COUNTIF('Entry sheet-2-hin'!$AL$9:$AL$68,\"34KLA1C\")=0,COUNTIF('Entry sheet-2-hin'!$AL$9:$AL$68,\"34KLA1\")*3,COUNTIF('Entry sheet-2-hin'!$AL$9:$AL$68,\"34KLA1C\")*3))","v":""},{"$f":"IF(B42=\"\",\"\",IF(AND(COUNTIF('Entry sheet-2-hin'!$AL$9:$AL$68,\"1स्मदीउ४\")=0),\"\",COUNTIF('Entry sheet-2-hin'!$AL$9:$AL$68,\"1स्मदीउ४\")))","v":""},"",{"$f":"IF(B42=\"\",\"\",IF(AND(COUNTIF('Entry sheet-2-hin'!$AL$9:$AL$68,\"34UMCC\")=0,COUNTIF('Entry sheet-2-hin'!$AL$9:$AL$68,\"34UMC\")=0),\"\",IF(COUNTIF('Entry sheet-2-hin'!$AL$9:$AL$68,\"34UMCC\")=0,COUNTIF('Entry sheet-2-hin'!$AL$9:$AL$68,\"34UMC\"),COUNTIF('Entry sheet-2-hin'!$AL$9:$AL$68,\"34UMCC\")&\"*\")))","v":""},{"$f":"IF(O42=\"\",\"\",IF(COUNTIF('Entry sheet-2-hin'!$AL$9:$AL$68,\"34UMCC\")=0,COUNTIF('Entry sheet-2-hin'!$AL$9:$AL$68,\"34UMC\")*1,COUNTIF('Entry sheet-2-hin'!$AL$9:$AL$68,\"34UMCC\")*1))","v":""},{"$f":"IF(B42=\"\",\"\",IF(AND(COUNTIF('Entry sheet-2-hin'!$AL$9:$AL$68,\"1समवनि\")=0),\"\",COUNTIF('Entry sheet-2-hin'!$AL$9:$AL$68,\"1समवनि\")))","v":""},{"$f":"IF(Q42=\"\",\"\",IF(COUNTIF('Entry sheet-2-hin'!$AL$9:$AL$68,\"34UOTC\")=0,COUNTIF('Entry sheet-2-hin'!$AL$9:$AL$68,\"34UOT\")*1,COUNTIF('Entry sheet-2-hin'!$AL$9:$AL$68,\"34UOTC\")*1))","v":""},{"$f":"IF(B42=\"\",\"\",IF(AND(COUNTIF('Entry sheet-2-hin'!$AL$9:$AL$68,\"1समअलउ\")=0),\"\",COUNTIF('Entry sheet-2-hin'!$AL$9:$AL$68,\"1समअलउ\")))","v":""},{"$f":"IF(S42=\"\",\"\",IF(COUNTIF('Entry sheet-2-hin'!$AL$9:$AL$68,\"34USA1C\")=0,COUNTIF('Entry sheet-2-hin'!$AL$9:$AL$68,\"34USA1\")*1,COUNTIF('Entry sheet-2-hin'!$AL$9:$AL$68,\"34USA1C\")*1))","v":""},{"$f":"IF(B42=\"\",\"\",IF(AND(COUNTIF('Entry sheet-2-hin'!$AL$9:$AL$68,\"34USA2C\")=0,COUNTIF('Entry sheet-2-hin'!$AL$9:$AL$68,\"34USA2\")=0),\"\",IF(COUNTIF('Entry sheet-2-hin'!$AL$9:$AL$68,\"34USA2C\")=0,COUNTIF('Entry sheet-2-hin'!$AL$9:$AL$68,\"34USA2\"),COUNTIF('Entry sheet-2-hin'!$AL$9:$AL$68,\"34USA2C\")&\"*\")))","v":""},{"$f":"IF(U42=\"\",\"\",IF(COUNTIF('Entry sheet-2-hin'!$AL$9:$AL$68,\"34USA2C\")=0,COUNTIF('Entry sheet-2-hin'!$AL$9:$AL$68,\"34USA2\")*2,COUNTIF('Entry sheet-2-hin'!$AL$9:$AL$68,\"34USA2C\")*2))","v":""},{"$f":"IF(B42=\"\",\"\",IF(AND(COUNTIF('Entry sheet-2-hin'!$AL$9:$AL$68,\"34ULA1C\")=0,COUNTIF('Entry sheet-2-hin'!$AL$9:$AL$68,\"34ULA1\")=0),\"\",IF(COUNTIF('Entry sheet-2-hin'!$AL$9:$AL$68,\"34ULA1C\")=0,COUNTIF('Entry sheet-2-hin'!$AL$9:$AL$68,\"34ULA1\"),COUNTIF('Entry sheet-2-hin'!$AL$9:$AL$68,\"34ULA1C\")&\"*\")))","v":""},{"$f":"IF(W42=\"\",\"\",IF(COUNTIF('Entry sheet-2-hin'!$AL$9:$AL$68,\"34ULA1C\")=0,COUNTIF('Entry sheet-2-hin'!$AL$9:$AL$68,\"34ULA1\")*3,COUNTIF('Entry sheet-2-hin'!$AL$9:$AL$68,\"34ULA1C\")*3))","v":""},{"$f":"IF(B42=\"\",\"\",IF(AND(COUNTIF('Entry sheet-2-hin'!$AL$9:$AL$68,\"1समदीउ४\")=0),\"\",COUNTIF('Entry sheet-2-hin'!$AL$9:$AL$68,\"1समदीउ४\")))","v":""},{"$f":"IF(Y42=\"\",\"\",IF(COUNTIF('Entry sheet-2-hin'!$AL$9:$AL$68,\"34ULA2C\")=0,COUNTIF('Entry sheet-2-hin'!$AL$9:$AL$68,\"34ULA2\")*4,COUNTIF('Entry sheet-2-hin'!$AL$9:$AL$68,\"34ULA2C\")*4))","v":""},{"$f":"IF(B42=\"\",\"\",IF(AND(COUNTIF('Entry sheet-2-hin'!$AL$9:$AL$68,\"1अबवि\")=0),\"\",COUNTIF('Entry sheet-2-hin'!$AL$9:$AL$68,\"1अबवि\")))","v":""},"",{"$f":"IF(B42=\"\",\"\",IF(AND(COUNTIF('Entry sheet-2-hin'!$AL$9:$AL$68,\"34AOTC\")=0,COUNTIF('Entry sheet-2-hin'!$AL$9:$AL$68,\"34AOT\")=0),\"\",IF(COUNTIF('Entry sheet-2-hin'!$AL$9:$AL$68,\"34AOTC\")=0,COUNTIF('Entry sheet-2-hin'!$AL$9:$AL$68,\"34AOT\"),COUNTIF('Entry sheet-2-hin'!$AL$9:$AL$68,\"34AOTC\")&\"*\")))","v":""},{"$f":"IF(AC42=\"\",\"\",IF(COUNTIF('Entry sheet-2-hin'!$AL$9:$AL$68,\"34AOTC\")=0,COUNTIF('Entry sheet-2-hin'!$AL$9:$AL$68,\"34AOT\")*1,COUNTIF('Entry sheet-2-hin'!$AL$9:$AL$68,\"34AOTC\")*1))","v":""},{"$f":"IF(B42=\"\",\"\",IF(AND(COUNTIF('Entry sheet-2-hin'!$AL$9:$AL$68,\"1अअलउ\")=0),\"\",COUNTIF('Entry sheet-2-hin'!$AL$9:$AL$68,\"1अअलउ\")))","v":""},{"$f":"IF(AE42=\"\",\"\",IF(COUNTIF('Entry sheet-2-hin'!$AL$9:$AL$68,\"34ASA1C\")=0,COUNTIF('Entry sheet-2-hin'!$AL$9:$AL$68,\"34ASA1\")*1,COUNTIF('Entry sheet-2-hin'!$AL$9:$AL$68,\"34ASA1C\")*1))","v":""},{"$f":"IF(B42=\"\",\"\",IF(AND(COUNTIF('Entry sheet-2-hin'!$AL$9:$AL$68,\"34ASA2C\")=0,COUNTIF('Entry sheet-2-hin'!$AL$9:$AL$68,\"34ASA2\")=0),\"\",IF(COUNTIF('Entry sheet-2-hin'!$AL$9:$AL$68,\"34ASA2C\")=0,COUNTIF('Entry sheet-2-hin'!$AL$9:$AL$68,\"34ASA2\"),COUNTIF('Entry sheet-2-hin'!$AL$9:$AL$68,\"34ASA2C\")&\"*\")))","v":""},{"$f":"IF(AG42=\"\",\"\",IF(COUNTIF('Entry sheet-2-hin'!$AL$9:$AL$68,\"34ASA2C\")=0,COUNTIF('Entry sheet-2-hin'!$AL$9:$AL$68,\"34ASA2\")*2,COUNTIF('Entry sheet-2-hin'!$AL$9:$AL$68,\"34ASA2C\")*2))","v":""},{"$f":"IF(B42=\"\",\"\",IF(AND(COUNTIF('Entry sheet-2-hin'!$AL$9:$AL$68,\"34ALA1C\")=0,COUNTIF('Entry sheet-2-hin'!$AL$9:$AL$68,\"34ALA1\")=0),\"\",IF(COUNTIF('Entry sheet-2-hin'!$AL$9:$AL$68,\"34ALA1C\")=0,COUNTIF('Entry sheet-2-hin'!$AL$9:$AL$68,\"34ALA1\"),COUNTIF('Entry sheet-2-hin'!$AL$9:$AL$68,\"34ALA1C\")&\"*\")))","v":""},"",{"$f":"IF(B42=\"\",\"\",IF(AND(COUNTIF('Entry sheet-2-hin'!$AL$9:$AL$68,\"34ALA2C\")=0,COUNTIF('Entry sheet-2-hin'!$AL$9:$AL$68,\"34ALA2\")=0),\"\",IF(COUNTIF('Entry sheet-2-hin'!$AL$9:$AL$68,\"34ALA2C\")=0,COUNTIF('Entry sheet-2-hin'!$AL$9:$AL$68,\"34ALA2\"),COUNTIF('Entry sheet-2-hin'!$AL$9:$AL$68,\"34ALA2C\")&\"*\")))","v":""},{"$f":"IF(AK42=\"\",\"\",IF(COUNTIF('Entry sheet-2-hin'!$AL$9:$AL$68,\"34ALA2C\")=0,COUNTIF('Entry sheet-2-hin'!$AL$9:$AL$68,\"34ALA2\")*4,COUNTIF('Entry sheet-2-hin'!$AL$9:$AL$68,\"34ALA2C\")*4))","v":""},{"$f":"IF(B42=\"\",\"\",IF(AND(COUNTIF('Entry sheet-2-hin'!$AL$9:$AL$68,\"1रसबवि\")=0),\"\",COUNTIF('Entry sheet-2-hin'!$AL$9:$AL$68,\"1रसबवि\")))","v":""},"",{"$f":"IF(B42=\"\",\"\",IF(AND(COUNTIF('Entry sheet-2-hin'!$AL$9:$AL$68,\"34SOTC\")=0,COUNTIF('Entry sheet-2-hin'!$AL$9:$AL$68,\"34SOT\")=0),\"\",IF(COUNTIF('Entry sheet-2-hin'!$AL$9:$AL$68,\"34SOTC\")=0,COUNTIF('Entry sheet-2-hin'!$AL$9:$AL$68,\"34SOT\"),COUNTIF('Entry sheet-2-hin'!$AL$9:$AL$68,\"34SOTC\")&\"*\")))","v":""},{"$f":"IF(AO42=\"\",\"\",IF(COUNTIF('Entry sheet-2-hin'!$AL$9:$AL$68,\"34SOTC\")=0,COUNTIF('Entry sheet-2-hin'!$AL$9:$AL$68,\"34SOT\")*1,COUNTIF('Entry sheet-2-hin'!$AL$9:$AL$68,\"34SOTC\")*1))","v":""},{"$f":"IF(B42=\"\",\"\",IF(AND(COUNTIF('Entry sheet-2-hin'!$AL$9:$AL$68,\"1रसअलउ\")=0),\"\",COUNTIF('Entry sheet-2-hin'!$AL$9:$AL$68,\"1रसअलउ\")))","v":""},{"$f":"IF(AQ42=\"\",\"\",IF(COUNTIF('Entry sheet-2-hin'!$AL$9:$AL$68,\"34SSA1C\")=0,COUNTIF('Entry sheet-2-hin'!$AL$9:$AL$68,\"34SSA1\")*1,COUNTIF('Entry sheet-2-hin'!$AL$9:$AL$68,\"34SSA1C\")*1))","v":""},{"$f":"IF(B42=\"\",\"\",IF(AND(COUNTIF('Entry sheet-2-hin'!$AL$9:$AL$68,\"1रसलउ२\")=0),\"\",COUNTIF('Entry sheet-2-hin'!$AL$9:$AL$68,\"1रसलउ२\")))","v":""},"",{"$f":"IF(B42=\"\",\"\",IF(AND(COUNTIF('Entry sheet-2-hin'!$AL$9:$AL$68,\"34SLA1C\")=0,COUNTIF('Entry sheet-2-hin'!$AL$9:$AL$68,\"34SLA1\")=0),\"\",IF(COUNTIF('Entry sheet-2-hin'!$AL$9:$AL$68,\"34SLA1C\")=0,COUNTIF('Entry sheet-2-hin'!$AL$9:$AL$68,\"34SLA1\"),COUNTIF('Entry sheet-2-hin'!$AL$9:$AL$68,\"34SLA1C\")&\"*\")))","v":""},"",{"$f":"IF(B42=\"\",\"\",IF(AND(COUNTIF('Entry sheet-2-hin'!$AL$9:$AL$68,\"34SLA2C\")=0,COUNTIF('Entry sheet-2-hin'!$AL$9:$AL$68,\"34SLA2\")=0),\"\",IF(COUNTIF('Entry sheet-2-hin'!$AL$9:$AL$68,\"34SLA2C\")=0,COUNTIF('Entry sheet-2-hin'!$AL$9:$AL$68,\"34SLA2\"),COUNTIF('Entry sheet-2-hin'!$AL$9:$AL$68,\"34SLA2C\")&\"*\")))","v":""},"","","","","","","","","","","","","","",""]
[{"$f":"IF('Entry sheet-1-hin'!A44=\"\",\"\",'Entry sheet-1-hin'!A44)","v":""},{"$f":"IF('Entry sheet-1-hin'!B44=\"\",\"\",'Entry sheet-1-hin'!B44)","v":""},{"$f":"IF(B43=\"\",\"\",IF(AND(COUNTIF('Entry sheet-2-hin'!$AL$9:$AL$68,\"35KMCC\")=0,COUNTIF('Entry sheet-2-hin'!$AL$9:$AL$68,\"35KMC\")=0),\"\",IF(COUNTIF('Entry sheet-2-hin'!$AL$9:$AL$68,\"35KMCC\")=0,COUNTIF('Entry sheet-2-hin'!$AL$9:$AL$68,\"35KMC\"),COUNTIF('Entry sheet-2-hin'!$AL$9:$AL$68,\"35KMCC\")&\"*\")))","v":""},{"$f":"IF(C43=\"\",\"\",IF(COUNTIF('Entry sheet-2-hin'!$AL$9:$AL$68,\"35KMCC\")=0,COUNTIF('Entry sheet-2-hin'!$AL$9:$AL$68,\"35KMC\")*1,COUNTIF('Entry sheet-2-hin'!$AL$9:$AL$68,\"35KMCC\")*1))","v":""},{"$f":"IF(B43=\"\",\"\",IF(AND(COUNTIF('Entry sheet-2-hin'!$AL$9:$AL$68,\"35KOTC\")=0,COUNTIF('Entry sheet-2-hin'!$AL$9:$AL$68,\"35KOT\")=0),\"\",IF(COUNTIF('Entry sheet-2-hin'!$AL$9:$AL$68,\"35KOTC\")=0,COUNTIF('Entry sheet-2-hin'!$AL$9:$AL$68,\"35KOT\"),COUNTIF('Entry sheet-2-hin'!$AL$9:$AL$68,\"35KOTC\")&\"*\")))","v":""},{"$f":"IF(E43=\"\",\"\",IF(COUNTIF('Entry sheet-2-hin'!$AL$9:$AL$68,\"35KOTC\")=0,COUNTIF('Entry sheet-2-hin'!$AL$9:$AL$68,\"35KOT\")*1,COUNTIF('Entry sheet-2-hin'!$AL$9:$AL$68,\"35KOTC\")*1))","v":""},{"$f":"IF(B43=\"\",\"\",IF(AND(COUNTIF('Entry sheet-2-hin'!$AL$9:$AL$68,\"35KSA1C\")=0,COUNTIF('Entry sheet-2-hin'!$AL$9:$AL$68,\"35KSA1\")=0),\"\",IF(COUNTIF('Entry sheet-2-hin'!$AL$9:$AL$68,\"35KSA1C\")=0,COUNTIF('Entry sheet-2-hin'!$AL$9:$AL$68,\"35KSA1\"),COUNTIF('Entry sheet-2-hin'!$AL$9:$AL$68,\"35KSA1C\")&\"*\")))","v":""},{"$f":"IF(G43=\"\",\"\",IF(COUNTIF('Entry sheet-2-hin'!$AL$9:$AL$68,\"35KSA1C\")=0,COUNTIF('Entry sheet-2-hin'!$AL$9:$AL$68,\"35KSA1\")*1,COUNTIF('Entry sheet-2-hin'!$AL$9:$AL$68,\"35KSA1C\")*1))","v":""},{"$f":"IF(B43=\"\",\"\",IF(AND(COUNTIF('Entry sheet-2-hin'!$AL$9:$AL$68,\"35KSA2C\")=0,COUNTIF('Entry sheet-2-hin'!$AL$9:$AL$68,\"35KSA2\")=0),\"\",IF(COUNTIF('Entry sheet-2-hin'!$AL$9:$AL$68,\"35KSA2C\")=0,COUNTIF('Entry sheet-2-hin'!$AL$9:$AL$68,\"35KSA2\"),COUNTIF('Entry sheet-2-hin'!$AL$9:$AL$68,\"35KSA2C\")&\"*\")))","v":""},{"$f":"IF(I43=\"\",\"\",IF(COUNTIF('Entry sheet-2-hin'!$AL$9:$AL$68,\"35KSA2C\")=0,COUNTIF('Entry sheet-2-hin'!$AL$9:$AL$68,\"35KSA2\")*2,COUNTIF('Entry sheet-2-hin'!$AL$9:$AL$68,\"35KSA2C\")*2))","v":""},{"$f":"IF(B43=\"\",\"\",IF(AND(COUNTIF('Entry sheet-2-hin'!$AL$9:$AL$68,\"35KLA1C\")=0,COUNTIF('Entry sheet-2-hin'!$AL$9:$AL$68,\"35KLA1\")=0),\"\",IF(COUNTIF('Entry sheet-2-hin'!$AL$9:$AL$68,\"35KLA1C\")=0,COUNTIF('Entry sheet-2-hin'!$AL$9:$AL$68,\"35KLA1\"),COUNTIF('Entry sheet-2-hin'!$AL$9:$AL$68,\"35KLA1C\")&\"*\")))","v":""},{"$f":"IF(K43=\"\",\"\",IF(COUNTIF('Entry sheet-2-hin'!$AL$9:$AL$68,\"35KLA1C\")=0,COUNTIF('Entry sheet-2-hin'!$AL$9:$AL$68,\"35KLA1\")*3,COUNTIF('Entry sheet-2-hin'!$AL$9:$AL$68,\"35KLA1C\")*3))","v":""},{"$f":"IF(B43=\"\",\"\",IF(AND(COUNTIF('Entry sheet-2-hin'!$AL$9:$AL$68,\"1स्मदीउ४\")=0),\"\",COUNTIF('Entry sheet-2-hin'!$AL$9:$AL$68,\"1स्मदीउ४\")))","v":""},"",{"$f":"IF(B43=\"\",\"\",IF(AND(COUNTIF('Entry sheet-2-hin'!$AL$9:$AL$68,\"35UMCC\")=0,COUNTIF('Entry sheet-2-hin'!$AL$9:$AL$68,\"35UMC\")=0),\"\",IF(COUNTIF('Entry sheet-2-hin'!$AL$9:$AL$68,\"35UMCC\")=0,COUNTIF('Entry sheet-2-hin'!$AL$9:$AL$68,\"35UMC\"),COUNTIF('Entry sheet-2-hin'!$AL$9:$AL$68,\"35UMCC\")&\"*\")))","v":""},{"$f":"IF(O43=\"\",\"\",IF(COUNTIF('Entry sheet-2-hin'!$AL$9:$AL$68,\"35UMCC\")=0,COUNTIF('Entry sheet-2-hin'!$AL$9:$AL$68,\"35UMC\")*1,COUNTIF('Entry sheet-2-hin'!$AL$9:$AL$68,\"35UMCC\")*1))","v":""},{"$f":"IF(B43=\"\",\"\",IF(AND(COUNTIF('Entry sheet-2-hin'!$AL$9:$AL$68,\"1समवनि\")=0),\"\",COUNTIF('Entry sheet-2-hin'!$AL$9:$AL$68,\"1समवनि\")))","v":""},{"$f":"IF(Q43=\"\",\"\",IF(COUNTIF('Entry sheet-2-hin'!$AL$9:$AL$68,\"35UOTC\")=0,COUNTIF('Entry sheet-2-hin'!$AL$9:$AL$68,\"35UOT\")*1,COUNTIF('Entry sheet-2-hin'!$AL$9:$AL$68,\"35UOTC\")*1))","v":""},{"$f":"IF(B43=\"\",\"\",IF(AND(COUNTIF('Entry sheet-2-hin'!$AL$9:$AL$68,\"1समअलउ\")=0),\"\",COUNTIF('Entry sheet-2-hin'!$AL$9:$AL$68,\"1समअलउ\")))","v":""},{"$f":"IF(S43=\"\",\"\",IF(COUNTIF('Entry sheet-2-hin'!$AL$9:$AL$68,\"35USA1C\")=0,COUNTIF('Entry sheet-2-hin'!$AL$9:$AL$68,\"35USA1\")*1,COUNTIF('Entry sheet-2-hin'!$AL$9:$AL$68,\"35USA1C\")*1))","v":""},{"$f":"IF(B43=\"\",\"\",IF(AND(COUNTIF('Entry sheet-2-hin'!$AL$9:$AL$68,\"35USA2C\")=0,COUNTIF('Entry sheet-2-hin'!$AL$9:$AL$68,\"35USA2\")=0),\"\",IF(COUNTIF('Entry sheet-2-hin'!$AL$9:$AL$68,\"35USA2C\")=0,COUNTIF('Entry sheet-2-hin'!$AL$9:$AL$68,\"35USA2\"),COUNTIF('Entry sheet-2-hin'!$AL$9:$AL$68,\"35USA2C\")&\"*\")))","v":""},{"$f":"IF(U43=\"\",\"\",IF(COUNTIF('Entry sheet-2-hin'!$AL$9:$AL$68,\"35USA2C\")=0,COUNTIF('Entry sheet-2-hin'!$AL$9:$AL$68,\"35USA2\")*2,COUNTIF('Entry sheet-2-hin'!$AL$9:$AL$68,\"35USA2C\")*2))","v":""},{"$f":"IF(B43=\"\",\"\",IF(AND(COUNTIF('Entry sheet-2-hin'!$AL$9:$AL$68,\"35ULA1C\")=0,COUNTIF('Entry sheet-2-hin'!$AL$9:$AL$68,\"35ULA1\")=0),\"\",IF(COUNTIF('Entry sheet-2-hin'!$AL$9:$AL$68,\"35ULA1C\")=0,COUNTIF('Entry sheet-2-hin'!$AL$9:$AL$68,\"35ULA1\"),COUNTIF('Entry sheet-2-hin'!$AL$9:$AL$68,\"35ULA1C\")&\"*\")))","v":""},{"$f":"IF(W43=\"\",\"\",IF(COUNTIF('Entry sheet-2-hin'!$AL$9:$AL$68,\"35ULA1C\")=0,COUNTIF('Entry sheet-2-hin'!$AL$9:$AL$68,\"35ULA1\")*3,COUNTIF('Entry sheet-2-hin'!$AL$9:$AL$68,\"35ULA1C\")*3))","v":""},{"$f":"IF(B43=\"\",\"\",IF(AND(COUNTIF('Entry sheet-2-hin'!$AL$9:$AL$68,\"1समदीउ४\")=0),\"\",COUNTIF('Entry sheet-2-hin'!$AL$9:$AL$68,\"1समदीउ४\")))","v":""},{"$f":"IF(Y43=\"\",\"\",IF(COUNTIF('Entry sheet-2-hin'!$AL$9:$AL$68,\"35ULA2C\")=0,COUNTIF('Entry sheet-2-hin'!$AL$9:$AL$68,\"35ULA2\")*4,COUNTIF('Entry sheet-2-hin'!$AL$9:$AL$68,\"35ULA2C\")*4))","v":""},{"$f":"IF(B43=\"\",\"\",IF(AND(COUNTIF('Entry sheet-2-hin'!$AL$9:$AL$68,\"1अबवि\")=0),\"\",COUNTIF('Entry sheet-2-hin'!$AL$9:$AL$68,\"1अबवि\")))","v":""},"",{"$f":"IF(B43=\"\",\"\",IF(AND(COUNTIF('Entry sheet-2-hin'!$AL$9:$AL$68,\"35AOTC\")=0,COUNTIF('Entry sheet-2-hin'!$AL$9:$AL$68,\"35AOT\")=0),\"\",IF(COUNTIF('Entry sheet-2-hin'!$AL$9:$AL$68,\"35AOTC\")=0,COUNTIF('Entry sheet-2-hin'!$AL$9:$AL$68,\"35AOT\"),COUNTIF('Entry sheet-2-hin'!$AL$9:$AL$68,\"35AOTC\")&\"*\")))","v":""},{"$f":"IF(AC43=\"\",\"\",IF(COUNTIF('Entry sheet-2-hin'!$AL$9:$AL$68,\"35AOTC\")=0,COUNTIF('Entry sheet-2-hin'!$AL$9:$AL$68,\"35AOT\")*1,COUNTIF('Entry sheet-2-hin'!$AL$9:$AL$68,\"35AOTC\")*1))","v":""},{"$f":"IF(B43=\"\",\"\",IF(AND(COUNTIF('Entry sheet-2-hin'!$AL$9:$AL$68,\"1अअलउ\")=0),\"\",COUNTIF('Entry sheet-2-hin'!$AL$9:$AL$68,\"1अअलउ\")))","v":""},{"$f":"IF(AE43=\"\",\"\",IF(COUNTIF('Entry sheet-2-hin'!$AL$9:$AL$68,\"35ASA1C\")=0,COUNTIF('Entry sheet-2-hin'!$AL$9:$AL$68,\"35ASA1\")*1,COUNTIF('Entry sheet-2-hin'!$AL$9:$AL$68,\"35ASA1C\")*1))","v":""},{"$f":"IF(B43=\"\",\"\",IF(AND(COUNTIF('Entry sheet-2-hin'!$AL$9:$AL$68,\"35ASA2C\")=0,COUNTIF('Entry sheet-2-hin'!$AL$9:$AL$68,\"35ASA2\")=0),\"\",IF(COUNTIF('Entry sheet-2-hin'!$AL$9:$AL$68,\"35ASA2C\")=0,COUNTIF('Entry sheet-2-hin'!$AL$9:$AL$68,\"35ASA2\"),COUNTIF('Entry sheet-2-hin'!$AL$9:$AL$68,\"35ASA2C\")&\"*\")))","v":""},{"$f":"IF(AG43=\"\",\"\",IF(COUNTIF('Entry sheet-2-hin'!$AL$9:$AL$68,\"35ASA2C\")=0,COUNTIF('Entry sheet-2-hin'!$AL$9:$AL$68,\"35ASA2\")*2,COUNTIF('Entry sheet-2-hin'!$AL$9:$AL$68,\"35ASA2C\")*2))","v":""},{"$f":"IF(B43=\"\",\"\",IF(AND(COUNTIF('Entry sheet-2-hin'!$AL$9:$AL$68,\"35ALA1C\")=0,COUNTIF('Entry sheet-2-hin'!$AL$9:$AL$68,\"35ALA1\")=0),\"\",IF(COUNTIF('Entry sheet-2-hin'!$AL$9:$AL$68,\"35ALA1C\")=0,COUNTIF('Entry sheet-2-hin'!$AL$9:$AL$68,\"35ALA1\"),COUNTIF('Entry sheet-2-hin'!$AL$9:$AL$68,\"35ALA1C\")&\"*\")))","v":""},"",{"$f":"IF(B43=\"\",\"\",IF(AND(COUNTIF('Entry sheet-2-hin'!$AL$9:$AL$68,\"35ALA2C\")=0,COUNTIF('Entry sheet-2-hin'!$AL$9:$AL$68,\"35ALA2\")=0),\"\",IF(COUNTIF('Entry sheet-2-hin'!$AL$9:$AL$68,\"35ALA2C\")=0,COUNTIF('Entry sheet-2-hin'!$AL$9:$AL$68,\"35ALA2\"),COUNTIF('Entry sheet-2-hin'!$AL$9:$AL$68,\"35ALA2C\")&\"*\")))","v":""},{"$f":"IF(AK43=\"\",\"\",IF(COUNTIF('Entry sheet-2-hin'!$AL$9:$AL$68,\"35ALA2C\")=0,COUNTIF('Entry sheet-2-hin'!$AL$9:$AL$68,\"35ALA2\")*4,COUNTIF('Entry sheet-2-hin'!$AL$9:$AL$68,\"35ALA2C\")*4))","v":""},{"$f":"IF(B43=\"\",\"\",IF(AND(COUNTIF('Entry sheet-2-hin'!$AL$9:$AL$68,\"1रसबवि\")=0),\"\",COUNTIF('Entry sheet-2-hin'!$AL$9:$AL$68,\"1रसबवि\")))","v":""},"",{"$f":"IF(B43=\"\",\"\",IF(AND(COUNTIF('Entry sheet-2-hin'!$AL$9:$AL$68,\"35SOTC\")=0,COUNTIF('Entry sheet-2-hin'!$AL$9:$AL$68,\"35SOT\")=0),\"\",IF(COUNTIF('Entry sheet-2-hin'!$AL$9:$AL$68,\"35SOTC\")=0,COUNTIF('Entry sheet-2-hin'!$AL$9:$AL$68,\"35SOT\"),COUNTIF('Entry sheet-2-hin'!$AL$9:$AL$68,\"35SOTC\")&\"*\")))","v":""},{"$f":"IF(AO43=\"\",\"\",IF(COUNTIF('Entry sheet-2-hin'!$AL$9:$AL$68,\"35SOTC\")=0,COUNTIF('Entry sheet-2-hin'!$AL$9:$AL$68,\"35SOT\")*1,COUNTIF('Entry sheet-2-hin'!$AL$9:$AL$68,\"35SOTC\")*1))","v":""},{"$f":"IF(B43=\"\",\"\",IF(AND(COUNTIF('Entry sheet-2-hin'!$AL$9:$AL$68,\"1रसअलउ\")=0),\"\",COUNTIF('Entry sheet-2-hin'!$AL$9:$AL$68,\"1रसअलउ\")))","v":""},{"$f":"IF(AQ43=\"\",\"\",IF(COUNTIF('Entry sheet-2-hin'!$AL$9:$AL$68,\"35SSA1C\")=0,COUNTIF('Entry sheet-2-hin'!$AL$9:$AL$68,\"35SSA1\")*1,COUNTIF('Entry sheet-2-hin'!$AL$9:$AL$68,\"35SSA1C\")*1))","v":""},{"$f":"IF(B43=\"\",\"\",IF(AND(COUNTIF('Entry sheet-2-hin'!$AL$9:$AL$68,\"1रसलउ२\")=0),\"\",COUNTIF('Entry sheet-2-hin'!$AL$9:$AL$68,\"1रसलउ२\")))","v":""},"",{"$f":"IF(B43=\"\",\"\",IF(AND(COUNTIF('Entry sheet-2-hin'!$AL$9:$AL$68,\"35SLA1C\")=0,COUNTIF('Entry sheet-2-hin'!$AL$9:$AL$68,\"35SLA1\")=0),\"\",IF(COUNTIF('Entry sheet-2-hin'!$AL$9:$AL$68,\"35SLA1C\")=0,COUNTIF('Entry sheet-2-hin'!$AL$9:$AL$68,\"35SLA1\"),COUNTIF('Entry sheet-2-hin'!$AL$9:$AL$68,\"35SLA1C\")&\"*\")))","v":""},"",{"$f":"IF(B43=\"\",\"\",IF(AND(COUNTIF('Entry sheet-2-hin'!$AL$9:$AL$68,\"35SLA2C\")=0,COUNTIF('Entry sheet-2-hin'!$AL$9:$AL$68,\"35SLA2\")=0),\"\",IF(COUNTIF('Entry sheet-2-hin'!$AL$9:$AL$68,\"35SLA2C\")=0,COUNTIF('Entry sheet-2-hin'!$AL$9:$AL$68,\"35SLA2\"),COUNTIF('Entry sheet-2-hin'!$AL$9:$AL$68,\"35SLA2C\")&\"*\")))","v":""},"","","","","","","","","","","","","","",""]
[{"$f":"IF('Entry sheet-1-hin'!A45=\"\",\"\",'Entry sheet-1-hin'!A45)","v":""},{"$f":"IF('Entry sheet-1-hin'!B45=\"\",\"\",'Entry sheet-1-hin'!B45)","v":""},{"$f":"IF(B44=\"\",\"\",IF(AND(COUNTIF('Entry sheet-2-hin'!$AL$9:$AL$68,\"36KMCC\")=0,COUNTIF('Entry sheet-2-hin'!$AL$9:$AL$68,\"36KMC\")=0),\"\",IF(COUNTIF('Entry sheet-2-hin'!$AL$9:$AL$68,\"36KMCC\")=0,COUNTIF('Entry sheet-2-hin'!$AL$9:$AL$68,\"36KMC\"),COUNTIF('Entry sheet-2-hin'!$AL$9:$AL$68,\"36KMCC\")&\"*\")))","v":""},{"$f":"IF(C44=\"\",\"\",IF(COUNTIF('Entry sheet-2-hin'!$AL$9:$AL$68,\"36KMCC\")=0,COUNTIF('Entry sheet-2-hin'!$AL$9:$AL$68,\"36KMC\")*1,COUNTIF('Entry sheet-2-hin'!$AL$9:$AL$68,\"36KMCC\")*1))","v":""},{"$f":"IF(B44=\"\",\"\",IF(AND(COUNTIF('Entry sheet-2-hin'!$AL$9:$AL$68,\"36KOTC\")=0,COUNTIF('Entry sheet-2-hin'!$AL$9:$AL$68,\"36KOT\")=0),\"\",IF(COUNTIF('Entry sheet-2-hin'!$AL$9:$AL$68,\"36KOTC\")=0,COUNTIF('Entry sheet-2-hin'!$AL$9:$AL$68,\"36KOT\"),COUNTIF('Entry sheet-2-hin'!$AL$9:$AL$68,\"36KOTC\")&\"*\")))","v":""},{"$f":"IF(E44=\"\",\"\",IF(COUNTIF('Entry sheet-2-hin'!$AL$9:$AL$68,\"36KOTC\")=0,COUNTIF('Entry sheet-2-hin'!$AL$9:$AL$68,\"36KOT\")*1,COUNTIF('Entry sheet-2-hin'!$AL$9:$AL$68,\"36KOTC\")*1))","v":""},{"$f":"IF(B44=\"\",\"\",IF(AND(COUNTIF('Entry sheet-2-hin'!$AL$9:$AL$68,\"36KSA1C\")=0,COUNTIF('Entry sheet-2-hin'!$AL$9:$AL$68,\"36KSA1\")=0),\"\",IF(COUNTIF('Entry sheet-2-hin'!$AL$9:$AL$68,\"36KSA1C\")=0,COUNTIF('Entry sheet-2-hin'!$AL$9:$AL$68,\"36KSA1\"),COUNTIF('Entry sheet-2-hin'!$AL$9:$AL$68,\"36KSA1C\")&\"*\")))","v":""},{"$f":"IF(G44=\"\",\"\",IF(COUNTIF('Entry sheet-2-hin'!$AL$9:$AL$68,\"36KSA1C\")=0,COUNTIF('Entry sheet-2-hin'!$AL$9:$AL$68,\"36KSA1\")*1,COUNTIF('Entry sheet-2-hin'!$AL$9:$AL$68,\"36KSA1C\")*1))","v":""},{"$f":"IF(B44=\"\",\"\",IF(AND(COUNTIF('Entry sheet-2-hin'!$AL$9:$AL$68,\"36KSA2C\")=0,COUNTIF('Entry sheet-2-hin'!$AL$9:$AL$68,\"36KSA2\")=0),\"\",IF(COUNTIF('Entry sheet-2-hin'!$AL$9:$AL$68,\"36KSA2C\")=0,COUNTIF('Entry sheet-2-hin'!$AL$9:$AL$68,\"36KSA2\"),COUNTIF('Entry sheet-2-hin'!$AL$9:$AL$68,\"36KSA2C\")&\"*\")))","v":""},{"$f":"IF(I44=\"\",\"\",IF(COUNTIF('Entry sheet-2-hin'!$AL$9:$AL$68,\"36KSA2C\")=0,COUNTIF('Entry sheet-2-hin'!$AL$9:$AL$68,\"36KSA2\")*2,COUNTIF('Entry sheet-2-hin'!$AL$9:$AL$68,\"36KSA2C\")*2))","v":""},{"$f":"IF(B44=\"\",\"\",IF(AND(COUNTIF('Entry sheet-2-hin'!$AL$9:$AL$68,\"36KLA1C\")=0,COUNTIF('Entry sheet-2-hin'!$AL$9:$AL$68,\"36KLA1\")=0),\"\",IF(COUNTIF('Entry sheet-2-hin'!$AL$9:$AL$68,\"36KLA1C\")=0,COUNTIF('Entry sheet-2-hin'!$AL$9:$AL$68,\"36KLA1\"),COUNTIF('Entry sheet-2-hin'!$AL$9:$AL$68,\"36KLA1C\")&\"*\")))","v":""},{"$f":"IF(K44=\"\",\"\",IF(COUNTIF('Entry sheet-2-hin'!$AL$9:$AL$68,\"36KLA1C\")=0,COUNTIF('Entry sheet-2-hin'!$AL$9:$AL$68,\"36KLA1\")*3,COUNTIF('Entry sheet-2-hin'!$AL$9:$AL$68,\"36KLA1C\")*3))","v":""},{"$f":"IF(B44=\"\",\"\",IF(AND(COUNTIF('Entry sheet-2-hin'!$AL$9:$AL$68,\"1स्मदीउ४\")=0),\"\",COUNTIF('Entry sheet-2-hin'!$AL$9:$AL$68,\"1स्मदीउ४\")))","v":""},"",{"$f":"IF(B44=\"\",\"\",IF(AND(COUNTIF('Entry sheet-2-hin'!$AL$9:$AL$68,\"36UMCC\")=0,COUNTIF('Entry sheet-2-hin'!$AL$9:$AL$68,\"36UMC\")=0),\"\",IF(COUNTIF('Entry sheet-2-hin'!$AL$9:$AL$68,\"36UMCC\")=0,COUNTIF('Entry sheet-2-hin'!$AL$9:$AL$68,\"36UMC\"),COUNTIF('Entry sheet-2-hin'!$AL$9:$AL$68,\"36UMCC\")&\"*\")))","v":""},{"$f":"IF(O44=\"\",\"\",IF(COUNTIF('Entry sheet-2-hin'!$AL$9:$AL$68,\"36UMCC\")=0,COUNTIF('Entry sheet-2-hin'!$AL$9:$AL$68,\"36UMC\")*1,COUNTIF('Entry sheet-2-hin'!$AL$9:$AL$68,\"36UMCC\")*1))","v":""},{"$f":"IF(B44=\"\",\"\",IF(AND(COUNTIF('Entry sheet-2-hin'!$AL$9:$AL$68,\"1समवनि\")=0),\"\",COUNTIF('Entry sheet-2-hin'!$AL$9:$AL$68,\"1समवनि\")))","v":""},{"$f":"IF(Q44=\"\",\"\",IF(COUNTIF('Entry sheet-2-hin'!$AL$9:$AL$68,\"36UOTC\")=0,COUNTIF('Entry sheet-2-hin'!$AL$9:$AL$68,\"36UOT\")*1,COUNTIF('Entry sheet-2-hin'!$AL$9:$AL$68,\"36UOTC\")*1))","v":""},{"$f":"IF(B44=\"\",\"\",IF(AND(COUNTIF('Entry sheet-2-hin'!$AL$9:$AL$68,\"1समअलउ\")=0),\"\",COUNTIF('Entry sheet-2-hin'!$AL$9:$AL$68,\"1समअलउ\")))","v":""},{"$f":"IF(S44=\"\",\"\",IF(COUNTIF('Entry sheet-2-hin'!$AL$9:$AL$68,\"36USA1C\")=0,COUNTIF('Entry sheet-2-hin'!$AL$9:$AL$68,\"36USA1\")*1,COUNTIF('Entry sheet-2-hin'!$AL$9:$AL$68,\"36USA1C\")*1))","v":""},{"$f":"IF(B44=\"\",\"\",IF(AND(COUNTIF('Entry sheet-2-hin'!$AL$9:$AL$68,\"36USA2C\")=0,COUNTIF('Entry sheet-2-hin'!$AL$9:$AL$68,\"36USA2\")=0),\"\",IF(COUNTIF('Entry sheet-2-hin'!$AL$9:$AL$68,\"36USA2C\")=0,COUNTIF('Entry sheet-2-hin'!$AL$9:$AL$68,\"36USA2\"),COUNTIF('Entry sheet-2-hin'!$AL$9:$AL$68,\"36USA2C\")&\"*\")))","v":""},{"$f":"IF(U44=\"\",\"\",IF(COUNTIF('Entry sheet-2-hin'!$AL$9:$AL$68,\"36USA2C\")=0,COUNTIF('Entry sheet-2-hin'!$AL$9:$AL$68,\"36USA2\")*2,COUNTIF('Entry sheet-2-hin'!$AL$9:$AL$68,\"36USA2C\")*2))","v":""},{"$f":"IF(B44=\"\",\"\",IF(AND(COUNTIF('Entry sheet-2-hin'!$AL$9:$AL$68,\"36ULA1C\")=0,COUNTIF('Entry sheet-2-hin'!$AL$9:$AL$68,\"36ULA1\")=0),\"\",IF(COUNTIF('Entry sheet-2-hin'!$AL$9:$AL$68,\"36ULA1C\")=0,COUNTIF('Entry sheet-2-hin'!$AL$9:$AL$68,\"36ULA1\"),COUNTIF('Entry sheet-2-hin'!$AL$9:$AL$68,\"36ULA1C\")&\"*\")))","v":""},{"$f":"IF(W44=\"\",\"\",IF(COUNTIF('Entry sheet-2-hin'!$AL$9:$AL$68,\"36ULA1C\")=0,COUNTIF('Entry sheet-2-hin'!$AL$9:$AL$68,\"36ULA1\")*3,COUNTIF('Entry sheet-2-hin'!$AL$9:$AL$68,\"36ULA1C\")*3))","v":""},{"$f":"IF(B44=\"\",\"\",IF(AND(COUNTIF('Entry sheet-2-hin'!$AL$9:$AL$68,\"1समदीउ४\")=0),\"\",COUNTIF('Entry sheet-2-hin'!$AL$9:$AL$68,\"1समदीउ४\")))","v":""},{"$f":"IF(Y44=\"\",\"\",IF(COUNTIF('Entry sheet-2-hin'!$AL$9:$AL$68,\"36ULA2C\")=0,COUNTIF('Entry sheet-2-hin'!$AL$9:$AL$68,\"36ULA2\")*4,COUNTIF('Entry sheet-2-hin'!$AL$9:$AL$68,\"36ULA2C\")*4))","v":""},{"$f":"IF(B44=\"\",\"\",IF(AND(COUNTIF('Entry sheet-2-hin'!$AL$9:$AL$68,\"1अबवि\")=0),\"\",COUNTIF('Entry sheet-2-hin'!$AL$9:$AL$68,\"1अबवि\")))","v":""},"",{"$f":"IF(B44=\"\",\"\",IF(AND(COUNTIF('Entry sheet-2-hin'!$AL$9:$AL$68,\"36AOTC\")=0,COUNTIF('Entry sheet-2-hin'!$AL$9:$AL$68,\"36AOT\")=0),\"\",IF(COUNTIF('Entry sheet-2-hin'!$AL$9:$AL$68,\"36AOTC\")=0,COUNTIF('Entry sheet-2-hin'!$AL$9:$AL$68,\"36AOT\"),COUNTIF('Entry sheet-2-hin'!$AL$9:$AL$68,\"36AOTC\")&\"*\")))","v":""},{"$f":"IF(AC44=\"\",\"\",IF(COUNTIF('Entry sheet-2-hin'!$AL$9:$AL$68,\"36AOTC\")=0,COUNTIF('Entry sheet-2-hin'!$AL$9:$AL$68,\"36AOT\")*1,COUNTIF('Entry sheet-2-hin'!$AL$9:$AL$68,\"36AOTC\")*1))","v":""},{"$f":"IF(B44=\"\",\"\",IF(AND(COUNTIF('Entry sheet-2-hin'!$AL$9:$AL$68,\"1अअलउ\")=0),\"\",COUNTIF('Entry sheet-2-hin'!$AL$9:$AL$68,\"1अअलउ\")))","v":""},{"$f":"IF(AE44=\"\",\"\",IF(COUNTIF('Entry sheet-2-hin'!$AL$9:$AL$68,\"36ASA1C\")=0,COUNTIF('Entry sheet-2-hin'!$AL$9:$AL$68,\"36ASA1\")*1,COUNTIF('Entry sheet-2-hin'!$AL$9:$AL$68,\"36ASA1C\")*1))","v":""},{"$f":"IF(B44=\"\",\"\",IF(AND(COUNTIF('Entry sheet-2-hin'!$AL$9:$AL$68,\"36ASA2C\")=0,COUNTIF('Entry sheet-2-hin'!$AL$9:$AL$68,\"36ASA2\")=0),\"\",IF(COUNTIF('Entry sheet-2-hin'!$AL$9:$AL$68,\"36ASA2C\")=0,COUNTIF('Entry sheet-2-hin'!$AL$9:$AL$68,\"36ASA2\"),COUNTIF('Entry sheet-2-hin'!$AL$9:$AL$68,\"36ASA2C\")&\"*\")))","v":""},{"$f":"IF(AG44=\"\",\"\",IF(COUNTIF('Entry sheet-2-hin'!$AL$9:$AL$68,\"36ASA2C\")=0,COUNTIF('Entry sheet-2-hin'!$AL$9:$AL$68,\"36ASA2\")*2,COUNTIF('Entry sheet-2-hin'!$AL$9:$AL$68,\"36ASA2C\")*2))","v":""},{"$f":"IF(B44=\"\",\"\",IF(AND(COUNTIF('Entry sheet-2-hin'!$AL$9:$AL$68,\"36ALA1C\")=0,COUNTIF('Entry sheet-2-hin'!$AL$9:$AL$68,\"36ALA1\")=0),\"\",IF(COUNTIF('Entry sheet-2-hin'!$AL$9:$AL$68,\"36ALA1C\")=0,COUNTIF('Entry sheet-2-hin'!$AL$9:$AL$68,\"36ALA1\"),COUNTIF('Entry sheet-2-hin'!$AL$9:$AL$68,\"36ALA1C\")&\"*\")))","v":""},"",{"$f":"IF(B44=\"\",\"\",IF(AND(COUNTIF('Entry sheet-2-hin'!$AL$9:$AL$68,\"36ALA2C\")=0,COUNTIF('Entry sheet-2-hin'!$AL$9:$AL$68,\"36ALA2\")=0),\"\",IF(COUNTIF('Entry sheet-2-hin'!$AL$9:$AL$68,\"36ALA2C\")=0,COUNTIF('Entry sheet-2-hin'!$AL$9:$AL$68,\"36ALA2\"),COUNTIF('Entry sheet-2-hin'!$AL$9:$AL$68,\"36ALA2C\")&\"*\")))","v":""},{"$f":"IF(AK44=\"\",\"\",IF(COUNTIF('Entry sheet-2-hin'!$AL$9:$AL$68,\"36ALA2C\")=0,COUNTIF('Entry sheet-2-hin'!$AL$9:$AL$68,\"36ALA2\")*4,COUNTIF('Entry sheet-2-hin'!$AL$9:$AL$68,\"36ALA2C\")*4))","v":""},{"$f":"IF(B44=\"\",\"\",IF(AND(COUNTIF('Entry sheet-2-hin'!$AL$9:$AL$68,\"1रसबवि\")=0),\"\",COUNTIF('Entry sheet-2-hin'!$AL$9:$AL$68,\"1रसबवि\")))","v":""},"",{"$f":"IF(B44=\"\",\"\",IF(AND(COUNTIF('Entry sheet-2-hin'!$AL$9:$AL$68,\"36SOTC\")=0,COUNTIF('Entry sheet-2-hin'!$AL$9:$AL$68,\"36SOT\")=0),\"\",IF(COUNTIF('Entry sheet-2-hin'!$AL$9:$AL$68,\"36SOTC\")=0,COUNTIF('Entry sheet-2-hin'!$AL$9:$AL$68,\"36SOT\"),COUNTIF('Entry sheet-2-hin'!$AL$9:$AL$68,\"36SOTC\")&\"*\")))","v":""},{"$f":"IF(AO44=\"\",\"\",IF(COUNTIF('Entry sheet-2-hin'!$AL$9:$AL$68,\"36SOTC\")=0,COUNTIF('Entry sheet-2-hin'!$AL$9:$AL$68,\"36SOT\")*1,COUNTIF('Entry sheet-2-hin'!$AL$9:$AL$68,\"36SOTC\")*1))","v":""},{"$f":"IF(B44=\"\",\"\",IF(AND(COUNTIF('Entry sheet-2-hin'!$AL$9:$AL$68,\"1रसअलउ\")=0),\"\",COUNTIF('Entry sheet-2-hin'!$AL$9:$AL$68,\"1रसअलउ\")))","v":""},{"$f":"IF(AQ44=\"\",\"\",IF(COUNTIF('Entry sheet-2-hin'!$AL$9:$AL$68,\"36SSA1C\")=0,COUNTIF('Entry sheet-2-hin'!$AL$9:$AL$68,\"36SSA1\")*1,COUNTIF('Entry sheet-2-hin'!$AL$9:$AL$68,\"36SSA1C\")*1))","v":""},{"$f":"IF(B44=\"\",\"\",IF(AND(COUNTIF('Entry sheet-2-hin'!$AL$9:$AL$68,\"1रसलउ२\")=0),\"\",COUNTIF('Entry sheet-2-hin'!$AL$9:$AL$68,\"1रसलउ२\")))","v":""},"",{"$f":"IF(B44=\"\",\"\",IF(AND(COUNTIF('Entry sheet-2-hin'!$AL$9:$AL$68,\"36SLA1C\")=0,COUNTIF('Entry sheet-2-hin'!$AL$9:$AL$68,\"36SLA1\")=0),\"\",IF(COUNTIF('Entry sheet-2-hin'!$AL$9:$AL$68,\"36SLA1C\")=0,COUNTIF('Entry sheet-2-hin'!$AL$9:$AL$68,\"36SLA1\"),COUNTIF('Entry sheet-2-hin'!$AL$9:$AL$68,\"36SLA1C\")&\"*\")))","v":""},"",{"$f":"IF(B44=\"\",\"\",IF(AND(COUNTIF('Entry sheet-2-hin'!$AL$9:$AL$68,\"36SLA2C\")=0,COUNTIF('Entry sheet-2-hin'!$AL$9:$AL$68,\"36SLA2\")=0),\"\",IF(COUNTIF('Entry sheet-2-hin'!$AL$9:$AL$68,\"36SLA2C\")=0,COUNTIF('Entry sheet-2-hin'!$AL$9:$AL$68,\"36SLA2\"),COUNTIF('Entry sheet-2-hin'!$AL$9:$AL$68,\"36SLA2C\")&\"*\")))","v":""},"","","","","","","","","","","","","","",""]
[{"$f":"IF('Entry sheet-1-hin'!A46=\"\",\"\",'Entry sheet-1-hin'!A46)","v":""},{"$f":"IF('Entry sheet-1-hin'!B46=\"\",\"\",'Entry sheet-1-hin'!B46)","v":""},{"$f":"IF(B45=\"\",\"\",IF(AND(COUNTIF('Entry sheet-2-hin'!$AL$9:$AL$68,\"37KMCC\")=0,COUNTIF('Entry sheet-2-hin'!$AL$9:$AL$68,\"37KMC\")=0),\"\",IF(COUNTIF('Entry sheet-2-hin'!$AL$9:$AL$68,\"37KMCC\")=0,COUNTIF('Entry sheet-2-hin'!$AL$9:$AL$68,\"37KMC\"),COUNTIF('Entry sheet-2-hin'!$AL$9:$AL$68,\"37KMCC\")&\"*\")))","v":""},{"$f":"IF(C45=\"\",\"\",IF(COUNTIF('Entry sheet-2-hin'!$AL$9:$AL$68,\"37KMCC\")=0,COUNTIF('Entry sheet-2-hin'!$AL$9:$AL$68,\"37KMC\")*1,COUNTIF('Entry sheet-2-hin'!$AL$9:$AL$68,\"37KMCC\")*1))","v":""},{"$f":"IF(B45=\"\",\"\",IF(AND(COUNTIF('Entry sheet-2-hin'!$AL$9:$AL$68,\"37KOTC\")=0,COUNTIF('Entry sheet-2-hin'!$AL$9:$AL$68,\"37KOT\")=0),\"\",IF(COUNTIF('Entry sheet-2-hin'!$AL$9:$AL$68,\"37KOTC\")=0,COUNTIF('Entry sheet-2-hin'!$AL$9:$AL$68,\"37KOT\"),COUNTIF('Entry sheet-2-hin'!$AL$9:$AL$68,\"37KOTC\")&\"*\")))","v":""},{"$f":"IF(E45=\"\",\"\",IF(COUNTIF('Entry sheet-2-hin'!$AL$9:$AL$68,\"37KOTC\")=0,COUNTIF('Entry sheet-2-hin'!$AL$9:$AL$68,\"37KOT\")*1,COUNTIF('Entry sheet-2-hin'!$AL$9:$AL$68,\"37KOTC\")*1))","v":""},{"$f":"IF(B45=\"\",\"\",IF(AND(COUNTIF('Entry sheet-2-hin'!$AL$9:$AL$68,\"37KSA1C\")=0,COUNTIF('Entry sheet-2-hin'!$AL$9:$AL$68,\"37KSA1\")=0),\"\",IF(COUNTIF('Entry sheet-2-hin'!$AL$9:$AL$68,\"37KSA1C\")=0,COUNTIF('Entry sheet-2-hin'!$AL$9:$AL$68,\"37KSA1\"),COUNTIF('Entry sheet-2-hin'!$AL$9:$AL$68,\"37KSA1C\")&\"*\")))","v":""},{"$f":"IF(G45=\"\",\"\",IF(COUNTIF('Entry sheet-2-hin'!$AL$9:$AL$68,\"37KSA1C\")=0,COUNTIF('Entry sheet-2-hin'!$AL$9:$AL$68,\"37KSA1\")*1,COUNTIF('Entry sheet-2-hin'!$AL$9:$AL$68,\"37KSA1C\")*1))","v":""},{"$f":"IF(B45=\"\",\"\",IF(AND(COUNTIF('Entry sheet-2-hin'!$AL$9:$AL$68,\"37KSA2C\")=0,COUNTIF('Entry sheet-2-hin'!$AL$9:$AL$68,\"37KSA2\")=0),\"\",IF(COUNTIF('Entry sheet-2-hin'!$AL$9:$AL$68,\"37KSA2C\")=0,COUNTIF('Entry sheet-2-hin'!$AL$9:$AL$68,\"37KSA2\"),COUNTIF('Entry sheet-2-hin'!$AL$9:$AL$68,\"37KSA2C\")&\"*\")))","v":""},{"$f":"IF(I45=\"\",\"\",IF(COUNTIF('Entry sheet-2-hin'!$AL$9:$AL$68,\"37KSA2C\")=0,COUNTIF('Entry sheet-2-hin'!$AL$9:$AL$68,\"37KSA2\")*2,COUNTIF('Entry sheet-2-hin'!$AL$9:$AL$68,\"37KSA2C\")*2))","v":""},{"$f":"IF(B45=\"\",\"\",IF(AND(COUNTIF('Entry sheet-2-hin'!$AL$9:$AL$68,\"37KLA1C\")=0,COUNTIF('Entry sheet-2-hin'!$AL$9:$AL$68,\"37KLA1\")=0),\"\",IF(COUNTIF('Entry sheet-2-hin'!$AL$9:$AL$68,\"37KLA1C\")=0,COUNTIF('Entry sheet-2-hin'!$AL$9:$AL$68,\"37KLA1\"),COUNTIF('Entry sheet-2-hin'!$AL$9:$AL$68,\"37KLA1C\")&\"*\")))","v":""},{"$f":"IF(K45=\"\",\"\",IF(COUNTIF('Entry sheet-2-hin'!$AL$9:$AL$68,\"37KLA1C\")=0,COUNTIF('Entry sheet-2-hin'!$AL$9:$AL$68,\"37KLA1\")*3,COUNTIF('Entry sheet-2-hin'!$AL$9:$AL$68,\"37KLA1C\")*3))","v":""},{"$f":"IF(B45=\"\",\"\",IF(AND(COUNTIF('Entry sheet-2-hin'!$AL$9:$AL$68,\"1स्मदीउ४\")=0),\"\",COUNTIF('Entry sheet-2-hin'!$AL$9:$AL$68,\"1स्मदीउ४\")))","v":""},"",{"$f":"IF(B45=\"\",\"\",IF(AND(COUNTIF('Entry sheet-2-hin'!$AL$9:$AL$68,\"37UMCC\")=0,COUNTIF('Entry sheet-2-hin'!$AL$9:$AL$68,\"37UMC\")=0),\"\",IF(COUNTIF('Entry sheet-2-hin'!$AL$9:$AL$68,\"37UMCC\")=0,COUNTIF('Entry sheet-2-hin'!$AL$9:$AL$68,\"37UMC\"),COUNTIF('Entry sheet-2-hin'!$AL$9:$AL$68,\"37UMCC\")&\"*\")))","v":""},{"$f":"IF(O45=\"\",\"\",IF(COUNTIF('Entry sheet-2-hin'!$AL$9:$AL$68,\"37UMCC\")=0,COUNTIF('Entry sheet-2-hin'!$AL$9:$AL$68,\"37UMC\")*1,COUNTIF('Entry sheet-2-hin'!$AL$9:$AL$68,\"37UMCC\")*1))","v":""},{"$f":"IF(B45=\"\",\"\",IF(AND(COUNTIF('Entry sheet-2-hin'!$AL$9:$AL$68,\"1समवनि\")=0),\"\",COUNTIF('Entry sheet-2-hin'!$AL$9:$AL$68,\"1समवनि\")))","v":""},{"$f":"IF(Q45=\"\",\"\",IF(COUNTIF('Entry sheet-2-hin'!$AL$9:$AL$68,\"37UOTC\")=0,COUNTIF('Entry sheet-2-hin'!$AL$9:$AL$68,\"37UOT\")*1,COUNTIF('Entry sheet-2-hin'!$AL$9:$AL$68,\"37UOTC\")*1))","v":""},{"$f":"IF(B45=\"\",\"\",IF(AND(COUNTIF('Entry sheet-2-hin'!$AL$9:$AL$68,\"1समअलउ\")=0),\"\",COUNTIF('Entry sheet-2-hin'!$AL$9:$AL$68,\"1समअलउ\")))","v":""},{"$f":"IF(S45=\"\",\"\",IF(COUNTIF('Entry sheet-2-hin'!$AL$9:$AL$68,\"37USA1C\")=0,COUNTIF('Entry sheet-2-hin'!$AL$9:$AL$68,\"37USA1\")*1,COUNTIF('Entry sheet-2-hin'!$AL$9:$AL$68,\"37USA1C\")*1))","v":""},{"$f":"IF(B45=\"\",\"\",IF(AND(COUNTIF('Entry sheet-2-hin'!$AL$9:$AL$68,\"37USA2C\")=0,COUNTIF('Entry sheet-2-hin'!$AL$9:$AL$68,\"37USA2\")=0),\"\",IF(COUNTIF('Entry sheet-2-hin'!$AL$9:$AL$68,\"37USA2C\")=0,COUNTIF('Entry sheet-2-hin'!$AL$9:$AL$68,\"37USA2\"),COUNTIF('Entry sheet-2-hin'!$AL$9:$AL$68,\"37USA2C\")&\"*\")))","v":""},{"$f":"IF(U45=\"\",\"\",IF(COUNTIF('Entry sheet-2-hin'!$AL$9:$AL$68,\"37USA2C\")=0,COUNTIF('Entry sheet-2-hin'!$AL$9:$AL$68,\"37USA2\")*2,COUNTIF('Entry sheet-2-hin'!$AL$9:$AL$68,\"37USA2C\")*2))","v":""},{"$f":"IF(B45=\"\",\"\",IF(AND(COUNTIF('Entry sheet-2-hin'!$AL$9:$AL$68,\"37ULA1C\")=0,COUNTIF('Entry sheet-2-hin'!$AL$9:$AL$68,\"37ULA1\")=0),\"\",IF(COUNTIF('Entry sheet-2-hin'!$AL$9:$AL$68,\"37ULA1C\")=0,COUNTIF('Entry sheet-2-hin'!$AL$9:$AL$68,\"37ULA1\"),COUNTIF('Entry sheet-2-hin'!$AL$9:$AL$68,\"37ULA1C\")&\"*\")))","v":""},{"$f":"IF(W45=\"\",\"\",IF(COUNTIF('Entry sheet-2-hin'!$AL$9:$AL$68,\"37ULA1C\")=0,COUNTIF('Entry sheet-2-hin'!$AL$9:$AL$68,\"37ULA1\")*3,COUNTIF('Entry sheet-2-hin'!$AL$9:$AL$68,\"37ULA1C\")*3))","v":""},{"$f":"IF(B45=\"\",\"\",IF(AND(COUNTIF('Entry sheet-2-hin'!$AL$9:$AL$68,\"1समदीउ४\")=0),\"\",COUNTIF('Entry sheet-2-hin'!$AL$9:$AL$68,\"1समदीउ४\")))","v":""},{"$f":"IF(Y45=\"\",\"\",IF(COUNTIF('Entry sheet-2-hin'!$AL$9:$AL$68,\"37ULA2C\")=0,COUNTIF('Entry sheet-2-hin'!$AL$9:$AL$68,\"37ULA2\")*4,COUNTIF('Entry sheet-2-hin'!$AL$9:$AL$68,\"37ULA2C\")*4))","v":""},{"$f":"IF(B45=\"\",\"\",IF(AND(COUNTIF('Entry sheet-2-hin'!$AL$9:$AL$68,\"1अबवि\")=0),\"\",COUNTIF('Entry sheet-2-hin'!$AL$9:$AL$68,\"1अबवि\")))","v":""},"",{"$f":"IF(B45=\"\",\"\",IF(AND(COUNTIF('Entry sheet-2-hin'!$AL$9:$AL$68,\"37AOTC\")=0,COUNTIF('Entry sheet-2-hin'!$AL$9:$AL$68,\"37AOT\")=0),\"\",IF(COUNTIF('Entry sheet-2-hin'!$AL$9:$AL$68,\"37AOTC\")=0,COUNTIF('Entry sheet-2-hin'!$AL$9:$AL$68,\"37AOT\"),COUNTIF('Entry sheet-2-hin'!$AL$9:$AL$68,\"37AOTC\")&\"*\")))","v":""},{"$f":"IF(AC45=\"\",\"\",IF(COUNTIF('Entry sheet-2-hin'!$AL$9:$AL$68,\"37AOTC\")=0,COUNTIF('Entry sheet-2-hin'!$AL$9:$AL$68,\"37AOT\")*1,COUNTIF('Entry sheet-2-hin'!$AL$9:$AL$68,\"37AOTC\")*1))","v":""},{"$f":"IF(B45=\"\",\"\",IF(AND(COUNTIF('Entry sheet-2-hin'!$AL$9:$AL$68,\"1अअलउ\")=0),\"\",COUNTIF('Entry sheet-2-hin'!$AL$9:$AL$68,\"1अअलउ\")))","v":""},{"$f":"IF(AE45=\"\",\"\",IF(COUNTIF('Entry sheet-2-hin'!$AL$9:$AL$68,\"37ASA1C\")=0,COUNTIF('Entry sheet-2-hin'!$AL$9:$AL$68,\"37ASA1\")*1,COUNTIF('Entry sheet-2-hin'!$AL$9:$AL$68,\"37ASA1C\")*1))","v":""},{"$f":"IF(B45=\"\",\"\",IF(AND(COUNTIF('Entry sheet-2-hin'!$AL$9:$AL$68,\"37ASA2C\")=0,COUNTIF('Entry sheet-2-hin'!$AL$9:$AL$68,\"37ASA2\")=0),\"\",IF(COUNTIF('Entry sheet-2-hin'!$AL$9:$AL$68,\"37ASA2C\")=0,COUNTIF('Entry sheet-2-hin'!$AL$9:$AL$68,\"37ASA2\"),COUNTIF('Entry sheet-2-hin'!$AL$9:$AL$68,\"37ASA2C\")&\"*\")))","v":""},{"$f":"IF(AG45=\"\",\"\",IF(COUNTIF('Entry sheet-2-hin'!$AL$9:$AL$68,\"37ASA2C\")=0,COUNTIF('Entry sheet-2-hin'!$AL$9:$AL$68,\"37ASA2\")*2,COUNTIF('Entry sheet-2-hin'!$AL$9:$AL$68,\"37ASA2C\")*2))","v":""},{"$f":"IF(B45=\"\",\"\",IF(AND(COUNTIF('Entry sheet-2-hin'!$AL$9:$AL$68,\"37ALA1C\")=0,COUNTIF('Entry sheet-2-hin'!$AL$9:$AL$68,\"37ALA1\")=0),\"\",IF(COUNTIF('Entry sheet-2-hin'!$AL$9:$AL$68,\"37ALA1C\")=0,COUNTIF('Entry sheet-2-hin'!$AL$9:$AL$68,\"37ALA1\"),COUNTIF('Entry sheet-2-hin'!$AL$9:$AL$68,\"37ALA1C\")&\"*\")))","v":""},"",{"$f":"IF(B45=\"\",\"\",IF(AND(COUNTIF('Entry sheet-2-hin'!$AL$9:$AL$68,\"37ALA2C\")=0,COUNTIF('Entry sheet-2-hin'!$AL$9:$AL$68,\"37ALA2\")=0),\"\",IF(COUNTIF('Entry sheet-2-hin'!$AL$9:$AL$68,\"37ALA2C\")=0,COUNTIF('Entry sheet-2-hin'!$AL$9:$AL$68,\"37ALA2\"),COUNTIF('Entry sheet-2-hin'!$AL$9:$AL$68,\"37ALA2C\")&\"*\")))","v":""},{"$f":"IF(AK45=\"\",\"\",IF(COUNTIF('Entry sheet-2-hin'!$AL$9:$AL$68,\"37ALA2C\")=0,COUNTIF('Entry sheet-2-hin'!$AL$9:$AL$68,\"37ALA2\")*4,COUNTIF('Entry sheet-2-hin'!$AL$9:$AL$68,\"37ALA2C\")*4))","v":""},{"$f":"IF(B45=\"\",\"\",IF(AND(COUNTIF('Entry sheet-2-hin'!$AL$9:$AL$68,\"1रसबवि\")=0),\"\",COUNTIF('Entry sheet-2-hin'!$AL$9:$AL$68,\"1रसबवि\")))","v":""},"",{"$f":"IF(B45=\"\",\"\",IF(AND(COUNTIF('Entry sheet-2-hin'!$AL$9:$AL$68,\"37SOTC\")=0,COUNTIF('Entry sheet-2-hin'!$AL$9:$AL$68,\"37SOT\")=0),\"\",IF(COUNTIF('Entry sheet-2-hin'!$AL$9:$AL$68,\"37SOTC\")=0,COUNTIF('Entry sheet-2-hin'!$AL$9:$AL$68,\"37SOT\"),COUNTIF('Entry sheet-2-hin'!$AL$9:$AL$68,\"37SOTC\")&\"*\")))","v":""},{"$f":"IF(AO45=\"\",\"\",IF(COUNTIF('Entry sheet-2-hin'!$AL$9:$AL$68,\"37SOTC\")=0,COUNTIF('Entry sheet-2-hin'!$AL$9:$AL$68,\"37SOT\")*1,COUNTIF('Entry sheet-2-hin'!$AL$9:$AL$68,\"37SOTC\")*1))","v":""},{"$f":"IF(B45=\"\",\"\",IF(AND(COUNTIF('Entry sheet-2-hin'!$AL$9:$AL$68,\"1रसअलउ\")=0),\"\",COUNTIF('Entry sheet-2-hin'!$AL$9:$AL$68,\"1रसअलउ\")))","v":""},{"$f":"IF(AQ45=\"\",\"\",IF(COUNTIF('Entry sheet-2-hin'!$AL$9:$AL$68,\"37SSA1C\")=0,COUNTIF('Entry sheet-2-hin'!$AL$9:$AL$68,\"37SSA1\")*1,COUNTIF('Entry sheet-2-hin'!$AL$9:$AL$68,\"37SSA1C\")*1))","v":""},{"$f":"IF(B45=\"\",\"\",IF(AND(COUNTIF('Entry sheet-2-hin'!$AL$9:$AL$68,\"1रसलउ२\")=0),\"\",COUNTIF('Entry sheet-2-hin'!$AL$9:$AL$68,\"1रसलउ२\")))","v":""},"",{"$f":"IF(B45=\"\",\"\",IF(AND(COUNTIF('Entry sheet-2-hin'!$AL$9:$AL$68,\"37SLA1C\")=0,COUNTIF('Entry sheet-2-hin'!$AL$9:$AL$68,\"37SLA1\")=0),\"\",IF(COUNTIF('Entry sheet-2-hin'!$AL$9:$AL$68,\"37SLA1C\")=0,COUNTIF('Entry sheet-2-hin'!$AL$9:$AL$68,\"37SLA1\"),COUNTIF('Entry sheet-2-hin'!$AL$9:$AL$68,\"37SLA1C\")&\"*\")))","v":""},"",{"$f":"IF(B45=\"\",\"\",IF(AND(COUNTIF('Entry sheet-2-hin'!$AL$9:$AL$68,\"37SLA2C\")=0,COUNTIF('Entry sheet-2-hin'!$AL$9:$AL$68,\"37SLA2\")=0),\"\",IF(COUNTIF('Entry sheet-2-hin'!$AL$9:$AL$68,\"37SLA2C\")=0,COUNTIF('Entry sheet-2-hin'!$AL$9:$AL$68,\"37SLA2\"),COUNTIF('Entry sheet-2-hin'!$AL$9:$AL$68,\"37SLA2C\")&\"*\")))","v":""},"","","","","","","","","","","","","","",""]
[{"$f":"IF('Entry sheet-1-hin'!A47=\"\",\"\",'Entry sheet-1-hin'!A47)","v":""},{"$f":"IF('Entry sheet-1-hin'!B47=\"\",\"\",'Entry sheet-1-hin'!B47)","v":""},{"$f":"IF(B46=\"\",\"\",IF(AND(COUNTIF('Entry sheet-2-hin'!$AL$9:$AL$68,\"38KMCC\")=0,COUNTIF('Entry sheet-2-hin'!$AL$9:$AL$68,\"38KMC\")=0),\"\",IF(COUNTIF('Entry sheet-2-hin'!$AL$9:$AL$68,\"38KMCC\")=0,COUNTIF('Entry sheet-2-hin'!$AL$9:$AL$68,\"38KMC\"),COUNTIF('Entry sheet-2-hin'!$AL$9:$AL$68,\"38KMCC\")&\"*\")))","v":""},{"$f":"IF(C46=\"\",\"\",IF(COUNTIF('Entry sheet-2-hin'!$AL$9:$AL$68,\"38KMCC\")=0,COUNTIF('Entry sheet-2-hin'!$AL$9:$AL$68,\"38KMC\")*1,COUNTIF('Entry sheet-2-hin'!$AL$9:$AL$68,\"38KMCC\")*1))","v":""},{"$f":"IF(B46=\"\",\"\",IF(AND(COUNTIF('Entry sheet-2-hin'!$AL$9:$AL$68,\"38KOTC\")=0,COUNTIF('Entry sheet-2-hin'!$AL$9:$AL$68,\"38KOT\")=0),\"\",IF(COUNTIF('Entry sheet-2-hin'!$AL$9:$AL$68,\"38KOTC\")=0,COUNTIF('Entry sheet-2-hin'!$AL$9:$AL$68,\"38KOT\"),COUNTIF('Entry sheet-2-hin'!$AL$9:$AL$68,\"38KOTC\")&\"*\")))","v":""},{"$f":"IF(E46=\"\",\"\",IF(COUNTIF('Entry sheet-2-hin'!$AL$9:$AL$68,\"38KOTC\")=0,COUNTIF('Entry sheet-2-hin'!$AL$9:$AL$68,\"38KOT\")*1,COUNTIF('Entry sheet-2-hin'!$AL$9:$AL$68,\"38KOTC\")*1))","v":""},{"$f":"IF(B46=\"\",\"\",IF(AND(COUNTIF('Entry sheet-2-hin'!$AL$9:$AL$68,\"38KSA1C\")=0,COUNTIF('Entry sheet-2-hin'!$AL$9:$AL$68,\"38KSA1\")=0),\"\",IF(COUNTIF('Entry sheet-2-hin'!$AL$9:$AL$68,\"38KSA1C\")=0,COUNTIF('Entry sheet-2-hin'!$AL$9:$AL$68,\"38KSA1\"),COUNTIF('Entry sheet-2-hin'!$AL$9:$AL$68,\"38KSA1C\")&\"*\")))","v":""},{"$f":"IF(G46=\"\",\"\",IF(COUNTIF('Entry sheet-2-hin'!$AL$9:$AL$68,\"38KSA1C\")=0,COUNTIF('Entry sheet-2-hin'!$AL$9:$AL$68,\"38KSA1\")*1,COUNTIF('Entry sheet-2-hin'!$AL$9:$AL$68,\"38KSA1C\")*1))","v":""},{"$f":"IF(B46=\"\",\"\",IF(AND(COUNTIF('Entry sheet-2-hin'!$AL$9:$AL$68,\"38KSA2C\")=0,COUNTIF('Entry sheet-2-hin'!$AL$9:$AL$68,\"38KSA2\")=0),\"\",IF(COUNTIF('Entry sheet-2-hin'!$AL$9:$AL$68,\"38KSA2C\")=0,COUNTIF('Entry sheet-2-hin'!$AL$9:$AL$68,\"38KSA2\"),COUNTIF('Entry sheet-2-hin'!$AL$9:$AL$68,\"38KSA2C\")&\"*\")))","v":""},{"$f":"IF(I46=\"\",\"\",IF(COUNTIF('Entry sheet-2-hin'!$AL$9:$AL$68,\"38KSA2C\")=0,COUNTIF('Entry sheet-2-hin'!$AL$9:$AL$68,\"38KSA2\")*2,COUNTIF('Entry sheet-2-hin'!$AL$9:$AL$68,\"38KSA2C\")*2))","v":""},{"$f":"IF(B46=\"\",\"\",IF(AND(COUNTIF('Entry sheet-2-hin'!$AL$9:$AL$68,\"38KLA1C\")=0,COUNTIF('Entry sheet-2-hin'!$AL$9:$AL$68,\"38KLA1\")=0),\"\",IF(COUNTIF('Entry sheet-2-hin'!$AL$9:$AL$68,\"38KLA1C\")=0,COUNTIF('Entry sheet-2-hin'!$AL$9:$AL$68,\"38KLA1\"),COUNTIF('Entry sheet-2-hin'!$AL$9:$AL$68,\"38KLA1C\")&\"*\")))","v":""},{"$f":"IF(K46=\"\",\"\",IF(COUNTIF('Entry sheet-2-hin'!$AL$9:$AL$68,\"38KLA1C\")=0,COUNTIF('Entry sheet-2-hin'!$AL$9:$AL$68,\"38KLA1\")*3,COUNTIF('Entry sheet-2-hin'!$AL$9:$AL$68,\"38KLA1C\")*3))","v":""},{"$f":"IF(B46=\"\",\"\",IF(AND(COUNTIF('Entry sheet-2-hin'!$AL$9:$AL$68,\"1स्मदीउ४\")=0),\"\",COUNTIF('Entry sheet-2-hin'!$AL$9:$AL$68,\"1स्मदीउ४\")))","v":""},"",{"$f":"IF(B46=\"\",\"\",IF(AND(COUNTIF('Entry sheet-2-hin'!$AL$9:$AL$68,\"38UMCC\")=0,COUNTIF('Entry sheet-2-hin'!$AL$9:$AL$68,\"38UMC\")=0),\"\",IF(COUNTIF('Entry sheet-2-hin'!$AL$9:$AL$68,\"38UMCC\")=0,COUNTIF('Entry sheet-2-hin'!$AL$9:$AL$68,\"38UMC\"),COUNTIF('Entry sheet-2-hin'!$AL$9:$AL$68,\"38UMCC\")&\"*\")))","v":""},{"$f":"IF(O46=\"\",\"\",IF(COUNTIF('Entry sheet-2-hin'!$AL$9:$AL$68,\"38UMCC\")=0,COUNTIF('Entry sheet-2-hin'!$AL$9:$AL$68,\"38UMC\")*1,COUNTIF('Entry sheet-2-hin'!$AL$9:$AL$68,\"38UMCC\")*1))","v":""},{"$f":"IF(B46=\"\",\"\",IF(AND(COUNTIF('Entry sheet-2-hin'!$AL$9:$AL$68,\"1समवनि\")=0),\"\",COUNTIF('Entry sheet-2-hin'!$AL$9:$AL$68,\"1समवनि\")))","v":""},{"$f":"IF(Q46=\"\",\"\",IF(COUNTIF('Entry sheet-2-hin'!$AL$9:$AL$68,\"38UOTC\")=0,COUNTIF('Entry sheet-2-hin'!$AL$9:$AL$68,\"38UOT\")*1,COUNTIF('Entry sheet-2-hin'!$AL$9:$AL$68,\"38UOTC\")*1))","v":""},{"$f":"IF(B46=\"\",\"\",IF(AND(COUNTIF('Entry sheet-2-hin'!$AL$9:$AL$68,\"1समअलउ\")=0),\"\",COUNTIF('Entry sheet-2-hin'!$AL$9:$AL$68,\"1समअलउ\")))","v":""},{"$f":"IF(S46=\"\",\"\",IF(COUNTIF('Entry sheet-2-hin'!$AL$9:$AL$68,\"38USA1C\")=0,COUNTIF('Entry sheet-2-hin'!$AL$9:$AL$68,\"38USA1\")*1,COUNTIF('Entry sheet-2-hin'!$AL$9:$AL$68,\"38USA1C\")*1))","v":""},{"$f":"IF(B46=\"\",\"\",IF(AND(COUNTIF('Entry sheet-2-hin'!$AL$9:$AL$68,\"38USA2C\")=0,COUNTIF('Entry sheet-2-hin'!$AL$9:$AL$68,\"38USA2\")=0),\"\",IF(COUNTIF('Entry sheet-2-hin'!$AL$9:$AL$68,\"38USA2C\")=0,COUNTIF('Entry sheet-2-hin'!$AL$9:$AL$68,\"38USA2\"),COUNTIF('Entry sheet-2-hin'!$AL$9:$AL$68,\"38USA2C\")&\"*\")))","v":""},{"$f":"IF(U46=\"\",\"\",IF(COUNTIF('Entry sheet-2-hin'!$AL$9:$AL$68,\"38USA2C\")=0,COUNTIF('Entry sheet-2-hin'!$AL$9:$AL$68,\"38USA2\")*2,COUNTIF('Entry sheet-2-hin'!$AL$9:$AL$68,\"38USA2C\")*2))","v":""},{"$f":"IF(B46=\"\",\"\",IF(AND(COUNTIF('Entry sheet-2-hin'!$AL$9:$AL$68,\"38ULA1C\")=0,COUNTIF('Entry sheet-2-hin'!$AL$9:$AL$68,\"38ULA1\")=0),\"\",IF(COUNTIF('Entry sheet-2-hin'!$AL$9:$AL$68,\"38ULA1C\")=0,COUNTIF('Entry sheet-2-hin'!$AL$9:$AL$68,\"38ULA1\"),COUNTIF('Entry sheet-2-hin'!$AL$9:$AL$68,\"38ULA1C\")&\"*\")))","v":""},{"$f":"IF(W46=\"\",\"\",IF(COUNTIF('Entry sheet-2-hin'!$AL$9:$AL$68,\"38ULA1C\")=0,COUNTIF('Entry sheet-2-hin'!$AL$9:$AL$68,\"38ULA1\")*3,COUNTIF('Entry sheet-2-hin'!$AL$9:$AL$68,\"38ULA1C\")*3))","v":""},{"$f":"IF(B46=\"\",\"\",IF(AND(COUNTIF('Entry sheet-2-hin'!$AL$9:$AL$68,\"1समदीउ४\")=0),\"\",COUNTIF('Entry sheet-2-hin'!$AL$9:$AL$68,\"1समदीउ४\")))","v":""},{"$f":"IF(Y46=\"\",\"\",IF(COUNTIF('Entry sheet-2-hin'!$AL$9:$AL$68,\"38ULA2C\")=0,COUNTIF('Entry sheet-2-hin'!$AL$9:$AL$68,\"38ULA2\")*4,COUNTIF('Entry sheet-2-hin'!$AL$9:$AL$68,\"38ULA2C\")*4))","v":""},{"$f":"IF(B46=\"\",\"\",IF(AND(COUNTIF('Entry sheet-2-hin'!$AL$9:$AL$68,\"1अबवि\")=0),\"\",COUNTIF('Entry sheet-2-hin'!$AL$9:$AL$68,\"1अबवि\")))","v":""},"",{"$f":"IF(B46=\"\",\"\",IF(AND(COUNTIF('Entry sheet-2-hin'!$AL$9:$AL$68,\"38AOTC\")=0,COUNTIF('Entry sheet-2-hin'!$AL$9:$AL$68,\"38AOT\")=0),\"\",IF(COUNTIF('Entry sheet-2-hin'!$AL$9:$AL$68,\"38AOTC\")=0,COUNTIF('Entry sheet-2-hin'!$AL$9:$AL$68,\"38AOT\"),COUNTIF('Entry sheet-2-hin'!$AL$9:$AL$68,\"38AOTC\")&\"*\")))","v":""},{"$f":"IF(AC46=\"\",\"\",IF(COUNTIF('Entry sheet-2-hin'!$AL$9:$AL$68,\"38AOTC\")=0,COUNTIF('Entry sheet-2-hin'!$AL$9:$AL$68,\"38AOT\")*1,COUNTIF('Entry sheet-2-hin'!$AL$9:$AL$68,\"38AOTC\")*1))","v":""},{"$f":"IF(B46=\"\",\"\",IF(AND(COUNTIF('Entry sheet-2-hin'!$AL$9:$AL$68,\"1अअलउ\")=0),\"\",COUNTIF('Entry sheet-2-hin'!$AL$9:$AL$68,\"1अअलउ\")))","v":""},{"$f":"IF(AE46=\"\",\"\",IF(COUNTIF('Entry sheet-2-hin'!$AL$9:$AL$68,\"38ASA1C\")=0,COUNTIF('Entry sheet-2-hin'!$AL$9:$AL$68,\"38ASA1\")*1,COUNTIF('Entry sheet-2-hin'!$AL$9:$AL$68,\"38ASA1C\")*1))","v":""},{"$f":"IF(B46=\"\",\"\",IF(AND(COUNTIF('Entry sheet-2-hin'!$AL$9:$AL$68,\"38ASA2C\")=0,COUNTIF('Entry sheet-2-hin'!$AL$9:$AL$68,\"38ASA2\")=0),\"\",IF(COUNTIF('Entry sheet-2-hin'!$AL$9:$AL$68,\"38ASA2C\")=0,COUNTIF('Entry sheet-2-hin'!$AL$9:$AL$68,\"38ASA2\"),COUNTIF('Entry sheet-2-hin'!$AL$9:$AL$68,\"38ASA2C\")&\"*\")))","v":""},{"$f":"IF(AG46=\"\",\"\",IF(COUNTIF('Entry sheet-2-hin'!$AL$9:$AL$68,\"38ASA2C\")=0,COUNTIF('Entry sheet-2-hin'!$AL$9:$AL$68,\"38ASA2\")*2,COUNTIF('Entry sheet-2-hin'!$AL$9:$AL$68,\"38ASA2C\")*2))","v":""},{"$f":"IF(B46=\"\",\"\",IF(AND(COUNTIF('Entry sheet-2-hin'!$AL$9:$AL$68,\"38ALA1C\")=0,COUNTIF('Entry sheet-2-hin'!$AL$9:$AL$68,\"38ALA1\")=0),\"\",IF(COUNTIF('Entry sheet-2-hin'!$AL$9:$AL$68,\"38ALA1C\")=0,COUNTIF('Entry sheet-2-hin'!$AL$9:$AL$68,\"38ALA1\"),COUNTIF('Entry sheet-2-hin'!$AL$9:$AL$68,\"38ALA1C\")&\"*\")))","v":""},"",{"$f":"IF(B46=\"\",\"\",IF(AND(COUNTIF('Entry sheet-2-hin'!$AL$9:$AL$68,\"38ALA2C\")=0,COUNTIF('Entry sheet-2-hin'!$AL$9:$AL$68,\"38ALA2\")=0),\"\",IF(COUNTIF('Entry sheet-2-hin'!$AL$9:$AL$68,\"38ALA2C\")=0,COUNTIF('Entry sheet-2-hin'!$AL$9:$AL$68,\"38ALA2\"),COUNTIF('Entry sheet-2-hin'!$AL$9:$AL$68,\"38ALA2C\")&\"*\")))","v":""},{"$f":"IF(AK46=\"\",\"\",IF(COUNTIF('Entry sheet-2-hin'!$AL$9:$AL$68,\"38ALA2C\")=0,COUNTIF('Entry sheet-2-hin'!$AL$9:$AL$68,\"38ALA2\")*4,COUNTIF('Entry sheet-2-hin'!$AL$9:$AL$68,\"38ALA2C\")*4))","v":""},{"$f":"IF(B46=\"\",\"\",IF(AND(COUNTIF('Entry sheet-2-hin'!$AL$9:$AL$68,\"1रसबवि\")=0),\"\",COUNTIF('Entry sheet-2-hin'!$AL$9:$AL$68,\"1रसबवि\")))","v":""},"",{"$f":"IF(B46=\"\",\"\",IF(AND(COUNTIF('Entry sheet-2-hin'!$AL$9:$AL$68,\"38SOTC\")=0,COUNTIF('Entry sheet-2-hin'!$AL$9:$AL$68,\"38SOT\")=0),\"\",IF(COUNTIF('Entry sheet-2-hin'!$AL$9:$AL$68,\"38SOTC\")=0,COUNTIF('Entry sheet-2-hin'!$AL$9:$AL$68,\"38SOT\"),COUNTIF('Entry sheet-2-hin'!$AL$9:$AL$68,\"38SOTC\")&\"*\")))","v":""},{"$f":"IF(AO46=\"\",\"\",IF(COUNTIF('Entry sheet-2-hin'!$AL$9:$AL$68,\"38SOTC\")=0,COUNTIF('Entry sheet-2-hin'!$AL$9:$AL$68,\"38SOT\")*1,COUNTIF('Entry sheet-2-hin'!$AL$9:$AL$68,\"38SOTC\")*1))","v":""},{"$f":"IF(B46=\"\",\"\",IF(AND(COUNTIF('Entry sheet-2-hin'!$AL$9:$AL$68,\"1रसअलउ\")=0),\"\",COUNTIF('Entry sheet-2-hin'!$AL$9:$AL$68,\"1रसअलउ\")))","v":""},{"$f":"IF(AQ46=\"\",\"\",IF(COUNTIF('Entry sheet-2-hin'!$AL$9:$AL$68,\"38SSA1C\")=0,COUNTIF('Entry sheet-2-hin'!$AL$9:$AL$68,\"38SSA1\")*1,COUNTIF('Entry sheet-2-hin'!$AL$9:$AL$68,\"38SSA1C\")*1))","v":""},{"$f":"IF(B46=\"\",\"\",IF(AND(COUNTIF('Entry sheet-2-hin'!$AL$9:$AL$68,\"1रसलउ२\")=0),\"\",COUNTIF('Entry sheet-2-hin'!$AL$9:$AL$68,\"1रसलउ२\")))","v":""},"",{"$f":"IF(B46=\"\",\"\",IF(AND(COUNTIF('Entry sheet-2-hin'!$AL$9:$AL$68,\"38SLA1C\")=0,COUNTIF('Entry sheet-2-hin'!$AL$9:$AL$68,\"38SLA1\")=0),\"\",IF(COUNTIF('Entry sheet-2-hin'!$AL$9:$AL$68,\"38SLA1C\")=0,COUNTIF('Entry sheet-2-hin'!$AL$9:$AL$68,\"38SLA1\"),COUNTIF('Entry sheet-2-hin'!$AL$9:$AL$68,\"38SLA1C\")&\"*\")))","v":""},"",{"$f":"IF(B46=\"\",\"\",IF(AND(COUNTIF('Entry sheet-2-hin'!$AL$9:$AL$68,\"38SLA2C\")=0,COUNTIF('Entry sheet-2-hin'!$AL$9:$AL$68,\"38SLA2\")=0),\"\",IF(COUNTIF('Entry sheet-2-hin'!$AL$9:$AL$68,\"38SLA2C\")=0,COUNTIF('Entry sheet-2-hin'!$AL$9:$AL$68,\"38SLA2\"),COUNTIF('Entry sheet-2-hin'!$AL$9:$AL$68,\"38SLA2C\")&\"*\")))","v":""},"","","","","","","","","","","","","","",""]
[{"$f":"IF('Entry sheet-1-hin'!A48=\"\",\"\",'Entry sheet-1-hin'!A48)","v":""},{"$f":"IF('Entry sheet-1-hin'!B48=\"\",\"\",'Entry sheet-1-hin'!B48)","v":""},{"$f":"IF(B47=\"\",\"\",IF(AND(COUNTIF('Entry sheet-2-hin'!$AL$9:$AL$68,\"39KMCC\")=0,COUNTIF('Entry sheet-2-hin'!$AL$9:$AL$68,\"39KMC\")=0),\"\",IF(COUNTIF('Entry sheet-2-hin'!$AL$9:$AL$68,\"39KMCC\")=0,COUNTIF('Entry sheet-2-hin'!$AL$9:$AL$68,\"39KMC\"),COUNTIF('Entry sheet-2-hin'!$AL$9:$AL$68,\"39KMCC\")&\"*\")))","v":""},{"$f":"IF(C47=\"\",\"\",IF(COUNTIF('Entry sheet-2-hin'!$AL$9:$AL$68,\"39KMCC\")=0,COUNTIF('Entry sheet-2-hin'!$AL$9:$AL$68,\"39KMC\")*1,COUNTIF('Entry sheet-2-hin'!$AL$9:$AL$68,\"39KMCC\")*1))","v":""},{"$f":"IF(B47=\"\",\"\",IF(AND(COUNTIF('Entry sheet-2-hin'!$AL$9:$AL$68,\"39KOTC\")=0,COUNTIF('Entry sheet-2-hin'!$AL$9:$AL$68,\"39KOT\")=0),\"\",IF(COUNTIF('Entry sheet-2-hin'!$AL$9:$AL$68,\"39KOTC\")=0,COUNTIF('Entry sheet-2-hin'!$AL$9:$AL$68,\"39KOT\"),COUNTIF('Entry sheet-2-hin'!$AL$9:$AL$68,\"39KOTC\")&\"*\")))","v":""},{"$f":"IF(E47=\"\",\"\",IF(COUNTIF('Entry sheet-2-hin'!$AL$9:$AL$68,\"39KOTC\")=0,COUNTIF('Entry sheet-2-hin'!$AL$9:$AL$68,\"39KOT\")*1,COUNTIF('Entry sheet-2-hin'!$AL$9:$AL$68,\"39KOTC\")*1))","v":""},{"$f":"IF(B47=\"\",\"\",IF(AND(COUNTIF('Entry sheet-2-hin'!$AL$9:$AL$68,\"39KSA1C\")=0,COUNTIF('Entry sheet-2-hin'!$AL$9:$AL$68,\"39KSA1\")=0),\"\",IF(COUNTIF('Entry sheet-2-hin'!$AL$9:$AL$68,\"39KSA1C\")=0,COUNTIF('Entry sheet-2-hin'!$AL$9:$AL$68,\"39KSA1\"),COUNTIF('Entry sheet-2-hin'!$AL$9:$AL$68,\"39KSA1C\")&\"*\")))","v":""},{"$f":"IF(G47=\"\",\"\",IF(COUNTIF('Entry sheet-2-hin'!$AL$9:$AL$68,\"39KSA1C\")=0,COUNTIF('Entry sheet-2-hin'!$AL$9:$AL$68,\"39KSA1\")*1,COUNTIF('Entry sheet-2-hin'!$AL$9:$AL$68,\"39KSA1C\")*1))","v":""},{"$f":"IF(B47=\"\",\"\",IF(AND(COUNTIF('Entry sheet-2-hin'!$AL$9:$AL$68,\"39KSA2C\")=0,COUNTIF('Entry sheet-2-hin'!$AL$9:$AL$68,\"39KSA2\")=0),\"\",IF(COUNTIF('Entry sheet-2-hin'!$AL$9:$AL$68,\"39KSA2C\")=0,COUNTIF('Entry sheet-2-hin'!$AL$9:$AL$68,\"39KSA2\"),COUNTIF('Entry sheet-2-hin'!$AL$9:$AL$68,\"39KSA2C\")&\"*\")))","v":""},{"$f":"IF(I47=\"\",\"\",IF(COUNTIF('Entry sheet-2-hin'!$AL$9:$AL$68,\"39KSA2C\")=0,COUNTIF('Entry sheet-2-hin'!$AL$9:$AL$68,\"39KSA2\")*2,COUNTIF('Entry sheet-2-hin'!$AL$9:$AL$68,\"39KSA2C\")*2))","v":""},{"$f":"IF(B47=\"\",\"\",IF(AND(COUNTIF('Entry sheet-2-hin'!$AL$9:$AL$68,\"39KLA1C\")=0,COUNTIF('Entry sheet-2-hin'!$AL$9:$AL$68,\"39KLA1\")=0),\"\",IF(COUNTIF('Entry sheet-2-hin'!$AL$9:$AL$68,\"39KLA1C\")=0,COUNTIF('Entry sheet-2-hin'!$AL$9:$AL$68,\"39KLA1\"),COUNTIF('Entry sheet-2-hin'!$AL$9:$AL$68,\"39KLA1C\")&\"*\")))","v":""},{"$f":"IF(K47=\"\",\"\",IF(COUNTIF('Entry sheet-2-hin'!$AL$9:$AL$68,\"39KLA1C\")=0,COUNTIF('Entry sheet-2-hin'!$AL$9:$AL$68,\"39KLA1\")*3,COUNTIF('Entry sheet-2-hin'!$AL$9:$AL$68,\"39KLA1C\")*3))","v":""},{"$f":"IF(B47=\"\",\"\",IF(AND(COUNTIF('Entry sheet-2-hin'!$AL$9:$AL$68,\"1स्मदीउ४\")=0),\"\",COUNTIF('Entry sheet-2-hin'!$AL$9:$AL$68,\"1स्मदीउ४\")))","v":""},"",{"$f":"IF(B47=\"\",\"\",IF(AND(COUNTIF('Entry sheet-2-hin'!$AL$9:$AL$68,\"39UMCC\")=0,COUNTIF('Entry sheet-2-hin'!$AL$9:$AL$68,\"39UMC\")=0),\"\",IF(COUNTIF('Entry sheet-2-hin'!$AL$9:$AL$68,\"39UMCC\")=0,COUNTIF('Entry sheet-2-hin'!$AL$9:$AL$68,\"39UMC\"),COUNTIF('Entry sheet-2-hin'!$AL$9:$AL$68,\"39UMCC\")&\"*\")))","v":""},{"$f":"IF(O47=\"\",\"\",IF(COUNTIF('Entry sheet-2-hin'!$AL$9:$AL$68,\"39UMCC\")=0,COUNTIF('Entry sheet-2-hin'!$AL$9:$AL$68,\"39UMC\")*1,COUNTIF('Entry sheet-2-hin'!$AL$9:$AL$68,\"39UMCC\")*1))","v":""},{"$f":"IF(B47=\"\",\"\",IF(AND(COUNTIF('Entry sheet-2-hin'!$AL$9:$AL$68,\"1समवनि\")=0),\"\",COUNTIF('Entry sheet-2-hin'!$AL$9:$AL$68,\"1समवनि\")))","v":""},{"$f":"IF(Q47=\"\",\"\",IF(COUNTIF('Entry sheet-2-hin'!$AL$9:$AL$68,\"39UOTC\")=0,COUNTIF('Entry sheet-2-hin'!$AL$9:$AL$68,\"39UOT\")*1,COUNTIF('Entry sheet-2-hin'!$AL$9:$AL$68,\"39UOTC\")*1))","v":""},{"$f":"IF(B47=\"\",\"\",IF(AND(COUNTIF('Entry sheet-2-hin'!$AL$9:$AL$68,\"1समअलउ\")=0),\"\",COUNTIF('Entry sheet-2-hin'!$AL$9:$AL$68,\"1समअलउ\")))","v":""},{"$f":"IF(S47=\"\",\"\",IF(COUNTIF('Entry sheet-2-hin'!$AL$9:$AL$68,\"39USA1C\")=0,COUNTIF('Entry sheet-2-hin'!$AL$9:$AL$68,\"39USA1\")*1,COUNTIF('Entry sheet-2-hin'!$AL$9:$AL$68,\"39USA1C\")*1))","v":""},{"$f":"IF(B47=\"\",\"\",IF(AND(COUNTIF('Entry sheet-2-hin'!$AL$9:$AL$68,\"39USA2C\")=0,COUNTIF('Entry sheet-2-hin'!$AL$9:$AL$68,\"39USA2\")=0),\"\",IF(COUNTIF('Entry sheet-2-hin'!$AL$9:$AL$68,\"39USA2C\")=0,COUNTIF('Entry sheet-2-hin'!$AL$9:$AL$68,\"39USA2\"),COUNTIF('Entry sheet-2-hin'!$AL$9:$AL$68,\"39USA2C\")&\"*\")))","v":""},{"$f":"IF(U47=\"\",\"\",IF(COUNTIF('Entry sheet-2-hin'!$AL$9:$AL$68,\"39USA2C\")=0,COUNTIF('Entry sheet-2-hin'!$AL$9:$AL$68,\"39USA2\")*2,COUNTIF('Entry sheet-2-hin'!$AL$9:$AL$68,\"39USA2C\")*2))","v":""},{"$f":"IF(B47=\"\",\"\",IF(AND(COUNTIF('Entry sheet-2-hin'!$AL$9:$AL$68,\"39ULA1C\")=0,COUNTIF('Entry sheet-2-hin'!$AL$9:$AL$68,\"39ULA1\")=0),\"\",IF(COUNTIF('Entry sheet-2-hin'!$AL$9:$AL$68,\"39ULA1C\")=0,COUNTIF('Entry sheet-2-hin'!$AL$9:$AL$68,\"39ULA1\"),COUNTIF('Entry sheet-2-hin'!$AL$9:$AL$68,\"39ULA1C\")&\"*\")))","v":""},{"$f":"IF(W47=\"\",\"\",IF(COUNTIF('Entry sheet-2-hin'!$AL$9:$AL$68,\"39ULA1C\")=0,COUNTIF('Entry sheet-2-hin'!$AL$9:$AL$68,\"39ULA1\")*3,COUNTIF('Entry sheet-2-hin'!$AL$9:$AL$68,\"39ULA1C\")*3))","v":""},{"$f":"IF(B47=\"\",\"\",IF(AND(COUNTIF('Entry sheet-2-hin'!$AL$9:$AL$68,\"1समदीउ४\")=0),\"\",COUNTIF('Entry sheet-2-hin'!$AL$9:$AL$68,\"1समदीउ४\")))","v":""},{"$f":"IF(Y47=\"\",\"\",IF(COUNTIF('Entry sheet-2-hin'!$AL$9:$AL$68,\"39ULA2C\")=0,COUNTIF('Entry sheet-2-hin'!$AL$9:$AL$68,\"39ULA2\")*4,COUNTIF('Entry sheet-2-hin'!$AL$9:$AL$68,\"39ULA2C\")*4))","v":""},{"$f":"IF(B47=\"\",\"\",IF(AND(COUNTIF('Entry sheet-2-hin'!$AL$9:$AL$68,\"1अबवि\")=0),\"\",COUNTIF('Entry sheet-2-hin'!$AL$9:$AL$68,\"1अबवि\")))","v":""},"",{"$f":"IF(B47=\"\",\"\",IF(AND(COUNTIF('Entry sheet-2-hin'!$AL$9:$AL$68,\"39AOTC\")=0,COUNTIF('Entry sheet-2-hin'!$AL$9:$AL$68,\"39AOT\")=0),\"\",IF(COUNTIF('Entry sheet-2-hin'!$AL$9:$AL$68,\"39AOTC\")=0,COUNTIF('Entry sheet-2-hin'!$AL$9:$AL$68,\"39AOT\"),COUNTIF('Entry sheet-2-hin'!$AL$9:$AL$68,\"39AOTC\")&\"*\")))","v":""},{"$f":"IF(AC47=\"\",\"\",IF(COUNTIF('Entry sheet-2-hin'!$AL$9:$AL$68,\"39AOTC\")=0,COUNTIF('Entry sheet-2-hin'!$AL$9:$AL$68,\"39AOT\")*1,COUNTIF('Entry sheet-2-hin'!$AL$9:$AL$68,\"39AOTC\")*1))","v":""},{"$f":"IF(B47=\"\",\"\",IF(AND(COUNTIF('Entry sheet-2-hin'!$AL$9:$AL$68,\"1अअलउ\")=0),\"\",COUNTIF('Entry sheet-2-hin'!$AL$9:$AL$68,\"1अअलउ\")))","v":""},{"$f":"IF(AE47=\"\",\"\",IF(COUNTIF('Entry sheet-2-hin'!$AL$9:$AL$68,\"39ASA1C\")=0,COUNTIF('Entry sheet-2-hin'!$AL$9:$AL$68,\"39ASA1\")*1,COUNTIF('Entry sheet-2-hin'!$AL$9:$AL$68,\"39ASA1C\")*1))","v":""},{"$f":"IF(B47=\"\",\"\",IF(AND(COUNTIF('Entry sheet-2-hin'!$AL$9:$AL$68,\"39ASA2C\")=0,COUNTIF('Entry sheet-2-hin'!$AL$9:$AL$68,\"39ASA2\")=0),\"\",IF(COUNTIF('Entry sheet-2-hin'!$AL$9:$AL$68,\"39ASA2C\")=0,COUNTIF('Entry sheet-2-hin'!$AL$9:$AL$68,\"39ASA2\"),COUNTIF('Entry sheet-2-hin'!$AL$9:$AL$68,\"39ASA2C\")&\"*\")))","v":""},{"$f":"IF(AG47=\"\",\"\",IF(COUNTIF('Entry sheet-2-hin'!$AL$9:$AL$68,\"39ASA2C\")=0,COUNTIF('Entry sheet-2-hin'!$AL$9:$AL$68,\"39ASA2\")*2,COUNTIF('Entry sheet-2-hin'!$AL$9:$AL$68,\"39ASA2C\")*2))","v":""},{"$f":"IF(B47=\"\",\"\",IF(AND(COUNTIF('Entry sheet-2-hin'!$AL$9:$AL$68,\"39ALA1C\")=0,COUNTIF('Entry sheet-2-hin'!$AL$9:$AL$68,\"39ALA1\")=0),\"\",IF(COUNTIF('Entry sheet-2-hin'!$AL$9:$AL$68,\"39ALA1C\")=0,COUNTIF('Entry sheet-2-hin'!$AL$9:$AL$68,\"39ALA1\"),COUNTIF('Entry sheet-2-hin'!$AL$9:$AL$68,\"39ALA1C\")&\"*\")))","v":""},"",{"$f":"IF(B47=\"\",\"\",IF(AND(COUNTIF('Entry sheet-2-hin'!$AL$9:$AL$68,\"39ALA2C\")=0,COUNTIF('Entry sheet-2-hin'!$AL$9:$AL$68,\"39ALA2\")=0),\"\",IF(COUNTIF('Entry sheet-2-hin'!$AL$9:$AL$68,\"39ALA2C\")=0,COUNTIF('Entry sheet-2-hin'!$AL$9:$AL$68,\"39ALA2\"),COUNTIF('Entry sheet-2-hin'!$AL$9:$AL$68,\"39ALA2C\")&\"*\")))","v":""},{"$f":"IF(AK47=\"\",\"\",IF(COUNTIF('Entry sheet-2-hin'!$AL$9:$AL$68,\"39ALA2C\")=0,COUNTIF('Entry sheet-2-hin'!$AL$9:$AL$68,\"39ALA2\")*4,COUNTIF('Entry sheet-2-hin'!$AL$9:$AL$68,\"39ALA2C\")*4))","v":""},{"$f":"IF(B47=\"\",\"\",IF(AND(COUNTIF('Entry sheet-2-hin'!$AL$9:$AL$68,\"1रसबवि\")=0),\"\",COUNTIF('Entry sheet-2-hin'!$AL$9:$AL$68,\"1रसबवि\")))","v":""},"",{"$f":"IF(B47=\"\",\"\",IF(AND(COUNTIF('Entry sheet-2-hin'!$AL$9:$AL$68,\"39SOTC\")=0,COUNTIF('Entry sheet-2-hin'!$AL$9:$AL$68,\"39SOT\")=0),\"\",IF(COUNTIF('Entry sheet-2-hin'!$AL$9:$AL$68,\"39SOTC\")=0,COUNTIF('Entry sheet-2-hin'!$AL$9:$AL$68,\"39SOT\"),COUNTIF('Entry sheet-2-hin'!$AL$9:$AL$68,\"39SOTC\")&\"*\")))","v":""},{"$f":"IF(AO47=\"\",\"\",IF(COUNTIF('Entry sheet-2-hin'!$AL$9:$AL$68,\"39SOTC\")=0,COUNTIF('Entry sheet-2-hin'!$AL$9:$AL$68,\"39SOT\")*1,COUNTIF('Entry sheet-2-hin'!$AL$9:$AL$68,\"39SOTC\")*1))","v":""},{"$f":"IF(B47=\"\",\"\",IF(AND(COUNTIF('Entry sheet-2-hin'!$AL$9:$AL$68,\"1रसअलउ\")=0),\"\",COUNTIF('Entry sheet-2-hin'!$AL$9:$AL$68,\"1रसअलउ\")))","v":""},{"$f":"IF(AQ47=\"\",\"\",IF(COUNTIF('Entry sheet-2-hin'!$AL$9:$AL$68,\"39SSA1C\")=0,COUNTIF('Entry sheet-2-hin'!$AL$9:$AL$68,\"39SSA1\")*1,COUNTIF('Entry sheet-2-hin'!$AL$9:$AL$68,\"39SSA1C\")*1))","v":""},{"$f":"IF(B47=\"\",\"\",IF(AND(COUNTIF('Entry sheet-2-hin'!$AL$9:$AL$68,\"1रसलउ२\")=0),\"\",COUNTIF('Entry sheet-2-hin'!$AL$9:$AL$68,\"1रसलउ२\")))","v":""},"",{"$f":"IF(B47=\"\",\"\",IF(AND(COUNTIF('Entry sheet-2-hin'!$AL$9:$AL$68,\"39SLA1C\")=0,COUNTIF('Entry sheet-2-hin'!$AL$9:$AL$68,\"39SLA1\")=0),\"\",IF(COUNTIF('Entry sheet-2-hin'!$AL$9:$AL$68,\"39SLA1C\")=0,COUNTIF('Entry sheet-2-hin'!$AL$9:$AL$68,\"39SLA1\"),COUNTIF('Entry sheet-2-hin'!$AL$9:$AL$68,\"39SLA1C\")&\"*\")))","v":""},"",{"$f":"IF(B47=\"\",\"\",IF(AND(COUNTIF('Entry sheet-2-hin'!$AL$9:$AL$68,\"39SLA2C\")=0,COUNTIF('Entry sheet-2-hin'!$AL$9:$AL$68,\"39SLA2\")=0),\"\",IF(COUNTIF('Entry sheet-2-hin'!$AL$9:$AL$68,\"39SLA2C\")=0,COUNTIF('Entry sheet-2-hin'!$AL$9:$AL$68,\"39SLA2\"),COUNTIF('Entry sheet-2-hin'!$AL$9:$AL$68,\"39SLA2C\")&\"*\")))","v":""},"","","","","","","","","","","","","","",""]
[{"$f":"IF('Entry sheet-1-hin'!A49=\"\",\"\",'Entry sheet-1-hin'!A49)","v":""},{"$f":"IF('Entry sheet-1-hin'!B49=\"\",\"\",'Entry sheet-1-hin'!B49)","v":""},{"$f":"IF(B48=\"\",\"\",IF(AND(COUNTIF('Entry sheet-2-hin'!$AL$9:$AL$68,\"40KMCC\")=0,COUNTIF('Entry sheet-2-hin'!$AL$9:$AL$68,\"40KMC\")=0),\"\",IF(COUNTIF('Entry sheet-2-hin'!$AL$9:$AL$68,\"40KMCC\")=0,COUNTIF('Entry sheet-2-hin'!$AL$9:$AL$68,\"40KMC\"),COUNTIF('Entry sheet-2-hin'!$AL$9:$AL$68,\"40KMCC\")&\"*\")))","v":""},{"$f":"IF(C48=\"\",\"\",IF(COUNTIF('Entry sheet-2-hin'!$AL$9:$AL$68,\"40KMCC\")=0,COUNTIF('Entry sheet-2-hin'!$AL$9:$AL$68,\"40KMC\")*1,COUNTIF('Entry sheet-2-hin'!$AL$9:$AL$68,\"40KMCC\")*1))","v":""},{"$f":"IF(B48=\"\",\"\",IF(AND(COUNTIF('Entry sheet-2-hin'!$AL$9:$AL$68,\"40KOTC\")=0,COUNTIF('Entry sheet-2-hin'!$AL$9:$AL$68,\"40KOT\")=0),\"\",IF(COUNTIF('Entry sheet-2-hin'!$AL$9:$AL$68,\"40KOTC\")=0,COUNTIF('Entry sheet-2-hin'!$AL$9:$AL$68,\"40KOT\"),COUNTIF('Entry sheet-2-hin'!$AL$9:$AL$68,\"40KOTC\")&\"*\")))","v":""},{"$f":"IF(E48=\"\",\"\",IF(COUNTIF('Entry sheet-2-hin'!$AL$9:$AL$68,\"40KOTC\")=0,COUNTIF('Entry sheet-2-hin'!$AL$9:$AL$68,\"40KOT\")*1,COUNTIF('Entry sheet-2-hin'!$AL$9:$AL$68,\"40KOTC\")*1))","v":""},{"$f":"IF(B48=\"\",\"\",IF(AND(COUNTIF('Entry sheet-2-hin'!$AL$9:$AL$68,\"40KSA1C\")=0,COUNTIF('Entry sheet-2-hin'!$AL$9:$AL$68,\"40KSA1\")=0),\"\",IF(COUNTIF('Entry sheet-2-hin'!$AL$9:$AL$68,\"40KSA1C\")=0,COUNTIF('Entry sheet-2-hin'!$AL$9:$AL$68,\"40KSA1\"),COUNTIF('Entry sheet-2-hin'!$AL$9:$AL$68,\"40KSA1C\")&\"*\")))","v":""},{"$f":"IF(G48=\"\",\"\",IF(COUNTIF('Entry sheet-2-hin'!$AL$9:$AL$68,\"40KSA1C\")=0,COUNTIF('Entry sheet-2-hin'!$AL$9:$AL$68,\"40KSA1\")*1,COUNTIF('Entry sheet-2-hin'!$AL$9:$AL$68,\"40KSA1C\")*1))","v":""},{"$f":"IF(B48=\"\",\"\",IF(AND(COUNTIF('Entry sheet-2-hin'!$AL$9:$AL$68,\"40KSA2C\")=0,COUNTIF('Entry sheet-2-hin'!$AL$9:$AL$68,\"40KSA2\")=0),\"\",IF(COUNTIF('Entry sheet-2-hin'!$AL$9:$AL$68,\"40KSA2C\")=0,COUNTIF('Entry sheet-2-hin'!$AL$9:$AL$68,\"40KSA2\"),COUNTIF('Entry sheet-2-hin'!$AL$9:$AL$68,\"40KSA2C\")&\"*\")))","v":""},{"$f":"IF(I48=\"\",\"\",IF(COUNTIF('Entry sheet-2-hin'!$AL$9:$AL$68,\"40KSA2C\")=0,COUNTIF('Entry sheet-2-hin'!$AL$9:$AL$68,\"40KSA2\")*2,COUNTIF('Entry sheet-2-hin'!$AL$9:$AL$68,\"40KSA2C\")*2))","v":""},{"$f":"IF(B48=\"\",\"\",IF(AND(COUNTIF('Entry sheet-2-hin'!$AL$9:$AL$68,\"40KLA1C\")=0,COUNTIF('Entry sheet-2-hin'!$AL$9:$AL$68,\"40KLA1\")=0),\"\",IF(COUNTIF('Entry sheet-2-hin'!$AL$9:$AL$68,\"40KLA1C\")=0,COUNTIF('Entry sheet-2-hin'!$AL$9:$AL$68,\"40KLA1\"),COUNTIF('Entry sheet-2-hin'!$AL$9:$AL$68,\"40KLA1C\")&\"*\")))","v":""},{"$f":"IF(K48=\"\",\"\",IF(COUNTIF('Entry sheet-2-hin'!$AL$9:$AL$68,\"40KLA1C\")=0,COUNTIF('Entry sheet-2-hin'!$AL$9:$AL$68,\"40KLA1\")*3,COUNTIF('Entry sheet-2-hin'!$AL$9:$AL$68,\"40KLA1C\")*3))","v":""},{"$f":"IF(B48=\"\",\"\",IF(AND(COUNTIF('Entry sheet-2-hin'!$AL$9:$AL$68,\"1स्मदीउ४\")=0),\"\",COUNTIF('Entry sheet-2-hin'!$AL$9:$AL$68,\"1स्मदीउ४\")))","v":""},"",{"$f":"IF(B48=\"\",\"\",IF(AND(COUNTIF('Entry sheet-2-hin'!$AL$9:$AL$68,\"40UMCC\")=0,COUNTIF('Entry sheet-2-hin'!$AL$9:$AL$68,\"40UMC\")=0),\"\",IF(COUNTIF('Entry sheet-2-hin'!$AL$9:$AL$68,\"40UMCC\")=0,COUNTIF('Entry sheet-2-hin'!$AL$9:$AL$68,\"40UMC\"),COUNTIF('Entry sheet-2-hin'!$AL$9:$AL$68,\"40UMCC\")&\"*\")))","v":""},{"$f":"IF(O48=\"\",\"\",IF(COUNTIF('Entry sheet-2-hin'!$AL$9:$AL$68,\"40UMCC\")=0,COUNTIF('Entry sheet-2-hin'!$AL$9:$AL$68,\"40UMC\")*1,COUNTIF('Entry sheet-2-hin'!$AL$9:$AL$68,\"40UMCC\")*1))","v":""},{"$f":"IF(B48=\"\",\"\",IF(AND(COUNTIF('Entry sheet-2-hin'!$AL$9:$AL$68,\"1समवनि\")=0),\"\",COUNTIF('Entry sheet-2-hin'!$AL$9:$AL$68,\"1समवनि\")))","v":""},{"$f":"IF(Q48=\"\",\"\",IF(COUNTIF('Entry sheet-2-hin'!$AL$9:$AL$68,\"40UOTC\")=0,COUNTIF('Entry sheet-2-hin'!$AL$9:$AL$68,\"40UOT\")*1,COUNTIF('Entry sheet-2-hin'!$AL$9:$AL$68,\"40UOTC\")*1))","v":""},{"$f":"IF(B48=\"\",\"\",IF(AND(COUNTIF('Entry sheet-2-hin'!$AL$9:$AL$68,\"1समअलउ\")=0),\"\",COUNTIF('Entry sheet-2-hin'!$AL$9:$AL$68,\"1समअलउ\")))","v":""},{"$f":"IF(S48=\"\",\"\",IF(COUNTIF('Entry sheet-2-hin'!$AL$9:$AL$68,\"40USA1C\")=0,COUNTIF('Entry sheet-2-hin'!$AL$9:$AL$68,\"40USA1\")*1,COUNTIF('Entry sheet-2-hin'!$AL$9:$AL$68,\"40USA1C\")*1))","v":""},{"$f":"IF(B48=\"\",\"\",IF(AND(COUNTIF('Entry sheet-2-hin'!$AL$9:$AL$68,\"40USA2C\")=0,COUNTIF('Entry sheet-2-hin'!$AL$9:$AL$68,\"40USA2\")=0),\"\",IF(COUNTIF('Entry sheet-2-hin'!$AL$9:$AL$68,\"40USA2C\")=0,COUNTIF('Entry sheet-2-hin'!$AL$9:$AL$68,\"40USA2\"),COUNTIF('Entry sheet-2-hin'!$AL$9:$AL$68,\"40USA2C\")&\"*\")))","v":""},{"$f":"IF(U48=\"\",\"\",IF(COUNTIF('Entry sheet-2-hin'!$AL$9:$AL$68,\"40USA2C\")=0,COUNTIF('Entry sheet-2-hin'!$AL$9:$AL$68,\"40USA2\")*2,COUNTIF('Entry sheet-2-hin'!$AL$9:$AL$68,\"40USA2C\")*2))","v":""},{"$f":"IF(B48=\"\",\"\",IF(AND(COUNTIF('Entry sheet-2-hin'!$AL$9:$AL$68,\"40ULA1C\")=0,COUNTIF('Entry sheet-2-hin'!$AL$9:$AL$68,\"40ULA1\")=0),\"\",IF(COUNTIF('Entry sheet-2-hin'!$AL$9:$AL$68,\"40ULA1C\")=0,COUNTIF('Entry sheet-2-hin'!$AL$9:$AL$68,\"40ULA1\"),COUNTIF('Entry sheet-2-hin'!$AL$9:$AL$68,\"40ULA1C\")&\"*\")))","v":""},{"$f":"IF(W48=\"\",\"\",IF(COUNTIF('Entry sheet-2-hin'!$AL$9:$AL$68,\"40ULA1C\")=0,COUNTIF('Entry sheet-2-hin'!$AL$9:$AL$68,\"40ULA1\")*3,COUNTIF('Entry sheet-2-hin'!$AL$9:$AL$68,\"40ULA1C\")*3))","v":""},{"$f":"IF(B48=\"\",\"\",IF(AND(COUNTIF('Entry sheet-2-hin'!$AL$9:$AL$68,\"1समदीउ४\")=0),\"\",COUNTIF('Entry sheet-2-hin'!$AL$9:$AL$68,\"1समदीउ४\")))","v":""},{"$f":"IF(Y48=\"\",\"\",IF(COUNTIF('Entry sheet-2-hin'!$AL$9:$AL$68,\"40ULA2C\")=0,COUNTIF('Entry sheet-2-hin'!$AL$9:$AL$68,\"40ULA2\")*4,COUNTIF('Entry sheet-2-hin'!$AL$9:$AL$68,\"40ULA2C\")*4))","v":""},{"$f":"IF(B48=\"\",\"\",IF(AND(COUNTIF('Entry sheet-2-hin'!$AL$9:$AL$68,\"1अबवि\")=0),\"\",COUNTIF('Entry sheet-2-hin'!$AL$9:$AL$68,\"1अबवि\")))","v":""},"",{"$f":"IF(B48=\"\",\"\",IF(AND(COUNTIF('Entry sheet-2-hin'!$AL$9:$AL$68,\"40AOTC\")=0,COUNTIF('Entry sheet-2-hin'!$AL$9:$AL$68,\"40AOT\")=0),\"\",IF(COUNTIF('Entry sheet-2-hin'!$AL$9:$AL$68,\"40AOTC\")=0,COUNTIF('Entry sheet-2-hin'!$AL$9:$AL$68,\"40AOT\"),COUNTIF('Entry sheet-2-hin'!$AL$9:$AL$68,\"40AOTC\")&\"*\")))","v":""},{"$f":"IF(AC48=\"\",\"\",IF(COUNTIF('Entry sheet-2-hin'!$AL$9:$AL$68,\"40AOTC\")=0,COUNTIF('Entry sheet-2-hin'!$AL$9:$AL$68,\"40AOT\")*1,COUNTIF('Entry sheet-2-hin'!$AL$9:$AL$68,\"40AOTC\")*1))","v":""},{"$f":"IF(B48=\"\",\"\",IF(AND(COUNTIF('Entry sheet-2-hin'!$AL$9:$AL$68,\"1अअलउ\")=0),\"\",COUNTIF('Entry sheet-2-hin'!$AL$9:$AL$68,\"1अअलउ\")))","v":""},{"$f":"IF(AE48=\"\",\"\",IF(COUNTIF('Entry sheet-2-hin'!$AL$9:$AL$68,\"40ASA1C\")=0,COUNTIF('Entry sheet-2-hin'!$AL$9:$AL$68,\"40ASA1\")*1,COUNTIF('Entry sheet-2-hin'!$AL$9:$AL$68,\"40ASA1C\")*1))","v":""},{"$f":"IF(B48=\"\",\"\",IF(AND(COUNTIF('Entry sheet-2-hin'!$AL$9:$AL$68,\"40ASA2C\")=0,COUNTIF('Entry sheet-2-hin'!$AL$9:$AL$68,\"40ASA2\")=0),\"\",IF(COUNTIF('Entry sheet-2-hin'!$AL$9:$AL$68,\"40ASA2C\")=0,COUNTIF('Entry sheet-2-hin'!$AL$9:$AL$68,\"40ASA2\"),COUNTIF('Entry sheet-2-hin'!$AL$9:$AL$68,\"40ASA2C\")&\"*\")))","v":""},{"$f":"IF(AG48=\"\",\"\",IF(COUNTIF('Entry sheet-2-hin'!$AL$9:$AL$68,\"40ASA2C\")=0,COUNTIF('Entry sheet-2-hin'!$AL$9:$AL$68,\"40ASA2\")*2,COUNTIF('Entry sheet-2-hin'!$AL$9:$AL$68,\"40ASA2C\")*2))","v":""},{"$f":"IF(B48=\"\",\"\",IF(AND(COUNTIF('Entry sheet-2-hin'!$AL$9:$AL$68,\"40ALA1C\")=0,COUNTIF('Entry sheet-2-hin'!$AL$9:$AL$68,\"40ALA1\")=0),\"\",IF(COUNTIF('Entry sheet-2-hin'!$AL$9:$AL$68,\"40ALA1C\")=0,COUNTIF('Entry sheet-2-hin'!$AL$9:$AL$68,\"40ALA1\"),COUNTIF('Entry sheet-2-hin'!$AL$9:$AL$68,\"40ALA1C\")&\"*\")))","v":""},"",{"$f":"IF(B48=\"\",\"\",IF(AND(COUNTIF('Entry sheet-2-hin'!$AL$9:$AL$68,\"40ALA2C\")=0,COUNTIF('Entry sheet-2-hin'!$AL$9:$AL$68,\"40ALA2\")=0),\"\",IF(COUNTIF('Entry sheet-2-hin'!$AL$9:$AL$68,\"40ALA2C\")=0,COUNTIF('Entry sheet-2-hin'!$AL$9:$AL$68,\"40ALA2\"),COUNTIF('Entry sheet-2-hin'!$AL$9:$AL$68,\"40ALA2C\")&\"*\")))","v":""},{"$f":"IF(AK48=\"\",\"\",IF(COUNTIF('Entry sheet-2-hin'!$AL$9:$AL$68,\"40ALA2C\")=0,COUNTIF('Entry sheet-2-hin'!$AL$9:$AL$68,\"40ALA2\")*4,COUNTIF('Entry sheet-2-hin'!$AL$9:$AL$68,\"40ALA2C\")*4))","v":""},{"$f":"IF(B48=\"\",\"\",IF(AND(COUNTIF('Entry sheet-2-hin'!$AL$9:$AL$68,\"1रसबवि\")=0),\"\",COUNTIF('Entry sheet-2-hin'!$AL$9:$AL$68,\"1रसबवि\")))","v":""},"",{"$f":"IF(B48=\"\",\"\",IF(AND(COUNTIF('Entry sheet-2-hin'!$AL$9:$AL$68,\"40SOTC\")=0,COUNTIF('Entry sheet-2-hin'!$AL$9:$AL$68,\"40SOT\")=0),\"\",IF(COUNTIF('Entry sheet-2-hin'!$AL$9:$AL$68,\"40SOTC\")=0,COUNTIF('Entry sheet-2-hin'!$AL$9:$AL$68,\"40SOT\"),COUNTIF('Entry sheet-2-hin'!$AL$9:$AL$68,\"40SOTC\")&\"*\")))","v":""},{"$f":"IF(AO48=\"\",\"\",IF(COUNTIF('Entry sheet-2-hin'!$AL$9:$AL$68,\"40SOTC\")=0,COUNTIF('Entry sheet-2-hin'!$AL$9:$AL$68,\"40SOT\")*1,COUNTIF('Entry sheet-2-hin'!$AL$9:$AL$68,\"40SOTC\")*1))","v":""},{"$f":"IF(B48=\"\",\"\",IF(AND(COUNTIF('Entry sheet-2-hin'!$AL$9:$AL$68,\"1रसअलउ\")=0),\"\",COUNTIF('Entry sheet-2-hin'!$AL$9:$AL$68,\"1रसअलउ\")))","v":""},{"$f":"IF(AQ48=\"\",\"\",IF(COUNTIF('Entry sheet-2-hin'!$AL$9:$AL$68,\"40SSA1C\")=0,COUNTIF('Entry sheet-2-hin'!$AL$9:$AL$68,\"40SSA1\")*1,COUNTIF('Entry sheet-2-hin'!$AL$9:$AL$68,\"40SSA1C\")*1))","v":""},{"$f":"IF(B48=\"\",\"\",IF(AND(COUNTIF('Entry sheet-2-hin'!$AL$9:$AL$68,\"1रसलउ२\")=0),\"\",COUNTIF('Entry sheet-2-hin'!$AL$9:$AL$68,\"1रसलउ२\")))","v":""},"",{"$f":"IF(B48=\"\",\"\",IF(AND(COUNTIF('Entry sheet-2-hin'!$AL$9:$AL$68,\"40SLA1C\")=0,COUNTIF('Entry sheet-2-hin'!$AL$9:$AL$68,\"40SLA1\")=0),\"\",IF(COUNTIF('Entry sheet-2-hin'!$AL$9:$AL$68,\"40SLA1C\")=0,COUNTIF('Entry sheet-2-hin'!$AL$9:$AL$68,\"40SLA1\"),COUNTIF('Entry sheet-2-hin'!$AL$9:$AL$68,\"40SLA1C\")&\"*\")))","v":""},"",{"$f":"IF(B48=\"\",\"\",IF(AND(COUNTIF('Entry sheet-2-hin'!$AL$9:$AL$68,\"40SLA2C\")=0,COUNTIF('Entry sheet-2-hin'!$AL$9:$AL$68,\"40SLA2\")=0),\"\",IF(COUNTIF('Entry sheet-2-hin'!$AL$9:$AL$68,\"40SLA2C\")=0,COUNTIF('Entry sheet-2-hin'!$AL$9:$AL$68,\"40SLA2\"),COUNTIF('Entry sheet-2-hin'!$AL$9:$AL$68,\"40SLA2C\")&\"*\")))","v":""},"","","","","","","","","","","","","","",""]
[{"$f":"IF('Entry sheet-1-hin'!A50=\"\",\"\",'Entry sheet-1-hin'!A50)","v":""},{"$f":"IF('Entry sheet-1-hin'!B50=\"\",\"\",'Entry sheet-1-hin'!B50)","v":""},{"$f":"IF(B49=\"\",\"\",IF(AND(COUNTIF('Entry sheet-2-hin'!$AL$9:$AL$68,\"41KMCC\")=0,COUNTIF('Entry sheet-2-hin'!$AL$9:$AL$68,\"41KMC\")=0),\"\",IF(COUNTIF('Entry sheet-2-hin'!$AL$9:$AL$68,\"41KMCC\")=0,COUNTIF('Entry sheet-2-hin'!$AL$9:$AL$68,\"41KMC\"),COUNTIF('Entry sheet-2-hin'!$AL$9:$AL$68,\"41KMCC\")&\"*\")))","v":""},{"$f":"IF(C49=\"\",\"\",IF(COUNTIF('Entry sheet-2-hin'!$AL$9:$AL$68,\"41KMCC\")=0,COUNTIF('Entry sheet-2-hin'!$AL$9:$AL$68,\"41KMC\")*1,COUNTIF('Entry sheet-2-hin'!$AL$9:$AL$68,\"41KMCC\")*1))","v":""},{"$f":"IF(B49=\"\",\"\",IF(AND(COUNTIF('Entry sheet-2-hin'!$AL$9:$AL$68,\"41KOTC\")=0,COUNTIF('Entry sheet-2-hin'!$AL$9:$AL$68,\"41KOT\")=0),\"\",IF(COUNTIF('Entry sheet-2-hin'!$AL$9:$AL$68,\"41KOTC\")=0,COUNTIF('Entry sheet-2-hin'!$AL$9:$AL$68,\"41KOT\"),COUNTIF('Entry sheet-2-hin'!$AL$9:$AL$68,\"41KOTC\")&\"*\")))","v":""},{"$f":"IF(E49=\"\",\"\",IF(COUNTIF('Entry sheet-2-hin'!$AL$9:$AL$68,\"41KOTC\")=0,COUNTIF('Entry sheet-2-hin'!$AL$9:$AL$68,\"41KOT\")*1,COUNTIF('Entry sheet-2-hin'!$AL$9:$AL$68,\"41KOTC\")*1))","v":""},{"$f":"IF(B49=\"\",\"\",IF(AND(COUNTIF('Entry sheet-2-hin'!$AL$9:$AL$68,\"41KSA1C\")=0,COUNTIF('Entry sheet-2-hin'!$AL$9:$AL$68,\"41KSA1\")=0),\"\",IF(COUNTIF('Entry sheet-2-hin'!$AL$9:$AL$68,\"41KSA1C\")=0,COUNTIF('Entry sheet-2-hin'!$AL$9:$AL$68,\"41KSA1\"),COUNTIF('Entry sheet-2-hin'!$AL$9:$AL$68,\"41KSA1C\")&\"*\")))","v":""},{"$f":"IF(G49=\"\",\"\",IF(COUNTIF('Entry sheet-2-hin'!$AL$9:$AL$68,\"41KSA1C\")=0,COUNTIF('Entry sheet-2-hin'!$AL$9:$AL$68,\"41KSA1\")*1,COUNTIF('Entry sheet-2-hin'!$AL$9:$AL$68,\"41KSA1C\")*1))","v":""},{"$f":"IF(B49=\"\",\"\",IF(AND(COUNTIF('Entry sheet-2-hin'!$AL$9:$AL$68,\"41KSA2C\")=0,COUNTIF('Entry sheet-2-hin'!$AL$9:$AL$68,\"41KSA2\")=0),\"\",IF(COUNTIF('Entry sheet-2-hin'!$AL$9:$AL$68,\"41KSA2C\")=0,COUNTIF('Entry sheet-2-hin'!$AL$9:$AL$68,\"41KSA2\"),COUNTIF('Entry sheet-2-hin'!$AL$9:$AL$68,\"41KSA2C\")&\"*\")))","v":""},{"$f":"IF(I49=\"\",\"\",IF(COUNTIF('Entry sheet-2-hin'!$AL$9:$AL$68,\"41KSA2C\")=0,COUNTIF('Entry sheet-2-hin'!$AL$9:$AL$68,\"41KSA2\")*2,COUNTIF('Entry sheet-2-hin'!$AL$9:$AL$68,\"41KSA2C\")*2))","v":""},{"$f":"IF(B49=\"\",\"\",IF(AND(COUNTIF('Entry sheet-2-hin'!$AL$9:$AL$68,\"41KLA1C\")=0,COUNTIF('Entry sheet-2-hin'!$AL$9:$AL$68,\"41KLA1\")=0),\"\",IF(COUNTIF('Entry sheet-2-hin'!$AL$9:$AL$68,\"41KLA1C\")=0,COUNTIF('Entry sheet-2-hin'!$AL$9:$AL$68,\"41KLA1\"),COUNTIF('Entry sheet-2-hin'!$AL$9:$AL$68,\"41KLA1C\")&\"*\")))","v":""},{"$f":"IF(K49=\"\",\"\",IF(COUNTIF('Entry sheet-2-hin'!$AL$9:$AL$68,\"41KLA1C\")=0,COUNTIF('Entry sheet-2-hin'!$AL$9:$AL$68,\"41KLA1\")*3,COUNTIF('Entry sheet-2-hin'!$AL$9:$AL$68,\"41KLA1C\")*3))","v":""},{"$f":"IF(B49=\"\",\"\",IF(AND(COUNTIF('Entry sheet-2-hin'!$AL$9:$AL$68,\"1स्मदीउ४\")=0),\"\",COUNTIF('Entry sheet-2-hin'!$AL$9:$AL$68,\"1स्मदीउ४\")))","v":""},"",{"$f":"IF(B49=\"\",\"\",IF(AND(COUNTIF('Entry sheet-2-hin'!$AL$9:$AL$68,\"41UMCC\")=0,COUNTIF('Entry sheet-2-hin'!$AL$9:$AL$68,\"41UMC\")=0),\"\",IF(COUNTIF('Entry sheet-2-hin'!$AL$9:$AL$68,\"41UMCC\")=0,COUNTIF('Entry sheet-2-hin'!$AL$9:$AL$68,\"41UMC\"),COUNTIF('Entry sheet-2-hin'!$AL$9:$AL$68,\"41UMCC\")&\"*\")))","v":""},{"$f":"IF(O49=\"\",\"\",IF(COUNTIF('Entry sheet-2-hin'!$AL$9:$AL$68,\"41UMCC\")=0,COUNTIF('Entry sheet-2-hin'!$AL$9:$AL$68,\"41UMC\")*1,COUNTIF('Entry sheet-2-hin'!$AL$9:$AL$68,\"41UMCC\")*1))","v":""},{"$f":"IF(B49=\"\",\"\",IF(AND(COUNTIF('Entry sheet-2-hin'!$AL$9:$AL$68,\"1समवनि\")=0),\"\",COUNTIF('Entry sheet-2-hin'!$AL$9:$AL$68,\"1समवनि\")))","v":""},{"$f":"IF(Q49=\"\",\"\",IF(COUNTIF('Entry sheet-2-hin'!$AL$9:$AL$68,\"41UOTC\")=0,COUNTIF('Entry sheet-2-hin'!$AL$9:$AL$68,\"41UOT\")*1,COUNTIF('Entry sheet-2-hin'!$AL$9:$AL$68,\"41UOTC\")*1))","v":""},{"$f":"IF(B49=\"\",\"\",IF(AND(COUNTIF('Entry sheet-2-hin'!$AL$9:$AL$68,\"1समअलउ\")=0),\"\",COUNTIF('Entry sheet-2-hin'!$AL$9:$AL$68,\"1समअलउ\")))","v":""},{"$f":"IF(S49=\"\",\"\",IF(COUNTIF('Entry sheet-2-hin'!$AL$9:$AL$68,\"41USA1C\")=0,COUNTIF('Entry sheet-2-hin'!$AL$9:$AL$68,\"41USA1\")*1,COUNTIF('Entry sheet-2-hin'!$AL$9:$AL$68,\"41USA1C\")*1))","v":""},{"$f":"IF(B49=\"\",\"\",IF(AND(COUNTIF('Entry sheet-2-hin'!$AL$9:$AL$68,\"41USA2C\")=0,COUNTIF('Entry sheet-2-hin'!$AL$9:$AL$68,\"41USA2\")=0),\"\",IF(COUNTIF('Entry sheet-2-hin'!$AL$9:$AL$68,\"41USA2C\")=0,COUNTIF('Entry sheet-2-hin'!$AL$9:$AL$68,\"41USA2\"),COUNTIF('Entry sheet-2-hin'!$AL$9:$AL$68,\"41USA2C\")&\"*\")))","v":""},{"$f":"IF(U49=\"\",\"\",IF(COUNTIF('Entry sheet-2-hin'!$AL$9:$AL$68,\"41USA2C\")=0,COUNTIF('Entry sheet-2-hin'!$AL$9:$AL$68,\"41USA2\")*2,COUNTIF('Entry sheet-2-hin'!$AL$9:$AL$68,\"41USA2C\")*2))","v":""},{"$f":"IF(B49=\"\",\"\",IF(AND(COUNTIF('Entry sheet-2-hin'!$AL$9:$AL$68,\"41ULA1C\")=0,COUNTIF('Entry sheet-2-hin'!$AL$9:$AL$68,\"41ULA1\")=0),\"\",IF(COUNTIF('Entry sheet-2-hin'!$AL$9:$AL$68,\"41ULA1C\")=0,COUNTIF('Entry sheet-2-hin'!$AL$9:$AL$68,\"41ULA1\"),COUNTIF('Entry sheet-2-hin'!$AL$9:$AL$68,\"41ULA1C\")&\"*\")))","v":""},{"$f":"IF(W49=\"\",\"\",IF(COUNTIF('Entry sheet-2-hin'!$AL$9:$AL$68,\"41ULA1C\")=0,COUNTIF('Entry sheet-2-hin'!$AL$9:$AL$68,\"41ULA1\")*3,COUNTIF('Entry sheet-2-hin'!$AL$9:$AL$68,\"41ULA1C\")*3))","v":""},{"$f":"IF(B49=\"\",\"\",IF(AND(COUNTIF('Entry sheet-2-hin'!$AL$9:$AL$68,\"1समदीउ४\")=0),\"\",COUNTIF('Entry sheet-2-hin'!$AL$9:$AL$68,\"1समदीउ४\")))","v":""},{"$f":"IF(Y49=\"\",\"\",IF(COUNTIF('Entry sheet-2-hin'!$AL$9:$AL$68,\"41ULA2C\")=0,COUNTIF('Entry sheet-2-hin'!$AL$9:$AL$68,\"41ULA2\")*4,COUNTIF('Entry sheet-2-hin'!$AL$9:$AL$68,\"41ULA2C\")*4))","v":""},{"$f":"IF(B49=\"\",\"\",IF(AND(COUNTIF('Entry sheet-2-hin'!$AL$9:$AL$68,\"1अबवि\")=0),\"\",COUNTIF('Entry sheet-2-hin'!$AL$9:$AL$68,\"1अबवि\")))","v":""},"",{"$f":"IF(B49=\"\",\"\",IF(AND(COUNTIF('Entry sheet-2-hin'!$AL$9:$AL$68,\"41AOTC\")=0,COUNTIF('Entry sheet-2-hin'!$AL$9:$AL$68,\"41AOT\")=0),\"\",IF(COUNTIF('Entry sheet-2-hin'!$AL$9:$AL$68,\"41AOTC\")=0,COUNTIF('Entry sheet-2-hin'!$AL$9:$AL$68,\"41AOT\"),COUNTIF('Entry sheet-2-hin'!$AL$9:$AL$68,\"41AOTC\")&\"*\")))","v":""},{"$f":"IF(AC49=\"\",\"\",IF(COUNTIF('Entry sheet-2-hin'!$AL$9:$AL$68,\"41AOTC\")=0,COUNTIF('Entry sheet-2-hin'!$AL$9:$AL$68,\"41AOT\")*1,COUNTIF('Entry sheet-2-hin'!$AL$9:$AL$68,\"41AOTC\")*1))","v":""},{"$f":"IF(B49=\"\",\"\",IF(AND(COUNTIF('Entry sheet-2-hin'!$AL$9:$AL$68,\"1अअलउ\")=0),\"\",COUNTIF('Entry sheet-2-hin'!$AL$9:$AL$68,\"1अअलउ\")))","v":""},{"$f":"IF(AE49=\"\",\"\",IF(COUNTIF('Entry sheet-2-hin'!$AL$9:$AL$68,\"41ASA1C\")=0,COUNTIF('Entry sheet-2-hin'!$AL$9:$AL$68,\"41ASA1\")*1,COUNTIF('Entry sheet-2-hin'!$AL$9:$AL$68,\"41ASA1C\")*1))","v":""},{"$f":"IF(B49=\"\",\"\",IF(AND(COUNTIF('Entry sheet-2-hin'!$AL$9:$AL$68,\"41ASA2C\")=0,COUNTIF('Entry sheet-2-hin'!$AL$9:$AL$68,\"41ASA2\")=0),\"\",IF(COUNTIF('Entry sheet-2-hin'!$AL$9:$AL$68,\"41ASA2C\")=0,COUNTIF('Entry sheet-2-hin'!$AL$9:$AL$68,\"41ASA2\"),COUNTIF('Entry sheet-2-hin'!$AL$9:$AL$68,\"41ASA2C\")&\"*\")))","v":""},{"$f":"IF(AG49=\"\",\"\",IF(COUNTIF('Entry sheet-2-hin'!$AL$9:$AL$68,\"41ASA2C\")=0,COUNTIF('Entry sheet-2-hin'!$AL$9:$AL$68,\"41ASA2\")*2,COUNTIF('Entry sheet-2-hin'!$AL$9:$AL$68,\"41ASA2C\")*2))","v":""},{"$f":"IF(B49=\"\",\"\",IF(AND(COUNTIF('Entry sheet-2-hin'!$AL$9:$AL$68,\"41ALA1C\")=0,COUNTIF('Entry sheet-2-hin'!$AL$9:$AL$68,\"41ALA1\")=0),\"\",IF(COUNTIF('Entry sheet-2-hin'!$AL$9:$AL$68,\"41ALA1C\")=0,COUNTIF('Entry sheet-2-hin'!$AL$9:$AL$68,\"41ALA1\"),COUNTIF('Entry sheet-2-hin'!$AL$9:$AL$68,\"41ALA1C\")&\"*\")))","v":""},"",{"$f":"IF(B49=\"\",\"\",IF(AND(COUNTIF('Entry sheet-2-hin'!$AL$9:$AL$68,\"41ALA2C\")=0,COUNTIF('Entry sheet-2-hin'!$AL$9:$AL$68,\"41ALA2\")=0),\"\",IF(COUNTIF('Entry sheet-2-hin'!$AL$9:$AL$68,\"41ALA2C\")=0,COUNTIF('Entry sheet-2-hin'!$AL$9:$AL$68,\"41ALA2\"),COUNTIF('Entry sheet-2-hin'!$AL$9:$AL$68,\"41ALA2C\")&\"*\")))","v":""},{"$f":"IF(AK49=\"\",\"\",IF(COUNTIF('Entry sheet-2-hin'!$AL$9:$AL$68,\"41ALA2C\")=0,COUNTIF('Entry sheet-2-hin'!$AL$9:$AL$68,\"41ALA2\")*4,COUNTIF('Entry sheet-2-hin'!$AL$9:$AL$68,\"41ALA2C\")*4))","v":""},{"$f":"IF(B49=\"\",\"\",IF(AND(COUNTIF('Entry sheet-2-hin'!$AL$9:$AL$68,\"1रसबवि\")=0),\"\",COUNTIF('Entry sheet-2-hin'!$AL$9:$AL$68,\"1रसबवि\")))","v":""},"",{"$f":"IF(B49=\"\",\"\",IF(AND(COUNTIF('Entry sheet-2-hin'!$AL$9:$AL$68,\"41SOTC\")=0,COUNTIF('Entry sheet-2-hin'!$AL$9:$AL$68,\"41SOT\")=0),\"\",IF(COUNTIF('Entry sheet-2-hin'!$AL$9:$AL$68,\"41SOTC\")=0,COUNTIF('Entry sheet-2-hin'!$AL$9:$AL$68,\"41SOT\"),COUNTIF('Entry sheet-2-hin'!$AL$9:$AL$68,\"41SOTC\")&\"*\")))","v":""},{"$f":"IF(AO49=\"\",\"\",IF(COUNTIF('Entry sheet-2-hin'!$AL$9:$AL$68,\"41SOTC\")=0,COUNTIF('Entry sheet-2-hin'!$AL$9:$AL$68,\"41SOT\")*1,COUNTIF('Entry sheet-2-hin'!$AL$9:$AL$68,\"41SOTC\")*1))","v":""},{"$f":"IF(B49=\"\",\"\",IF(AND(COUNTIF('Entry sheet-2-hin'!$AL$9:$AL$68,\"1रसअलउ\")=0),\"\",COUNTIF('Entry sheet-2-hin'!$AL$9:$AL$68,\"1रसअलउ\")))","v":""},{"$f":"IF(AQ49=\"\",\"\",IF(COUNTIF('Entry sheet-2-hin'!$AL$9:$AL$68,\"41SSA1C\")=0,COUNTIF('Entry sheet-2-hin'!$AL$9:$AL$68,\"41SSA1\")*1,COUNTIF('Entry sheet-2-hin'!$AL$9:$AL$68,\"41SSA1C\")*1))","v":""},{"$f":"IF(B49=\"\",\"\",IF(AND(COUNTIF('Entry sheet-2-hin'!$AL$9:$AL$68,\"1रसलउ२\")=0),\"\",COUNTIF('Entry sheet-2-hin'!$AL$9:$AL$68,\"1रसलउ२\")))","v":""},"",{"$f":"IF(B49=\"\",\"\",IF(AND(COUNTIF('Entry sheet-2-hin'!$AL$9:$AL$68,\"41SLA1C\")=0,COUNTIF('Entry sheet-2-hin'!$AL$9:$AL$68,\"41SLA1\")=0),\"\",IF(COUNTIF('Entry sheet-2-hin'!$AL$9:$AL$68,\"41SLA1C\")=0,COUNTIF('Entry sheet-2-hin'!$AL$9:$AL$68,\"41SLA1\"),COUNTIF('Entry sheet-2-hin'!$AL$9:$AL$68,\"41SLA1C\")&\"*\")))","v":""},"",{"$f":"IF(B49=\"\",\"\",IF(AND(COUNTIF('Entry sheet-2-hin'!$AL$9:$AL$68,\"41SLA2C\")=0,COUNTIF('Entry sheet-2-hin'!$AL$9:$AL$68,\"41SLA2\")=0),\"\",IF(COUNTIF('Entry sheet-2-hin'!$AL$9:$AL$68,\"41SLA2C\")=0,COUNTIF('Entry sheet-2-hin'!$AL$9:$AL$68,\"41SLA2\"),COUNTIF('Entry sheet-2-hin'!$AL$9:$AL$68,\"41SLA2C\")&\"*\")))","v":""},"","","","","","","","","","","","","","",""]
[{"$f":"IF('Entry sheet-1-hin'!A51=\"\",\"\",'Entry sheet-1-hin'!A51)","v":""},{"$f":"IF('Entry sheet-1-hin'!B51=\"\",\"\",'Entry sheet-1-hin'!B51)","v":""},{"$f":"IF(B50=\"\",\"\",IF(AND(COUNTIF('Entry sheet-2-hin'!$AL$9:$AL$68,\"42KMCC\")=0,COUNTIF('Entry sheet-2-hin'!$AL$9:$AL$68,\"42KMC\")=0),\"\",IF(COUNTIF('Entry sheet-2-hin'!$AL$9:$AL$68,\"42KMCC\")=0,COUNTIF('Entry sheet-2-hin'!$AL$9:$AL$68,\"42KMC\"),COUNTIF('Entry sheet-2-hin'!$AL$9:$AL$68,\"42KMCC\")&\"*\")))","v":""},{"$f":"IF(C50=\"\",\"\",IF(COUNTIF('Entry sheet-2-hin'!$AL$9:$AL$68,\"42KMCC\")=0,COUNTIF('Entry sheet-2-hin'!$AL$9:$AL$68,\"42KMC\")*1,COUNTIF('Entry sheet-2-hin'!$AL$9:$AL$68,\"42KMCC\")*1))","v":""},{"$f":"IF(B50=\"\",\"\",IF(AND(COUNTIF('Entry sheet-2-hin'!$AL$9:$AL$68,\"42KOTC\")=0,COUNTIF('Entry sheet-2-hin'!$AL$9:$AL$68,\"42KOT\")=0),\"\",IF(COUNTIF('Entry sheet-2-hin'!$AL$9:$AL$68,\"42KOTC\")=0,COUNTIF('Entry sheet-2-hin'!$AL$9:$AL$68,\"42KOT\"),COUNTIF('Entry sheet-2-hin'!$AL$9:$AL$68,\"42KOTC\")&\"*\")))","v":""},{"$f":"IF(E50=\"\",\"\",IF(COUNTIF('Entry sheet-2-hin'!$AL$9:$AL$68,\"42KOTC\")=0,COUNTIF('Entry sheet-2-hin'!$AL$9:$AL$68,\"42KOT\")*1,COUNTIF('Entry sheet-2-hin'!$AL$9:$AL$68,\"42KOTC\")*1))","v":""},{"$f":"IF(B50=\"\",\"\",IF(AND(COUNTIF('Entry sheet-2-hin'!$AL$9:$AL$68,\"42KSA1C\")=0,COUNTIF('Entry sheet-2-hin'!$AL$9:$AL$68,\"42KSA1\")=0),\"\",IF(COUNTIF('Entry sheet-2-hin'!$AL$9:$AL$68,\"42KSA1C\")=0,COUNTIF('Entry sheet-2-hin'!$AL$9:$AL$68,\"42KSA1\"),COUNTIF('Entry sheet-2-hin'!$AL$9:$AL$68,\"42KSA1C\")&\"*\")))","v":""},{"$f":"IF(G50=\"\",\"\",IF(COUNTIF('Entry sheet-2-hin'!$AL$9:$AL$68,\"42KSA1C\")=0,COUNTIF('Entry sheet-2-hin'!$AL$9:$AL$68,\"42KSA1\")*1,COUNTIF('Entry sheet-2-hin'!$AL$9:$AL$68,\"42KSA1C\")*1))","v":""},{"$f":"IF(B50=\"\",\"\",IF(AND(COUNTIF('Entry sheet-2-hin'!$AL$9:$AL$68,\"42KSA2C\")=0,COUNTIF('Entry sheet-2-hin'!$AL$9:$AL$68,\"42KSA2\")=0),\"\",IF(COUNTIF('Entry sheet-2-hin'!$AL$9:$AL$68,\"42KSA2C\")=0,COUNTIF('Entry sheet-2-hin'!$AL$9:$AL$68,\"42KSA2\"),COUNTIF('Entry sheet-2-hin'!$AL$9:$AL$68,\"42KSA2C\")&\"*\")))","v":""},{"$f":"IF(I50=\"\",\"\",IF(COUNTIF('Entry sheet-2-hin'!$AL$9:$AL$68,\"42KSA2C\")=0,COUNTIF('Entry sheet-2-hin'!$AL$9:$AL$68,\"42KSA2\")*2,COUNTIF('Entry sheet-2-hin'!$AL$9:$AL$68,\"42KSA2C\")*2))","v":""},{"$f":"IF(B50=\"\",\"\",IF(AND(COUNTIF('Entry sheet-2-hin'!$AL$9:$AL$68,\"42KLA1C\")=0,COUNTIF('Entry sheet-2-hin'!$AL$9:$AL$68,\"42KLA1\")=0),\"\",IF(COUNTIF('Entry sheet-2-hin'!$AL$9:$AL$68,\"42KLA1C\")=0,COUNTIF('Entry sheet-2-hin'!$AL$9:$AL$68,\"42KLA1\"),COUNTIF('Entry sheet-2-hin'!$AL$9:$AL$68,\"42KLA1C\")&\"*\")))","v":""},{"$f":"IF(K50=\"\",\"\",IF(COUNTIF('Entry sheet-2-hin'!$AL$9:$AL$68,\"42KLA1C\")=0,COUNTIF('Entry sheet-2-hin'!$AL$9:$AL$68,\"42KLA1\")*3,COUNTIF('Entry sheet-2-hin'!$AL$9:$AL$68,\"42KLA1C\")*3))","v":""},{"$f":"IF(B50=\"\",\"\",IF(AND(COUNTIF('Entry sheet-2-hin'!$AL$9:$AL$68,\"1स्मदीउ४\")=0),\"\",COUNTIF('Entry sheet-2-hin'!$AL$9:$AL$68,\"1स्मदीउ४\")))","v":""},"",{"$f":"IF(B50=\"\",\"\",IF(AND(COUNTIF('Entry sheet-2-hin'!$AL$9:$AL$68,\"42UMCC\")=0,COUNTIF('Entry sheet-2-hin'!$AL$9:$AL$68,\"42UMC\")=0),\"\",IF(COUNTIF('Entry sheet-2-hin'!$AL$9:$AL$68,\"42UMCC\")=0,COUNTIF('Entry sheet-2-hin'!$AL$9:$AL$68,\"42UMC\"),COUNTIF('Entry sheet-2-hin'!$AL$9:$AL$68,\"42UMCC\")&\"*\")))","v":""},{"$f":"IF(O50=\"\",\"\",IF(COUNTIF('Entry sheet-2-hin'!$AL$9:$AL$68,\"42UMCC\")=0,COUNTIF('Entry sheet-2-hin'!$AL$9:$AL$68,\"42UMC\")*1,COUNTIF('Entry sheet-2-hin'!$AL$9:$AL$68,\"42UMCC\")*1))","v":""},{"$f":"IF(B50=\"\",\"\",IF(AND(COUNTIF('Entry sheet-2-hin'!$AL$9:$AL$68,\"1समवनि\")=0),\"\",COUNTIF('Entry sheet-2-hin'!$AL$9:$AL$68,\"1समवनि\")))","v":""},{"$f":"IF(Q50=\"\",\"\",IF(COUNTIF('Entry sheet-2-hin'!$AL$9:$AL$68,\"42UOTC\")=0,COUNTIF('Entry sheet-2-hin'!$AL$9:$AL$68,\"42UOT\")*1,COUNTIF('Entry sheet-2-hin'!$AL$9:$AL$68,\"42UOTC\")*1))","v":""},{"$f":"IF(B50=\"\",\"\",IF(AND(COUNTIF('Entry sheet-2-hin'!$AL$9:$AL$68,\"1समअलउ\")=0),\"\",COUNTIF('Entry sheet-2-hin'!$AL$9:$AL$68,\"1समअलउ\")))","v":""},{"$f":"IF(S50=\"\",\"\",IF(COUNTIF('Entry sheet-2-hin'!$AL$9:$AL$68,\"42USA1C\")=0,COUNTIF('Entry sheet-2-hin'!$AL$9:$AL$68,\"42USA1\")*1,COUNTIF('Entry sheet-2-hin'!$AL$9:$AL$68,\"42USA1C\")*1))","v":""},{"$f":"IF(B50=\"\",\"\",IF(AND(COUNTIF('Entry sheet-2-hin'!$AL$9:$AL$68,\"42USA2C\")=0,COUNTIF('Entry sheet-2-hin'!$AL$9:$AL$68,\"42USA2\")=0),\"\",IF(COUNTIF('Entry sheet-2-hin'!$AL$9:$AL$68,\"42USA2C\")=0,COUNTIF('Entry sheet-2-hin'!$AL$9:$AL$68,\"42USA2\"),COUNTIF('Entry sheet-2-hin'!$AL$9:$AL$68,\"42USA2C\")&\"*\")))","v":""},{"$f":"IF(U50=\"\",\"\",IF(COUNTIF('Entry sheet-2-hin'!$AL$9:$AL$68,\"42USA2C\")=0,COUNTIF('Entry sheet-2-hin'!$AL$9:$AL$68,\"42USA2\")*2,COUNTIF('Entry sheet-2-hin'!$AL$9:$AL$68,\"42USA2C\")*2))","v":""},{"$f":"IF(B50=\"\",\"\",IF(AND(COUNTIF('Entry sheet-2-hin'!$AL$9:$AL$68,\"42ULA1C\")=0,COUNTIF('Entry sheet-2-hin'!$AL$9:$AL$68,\"42ULA1\")=0),\"\",IF(COUNTIF('Entry sheet-2-hin'!$AL$9:$AL$68,\"42ULA1C\")=0,COUNTIF('Entry sheet-2-hin'!$AL$9:$AL$68,\"42ULA1\"),COUNTIF('Entry sheet-2-hin'!$AL$9:$AL$68,\"42ULA1C\")&\"*\")))","v":""},{"$f":"IF(W50=\"\",\"\",IF(COUNTIF('Entry sheet-2-hin'!$AL$9:$AL$68,\"42ULA1C\")=0,COUNTIF('Entry sheet-2-hin'!$AL$9:$AL$68,\"42ULA1\")*3,COUNTIF('Entry sheet-2-hin'!$AL$9:$AL$68,\"42ULA1C\")*3))","v":""},{"$f":"IF(B50=\"\",\"\",IF(AND(COUNTIF('Entry sheet-2-hin'!$AL$9:$AL$68,\"1समदीउ४\")=0),\"\",COUNTIF('Entry sheet-2-hin'!$AL$9:$AL$68,\"1समदीउ४\")))","v":""},{"$f":"IF(Y50=\"\",\"\",IF(COUNTIF('Entry sheet-2-hin'!$AL$9:$AL$68,\"42ULA2C\")=0,COUNTIF('Entry sheet-2-hin'!$AL$9:$AL$68,\"42ULA2\")*4,COUNTIF('Entry sheet-2-hin'!$AL$9:$AL$68,\"42ULA2C\")*4))","v":""},{"$f":"IF(B50=\"\",\"\",IF(AND(COUNTIF('Entry sheet-2-hin'!$AL$9:$AL$68,\"1अबवि\")=0),\"\",COUNTIF('Entry sheet-2-hin'!$AL$9:$AL$68,\"1अबवि\")))","v":""},"",{"$f":"IF(B50=\"\",\"\",IF(AND(COUNTIF('Entry sheet-2-hin'!$AL$9:$AL$68,\"42AOTC\")=0,COUNTIF('Entry sheet-2-hin'!$AL$9:$AL$68,\"42AOT\")=0),\"\",IF(COUNTIF('Entry sheet-2-hin'!$AL$9:$AL$68,\"42AOTC\")=0,COUNTIF('Entry sheet-2-hin'!$AL$9:$AL$68,\"42AOT\"),COUNTIF('Entry sheet-2-hin'!$AL$9:$AL$68,\"42AOTC\")&\"*\")))","v":""},{"$f":"IF(AC50=\"\",\"\",IF(COUNTIF('Entry sheet-2-hin'!$AL$9:$AL$68,\"42AOTC\")=0,COUNTIF('Entry sheet-2-hin'!$AL$9:$AL$68,\"42AOT\")*1,COUNTIF('Entry sheet-2-hin'!$AL$9:$AL$68,\"42AOTC\")*1))","v":""},{"$f":"IF(B50=\"\",\"\",IF(AND(COUNTIF('Entry sheet-2-hin'!$AL$9:$AL$68,\"1अअलउ\")=0),\"\",COUNTIF('Entry sheet-2-hin'!$AL$9:$AL$68,\"1अअलउ\")))","v":""},{"$f":"IF(AE50=\"\",\"\",IF(COUNTIF('Entry sheet-2-hin'!$AL$9:$AL$68,\"42ASA1C\")=0,COUNTIF('Entry sheet-2-hin'!$AL$9:$AL$68,\"42ASA1\")*1,COUNTIF('Entry sheet-2-hin'!$AL$9:$AL$68,\"42ASA1C\")*1))","v":""},{"$f":"IF(B50=\"\",\"\",IF(AND(COUNTIF('Entry sheet-2-hin'!$AL$9:$AL$68,\"42ASA2C\")=0,COUNTIF('Entry sheet-2-hin'!$AL$9:$AL$68,\"42ASA2\")=0),\"\",IF(COUNTIF('Entry sheet-2-hin'!$AL$9:$AL$68,\"42ASA2C\")=0,COUNTIF('Entry sheet-2-hin'!$AL$9:$AL$68,\"42ASA2\"),COUNTIF('Entry sheet-2-hin'!$AL$9:$AL$68,\"42ASA2C\")&\"*\")))","v":""},{"$f":"IF(AG50=\"\",\"\",IF(COUNTIF('Entry sheet-2-hin'!$AL$9:$AL$68,\"42ASA2C\")=0,COUNTIF('Entry sheet-2-hin'!$AL$9:$AL$68,\"42ASA2\")*2,COUNTIF('Entry sheet-2-hin'!$AL$9:$AL$68,\"42ASA2C\")*2))","v":""},{"$f":"IF(B50=\"\",\"\",IF(AND(COUNTIF('Entry sheet-2-hin'!$AL$9:$AL$68,\"42ALA1C\")=0,COUNTIF('Entry sheet-2-hin'!$AL$9:$AL$68,\"42ALA1\")=0),\"\",IF(COUNTIF('Entry sheet-2-hin'!$AL$9:$AL$68,\"42ALA1C\")=0,COUNTIF('Entry sheet-2-hin'!$AL$9:$AL$68,\"42ALA1\"),COUNTIF('Entry sheet-2-hin'!$AL$9:$AL$68,\"42ALA1C\")&\"*\")))","v":""},"",{"$f":"IF(B50=\"\",\"\",IF(AND(COUNTIF('Entry sheet-2-hin'!$AL$9:$AL$68,\"42ALA2C\")=0,COUNTIF('Entry sheet-2-hin'!$AL$9:$AL$68,\"42ALA2\")=0),\"\",IF(COUNTIF('Entry sheet-2-hin'!$AL$9:$AL$68,\"42ALA2C\")=0,COUNTIF('Entry sheet-2-hin'!$AL$9:$AL$68,\"42ALA2\"),COUNTIF('Entry sheet-2-hin'!$AL$9:$AL$68,\"42ALA2C\")&\"*\")))","v":""},{"$f":"IF(AK50=\"\",\"\",IF(COUNTIF('Entry sheet-2-hin'!$AL$9:$AL$68,\"42ALA2C\")=0,COUNTIF('Entry sheet-2-hin'!$AL$9:$AL$68,\"42ALA2\")*4,COUNTIF('Entry sheet-2-hin'!$AL$9:$AL$68,\"42ALA2C\")*4))","v":""},{"$f":"IF(B50=\"\",\"\",IF(AND(COUNTIF('Entry sheet-2-hin'!$AL$9:$AL$68,\"1रसबवि\")=0),\"\",COUNTIF('Entry sheet-2-hin'!$AL$9:$AL$68,\"1रसबवि\")))","v":""},"",{"$f":"IF(B50=\"\",\"\",IF(AND(COUNTIF('Entry sheet-2-hin'!$AL$9:$AL$68,\"42SOTC\")=0,COUNTIF('Entry sheet-2-hin'!$AL$9:$AL$68,\"42SOT\")=0),\"\",IF(COUNTIF('Entry sheet-2-hin'!$AL$9:$AL$68,\"42SOTC\")=0,COUNTIF('Entry sheet-2-hin'!$AL$9:$AL$68,\"42SOT\"),COUNTIF('Entry sheet-2-hin'!$AL$9:$AL$68,\"42SOTC\")&\"*\")))","v":""},{"$f":"IF(AO50=\"\",\"\",IF(COUNTIF('Entry sheet-2-hin'!$AL$9:$AL$68,\"42SOTC\")=0,COUNTIF('Entry sheet-2-hin'!$AL$9:$AL$68,\"42SOT\")*1,COUNTIF('Entry sheet-2-hin'!$AL$9:$AL$68,\"42SOTC\")*1))","v":""},{"$f":"IF(B50=\"\",\"\",IF(AND(COUNTIF('Entry sheet-2-hin'!$AL$9:$AL$68,\"1रसअलउ\")=0),\"\",COUNTIF('Entry sheet-2-hin'!$AL$9:$AL$68,\"1रसअलउ\")))","v":""},{"$f":"IF(AQ50=\"\",\"\",IF(COUNTIF('Entry sheet-2-hin'!$AL$9:$AL$68,\"42SSA1C\")=0,COUNTIF('Entry sheet-2-hin'!$AL$9:$AL$68,\"42SSA1\")*1,COUNTIF('Entry sheet-2-hin'!$AL$9:$AL$68,\"42SSA1C\")*1))","v":""},{"$f":"IF(B50=\"\",\"\",IF(AND(COUNTIF('Entry sheet-2-hin'!$AL$9:$AL$68,\"1रसलउ२\")=0),\"\",COUNTIF('Entry sheet-2-hin'!$AL$9:$AL$68,\"1रसलउ२\")))","v":""},"",{"$f":"IF(B50=\"\",\"\",IF(AND(COUNTIF('Entry sheet-2-hin'!$AL$9:$AL$68,\"42SLA1C\")=0,COUNTIF('Entry sheet-2-hin'!$AL$9:$AL$68,\"42SLA1\")=0),\"\",IF(COUNTIF('Entry sheet-2-hin'!$AL$9:$AL$68,\"42SLA1C\")=0,COUNTIF('Entry sheet-2-hin'!$AL$9:$AL$68,\"42SLA1\"),COUNTIF('Entry sheet-2-hin'!$AL$9:$AL$68,\"42SLA1C\")&\"*\")))","v":""},"",{"$f":"IF(B50=\"\",\"\",IF(AND(COUNTIF('Entry sheet-2-hin'!$AL$9:$AL$68,\"42SLA2C\")=0,COUNTIF('Entry sheet-2-hin'!$AL$9:$AL$68,\"42SLA2\")=0),\"\",IF(COUNTIF('Entry sheet-2-hin'!$AL$9:$AL$68,\"42SLA2C\")=0,COUNTIF('Entry sheet-2-hin'!$AL$9:$AL$68,\"42SLA2\"),COUNTIF('Entry sheet-2-hin'!$AL$9:$AL$68,\"42SLA2C\")&\"*\")))","v":""},"","","","","","","","","","","","","","",""]
[{"$f":"IF('Entry sheet-1-hin'!A52=\"\",\"\",'Entry sheet-1-hin'!A52)","v":""},{"$f":"IF('Entry sheet-1-hin'!B52=\"\",\"\",'Entry sheet-1-hin'!B52)","v":""},{"$f":"IF(B51=\"\",\"\",IF(AND(COUNTIF('Entry sheet-2-hin'!$AL$9:$AL$68,\"43KMCC\")=0,COUNTIF('Entry sheet-2-hin'!$AL$9:$AL$68,\"43KMC\")=0),\"\",IF(COUNTIF('Entry sheet-2-hin'!$AL$9:$AL$68,\"43KMCC\")=0,COUNTIF('Entry sheet-2-hin'!$AL$9:$AL$68,\"43KMC\"),COUNTIF('Entry sheet-2-hin'!$AL$9:$AL$68,\"43KMCC\")&\"*\")))","v":""},{"$f":"IF(C51=\"\",\"\",IF(COUNTIF('Entry sheet-2-hin'!$AL$9:$AL$68,\"43KMCC\")=0,COUNTIF('Entry sheet-2-hin'!$AL$9:$AL$68,\"43KMC\")*1,COUNTIF('Entry sheet-2-hin'!$AL$9:$AL$68,\"43KMCC\")*1))","v":""},{"$f":"IF(B51=\"\",\"\",IF(AND(COUNTIF('Entry sheet-2-hin'!$AL$9:$AL$68,\"43KOTC\")=0,COUNTIF('Entry sheet-2-hin'!$AL$9:$AL$68,\"43KOT\")=0),\"\",IF(COUNTIF('Entry sheet-2-hin'!$AL$9:$AL$68,\"43KOTC\")=0,COUNTIF('Entry sheet-2-hin'!$AL$9:$AL$68,\"43KOT\"),COUNTIF('Entry sheet-2-hin'!$AL$9:$AL$68,\"43KOTC\")&\"*\")))","v":""},{"$f":"IF(E51=\"\",\"\",IF(COUNTIF('Entry sheet-2-hin'!$AL$9:$AL$68,\"43KOTC\")=0,COUNTIF('Entry sheet-2-hin'!$AL$9:$AL$68,\"43KOT\")*1,COUNTIF('Entry sheet-2-hin'!$AL$9:$AL$68,\"43KOTC\")*1))","v":""},{"$f":"IF(B51=\"\",\"\",IF(AND(COUNTIF('Entry sheet-2-hin'!$AL$9:$AL$68,\"43KSA1C\")=0,COUNTIF('Entry sheet-2-hin'!$AL$9:$AL$68,\"43KSA1\")=0),\"\",IF(COUNTIF('Entry sheet-2-hin'!$AL$9:$AL$68,\"43KSA1C\")=0,COUNTIF('Entry sheet-2-hin'!$AL$9:$AL$68,\"43KSA1\"),COUNTIF('Entry sheet-2-hin'!$AL$9:$AL$68,\"43KSA1C\")&\"*\")))","v":""},{"$f":"IF(G51=\"\",\"\",IF(COUNTIF('Entry sheet-2-hin'!$AL$9:$AL$68,\"43KSA1C\")=0,COUNTIF('Entry sheet-2-hin'!$AL$9:$AL$68,\"43KSA1\")*1,COUNTIF('Entry sheet-2-hin'!$AL$9:$AL$68,\"43KSA1C\")*1))","v":""},{"$f":"IF(B51=\"\",\"\",IF(AND(COUNTIF('Entry sheet-2-hin'!$AL$9:$AL$68,\"43KSA2C\")=0,COUNTIF('Entry sheet-2-hin'!$AL$9:$AL$68,\"43KSA2\")=0),\"\",IF(COUNTIF('Entry sheet-2-hin'!$AL$9:$AL$68,\"43KSA2C\")=0,COUNTIF('Entry sheet-2-hin'!$AL$9:$AL$68,\"43KSA2\"),COUNTIF('Entry sheet-2-hin'!$AL$9:$AL$68,\"43KSA2C\")&\"*\")))","v":""},{"$f":"IF(I51=\"\",\"\",IF(COUNTIF('Entry sheet-2-hin'!$AL$9:$AL$68,\"43KSA2C\")=0,COUNTIF('Entry sheet-2-hin'!$AL$9:$AL$68,\"43KSA2\")*2,COUNTIF('Entry sheet-2-hin'!$AL$9:$AL$68,\"43KSA2C\")*2))","v":""},{"$f":"IF(B51=\"\",\"\",IF(AND(COUNTIF('Entry sheet-2-hin'!$AL$9:$AL$68,\"43KLA1C\")=0,COUNTIF('Entry sheet-2-hin'!$AL$9:$AL$68,\"43KLA1\")=0),\"\",IF(COUNTIF('Entry sheet-2-hin'!$AL$9:$AL$68,\"43KLA1C\")=0,COUNTIF('Entry sheet-2-hin'!$AL$9:$AL$68,\"43KLA1\"),COUNTIF('Entry sheet-2-hin'!$AL$9:$AL$68,\"43KLA1C\")&\"*\")))","v":""},{"$f":"IF(K51=\"\",\"\",IF(COUNTIF('Entry sheet-2-hin'!$AL$9:$AL$68,\"43KLA1C\")=0,COUNTIF('Entry sheet-2-hin'!$AL$9:$AL$68,\"43KLA1\")*3,COUNTIF('Entry sheet-2-hin'!$AL$9:$AL$68,\"43KLA1C\")*3))","v":""},{"$f":"IF(B51=\"\",\"\",IF(AND(COUNTIF('Entry sheet-2-hin'!$AL$9:$AL$68,\"1स्मदीउ४\")=0),\"\",COUNTIF('Entry sheet-2-hin'!$AL$9:$AL$68,\"1स्मदीउ४\")))","v":""},"",{"$f":"IF(B51=\"\",\"\",IF(AND(COUNTIF('Entry sheet-2-hin'!$AL$9:$AL$68,\"43UMCC\")=0,COUNTIF('Entry sheet-2-hin'!$AL$9:$AL$68,\"43UMC\")=0),\"\",IF(COUNTIF('Entry sheet-2-hin'!$AL$9:$AL$68,\"43UMCC\")=0,COUNTIF('Entry sheet-2-hin'!$AL$9:$AL$68,\"43UMC\"),COUNTIF('Entry sheet-2-hin'!$AL$9:$AL$68,\"43UMCC\")&\"*\")))","v":""},{"$f":"IF(O51=\"\",\"\",IF(COUNTIF('Entry sheet-2-hin'!$AL$9:$AL$68,\"43UMCC\")=0,COUNTIF('Entry sheet-2-hin'!$AL$9:$AL$68,\"43UMC\")*1,COUNTIF('Entry sheet-2-hin'!$AL$9:$AL$68,\"43UMCC\")*1))","v":""},{"$f":"IF(B51=\"\",\"\",IF(AND(COUNTIF('Entry sheet-2-hin'!$AL$9:$AL$68,\"1समवनि\")=0),\"\",COUNTIF('Entry sheet-2-hin'!$AL$9:$AL$68,\"1समवनि\")))","v":""},{"$f":"IF(Q51=\"\",\"\",IF(COUNTIF('Entry sheet-2-hin'!$AL$9:$AL$68,\"43UOTC\")=0,COUNTIF('Entry sheet-2-hin'!$AL$9:$AL$68,\"43UOT\")*1,COUNTIF('Entry sheet-2-hin'!$AL$9:$AL$68,\"43UOTC\")*1))","v":""},{"$f":"IF(B51=\"\",\"\",IF(AND(COUNTIF('Entry sheet-2-hin'!$AL$9:$AL$68,\"1समअलउ\")=0),\"\",COUNTIF('Entry sheet-2-hin'!$AL$9:$AL$68,\"1समअलउ\")))","v":""},{"$f":"IF(S51=\"\",\"\",IF(COUNTIF('Entry sheet-2-hin'!$AL$9:$AL$68,\"43USA1C\")=0,COUNTIF('Entry sheet-2-hin'!$AL$9:$AL$68,\"43USA1\")*1,COUNTIF('Entry sheet-2-hin'!$AL$9:$AL$68,\"43USA1C\")*1))","v":""},{"$f":"IF(B51=\"\",\"\",IF(AND(COUNTIF('Entry sheet-2-hin'!$AL$9:$AL$68,\"43USA2C\")=0,COUNTIF('Entry sheet-2-hin'!$AL$9:$AL$68,\"43USA2\")=0),\"\",IF(COUNTIF('Entry sheet-2-hin'!$AL$9:$AL$68,\"43USA2C\")=0,COUNTIF('Entry sheet-2-hin'!$AL$9:$AL$68,\"43USA2\"),COUNTIF('Entry sheet-2-hin'!$AL$9:$AL$68,\"43USA2C\")&\"*\")))","v":""},{"$f":"IF(U51=\"\",\"\",IF(COUNTIF('Entry sheet-2-hin'!$AL$9:$AL$68,\"43USA2C\")=0,COUNTIF('Entry sheet-2-hin'!$AL$9:$AL$68,\"43USA2\")*2,COUNTIF('Entry sheet-2-hin'!$AL$9:$AL$68,\"43USA2C\")*2))","v":""},{"$f":"IF(B51=\"\",\"\",IF(AND(COUNTIF('Entry sheet-2-hin'!$AL$9:$AL$68,\"43ULA1C\")=0,COUNTIF('Entry sheet-2-hin'!$AL$9:$AL$68,\"43ULA1\")=0),\"\",IF(COUNTIF('Entry sheet-2-hin'!$AL$9:$AL$68,\"43ULA1C\")=0,COUNTIF('Entry sheet-2-hin'!$AL$9:$AL$68,\"43ULA1\"),COUNTIF('Entry sheet-2-hin'!$AL$9:$AL$68,\"43ULA1C\")&\"*\")))","v":""},{"$f":"IF(W51=\"\",\"\",IF(COUNTIF('Entry sheet-2-hin'!$AL$9:$AL$68,\"43ULA1C\")=0,COUNTIF('Entry sheet-2-hin'!$AL$9:$AL$68,\"43ULA1\")*3,COUNTIF('Entry sheet-2-hin'!$AL$9:$AL$68,\"43ULA1C\")*3))","v":""},{"$f":"IF(B51=\"\",\"\",IF(AND(COUNTIF('Entry sheet-2-hin'!$AL$9:$AL$68,\"1समदीउ४\")=0),\"\",COUNTIF('Entry sheet-2-hin'!$AL$9:$AL$68,\"1समदीउ४\")))","v":""},{"$f":"IF(Y51=\"\",\"\",IF(COUNTIF('Entry sheet-2-hin'!$AL$9:$AL$68,\"43ULA2C\")=0,COUNTIF('Entry sheet-2-hin'!$AL$9:$AL$68,\"43ULA2\")*4,COUNTIF('Entry sheet-2-hin'!$AL$9:$AL$68,\"43ULA2C\")*4))","v":""},{"$f":"IF(B51=\"\",\"\",IF(AND(COUNTIF('Entry sheet-2-hin'!$AL$9:$AL$68,\"1अबवि\")=0),\"\",COUNTIF('Entry sheet-2-hin'!$AL$9:$AL$68,\"1अबवि\")))","v":""},"",{"$f":"IF(B51=\"\",\"\",IF(AND(COUNTIF('Entry sheet-2-hin'!$AL$9:$AL$68,\"43AOTC\")=0,COUNTIF('Entry sheet-2-hin'!$AL$9:$AL$68,\"43AOT\")=0),\"\",IF(COUNTIF('Entry sheet-2-hin'!$AL$9:$AL$68,\"43AOTC\")=0,COUNTIF('Entry sheet-2-hin'!$AL$9:$AL$68,\"43AOT\"),COUNTIF('Entry sheet-2-hin'!$AL$9:$AL$68,\"43AOTC\")&\"*\")))","v":""},{"$f":"IF(AC51=\"\",\"\",IF(COUNTIF('Entry sheet-2-hin'!$AL$9:$AL$68,\"43AOTC\")=0,COUNTIF('Entry sheet-2-hin'!$AL$9:$AL$68,\"43AOT\")*1,COUNTIF('Entry sheet-2-hin'!$AL$9:$AL$68,\"43AOTC\")*1))","v":""},{"$f":"IF(B51=\"\",\"\",IF(AND(COUNTIF('Entry sheet-2-hin'!$AL$9:$AL$68,\"1अअलउ\")=0),\"\",COUNTIF('Entry sheet-2-hin'!$AL$9:$AL$68,\"1अअलउ\")))","v":""},{"$f":"IF(AE51=\"\",\"\",IF(COUNTIF('Entry sheet-2-hin'!$AL$9:$AL$68,\"43ASA1C\")=0,COUNTIF('Entry sheet-2-hin'!$AL$9:$AL$68,\"43ASA1\")*1,COUNTIF('Entry sheet-2-hin'!$AL$9:$AL$68,\"43ASA1C\")*1))","v":""},{"$f":"IF(B51=\"\",\"\",IF(AND(COUNTIF('Entry sheet-2-hin'!$AL$9:$AL$68,\"43ASA2C\")=0,COUNTIF('Entry sheet-2-hin'!$AL$9:$AL$68,\"43ASA2\")=0),\"\",IF(COUNTIF('Entry sheet-2-hin'!$AL$9:$AL$68,\"43ASA2C\")=0,COUNTIF('Entry sheet-2-hin'!$AL$9:$AL$68,\"43ASA2\"),COUNTIF('Entry sheet-2-hin'!$AL$9:$AL$68,\"43ASA2C\")&\"*\")))","v":""},{"$f":"IF(AG51=\"\",\"\",IF(COUNTIF('Entry sheet-2-hin'!$AL$9:$AL$68,\"43ASA2C\")=0,COUNTIF('Entry sheet-2-hin'!$AL$9:$AL$68,\"43ASA2\")*2,COUNTIF('Entry sheet-2-hin'!$AL$9:$AL$68,\"43ASA2C\")*2))","v":""},{"$f":"IF(B51=\"\",\"\",IF(AND(COUNTIF('Entry sheet-2-hin'!$AL$9:$AL$68,\"43ALA1C\")=0,COUNTIF('Entry sheet-2-hin'!$AL$9:$AL$68,\"43ALA1\")=0),\"\",IF(COUNTIF('Entry sheet-2-hin'!$AL$9:$AL$68,\"43ALA1C\")=0,COUNTIF('Entry sheet-2-hin'!$AL$9:$AL$68,\"43ALA1\"),COUNTIF('Entry sheet-2-hin'!$AL$9:$AL$68,\"43ALA1C\")&\"*\")))","v":""},"",{"$f":"IF(B51=\"\",\"\",IF(AND(COUNTIF('Entry sheet-2-hin'!$AL$9:$AL$68,\"43ALA2C\")=0,COUNTIF('Entry sheet-2-hin'!$AL$9:$AL$68,\"43ALA2\")=0),\"\",IF(COUNTIF('Entry sheet-2-hin'!$AL$9:$AL$68,\"43ALA2C\")=0,COUNTIF('Entry sheet-2-hin'!$AL$9:$AL$68,\"43ALA2\"),COUNTIF('Entry sheet-2-hin'!$AL$9:$AL$68,\"43ALA2C\")&\"*\")))","v":""},{"$f":"IF(AK51=\"\",\"\",IF(COUNTIF('Entry sheet-2-hin'!$AL$9:$AL$68,\"43ALA2C\")=0,COUNTIF('Entry sheet-2-hin'!$AL$9:$AL$68,\"43ALA2\")*4,COUNTIF('Entry sheet-2-hin'!$AL$9:$AL$68,\"43ALA2C\")*4))","v":""},{"$f":"IF(B51=\"\",\"\",IF(AND(COUNTIF('Entry sheet-2-hin'!$AL$9:$AL$68,\"1रसबवि\")=0),\"\",COUNTIF('Entry sheet-2-hin'!$AL$9:$AL$68,\"1रसबवि\")))","v":""},"",{"$f":"IF(B51=\"\",\"\",IF(AND(COUNTIF('Entry sheet-2-hin'!$AL$9:$AL$68,\"43SOTC\")=0,COUNTIF('Entry sheet-2-hin'!$AL$9:$AL$68,\"43SOT\")=0),\"\",IF(COUNTIF('Entry sheet-2-hin'!$AL$9:$AL$68,\"43SOTC\")=0,COUNTIF('Entry sheet-2-hin'!$AL$9:$AL$68,\"43SOT\"),COUNTIF('Entry sheet-2-hin'!$AL$9:$AL$68,\"43SOTC\")&\"*\")))","v":""},{"$f":"IF(AO51=\"\",\"\",IF(COUNTIF('Entry sheet-2-hin'!$AL$9:$AL$68,\"43SOTC\")=0,COUNTIF('Entry sheet-2-hin'!$AL$9:$AL$68,\"43SOT\")*1,COUNTIF('Entry sheet-2-hin'!$AL$9:$AL$68,\"43SOTC\")*1))","v":""},{"$f":"IF(B51=\"\",\"\",IF(AND(COUNTIF('Entry sheet-2-hin'!$AL$9:$AL$68,\"1रसअलउ\")=0),\"\",COUNTIF('Entry sheet-2-hin'!$AL$9:$AL$68,\"1रसअलउ\")))","v":""},{"$f":"IF(AQ51=\"\",\"\",IF(COUNTIF('Entry sheet-2-hin'!$AL$9:$AL$68,\"43SSA1C\")=0,COUNTIF('Entry sheet-2-hin'!$AL$9:$AL$68,\"43SSA1\")*1,COUNTIF('Entry sheet-2-hin'!$AL$9:$AL$68,\"43SSA1C\")*1))","v":""},{"$f":"IF(B51=\"\",\"\",IF(AND(COUNTIF('Entry sheet-2-hin'!$AL$9:$AL$68,\"1रसलउ२\")=0),\"\",COUNTIF('Entry sheet-2-hin'!$AL$9:$AL$68,\"1रसलउ२\")))","v":""},"",{"$f":"IF(B51=\"\",\"\",IF(AND(COUNTIF('Entry sheet-2-hin'!$AL$9:$AL$68,\"43SLA1C\")=0,COUNTIF('Entry sheet-2-hin'!$AL$9:$AL$68,\"43SLA1\")=0),\"\",IF(COUNTIF('Entry sheet-2-hin'!$AL$9:$AL$68,\"43SLA1C\")=0,COUNTIF('Entry sheet-2-hin'!$AL$9:$AL$68,\"43SLA1\"),COUNTIF('Entry sheet-2-hin'!$AL$9:$AL$68,\"43SLA1C\")&\"*\")))","v":""},"",{"$f":"IF(B51=\"\",\"\",IF(AND(COUNTIF('Entry sheet-2-hin'!$AL$9:$AL$68,\"43SLA2C\")=0,COUNTIF('Entry sheet-2-hin'!$AL$9:$AL$68,\"43SLA2\")=0),\"\",IF(COUNTIF('Entry sheet-2-hin'!$AL$9:$AL$68,\"43SLA2C\")=0,COUNTIF('Entry sheet-2-hin'!$AL$9:$AL$68,\"43SLA2\"),COUNTIF('Entry sheet-2-hin'!$AL$9:$AL$68,\"43SLA2C\")&\"*\")))","v":""},"","","","","","","","","","","","","","",""]
[{"$f":"IF('Entry sheet-1-hin'!A53=\"\",\"\",'Entry sheet-1-hin'!A53)","v":""},{"$f":"IF('Entry sheet-1-hin'!B53=\"\",\"\",'Entry sheet-1-hin'!B53)","v":""},{"$f":"IF(B52=\"\",\"\",IF(AND(COUNTIF('Entry sheet-2-hin'!$AL$9:$AL$68,\"44KMCC\")=0,COUNTIF('Entry sheet-2-hin'!$AL$9:$AL$68,\"44KMC\")=0),\"\",IF(COUNTIF('Entry sheet-2-hin'!$AL$9:$AL$68,\"44KMCC\")=0,COUNTIF('Entry sheet-2-hin'!$AL$9:$AL$68,\"44KMC\"),COUNTIF('Entry sheet-2-hin'!$AL$9:$AL$68,\"44KMCC\")&\"*\")))","v":""},{"$f":"IF(C52=\"\",\"\",IF(COUNTIF('Entry sheet-2-hin'!$AL$9:$AL$68,\"44KMCC\")=0,COUNTIF('Entry sheet-2-hin'!$AL$9:$AL$68,\"44KMC\")*1,COUNTIF('Entry sheet-2-hin'!$AL$9:$AL$68,\"44KMCC\")*1))","v":""},{"$f":"IF(B52=\"\",\"\",IF(AND(COUNTIF('Entry sheet-2-hin'!$AL$9:$AL$68,\"44KOTC\")=0,COUNTIF('Entry sheet-2-hin'!$AL$9:$AL$68,\"44KOT\")=0),\"\",IF(COUNTIF('Entry sheet-2-hin'!$AL$9:$AL$68,\"44KOTC\")=0,COUNTIF('Entry sheet-2-hin'!$AL$9:$AL$68,\"44KOT\"),COUNTIF('Entry sheet-2-hin'!$AL$9:$AL$68,\"44KOTC\")&\"*\")))","v":""},{"$f":"IF(E52=\"\",\"\",IF(COUNTIF('Entry sheet-2-hin'!$AL$9:$AL$68,\"44KOTC\")=0,COUNTIF('Entry sheet-2-hin'!$AL$9:$AL$68,\"44KOT\")*1,COUNTIF('Entry sheet-2-hin'!$AL$9:$AL$68,\"44KOTC\")*1))","v":""},{"$f":"IF(B52=\"\",\"\",IF(AND(COUNTIF('Entry sheet-2-hin'!$AL$9:$AL$68,\"44KSA1C\")=0,COUNTIF('Entry sheet-2-hin'!$AL$9:$AL$68,\"44KSA1\")=0),\"\",IF(COUNTIF('Entry sheet-2-hin'!$AL$9:$AL$68,\"44KSA1C\")=0,COUNTIF('Entry sheet-2-hin'!$AL$9:$AL$68,\"44KSA1\"),COUNTIF('Entry sheet-2-hin'!$AL$9:$AL$68,\"44KSA1C\")&\"*\")))","v":""},{"$f":"IF(G52=\"\",\"\",IF(COUNTIF('Entry sheet-2-hin'!$AL$9:$AL$68,\"44KSA1C\")=0,COUNTIF('Entry sheet-2-hin'!$AL$9:$AL$68,\"44KSA1\")*1,COUNTIF('Entry sheet-2-hin'!$AL$9:$AL$68,\"44KSA1C\")*1))","v":""},{"$f":"IF(B52=\"\",\"\",IF(AND(COUNTIF('Entry sheet-2-hin'!$AL$9:$AL$68,\"44KSA2C\")=0,COUNTIF('Entry sheet-2-hin'!$AL$9:$AL$68,\"44KSA2\")=0),\"\",IF(COUNTIF('Entry sheet-2-hin'!$AL$9:$AL$68,\"44KSA2C\")=0,COUNTIF('Entry sheet-2-hin'!$AL$9:$AL$68,\"44KSA2\"),COUNTIF('Entry sheet-2-hin'!$AL$9:$AL$68,\"44KSA2C\")&\"*\")))","v":""},{"$f":"IF(I52=\"\",\"\",IF(COUNTIF('Entry sheet-2-hin'!$AL$9:$AL$68,\"44KSA2C\")=0,COUNTIF('Entry sheet-2-hin'!$AL$9:$AL$68,\"44KSA2\")*2,COUNTIF('Entry sheet-2-hin'!$AL$9:$AL$68,\"44KSA2C\")*2))","v":""},{"$f":"IF(B52=\"\",\"\",IF(AND(COUNTIF('Entry sheet-2-hin'!$AL$9:$AL$68,\"44KLA1C\")=0,COUNTIF('Entry sheet-2-hin'!$AL$9:$AL$68,\"44KLA1\")=0),\"\",IF(COUNTIF('Entry sheet-2-hin'!$AL$9:$AL$68,\"44KLA1C\")=0,COUNTIF('Entry sheet-2-hin'!$AL$9:$AL$68,\"44KLA1\"),COUNTIF('Entry sheet-2-hin'!$AL$9:$AL$68,\"44KLA1C\")&\"*\")))","v":""},{"$f":"IF(K52=\"\",\"\",IF(COUNTIF('Entry sheet-2-hin'!$AL$9:$AL$68,\"44KLA1C\")=0,COUNTIF('Entry sheet-2-hin'!$AL$9:$AL$68,\"44KLA1\")*3,COUNTIF('Entry sheet-2-hin'!$AL$9:$AL$68,\"44KLA1C\")*3))","v":""},{"$f":"IF(B52=\"\",\"\",IF(AND(COUNTIF('Entry sheet-2-hin'!$AL$9:$AL$68,\"1स्मदीउ४\")=0),\"\",COUNTIF('Entry sheet-2-hin'!$AL$9:$AL$68,\"1स्मदीउ४\")))","v":""},"",{"$f":"IF(B52=\"\",\"\",IF(AND(COUNTIF('Entry sheet-2-hin'!$AL$9:$AL$68,\"44UMCC\")=0,COUNTIF('Entry sheet-2-hin'!$AL$9:$AL$68,\"44UMC\")=0),\"\",IF(COUNTIF('Entry sheet-2-hin'!$AL$9:$AL$68,\"44UMCC\")=0,COUNTIF('Entry sheet-2-hin'!$AL$9:$AL$68,\"44UMC\"),COUNTIF('Entry sheet-2-hin'!$AL$9:$AL$68,\"44UMCC\")&\"*\")))","v":""},{"$f":"IF(O52=\"\",\"\",IF(COUNTIF('Entry sheet-2-hin'!$AL$9:$AL$68,\"44UMCC\")=0,COUNTIF('Entry sheet-2-hin'!$AL$9:$AL$68,\"44UMC\")*1,COUNTIF('Entry sheet-2-hin'!$AL$9:$AL$68,\"44UMCC\")*1))","v":""},{"$f":"IF(B52=\"\",\"\",IF(AND(COUNTIF('Entry sheet-2-hin'!$AL$9:$AL$68,\"1समवनि\")=0),\"\",COUNTIF('Entry sheet-2-hin'!$AL$9:$AL$68,\"1समवनि\")))","v":""},{"$f":"IF(Q52=\"\",\"\",IF(COUNTIF('Entry sheet-2-hin'!$AL$9:$AL$68,\"44UOTC\")=0,COUNTIF('Entry sheet-2-hin'!$AL$9:$AL$68,\"44UOT\")*1,COUNTIF('Entry sheet-2-hin'!$AL$9:$AL$68,\"44UOTC\")*1))","v":""},{"$f":"IF(B52=\"\",\"\",IF(AND(COUNTIF('Entry sheet-2-hin'!$AL$9:$AL$68,\"1समअलउ\")=0),\"\",COUNTIF('Entry sheet-2-hin'!$AL$9:$AL$68,\"1समअलउ\")))","v":""},{"$f":"IF(S52=\"\",\"\",IF(COUNTIF('Entry sheet-2-hin'!$AL$9:$AL$68,\"44USA1C\")=0,COUNTIF('Entry sheet-2-hin'!$AL$9:$AL$68,\"44USA1\")*1,COUNTIF('Entry sheet-2-hin'!$AL$9:$AL$68,\"44USA1C\")*1))","v":""},{"$f":"IF(B52=\"\",\"\",IF(AND(COUNTIF('Entry sheet-2-hin'!$AL$9:$AL$68,\"44USA2C\")=0,COUNTIF('Entry sheet-2-hin'!$AL$9:$AL$68,\"44USA2\")=0),\"\",IF(COUNTIF('Entry sheet-2-hin'!$AL$9:$AL$68,\"44USA2C\")=0,COUNTIF('Entry sheet-2-hin'!$AL$9:$AL$68,\"44USA2\"),COUNTIF('Entry sheet-2-hin'!$AL$9:$AL$68,\"44USA2C\")&\"*\")))","v":""},{"$f":"IF(U52=\"\",\"\",IF(COUNTIF('Entry sheet-2-hin'!$AL$9:$AL$68,\"44USA2C\")=0,COUNTIF('Entry sheet-2-hin'!$AL$9:$AL$68,\"44USA2\")*2,COUNTIF('Entry sheet-2-hin'!$AL$9:$AL$68,\"44USA2C\")*2))","v":""},{"$f":"IF(B52=\"\",\"\",IF(AND(COUNTIF('Entry sheet-2-hin'!$AL$9:$AL$68,\"44ULA1C\")=0,COUNTIF('Entry sheet-2-hin'!$AL$9:$AL$68,\"44ULA1\")=0),\"\",IF(COUNTIF('Entry sheet-2-hin'!$AL$9:$AL$68,\"44ULA1C\")=0,COUNTIF('Entry sheet-2-hin'!$AL$9:$AL$68,\"44ULA1\"),COUNTIF('Entry sheet-2-hin'!$AL$9:$AL$68,\"44ULA1C\")&\"*\")))","v":""},{"$f":"IF(W52=\"\",\"\",IF(COUNTIF('Entry sheet-2-hin'!$AL$9:$AL$68,\"44ULA1C\")=0,COUNTIF('Entry sheet-2-hin'!$AL$9:$AL$68,\"44ULA1\")*3,COUNTIF('Entry sheet-2-hin'!$AL$9:$AL$68,\"44ULA1C\")*3))","v":""},{"$f":"IF(B52=\"\",\"\",IF(AND(COUNTIF('Entry sheet-2-hin'!$AL$9:$AL$68,\"1समदीउ४\")=0),\"\",COUNTIF('Entry sheet-2-hin'!$AL$9:$AL$68,\"1समदीउ४\")))","v":""},{"$f":"IF(Y52=\"\",\"\",IF(COUNTIF('Entry sheet-2-hin'!$AL$9:$AL$68,\"44ULA2C\")=0,COUNTIF('Entry sheet-2-hin'!$AL$9:$AL$68,\"44ULA2\")*4,COUNTIF('Entry sheet-2-hin'!$AL$9:$AL$68,\"44ULA2C\")*4))","v":""},{"$f":"IF(B52=\"\",\"\",IF(AND(COUNTIF('Entry sheet-2-hin'!$AL$9:$AL$68,\"1अबवि\")=0),\"\",COUNTIF('Entry sheet-2-hin'!$AL$9:$AL$68,\"1अबवि\")))","v":""},"",{"$f":"IF(B52=\"\",\"\",IF(AND(COUNTIF('Entry sheet-2-hin'!$AL$9:$AL$68,\"44AOTC\")=0,COUNTIF('Entry sheet-2-hin'!$AL$9:$AL$68,\"44AOT\")=0),\"\",IF(COUNTIF('Entry sheet-2-hin'!$AL$9:$AL$68,\"44AOTC\")=0,COUNTIF('Entry sheet-2-hin'!$AL$9:$AL$68,\"44AOT\"),COUNTIF('Entry sheet-2-hin'!$AL$9:$AL$68,\"44AOTC\")&\"*\")))","v":""},{"$f":"IF(AC52=\"\",\"\",IF(COUNTIF('Entry sheet-2-hin'!$AL$9:$AL$68,\"44AOTC\")=0,COUNTIF('Entry sheet-2-hin'!$AL$9:$AL$68,\"44AOT\")*1,COUNTIF('Entry sheet-2-hin'!$AL$9:$AL$68,\"44AOTC\")*1))","v":""},{"$f":"IF(B52=\"\",\"\",IF(AND(COUNTIF('Entry sheet-2-hin'!$AL$9:$AL$68,\"1अअलउ\")=0),\"\",COUNTIF('Entry sheet-2-hin'!$AL$9:$AL$68,\"1अअलउ\")))","v":""},{"$f":"IF(AE52=\"\",\"\",IF(COUNTIF('Entry sheet-2-hin'!$AL$9:$AL$68,\"44ASA1C\")=0,COUNTIF('Entry sheet-2-hin'!$AL$9:$AL$68,\"44ASA1\")*1,COUNTIF('Entry sheet-2-hin'!$AL$9:$AL$68,\"44ASA1C\")*1))","v":""},{"$f":"IF(B52=\"\",\"\",IF(AND(COUNTIF('Entry sheet-2-hin'!$AL$9:$AL$68,\"44ASA2C\")=0,COUNTIF('Entry sheet-2-hin'!$AL$9:$AL$68,\"44ASA2\")=0),\"\",IF(COUNTIF('Entry sheet-2-hin'!$AL$9:$AL$68,\"44ASA2C\")=0,COUNTIF('Entry sheet-2-hin'!$AL$9:$AL$68,\"44ASA2\"),COUNTIF('Entry sheet-2-hin'!$AL$9:$AL$68,\"44ASA2C\")&\"*\")))","v":""},{"$f":"IF(AG52=\"\",\"\",IF(COUNTIF('Entry sheet-2-hin'!$AL$9:$AL$68,\"44ASA2C\")=0,COUNTIF('Entry sheet-2-hin'!$AL$9:$AL$68,\"44ASA2\")*2,COUNTIF('Entry sheet-2-hin'!$AL$9:$AL$68,\"44ASA2C\")*2))","v":""},{"$f":"IF(B52=\"\",\"\",IF(AND(COUNTIF('Entry sheet-2-hin'!$AL$9:$AL$68,\"44ALA1C\")=0,COUNTIF('Entry sheet-2-hin'!$AL$9:$AL$68,\"44ALA1\")=0),\"\",IF(COUNTIF('Entry sheet-2-hin'!$AL$9:$AL$68,\"44ALA1C\")=0,COUNTIF('Entry sheet-2-hin'!$AL$9:$AL$68,\"44ALA1\"),COUNTIF('Entry sheet-2-hin'!$AL$9:$AL$68,\"44ALA1C\")&\"*\")))","v":""},"",{"$f":"IF(B52=\"\",\"\",IF(AND(COUNTIF('Entry sheet-2-hin'!$AL$9:$AL$68,\"44ALA2C\")=0,COUNTIF('Entry sheet-2-hin'!$AL$9:$AL$68,\"44ALA2\")=0),\"\",IF(COUNTIF('Entry sheet-2-hin'!$AL$9:$AL$68,\"44ALA2C\")=0,COUNTIF('Entry sheet-2-hin'!$AL$9:$AL$68,\"44ALA2\"),COUNTIF('Entry sheet-2-hin'!$AL$9:$AL$68,\"44ALA2C\")&\"*\")))","v":""},{"$f":"IF(AK52=\"\",\"\",IF(COUNTIF('Entry sheet-2-hin'!$AL$9:$AL$68,\"44ALA2C\")=0,COUNTIF('Entry sheet-2-hin'!$AL$9:$AL$68,\"44ALA2\")*4,COUNTIF('Entry sheet-2-hin'!$AL$9:$AL$68,\"44ALA2C\")*4))","v":""},{"$f":"IF(B52=\"\",\"\",IF(AND(COUNTIF('Entry sheet-2-hin'!$AL$9:$AL$68,\"1रसबवि\")=0),\"\",COUNTIF('Entry sheet-2-hin'!$AL$9:$AL$68,\"1रसबवि\")))","v":""},"",{"$f":"IF(B52=\"\",\"\",IF(AND(COUNTIF('Entry sheet-2-hin'!$AL$9:$AL$68,\"44SOTC\")=0,COUNTIF('Entry sheet-2-hin'!$AL$9:$AL$68,\"44SOT\")=0),\"\",IF(COUNTIF('Entry sheet-2-hin'!$AL$9:$AL$68,\"44SOTC\")=0,COUNTIF('Entry sheet-2-hin'!$AL$9:$AL$68,\"44SOT\"),COUNTIF('Entry sheet-2-hin'!$AL$9:$AL$68,\"44SOTC\")&\"*\")))","v":""},{"$f":"IF(AO52=\"\",\"\",IF(COUNTIF('Entry sheet-2-hin'!$AL$9:$AL$68,\"44SOTC\")=0,COUNTIF('Entry sheet-2-hin'!$AL$9:$AL$68,\"44SOT\")*1,COUNTIF('Entry sheet-2-hin'!$AL$9:$AL$68,\"44SOTC\")*1))","v":""},{"$f":"IF(B52=\"\",\"\",IF(AND(COUNTIF('Entry sheet-2-hin'!$AL$9:$AL$68,\"1रसअलउ\")=0),\"\",COUNTIF('Entry sheet-2-hin'!$AL$9:$AL$68,\"1रसअलउ\")))","v":""},{"$f":"IF(AQ52=\"\",\"\",IF(COUNTIF('Entry sheet-2-hin'!$AL$9:$AL$68,\"44SSA1C\")=0,COUNTIF('Entry sheet-2-hin'!$AL$9:$AL$68,\"44SSA1\")*1,COUNTIF('Entry sheet-2-hin'!$AL$9:$AL$68,\"44SSA1C\")*1))","v":""},{"$f":"IF(B52=\"\",\"\",IF(AND(COUNTIF('Entry sheet-2-hin'!$AL$9:$AL$68,\"1रसलउ२\")=0),\"\",COUNTIF('Entry sheet-2-hin'!$AL$9:$AL$68,\"1रसलउ२\")))","v":""},"",{"$f":"IF(B52=\"\",\"\",IF(AND(COUNTIF('Entry sheet-2-hin'!$AL$9:$AL$68,\"44SLA1C\")=0,COUNTIF('Entry sheet-2-hin'!$AL$9:$AL$68,\"44SLA1\")=0),\"\",IF(COUNTIF('Entry sheet-2-hin'!$AL$9:$AL$68,\"44SLA1C\")=0,COUNTIF('Entry sheet-2-hin'!$AL$9:$AL$68,\"44SLA1\"),COUNTIF('Entry sheet-2-hin'!$AL$9:$AL$68,\"44SLA1C\")&\"*\")))","v":""},"",{"$f":"IF(B52=\"\",\"\",IF(AND(COUNTIF('Entry sheet-2-hin'!$AL$9:$AL$68,\"44SLA2C\")=0,COUNTIF('Entry sheet-2-hin'!$AL$9:$AL$68,\"44SLA2\")=0),\"\",IF(COUNTIF('Entry sheet-2-hin'!$AL$9:$AL$68,\"44SLA2C\")=0,COUNTIF('Entry sheet-2-hin'!$AL$9:$AL$68,\"44SLA2\"),COUNTIF('Entry sheet-2-hin'!$AL$9:$AL$68,\"44SLA2C\")&\"*\")))","v":""},"","","","","","","","","","","","","","",""]
[{"$f":"IF('Entry sheet-1-hin'!A54=\"\",\"\",'Entry sheet-1-hin'!A54)","v":""},{"$f":"IF('Entry sheet-1-hin'!B54=\"\",\"\",'Entry sheet-1-hin'!B54)","v":""},{"$f":"IF(B53=\"\",\"\",IF(AND(COUNTIF('Entry sheet-2-hin'!$AL$9:$AL$68,\"45KMCC\")=0,COUNTIF('Entry sheet-2-hin'!$AL$9:$AL$68,\"45KMC\")=0),\"\",IF(COUNTIF('Entry sheet-2-hin'!$AL$9:$AL$68,\"45KMCC\")=0,COUNTIF('Entry sheet-2-hin'!$AL$9:$AL$68,\"45KMC\"),COUNTIF('Entry sheet-2-hin'!$AL$9:$AL$68,\"45KMCC\")&\"*\")))","v":""},{"$f":"IF(C53=\"\",\"\",IF(COUNTIF('Entry sheet-2-hin'!$AL$9:$AL$68,\"45KMCC\")=0,COUNTIF('Entry sheet-2-hin'!$AL$9:$AL$68,\"45KMC\")*1,COUNTIF('Entry sheet-2-hin'!$AL$9:$AL$68,\"45KMCC\")*1))","v":""},{"$f":"IF(B53=\"\",\"\",IF(AND(COUNTIF('Entry sheet-2-hin'!$AL$9:$AL$68,\"45KOTC\")=0,COUNTIF('Entry sheet-2-hin'!$AL$9:$AL$68,\"45KOT\")=0),\"\",IF(COUNTIF('Entry sheet-2-hin'!$AL$9:$AL$68,\"45KOTC\")=0,COUNTIF('Entry sheet-2-hin'!$AL$9:$AL$68,\"45KOT\"),COUNTIF('Entry sheet-2-hin'!$AL$9:$AL$68,\"45KOTC\")&\"*\")))","v":""},{"$f":"IF(E53=\"\",\"\",IF(COUNTIF('Entry sheet-2-hin'!$AL$9:$AL$68,\"45KOTC\")=0,COUNTIF('Entry sheet-2-hin'!$AL$9:$AL$68,\"45KOT\")*1,COUNTIF('Entry sheet-2-hin'!$AL$9:$AL$68,\"45KOTC\")*1))","v":""},{"$f":"IF(B53=\"\",\"\",IF(AND(COUNTIF('Entry sheet-2-hin'!$AL$9:$AL$68,\"45KSA1C\")=0,COUNTIF('Entry sheet-2-hin'!$AL$9:$AL$68,\"45KSA1\")=0),\"\",IF(COUNTIF('Entry sheet-2-hin'!$AL$9:$AL$68,\"45KSA1C\")=0,COUNTIF('Entry sheet-2-hin'!$AL$9:$AL$68,\"45KSA1\"),COUNTIF('Entry sheet-2-hin'!$AL$9:$AL$68,\"45KSA1C\")&\"*\")))","v":""},{"$f":"IF(G53=\"\",\"\",IF(COUNTIF('Entry sheet-2-hin'!$AL$9:$AL$68,\"45KSA1C\")=0,COUNTIF('Entry sheet-2-hin'!$AL$9:$AL$68,\"45KSA1\")*1,COUNTIF('Entry sheet-2-hin'!$AL$9:$AL$68,\"45KSA1C\")*1))","v":""},{"$f":"IF(B53=\"\",\"\",IF(AND(COUNTIF('Entry sheet-2-hin'!$AL$9:$AL$68,\"45KSA2C\")=0,COUNTIF('Entry sheet-2-hin'!$AL$9:$AL$68,\"45KSA2\")=0),\"\",IF(COUNTIF('Entry sheet-2-hin'!$AL$9:$AL$68,\"45KSA2C\")=0,COUNTIF('Entry sheet-2-hin'!$AL$9:$AL$68,\"45KSA2\"),COUNTIF('Entry sheet-2-hin'!$AL$9:$AL$68,\"45KSA2C\")&\"*\")))","v":""},{"$f":"IF(I53=\"\",\"\",IF(COUNTIF('Entry sheet-2-hin'!$AL$9:$AL$68,\"45KSA2C\")=0,COUNTIF('Entry sheet-2-hin'!$AL$9:$AL$68,\"45KSA2\")*2,COUNTIF('Entry sheet-2-hin'!$AL$9:$AL$68,\"45KSA2C\")*2))","v":""},{"$f":"IF(B53=\"\",\"\",IF(AND(COUNTIF('Entry sheet-2-hin'!$AL$9:$AL$68,\"45KLA1C\")=0,COUNTIF('Entry sheet-2-hin'!$AL$9:$AL$68,\"45KLA1\")=0),\"\",IF(COUNTIF('Entry sheet-2-hin'!$AL$9:$AL$68,\"45KLA1C\")=0,COUNTIF('Entry sheet-2-hin'!$AL$9:$AL$68,\"45KLA1\"),COUNTIF('Entry sheet-2-hin'!$AL$9:$AL$68,\"45KLA1C\")&\"*\")))","v":""},{"$f":"IF(K53=\"\",\"\",IF(COUNTIF('Entry sheet-2-hin'!$AL$9:$AL$68,\"45KLA1C\")=0,COUNTIF('Entry sheet-2-hin'!$AL$9:$AL$68,\"45KLA1\")*3,COUNTIF('Entry sheet-2-hin'!$AL$9:$AL$68,\"45KLA1C\")*3))","v":""},{"$f":"IF(B53=\"\",\"\",IF(AND(COUNTIF('Entry sheet-2-hin'!$AL$9:$AL$68,\"1स्मदीउ४\")=0),\"\",COUNTIF('Entry sheet-2-hin'!$AL$9:$AL$68,\"1स्मदीउ४\")))","v":""},"",{"$f":"IF(B53=\"\",\"\",IF(AND(COUNTIF('Entry sheet-2-hin'!$AL$9:$AL$68,\"45UMCC\")=0,COUNTIF('Entry sheet-2-hin'!$AL$9:$AL$68,\"45UMC\")=0),\"\",IF(COUNTIF('Entry sheet-2-hin'!$AL$9:$AL$68,\"45UMCC\")=0,COUNTIF('Entry sheet-2-hin'!$AL$9:$AL$68,\"45UMC\"),COUNTIF('Entry sheet-2-hin'!$AL$9:$AL$68,\"45UMCC\")&\"*\")))","v":""},{"$f":"IF(O53=\"\",\"\",IF(COUNTIF('Entry sheet-2-hin'!$AL$9:$AL$68,\"45UMCC\")=0,COUNTIF('Entry sheet-2-hin'!$AL$9:$AL$68,\"45UMC\")*1,COUNTIF('Entry sheet-2-hin'!$AL$9:$AL$68,\"45UMCC\")*1))","v":""},{"$f":"IF(B53=\"\",\"\",IF(AND(COUNTIF('Entry sheet-2-hin'!$AL$9:$AL$68,\"1समवनि\")=0),\"\",COUNTIF('Entry sheet-2-hin'!$AL$9:$AL$68,\"1समवनि\")))","v":""},{"$f":"IF(Q53=\"\",\"\",IF(COUNTIF('Entry sheet-2-hin'!$AL$9:$AL$68,\"45UOTC\")=0,COUNTIF('Entry sheet-2-hin'!$AL$9:$AL$68,\"45UOT\")*1,COUNTIF('Entry sheet-2-hin'!$AL$9:$AL$68,\"45UOTC\")*1))","v":""},{"$f":"IF(B53=\"\",\"\",IF(AND(COUNTIF('Entry sheet-2-hin'!$AL$9:$AL$68,\"1समअलउ\")=0),\"\",COUNTIF('Entry sheet-2-hin'!$AL$9:$AL$68,\"1समअलउ\")))","v":""},{"$f":"IF(S53=\"\",\"\",IF(COUNTIF('Entry sheet-2-hin'!$AL$9:$AL$68,\"45USA1C\")=0,COUNTIF('Entry sheet-2-hin'!$AL$9:$AL$68,\"45USA1\")*1,COUNTIF('Entry sheet-2-hin'!$AL$9:$AL$68,\"45USA1C\")*1))","v":""},{"$f":"IF(B53=\"\",\"\",IF(AND(COUNTIF('Entry sheet-2-hin'!$AL$9:$AL$68,\"45USA2C\")=0,COUNTIF('Entry sheet-2-hin'!$AL$9:$AL$68,\"45USA2\")=0),\"\",IF(COUNTIF('Entry sheet-2-hin'!$AL$9:$AL$68,\"45USA2C\")=0,COUNTIF('Entry sheet-2-hin'!$AL$9:$AL$68,\"45USA2\"),COUNTIF('Entry sheet-2-hin'!$AL$9:$AL$68,\"45USA2C\")&\"*\")))","v":""},{"$f":"IF(U53=\"\",\"\",IF(COUNTIF('Entry sheet-2-hin'!$AL$9:$AL$68,\"45USA2C\")=0,COUNTIF('Entry sheet-2-hin'!$AL$9:$AL$68,\"45USA2\")*2,COUNTIF('Entry sheet-2-hin'!$AL$9:$AL$68,\"45USA2C\")*2))","v":""},{"$f":"IF(B53=\"\",\"\",IF(AND(COUNTIF('Entry sheet-2-hin'!$AL$9:$AL$68,\"45ULA1C\")=0,COUNTIF('Entry sheet-2-hin'!$AL$9:$AL$68,\"45ULA1\")=0),\"\",IF(COUNTIF('Entry sheet-2-hin'!$AL$9:$AL$68,\"45ULA1C\")=0,COUNTIF('Entry sheet-2-hin'!$AL$9:$AL$68,\"45ULA1\"),COUNTIF('Entry sheet-2-hin'!$AL$9:$AL$68,\"45ULA1C\")&\"*\")))","v":""},{"$f":"IF(W53=\"\",\"\",IF(COUNTIF('Entry sheet-2-hin'!$AL$9:$AL$68,\"45ULA1C\")=0,COUNTIF('Entry sheet-2-hin'!$AL$9:$AL$68,\"45ULA1\")*3,COUNTIF('Entry sheet-2-hin'!$AL$9:$AL$68,\"45ULA1C\")*3))","v":""},{"$f":"IF(B53=\"\",\"\",IF(AND(COUNTIF('Entry sheet-2-hin'!$AL$9:$AL$68,\"1समदीउ४\")=0),\"\",COUNTIF('Entry sheet-2-hin'!$AL$9:$AL$68,\"1समदीउ४\")))","v":""},{"$f":"IF(Y53=\"\",\"\",IF(COUNTIF('Entry sheet-2-hin'!$AL$9:$AL$68,\"45ULA2C\")=0,COUNTIF('Entry sheet-2-hin'!$AL$9:$AL$68,\"45ULA2\")*4,COUNTIF('Entry sheet-2-hin'!$AL$9:$AL$68,\"45ULA2C\")*4))","v":""},{"$f":"IF(B53=\"\",\"\",IF(AND(COUNTIF('Entry sheet-2-hin'!$AL$9:$AL$68,\"1अबवि\")=0),\"\",COUNTIF('Entry sheet-2-hin'!$AL$9:$AL$68,\"1अबवि\")))","v":""},"",{"$f":"IF(B53=\"\",\"\",IF(AND(COUNTIF('Entry sheet-2-hin'!$AL$9:$AL$68,\"45AOTC\")=0,COUNTIF('Entry sheet-2-hin'!$AL$9:$AL$68,\"45AOT\")=0),\"\",IF(COUNTIF('Entry sheet-2-hin'!$AL$9:$AL$68,\"45AOTC\")=0,COUNTIF('Entry sheet-2-hin'!$AL$9:$AL$68,\"45AOT\"),COUNTIF('Entry sheet-2-hin'!$AL$9:$AL$68,\"45AOTC\")&\"*\")))","v":""},{"$f":"IF(AC53=\"\",\"\",IF(COUNTIF('Entry sheet-2-hin'!$AL$9:$AL$68,\"45AOTC\")=0,COUNTIF('Entry sheet-2-hin'!$AL$9:$AL$68,\"45AOT\")*1,COUNTIF('Entry sheet-2-hin'!$AL$9:$AL$68,\"45AOTC\")*1))","v":""},{"$f":"IF(B53=\"\",\"\",IF(AND(COUNTIF('Entry sheet-2-hin'!$AL$9:$AL$68,\"1अअलउ\")=0),\"\",COUNTIF('Entry sheet-2-hin'!$AL$9:$AL$68,\"1अअलउ\")))","v":""},{"$f":"IF(AE53=\"\",\"\",IF(COUNTIF('Entry sheet-2-hin'!$AL$9:$AL$68,\"45ASA1C\")=0,COUNTIF('Entry sheet-2-hin'!$AL$9:$AL$68,\"45ASA1\")*1,COUNTIF('Entry sheet-2-hin'!$AL$9:$AL$68,\"45ASA1C\")*1))","v":""},{"$f":"IF(B53=\"\",\"\",IF(AND(COUNTIF('Entry sheet-2-hin'!$AL$9:$AL$68,\"45ASA2C\")=0,COUNTIF('Entry sheet-2-hin'!$AL$9:$AL$68,\"45ASA2\")=0),\"\",IF(COUNTIF('Entry sheet-2-hin'!$AL$9:$AL$68,\"45ASA2C\")=0,COUNTIF('Entry sheet-2-hin'!$AL$9:$AL$68,\"45ASA2\"),COUNTIF('Entry sheet-2-hin'!$AL$9:$AL$68,\"45ASA2C\")&\"*\")))","v":""},{"$f":"IF(AG53=\"\",\"\",IF(COUNTIF('Entry sheet-2-hin'!$AL$9:$AL$68,\"45ASA2C\")=0,COUNTIF('Entry sheet-2-hin'!$AL$9:$AL$68,\"45ASA2\")*2,COUNTIF('Entry sheet-2-hin'!$AL$9:$AL$68,\"45ASA2C\")*2))","v":""},{"$f":"IF(B53=\"\",\"\",IF(AND(COUNTIF('Entry sheet-2-hin'!$AL$9:$AL$68,\"45ALA1C\")=0,COUNTIF('Entry sheet-2-hin'!$AL$9:$AL$68,\"45ALA1\")=0),\"\",IF(COUNTIF('Entry sheet-2-hin'!$AL$9:$AL$68,\"45ALA1C\")=0,COUNTIF('Entry sheet-2-hin'!$AL$9:$AL$68,\"45ALA1\"),COUNTIF('Entry sheet-2-hin'!$AL$9:$AL$68,\"45ALA1C\")&\"*\")))","v":""},"",{"$f":"IF(B53=\"\",\"\",IF(AND(COUNTIF('Entry sheet-2-hin'!$AL$9:$AL$68,\"45ALA2C\")=0,COUNTIF('Entry sheet-2-hin'!$AL$9:$AL$68,\"45ALA2\")=0),\"\",IF(COUNTIF('Entry sheet-2-hin'!$AL$9:$AL$68,\"45ALA2C\")=0,COUNTIF('Entry sheet-2-hin'!$AL$9:$AL$68,\"45ALA2\"),COUNTIF('Entry sheet-2-hin'!$AL$9:$AL$68,\"45ALA2C\")&\"*\")))","v":""},{"$f":"IF(AK53=\"\",\"\",IF(COUNTIF('Entry sheet-2-hin'!$AL$9:$AL$68,\"45ALA2C\")=0,COUNTIF('Entry sheet-2-hin'!$AL$9:$AL$68,\"45ALA2\")*4,COUNTIF('Entry sheet-2-hin'!$AL$9:$AL$68,\"45ALA2C\")*4))","v":""},{"$f":"IF(B53=\"\",\"\",IF(AND(COUNTIF('Entry sheet-2-hin'!$AL$9:$AL$68,\"1रसबवि\")=0),\"\",COUNTIF('Entry sheet-2-hin'!$AL$9:$AL$68,\"1रसबवि\")))","v":""},"",{"$f":"IF(B53=\"\",\"\",IF(AND(COUNTIF('Entry sheet-2-hin'!$AL$9:$AL$68,\"45SOTC\")=0,COUNTIF('Entry sheet-2-hin'!$AL$9:$AL$68,\"45SOT\")=0),\"\",IF(COUNTIF('Entry sheet-2-hin'!$AL$9:$AL$68,\"45SOTC\")=0,COUNTIF('Entry sheet-2-hin'!$AL$9:$AL$68,\"45SOT\"),COUNTIF('Entry sheet-2-hin'!$AL$9:$AL$68,\"45SOTC\")&\"*\")))","v":""},{"$f":"IF(AO53=\"\",\"\",IF(COUNTIF('Entry sheet-2-hin'!$AL$9:$AL$68,\"45SOTC\")=0,COUNTIF('Entry sheet-2-hin'!$AL$9:$AL$68,\"45SOT\")*1,COUNTIF('Entry sheet-2-hin'!$AL$9:$AL$68,\"45SOTC\")*1))","v":""},{"$f":"IF(B53=\"\",\"\",IF(AND(COUNTIF('Entry sheet-2-hin'!$AL$9:$AL$68,\"1रसअलउ\")=0),\"\",COUNTIF('Entry sheet-2-hin'!$AL$9:$AL$68,\"1रसअलउ\")))","v":""},{"$f":"IF(AQ53=\"\",\"\",IF(COUNTIF('Entry sheet-2-hin'!$AL$9:$AL$68,\"45SSA1C\")=0,COUNTIF('Entry sheet-2-hin'!$AL$9:$AL$68,\"45SSA1\")*1,COUNTIF('Entry sheet-2-hin'!$AL$9:$AL$68,\"45SSA1C\")*1))","v":""},{"$f":"IF(B53=\"\",\"\",IF(AND(COUNTIF('Entry sheet-2-hin'!$AL$9:$AL$68,\"1रसलउ२\")=0),\"\",COUNTIF('Entry sheet-2-hin'!$AL$9:$AL$68,\"1रसलउ२\")))","v":""},"",{"$f":"IF(B53=\"\",\"\",IF(AND(COUNTIF('Entry sheet-2-hin'!$AL$9:$AL$68,\"45SLA1C\")=0,COUNTIF('Entry sheet-2-hin'!$AL$9:$AL$68,\"45SLA1\")=0),\"\",IF(COUNTIF('Entry sheet-2-hin'!$AL$9:$AL$68,\"45SLA1C\")=0,COUNTIF('Entry sheet-2-hin'!$AL$9:$AL$68,\"45SLA1\"),COUNTIF('Entry sheet-2-hin'!$AL$9:$AL$68,\"45SLA1C\")&\"*\")))","v":""},"",{"$f":"IF(B53=\"\",\"\",IF(AND(COUNTIF('Entry sheet-2-hin'!$AL$9:$AL$68,\"45SLA2C\")=0,COUNTIF('Entry sheet-2-hin'!$AL$9:$AL$68,\"45SLA2\")=0),\"\",IF(COUNTIF('Entry sheet-2-hin'!$AL$9:$AL$68,\"45SLA2C\")=0,COUNTIF('Entry sheet-2-hin'!$AL$9:$AL$68,\"45SLA2\"),COUNTIF('Entry sheet-2-hin'!$AL$9:$AL$68,\"45SLA2C\")&\"*\")))","v":""},"","","","","","","","","","","","","","",""]
[{"$f":"IF('Entry sheet-1-hin'!A55=\"\",\"\",'Entry sheet-1-hin'!A55)","v":""},{"$f":"IF('Entry sheet-1-hin'!B55=\"\",\"\",'Entry sheet-1-hin'!B55)","v":""},{"$f":"IF(B54=\"\",\"\",IF(AND(COUNTIF('Entry sheet-2-hin'!$AL$9:$AL$68,\"46KMCC\")=0,COUNTIF('Entry sheet-2-hin'!$AL$9:$AL$68,\"46KMC\")=0),\"\",IF(COUNTIF('Entry sheet-2-hin'!$AL$9:$AL$68,\"46KMCC\")=0,COUNTIF('Entry sheet-2-hin'!$AL$9:$AL$68,\"46KMC\"),COUNTIF('Entry sheet-2-hin'!$AL$9:$AL$68,\"46KMCC\")&\"*\")))","v":""},{"$f":"IF(C54=\"\",\"\",IF(COUNTIF('Entry sheet-2-hin'!$AL$9:$AL$68,\"46KMCC\")=0,COUNTIF('Entry sheet-2-hin'!$AL$9:$AL$68,\"46KMC\")*1,COUNTIF('Entry sheet-2-hin'!$AL$9:$AL$68,\"46KMCC\")*1))","v":""},{"$f":"IF(B54=\"\",\"\",IF(AND(COUNTIF('Entry sheet-2-hin'!$AL$9:$AL$68,\"46KOTC\")=0,COUNTIF('Entry sheet-2-hin'!$AL$9:$AL$68,\"46KOT\")=0),\"\",IF(COUNTIF('Entry sheet-2-hin'!$AL$9:$AL$68,\"46KOTC\")=0,COUNTIF('Entry sheet-2-hin'!$AL$9:$AL$68,\"46KOT\"),COUNTIF('Entry sheet-2-hin'!$AL$9:$AL$68,\"46KOTC\")&\"*\")))","v":""},{"$f":"IF(E54=\"\",\"\",IF(COUNTIF('Entry sheet-2-hin'!$AL$9:$AL$68,\"46KOTC\")=0,COUNTIF('Entry sheet-2-hin'!$AL$9:$AL$68,\"46KOT\")*1,COUNTIF('Entry sheet-2-hin'!$AL$9:$AL$68,\"46KOTC\")*1))","v":""},{"$f":"IF(B54=\"\",\"\",IF(AND(COUNTIF('Entry sheet-2-hin'!$AL$9:$AL$68,\"46KSA1C\")=0,COUNTIF('Entry sheet-2-hin'!$AL$9:$AL$68,\"46KSA1\")=0),\"\",IF(COUNTIF('Entry sheet-2-hin'!$AL$9:$AL$68,\"46KSA1C\")=0,COUNTIF('Entry sheet-2-hin'!$AL$9:$AL$68,\"46KSA1\"),COUNTIF('Entry sheet-2-hin'!$AL$9:$AL$68,\"46KSA1C\")&\"*\")))","v":""},{"$f":"IF(G54=\"\",\"\",IF(COUNTIF('Entry sheet-2-hin'!$AL$9:$AL$68,\"46KSA1C\")=0,COUNTIF('Entry sheet-2-hin'!$AL$9:$AL$68,\"46KSA1\")*1,COUNTIF('Entry sheet-2-hin'!$AL$9:$AL$68,\"46KSA1C\")*1))","v":""},{"$f":"IF(B54=\"\",\"\",IF(AND(COUNTIF('Entry sheet-2-hin'!$AL$9:$AL$68,\"46KSA2C\")=0,COUNTIF('Entry sheet-2-hin'!$AL$9:$AL$68,\"46KSA2\")=0),\"\",IF(COUNTIF('Entry sheet-2-hin'!$AL$9:$AL$68,\"46KSA2C\")=0,COUNTIF('Entry sheet-2-hin'!$AL$9:$AL$68,\"46KSA2\"),COUNTIF('Entry sheet-2-hin'!$AL$9:$AL$68,\"46KSA2C\")&\"*\")))","v":""},{"$f":"IF(I54=\"\",\"\",IF(COUNTIF('Entry sheet-2-hin'!$AL$9:$AL$68,\"46KSA2C\")=0,COUNTIF('Entry sheet-2-hin'!$AL$9:$AL$68,\"46KSA2\")*2,COUNTIF('Entry sheet-2-hin'!$AL$9:$AL$68,\"46KSA2C\")*2))","v":""},{"$f":"IF(B54=\"\",\"\",IF(AND(COUNTIF('Entry sheet-2-hin'!$AL$9:$AL$68,\"46KLA1C\")=0,COUNTIF('Entry sheet-2-hin'!$AL$9:$AL$68,\"46KLA1\")=0),\"\",IF(COUNTIF('Entry sheet-2-hin'!$AL$9:$AL$68,\"46KLA1C\")=0,COUNTIF('Entry sheet-2-hin'!$AL$9:$AL$68,\"46KLA1\"),COUNTIF('Entry sheet-2-hin'!$AL$9:$AL$68,\"46KLA1C\")&\"*\")))","v":""},{"$f":"IF(K54=\"\",\"\",IF(COUNTIF('Entry sheet-2-hin'!$AL$9:$AL$68,\"46KLA1C\")=0,COUNTIF('Entry sheet-2-hin'!$AL$9:$AL$68,\"46KLA1\")*3,COUNTIF('Entry sheet-2-hin'!$AL$9:$AL$68,\"46KLA1C\")*3))","v":""},{"$f":"IF(B54=\"\",\"\",IF(AND(COUNTIF('Entry sheet-2-hin'!$AL$9:$AL$68,\"1स्मदीउ४\")=0),\"\",COUNTIF('Entry sheet-2-hin'!$AL$9:$AL$68,\"1स्मदीउ४\")))","v":""},"",{"$f":"IF(B54=\"\",\"\",IF(AND(COUNTIF('Entry sheet-2-hin'!$AL$9:$AL$68,\"46UMCC\")=0,COUNTIF('Entry sheet-2-hin'!$AL$9:$AL$68,\"46UMC\")=0),\"\",IF(COUNTIF('Entry sheet-2-hin'!$AL$9:$AL$68,\"46UMCC\")=0,COUNTIF('Entry sheet-2-hin'!$AL$9:$AL$68,\"46UMC\"),COUNTIF('Entry sheet-2-hin'!$AL$9:$AL$68,\"46UMCC\")&\"*\")))","v":""},{"$f":"IF(O54=\"\",\"\",IF(COUNTIF('Entry sheet-2-hin'!$AL$9:$AL$68,\"46UMCC\")=0,COUNTIF('Entry sheet-2-hin'!$AL$9:$AL$68,\"46UMC\")*1,COUNTIF('Entry sheet-2-hin'!$AL$9:$AL$68,\"46UMCC\")*1))","v":""},{"$f":"IF(B54=\"\",\"\",IF(AND(COUNTIF('Entry sheet-2-hin'!$AL$9:$AL$68,\"1समवनि\")=0),\"\",COUNTIF('Entry sheet-2-hin'!$AL$9:$AL$68,\"1समवनि\")))","v":""},{"$f":"IF(Q54=\"\",\"\",IF(COUNTIF('Entry sheet-2-hin'!$AL$9:$AL$68,\"46UOTC\")=0,COUNTIF('Entry sheet-2-hin'!$AL$9:$AL$68,\"46UOT\")*1,COUNTIF('Entry sheet-2-hin'!$AL$9:$AL$68,\"46UOTC\")*1))","v":""},{"$f":"IF(B54=\"\",\"\",IF(AND(COUNTIF('Entry sheet-2-hin'!$AL$9:$AL$68,\"1समअलउ\")=0),\"\",COUNTIF('Entry sheet-2-hin'!$AL$9:$AL$68,\"1समअलउ\")))","v":""},{"$f":"IF(S54=\"\",\"\",IF(COUNTIF('Entry sheet-2-hin'!$AL$9:$AL$68,\"46USA1C\")=0,COUNTIF('Entry sheet-2-hin'!$AL$9:$AL$68,\"46USA1\")*1,COUNTIF('Entry sheet-2-hin'!$AL$9:$AL$68,\"46USA1C\")*1))","v":""},{"$f":"IF(B54=\"\",\"\",IF(AND(COUNTIF('Entry sheet-2-hin'!$AL$9:$AL$68,\"46USA2C\")=0,COUNTIF('Entry sheet-2-hin'!$AL$9:$AL$68,\"46USA2\")=0),\"\",IF(COUNTIF('Entry sheet-2-hin'!$AL$9:$AL$68,\"46USA2C\")=0,COUNTIF('Entry sheet-2-hin'!$AL$9:$AL$68,\"46USA2\"),COUNTIF('Entry sheet-2-hin'!$AL$9:$AL$68,\"46USA2C\")&\"*\")))","v":""},{"$f":"IF(U54=\"\",\"\",IF(COUNTIF('Entry sheet-2-hin'!$AL$9:$AL$68,\"46USA2C\")=0,COUNTIF('Entry sheet-2-hin'!$AL$9:$AL$68,\"46USA2\")*2,COUNTIF('Entry sheet-2-hin'!$AL$9:$AL$68,\"46USA2C\")*2))","v":""},{"$f":"IF(B54=\"\",\"\",IF(AND(COUNTIF('Entry sheet-2-hin'!$AL$9:$AL$68,\"46ULA1C\")=0,COUNTIF('Entry sheet-2-hin'!$AL$9:$AL$68,\"46ULA1\")=0),\"\",IF(COUNTIF('Entry sheet-2-hin'!$AL$9:$AL$68,\"46ULA1C\")=0,COUNTIF('Entry sheet-2-hin'!$AL$9:$AL$68,\"46ULA1\"),COUNTIF('Entry sheet-2-hin'!$AL$9:$AL$68,\"46ULA1C\")&\"*\")))","v":""},{"$f":"IF(W54=\"\",\"\",IF(COUNTIF('Entry sheet-2-hin'!$AL$9:$AL$68,\"46ULA1C\")=0,COUNTIF('Entry sheet-2-hin'!$AL$9:$AL$68,\"46ULA1\")*3,COUNTIF('Entry sheet-2-hin'!$AL$9:$AL$68,\"46ULA1C\")*3))","v":""},{"$f":"IF(B54=\"\",\"\",IF(AND(COUNTIF('Entry sheet-2-hin'!$AL$9:$AL$68,\"1समदीउ४\")=0),\"\",COUNTIF('Entry sheet-2-hin'!$AL$9:$AL$68,\"1समदीउ४\")))","v":""},{"$f":"IF(Y54=\"\",\"\",IF(COUNTIF('Entry sheet-2-hin'!$AL$9:$AL$68,\"46ULA2C\")=0,COUNTIF('Entry sheet-2-hin'!$AL$9:$AL$68,\"46ULA2\")*4,COUNTIF('Entry sheet-2-hin'!$AL$9:$AL$68,\"46ULA2C\")*4))","v":""},{"$f":"IF(B54=\"\",\"\",IF(AND(COUNTIF('Entry sheet-2-hin'!$AL$9:$AL$68,\"1अबवि\")=0),\"\",COUNTIF('Entry sheet-2-hin'!$AL$9:$AL$68,\"1अबवि\")))","v":""},"",{"$f":"IF(B54=\"\",\"\",IF(AND(COUNTIF('Entry sheet-2-hin'!$AL$9:$AL$68,\"46AOTC\")=0,COUNTIF('Entry sheet-2-hin'!$AL$9:$AL$68,\"46AOT\")=0),\"\",IF(COUNTIF('Entry sheet-2-hin'!$AL$9:$AL$68,\"46AOTC\")=0,COUNTIF('Entry sheet-2-hin'!$AL$9:$AL$68,\"46AOT\"),COUNTIF('Entry sheet-2-hin'!$AL$9:$AL$68,\"46AOTC\")&\"*\")))","v":""},{"$f":"IF(AC54=\"\",\"\",IF(COUNTIF('Entry sheet-2-hin'!$AL$9:$AL$68,\"46AOTC\")=0,COUNTIF('Entry sheet-2-hin'!$AL$9:$AL$68,\"46AOT\")*1,COUNTIF('Entry sheet-2-hin'!$AL$9:$AL$68,\"46AOTC\")*1))","v":""},{"$f":"IF(B54=\"\",\"\",IF(AND(COUNTIF('Entry sheet-2-hin'!$AL$9:$AL$68,\"1अअलउ\")=0),\"\",COUNTIF('Entry sheet-2-hin'!$AL$9:$AL$68,\"1अअलउ\")))","v":""},{"$f":"IF(AE54=\"\",\"\",IF(COUNTIF('Entry sheet-2-hin'!$AL$9:$AL$68,\"46ASA1C\")=0,COUNTIF('Entry sheet-2-hin'!$AL$9:$AL$68,\"46ASA1\")*1,COUNTIF('Entry sheet-2-hin'!$AL$9:$AL$68,\"46ASA1C\")*1))","v":""},{"$f":"IF(B54=\"\",\"\",IF(AND(COUNTIF('Entry sheet-2-hin'!$AL$9:$AL$68,\"46ASA2C\")=0,COUNTIF('Entry sheet-2-hin'!$AL$9:$AL$68,\"46ASA2\")=0),\"\",IF(COUNTIF('Entry sheet-2-hin'!$AL$9:$AL$68,\"46ASA2C\")=0,COUNTIF('Entry sheet-2-hin'!$AL$9:$AL$68,\"46ASA2\"),COUNTIF('Entry sheet-2-hin'!$AL$9:$AL$68,\"46ASA2C\")&\"*\")))","v":""},{"$f":"IF(AG54=\"\",\"\",IF(COUNTIF('Entry sheet-2-hin'!$AL$9:$AL$68,\"46ASA2C\")=0,COUNTIF('Entry sheet-2-hin'!$AL$9:$AL$68,\"46ASA2\")*2,COUNTIF('Entry sheet-2-hin'!$AL$9:$AL$68,\"46ASA2C\")*2))","v":""},{"$f":"IF(B54=\"\",\"\",IF(AND(COUNTIF('Entry sheet-2-hin'!$AL$9:$AL$68,\"46ALA1C\")=0,COUNTIF('Entry sheet-2-hin'!$AL$9:$AL$68,\"46ALA1\")=0),\"\",IF(COUNTIF('Entry sheet-2-hin'!$AL$9:$AL$68,\"46ALA1C\")=0,COUNTIF('Entry sheet-2-hin'!$AL$9:$AL$68,\"46ALA1\"),COUNTIF('Entry sheet-2-hin'!$AL$9:$AL$68,\"46ALA1C\")&\"*\")))","v":""},"",{"$f":"IF(B54=\"\",\"\",IF(AND(COUNTIF('Entry sheet-2-hin'!$AL$9:$AL$68,\"46ALA2C\")=0,COUNTIF('Entry sheet-2-hin'!$AL$9:$AL$68,\"46ALA2\")=0),\"\",IF(COUNTIF('Entry sheet-2-hin'!$AL$9:$AL$68,\"46ALA2C\")=0,COUNTIF('Entry sheet-2-hin'!$AL$9:$AL$68,\"46ALA2\"),COUNTIF('Entry sheet-2-hin'!$AL$9:$AL$68,\"46ALA2C\")&\"*\")))","v":""},{"$f":"IF(AK54=\"\",\"\",IF(COUNTIF('Entry sheet-2-hin'!$AL$9:$AL$68,\"46ALA2C\")=0,COUNTIF('Entry sheet-2-hin'!$AL$9:$AL$68,\"46ALA2\")*4,COUNTIF('Entry sheet-2-hin'!$AL$9:$AL$68,\"46ALA2C\")*4))","v":""},{"$f":"IF(B54=\"\",\"\",IF(AND(COUNTIF('Entry sheet-2-hin'!$AL$9:$AL$68,\"1रसबवि\")=0),\"\",COUNTIF('Entry sheet-2-hin'!$AL$9:$AL$68,\"1रसबवि\")))","v":""},"",{"$f":"IF(B54=\"\",\"\",IF(AND(COUNTIF('Entry sheet-2-hin'!$AL$9:$AL$68,\"46SOTC\")=0,COUNTIF('Entry sheet-2-hin'!$AL$9:$AL$68,\"46SOT\")=0),\"\",IF(COUNTIF('Entry sheet-2-hin'!$AL$9:$AL$68,\"46SOTC\")=0,COUNTIF('Entry sheet-2-hin'!$AL$9:$AL$68,\"46SOT\"),COUNTIF('Entry sheet-2-hin'!$AL$9:$AL$68,\"46SOTC\")&\"*\")))","v":""},{"$f":"IF(AO54=\"\",\"\",IF(COUNTIF('Entry sheet-2-hin'!$AL$9:$AL$68,\"46SOTC\")=0,COUNTIF('Entry sheet-2-hin'!$AL$9:$AL$68,\"46SOT\")*1,COUNTIF('Entry sheet-2-hin'!$AL$9:$AL$68,\"46SOTC\")*1))","v":""},{"$f":"IF(B54=\"\",\"\",IF(AND(COUNTIF('Entry sheet-2-hin'!$AL$9:$AL$68,\"1रसअलउ\")=0),\"\",COUNTIF('Entry sheet-2-hin'!$AL$9:$AL$68,\"1रसअलउ\")))","v":""},{"$f":"IF(AQ54=\"\",\"\",IF(COUNTIF('Entry sheet-2-hin'!$AL$9:$AL$68,\"46SSA1C\")=0,COUNTIF('Entry sheet-2-hin'!$AL$9:$AL$68,\"46SSA1\")*1,COUNTIF('Entry sheet-2-hin'!$AL$9:$AL$68,\"46SSA1C\")*1))","v":""},{"$f":"IF(B54=\"\",\"\",IF(AND(COUNTIF('Entry sheet-2-hin'!$AL$9:$AL$68,\"1रसलउ२\")=0),\"\",COUNTIF('Entry sheet-2-hin'!$AL$9:$AL$68,\"1रसलउ२\")))","v":""},"",{"$f":"IF(B54=\"\",\"\",IF(AND(COUNTIF('Entry sheet-2-hin'!$AL$9:$AL$68,\"46SLA1C\")=0,COUNTIF('Entry sheet-2-hin'!$AL$9:$AL$68,\"46SLA1\")=0),\"\",IF(COUNTIF('Entry sheet-2-hin'!$AL$9:$AL$68,\"46SLA1C\")=0,COUNTIF('Entry sheet-2-hin'!$AL$9:$AL$68,\"46SLA1\"),COUNTIF('Entry sheet-2-hin'!$AL$9:$AL$68,\"46SLA1C\")&\"*\")))","v":""},"",{"$f":"IF(B54=\"\",\"\",IF(AND(COUNTIF('Entry sheet-2-hin'!$AL$9:$AL$68,\"46SLA2C\")=0,COUNTIF('Entry sheet-2-hin'!$AL$9:$AL$68,\"46SLA2\")=0),\"\",IF(COUNTIF('Entry sheet-2-hin'!$AL$9:$AL$68,\"46SLA2C\")=0,COUNTIF('Entry sheet-2-hin'!$AL$9:$AL$68,\"46SLA2\"),COUNTIF('Entry sheet-2-hin'!$AL$9:$AL$68,\"46SLA2C\")&\"*\")))","v":""},"","","","","","","","","","","","","","",""]
[{"$f":"IF('Entry sheet-1-hin'!A56=\"\",\"\",'Entry sheet-1-hin'!A56)","v":""},{"$f":"IF('Entry sheet-1-hin'!B56=\"\",\"\",'Entry sheet-1-hin'!B56)","v":""},{"$f":"IF(B55=\"\",\"\",IF(AND(COUNTIF('Entry sheet-2-hin'!$AL$9:$AL$68,\"47KMCC\")=0,COUNTIF('Entry sheet-2-hin'!$AL$9:$AL$68,\"47KMC\")=0),\"\",IF(COUNTIF('Entry sheet-2-hin'!$AL$9:$AL$68,\"47KMCC\")=0,COUNTIF('Entry sheet-2-hin'!$AL$9:$AL$68,\"47KMC\"),COUNTIF('Entry sheet-2-hin'!$AL$9:$AL$68,\"47KMCC\")&\"*\")))","v":""},{"$f":"IF(C55=\"\",\"\",IF(COUNTIF('Entry sheet-2-hin'!$AL$9:$AL$68,\"47KMCC\")=0,COUNTIF('Entry sheet-2-hin'!$AL$9:$AL$68,\"47KMC\")*1,COUNTIF('Entry sheet-2-hin'!$AL$9:$AL$68,\"47KMCC\")*1))","v":""},{"$f":"IF(B55=\"\",\"\",IF(AND(COUNTIF('Entry sheet-2-hin'!$AL$9:$AL$68,\"47KOTC\")=0,COUNTIF('Entry sheet-2-hin'!$AL$9:$AL$68,\"47KOT\")=0),\"\",IF(COUNTIF('Entry sheet-2-hin'!$AL$9:$AL$68,\"47KOTC\")=0,COUNTIF('Entry sheet-2-hin'!$AL$9:$AL$68,\"47KOT\"),COUNTIF('Entry sheet-2-hin'!$AL$9:$AL$68,\"47KOTC\")&\"*\")))","v":""},{"$f":"IF(E55=\"\",\"\",IF(COUNTIF('Entry sheet-2-hin'!$AL$9:$AL$68,\"47KOTC\")=0,COUNTIF('Entry sheet-2-hin'!$AL$9:$AL$68,\"47KOT\")*1,COUNTIF('Entry sheet-2-hin'!$AL$9:$AL$68,\"47KOTC\")*1))","v":""},{"$f":"IF(B55=\"\",\"\",IF(AND(COUNTIF('Entry sheet-2-hin'!$AL$9:$AL$68,\"47KSA1C\")=0,COUNTIF('Entry sheet-2-hin'!$AL$9:$AL$68,\"47KSA1\")=0),\"\",IF(COUNTIF('Entry sheet-2-hin'!$AL$9:$AL$68,\"47KSA1C\")=0,COUNTIF('Entry sheet-2-hin'!$AL$9:$AL$68,\"47KSA1\"),COUNTIF('Entry sheet-2-hin'!$AL$9:$AL$68,\"47KSA1C\")&\"*\")))","v":""},{"$f":"IF(G55=\"\",\"\",IF(COUNTIF('Entry sheet-2-hin'!$AL$9:$AL$68,\"47KSA1C\")=0,COUNTIF('Entry sheet-2-hin'!$AL$9:$AL$68,\"47KSA1\")*1,COUNTIF('Entry sheet-2-hin'!$AL$9:$AL$68,\"47KSA1C\")*1))","v":""},{"$f":"IF(B55=\"\",\"\",IF(AND(COUNTIF('Entry sheet-2-hin'!$AL$9:$AL$68,\"47KSA2C\")=0,COUNTIF('Entry sheet-2-hin'!$AL$9:$AL$68,\"47KSA2\")=0),\"\",IF(COUNTIF('Entry sheet-2-hin'!$AL$9:$AL$68,\"47KSA2C\")=0,COUNTIF('Entry sheet-2-hin'!$AL$9:$AL$68,\"47KSA2\"),COUNTIF('Entry sheet-2-hin'!$AL$9:$AL$68,\"47KSA2C\")&\"*\")))","v":""},{"$f":"IF(I55=\"\",\"\",IF(COUNTIF('Entry sheet-2-hin'!$AL$9:$AL$68,\"47KSA2C\")=0,COUNTIF('Entry sheet-2-hin'!$AL$9:$AL$68,\"47KSA2\")*2,COUNTIF('Entry sheet-2-hin'!$AL$9:$AL$68,\"47KSA2C\")*2))","v":""},{"$f":"IF(B55=\"\",\"\",IF(AND(COUNTIF('Entry sheet-2-hin'!$AL$9:$AL$68,\"47KLA1C\")=0,COUNTIF('Entry sheet-2-hin'!$AL$9:$AL$68,\"47KLA1\")=0),\"\",IF(COUNTIF('Entry sheet-2-hin'!$AL$9:$AL$68,\"47KLA1C\")=0,COUNTIF('Entry sheet-2-hin'!$AL$9:$AL$68,\"47KLA1\"),COUNTIF('Entry sheet-2-hin'!$AL$9:$AL$68,\"47KLA1C\")&\"*\")))","v":""},{"$f":"IF(K55=\"\",\"\",IF(COUNTIF('Entry sheet-2-hin'!$AL$9:$AL$68,\"47KLA1C\")=0,COUNTIF('Entry sheet-2-hin'!$AL$9:$AL$68,\"47KLA1\")*3,COUNTIF('Entry sheet-2-hin'!$AL$9:$AL$68,\"47KLA1C\")*3))","v":""},{"$f":"IF(B55=\"\",\"\",IF(AND(COUNTIF('Entry sheet-2-hin'!$AL$9:$AL$68,\"1स्मदीउ४\")=0),\"\",COUNTIF('Entry sheet-2-hin'!$AL$9:$AL$68,\"1स्मदीउ४\")))","v":""},"",{"$f":"IF(B55=\"\",\"\",IF(AND(COUNTIF('Entry sheet-2-hin'!$AL$9:$AL$68,\"47UMCC\")=0,COUNTIF('Entry sheet-2-hin'!$AL$9:$AL$68,\"47UMC\")=0),\"\",IF(COUNTIF('Entry sheet-2-hin'!$AL$9:$AL$68,\"47UMCC\")=0,COUNTIF('Entry sheet-2-hin'!$AL$9:$AL$68,\"47UMC\"),COUNTIF('Entry sheet-2-hin'!$AL$9:$AL$68,\"47UMCC\")&\"*\")))","v":""},{"$f":"IF(O55=\"\",\"\",IF(COUNTIF('Entry sheet-2-hin'!$AL$9:$AL$68,\"47UMCC\")=0,COUNTIF('Entry sheet-2-hin'!$AL$9:$AL$68,\"47UMC\")*1,COUNTIF('Entry sheet-2-hin'!$AL$9:$AL$68,\"47UMCC\")*1))","v":""},{"$f":"IF(B55=\"\",\"\",IF(AND(COUNTIF('Entry sheet-2-hin'!$AL$9:$AL$68,\"1समवनि\")=0),\"\",COUNTIF('Entry sheet-2-hin'!$AL$9:$AL$68,\"1समवनि\")))","v":""},{"$f":"IF(Q55=\"\",\"\",IF(COUNTIF('Entry sheet-2-hin'!$AL$9:$AL$68,\"47UOTC\")=0,COUNTIF('Entry sheet-2-hin'!$AL$9:$AL$68,\"47UOT\")*1,COUNTIF('Entry sheet-2-hin'!$AL$9:$AL$68,\"47UOTC\")*1))","v":""},{"$f":"IF(B55=\"\",\"\",IF(AND(COUNTIF('Entry sheet-2-hin'!$AL$9:$AL$68,\"1समअलउ\")=0),\"\",COUNTIF('Entry sheet-2-hin'!$AL$9:$AL$68,\"1समअलउ\")))","v":""},{"$f":"IF(S55=\"\",\"\",IF(COUNTIF('Entry sheet-2-hin'!$AL$9:$AL$68,\"47USA1C\")=0,COUNTIF('Entry sheet-2-hin'!$AL$9:$AL$68,\"47USA1\")*1,COUNTIF('Entry sheet-2-hin'!$AL$9:$AL$68,\"47USA1C\")*1))","v":""},{"$f":"IF(B55=\"\",\"\",IF(AND(COUNTIF('Entry sheet-2-hin'!$AL$9:$AL$68,\"47USA2C\")=0,COUNTIF('Entry sheet-2-hin'!$AL$9:$AL$68,\"47USA2\")=0),\"\",IF(COUNTIF('Entry sheet-2-hin'!$AL$9:$AL$68,\"47USA2C\")=0,COUNTIF('Entry sheet-2-hin'!$AL$9:$AL$68,\"47USA2\"),COUNTIF('Entry sheet-2-hin'!$AL$9:$AL$68,\"47USA2C\")&\"*\")))","v":""},{"$f":"IF(U55=\"\",\"\",IF(COUNTIF('Entry sheet-2-hin'!$AL$9:$AL$68,\"47USA2C\")=0,COUNTIF('Entry sheet-2-hin'!$AL$9:$AL$68,\"47USA2\")*2,COUNTIF('Entry sheet-2-hin'!$AL$9:$AL$68,\"47USA2C\")*2))","v":""},{"$f":"IF(B55=\"\",\"\",IF(AND(COUNTIF('Entry sheet-2-hin'!$AL$9:$AL$68,\"47ULA1C\")=0,COUNTIF('Entry sheet-2-hin'!$AL$9:$AL$68,\"47ULA1\")=0),\"\",IF(COUNTIF('Entry sheet-2-hin'!$AL$9:$AL$68,\"47ULA1C\")=0,COUNTIF('Entry sheet-2-hin'!$AL$9:$AL$68,\"47ULA1\"),COUNTIF('Entry sheet-2-hin'!$AL$9:$AL$68,\"47ULA1C\")&\"*\")))","v":""},{"$f":"IF(W55=\"\",\"\",IF(COUNTIF('Entry sheet-2-hin'!$AL$9:$AL$68,\"47ULA1C\")=0,COUNTIF('Entry sheet-2-hin'!$AL$9:$AL$68,\"47ULA1\")*3,COUNTIF('Entry sheet-2-hin'!$AL$9:$AL$68,\"47ULA1C\")*3))","v":""},{"$f":"IF(B55=\"\",\"\",IF(AND(COUNTIF('Entry sheet-2-hin'!$AL$9:$AL$68,\"1समदीउ४\")=0),\"\",COUNTIF('Entry sheet-2-hin'!$AL$9:$AL$68,\"1समदीउ४\")))","v":""},{"$f":"IF(Y55=\"\",\"\",IF(COUNTIF('Entry sheet-2-hin'!$AL$9:$AL$68,\"47ULA2C\")=0,COUNTIF('Entry sheet-2-hin'!$AL$9:$AL$68,\"47ULA2\")*4,COUNTIF('Entry sheet-2-hin'!$AL$9:$AL$68,\"47ULA2C\")*4))","v":""},{"$f":"IF(B55=\"\",\"\",IF(AND(COUNTIF('Entry sheet-2-hin'!$AL$9:$AL$68,\"1अबवि\")=0),\"\",COUNTIF('Entry sheet-2-hin'!$AL$9:$AL$68,\"1अबवि\")))","v":""},"",{"$f":"IF(B55=\"\",\"\",IF(AND(COUNTIF('Entry sheet-2-hin'!$AL$9:$AL$68,\"47AOTC\")=0,COUNTIF('Entry sheet-2-hin'!$AL$9:$AL$68,\"47AOT\")=0),\"\",IF(COUNTIF('Entry sheet-2-hin'!$AL$9:$AL$68,\"47AOTC\")=0,COUNTIF('Entry sheet-2-hin'!$AL$9:$AL$68,\"47AOT\"),COUNTIF('Entry sheet-2-hin'!$AL$9:$AL$68,\"47AOTC\")&\"*\")))","v":""},{"$f":"IF(AC55=\"\",\"\",IF(COUNTIF('Entry sheet-2-hin'!$AL$9:$AL$68,\"47AOTC\")=0,COUNTIF('Entry sheet-2-hin'!$AL$9:$AL$68,\"47AOT\")*1,COUNTIF('Entry sheet-2-hin'!$AL$9:$AL$68,\"47AOTC\")*1))","v":""},{"$f":"IF(B55=\"\",\"\",IF(AND(COUNTIF('Entry sheet-2-hin'!$AL$9:$AL$68,\"1अअलउ\")=0),\"\",COUNTIF('Entry sheet-2-hin'!$AL$9:$AL$68,\"1अअलउ\")))","v":""},{"$f":"IF(AE55=\"\",\"\",IF(COUNTIF('Entry sheet-2-hin'!$AL$9:$AL$68,\"47ASA1C\")=0,COUNTIF('Entry sheet-2-hin'!$AL$9:$AL$68,\"47ASA1\")*1,COUNTIF('Entry sheet-2-hin'!$AL$9:$AL$68,\"47ASA1C\")*1))","v":""},{"$f":"IF(B55=\"\",\"\",IF(AND(COUNTIF('Entry sheet-2-hin'!$AL$9:$AL$68,\"47ASA2C\")=0,COUNTIF('Entry sheet-2-hin'!$AL$9:$AL$68,\"47ASA2\")=0),\"\",IF(COUNTIF('Entry sheet-2-hin'!$AL$9:$AL$68,\"47ASA2C\")=0,COUNTIF('Entry sheet-2-hin'!$AL$9:$AL$68,\"47ASA2\"),COUNTIF('Entry sheet-2-hin'!$AL$9:$AL$68,\"47ASA2C\")&\"*\")))","v":""},{"$f":"IF(AG55=\"\",\"\",IF(COUNTIF('Entry sheet-2-hin'!$AL$9:$AL$68,\"47ASA2C\")=0,COUNTIF('Entry sheet-2-hin'!$AL$9:$AL$68,\"47ASA2\")*2,COUNTIF('Entry sheet-2-hin'!$AL$9:$AL$68,\"47ASA2C\")*2))","v":""},{"$f":"IF(B55=\"\",\"\",IF(AND(COUNTIF('Entry sheet-2-hin'!$AL$9:$AL$68,\"47ALA1C\")=0,COUNTIF('Entry sheet-2-hin'!$AL$9:$AL$68,\"47ALA1\")=0),\"\",IF(COUNTIF('Entry sheet-2-hin'!$AL$9:$AL$68,\"47ALA1C\")=0,COUNTIF('Entry sheet-2-hin'!$AL$9:$AL$68,\"47ALA1\"),COUNTIF('Entry sheet-2-hin'!$AL$9:$AL$68,\"47ALA1C\")&\"*\")))","v":""},"",{"$f":"IF(B55=\"\",\"\",IF(AND(COUNTIF('Entry sheet-2-hin'!$AL$9:$AL$68,\"47ALA2C\")=0,COUNTIF('Entry sheet-2-hin'!$AL$9:$AL$68,\"47ALA2\")=0),\"\",IF(COUNTIF('Entry sheet-2-hin'!$AL$9:$AL$68,\"47ALA2C\")=0,COUNTIF('Entry sheet-2-hin'!$AL$9:$AL$68,\"47ALA2\"),COUNTIF('Entry sheet-2-hin'!$AL$9:$AL$68,\"47ALA2C\")&\"*\")))","v":""},{"$f":"IF(AK55=\"\",\"\",IF(COUNTIF('Entry sheet-2-hin'!$AL$9:$AL$68,\"47ALA2C\")=0,COUNTIF('Entry sheet-2-hin'!$AL$9:$AL$68,\"47ALA2\")*4,COUNTIF('Entry sheet-2-hin'!$AL$9:$AL$68,\"47ALA2C\")*4))","v":""},{"$f":"IF(B55=\"\",\"\",IF(AND(COUNTIF('Entry sheet-2-hin'!$AL$9:$AL$68,\"1रसबवि\")=0),\"\",COUNTIF('Entry sheet-2-hin'!$AL$9:$AL$68,\"1रसबवि\")))","v":""},"",{"$f":"IF(B55=\"\",\"\",IF(AND(COUNTIF('Entry sheet-2-hin'!$AL$9:$AL$68,\"47SOTC\")=0,COUNTIF('Entry sheet-2-hin'!$AL$9:$AL$68,\"47SOT\")=0),\"\",IF(COUNTIF('Entry sheet-2-hin'!$AL$9:$AL$68,\"47SOTC\")=0,COUNTIF('Entry sheet-2-hin'!$AL$9:$AL$68,\"47SOT\"),COUNTIF('Entry sheet-2-hin'!$AL$9:$AL$68,\"47SOTC\")&\"*\")))","v":""},{"$f":"IF(AO55=\"\",\"\",IF(COUNTIF('Entry sheet-2-hin'!$AL$9:$AL$68,\"47SOTC\")=0,COUNTIF('Entry sheet-2-hin'!$AL$9:$AL$68,\"47SOT\")*1,COUNTIF('Entry sheet-2-hin'!$AL$9:$AL$68,\"47SOTC\")*1))","v":""},{"$f":"IF(B55=\"\",\"\",IF(AND(COUNTIF('Entry sheet-2-hin'!$AL$9:$AL$68,\"1रसअलउ\")=0),\"\",COUNTIF('Entry sheet-2-hin'!$AL$9:$AL$68,\"1रसअलउ\")))","v":""},{"$f":"IF(AQ55=\"\",\"\",IF(COUNTIF('Entry sheet-2-hin'!$AL$9:$AL$68,\"47SSA1C\")=0,COUNTIF('Entry sheet-2-hin'!$AL$9:$AL$68,\"47SSA1\")*1,COUNTIF('Entry sheet-2-hin'!$AL$9:$AL$68,\"47SSA1C\")*1))","v":""},{"$f":"IF(B55=\"\",\"\",IF(AND(COUNTIF('Entry sheet-2-hin'!$AL$9:$AL$68,\"1रसलउ२\")=0),\"\",COUNTIF('Entry sheet-2-hin'!$AL$9:$AL$68,\"1रसलउ२\")))","v":""},"",{"$f":"IF(B55=\"\",\"\",IF(AND(COUNTIF('Entry sheet-2-hin'!$AL$9:$AL$68,\"47SLA1C\")=0,COUNTIF('Entry sheet-2-hin'!$AL$9:$AL$68,\"47SLA1\")=0),\"\",IF(COUNTIF('Entry sheet-2-hin'!$AL$9:$AL$68,\"47SLA1C\")=0,COUNTIF('Entry sheet-2-hin'!$AL$9:$AL$68,\"47SLA1\"),COUNTIF('Entry sheet-2-hin'!$AL$9:$AL$68,\"47SLA1C\")&\"*\")))","v":""},"",{"$f":"IF(B55=\"\",\"\",IF(AND(COUNTIF('Entry sheet-2-hin'!$AL$9:$AL$68,\"47SLA2C\")=0,COUNTIF('Entry sheet-2-hin'!$AL$9:$AL$68,\"47SLA2\")=0),\"\",IF(COUNTIF('Entry sheet-2-hin'!$AL$9:$AL$68,\"47SLA2C\")=0,COUNTIF('Entry sheet-2-hin'!$AL$9:$AL$68,\"47SLA2\"),COUNTIF('Entry sheet-2-hin'!$AL$9:$AL$68,\"47SLA2C\")&\"*\")))","v":""},"","","","","","","","","","","","","","",""]
[{"$f":"IF('Entry sheet-1-hin'!A57=\"\",\"\",'Entry sheet-1-hin'!A57)","v":""},{"$f":"IF('Entry sheet-1-hin'!B57=\"\",\"\",'Entry sheet-1-hin'!B57)","v":""},{"$f":"IF(B56=\"\",\"\",IF(AND(COUNTIF('Entry sheet-2-hin'!$AL$9:$AL$68,\"48KMCC\")=0,COUNTIF('Entry sheet-2-hin'!$AL$9:$AL$68,\"48KMC\")=0),\"\",IF(COUNTIF('Entry sheet-2-hin'!$AL$9:$AL$68,\"48KMCC\")=0,COUNTIF('Entry sheet-2-hin'!$AL$9:$AL$68,\"48KMC\"),COUNTIF('Entry sheet-2-hin'!$AL$9:$AL$68,\"48KMCC\")&\"*\")))","v":""},{"$f":"IF(C56=\"\",\"\",IF(COUNTIF('Entry sheet-2-hin'!$AL$9:$AL$68,\"48KMCC\")=0,COUNTIF('Entry sheet-2-hin'!$AL$9:$AL$68,\"48KMC\")*1,COUNTIF('Entry sheet-2-hin'!$AL$9:$AL$68,\"48KMCC\")*1))","v":""},{"$f":"IF(B56=\"\",\"\",IF(AND(COUNTIF('Entry sheet-2-hin'!$AL$9:$AL$68,\"48KOTC\")=0,COUNTIF('Entry sheet-2-hin'!$AL$9:$AL$68,\"48KOT\")=0),\"\",IF(COUNTIF('Entry sheet-2-hin'!$AL$9:$AL$68,\"48KOTC\")=0,COUNTIF('Entry sheet-2-hin'!$AL$9:$AL$68,\"48KOT\"),COUNTIF('Entry sheet-2-hin'!$AL$9:$AL$68,\"48KOTC\")&\"*\")))","v":""},{"$f":"IF(E56=\"\",\"\",IF(COUNTIF('Entry sheet-2-hin'!$AL$9:$AL$68,\"48KOTC\")=0,COUNTIF('Entry sheet-2-hin'!$AL$9:$AL$68,\"48KOT\")*1,COUNTIF('Entry sheet-2-hin'!$AL$9:$AL$68,\"48KOTC\")*1))","v":""},{"$f":"IF(B56=\"\",\"\",IF(AND(COUNTIF('Entry sheet-2-hin'!$AL$9:$AL$68,\"48KSA1C\")=0,COUNTIF('Entry sheet-2-hin'!$AL$9:$AL$68,\"48KSA1\")=0),\"\",IF(COUNTIF('Entry sheet-2-hin'!$AL$9:$AL$68,\"48KSA1C\")=0,COUNTIF('Entry sheet-2-hin'!$AL$9:$AL$68,\"48KSA1\"),COUNTIF('Entry sheet-2-hin'!$AL$9:$AL$68,\"48KSA1C\")&\"*\")))","v":""},{"$f":"IF(G56=\"\",\"\",IF(COUNTIF('Entry sheet-2-hin'!$AL$9:$AL$68,\"48KSA1C\")=0,COUNTIF('Entry sheet-2-hin'!$AL$9:$AL$68,\"48KSA1\")*1,COUNTIF('Entry sheet-2-hin'!$AL$9:$AL$68,\"48KSA1C\")*1))","v":""},{"$f":"IF(B56=\"\",\"\",IF(AND(COUNTIF('Entry sheet-2-hin'!$AL$9:$AL$68,\"48KSA2C\")=0,COUNTIF('Entry sheet-2-hin'!$AL$9:$AL$68,\"48KSA2\")=0),\"\",IF(COUNTIF('Entry sheet-2-hin'!$AL$9:$AL$68,\"48KSA2C\")=0,COUNTIF('Entry sheet-2-hin'!$AL$9:$AL$68,\"48KSA2\"),COUNTIF('Entry sheet-2-hin'!$AL$9:$AL$68,\"48KSA2C\")&\"*\")))","v":""},{"$f":"IF(I56=\"\",\"\",IF(COUNTIF('Entry sheet-2-hin'!$AL$9:$AL$68,\"48KSA2C\")=0,COUNTIF('Entry sheet-2-hin'!$AL$9:$AL$68,\"48KSA2\")*2,COUNTIF('Entry sheet-2-hin'!$AL$9:$AL$68,\"48KSA2C\")*2))","v":""},{"$f":"IF(B56=\"\",\"\",IF(AND(COUNTIF('Entry sheet-2-hin'!$AL$9:$AL$68,\"48KLA1C\")=0,COUNTIF('Entry sheet-2-hin'!$AL$9:$AL$68,\"48KLA1\")=0),\"\",IF(COUNTIF('Entry sheet-2-hin'!$AL$9:$AL$68,\"48KLA1C\")=0,COUNTIF('Entry sheet-2-hin'!$AL$9:$AL$68,\"48KLA1\"),COUNTIF('Entry sheet-2-hin'!$AL$9:$AL$68,\"48KLA1C\")&\"*\")))","v":""},{"$f":"IF(K56=\"\",\"\",IF(COUNTIF('Entry sheet-2-hin'!$AL$9:$AL$68,\"48KLA1C\")=0,COUNTIF('Entry sheet-2-hin'!$AL$9:$AL$68,\"48KLA1\")*3,COUNTIF('Entry sheet-2-hin'!$AL$9:$AL$68,\"48KLA1C\")*3))","v":""},{"$f":"IF(B56=\"\",\"\",IF(AND(COUNTIF('Entry sheet-2-hin'!$AL$9:$AL$68,\"1स्मदीउ४\")=0),\"\",COUNTIF('Entry sheet-2-hin'!$AL$9:$AL$68,\"1स्मदीउ४\")))","v":""},"",{"$f":"IF(B56=\"\",\"\",IF(AND(COUNTIF('Entry sheet-2-hin'!$AL$9:$AL$68,\"48UMCC\")=0,COUNTIF('Entry sheet-2-hin'!$AL$9:$AL$68,\"48UMC\")=0),\"\",IF(COUNTIF('Entry sheet-2-hin'!$AL$9:$AL$68,\"48UMCC\")=0,COUNTIF('Entry sheet-2-hin'!$AL$9:$AL$68,\"48UMC\"),COUNTIF('Entry sheet-2-hin'!$AL$9:$AL$68,\"48UMCC\")&\"*\")))","v":""},{"$f":"IF(O56=\"\",\"\",IF(COUNTIF('Entry sheet-2-hin'!$AL$9:$AL$68,\"48UMCC\")=0,COUNTIF('Entry sheet-2-hin'!$AL$9:$AL$68,\"48UMC\")*1,COUNTIF('Entry sheet-2-hin'!$AL$9:$AL$68,\"48UMCC\")*1))","v":""},{"$f":"IF(B56=\"\",\"\",IF(AND(COUNTIF('Entry sheet-2-hin'!$AL$9:$AL$68,\"1समवनि\")=0),\"\",COUNTIF('Entry sheet-2-hin'!$AL$9:$AL$68,\"1समवनि\")))","v":""},{"$f":"IF(Q56=\"\",\"\",IF(COUNTIF('Entry sheet-2-hin'!$AL$9:$AL$68,\"48UOTC\")=0,COUNTIF('Entry sheet-2-hin'!$AL$9:$AL$68,\"48UOT\")*1,COUNTIF('Entry sheet-2-hin'!$AL$9:$AL$68,\"48UOTC\")*1))","v":""},{"$f":"IF(B56=\"\",\"\",IF(AND(COUNTIF('Entry sheet-2-hin'!$AL$9:$AL$68,\"1समअलउ\")=0),\"\",COUNTIF('Entry sheet-2-hin'!$AL$9:$AL$68,\"1समअलउ\")))","v":""},{"$f":"IF(S56=\"\",\"\",IF(COUNTIF('Entry sheet-2-hin'!$AL$9:$AL$68,\"48USA1C\")=0,COUNTIF('Entry sheet-2-hin'!$AL$9:$AL$68,\"48USA1\")*1,COUNTIF('Entry sheet-2-hin'!$AL$9:$AL$68,\"48USA1C\")*1))","v":""},{"$f":"IF(B56=\"\",\"\",IF(AND(COUNTIF('Entry sheet-2-hin'!$AL$9:$AL$68,\"48USA2C\")=0,COUNTIF('Entry sheet-2-hin'!$AL$9:$AL$68,\"48USA2\")=0),\"\",IF(COUNTIF('Entry sheet-2-hin'!$AL$9:$AL$68,\"48USA2C\")=0,COUNTIF('Entry sheet-2-hin'!$AL$9:$AL$68,\"48USA2\"),COUNTIF('Entry sheet-2-hin'!$AL$9:$AL$68,\"48USA2C\")&\"*\")))","v":""},{"$f":"IF(U56=\"\",\"\",IF(COUNTIF('Entry sheet-2-hin'!$AL$9:$AL$68,\"48USA2C\")=0,COUNTIF('Entry sheet-2-hin'!$AL$9:$AL$68,\"48USA2\")*2,COUNTIF('Entry sheet-2-hin'!$AL$9:$AL$68,\"48USA2C\")*2))","v":""},{"$f":"IF(B56=\"\",\"\",IF(AND(COUNTIF('Entry sheet-2-hin'!$AL$9:$AL$68,\"48ULA1C\")=0,COUNTIF('Entry sheet-2-hin'!$AL$9:$AL$68,\"48ULA1\")=0),\"\",IF(COUNTIF('Entry sheet-2-hin'!$AL$9:$AL$68,\"48ULA1C\")=0,COUNTIF('Entry sheet-2-hin'!$AL$9:$AL$68,\"48ULA1\"),COUNTIF('Entry sheet-2-hin'!$AL$9:$AL$68,\"48ULA1C\")&\"*\")))","v":""},{"$f":"IF(W56=\"\",\"\",IF(COUNTIF('Entry sheet-2-hin'!$AL$9:$AL$68,\"48ULA1C\")=0,COUNTIF('Entry sheet-2-hin'!$AL$9:$AL$68,\"48ULA1\")*3,COUNTIF('Entry sheet-2-hin'!$AL$9:$AL$68,\"48ULA1C\")*3))","v":""},{"$f":"IF(B56=\"\",\"\",IF(AND(COUNTIF('Entry sheet-2-hin'!$AL$9:$AL$68,\"1समदीउ४\")=0),\"\",COUNTIF('Entry sheet-2-hin'!$AL$9:$AL$68,\"1समदीउ४\")))","v":""},{"$f":"IF(Y56=\"\",\"\",IF(COUNTIF('Entry sheet-2-hin'!$AL$9:$AL$68,\"48ULA2C\")=0,COUNTIF('Entry sheet-2-hin'!$AL$9:$AL$68,\"48ULA2\")*4,COUNTIF('Entry sheet-2-hin'!$AL$9:$AL$68,\"48ULA2C\")*4))","v":""},{"$f":"IF(B56=\"\",\"\",IF(AND(COUNTIF('Entry sheet-2-hin'!$AL$9:$AL$68,\"1अबवि\")=0),\"\",COUNTIF('Entry sheet-2-hin'!$AL$9:$AL$68,\"1अबवि\")))","v":""},"",{"$f":"IF(B56=\"\",\"\",IF(AND(COUNTIF('Entry sheet-2-hin'!$AL$9:$AL$68,\"48AOTC\")=0,COUNTIF('Entry sheet-2-hin'!$AL$9:$AL$68,\"48AOT\")=0),\"\",IF(COUNTIF('Entry sheet-2-hin'!$AL$9:$AL$68,\"48AOTC\")=0,COUNTIF('Entry sheet-2-hin'!$AL$9:$AL$68,\"48AOT\"),COUNTIF('Entry sheet-2-hin'!$AL$9:$AL$68,\"48AOTC\")&\"*\")))","v":""},{"$f":"IF(AC56=\"\",\"\",IF(COUNTIF('Entry sheet-2-hin'!$AL$9:$AL$68,\"48AOTC\")=0,COUNTIF('Entry sheet-2-hin'!$AL$9:$AL$68,\"48AOT\")*1,COUNTIF('Entry sheet-2-hin'!$AL$9:$AL$68,\"48AOTC\")*1))","v":""},{"$f":"IF(B56=\"\",\"\",IF(AND(COUNTIF('Entry sheet-2-hin'!$AL$9:$AL$68,\"1अअलउ\")=0),\"\",COUNTIF('Entry sheet-2-hin'!$AL$9:$AL$68,\"1अअलउ\")))","v":""},{"$f":"IF(AE56=\"\",\"\",IF(COUNTIF('Entry sheet-2-hin'!$AL$9:$AL$68,\"48ASA1C\")=0,COUNTIF('Entry sheet-2-hin'!$AL$9:$AL$68,\"48ASA1\")*1,COUNTIF('Entry sheet-2-hin'!$AL$9:$AL$68,\"48ASA1C\")*1))","v":""},{"$f":"IF(B56=\"\",\"\",IF(AND(COUNTIF('Entry sheet-2-hin'!$AL$9:$AL$68,\"48ASA2C\")=0,COUNTIF('Entry sheet-2-hin'!$AL$9:$AL$68,\"48ASA2\")=0),\"\",IF(COUNTIF('Entry sheet-2-hin'!$AL$9:$AL$68,\"48ASA2C\")=0,COUNTIF('Entry sheet-2-hin'!$AL$9:$AL$68,\"48ASA2\"),COUNTIF('Entry sheet-2-hin'!$AL$9:$AL$68,\"48ASA2C\")&\"*\")))","v":""},{"$f":"IF(AG56=\"\",\"\",IF(COUNTIF('Entry sheet-2-hin'!$AL$9:$AL$68,\"48ASA2C\")=0,COUNTIF('Entry sheet-2-hin'!$AL$9:$AL$68,\"48ASA2\")*2,COUNTIF('Entry sheet-2-hin'!$AL$9:$AL$68,\"48ASA2C\")*2))","v":""},{"$f":"IF(B56=\"\",\"\",IF(AND(COUNTIF('Entry sheet-2-hin'!$AL$9:$AL$68,\"48ALA1C\")=0,COUNTIF('Entry sheet-2-hin'!$AL$9:$AL$68,\"48ALA1\")=0),\"\",IF(COUNTIF('Entry sheet-2-hin'!$AL$9:$AL$68,\"48ALA1C\")=0,COUNTIF('Entry sheet-2-hin'!$AL$9:$AL$68,\"48ALA1\"),COUNTIF('Entry sheet-2-hin'!$AL$9:$AL$68,\"48ALA1C\")&\"*\")))","v":""},"",{"$f":"IF(B56=\"\",\"\",IF(AND(COUNTIF('Entry sheet-2-hin'!$AL$9:$AL$68,\"48ALA2C\")=0,COUNTIF('Entry sheet-2-hin'!$AL$9:$AL$68,\"48ALA2\")=0),\"\",IF(COUNTIF('Entry sheet-2-hin'!$AL$9:$AL$68,\"48ALA2C\")=0,COUNTIF('Entry sheet-2-hin'!$AL$9:$AL$68,\"48ALA2\"),COUNTIF('Entry sheet-2-hin'!$AL$9:$AL$68,\"48ALA2C\")&\"*\")))","v":""},{"$f":"IF(AK56=\"\",\"\",IF(COUNTIF('Entry sheet-2-hin'!$AL$9:$AL$68,\"48ALA2C\")=0,COUNTIF('Entry sheet-2-hin'!$AL$9:$AL$68,\"48ALA2\")*4,COUNTIF('Entry sheet-2-hin'!$AL$9:$AL$68,\"48ALA2C\")*4))","v":""},{"$f":"IF(B56=\"\",\"\",IF(AND(COUNTIF('Entry sheet-2-hin'!$AL$9:$AL$68,\"1रसबवि\")=0),\"\",COUNTIF('Entry sheet-2-hin'!$AL$9:$AL$68,\"1रसबवि\")))","v":""},"",{"$f":"IF(B56=\"\",\"\",IF(AND(COUNTIF('Entry sheet-2-hin'!$AL$9:$AL$68,\"48SOTC\")=0,COUNTIF('Entry sheet-2-hin'!$AL$9:$AL$68,\"48SOT\")=0),\"\",IF(COUNTIF('Entry sheet-2-hin'!$AL$9:$AL$68,\"48SOTC\")=0,COUNTIF('Entry sheet-2-hin'!$AL$9:$AL$68,\"48SOT\"),COUNTIF('Entry sheet-2-hin'!$AL$9:$AL$68,\"48SOTC\")&\"*\")))","v":""},{"$f":"IF(AO56=\"\",\"\",IF(COUNTIF('Entry sheet-2-hin'!$AL$9:$AL$68,\"48SOTC\")=0,COUNTIF('Entry sheet-2-hin'!$AL$9:$AL$68,\"48SOT\")*1,COUNTIF('Entry sheet-2-hin'!$AL$9:$AL$68,\"48SOTC\")*1))","v":""},{"$f":"IF(B56=\"\",\"\",IF(AND(COUNTIF('Entry sheet-2-hin'!$AL$9:$AL$68,\"1रसअलउ\")=0),\"\",COUNTIF('Entry sheet-2-hin'!$AL$9:$AL$68,\"1रसअलउ\")))","v":""},{"$f":"IF(AQ56=\"\",\"\",IF(COUNTIF('Entry sheet-2-hin'!$AL$9:$AL$68,\"48SSA1C\")=0,COUNTIF('Entry sheet-2-hin'!$AL$9:$AL$68,\"48SSA1\")*1,COUNTIF('Entry sheet-2-hin'!$AL$9:$AL$68,\"48SSA1C\")*1))","v":""},{"$f":"IF(B56=\"\",\"\",IF(AND(COUNTIF('Entry sheet-2-hin'!$AL$9:$AL$68,\"1रसलउ२\")=0),\"\",COUNTIF('Entry sheet-2-hin'!$AL$9:$AL$68,\"1रसलउ२\")))","v":""},"",{"$f":"IF(B56=\"\",\"\",IF(AND(COUNTIF('Entry sheet-2-hin'!$AL$9:$AL$68,\"48SLA1C\")=0,COUNTIF('Entry sheet-2-hin'!$AL$9:$AL$68,\"48SLA1\")=0),\"\",IF(COUNTIF('Entry sheet-2-hin'!$AL$9:$AL$68,\"48SLA1C\")=0,COUNTIF('Entry sheet-2-hin'!$AL$9:$AL$68,\"48SLA1\"),COUNTIF('Entry sheet-2-hin'!$AL$9:$AL$68,\"48SLA1C\")&\"*\")))","v":""},"",{"$f":"IF(B56=\"\",\"\",IF(AND(COUNTIF('Entry sheet-2-hin'!$AL$9:$AL$68,\"48SLA2C\")=0,COUNTIF('Entry sheet-2-hin'!$AL$9:$AL$68,\"48SLA2\")=0),\"\",IF(COUNTIF('Entry sheet-2-hin'!$AL$9:$AL$68,\"48SLA2C\")=0,COUNTIF('Entry sheet-2-hin'!$AL$9:$AL$68,\"48SLA2\"),COUNTIF('Entry sheet-2-hin'!$AL$9:$AL$68,\"48SLA2C\")&\"*\")))","v":""},"","","","","","","","","","","","","","",""]
[{"$f":"IF('Entry sheet-1-hin'!A58=\"\",\"\",'Entry sheet-1-hin'!A58)","v":""},{"$f":"IF('Entry sheet-1-hin'!B58=\"\",\"\",'Entry sheet-1-hin'!B58)","v":""},{"$f":"IF(B57=\"\",\"\",IF(AND(COUNTIF('Entry sheet-2-hin'!$AL$9:$AL$68,\"49KMCC\")=0,COUNTIF('Entry sheet-2-hin'!$AL$9:$AL$68,\"49KMC\")=0),\"\",IF(COUNTIF('Entry sheet-2-hin'!$AL$9:$AL$68,\"49KMCC\")=0,COUNTIF('Entry sheet-2-hin'!$AL$9:$AL$68,\"49KMC\"),COUNTIF('Entry sheet-2-hin'!$AL$9:$AL$68,\"49KMCC\")&\"*\")))","v":""},{"$f":"IF(C57=\"\",\"\",IF(COUNTIF('Entry sheet-2-hin'!$AL$9:$AL$68,\"49KMCC\")=0,COUNTIF('Entry sheet-2-hin'!$AL$9:$AL$68,\"49KMC\")*1,COUNTIF('Entry sheet-2-hin'!$AL$9:$AL$68,\"49KMCC\")*1))","v":""},{"$f":"IF(B57=\"\",\"\",IF(AND(COUNTIF('Entry sheet-2-hin'!$AL$9:$AL$68,\"49KOTC\")=0,COUNTIF('Entry sheet-2-hin'!$AL$9:$AL$68,\"49KOT\")=0),\"\",IF(COUNTIF('Entry sheet-2-hin'!$AL$9:$AL$68,\"49KOTC\")=0,COUNTIF('Entry sheet-2-hin'!$AL$9:$AL$68,\"49KOT\"),COUNTIF('Entry sheet-2-hin'!$AL$9:$AL$68,\"49KOTC\")&\"*\")))","v":""},{"$f":"IF(E57=\"\",\"\",IF(COUNTIF('Entry sheet-2-hin'!$AL$9:$AL$68,\"49KOTC\")=0,COUNTIF('Entry sheet-2-hin'!$AL$9:$AL$68,\"49KOT\")*1,COUNTIF('Entry sheet-2-hin'!$AL$9:$AL$68,\"49KOTC\")*1))","v":""},{"$f":"IF(B57=\"\",\"\",IF(AND(COUNTIF('Entry sheet-2-hin'!$AL$9:$AL$68,\"49KSA1C\")=0,COUNTIF('Entry sheet-2-hin'!$AL$9:$AL$68,\"49KSA1\")=0),\"\",IF(COUNTIF('Entry sheet-2-hin'!$AL$9:$AL$68,\"49KSA1C\")=0,COUNTIF('Entry sheet-2-hin'!$AL$9:$AL$68,\"49KSA1\"),COUNTIF('Entry sheet-2-hin'!$AL$9:$AL$68,\"49KSA1C\")&\"*\")))","v":""},{"$f":"IF(G57=\"\",\"\",IF(COUNTIF('Entry sheet-2-hin'!$AL$9:$AL$68,\"49KSA1C\")=0,COUNTIF('Entry sheet-2-hin'!$AL$9:$AL$68,\"49KSA1\")*1,COUNTIF('Entry sheet-2-hin'!$AL$9:$AL$68,\"49KSA1C\")*1))","v":""},{"$f":"IF(B57=\"\",\"\",IF(AND(COUNTIF('Entry sheet-2-hin'!$AL$9:$AL$68,\"49KSA2C\")=0,COUNTIF('Entry sheet-2-hin'!$AL$9:$AL$68,\"49KSA2\")=0),\"\",IF(COUNTIF('Entry sheet-2-hin'!$AL$9:$AL$68,\"49KSA2C\")=0,COUNTIF('Entry sheet-2-hin'!$AL$9:$AL$68,\"49KSA2\"),COUNTIF('Entry sheet-2-hin'!$AL$9:$AL$68,\"49KSA2C\")&\"*\")))","v":""},{"$f":"IF(I57=\"\",\"\",IF(COUNTIF('Entry sheet-2-hin'!$AL$9:$AL$68,\"49KSA2C\")=0,COUNTIF('Entry sheet-2-hin'!$AL$9:$AL$68,\"49KSA2\")*2,COUNTIF('Entry sheet-2-hin'!$AL$9:$AL$68,\"49KSA2C\")*2))","v":""},{"$f":"IF(B57=\"\",\"\",IF(AND(COUNTIF('Entry sheet-2-hin'!$AL$9:$AL$68,\"49KLA1C\")=0,COUNTIF('Entry sheet-2-hin'!$AL$9:$AL$68,\"49KLA1\")=0),\"\",IF(COUNTIF('Entry sheet-2-hin'!$AL$9:$AL$68,\"49KLA1C\")=0,COUNTIF('Entry sheet-2-hin'!$AL$9:$AL$68,\"49KLA1\"),COUNTIF('Entry sheet-2-hin'!$AL$9:$AL$68,\"49KLA1C\")&\"*\")))","v":""},{"$f":"IF(K57=\"\",\"\",IF(COUNTIF('Entry sheet-2-hin'!$AL$9:$AL$68,\"49KLA1C\")=0,COUNTIF('Entry sheet-2-hin'!$AL$9:$AL$68,\"49KLA1\")*3,COUNTIF('Entry sheet-2-hin'!$AL$9:$AL$68,\"49KLA1C\")*3))","v":""},{"$f":"IF(B57=\"\",\"\",IF(AND(COUNTIF('Entry sheet-2-hin'!$AL$9:$AL$68,\"1स्मदीउ४\")=0),\"\",COUNTIF('Entry sheet-2-hin'!$AL$9:$AL$68,\"1स्मदीउ४\")))","v":""},"",{"$f":"IF(B57=\"\",\"\",IF(AND(COUNTIF('Entry sheet-2-hin'!$AL$9:$AL$68,\"49UMCC\")=0,COUNTIF('Entry sheet-2-hin'!$AL$9:$AL$68,\"49UMC\")=0),\"\",IF(COUNTIF('Entry sheet-2-hin'!$AL$9:$AL$68,\"49UMCC\")=0,COUNTIF('Entry sheet-2-hin'!$AL$9:$AL$68,\"49UMC\"),COUNTIF('Entry sheet-2-hin'!$AL$9:$AL$68,\"49UMCC\")&\"*\")))","v":""},{"$f":"IF(O57=\"\",\"\",IF(COUNTIF('Entry sheet-2-hin'!$AL$9:$AL$68,\"49UMCC\")=0,COUNTIF('Entry sheet-2-hin'!$AL$9:$AL$68,\"49UMC\")*1,COUNTIF('Entry sheet-2-hin'!$AL$9:$AL$68,\"49UMCC\")*1))","v":""},{"$f":"IF(B57=\"\",\"\",IF(AND(COUNTIF('Entry sheet-2-hin'!$AL$9:$AL$68,\"1समवनि\")=0),\"\",COUNTIF('Entry sheet-2-hin'!$AL$9:$AL$68,\"1समवनि\")))","v":""},{"$f":"IF(Q57=\"\",\"\",IF(COUNTIF('Entry sheet-2-hin'!$AL$9:$AL$68,\"49UOTC\")=0,COUNTIF('Entry sheet-2-hin'!$AL$9:$AL$68,\"49UOT\")*1,COUNTIF('Entry sheet-2-hin'!$AL$9:$AL$68,\"49UOTC\")*1))","v":""},{"$f":"IF(B57=\"\",\"\",IF(AND(COUNTIF('Entry sheet-2-hin'!$AL$9:$AL$68,\"1समअलउ\")=0),\"\",COUNTIF('Entry sheet-2-hin'!$AL$9:$AL$68,\"1समअलउ\")))","v":""},{"$f":"IF(S57=\"\",\"\",IF(COUNTIF('Entry sheet-2-hin'!$AL$9:$AL$68,\"49USA1C\")=0,COUNTIF('Entry sheet-2-hin'!$AL$9:$AL$68,\"49USA1\")*1,COUNTIF('Entry sheet-2-hin'!$AL$9:$AL$68,\"49USA1C\")*1))","v":""},{"$f":"IF(B57=\"\",\"\",IF(AND(COUNTIF('Entry sheet-2-hin'!$AL$9:$AL$68,\"49USA2C\")=0,COUNTIF('Entry sheet-2-hin'!$AL$9:$AL$68,\"49USA2\")=0),\"\",IF(COUNTIF('Entry sheet-2-hin'!$AL$9:$AL$68,\"49USA2C\")=0,COUNTIF('Entry sheet-2-hin'!$AL$9:$AL$68,\"49USA2\"),COUNTIF('Entry sheet-2-hin'!$AL$9:$AL$68,\"49USA2C\")&\"*\")))","v":""},{"$f":"IF(U57=\"\",\"\",IF(COUNTIF('Entry sheet-2-hin'!$AL$9:$AL$68,\"49USA2C\")=0,COUNTIF('Entry sheet-2-hin'!$AL$9:$AL$68,\"49USA2\")*2,COUNTIF('Entry sheet-2-hin'!$AL$9:$AL$68,\"49USA2C\")*2))","v":""},{"$f":"IF(B57=\"\",\"\",IF(AND(COUNTIF('Entry sheet-2-hin'!$AL$9:$AL$68,\"49ULA1C\")=0,COUNTIF('Entry sheet-2-hin'!$AL$9:$AL$68,\"49ULA1\")=0),\"\",IF(COUNTIF('Entry sheet-2-hin'!$AL$9:$AL$68,\"49ULA1C\")=0,COUNTIF('Entry sheet-2-hin'!$AL$9:$AL$68,\"49ULA1\"),COUNTIF('Entry sheet-2-hin'!$AL$9:$AL$68,\"49ULA1C\")&\"*\")))","v":""},{"$f":"IF(W57=\"\",\"\",IF(COUNTIF('Entry sheet-2-hin'!$AL$9:$AL$68,\"49ULA1C\")=0,COUNTIF('Entry sheet-2-hin'!$AL$9:$AL$68,\"49ULA1\")*3,COUNTIF('Entry sheet-2-hin'!$AL$9:$AL$68,\"49ULA1C\")*3))","v":""},{"$f":"IF(B57=\"\",\"\",IF(AND(COUNTIF('Entry sheet-2-hin'!$AL$9:$AL$68,\"1समदीउ४\")=0),\"\",COUNTIF('Entry sheet-2-hin'!$AL$9:$AL$68,\"1समदीउ४\")))","v":""},{"$f":"IF(Y57=\"\",\"\",IF(COUNTIF('Entry sheet-2-hin'!$AL$9:$AL$68,\"49ULA2C\")=0,COUNTIF('Entry sheet-2-hin'!$AL$9:$AL$68,\"49ULA2\")*4,COUNTIF('Entry sheet-2-hin'!$AL$9:$AL$68,\"49ULA2C\")*4))","v":""},{"$f":"IF(B57=\"\",\"\",IF(AND(COUNTIF('Entry sheet-2-hin'!$AL$9:$AL$68,\"1अबवि\")=0),\"\",COUNTIF('Entry sheet-2-hin'!$AL$9:$AL$68,\"1अबवि\")))","v":""},"",{"$f":"IF(B57=\"\",\"\",IF(AND(COUNTIF('Entry sheet-2-hin'!$AL$9:$AL$68,\"49AOTC\")=0,COUNTIF('Entry sheet-2-hin'!$AL$9:$AL$68,\"49AOT\")=0),\"\",IF(COUNTIF('Entry sheet-2-hin'!$AL$9:$AL$68,\"49AOTC\")=0,COUNTIF('Entry sheet-2-hin'!$AL$9:$AL$68,\"49AOT\"),COUNTIF('Entry sheet-2-hin'!$AL$9:$AL$68,\"49AOTC\")&\"*\")))","v":""},{"$f":"IF(AC57=\"\",\"\",IF(COUNTIF('Entry sheet-2-hin'!$AL$9:$AL$68,\"49AOTC\")=0,COUNTIF('Entry sheet-2-hin'!$AL$9:$AL$68,\"49AOT\")*1,COUNTIF('Entry sheet-2-hin'!$AL$9:$AL$68,\"49AOTC\")*1))","v":""},{"$f":"IF(B57=\"\",\"\",IF(AND(COUNTIF('Entry sheet-2-hin'!$AL$9:$AL$68,\"1अअलउ\")=0),\"\",COUNTIF('Entry sheet-2-hin'!$AL$9:$AL$68,\"1अअलउ\")))","v":""},{"$f":"IF(AE57=\"\",\"\",IF(COUNTIF('Entry sheet-2-hin'!$AL$9:$AL$68,\"49ASA1C\")=0,COUNTIF('Entry sheet-2-hin'!$AL$9:$AL$68,\"49ASA1\")*1,COUNTIF('Entry sheet-2-hin'!$AL$9:$AL$68,\"49ASA1C\")*1))","v":""},{"$f":"IF(B57=\"\",\"\",IF(AND(COUNTIF('Entry sheet-2-hin'!$AL$9:$AL$68,\"49ASA2C\")=0,COUNTIF('Entry sheet-2-hin'!$AL$9:$AL$68,\"49ASA2\")=0),\"\",IF(COUNTIF('Entry sheet-2-hin'!$AL$9:$AL$68,\"49ASA2C\")=0,COUNTIF('Entry sheet-2-hin'!$AL$9:$AL$68,\"49ASA2\"),COUNTIF('Entry sheet-2-hin'!$AL$9:$AL$68,\"49ASA2C\")&\"*\")))","v":""},{"$f":"IF(AG57=\"\",\"\",IF(COUNTIF('Entry sheet-2-hin'!$AL$9:$AL$68,\"49ASA2C\")=0,COUNTIF('Entry sheet-2-hin'!$AL$9:$AL$68,\"49ASA2\")*2,COUNTIF('Entry sheet-2-hin'!$AL$9:$AL$68,\"49ASA2C\")*2))","v":""},{"$f":"IF(B57=\"\",\"\",IF(AND(COUNTIF('Entry sheet-2-hin'!$AL$9:$AL$68,\"49ALA1C\")=0,COUNTIF('Entry sheet-2-hin'!$AL$9:$AL$68,\"49ALA1\")=0),\"\",IF(COUNTIF('Entry sheet-2-hin'!$AL$9:$AL$68,\"49ALA1C\")=0,COUNTIF('Entry sheet-2-hin'!$AL$9:$AL$68,\"49ALA1\"),COUNTIF('Entry sheet-2-hin'!$AL$9:$AL$68,\"49ALA1C\")&\"*\")))","v":""},"",{"$f":"IF(B57=\"\",\"\",IF(AND(COUNTIF('Entry sheet-2-hin'!$AL$9:$AL$68,\"49ALA2C\")=0,COUNTIF('Entry sheet-2-hin'!$AL$9:$AL$68,\"49ALA2\")=0),\"\",IF(COUNTIF('Entry sheet-2-hin'!$AL$9:$AL$68,\"49ALA2C\")=0,COUNTIF('Entry sheet-2-hin'!$AL$9:$AL$68,\"49ALA2\"),COUNTIF('Entry sheet-2-hin'!$AL$9:$AL$68,\"49ALA2C\")&\"*\")))","v":""},{"$f":"IF(AK57=\"\",\"\",IF(COUNTIF('Entry sheet-2-hin'!$AL$9:$AL$68,\"49ALA2C\")=0,COUNTIF('Entry sheet-2-hin'!$AL$9:$AL$68,\"49ALA2\")*4,COUNTIF('Entry sheet-2-hin'!$AL$9:$AL$68,\"49ALA2C\")*4))","v":""},{"$f":"IF(B57=\"\",\"\",IF(AND(COUNTIF('Entry sheet-2-hin'!$AL$9:$AL$68,\"1रसबवि\")=0),\"\",COUNTIF('Entry sheet-2-hin'!$AL$9:$AL$68,\"1रसबवि\")))","v":""},"",{"$f":"IF(B57=\"\",\"\",IF(AND(COUNTIF('Entry sheet-2-hin'!$AL$9:$AL$68,\"49SOTC\")=0,COUNTIF('Entry sheet-2-hin'!$AL$9:$AL$68,\"49SOT\")=0),\"\",IF(COUNTIF('Entry sheet-2-hin'!$AL$9:$AL$68,\"49SOTC\")=0,COUNTIF('Entry sheet-2-hin'!$AL$9:$AL$68,\"49SOT\"),COUNTIF('Entry sheet-2-hin'!$AL$9:$AL$68,\"49SOTC\")&\"*\")))","v":""},{"$f":"IF(AO57=\"\",\"\",IF(COUNTIF('Entry sheet-2-hin'!$AL$9:$AL$68,\"49SOTC\")=0,COUNTIF('Entry sheet-2-hin'!$AL$9:$AL$68,\"49SOT\")*1,COUNTIF('Entry sheet-2-hin'!$AL$9:$AL$68,\"49SOTC\")*1))","v":""},{"$f":"IF(B57=\"\",\"\",IF(AND(COUNTIF('Entry sheet-2-hin'!$AL$9:$AL$68,\"1रसअलउ\")=0),\"\",COUNTIF('Entry sheet-2-hin'!$AL$9:$AL$68,\"1रसअलउ\")))","v":""},{"$f":"IF(AQ57=\"\",\"\",IF(COUNTIF('Entry sheet-2-hin'!$AL$9:$AL$68,\"49SSA1C\")=0,COUNTIF('Entry sheet-2-hin'!$AL$9:$AL$68,\"49SSA1\")*1,COUNTIF('Entry sheet-2-hin'!$AL$9:$AL$68,\"49SSA1C\")*1))","v":""},{"$f":"IF(B57=\"\",\"\",IF(AND(COUNTIF('Entry sheet-2-hin'!$AL$9:$AL$68,\"1रसलउ२\")=0),\"\",COUNTIF('Entry sheet-2-hin'!$AL$9:$AL$68,\"1रसलउ२\")))","v":""},"",{"$f":"IF(B57=\"\",\"\",IF(AND(COUNTIF('Entry sheet-2-hin'!$AL$9:$AL$68,\"49SLA1C\")=0,COUNTIF('Entry sheet-2-hin'!$AL$9:$AL$68,\"49SLA1\")=0),\"\",IF(COUNTIF('Entry sheet-2-hin'!$AL$9:$AL$68,\"49SLA1C\")=0,COUNTIF('Entry sheet-2-hin'!$AL$9:$AL$68,\"49SLA1\"),COUNTIF('Entry sheet-2-hin'!$AL$9:$AL$68,\"49SLA1C\")&\"*\")))","v":""},"",{"$f":"IF(B57=\"\",\"\",IF(AND(COUNTIF('Entry sheet-2-hin'!$AL$9:$AL$68,\"49SLA2C\")=0,COUNTIF('Entry sheet-2-hin'!$AL$9:$AL$68,\"49SLA2\")=0),\"\",IF(COUNTIF('Entry sheet-2-hin'!$AL$9:$AL$68,\"49SLA2C\")=0,COUNTIF('Entry sheet-2-hin'!$AL$9:$AL$68,\"49SLA2\"),COUNTIF('Entry sheet-2-hin'!$AL$9:$AL$68,\"49SLA2C\")&\"*\")))","v":""},"","","","","","","","","","","","","","",""]
[{"$f":"IF('Entry sheet-1-hin'!A59=\"\",\"\",'Entry sheet-1-hin'!A59)","v":""},{"$f":"IF('Entry sheet-1-hin'!B59=\"\",\"\",'Entry sheet-1-hin'!B59)","v":""},{"$f":"IF(B58=\"\",\"\",IF(AND(COUNTIF('Entry sheet-2-hin'!$AL$9:$AL$68,\"50KMCC\")=0,COUNTIF('Entry sheet-2-hin'!$AL$9:$AL$68,\"50KMC\")=0),\"\",IF(COUNTIF('Entry sheet-2-hin'!$AL$9:$AL$68,\"50KMCC\")=0,COUNTIF('Entry sheet-2-hin'!$AL$9:$AL$68,\"50KMC\"),COUNTIF('Entry sheet-2-hin'!$AL$9:$AL$68,\"50KMCC\")&\"*\")))","v":""},{"$f":"IF(C58=\"\",\"\",IF(COUNTIF('Entry sheet-2-hin'!$AL$9:$AL$68,\"50KMCC\")=0,COUNTIF('Entry sheet-2-hin'!$AL$9:$AL$68,\"50KMC\")*1,COUNTIF('Entry sheet-2-hin'!$AL$9:$AL$68,\"50KMCC\")*1))","v":""},{"$f":"IF(B58=\"\",\"\",IF(AND(COUNTIF('Entry sheet-2-hin'!$AL$9:$AL$68,\"50KOTC\")=0,COUNTIF('Entry sheet-2-hin'!$AL$9:$AL$68,\"50KOT\")=0),\"\",IF(COUNTIF('Entry sheet-2-hin'!$AL$9:$AL$68,\"50KOTC\")=0,COUNTIF('Entry sheet-2-hin'!$AL$9:$AL$68,\"50KOT\"),COUNTIF('Entry sheet-2-hin'!$AL$9:$AL$68,\"50KOTC\")&\"*\")))","v":""},{"$f":"IF(E58=\"\",\"\",IF(COUNTIF('Entry sheet-2-hin'!$AL$9:$AL$68,\"50KOTC\")=0,COUNTIF('Entry sheet-2-hin'!$AL$9:$AL$68,\"50KOT\")*1,COUNTIF('Entry sheet-2-hin'!$AL$9:$AL$68,\"50KOTC\")*1))","v":""},{"$f":"IF(B58=\"\",\"\",IF(AND(COUNTIF('Entry sheet-2-hin'!$AL$9:$AL$68,\"50KSA1C\")=0,COUNTIF('Entry sheet-2-hin'!$AL$9:$AL$68,\"50KSA1\")=0),\"\",IF(COUNTIF('Entry sheet-2-hin'!$AL$9:$AL$68,\"50KSA1C\")=0,COUNTIF('Entry sheet-2-hin'!$AL$9:$AL$68,\"50KSA1\"),COUNTIF('Entry sheet-2-hin'!$AL$9:$AL$68,\"50KSA1C\")&\"*\")))","v":""},{"$f":"IF(G58=\"\",\"\",IF(COUNTIF('Entry sheet-2-hin'!$AL$9:$AL$68,\"50KSA1C\")=0,COUNTIF('Entry sheet-2-hin'!$AL$9:$AL$68,\"50KSA1\")*1,COUNTIF('Entry sheet-2-hin'!$AL$9:$AL$68,\"50KSA1C\")*1))","v":""},{"$f":"IF(B58=\"\",\"\",IF(AND(COUNTIF('Entry sheet-2-hin'!$AL$9:$AL$68,\"50KSA2C\")=0,COUNTIF('Entry sheet-2-hin'!$AL$9:$AL$68,\"50KSA2\")=0),\"\",IF(COUNTIF('Entry sheet-2-hin'!$AL$9:$AL$68,\"50KSA2C\")=0,COUNTIF('Entry sheet-2-hin'!$AL$9:$AL$68,\"50KSA2\"),COUNTIF('Entry sheet-2-hin'!$AL$9:$AL$68,\"50KSA2C\")&\"*\")))","v":""},{"$f":"IF(I58=\"\",\"\",IF(COUNTIF('Entry sheet-2-hin'!$AL$9:$AL$68,\"50KSA2C\")=0,COUNTIF('Entry sheet-2-hin'!$AL$9:$AL$68,\"50KSA2\")*2,COUNTIF('Entry sheet-2-hin'!$AL$9:$AL$68,\"50KSA2C\")*2))","v":""},{"$f":"IF(B58=\"\",\"\",IF(AND(COUNTIF('Entry sheet-2-hin'!$AL$9:$AL$68,\"50KLA1C\")=0,COUNTIF('Entry sheet-2-hin'!$AL$9:$AL$68,\"50KLA1\")=0),\"\",IF(COUNTIF('Entry sheet-2-hin'!$AL$9:$AL$68,\"50KLA1C\")=0,COUNTIF('Entry sheet-2-hin'!$AL$9:$AL$68,\"50KLA1\"),COUNTIF('Entry sheet-2-hin'!$AL$9:$AL$68,\"50KLA1C\")&\"*\")))","v":""},{"$f":"IF(K58=\"\",\"\",IF(COUNTIF('Entry sheet-2-hin'!$AL$9:$AL$68,\"50KLA1C\")=0,COUNTIF('Entry sheet-2-hin'!$AL$9:$AL$68,\"50KLA1\")*3,COUNTIF('Entry sheet-2-hin'!$AL$9:$AL$68,\"50KLA1C\")*3))","v":""},{"$f":"IF(B58=\"\",\"\",IF(AND(COUNTIF('Entry sheet-2-hin'!$AL$9:$AL$68,\"1स्मदीउ४\")=0),\"\",COUNTIF('Entry sheet-2-hin'!$AL$9:$AL$68,\"1स्मदीउ४\")))","v":""},"",{"$f":"IF(B58=\"\",\"\",IF(AND(COUNTIF('Entry sheet-2-hin'!$AL$9:$AL$68,\"50UMCC\")=0,COUNTIF('Entry sheet-2-hin'!$AL$9:$AL$68,\"50UMC\")=0),\"\",IF(COUNTIF('Entry sheet-2-hin'!$AL$9:$AL$68,\"50UMCC\")=0,COUNTIF('Entry sheet-2-hin'!$AL$9:$AL$68,\"50UMC\"),COUNTIF('Entry sheet-2-hin'!$AL$9:$AL$68,\"50UMCC\")&\"*\")))","v":""},{"$f":"IF(O58=\"\",\"\",IF(COUNTIF('Entry sheet-2-hin'!$AL$9:$AL$68,\"50UMCC\")=0,COUNTIF('Entry sheet-2-hin'!$AL$9:$AL$68,\"50UMC\")*1,COUNTIF('Entry sheet-2-hin'!$AL$9:$AL$68,\"50UMCC\")*1))","v":""},{"$f":"IF(B58=\"\",\"\",IF(AND(COUNTIF('Entry sheet-2-hin'!$AL$9:$AL$68,\"1समवनि\")=0),\"\",COUNTIF('Entry sheet-2-hin'!$AL$9:$AL$68,\"1समवनि\")))","v":""},{"$f":"IF(Q58=\"\",\"\",IF(COUNTIF('Entry sheet-2-hin'!$AL$9:$AL$68,\"50UOTC\")=0,COUNTIF('Entry sheet-2-hin'!$AL$9:$AL$68,\"50UOT\")*1,COUNTIF('Entry sheet-2-hin'!$AL$9:$AL$68,\"50UOTC\")*1))","v":""},{"$f":"IF(B58=\"\",\"\",IF(AND(COUNTIF('Entry sheet-2-hin'!$AL$9:$AL$68,\"1समअलउ\")=0),\"\",COUNTIF('Entry sheet-2-hin'!$AL$9:$AL$68,\"1समअलउ\")))","v":""},{"$f":"IF(S58=\"\",\"\",IF(COUNTIF('Entry sheet-2-hin'!$AL$9:$AL$68,\"50USA1C\")=0,COUNTIF('Entry sheet-2-hin'!$AL$9:$AL$68,\"50USA1\")*1,COUNTIF('Entry sheet-2-hin'!$AL$9:$AL$68,\"50USA1C\")*1))","v":""},{"$f":"IF(B58=\"\",\"\",IF(AND(COUNTIF('Entry sheet-2-hin'!$AL$9:$AL$68,\"50USA2C\")=0,COUNTIF('Entry sheet-2-hin'!$AL$9:$AL$68,\"50USA2\")=0),\"\",IF(COUNTIF('Entry sheet-2-hin'!$AL$9:$AL$68,\"50USA2C\")=0,COUNTIF('Entry sheet-2-hin'!$AL$9:$AL$68,\"50USA2\"),COUNTIF('Entry sheet-2-hin'!$AL$9:$AL$68,\"50USA2C\")&\"*\")))","v":""},{"$f":"IF(U58=\"\",\"\",IF(COUNTIF('Entry sheet-2-hin'!$AL$9:$AL$68,\"50USA2C\")=0,COUNTIF('Entry sheet-2-hin'!$AL$9:$AL$68,\"50USA2\")*2,COUNTIF('Entry sheet-2-hin'!$AL$9:$AL$68,\"50USA2C\")*2))","v":""},{"$f":"IF(B58=\"\",\"\",IF(AND(COUNTIF('Entry sheet-2-hin'!$AL$9:$AL$68,\"50ULA1C\")=0,COUNTIF('Entry sheet-2-hin'!$AL$9:$AL$68,\"50ULA1\")=0),\"\",IF(COUNTIF('Entry sheet-2-hin'!$AL$9:$AL$68,\"50ULA1C\")=0,COUNTIF('Entry sheet-2-hin'!$AL$9:$AL$68,\"50ULA1\"),COUNTIF('Entry sheet-2-hin'!$AL$9:$AL$68,\"50ULA1C\")&\"*\")))","v":""},{"$f":"IF(W58=\"\",\"\",IF(COUNTIF('Entry sheet-2-hin'!$AL$9:$AL$68,\"50ULA1C\")=0,COUNTIF('Entry sheet-2-hin'!$AL$9:$AL$68,\"50ULA1\")*3,COUNTIF('Entry sheet-2-hin'!$AL$9:$AL$68,\"50ULA1C\")*3))","v":""},{"$f":"IF(B58=\"\",\"\",IF(AND(COUNTIF('Entry sheet-2-hin'!$AL$9:$AL$68,\"1समदीउ४\")=0),\"\",COUNTIF('Entry sheet-2-hin'!$AL$9:$AL$68,\"1समदीउ४\")))","v":""},{"$f":"IF(Y58=\"\",\"\",IF(COUNTIF('Entry sheet-2-hin'!$AL$9:$AL$68,\"50ULA2C\")=0,COUNTIF('Entry sheet-2-hin'!$AL$9:$AL$68,\"50ULA2\")*4,COUNTIF('Entry sheet-2-hin'!$AL$9:$AL$68,\"50ULA2C\")*4))","v":""},{"$f":"IF(B58=\"\",\"\",IF(AND(COUNTIF('Entry sheet-2-hin'!$AL$9:$AL$68,\"1अबवि\")=0),\"\",COUNTIF('Entry sheet-2-hin'!$AL$9:$AL$68,\"1अबवि\")))","v":""},"",{"$f":"IF(B58=\"\",\"\",IF(AND(COUNTIF('Entry sheet-2-hin'!$AL$9:$AL$68,\"50AOTC\")=0,COUNTIF('Entry sheet-2-hin'!$AL$9:$AL$68,\"50AOT\")=0),\"\",IF(COUNTIF('Entry sheet-2-hin'!$AL$9:$AL$68,\"50AOTC\")=0,COUNTIF('Entry sheet-2-hin'!$AL$9:$AL$68,\"50AOT\"),COUNTIF('Entry sheet-2-hin'!$AL$9:$AL$68,\"50AOTC\")&\"*\")))","v":""},{"$f":"IF(AC58=\"\",\"\",IF(COUNTIF('Entry sheet-2-hin'!$AL$9:$AL$68,\"50AOTC\")=0,COUNTIF('Entry sheet-2-hin'!$AL$9:$AL$68,\"50AOT\")*1,COUNTIF('Entry sheet-2-hin'!$AL$9:$AL$68,\"50AOTC\")*1))","v":""},{"$f":"IF(B58=\"\",\"\",IF(AND(COUNTIF('Entry sheet-2-hin'!$AL$9:$AL$68,\"1अअलउ\")=0),\"\",COUNTIF('Entry sheet-2-hin'!$AL$9:$AL$68,\"1अअलउ\")))","v":""},{"$f":"IF(AE58=\"\",\"\",IF(COUNTIF('Entry sheet-2-hin'!$AL$9:$AL$68,\"50ASA1C\")=0,COUNTIF('Entry sheet-2-hin'!$AL$9:$AL$68,\"50ASA1\")*1,COUNTIF('Entry sheet-2-hin'!$AL$9:$AL$68,\"50ASA1C\")*1))","v":""},{"$f":"IF(B58=\"\",\"\",IF(AND(COUNTIF('Entry sheet-2-hin'!$AL$9:$AL$68,\"50ASA2C\")=0,COUNTIF('Entry sheet-2-hin'!$AL$9:$AL$68,\"50ASA2\")=0),\"\",IF(COUNTIF('Entry sheet-2-hin'!$AL$9:$AL$68,\"50ASA2C\")=0,COUNTIF('Entry sheet-2-hin'!$AL$9:$AL$68,\"50ASA2\"),COUNTIF('Entry sheet-2-hin'!$AL$9:$AL$68,\"50ASA2C\")&\"*\")))","v":""},{"$f":"IF(AG58=\"\",\"\",IF(COUNTIF('Entry sheet-2-hin'!$AL$9:$AL$68,\"50ASA2C\")=0,COUNTIF('Entry sheet-2-hin'!$AL$9:$AL$68,\"50ASA2\")*2,COUNTIF('Entry sheet-2-hin'!$AL$9:$AL$68,\"50ASA2C\")*2))","v":""},{"$f":"IF(B58=\"\",\"\",IF(AND(COUNTIF('Entry sheet-2-hin'!$AL$9:$AL$68,\"50ALA1C\")=0,COUNTIF('Entry sheet-2-hin'!$AL$9:$AL$68,\"50ALA1\")=0),\"\",IF(COUNTIF('Entry sheet-2-hin'!$AL$9:$AL$68,\"50ALA1C\")=0,COUNTIF('Entry sheet-2-hin'!$AL$9:$AL$68,\"50ALA1\"),COUNTIF('Entry sheet-2-hin'!$AL$9:$AL$68,\"50ALA1C\")&\"*\")))","v":""},"",{"$f":"IF(B58=\"\",\"\",IF(AND(COUNTIF('Entry sheet-2-hin'!$AL$9:$AL$68,\"50ALA2C\")=0,COUNTIF('Entry sheet-2-hin'!$AL$9:$AL$68,\"50ALA2\")=0),\"\",IF(COUNTIF('Entry sheet-2-hin'!$AL$9:$AL$68,\"50ALA2C\")=0,COUNTIF('Entry sheet-2-hin'!$AL$9:$AL$68,\"50ALA2\"),COUNTIF('Entry sheet-2-hin'!$AL$9:$AL$68,\"50ALA2C\")&\"*\")))","v":""},{"$f":"IF(AK58=\"\",\"\",IF(COUNTIF('Entry sheet-2-hin'!$AL$9:$AL$68,\"50ALA2C\")=0,COUNTIF('Entry sheet-2-hin'!$AL$9:$AL$68,\"50ALA2\")*4,COUNTIF('Entry sheet-2-hin'!$AL$9:$AL$68,\"50ALA2C\")*4))","v":""},{"$f":"IF(B58=\"\",\"\",IF(AND(COUNTIF('Entry sheet-2-hin'!$AL$9:$AL$68,\"1रसबवि\")=0),\"\",COUNTIF('Entry sheet-2-hin'!$AL$9:$AL$68,\"1रसबवि\")))","v":""},"",{"$f":"IF(B58=\"\",\"\",IF(AND(COUNTIF('Entry sheet-2-hin'!$AL$9:$AL$68,\"50SOTC\")=0,COUNTIF('Entry sheet-2-hin'!$AL$9:$AL$68,\"50SOT\")=0),\"\",IF(COUNTIF('Entry sheet-2-hin'!$AL$9:$AL$68,\"50SOTC\")=0,COUNTIF('Entry sheet-2-hin'!$AL$9:$AL$68,\"50SOT\"),COUNTIF('Entry sheet-2-hin'!$AL$9:$AL$68,\"50SOTC\")&\"*\")))","v":""},{"$f":"IF(AO58=\"\",\"\",IF(COUNTIF('Entry sheet-2-hin'!$AL$9:$AL$68,\"50SOTC\")=0,COUNTIF('Entry sheet-2-hin'!$AL$9:$AL$68,\"50SOT\")*1,COUNTIF('Entry sheet-2-hin'!$AL$9:$AL$68,\"50SOTC\")*1))","v":""},{"$f":"IF(B58=\"\",\"\",IF(AND(COUNTIF('Entry sheet-2-hin'!$AL$9:$AL$68,\"1रसअलउ\")=0),\"\",COUNTIF('Entry sheet-2-hin'!$AL$9:$AL$68,\"1रसअलउ\")))","v":""},{"$f":"IF(AQ58=\"\",\"\",IF(COUNTIF('Entry sheet-2-hin'!$AL$9:$AL$68,\"50SSA1C\")=0,COUNTIF('Entry sheet-2-hin'!$AL$9:$AL$68,\"50SSA1\")*1,COUNTIF('Entry sheet-2-hin'!$AL$9:$AL$68,\"50SSA1C\")*1))","v":""},{"$f":"IF(B58=\"\",\"\",IF(AND(COUNTIF('Entry sheet-2-hin'!$AL$9:$AL$68,\"1रसलउ२\")=0),\"\",COUNTIF('Entry sheet-2-hin'!$AL$9:$AL$68,\"1रसलउ२\")))","v":""},"",{"$f":"IF(B58=\"\",\"\",IF(AND(COUNTIF('Entry sheet-2-hin'!$AL$9:$AL$68,\"50SLA1C\")=0,COUNTIF('Entry sheet-2-hin'!$AL$9:$AL$68,\"50SLA1\")=0),\"\",IF(COUNTIF('Entry sheet-2-hin'!$AL$9:$AL$68,\"50SLA1C\")=0,COUNTIF('Entry sheet-2-hin'!$AL$9:$AL$68,\"50SLA1\"),COUNTIF('Entry sheet-2-hin'!$AL$9:$AL$68,\"50SLA1C\")&\"*\")))","v":""},"",{"$f":"IF(B58=\"\",\"\",IF(AND(COUNTIF('Entry sheet-2-hin'!$AL$9:$AL$68,\"50SLA2C\")=0,COUNTIF('Entry sheet-2-hin'!$AL$9:$AL$68,\"50SLA2\")=0),\"\",IF(COUNTIF('Entry sheet-2-hin'!$AL$9:$AL$68,\"50SLA2C\")=0,COUNTIF('Entry sheet-2-hin'!$AL$9:$AL$68,\"50SLA2\"),COUNTIF('Entry sheet-2-hin'!$AL$9:$AL$68,\"50SLA2C\")&\"*\")))","v":""},"","","","","","","","","","","","","","",""]
["कुल",null,{"$f":"SUM(D9:D58)","v":0},{"$f":"SUM(D9:D58)","v":0},{"$f":"SUM(F9:F58)","v":3},{"$f":"SUM(F9:F58)","v":3},{"$f":"SUM(H9:H58)","v":4},{"$f":"SUM(H9:H58)","v":4},{"$f":"SUM(J9:J58)/2","v":1},{"$f":"SUM(J9:J58)","v":2},{"$f":"SUM(L9:L58)/3","v":1},{"$f":"SUM(L9:L58)","v":3},{"$f":"SUM(N9:N58)/4","v":1},{"$f":"SUM(N9:N58)","v":4},{"$f":"SUM(P9:P58)","v":8},{"$f":"SUM(P9:P58)","v":8},{"$f":"SUM(R9:R58)","v":4},{"$f":"SUM(R9:R58)","v":4},{"$f":"SUM(T9:T58)","v":2},{"$f":"SUM(T9:T58)","v":2},{"$f":"SUM(V9:V58)/2","v":6},{"$f":"SUM(V9:V58)","v":12},{"$f":"SUM(X9:X58)/3","v":2},{"$f":"SUM(X9:X58)","v":6},{"$f":"SUM(Z9:Z58)/4","v":0},{"$f":"SUM(Z9:Z58)","v":0},{"$f":"SUM(AB9:AB58)","v":0},{"$f":"SUM(AB9:AB58)","v":0},{"$f":"SUM(AD9:AD58)","v":1},{"$f":"SUM(AD9:AD58)","v":1},{"$f":"SUM(AF9:AF58)","v":8},{"$f":"SUM(AF9:AF58)","v":8},{"$f":"SUM(AH9:AH58)/2","v":4},{"$f":"SUM(AH9:AH58)","v":8},{"$f":"SUM(AJ9:AJ58)/3","v":0},{"$f":"SUM(AJ9:AJ58)","v":0},{"$f":"SUM(AL9:AL58)/4","v":3},{"$f":"SUM(AL9:AL58)","v":12},{"$f":"SUM(AN9:AN58)","v":0},{"$f":"SUM(AN9:AN58)","v":0},{"$f":"SUM(AP9:AP58)","v":0},{"$f":"SUM(AP9:AP58)","v":0},{"$f":"SUM(AR9:AR58)","v":0},{"$f":"SUM(AR9:AR58)","v":0},{"$f":"SUM(AT9:AT58)/2","v":0},{"$f":"SUM(AT9:AT58)","v":0},{"$f":"SUM(AV9:AV58)/3","v":1},{"$f":"SUM(AV9:AV58)","v":3},{"$f":"SUM(AX9:AX58)/4","v":0},{"$f":"SUM(AX9:AX58)","v":0},{"$f":"SUM(AZ9:AZ58)","v":8},{"$f":"SUM(AZ9:AZ58)","v":8},{"$f":"SUM(BB9:BB58)","v":8},{"$f":"SUM(BB9:BB58)","v":8},{"$f":"SUM(BD9:BD58)","v":14},{"$f":"SUM(BD9:BD58)","v":14},{"$f":"SUM(BF9:BF58)/2","v":11},{"$f":"SUM(BF9:BF58)","v":22},{"$f":"SUM(BH9:BH58)/3","v":4},{"$f":"SUM(BH9:BH58)","v":12},{"$f":"SUM(BJ9:BJ58)/4","v":4},{"$f":"SUM(BJ9:BJ58)","v":16},{"$f":"SUM(BK9:BK58)","v":49},{"$f":"SUM(BL9:BL58)","v":80}]
[]
[]
[null,null,null,null,null,null,null,null,null,null,null,null,null,null,null,null,null,null,null,null,null,null,null,null,null,null,null,null,null,null,null,null,null,null,null,null,null,null,null,null,null,null,null,null,null,null,null,null,null,null,null,null,null,null,null,null,null,"हस्ताक्षर"]
[null,null,null,null,null,null,null,null,null,null,null,null,null,null,null,null,null,null,null,null,null,null,null,null,null,null,null,null,null,null,null,null,null,null,null,null,null,null,null,null,null,null,null,null,null,null,null,null,null,null,null,null,null,null,null,{"$f":"uddista!G22","v":"(नागलिंगय्या)"}]

{"sheet":"Question paper 80 marks","index":14,"n_rows":80,"n_cols":5,"rows_kept":80,"cut":false,"hidden":false,"merged":[[80,1,80,3],[54,0,54,3],[67,0,67,3],[75,1,75,3],[79,1,79,3],[78,1,78,4],[56,1,56,4],[62,1,62,4],[66,1,66,4],[68,1,68,4],[69,1,69,4],[65,0,65,4],[57,1,57,4],[58,1,58,4],[59,1,59,4],[60,1,60,4],[0,0,0,4],[12,0,12,3],[20,0,20,3],[25,0,25,3],[19,2,19,3],[9,1,9,4],[5,0,5,3],[3,0,3,3],[4,0,4,3],[16,2,16,3],[17,2,17,3],[14,2,14,3],[15,2,15,3],[18,2,18,3],[10,1,10,4],[11,1,11,4],[1,2,1,4],[6,1,6,4],[7,1,7,4],[8,1,8,4],[27,1,27,4],[21,1,21,4],[22,1,22,4],[23,1,23,4],[24,1,24,4],[26,1,26,4],[28,1,28,4],[29,1,29,4],[30,1,30,4],[31,1,31,4],[42,1,42,4],[37,1,37,4],[38,1,38,4],[40,1,40,4],[32,1,32,4],[33,1,33,4],[34,1,34,4],[35,1,35,4],[43,1,43,4],[41,0,41,3],[44,1,44,4],[45,1,45,4],[46,0,46,3],[74,1,74,4],[76,1,76,4],[77,1,77,4],[72,1,72,3],[61,1,61,4],[64,0,64,3],[63,0,63,3],[70,1,70,4],[71,1,71,4],[47,1,47,4],[49,1,49,4],[55,1,55,4],[52,0,52,3],[53,0,53,3],[50,1,50,4]]}
[{"$f":"'Entry sheet-1-hin'!C2","v":"सरकारी पदवि पूर्व कॉलेंज (प्रौ.शा.वि) गुरुगुंटा, ता : लिंगसुगूर"}]
[null,"प्रश्‍न पत्रिका - ",{"$f":"'Entry sheet-1-hin'!C3","v":"रूपणात्मक परीक्षा - 2   २०१६-१७"}]
[{"$f":"'Entry sheet-1-hin'!C4","v":"दसवीं "},{"$f":"'Entry sheet-1-hin'!C5","v":"हिंदी"},null,{"$f":"'Entry sheet-1-hin'!A6","v":" अंक"},{"$f":"'Entry sheet-1-hin'!C6","v":80}]
["खण्ड   “ क ”"]
["[ गद्य, पद्य और पूरक वाचन ]"]
["I.   निम्नलिखित प्रश्नों के उत्तर एक-एक वाक्य में लिखिए :-                                                                                                                                  6 x 1 = 6"]
[{"$f":"IF(B7=\"\",\"\",1)","v":1},{"$f":"IF('Entry sheet-3-hin'!G14=\"\",\"\",'Entry sheet-3-hin'!G14)","v":"विमल इंदु की विशाल किरणें जगत को क्या दिखा रही हैं ? "}]
[{"$f":"IF(B8=\"\",\"\",A7+1)","v":2},{"$f":"IF('Entry sheet-3-hin'!G15=\"\",\"\",'Entry sheet-3-hin'!G15)","v":"कितने वर्ष की आयु में रविन्द्रनाथ अपने पिता की सम्पदाका दायित्व सम्भाले ?"}]
[{"$f":"IF(B9=\"\",\"\",A8+1)","v":3},{"$f":"IF('Entry sheet-3-hin'!G16=\"\",\"\",'Entry sheet-3-hin'!G16)","v":"एक दिन  नौकर साहुकार से क्या कहा ?"}]
[4,{"$f":"IF('Entry sheet-3-hin'!G17=\"\",\"\",'Entry sheet-3-hin'!G17)","v":"किसके कारण जिंदजी के दृष्टिकोण बदल गया है ?                          "}]
[5,{"$f":"IF('Entry sheet-3-hin'!G18=\"\",\"\",'Entry sheet-3-hin'!G18)","v":"हरे-भरे खेत कैसे लगते हैं ?                                                                             "}]
[6,{"$f":"IF('Entry sheet-3-hin'!G19=\"\",\"\",'Entry sheet-3-hin'!G19)","v":"गिलहरी को किन-किन से बचाना एक समस्या बन गयी थी ?        "}]
["II. 7.  स्तम्भ ‘क’  के वाक्यांशों के साथ स्तम्भ ‘ख’  के सही वाक्यंशों को जोडकर लिखिए :-                                                                        4 X 1 = 4"]
[null,"   स्तम्भ ‘क’","   स्तम्भ ‘ख’"]
["अ",{"$f":"IF('Entry sheet-3-hin'!G20=\"\",\"\",'Entry sheet-3-hin'!G20)","v":"अनादि  तेरी  अनंत  माया     "},{"$f":"IF('Entry sheet-3-hin'!P20=\"\",\"\",'Entry sheet-3-hin'!P20)","v":"आज साथ में"}]
["आ",{"$f":"IF('Entry sheet-3-hin'!G21=\"\",\"\",'Entry sheet-3-hin'!G21)","v":"इंटरनेट द्वारा कोई भी"},{"$f":"IF('Entry sheet-3-hin'!P21=\"\",\"\",'Entry sheet-3-hin'!P21)","v":"तरंगमालाएँ  गा  रही हैं !"}]
["इ",{"$f":"IF('Entry sheet-3-hin'!G22=\"\",\"\",'Entry sheet-3-hin'!G22)","v":"कोटि-कोटि हम"},{"$f":"IF('Entry sheet-3-hin'!P22=\"\",\"\",'Entry sheet-3-hin'!P22)","v":"जगत  को लीला  दिखा रही है ! "}]
["ई",{"$f":"IF('Entry sheet-3-hin'!G23=\"\",\"\",'Entry sheet-3-hin'!G23)","v":"बसंत "},{"$f":"IF('Entry sheet-3-hin'!P23=\"\",\"\",'Entry sheet-3-hin'!P23)","v":"बिल भर सकते है ।"}]
[null,null,{"$f":"IF('Entry sheet-3-hin'!P24=\"\",\"\",'Entry sheet-3-hin'!P24)","v":"भीखू अहीर टीले"}]
[null,null,{"$f":"IF('Entry sheet-3-hin'!P25=\"\",\"\",'Entry sheet-3-hin'!P25)","v":"शत-शत बार प्रणाम"}]
["III.  प्रथम दो पदों से सूचित संबंधों के अनुरूप तीसरे पद से संबंधित पद लिखिए :-                                                                                           4 x 1 = 4"]
[{"$f":"IF(B22=\"\",\"\",A12+2)","v":8},{"$f":"IF('Entry sheet-3-hin'!G26=\"\",\"\",'Entry sheet-3-hin'!G26)","v":"भगवान की लीला  :  इन्दु की किरणें   :: भगवान की दया :---"}]
[{"$f":"IF(B23=\"\",\"\",A22+1)","v":9},{"$f":"IF('Entry sheet-3-hin'!G27=\"\",\"\",'Entry sheet-3-hin'!G27)","v":"काम को पारदर्शी बना सकता है : ई गवर्नेन्स  ::  आठ-दस व्यक्तियों के साथ बातचीत :--"}]
[{"$f":"IF(B24=\"\",\"\",A23+1)","v":10},{"$f":"IF('Entry sheet-3-hin'!G28=\"\",\"\",'Entry sheet-3-hin'!G28)","v":"चिक-चिक करता है  :  गिल्लू   ::  कॉव-कॉव करता है  :---"}]
[11,{"$f":"IF('Entry sheet-3-hin'!G29=\"\",\"\",'Entry sheet-3-hin'!G29)","v":"प्रभु  : जयशंकर प्रसाद    ::बसंत की सच्चाई       : --"}]
["IV.   निम्नलिखित प्रश्नों के उत्तर दो या तीन वाक्यों में लिखिए :-                                                                                                                     11 x 2 = 22"]
[{"$f":"IF(B27=\"\",\"\",A25+1)","v":12},{"$f":"IF('Entry sheet-3-hin'!G30=\"\",\"\",'Entry sheet-3-hin'!G30)","v":"सभी का मनोरथ कैसे पूर्ण होते हैं ?  "}]
[13,{"$f":"IF('Entry sheet-3-hin'!G31=\"\",\"\",'Entry sheet-3-hin'!G31)","v":"प्रभु की दया को कौन दर्शा रहा है ? "}]
[14,{"$f":"IF('Entry sheet-3-hin'!G32=\"\",\"\",'Entry sheet-3-hin'!G32)","v":"रवींद्रनाथ जी ने ‘सर’ की उपाधि क्यों त्याग दी ?"}]
[15,{"$f":"IF('Entry sheet-3-hin'!G33=\"\",\"\",'Entry sheet-3-hin'!G33)","v":"करोड़पति के होशहवास क्यों उड़ गये ?"}]
[16,{"$f":"IF('Entry sheet-3-hin'!G34=\"\",\"\",'Entry sheet-3-hin'!G34)","v":"व्यापार और बैंकिंग में इंटरनेट से क्या मदद मिलती है ?"}]
[17,{"$f":"IF('Entry sheet-3-hin'!G35=\"\",\"\",'Entry sheet-3-hin'!G35)","v":"भारत माँ का स्वरुप कैसे सुशोभित है ?                                                  "}]
[18,{"$f":"IF('Entry sheet-3-hin'!G36=\"\",\"\",'Entry sheet-3-hin'!G36)","v":"भारत माता के प्रकृती सौंदर्य कैसे है ?                                                            "}]
[19,{"$f":"IF('Entry sheet-3-hin'!G37=\"\",\"\",'Entry sheet-3-hin'!G37)","v":"लेखिका ने गिल्लू के प्राण कैसे बचाये ?"}]
[{"$f":"IF(B35=\"\",\"\",A34+1)","v":20},{"$f":"IF('Entry sheet-3-hin'!G38=\"\",\"\",'Entry sheet-3-hin'!G38)","v":"बसंत राजकिशोर से दो पैसे लेने से क्यों इनकार करता है ?"}]
[21,{"$f":"IF('Entry sheet-3-hin'!G39=\"\",\"\",'Entry sheet-3-hin'!G39)","v":"शनि किसका पुत्र है ? शनैःचर का अर्थ क्या है ?"}]
[null,"अथवा"]
[null,{"$f":"IF('Entry sheet-3-hin'!G40=\"\",\"\",'Entry sheet-3-hin'!G40)","v":"शनि का निर्माण किस प्रकार हुआ है ?"}]
[{"$f":"IF(B39=\"\",\"\",A36+1)","v":""},{"$f":"IF('Entry sheet-3-hin'!G41=\"\",\"\",'Entry sheet-3-hin'!G41)","v":""}]
[null,"अथवा"]
[null,{"$f":"IF('Entry sheet-3-hin'!G42=\"\",\"\",'Entry sheet-3-hin'!G42)","v":""}]
["V.   निम्नलिखित प्रश्नों के उत्तर तीन - चार वाक्यों में लिखिए :-                                                                                                                         4 x 3 = 12"]
[{"$f":"IF(B43=\"\",\"\",A39+1)","v":{"$error":"#VALUE!"}},{"$f":"IF('Entry sheet-3-hin'!G43=\"\",\"\",'Entry sheet-3-hin'!G43)","v":"गिल्लू के प्रति महादेवी वर्मा जी की ममता का वर्णन कीजिए । "}]
[{"$f":"IF(B44=\"\",\"\",A43+1)","v":""},{"$f":"IF('Entry sheet-3-hin'!G44=\"\",\"\",'Entry sheet-3-hin'!G44)","v":""}]
[{"$f":"IF(B45=\"\",\"\",A44+1)","v":""},{"$f":"IF('Entry sheet-3-hin'!G45=\"\",\"\",'Entry sheet-3-hin'!G45)","v":""}]
["",{"$f":"IF('Entry sheet-3-hin'!G46=\"\",\"\",'Entry sheet-3-hin'!G46)","v":""}]
["VI.  निम्नलिखित प्रश्न का उत्तर  चार - पाँच वाक्यों में लिखिए :-                                                                                                                           2 x 4 = 8"]
[{"$f":"IF(B48=\"\",\"\",A46+1)","v":""},{"$f":"IF('Entry sheet-3-hin'!G47=\"\",\"\",'Entry sheet-3-hin'!G47)","v":""}]
[null,"अथवा"]
[null,{"$f":"IF('Entry sheet-3-hin'!G48=\"\",\"\",'Entry sheet-3-hin'!G48)","v":""}]
[{"$f":"IF(B52=\"\",\"\",A48+1)","v":""},"निम्‍नलिखित पद्य भाग की पूर्ति कीजिए ।"]
[null,{"$f":"IF('Entry sheet-3-hin'!G49=\"\",\"\",'Entry sheet-3-hin'!G49)","v":""},"अथवा",{"$f":"IF('Entry sheet-3-hin'!G50=\"\",\"\",'Entry sheet-3-hin'!G50)","v":""}]
["खण्ड   “ ख ”"]
["[ व्याकरण ]"]
["VII.   निम्नलिखित प्रश्नो के लिए चार-चार विकल्प दिए गए हैं, जिनमें एकमात्र सही उत्तर है ।   सही उत्तर चुनकर लिखिए :-                   8 x 1 = 8"]
[{"$f":"IF(B56=\"\",\"\",A51+1)","v":{"$error":"#VALUE!"}},{"$f":"IF('Entry sheet-3-hin'!G51=\"\",\"\",'Entry sheet-3-hin'!G51)","v":"‘चलना शब्द का  द्वितीय प्रेरणार्थक क्रिया रूप है -   \n   अ) चल      आ) चलाना      इ) चलवाना     ई) चालना"}]
[{"$f":"IF(B57=\"\",\"\",A56+1)","v":{"$error":"#VALUE!"}},{"$f":"IF('Entry sheet-3-hin'!G52=\"\",\"\",'Entry sheet-3-hin'!G52)","v":"‘पक्षी’ का समानार्थक शब्द है -  \n   अ) खग     आ) जग      इ) वृक्ष        ई) गात"}]
[{"$f":"IF(B58=\"\",\"\",A57+1)","v":""},{"$f":"IF('Entry sheet-3-hin'!G53=\"\",\"\",'Entry sheet-3-hin'!G53)","v":""}]
["",{"$f":"IF('Entry sheet-3-hin'!G54=\"\",\"\",'Entry sheet-3-hin'!G54)","v":""}]
["",{"$f":"IF('Entry sheet-3-hin'!G55=\"\",\"\",'Entry sheet-3-hin'!G55)","v":""}]
["",{"$f":"IF('Entry sheet-3-hin'!G56=\"\",\"\",'Entry sheet-3-hin'!G56)","v":""}]
["",{"$f":"IF('Entry sheet-3-hin'!G57=\"\",\"\",'Entry sheet-3-hin'!G57)","v":""}]
["",{"$f":"IF('Entry sheet-3-hin'!G58=\"\",\"\",'Entry sheet-3-hin'!G58)","v":""}]
["खण्ड   “ ग ”"]
["[ रचना - अपठित गद्यांश, अनुवाद, पत्रलेखन और निबंध ]"]
["VIII.37.  गद्यांश पढकर निम्नलिखित प्रश्नों के उत्तर लिखिए :-                                                        4 x 1 = 4 "]
["\n\n\n\n\n\n\n\n\n\n\n\n\n",{"$f":"IF('Entry sheet-3-hin'!G59=\"\",\"\",'Entry sheet-3-hin'!G59)","v":""}]
["IX.   निम्नलिखित वाक्यों का अनुवाद कन्नड या अंग्रेजी में कीजिए :-                                                                                                               4 x 1 = 4"]
[{"$f":"IF(B69=\"\",\"\",A63+2)","v":""},{"$f":"IF('Entry sheet-3-hin'!G60=\"\",\"\",'Entry sheet-3-hin'!G60)","v":""}]
[{"$f":"IF(B70=\"\",\"\",A69+1)","v":""},{"$f":"IF('Entry sheet-3-hin'!G61=\"\",\"\",'Entry sheet-3-hin'!G61)","v":""}]
[{"$f":"IF(B71=\"\",\"\",A70+1)","v":""},{"$f":"IF('Entry sheet-3-hin'!G62=\"\",\"\",'Entry sheet-3-hin'!G62)","v":""}]
["",{"$f":"IF('Entry sheet-3-hin'!G63=\"\",\"\",'Entry sheet-3-hin'!G63)","v":""}]
["X.42.   ",{"$f":"IF('Entry sheet-3-hin'!G64=\"\",\"\",'Entry sheet-3-hin'!G64)","v":"अपने भाई की शादी में भाग लेने का कारण बताते हुए अपने कक्षाध्यापक को एक पत्र लिखिए ।                                                 "},null,null,4]
[null,"अथवा"]
[null,{"$f":"IF('Entry sheet-3-hin'!G65=\"\",\"\",'Entry sheet-3-hin'!G65)","v":""}]
["XI.43.   ","किसी एक विषय पर निबंध लिखिए ।                                                                                                                                                     1x4=4"]
[{"$f":"IF(B77=\"\",\"\",1)","v":1},{"$f":"IF('Entry sheet-3-hin'!G66=\"\",\"\",'Entry sheet-3-hin'!G66)","v":"समय का महत्व   ( विषयवस्तु, प्रकार, महत्व, उपसंहार )"}]
[{"$f":"IF(B78=\"\",\"\",A77+1)","v":""},{"$f":"IF('Entry sheet-3-hin'!G67=\"\",\"\",'Entry sheet-3-hin'!G67)","v":""}]
["",{"$f":"IF('Entry sheet-3-hin'!G68=\"\",\"\",'Entry sheet-3-hin'!G68)","v":""}]
[null,"***************************************"]

{"sheet":"Question paper 80 marks (2)","index":15,"n_rows":214,"n_cols":6,"rows_kept":214,"cut":false,"hidden":false,"merged":[[242,1,242,5],[243,1,243,5],[237,1,237,5],[238,1,238,5],[239,1,239,5],[240,1,240,5],[241,1,241,5],[199,1,199,5],[200,1,200,5],[201,1,201,5],[202,1,202,5],[231,1,231,5],[232,1,232,5],[233,1,233,5],[234,1,234,5],[235,1,235,5],[236,1,236,5],[225,1,225,5],[226,1,226,5],[227,1,227,5],[228,1,228,5],[229,1,229,5],[230,1,230,5],[219,1,219,5],[220,1,220,5],[221,1,221,5],[222,1,222,5],[223,1,223,5],[224,1,224,5],[213,1,213,5],[214,1,214,5],[215,1,215,5],[216,1,216,5],[217,1,217,5],[218,1,218,5],[193,1,193,5],[194,1,194,5],[195,1,195,5],[196,1,196,5],[197,1,197,5],[198,1,198,5],[187,1,187,5],[188,1,188,5],[189,1,189,5],[190,1,190,5],[191,1,191,5],[192,1,192,5],[186,1,186,5],[143,1,143,5],[160,1,160,5],[161,1,161,5],[162,1,162,5],[163,1,163,5],[176,1,176,5],[172,1,172,5],[170,1,170,5],[153,1,153,3],[154,1,154,3],[155,1,155,3],[156,0,156,3],[157,0,157,3],[147,0,147,3],[148,1,148,3],[149,1,149,3],[159,1,159,5],[183,1,183,5],[184,1,184,5],[185,1,185,5],[166,1,166,5],[151,1,151,3],[152,1,152,3],[123,0,123,3],[145,0,145,3],[146,0,146,3],[133,1,133,5],[134,1,134,5],[135,1,135,5],[130,1,130,5],[136,1,136,5],[144,1,144,5],[82,1,82,5],[89,1,89,5],[85,1,85,5],[121,1,121,5],[127,1,127,5],[128,1,128,5],[129,1,129,5],[181,1,181,5],[182,1,182,5],[122,1,122,5],[91,1,91,5],[99,1,99,5],[107,1,107,5],[115,1,115,5],[124,1,124,5],[126,1,126,5],[137,1,137,5],[138,3,138,5],[95,1,95,5],[94,1,94,5],[110,1,110,5],[111,1,111,5],[168,1,168,5],[150,1,150,3],[208,1,208,5],[33,1,33,5],[116,1,116,5],[117,1,117,5],[118,1,118,5],[108,1,108,5],[109,1,109,5],[113,1,113,5],[81,1,81,5],[86,1,86,5],[87,1,87,5],[88,1,88,5],[92,1,92,5],[93,1,93,5],[97,1,97,5],[83,1,83,5],[100,1,100,5],[101,1,101,5],[90,0,90,3],[98,1,98,5],[106,1,106,5],[114,1,114,5],[56,1,56,5],[73,1,73,5],[74,1,74,5],[79,1,79,5],[80,1,80,5],[61,1,61,5],[66,1,66,5],[71,1,71,5],[76,1,76,5],[78,1,78,5],[64,1,64,5],[62,1,62,5],[63,1,63,5],[75,1,75,5],[57,1,57,5],[58,1,58,5],[59,1,59,5],[60,1,60,5],[67,1,67,5],[68,1,68,5],[69,1,69,5],[72,1,72,5],[65,1,65,5],[70,1,70,5],[40,1,40,5],[45,1,45,5],[50,1,50,5],[55,1,55,5],[32,1,32,5],[36,1,36,5],[41,1,41,5],[46,1,46,5],[51,1,51,5],[34,1,34,5],[35,1,35,5],[37,1,37,5],[38,1,38,5],[39,1,39,5],[42,1,42,5],[53,1,53,5],[54,1,54,5],[43,1,43,5],[44,1,44,5],[47,1,47,5],[48,1,48,5],[49,1,49,5],[52,1,52,5],[210,1,210,5],[211,1,211,5],[212,1,212,5],[3,0,3,3],[4,0,4,3],[5,0,5,3],[6,1,6,5],[8,1,8,5],[10,1,10,5],[12,1,12,5],[14,1,14,5],[16,1,16,5],[7,1,7,5],[9,1,9,5],[11,1,11,5],[13,1,13,5],[15,1,15,5],[17,1,17,5],[18,0,18,4],[26,0,26,3],[31,0,31,3],[20,2,20,5],[21,2,21,5],[22,2,22,5],[248,1,248,5],[275,1,275,5],[139,1,139,5],[140,1,140,5],[141,1,141,5],[142,1,142,5],[119,1,119,5],[120,1,120,5],[244,1,244,5],[245,1,245,5],[246,1,246,5],[209,1,209,3],[177,1,177,5],[178,1,178,5],[179,1,179,5],[180,1,180,5],[164,0,164,3],[165,1,165,5],[131,1,131,5],[132,1,132,5],[247,1,247,5],[167,1,167,5],[169,1,169,5],[171,1,171,5],[19,2,19,3],[158,0,158,4],[0,0,0,5],[1,2,1,5],[203,1,203,5],[204,1,204,5],[205,1,205,5],[206,1,206,5],[207,1,207,5],[112,1,112,5],[105,1,105,5],[102,1,102,5],[103,1,103,5],[104,1,104,5],[96,1,96,5],[173,1,173,4],[175,1,175,5],[23,2,23,5],[24,2,24,5],[25,2,25,5],[27,1,27,5],[28,1,28,5],[29,1,29,5],[30,1,30,5],[249,1,249,5],[250,1,250,5],[251,1,251,5],[252,1,252,5],[253,1,253,5],[254,1,254,5],[255,1,255,5],[256,1,256,5],[257,1,257,5],[267,1,267,5],[268,1,268,5],[269,1,269,5],[270,1,270,5],[271,1,271,5],[272,1,272,5],[273,1,273,5],[274,1,274,5],[258,1,258,5],[259,1,259,5],[260,1,260,5],[261,1,261,5],[262,1,262,5],[263,1,263,5],[264,1,264,5],[265,1,265,5],[266,1,266,5]]}
[{"$f":"'Entry sheet-1-hin'!C2","v":"सरकारी पदवि पूर्व कॉलेंज (प्रौ.शा.वि) गुरुगुंटा, ता : लिंगसुगूर"}]
[null,"प्रश्‍न पत्रिका - ",{"$f":"'Entry sheet-1-hin'!C3","v":"रूपणात्मक परीक्षा - 2   २०१६-१७"}]
[{"$f":"'Entry sheet-1-hin'!C4","v":"दसवीं "},{"$f":"'Entry sheet-1-hin'!C5","v":"हिंदी"},null,null,{"$f":"'Entry sheet-1-hin'!A6","v":" अंक"},{"$f":"'Entry sheet-1-hin'!C6","v":80}]
["खण्ड   “ क ”"]
["[ गद्य, पद्य और पूरक वाचन ]"]
["I.   निम्नलिखित प्रश्नों के उत्तर एक-एक वाक्य में लिखिए :-                                                                                                                                  6 x 1 = 6",null,null,null,null,"6X1=6"]
[{"$f":"IF(B7=\"\",\"\",1)","v":1},{"$f":"IF('Entry sheet-3-hin'!G14=\"\",\"\",'Entry sheet-3-hin'!G14)","v":"विमल इंदु की विशाल किरणें जगत को क्या दिखा रही हैं ? "}]
["उत्तर"," -----------------------------------------------------------------------------------------------------------------------------"]
[{"$f":"IF(B9=\"\",\"\",A7+1)","v":2},{"$f":"IF('Entry sheet-3-hin'!G15=\"\",\"\",'Entry sheet-3-hin'!G15)","v":"कितने वर्ष की आयु में रविन्द्रनाथ अपने पिता की सम्पदाका दायित्व सम्भाले ?"}]
["उत्तर"," -----------------------------------------------------------------------------------------------------------------------------"]
[{"$f":"IF(B11=\"\",\"\",A9+1)","v":3},{"$f":"IF('Entry sheet-3-hin'!G16=\"\",\"\",'Entry sheet-3-hin'!G16)","v":"एक दिन  नौकर साहुकार से क्या कहा ?"}]
["उत्तर"," -----------------------------------------------------------------------------------------------------------------------------"]
[{"$f":"IF(B13=\"\",\"\",A11+1)","v":4},{"$f":"IF('Entry sheet-3-hin'!G17=\"\",\"\",'Entry sheet-3-hin'!G17)","v":"किसके कारण जिंदजी के दृष्टिकोण बदल गया है ?                          "}]
["उत्तर"," -----------------------------------------------------------------------------------------------------------------------------"]
[{"$f":"IF(B15=\"\",\"\",A13+1)","v":5},{"$f":"IF('Entry sheet-3-hin'!G18=\"\",\"\",'Entry sheet-3-hin'!G18)","v":"हरे-भरे खेत कैसे लगते हैं ?                                                                             "}]
["उत्तर"," -----------------------------------------------------------------------------------------------------------------------------"]
[{"$f":"IF(B17=\"\",\"\",A15+1)","v":6},{"$f":"IF('Entry sheet-3-hin'!G19=\"\",\"\",'Entry sheet-3-hin'!G19)","v":"गिलहरी को किन-किन से बचाना एक समस्या बन गयी थी ?        "}]
["उत्तर"," -----------------------------------------------------------------------------------------------------------------------------"]
["II.7.  स्तम्भ ‘क’  के वाक्यांशों के साथ स्तम्भ ‘ख’  के सही वाक्यंशों को जोडकर लिखिए :-                                                                        4 X 1 = 4",null,null,null,null,"4X1=4"]
[null,"   स्तम्भ ‘क’","   स्तम्भ ‘ख’",null,"उत्तर"]
["अ",{"$f":"IF('Entry sheet-3-hin'!G20=\"\",\"\",'Entry sheet-3-hin'!G20)","v":"अनादि  तेरी  अनंत  माया     "},{"$f":"IF('Entry sheet-3-hin'!P20=\"\",\"\",'Entry sheet-3-hin'!P20)","v":"आज साथ में"}]
["आ",{"$f":"IF('Entry sheet-3-hin'!G21=\"\",\"\",'Entry sheet-3-hin'!G21)","v":"इंटरनेट द्वारा कोई भी"},{"$f":"IF('Entry sheet-3-hin'!P21=\"\",\"\",'Entry sheet-3-hin'!P21)","v":"तरंगमालाएँ  गा  रही हैं !"}]
["इ",{"$f":"IF('Entry sheet-3-hin'!G22=\"\",\"\",'Entry sheet-3-hin'!G22)","v":"कोटि-कोटि हम"},{"$f":"IF('Entry sheet-3-hin'!P22=\"\",\"\",'Entry sheet-3-hin'!P22)","v":"जगत  को लीला  दिखा रही है ! "}]
["ई",{"$f":"IF('Entry sheet-3-hin'!G23=\"\",\"\",'Entry sheet-3-hin'!G23)","v":"बसंत "},{"$f":"IF('Entry sheet-3-hin'!P23=\"\",\"\",'Entry sheet-3-hin'!P23)","v":"बिल भर सकते है ।"}]
[null,null,{"$f":"IF('Entry sheet-3-hin'!P24=\"\",\"\",'Entry sheet-3-hin'!P24)","v":"भीखू अहीर टीले"}]
[null,null,{"$f":"IF('Entry sheet-3-hin'!P25=\"\",\"\",'Entry sheet-3-hin'!P25)","v":"शत-शत बार प्रणाम"}]
["III.  प्रथम दो पदों से सूचित संबंधों के अनुरूप तीसरे पद से संबंधित पद लिखिए :-                                                                                           4 x 1 = 4",null,null,null,"उत्तर","4X1=4"]
[{"$f":"IF(B28=\"\",\"\",A17+2)","v":8},{"$f":"IF('Entry sheet-3-hin'!G26=\"\",\"\",'Entry sheet-3-hin'!G26)","v":"भगवान की लीला  :  इन्दु की किरणें   :: भगवान की दया :---"}]
[{"$f":"IF(B29=\"\",\"\",A28+1)","v":9},{"$f":"IF('Entry sheet-3-hin'!G27=\"\",\"\",'Entry sheet-3-hin'!G27)","v":"काम को पारदर्शी बना सकता है : ई गवर्नेन्स  ::  आठ-दस व्यक्तियों के साथ बातचीत :--"}]
[{"$f":"IF(B30=\"\",\"\",A29+1)","v":10},{"$f":"IF('Entry sheet-3-hin'!G28=\"\",\"\",'Entry sheet-3-hin'!G28)","v":"चिक-चिक करता है  :  गिल्लू   ::  कॉव-कॉव करता है  :---"}]
[11,{"$f":"IF('Entry sheet-3-hin'!G29=\"\",\"\",'Entry sheet-3-hin'!G29)","v":"प्रभु  : जयशंकर प्रसाद    ::बसंत की सच्चाई       : --"}]
["IV.   निम्नलिखित प्रश्नों के उत्तर दो या तीन वाक्यों में लिखिए :-                                                                                                                     11 x 2 = 22",null,null,null,null,"11X2=22"]
[{"$f":"IF(B33=\"\",\"\",A31+1)","v":12},{"$f":"IF('Entry sheet-3-hin'!G30=\"\",\"\",'Entry sheet-3-hin'!G30)","v":"सभी का मनोरथ कैसे पूर्ण होते हैं ?  "}]
["उत्तर"]
[]
[]
[{"$f":"IF(B37=\"\",\"\",A33+1)","v":13},{"$f":"IF('Entry sheet-3-hin'!G31=\"\",\"\",'Entry sheet-3-hin'!G31)","v":"प्रभु की दया को कौन दर्शा रहा है ? "}]
["उत्तर"]
[]
[]
[]
[{"$f":"IF(B42=\"\",\"\",A37+1)","v":14},{"$f":"IF('Entry sheet-3-hin'!G32=\"\",\"\",'Entry sheet-3-hin'!G32)","v":"रवींद्रनाथ जी ने ‘सर’ की उपाधि क्यों त्याग दी ?"}]
["उत्तर"]
[]
[]
[]
[{"$f":"IF(B47=\"\",\"\",A42+1)","v":15},{"$f":"IF('Entry sheet-3-hin'!G33=\"\",\"\",'Entry sheet-3-hin'!G33)","v":"करोड़पति के होशहवास क्यों उड़ गये ?"}]
["उत्तर"]
[]
[]
[]
[{"$f":"IF(B52=\"\",\"\",A47+1)","v":16},{"$f":"IF('Entry sheet-3-hin'!G34=\"\",\"\",'Entry sheet-3-hin'!G34)","v":"व्यापार और बैंकिंग में इंटरनेट से क्या मदद मिलती है ?"}]
["उत्तर"]
[]
[]
[]
[{"$f":"IF(B57=\"\",\"\",A52+1)","v":17},{"$f":"IF('Entry sheet-3-hin'!G35=\"\",\"\",'Entry sheet-3-hin'!G35)","v":"भारत माँ का स्वरुप कैसे सुशोभित है ?                                                  "}]
["उत्तर"]
[]
[]
[]
[{"$f":"IF(B62=\"\",\"\",A57+1)","v":18},{"$f":"IF('Entry sheet-3-hin'!G36=\"\",\"\",'Entry sheet-3-hin'!G36)","v":"भारत माता के प्रकृती सौंदर्य कैसे है ?                                                            "}]
["उत्तर"]
[]
[]
[]
[{"$f":"IF(B67=\"\",\"\",A62+1)","v":19},{"$f":"IF('Entry sheet-3-hin'!G37=\"\",\"\",'Entry sheet-3-hin'!G37)","v":"लेखिका ने गिल्लू के प्राण कैसे बचाये ?"}]
["उत्तर"]
[]
[]
[]
[{"$f":"IF(B72=\"\",\"\",A67+1)","v":20},{"$f":"IF('Entry sheet-3-hin'!G38=\"\",\"\",'Entry sheet-3-hin'!G38)","v":"बसंत राजकिशोर से दो पैसे लेने से क्यों इनकार करता है ?"}]
["उत्तर"]
[]
[]
[]
[{"$f":"IF(B77=\"\",\"\",A72+1)","v":21},{"$f":"IF('Entry sheet-3-hin'!G39=\"\",\"\",'Entry sheet-3-hin'!G39)","v":"शनि किसका पुत्र है ? शनैःचर का अर्थ क्या है ?"}]
[null,"अथवा"]
[null,{"$f":"IF('Entry sheet-3-hin'!G40=\"\",\"\",'Entry sheet-3-hin'!G40)","v":"शनि का निर्माण किस प्रकार हुआ है ?"}]
["उत्तर"]
[]
[]
[]
[{"$f":"IF(B84=\"\",\"\",A77+1)","v":""},{"$f":"IF('Entry sheet-3-hin'!G41=\"\",\"\",'Entry sheet-3-hin'!G41)","v":""}]
[null,"अथवा"]
[null,{"$f":"IF('Entry sheet-3-hin'!G42=\"\",\"\",'Entry sheet-3-hin'!G42)","v":""}]
["उत्तर"]
[]
[]
[]
["V.   निम्नलिखित प्रश्नों के उत्तर तीन - चार वाक्यों में लिखिए :-                                                                                                                         4 x 3 = 12",null,null,null,null,"4X3=12"]
[{"$f":"IF(B92=\"\",\"\",A84+1)","v":{"$error":"#VALUE!"}},{"$f":"IF('Entry sheet-3-hin'!G43=\"\",\"\",'Entry sheet-3-hin'!G43)","v":"गिल्लू के प्रति महादेवी वर्मा जी की ममता का वर्णन कीजिए । "}]
["उत्तर"]
[]
[]
[]
[]
[]
[]
[{"$f":"IF(B100=\"\",\"\",A92+1)","v":""},{"$f":"IF('Entry sheet-3-hin'!G44=\"\",\"\",'Entry sheet-3-hin'!G44)","v":""}]
["उत्तर"]
[]
[]
[]
[]
[]
[]
[{"$f":"IF(B108=\"\",\"\",A100+1)","v":""},{"$f":"IF('Entry sheet-3-hin'!G45=\"\",\"\",'Entry sheet-3-hin'!G45)","v":""}]
["उत्तर"]
[]
[]
[]
[]
[]
[]
[{"$f":"IF(B116=\"\",\"\",A108+1)","v":""},{"$f":"IF('Entry sheet-3-hin'!G46=\"\",\"\",'Entry sheet-3-hin'!G46)","v":""}]
["उत्तर"]
[]
[]
[]
[]
[]
[]
["VI.  निम्नलिखित प्रश्न का उत्तर  चार - पाँच वाक्यों में लिखिए :-                                                                                                                           2 x 4 = 8",null,null,null,null,"2X4=8"]
[{"$f":"IF(B125=\"\",\"\",A116+1)","v":""},{"$f":"IF('Entry sheet-3-hin'!G47=\"\",\"\",'Entry sheet-3-hin'!G47)","v":""}]
[null,"अथवा"]
[null,{"$f":"IF('Entry sheet-3-hin'!G48=\"\",\"\",'Entry sheet-3-hin'!G48)","v":""}]
["उत्तर"]
[]
[]
[]
[]
[]
[]
[]
[]
[]
[{"$f":"IF(B139=\"\",\"\",A125+1)","v":""},"निम्‍नलिखित पद्य भाग की पूर्ति कीजिए ।"]
[null,{"$f":"IF('Entry sheet-3-hin'!G49=\"\",\"\",'Entry sheet-3-hin'!G49)","v":""},"अथवा",{"$f":"IF('Entry sheet-3-hin'!G50=\"\",\"\",'Entry sheet-3-hin'!G50)","v":""}]
["उत्तर"]
[]
[]
[]
[]
[]
["खण्ड   “ ख ”"]
["[ व्याकरण ]"]
["VII.   निम्नलिखित प्रश्नो के लिए चार-चार विकल्प दिए गए हैं, जिनमें एकमात्र सही उत्तर है ।   सही उत्तर चुनकर लिखिए :-                   8 x 1 = 8",null,null,null,null,"8X1=8"]
[{"$f":"IF(B149=\"\",\"\",A138+1)","v":{"$error":"#VALUE!"}},{"$f":"IF('Entry sheet-3-hin'!G51=\"\",\"\",'Entry sheet-3-hin'!G51)","v":"‘चलना शब्द का  द्वितीय प्रेरणार्थक क्रिया रूप है -   \n   अ) चल      आ) चलाना      इ) चलवाना     ई) चालना"},null,null,"उत्तर"]
[{"$f":"IF(B150=\"\",\"\",A149+1)","v":{"$error":"#VALUE!"}},{"$f":"IF('Entry sheet-3-hin'!G52=\"\",\"\",'Entry sheet-3-hin'!G52)","v":"‘पक्षी’ का समानार्थक शब्द है -  \n   अ) खग     आ) जग      इ) वृक्ष        ई) गात"},null,null,"उत्तर"]
[{"$f":"IF(B151=\"\",\"\",A150+1)","v":""},{"$f":"IF('Entry sheet-3-hin'!G53=\"\",\"\",'Entry sheet-3-hin'!G53)","v":""},null,null,"उत्तर"]
["",{"$f":"IF('Entry sheet-3-hin'!G54=\"\",\"\",'Entry sheet-3-hin'!G54)","v":""},null,null,"उत्तर"]
["",{"$f":"IF('Entry sheet-3-hin'!G55=\"\",\"\",'Entry sheet-3-hin'!G55)","v":""},null,null,"उत्तर"]
["",{"$f":"IF('Entry sheet-3-hin'!G56=\"\",\"\",'Entry sheet-3-hin'!G56)","v":""},null,null,"उत्तर"]
["",{"$f":"IF('Entry sheet-3-hin'!G57=\"\",\"\",'Entry sheet-3-hin'!G57)","v":""},null,null,"उत्तर"]
["",{"$f":"IF('Entry sheet-3-hin'!G58=\"\",\"\",'Entry sheet-3-hin'!G58)","v":""},null,null,"उत्तर"]
["खण्ड   “ ग ”"]
["[ रचना - अपठित गद्यांश, अनुवाद, पत्रलेखन और निबंध ]"]
["VIII.37.  गद्यांश पढकर निम्नलिखित प्रश्नों के उत्तर लिखिए :-                              ",null,null,null,null,"4X1=4"]
[null,{"$f":"IF('Entry sheet-3-hin'!G59=\"\",\"\",'Entry sheet-3-hin'!G59)","v":""}]
[1,"उत्तर :-------------------------------------------------------------------------------------------------------------------------------------------------------"]
[2,"उत्तर :-------------------------------------------------------------------------------------------------------------------------------------------------------"]
[3,"उत्तर :-------------------------------------------------------------------------------------------------------------------------------------------------------"]
[4,"उत्तर :-------------------------------------------------------------------------------------------------------------------------------------------------------"]
["IX.   निम्नलिखित वाक्यों का अनुवाद कन्नड या अंग्रेजी में कीजिए :-                                                                                                               4 x 1 = 4",null,null,null,null,"4X1=4"]
[{"$f":"IF(B166=\"\",\"\",A156+2)","v":""},{"$f":"IF('Entry sheet-3-hin'!G60=\"\",\"\",'Entry sheet-3-hin'!G60)","v":""}]
["उत्तर"," --------------------------------------------------------------------------------------------------------------------------------------------------------------"]
[{"$f":"IF(B168=\"\",\"\",A166+1)","v":""},{"$f":"IF('Entry sheet-3-hin'!G61=\"\",\"\",'Entry sheet-3-hin'!G61)","v":""}]
["उत्तर"," --------------------------------------------------------------------------------------------------------------------------------------------------------------"]
[{"$f":"IF(B170=\"\",\"\",A168+1)","v":""},{"$f":"IF('Entry sheet-3-hin'!G62=\"\",\"\",'Entry sheet-3-hin'!G62)","v":""}]
["उत्तर"," --------------------------------------------------------------------------------------------------------------------------------------------------------------"]
[{"$f":"IF(B172=\"\",\"\",A170+1)","v":""},{"$f":"IF('Entry sheet-3-hin'!G63=\"\",\"\",'Entry sheet-3-hin'!G63)","v":""}]
["उत्तर"," --------------------------------------------------------------------------------------------------------------------------------------------------------------"]
["X.42.   ",{"$f":"IF('Entry sheet-3-hin'!G64=\"\",\"\",'Entry sheet-3-hin'!G64)","v":"अपने भाई की शादी में भाग लेने का कारण बताते हुए अपने कक्षाध्यापक को एक पत्र लिखिए ।                                                 "},null,null,null,4]
[null,"अथवा"]
[null,{"$f":"IF('Entry sheet-3-hin'!G65=\"\",\"\",'Entry sheet-3-hin'!G65)","v":""}]
["उत्तर"]
[]
[]
[]
[]
[]
[]
[]
[]
[]
[]
[]
[]
[]
[]
[]
[]
[]
[]
[]
[]
[]
[]
[]
[]
[]
[]
[]
[]
[]
[]
[]
[]
["XI.43.   ","किसी एक विषय पर निबंध लिखिए ।                                                                                                                                                     1x4=4",null,null,null,4]
[{"$f":"IF(B211=\"\",\"\",1)","v":1},{"$f":"IF('Entry sheet-3-hin'!G66=\"\",\"\",'Entry sheet-3-hin'!G66)","v":"समय का महत्व   ( विषयवस्तु, प्रकार, महत्व, उपसंहार )"}]
[{"$f":"IF(B212=\"\",\"\",A211+1)","v":""},{"$f":"IF('Entry sheet-3-hin'!G67=\"\",\"\",'Entry sheet-3-hin'!G67)","v":""}]
["",{"$f":"IF('Entry sheet-3-hin'!G68=\"\",\"\",'Entry sheet-3-hin'!G68)","v":""}]
["उत्तर"]

{"sheet":"Question paper 20 marks ","index":16,"n_rows":30,"n_cols":5,"rows_kept":30,"cut":false,"hidden":false,"merged":[[29,1,29,3],[25,1,25,3],[27,1,27,3],[28,1,28,3],[23,0,23,3],[24,0,24,3],[22,1,22,4],[19,0,19,3],[13,1,13,4],[14,1,14,4],[15,1,15,4],[16,0,16,4],[17,1,17,4],[12,0,12,4],[18,0,18,3],[11,1,11,4],[20,0,20,4],[21,1,21,4],[7,1,7,4],[8,1,8,4],[5,0,5,4],[9,0,9,4],[10,1,10,4],[3,0,3,3],[4,0,4,3],[1,2,1,4],[0,0,0,4],[6,1,6,4]]}
[{"$f":"'Entry sheet-1-hin'!C2","v":"सरकारी पदवि पूर्व कॉलेंज (प्रौ.शा.वि) गुरुगुंटा, ता : लिंगसुगूर"}]
[null,"प्रश्‍न पत्रिका - ",{"$f":"'Entry sheet-1-hin'!C3","v":"रूपणात्मक परीक्षा - 2   २०१६-१७"}]
[{"$f":"'Entry sheet-1-hin'!C4","v":"दसवीं "},{"$f":"'Entry sheet-1-hin'!C5","v":"हिंदी"},null,{"$f":"'Entry sheet-1-hin'!A6","v":" अंक"},{"$f":"'Entry sheet-1-hin'!C6","v":80}]
["खण्ड   “ क ”"]
["[ गद्य, पद्य और पूरक वाचन ]"]
["I.   निम्नलिखित प्रश्नों के उत्तर एक-एक वाक्य में लिखिए :-                                                    3 x 1 = 3"]
[{"$f":"IF(B7=\"\",\"\",1)","v":1},{"$f":"IF('Entry sheet-3-hin'!G14=\"\",\"\",'Entry sheet-3-hin'!G14)","v":"विमल इंदु की विशाल किरणें जगत को क्या दिखा रही हैं ? "}]
[{"$f":"IF(B8=\"\",\"\",A7+1)","v":2},{"$f":"IF('Entry sheet-3-hin'!G15=\"\",\"\",'Entry sheet-3-hin'!G15)","v":"कितने वर्ष की आयु में रविन्द्रनाथ अपने पिता की सम्पदाका दायित्व सम्भाले ?"}]
[{"$f":"IF(B9=\"\",\"\",A8+1)","v":3},{"$f":"IF('Entry sheet-3-hin'!G16=\"\",\"\",'Entry sheet-3-hin'!G16)","v":"एक दिन  नौकर साहुकार से क्या कहा ?"}]
["II.   4. प्रथम दो पदों से सूचित संबंधों के अनुरूप तीसरे पद से संबंधित पद लिखिए :-                   2 X 1 = 2"]
["अ",{"$f":"IF('Entry sheet-3-hin'!G26=\"\",\"\",'Entry sheet-3-hin'!G26)","v":"भगवान की लीला  :  इन्दु की किरणें   :: भगवान की दया :---"}]
["आ",{"$f":"IF('Entry sheet-3-hin'!G27=\"\",\"\",'Entry sheet-3-hin'!G27)","v":"काम को पारदर्शी बना सकता है : ई गवर्नेन्स  ::  आठ-दस व्यक्तियों के साथ बातचीत :--"}]
["III.   निम्नलिखित प्रश्नों के उत्तर दो या तीन वाक्यों में लिखिए :-                                             3 x 2 = 6"]
[{"$f":"IF(B14=\"\",\"\",A9+2)","v":5},{"$f":"IF('Entry sheet-3-hin'!G30=\"\",\"\",'Entry sheet-3-hin'!G30)","v":"सभी का मनोरथ कैसे पूर्ण होते हैं ?  "}]
[{"$f":"IF(B15=\"\",\"\",A14+1)","v":6},{"$f":"IF('Entry sheet-3-hin'!G31=\"\",\"\",'Entry sheet-3-hin'!G31)","v":"प्रभु की दया को कौन दर्शा रहा है ? "}]
[7,{"$f":"IF('Entry sheet-3-hin'!G32=\"\",\"\",'Entry sheet-3-hin'!G32)","v":"रवींद्रनाथ जी ने ‘सर’ की उपाधि क्यों त्याग दी ?"}]
["IV. निम्नलिखित प्रश्नों के उत्तर तीन - चार वाक्यों में लिखिए :-                                               1 x 3 = 3"]
[{"$f":"IF(B18=\"\",\"\",A16+1)","v":8},{"$f":"IF('Entry sheet-3-hin'!G43=\"\",\"\",'Entry sheet-3-hin'!G43)","v":"गिल्लू के प्रति महादेवी वर्मा जी की ममता का वर्णन कीजिए । "}]
["खण्ड   “ ख ”"]
["[ व्याकरण ]"]
["V.निम्नलिखित प्रश्नो के लिए चार-चार विकल्प दिए गए हैं,    सही उत्तर चुनकर लिखिए :-            2 x 1 = 2"]
[{"$f":"IF(B22=\"\",\"\",A18+1)","v":9},{"$f":"IF('Entry sheet-3-hin'!G51=\"\",\"\",'Entry sheet-3-hin'!G51)","v":"‘चलना शब्द का  द्वितीय प्रेरणार्थक क्रिया रूप है -   \n   अ) चल      आ) चलाना      इ) चलवाना     ई) चालना"}]
[{"$f":"IF(B23=\"\",\"\",A22+1)","v":10},{"$f":"IF('Entry sheet-3-hin'!G52=\"\",\"\",'Entry sheet-3-hin'!G52)","v":"‘पक्षी’ का समानार्थक शब्द है -  \n   अ) खग     आ) जग      इ) वृक्ष        ई) गात"}]
["खण्ड   “ ग ”"]
["[ रचना - ]"]
["VI.11.   ",{"$f":"IF('Entry sheet-3-hin'!G64=\"\",\"\",'Entry sheet-3-hin'!G64)","v":"अपने भाई की शादी में भाग लेने का कारण बताते हुए अपने कक्षाध्यापक को एक पत्र लिखिए ।                                                 "},null,null,4]
[null,"अथवा"]
[null," निबंध लिखिए ।                                                                                                                                                     "]
[null,{"$f":"IF('Entry sheet-3-hin'!G66=\"\",\"\",'Entry sheet-3-hin'!G66)","v":"समय का महत्व   ( विषयवस्तु, प्रकार, महत्व, उपसंहार )"}]
[null,"***************************************"]

{"sheet":"DATA","index":17,"n_rows":128,"n_cols":70,"rows_kept":128,"cut":false,"hidden":true,"merged":[[0,1,0,2],[0,25,0,26],[0,27,0,28],[0,29,0,30],[0,35,0,36],[0,31,0,32],[0,37,0,38],[0,39,0,40],[0,41,0,42],[0,33,0,34],[0,43,0,44],[0,49,0,50],[0,51,0,52],[0,53,0,54],[0,45,0,46],[0,47,0,48]]}
["हिन्दी बहुविकल्पीय प्रश्‍न","जोड़कर लिखना",null,"अनुवाद","अनुरूपता","प्रभो !","रविंद्रनाथ ठाकुर","भक्तों के भगवान","इंटरनेट","मातृभूमी","गिल्लु","बसंत की सच्चाई                                                                ","कर्नाटक - संपदा","आत्मकाथा ","ईमानदारों के सम्मेलन में               ","अभिनव मनुष्य","वृक्ष प्रेमी तिम्मक्का                              ","तुलसी के दोहे      ","सूर-श्याम              ","साहित्य सागर का मोती","शनि : सबसे सुन्दर ग्रह ","सत्य की महिमा","अनमोल समय","पत्र लेखन","निबंध","प्रभो",null,"रवींद्रनाथ ठाकुर",null,"भक्तों के भगवान",null,"इंटरनेट",null,"मातृभूमी",null,"गिल्लु",null,"बसंत की सच्चाई                                                                ",null,"कर्नाटक - संपदा",null,"आत्मकाथा ",null,"ईमानदारों के सम्मेलन में               ",null,"अभिनव मनुष्य",null,"वृक्ष प्रेमी तिम्मक्क",null,"तुलसी के दोहे      ",null,"सूर-श्याम              ",null,"साहित्य सागर का मोती",null,"प्रभो !","रविंद्रनाथ ठाकुर","भक्तों के भगवान","इंटरनेट","मातृभूमी","गिल्लु","बसंत की सच्चाई                                                                ","कर्नाटक - संपदा","आत्मकाथा ","ईमानदारों के सम्मेलन में               ","अभिनव मनुष्य","वृक्ष प्रेमी तिम्मक्का                              ","तुलसी के दोहे      ","सूर-श्याम              ","साहित्य सागर का मोती"]
["बच्चा  शब्द का अन्य लिंग रूप है -  \n   अ) बच्चों     आ) बच्ची    इ) बच्चीया    ई) बच्चे","अ","ब","रविंद्रनाथ ठाकूर भारतिय संस्क्रुति के प्रतिनिधि थे ।                     ",null,"एक वाक्य","एक वाक्य","एक वाक्य","एक वाक्य","एक वाक्य","एक वाक्य","एक वाक्य","एक वाक्य","एक वाक्य","एक वाक्य","एक वाक्य","एक वाक्य","एक वाक्य","एक वाक्य","एक वाक्य","दो अंकवाले","दो  अंकवाले","दो  अंकवाले","चार दिनों की छुट्टी माँगते हुए अपने प्रधानाध्यापक के नाम पर एक पत्र लिखिए ।                                                      ","बेरोजगारी  (तात्पर्य, प्रकार, कारण, उपाय, उपसंहार)","अनादि  तेरी  अनंत  माया     ","जगत  को लीला  दिखा रही है ! ","नोबेल पुरस्कार","ड़ी.लिट की उपाधि","शिवजी का ","मंदिर","इंटरनेट ने पूरे विश्‍व को ","बहुत बड़ा वरदान साबित हुआ ","तेरे उर में शायित ","वन-उपवन","महादेवी वर्मा ","गिल्लू","बसंत ","गरीब शरणार्थी लडका   ","अब्बी","जलाशय","मैं ने खादी का कुर्ता ","पहनना शुरु कर दिया","हरिशंकर परसाई","सम्मेलन के मुख्य अतिथि","आज की दुनिया           ","सरित गिरी सिंदु एक समान ।","तिम्मक्का","वृक्ष","तुलसीदास जी का बचपन का नाम","रामबोला","ग्वाला मजाक उड़ाते है","कृष्ण का","ड़ॉ. चंद्रशेखर कंबार जी का जन्म ","घोड़गेरी गाँव में हुआ ।","अभिनव मनुष्य  : रामधारी  सिंह दिनकर     ::   प्रभो :----","रवींद्रनाथ ठाकोर  :गुरुदेव    :: गाँधीजी    : -----","साहुकार : आलीशान कोठी    :: भिखारी : ----","नेटवर्क  : अंतर्जाल   :: वर्चुअल  मीटींग  :  ","एक हाथ में : न्याय पताका  :: दूसरे हाथ में :--","रवींद्रनाथ ठाकोर  : गीतांजली      :: महादेवी वर्मा     : -----","अहिर  : ग्वाला     :: फेरीवाला :----","सिलिकॉन सिटी : बेंगलूरु  :: चंदन का आगार :-","रवींद्रजी के घर का वातावरण   :   सांस्कृतिक      ::   साहनी जी के घर का वातावरण   : ------------------","बसंत की सच्चाई : एकांकी      :: ईमानदारों के सम्मेलन में : ---","भगवान की लीला का वर्णन   :  प्रभो     ::   मनुष्य की साधना का वर्णन :--------------","महादेवी वर्मा : गिल्लु   :: तिम्मक्का: ---","कृष्णभक्ति शाखा के प्रमुख कवि  : सूरदास ::  रामबक्ति शाखा के प्रमुख कवि :--","मातृभूमि : भगवतीचरण वर्मा     :: सूरस्याम :---","रविंद्रनाथ ठाकुर : नोबेल पुरस्कार    :: चंद्रशेखर कंबार :----"]
["‘पैसे’ इसका एकवचन  रूप है -  \n   अ) पैसा   आ) पैसे    इ) पैसों    ई) पैसियाँ",null,"जगत  को लीला  दिखा रही है ! ","वे जन्मजात साहित्यकार थे।                                                               ",null,"प्रभो कविता के कवि कौन हैं ? ","जन गण मन  राष्ट्र गीत के सॄजन कर्ता कौन है ?                        ","साहुकार कँहा रह्ता था ?                                                                  ","आज का युग कौन-सा युग है ?                                   ","मातृभूमी इस कविता के कवि कौन हैं ?                                                           ","गिल्लु पाठ की लेखिका कौन हैं ?                                        ","बसंत की सच्चाई एकांकी का लेखक कौन हैं ?                               ","कर्नाटक भारत का कैसा राज्य है ?                                               ","भीष्म सहानी का जन्म कब हुआ था ?                                         ","ईमनदारों का सम्मेलन में” इस लेख का लेखक कौन हैं? ","दिनकर जी का जन्म कब हुआ था ?                                                        ","किसका नाम आज कर्नाटक के कोने-कोने में व्याप्त है ?                     ","तुलसी किस शाखा के कवि थे ?                                                          ","सूरदास को किस का सूर्य माने जाते हैं?                                                            ","साहित्य सागर कैसा है ?                                                                       ","शनि किसका पुत्र है ? शनैःचर का अर्थ क्या है ?","सत्य क्या होता है ? उसका रूप कैसे होता है ?","‘समय’ को अमूल्य क्यों माना जाता है ?","अपनी पढ़ाई के बारे में बताते हुए अपने पिताजी को एक पत्र लिखिए ।"," पर्यटन का महत्व","तेरी प्रशंसा का राग प्यारे       ","तरंगमालाएँ  गा  रही हैं !","सन १९०८","जलियाँवालाबाग हत्याकाण्ड","साहुकार","भिखारी","इंटरनेट द्वारा कोई भी","सचेत रहना चाहिए ।","फल-फूलों से युत","आज साथ में","स्निग्द रोये","गिलहरी की","पं. राजकिशोर जी","किशनगंज","कर्नाटक राज्य","अनोखी शिल्पकला","भीष्म साहनी जी के बचपन का महौल ","अंधेरी गुफा जैसा लगता है ।","रात को पहनने के कपड़े","सम्मेलन के डेलिगेट","हैं बंदे नर के करो में        ","असीमित मानवों से प्रीर ।","तिम्मक्का का जन्म ","कक्केनहल्ली में हुआ ।","दया धर्म का मूल है","पाप मूल अभिमान","बलराम","यशोदा","राष्ट्र में एकता लाने के लिए ","हिन्दी भाषा अत्यंत उपयोगी है ।","जो तेरी होवे :  दया दयानिधि   ::  तो पूर्ण होते :---","चंद्रशेखर कंबार  : ज्ञानपीठ पुरस्कार    :: रविंद्रनाथ ठाकुर  :----","खरोड़पति ने कहा -आपके कान तो  :  बहरे हो गये हैं   ::  खरोड़पति ने कहा- आपकी आँखे : ---","इंटरनेट, एक ओर  : वरगान है   ::   दूसरी ओर :--","प्रभु  : जयशंकर प्रसाद    :: मातृभूमि : --","तिम्मक्का : पेड़ों पर प्यार    :: महादेवी वर्मा :---","पं राजकिशोर : किशनगंज     ::  बसंत :----","एच.ए.एल : हिंदुस्तान एरोनातिकल लिमिटेड   :: बी.ई.एल :---","ईमानदारों के सम्मेलन में : हरिशंकर परसाई   :: आत्मकथा :----","आत्मकथा : भीष्म साहनी  :: ईमानदारों के सम्मेलन में : ---","मातृभूमि : भगवतीचरण वर्मा   :: अभिनव मनुष्य :---","पशु-पक्षियों पर प्यार : महादेवी वर्मा   ::  पेड़ों पर प्यार : "," सूरदास  : कृष्णभक्ति शाखा   ::  तुलसीदास : -----","तुलसीदास  : रामचरित मानस   ::  सूरदास  : -----","साक्षात्कार  : भेंटवार्ता     ::  कुग्राम :----"]
["‘सत्याग्रह’ शब्द का समास है – \n   अ) अव्ययीभाव   आ) तत्पुरुष   इ) कर्मधारय    ई) द्विगु",null,"तरंगमालाएँ  गा  रही हैं !","बंगाल साहित्य को वे सम्रुद्ध बनाये ।                                               ",null,"जयशंकर प्रसाद का जन्म कँहा हुआ था ?  ","ठाकूरजी किसके प्रतिनिधि के रूप में   विख्यात हैं ?                                                      ","साहुकार शहर में क्या बनवाये थे ?                                                               ","एक वाक्य","भगवतीचरण वर्मा जी का जन्म कँहा हुआ था ?                                                                       ","महादेवी वर्मा को किस नाम से पहचानते हैं ?                     ","विष्णु प्रभाकर कैसे लेखक हैं ?                                                                                                                                                                                          ६)बसंत किन-किन चीजों को बेचने आया था ?                                 ","प्रकृती ने कर्नाटक राज्य को कैसे बना रखा है ?                             ","सहानी का जन्म कँहा हुआ था ?                                                   ","परसाई का जन्म कँहा हुआ था ?                                                         ","दिनकर जी निधन कब हुआ ?                                                            ","कर्नाटक सरकार तिम्मक्का को कैसे सम्मानित किया है ?                                        ","तुलसीदास का जन्म कँहा हुआ था ?                                                     ","सूरदास किस शाखा के प्रवर्तक थे ?                                                                 ","साहित्य सागर में क्या होते हैं ?                                                                    ","शनि का निर्माण किस प्रकार हुआ है ?","झूठ का सहारा लेते है तो क्या-क्या सहना पड़ता है ?","‘समय का सदुपयोग’ से क्या तात्पर्य है ?","अपने विद्यालय में मनाये गये वार्षिकोत्सव के बारे में बताते हुए अपनी माता को एक पत्र लिखिए ।               ","दहेज एक अभिशाप","जो तेरी होवे दया दयानिधि    ","तो पूर्ण होते सबके मनोरथ ","शांतिनिकेतन","गीतांजलि","बूढ़ा","बाल-बाल बच गया","इंटरनेट समाज के लिए","बिल भर सकते है ।","एक हाथ में","गाँधी, बुद्ध और राम","गिलहरी की","चमकीली आँखे","बसंत","भीखू अहीर टीले","वचनकार बसवण्णा","समाजसुधारक",null,null,"मैं पुलीस को बोलाकर यहाँ","सिरहाने दबाकर सोया","लांघ सकता है नर          "," वारी विध्युत भाप ।","अपना दत्तक पुत्र खोकर","तिम्मक्का बहुत दुःखी हुई ।","मुखिया मुख सो चाहिए","खान पान को एक","नंद","कृष्ण ","जिन ढ़ूँढ़ा तिन पाइयाँ","गहरे पानी पैठ","कानन कुसुम : काव्य   :: धृवस्वामिनी :----","विश्‍वभारती के निर्माता  :  रविंद्रनाथ ठाकुर   ::  ब्रम्हसमाज के बड़े नेता :---","दो दिनों से भूखा था : भिखारी   :: चार दिनों से भूखा था :---","आई.टी   :  इनफारमेशन तैकोलजी   :: आई.टी.ई.एस :--","मातृभूमी के बाहर : वन-उपवन   ::  मातृभूमी के अंदर  :--","गीतांजली : नोबेल पुरस्कार  :: यामा :---","प्रभु  : जयशंकर प्रसाद    ::बसंत की सच्चाई       : --","कर्नाटक के पश्‍चिम भाग में : अरब्बी समुद्र   ::  कर्नाटक दक्षिण भाग में :---",null,"विष्णु प्रभाकर : बसंत की सच्चाई ::  हरिशंकर परसाई  :---","प्रभो  :  कानन कुसुम    ::  अभिनव मनुष्य  : ---","तिम्मक्का के पिता : चिक्करंगय्या   :: तिम्मक्का की माता :---","सूरसागर :  सूरदास  :: रामचरित मानस :--","रामबक्ति शाखा के प्रमुख कवि : तुलसीदास  ::  कृष्णभक्ति शाखा के प्रमुख कवि :---","रविंद्रनाथ ठाकुर : नोबेल पुरस्कार    :: कुवेंपु:----"]
["‘फूला ना समाना’ इस मुहावरे का अर्थ है – \n   अ) फूल लाना    आ) आँखे खुलना     इ) अत्यंत प्रसन्न होना     ई) फुल न सँभालना",null,"तो पूर्ण होते सबके मनोरथ ","महाकवि रविंद्रनाथ ठाकूर आदर्श्वादी थे । ",null,"प्रसाद जी का जन्म कब हुआ था ? ","रविन्द्रनाथ जी का जन्म कब हुआ था ? ","सहुकार हर रोज क्या करता था ?                                                                                                                              ","आज किसका दायरा बाढ गया है ?                                       ","भगवतीचरण वर्मा जी का जन्म कब हुआ था ?                                                                 ","महादेवी जी का जन्म कब और कँहा हुआ था ?                             ","विष्णु प्रभाकर जी का जन्म कब हुआ था ?","कर्नाटक की प्राकृतिक सुष्मा कैसे है ?                                         ","किस कृति के लिये सहानी जी को साहित्य अकादमी पुरस्कार मिला ?                                                                                           ","परसाई का जन्म कब हुआ था ?                                                          ","अभिनव मनुष्य इस कविता के कवि कौन हैं ?                                           ","किस क्षेत्र में तिम्मक्का एक मिसाल बन गयी है ?                                   ","तुलसीदास का जन्म कब हुआ था ?                                                     ","सूरदास का जन्म कब और कँहा हुआ था ?                                                       ","किसकी बूंदे सागर की गहराई में पैठ जाती हैं ?                                               ","सौर मंडल का सबसे बड़ा उपग्रह कौन-सा है ? बहुत कम सूर्यताप किस ग्रह पर होता है ? ","शाश्त्र में सत्य बोलने का तरीका कैसे समझाया गया है ?","जीवन में सफल होने के लिए आवश्यक तत्व कौन-सा है ?"," प्रमाण पत्र माँगते हुए अपने प्रधानाध्यापक जी को एक पत्र लिखिए ।","त्योहारों का महत्व","सभी ये कहते पुकार करके       ","यही तो आशा दिला रही है!","सन १९१९","आदर्श विश्‍वविद्यालय",null,null,"इंटरनेट की वजह से ","एक छोटे गाँव का रूप दे दिया है ।","कोटि-कोटि हम","शत-शत बार प्रणाम",null,null,null,null,"महादेवी वर्मा ","आधुनिक मीरा",null,null,"एक चप्पल यहाँ उतरियें","सबकी तलाशी करवाता हूँ ।","शह मनुज                   ","विचित्र नवीन ।","तिम्मक्का के जीवन में ","मुसीबत की घडियाँ शुरु हुई ।","तुलसी साथी विपत्ति के ","विद्या विनय विवेक","यशोदा","गोरी","इस संसार में ","पुरुष भी सुंदर होता है ","जयशंकर प्रसाद का जन्म  : १८८९   ::  जयशंकर प्रसाद का मरण :---","महात्मा  : गॉंधीजि   ::  गुरुदेव  :----",null,"क्रांतिकारी खोज  :  सोशल नेटवर्किंग   ::  काल्पनिक सभागार  :---",null,"गिल्लू की पूँछ  :  झब्बेदारी   ::  गिल्लू की आँखें  :---",null,"कावेरी, कॄष्णा, तुंगभद्रा  :  नदियाँ   :: अब्बी, गोकाक, शिवन समुद्र  : ----",null,"सम्मेलन के उद्‍घाटन के बाद देखा : चप्पलें गायब थी   ::  गोष्ठियों से लौटकर देखा :---","कानन कुसुम काव्य संकलन : प्रभो   ::  कुरुक्षेत्र के षष्ठ सर्ग से  :----",null,"अभिमान  : पाप का मूल   ::  धर्म :---","तुलसीदास  : रामबक्ति शाखा  ::  सूरदास  : -----","गिल्लू  : महादेवी वर्मा     :: आत्मकथा :---"]
["‘आसान का विलोम शब्द है – \n   अ)सरल    आ) आसमान    इ) आसन    ई) मुश्किल",null,"यही तो आशा दिला रही है!","साहुकार को लोग भक्त खरोडपती के नाम से पुकारते थे।                     ",null,"प्रसाद जी के पिता कौन थे ?  ","रविन्द्रनाथ के पिताजी कौन थे                              ","शहर के लोग साहुकार को किस नाम से पुकारते थे ?   ","किसके कारण जिंदजी के दृष्टिकोण बदल गया है ?                          ","भगवतीचरण वर्मा जी किन-किन पत्रिकाओं का संपादन किये थे ?                                                   ","महादेवी जी के माता पिता कौन थे ?                                                                                                                                                                                      ","विष्णु प्रभाकर जी का जन्म कँहा हुआ था ?","कर्नाटक के पश्चिम में क्या है ?                                                  ","भिष्म सहानी को अपना बचपन कैसे लगा था ?                                   ","ईमानदारों के सम्मेलन में लेखक को किस कार्य हेतु बुलाये थे ?                   ","दिनकर जी का जन्म कँहा हुआ था ?                                                              ","तिम्मक्का का जन्म किस परिवार में हुआ था ?                                    ","तुलसीदास के माता-पिता कौन थे ?                                                             ","सूरदास की प्रमुख रचना कौन-सी है ?                                                                ","मोती कैसे बनती हैं ?                                                                               ","सौर-मंडल का सबसे बड़ा ग्रह कौन-सा है ? पृथ्वी और सूर्य में कितना फासला है ? ","\"संसार के महान व्यक्तियों ने सत्य का सहारा लिया है\" - सोदाहरण कीजिए । ",null,"अपने भाई की शादी में भाग लेने का कारण बताते हुए अपने कक्षाध्यापक को एक पत्र लिखिए ।                                                 ","समाचार पत्र  ( अर्थ, प्रारंभ, प्रकार, गुण, उपसंहार )",null,null,"सन १९१४","साहित्य सम्मेलन के सभापति",null,null,"इंटरनेट से सबको ","पैरसी, हैकिंग आदि बढ़ रही है । ","मातृ-भू","न्याय - पताका",null,null,null,null,"प्रथम राष्ट्रकवि","गोविंद पै",null,null,null,"सबकी गिरफ्तार करवाता हूँ ।","श्रेय मानव की               "," सृष्ठी का श्रंगार ।",null,null,null,null,null,null,"जो पुरुष मेहनति होता है ","वही सुन्दर है ।","भगवान की लीला  :  इन्दु की किरणें   :: भगवान की दया :---","रवींद्रनाथ जी को १९१३ में  : नोबल पुरस्कार   ::  रवींद्रनाथ जी को  १९१४ मे  :---",null,"काम को पारदर्शी बना सकता है : ई गवर्नेन्स  ::  आठ-दस व्यक्तियों के साथ बातचीत :--",null,"गिल्लू की प्रिय खाद्य  :  खाजू    ::  गिल्लू की  प्रिय लता :---",null,"मैसूर में  :  राजमहल   ::  बिजापुर में  :----",null,null,null,null,"अपनाना चाहिए  :  धर्म   ::  छोड़ना चाहिए  :---","वात्सल्य  : यशोधा   :: भोलेपन :---","गीतांजलि  : रविंद्रनाथ ठाकुर     :: यामा  : ----"]
["‘स्वागत’  इसमें संधि है – \n   अ) दीर्घ    आ) व्यंजन    इ) गुण    ई) यण्‍",null,null,"भगवान के यँहा देर है अंदेर नहीं ।                                                                        ",null,"प्रसाद जी का निधन कब हुआ ?","देवेन्द्रेनाथ कँहा रहते थे ?","एक दिन  नौकर साहुकार से क्या कहा ?","इंटरनेट क्या है ?                                             ","भगवतीचरण वर्मा जी के किस उपन्यास पर दो फ़िल्म निर्माण हुए हैं ?                                           ","महादेवी जी की किस कॄति के लिये ज्ञानपीठ पुरस्कार मिला?"," बसंत की आयु कीतनी थी ","दक्षिण में कौन-सी पर्वतमालाएँ शोभायमान है ?                              ","भिष्म सहानी बचपन में किससे वंचित थे ?                               ","लेखक को कौन-सा आश्वासन पत्र मिला था ?                                             ","दिनकर जी की किस कृती को ज्ञानपीठ पुरस्कार मिला है ?                                    ","तिम्मक्का का जन्म कँहा हुआ था ?                                                        ","तुलसीदास का बचपन का नाम क्या था ?                                                   ","सूरदास के काव्यो में किन-किन रसों का संगम हुआ है ?                                 ","कन्नड साहित्य सागर का अनमोल मोती कौन हैं ?                                             ","एक वाक्य में उत्तर लिखिए","महात्मा गाँधीजी का सत्य की शक्ति के बारे में क्या कथन है ?",null,"अपने विद्यालय में मनाये गये वार्षिकोत्सव के बारे में बताते हुए अपने मित्र को एक पत्र लिखिए ।","खेलों का महत्व  ( अर्थ, प्रकार, लाभ, उपसंहार )",null,null,"जलियनवाला बाग","अमानुष हत्या काण्ड   ",null,null,null,null,null,null,null,null,null,null,"कर्नाटक","चंदन का आगार",null,null,null,"तो दूसरी दस फीट दूर",null,null,null,null,null,null,null,null,"हमें आपसी व्यवहार के लिए ","हिन्दी सीखना जरूरी है ।",null,null,null,null,null,"चिक-चिक करता है  :  गिल्लू   ::  कॉव-कॉव करता है  :---",null,null,null,null,null,null,null,"बलराम  : गोरा रंग   ::   कॄष्ण  :--","सर    :   उपाधि     ::    ज्ञानपीठ  : ------------------"]
["रोहन सुन्दर लड़का है ।- इस वाक्य में प्रयुक्त विराम चिन्ह है – \n   अ) प्रश्‍नावाचक    आ)अर्धविराम    इ) पूर्णविराम    ई)विस्मयादिबोधक",null,null,"रास्ते मेंभिकारी को एक छोटा बच्चा मिला  ",null,"प्रसाद जी का पहला काव्य-संग्रह कौन सा है ?  ","सत्रह वर्ष की आयु में रविन्द्रनाथ जी कँहा गये थे ?               ","खरोडपती को घर आते समय रास्ते में कौन मिला?               ","मानव के लिये क्या-क्या जरुरी है ?                                                                               ","भगवतीचरण वर्मा के किस उपन्यास को साहित्य अकादमी पुरस्कार मिला ?                                    ","महादेविजी का देहांत कब हुआ ?","बसंत को कौन आते हुए दिखाई देता है ?                            ","बेंगलूर किन-किन का केंद्र है ?                                                  ","बचपन में सहानी को सुख कँहा मिलता था ?                                   ","लेखक के जाने से किन-किन को बडी प्रेरणा मिलती थी ?                                      ","अभिनव मनुष्य इस कविता का आकर काव्य कृती कौन-सा है ?                              ","तिम्मक्का के माता-पिता कौन थे ?                                                    ","तुलसीदास की श्रेष्ठ कृती कौन- सी थी ?                                                  ","बालक कृष्ण किसे शियाकत कर रहा है ?                                                           ","कंबार किन-किन गुणों की साकार मुर्ती हैं ?                                                  ","शनि किसका पुत्र है ? ","झूठ बोलनेवालों की हालत कैसे होती है ?","एक वाक्य में उत्तर लिखिए","शैक्षिक पर्यटन जाने के लिए १००० रुपये माँगते हुए अपने पिता को एक पत्र लिखिए ।      ","नागरिक का कर्तव्य (नगरिक का अर्थ, कर्तव्य या लक्षण, नागरिक और सरकार,  उपसंहार)",null,null,null,null,null,null,null,null,null,null,null,null,null,null,null,"सोने का आगार",null,null,null,null,null,null,null,null,null,null,null,null,null,null,null,null,null,null,null,null,null,null,null,null,null,null,null,"कॄष्ण के पिता  :  वसुदेव    ::  कृष्ण की माता  :----","शिकगो विश्‍वविद्यालय  : अमेरिका   ::  कन्नड विश्‍वविद्यालय  :---"]
["‘राजवंश’ किस समास क उदाहारण है ? \n   अ) कर्मधारय    आ) द्वंद्व    इ)  अव्ययीयभाव   ई) बहुव्रीहि",null,null,"भिकारी के रुप में भगवान ने खरोड्पती की रक्षा की।                        ",null,"प्रस्तुत पध्य किस काव्य-संकलन का है ?    ","इंगलेड के किस युनिवर्सिटी में वे दाखिल हुए थे ?                                          ","खरोडपती से  क्या विनंती कर लिया ?                                      ","पहले रिस्तेदारों को कैसे खबर सुनाते थे ?     ","भगवतीचरण वर्मा जी देहांत कब हुआ ?                                                                               ","कौए कँहा खेल रहे थे ?  ","कद्दरदारी व्यक्ति का नाम क्या था ?                         ","बेंगलूर को आज किस नाम से जानते हैं ?                                   ","बचपन में सहानी माँ से क्या-क्या सुनते थे ?                                    ","कौन-सा हिसाब लगाकर लेखक गये थे ?                                                            ","आज की दुनिया कैसी है ?                                                                          ","तिम्मक्का के माता-पिता कैसे पेट पालते थे ?                                          ","तुलदादास का देहांत कब और कँहा हुआ ?                                                      ","बलराम कृष्ण से क्या कहता है ?                                                            ","कंबार को कब ज्ञानपीठ पुरस्कार मिला ? (२०११)                                                        ","शनैःचर का अर्थ क्या है ?","हर स्थिति में सत्य बोलने का अभ्यास क्यों करना चाहिए ?","बुद्धिमान कौन होता है ?","दसवीं कक्षा की हिन्दी गाइड़ भेजने का निवेदन करते हुए सस्थाध्यक्ष, स्वप्न बुक स्टाल, बेंगलूर के नाम पर एक पत्र लिखिए ।","बेरोजगारी           (तात्पर्य,  प्रकार,  कारण , उपाय)"]
["‘संपदा’ का पर्यायवाची शब्द है – \n   अ) संप्रदान   आ) संपत्ति    इ) घर    ई) सदन",null,"ड़ी.लिट की उपाधि","इंटरनेट आधुनिक जीवन शैली का अंग बन गया है ।                                   ",null,"प्रभो कविता में ईश्वर के किस स्वरूप का वर्णन है ? ","कितने वर्ष की आयु में रविन्द्रनाथ अपने पिता की सम्पदाका दायित्व सम्भाले ?","एक व्यक्ति ने  को कितने पैसे  दिया ?                           ","पहले समाचार सुनाने में किसका व्यय होता था ?       ","इस कविता में कवि किसे प्रणाम कर रहे हैं ","काकभुशुंडी को पुराण कथाओं में  क्या माने हैं ?  ","राजकिशोर कौन था ?                                                                                                                                                      ","कर्नाटक के किस विज्ञानी को २०१३ में भारत रत्न पुरस्कार मिला? ","अन्य बालकों की तुलना में सहानी अपने आप को क्या समझते थे ?   ","लेखक को कितनी फ़ूल मालाएँ पहनाई गयी ?                                            ","मनुष्य किस पर विजय पाया है ?                                                                    ","तिम्मक्का के पती कौन था ?                                                            ","मुखिया का मुँह कैसे होना चाहिए ?                                                                  ","जसुमती का दुसरा नाम क्या है ?                                                              ","कंबार का जन्म कँहा हुआ था ?                                                              ","सौर-मंडल का सबसे बड़ा ग्रह कौन-सा है ?",null,"हमें किसका आदर करना चाहिए ?",null,"इंटर्नेट क्रांति          (अर्थ,  लाभ,  हानी,  उपसंहार)"]
["बहुत बोलनेवाला होता है – \n   अ) शिक्षक    आ) उपन्यासक    इ) वाचाल     ई) मूर्ख",null,"जलियाँवालाबाग हत्याकाण्ड","आज खान-पान जैसे इंटरनेट भी आवश्यक हो गया है ।                              ",null,"इंदु की किरणें कैसी हैं ?                 ","बीसवीं शताब्दी के आरंभ में रविन्द्रनाथ किस आंदोलनके नेता थे ?                   ","भिखारी को रास्ते में कौन मिला ?                                       ","इंटरनेट द्वारा हम क्या भेज सकते हैं ?                                ","भारत माता किसको जन्म दी है ?                                                        ","हमारे पूर्वज किस रुप में आते हैं ?                                                                       ","एक छननी का कीमत कितनी थी ?  ","कर्नाटक में मिलनेवाले धातु कौन-कौन से हैं ?                                       ","किसके साथ सहानी एक दिन चाय पीने रेस्तारेंट गये थे ?         ","लेखक को कँहा ठहराये थे ?                                                               ","कौन-कौन से चीज नर के हाथों में बंधी हैं ?                                                      ","चिक्कय्या हर रोज क्या करते थे ?                                                   ","मुँह किन-किन का पालन-पोषण करता है ?                                                    ","पुनः पुनः बलराम कृष्ण से क्या कहता है ?                                                      ","घोडगेरी तब कैसा ग्राम था ?                                                                 ","सौर-मंडल में शनि ग्रह का स्थान क्या है ?","एक वाक्य में उत्तर लिखिए",null,null,"समय का महत्व   ( विषयवस्तु, प्रकार, महत्व, उपसंहार )"]
["रमेश धीरे-धीरे  लिखता है । इस वाक्य में रेखांकित शब्द है -   \n  अ) संज्ञा    आ) विशेषण    इ) क्रिया    ई) क्रिया विशेषण",null,"गीतांजलि","इंटरनेट द्वारा घर बैटे-बैटे खरिदारी कर सकते हैं ।                              ",null,"विमल इंदु की विशाल किरणें क्या बता रही हैं ?   ","रविन्द्रनाथ जन्मजात कैसे थे ?","साहुकार कितने रुपये  दिया ?                                  ","इंटरनेट आज किसका महत्वपूर्ण अंग बन गया है ?                ","भारत माता के उर में कौन-कौन सो रहे हैं ?                                                      ","गमले के पीछे लेखिका ने क्या देखी ?      ","राजकिशोर जेब से कितने पैसे निकालकर देने आये ? ","लोहे और इस्पात के करखाना कँहा हैं ?                                     ","रेस्तारा का मालिक कौन था ?                                                   ","उद्घाटन कैसे हुआ ?                                                                           ","मानव के हुकुम पर किस का ताप चलता है ?                                              ","मजदूरी न मिले तो उन्हें कैसे रहना पडता था ?                                ","सृष्ठीकर्ता ने किन-किन का निर्माण किया है ?                                            ","कृष्ण का शरीर कैसे था ?                                                                            ","घोडगेरी के निवासियों का जीवन किस पर निर्भर था ?                                 ","पृथ्वी और सूर्य में कितना फासला है ?","सत्य क्या होता है ? ",null,null,"परिश्रम का महत्व  ( अर्थ, विषयवस्तु, लाभ, महत्व, उपसंहार )"]
["‘परोपकार’ का उचित संधि-विच्छेद रूप है – \n   अ) परोप+कार    आ) पर+उपकार   इ)परो+उपकार    ई) परोप+कार",null,"आदर्श विश्‍वविद्यालय","इंटरनेट सचमुच एक वरदान है।                                                      ",null,"विमल इंदु की विशाल किरणें जगत को क्या दिखा रही हैं ? ","ठाकूरजी किन-किन विषयों पर लेख लिखें हैं ? ","किस कारण से भिखारी को १०० रुपये दिया ?                                                                               ","इंटरनेट के बिना किन-किन क्षेत्र ठप पड जाते हैं ?                 ","हरे-भरे खेत कैसे लगते हैं ?                                                                             ","गिलहरी को कौन अपना आहार बनाना चाहते थे ?                    ","एक चननी बेचने से बसंत को कितने पैसे बचते थे ? ","कर्नाटक को चंदन का आगर क्यों कहते हैं ?                          ","कॉलेज अध्यापन के साथ साथ लेखक भीष्म साहनी जी और क्या काम करते थे?        ","लेखक के किन-किन चीजों को चोरी किया गया था ?                                       ","मानव किन-किन को लांघ सकता है ?                                                     ","तिम्मक्का २००५ में किसे दत्तक-पुत्र के रूप में गोद लिया ?                         ","संत का गुण कैसे होना चाहिए ?                                                                       ","कौन चुटकी देकर हँसते हैं ?                                                                       ","किन-किन सुविधाओं से घोडगेरी वंचित था ?                                 ","शनि एक राशि में कितने सालों तक रहता है ?","सत्य का रूप कैसे होता है ?",null,null,"कंप्यूटर की उपयोगिता  ( अर्थ, विस्तार, लाभ, हानी, उपसंहार )"]
["‘वरदान’ शब्द का विलोम शब्द है – \n   अ) दान    आ) पुरस्कार    इ) शाप    ई) आशीर्वाद",null,"साहित्य सम्मेलन के सभापति","बेच्चे आज इंटरनेट से अनुपयुक्त और अनावश्यक जानकारी हासिल कर सकते हैं । ",null,"भगवान की दया कितना विशाल है ?    ","रविन्द्रनाथ कब बंगाल साहित्य सम्मेलन के सभापती चुने गये? ","भगवान के यँहा क्या है ?   ","वर्चुअल मीटींग रुम का अर्थ क्या  है?                                                                                                                                           ","उपवन किनसे भरे हुए हैं ?                                                                              ","गिलहरी कैसे पडा था ?                                                                ","दो पैसे लेने के लिये बसंत क्यों इनकार किया ?                 ","कर्नाटक में कौन-कौन सी नदियाँ बहती हैं ?                          ","भीष्म साहनी किसका व्यापर करते थे?                                                                 ","चादर के बारे में आयोजनकर्ताओं ने क्या कहा ?                                         ","मनुष्य आज कँहा यान कर रहा है ?                                                             ","पती-पत्नी ने क्या निश्च्य किया ?                                                     ","हंस का गुण क्या है ?                                                                     ","ग्वालों को सिखाने वाला कौन है ?                                                                     ","कोई बीमार पडे तो उसे कँहा ले जाना पडता था ?                                     ","बहुत कम सूर्यताप किस ग्रह पर होता है ?","जॉन मेन्सफील्ड की धारणा क्या है ?",null,null,"विद्यार्थी जीवन"]
["‘श्री गणॆश करना’ मुहावरे का अर्थ है -   \n   अ) पूजा करना    आ) आरंभ करना    इ) भजन कर्ना    ई) समाप्त करना",null,"अमानुष हत्या काण्ड   ","हमारे पुर्वज गरुड,मयुर या हँस के रुप में नहीं आते थे |                       ",null,"भगवान की दया के गीत गाने वाले कौन हैं ? ","रविन्द्रनाथ गीतंजली का अंग्रेजी में अनुवाद कब किये ?","खरोड्पती को किसने बचाया ?                                                          ","आई.टी. का अर्थ क्या है ?  ","भारत माता का उदर किस से भरा हुआ है ?                                                       ","गिल्लु की आँखे कैसी थी ?                                                       ","राजकिशोर कँहा रहते थे ?                                                                                                                                                                                                 ","कर्नाटक के प्रमुख जलप्रपात कौन-कौन से हैं ?                                 ","अधिकांश लडके क्या सपने देखते थे ?                                              ","बगल के कमरे में क्या चोरी किये थे ?                                           ","मनुष्य के करों को देख कर कौन काँपते हैं ?                                                    ","किस मेले में तिम्मक्का दंपति ने जानवरों के लिये पानी का इंतजाम किये ?                            ","धर्म का मूल क्या है ?                                                                     ","इस पध्य में बलराम के कितने नाम अंकित हैं ?                                                 ","कंबार जी कँहा शिक्षा पाने में कामयाब हुए ?                                            ","सौर मंडल का सबसे बड़ा उपग्रह कौन-सा है ?","सत्य के बारे में संस्कृत की  कौन - सी सूक्ति है ?",null,null,"पर्यावरण की रक्षा ( अर्थ, विस्तार, लाभ, हानी, उपसंहार )"]
["इनमें एकवचन शब्द है -  \n   अ) मालाएँ    आ) लड़कियाँ     इ) आँख    ई) किताबें",null,null,"दिन भर गिल्लु ने न कुछ खाया,न बाहर आया ।                        ",null,"भगवान को कवि किस नाम से संबोधित किया है ?  ","किस कॄती के लिये उन्हे नोबल पुरस्कर मिला?",null,"आई.टी.ई.एस. का अर्थ क्या है? ","मुक्त हस्त से भारत माता किन-किन चीजों को बांट रही है ?                                     ","लेखिका गिलहरी को रहने के लिये कँहा व्यवस्था की ? ","नोट लेने पर बसंत क्यों भागा ?","कहाँ-कहाँ के पत्थर की मूर्तियाँ सजीव लगती हैं ?                               ","लेखक की दुनियाँ बदलने वाला व्यक्ति कौन था ?                         ","ब्रिफ़केस में क्या थे ?                                                                             ","मनुष्य किन का श्रुंगार है ?                                                                    ","किन-किन ग्रामों के बीच तिम्मक्का दंपति ने बरगद का पेड लगाये ?                                     ","पाप का मूल क्या है ?                                                                          ","बलराम के बारे में यशोधा क्या कहती है ?                                                      ","कंबार के लिये आदर्श कौन थे ?                                                             ",null,"हमें हर स्थिति में क्या बोलने का अभ्यास करना चाहिए ?",null,null,"पर्यटन का महत्व ( अर्थ, लाभ, एक व्यापार, शौक, उपसंहार)"]
["यह शब्द गुण संधि का उदाहरण है -  \n   अ) गणेश    आ) सहानुभूति    इ) एकैक    ई) गायक",null,"मंदिर","गिलहरी के जीवन की अवधी दो वर्ष से अधिक नहीं होती ",null,"दयानिधी की दया रहे तो क्या हो सकता है ?  ","नोबल पुरस्कर कब मिला?","दो - तीन वाक्य","भारत में किन-किन संस्थाओं का प्रवेश हुआ है ?   ","भारत माता के एक हाथ में क्या है ?                                                              ","गिलहरी को किन-किन से बचाना एक समस्या बन गयी थी ?        ","मोटर के नीचे कुचल जाने से बसंत की स्तिथी कैसी बनी?  ","श्रवनबेलगोल में किसकी एकशिला प्रतिमा है ?                     ","दूसरे महायुद्द छिड़ने की देर ही में बाजार में क्या परिर्तन हुआ?   ","लेखक का ही चश्मा पेहन कर चोरी किया हुआ व्यक्ति लेखक के सामने कैसे बैठा था ?                                                           ","मनुष्य किस-किस का आगार है ?                                                               ","तिम्मक्का पेडों को कैसे पाला पोसा ?                                                 ","कब तक हमें दया नहीं छोडना चाहिए ?                                                           ","यशोधा किसकी सौगंध खाती है ?                                                                      ","कंबार जी के पिता क्या कहते थे ?                                                           ",null,"राजा हरिश्‍चन्द्र किस के लिए विश्‍वविख्यात है ?",null,null,"अनुशासन ( अर्थ, विद्यार्थी के जीवन में, महत्व, उपसंहार )"]
["‘व्यवहार-कुशल’ में समास है -  \n   अ) अव्ययीभाव    आ) तत्पुरुष    इ) कर्मधारय    ई) द्विगु",null,"भिखारी","हम उसे गिल्लु कहकर पु्कारते थे ",null,"सब के मनोरथ कब पुर्ण होते हैं ?   ","१९१३ में रविंद्रजी को और कौन सी उपाधी मिली ?","गुस्से में खरोडपती भगवान से क्या कहा?                                           ","इंटरनेट से अनगिनत लोगों को क्या मिला है ?                             ","भारत माता के दूसरे हाथ में क्या है ?                                                          ","लेखिका को चौंकाने के लिये गिलहरी कँहा छिपता था?       ","बसंत का भाई कौन था ? ","गोमटेश्वर मूर्ती कौन-सा संदेश दे रहा है ? ","व्यापार करते दिनों में लेखक पर किन विचारों का रंग चढा हुआ था ?                                                                                        ","मंत्री ने गुस्से में क्या कहा ?                                                                     ","मनुष्य को कहाँ-से कहाँ तक सब कुच ज्ञेय है ?                                              ","तिम्मका ने कितने पेड लगाया ?                                                                   ","तुलसी के अनुसार विपत्ती के साथी कौन-कौन हैं ?                                             ","सौगंध खा कर यशोधा क्या कहती है ?                                                          ","कंबार जी एम.ए. और पि.एच.डी.उपाधी कँहा से पाये ?                                    "]
["‘खतरे से बच जाना’ यह इस मुहावरे का अर्थ है -  \n   अ) होश हवास खोना     आ) श्री गणेश करना    इ) बाल-बाल बचना    ई) आग बबूला होना",null,"बाल-बाल बच गया","गिल्लु मेर पास रखी सुराही पर लेट जाता था ?                                ",null,null,"१९१४ में रविन्द्रनाथ को किस विश्वविध्यालय से डि.लिट.उपाधी मिली?","भिखारी ने भगवान से क्या प्रार्थना की ?                                                  ","कौन-सा चीज क्रांतिकारी खो है ?                                    ","कवि माँ से किसका रुप बदल देने के लिये कह रहे हैं ?                                      ","गिलहरी कँहा बैठकर खाना खाता था ?                                                                                                ","किस कारण से बसंत राजकिशोर को पैसे वापस दे न सका ?","विजयपुर में हमें क्या देखने मिलता है ?                              ","१८४२ में कौन-सा आंदोलन शुरु हुआ था ?                                ","पहनने के कपडों को लेखक कँहा दबाकर सोये थे ?                                      ","मानव किस से परिचित नहीं है ?                                                             ","कब तिम्मक्का अकेली पड गयी ?                                                           ","किन-किन से राम का आश्रय मिलता है ?                                           ",null,"कंबार जी की प्रमुख रचनाएँ कौन-कौन सी हैं ?                                             "]
["‘आयत’ का विलोम शब्द है -  \n   अ) निर्यात    आ) प्रख्यात    इ) भेजना   ई) आया था",null,null,"बसंत एक ईमादार लड़का है ।",null,"दो - तीन वाक्य","१६१६ में भारत में घटित अमानुशिक हत्याकांड कौन-सा है ?","रास्ते में बच्चा क्यों रो रहा था ?                                                     ","सोशियल नेट्वर्क कौन-कौन सी साईट्स हैं ?                            ","भारत माँ के साथ हम कितने लोग हैं ?                                                          ","गिलहरी का प्रिय खाध्य क्या था ?","प्रताप राजकिशोर के कितने पैसे वापस देने आया था ?              ","कर्नाटक में किन-किन राजावंशों ने शासन किये हैं?                      ","भीष्म साहनी गाँधीजी को अती निकट से कँहा देखे थे ?                           ","बिस्तर के नीछे क्या-क्या दबा रखे थे ?                                                 ","मानव का श्रेय किस पर है ? ","अब पेडों की रक्षा का भार किसने उठाया है ?                             ",null,"दो - तीन वाक्य","लोक-साहित्य के लिये कंबार जी को प्रेरणा कँहा से मिली थी ?         "]
["अर्चना सुन्दर लड़की है ! इस वाक्य में प्रयुक्त विराम चिन्ह है -  \n   अ) प्रश्‍नावचक    आ) पूर्णविराम        इ) उद्धरण    ई) विस्मयादिबोधक",null,null,"मैं अभी बाजार से भुना लाता हूँ ।",null,"विमल इंदु की विशाल किरण क्या बता रही हैं और किसे दिखा रही हैं ?   ","१९२१ में वे किस स्कूल को विश्वभारती के रूप में व्यापक कर दिये ?                                                       ","करोड़पति के होशहवास क्यों उड़ गये ?","भारत कैसा राष्र्ट है ?                                                                                                              ","सकल नगर और ग्राम किस नाद से गूँज उठना चाहिए ?                                       ","गिलहरीयों की जीवन की अवधि कितनी होती है ?","बसंत और पताप किसके घर में रहते थे ?                                .","कर्नाटक के प्रमुख राज-राणियों का नाम लिखो ।                     ","लेखक आंदोलन के दिनों में क्या पहनना शुरु किये ?                       ",null,"सच्चा ज्ञानी और विज्ञानी कौन कहलाता है ?","तिम्मक्का २०१२ मे आयोजित किस सम्मेलन की अध्यक्षा बनी थी? ","दो - तीन वाक्य","कृष्ण बलराम के साथ क्यों खेलने नहीं जाना चाहता ?                                                    ","घोडगेरी किस नदी के किनारे पर है ?                                              "]
["‘युवक’ शब्द का अन्यलिंग रूप है -  \n   अ) युबकी     आ) युवती     इ) युवति    ई) युवका",null,null,"मजदूरों के नेता पं राजकिशोर जी थे ।",null,"प्रभु की दया को कौन दर्शा रहा है ? ","भारत के लोग रविंद्रजी को किस नाम से पुकारते थे ?","भिखारी को बालक पर क्यों दया आयी ?","भारत में किसके द्वारा बदलाव लाने की कोशीश कर रहे है?    ",null,"गिलहरी की समाधी कँहा बनाई गई है ?                                   ","बसंत के माता पिता कब मर गये थे ?                                                                                                                                                                                                     ","क्रांतिकारी समाज सुधारक कौन थे ?                                      ","किस उद्देश्य से केखक खादी पहनकर सडकों पर घूमते थे?        ","दो - तीन वाक्य",null,"वह गरिबों के लिये किस का निर्माण करना चाहती है ?                      ","मुखिया को मुख के समान होना चाहिए । कैसे ?","बलराम कृष्ण के माता-पिता के बारे में क्या कहता है ?                                             ","कंबार अमरिका के किस विश्व-विध्यालय में प्रोफ़ेसर बने थे ?               "]
["कमरा का अन्यवचन रुप है -  \n   अ) कमरों     आ) कमरे     इ) कमरा     ई) कमराएँ",null,null,"कर्नाट्क भारत का एक प्रगतीशील राज्य है ।                              ",null,"सभी का मनोरथ कैसे पूर्ण होते हैं ?  ","ठाकूर से रचित कुछ रचनाओं का नाम लिखो ।","लोग क्या कहकर चीक रहे थे ?","इंटरनेट समाज के लिये क्या है ? ","दो - तीन वाक्य","लेखिका किस आशा से गिलहरी की समाधी सोनझुही लता के नीचे बनाई थी ?                                              ","बसंत का घर कँहा था ? ","कर्नाटक के प्रमुख वचनकार कौन-कौन थे ?                               ","लेखक के घर में कौन-सा वातावरण था ?                                                                                     ","लेखक को भेजे गये निमंत्रण पत्र में क्या लिखा गया था ?","दो - तीन वाक्य","अपनी धनराशी को तिम्मक्का किसके लिये व्यय कर रही है ?                             ","मनुष्य को हंस की तरह क्या करना चाहिए ?","यशोधा कृष्ण के क्रोध को कैसे शांत करती है ?","कंबार किस विश्व-विध्यालय के उप-कुलपती बने थे ?                                       "]
["‘संग्रहालय’ किस संधि का उदाहरण है ?  \n   अ) यण्     आ) गुण     इ) दीर्घ     ई) अयादि",null,null,"कर्नाटक राज्य की शिल्पकला अनोखी है ",null,"प्रेसाद जी की प्रमुख रचनाएँ कौन-कौन सी हैं ?   ","रविंद्रजी से स्थापित आदर्श विध्यालय का नाम क्या है ","बूड़े को किसने बचाया ?  कैसे ?","किन-किन क्षेत्रों में इंटरनेट अपना कमाल दिखाया है ?","भारत माता के प्रकृती सौंदर्य कैसे है ?                                                            ",null,"बसंत कँहा लेटा था ? ","वचनकारों ने किस की सीख दी ? ","लेखक की बुआ की बेटी का नाम क्या था ?  ","फूल मालाएँ मिलने पर लेखक क्या सोचने लगे ?","‘प्रकृति पर सर्वत्र है विजयी पुरुष आसीन’ – इस पंक्‍ति का आशय समझाइए ।","तिम्मक्का अस्पताल का निर्माण कँहा करना चाहती है ?                                     ","मनुष्य के जीवन में चारों ओर प्रकाश कब फैलता है ?","कृष्ण अपनी माता यशोदा के प्रति क्यों नाराज़ है ?","किस सोसायटी का अध्यक्ष बन कर कंबार जी काम किये हैं ?                       "]
["“लंबोदर’ इस समास का उदाहरण है -   \n   अ) बहुर्वीहि    आ) द्वंद्व     इ) द्विगु     ई) अव्ययीभाव",null,null,"वचनकार बसवण्ण क्रांतिकारी समाज सुधारक थे ।                             ",null,"निम्नलिखित कवितांश का भावार्थ भावार्थ लिखिए ।\n       जो तेरी होवे दया दयानिधी \n        तो पूर्ण होते सब के मनोरथ । \n        सभी ये कहते पुकारती\n        यही तो आशा दिला रही है ।","आज शांतिनिकेतन किस नाम से प्रसिद्द है ?",null,"इंटरनेटा की कदंब-बाहों पाश में आज कौन फ़ँसे हुए हैं ?                ","भारत माँ का स्वरुप कैसे सुशोभित है ?                                                  ","दो - तीन वाक्य","डाक्टर के अनुसार बसंत को क्या हुआ था ?","कर्नाटक के भक्त कवि कौन-कौन थे ?                                ","उन दिनों के प्रमुख हिंदी के पत्र कौन-कौन से थे ?   ","चप्पलों की चोरी होने पर ईमानदार डेलीगेट ने क्या सुझाव दिया ?","दिनकर जी के अनुसार मानव का सही परिचय क्या है ?","उनका जीवन किसके लिये अत्युत्तम निदर्शन है ?                                ","राम नाम के बारे में तुलसीदास जी ने क्या कहा है ?","निम्नलिखित पद का भावार्थ भावार्थ लिखिए ।\n     गोरे नंद जसोदा गोरी, तुम कत स्याम सरीर ।\n     चुतकी दै दै हँसत ग्वाल, सब सिखै देत बलवीर ॥","हिंदी भाषा किस के लिये अत्यंत उपयोगी है ?                                          "]
["‘सज्जन” का विलोम शब्द है -  \n   अ) बुरा जन    आ) दुर्जन     इ) नसज्जन    ई) असज्जन",null,"बहुत बड़ा वरदान साबित हुआ ","कर्नाटक में कन्नड भाषा बोली जाती है ।                                      ",null,"तीन - अंकवाले ",null,null,"आज बच्चे इंटरनेट से कौन-सी जानकारी हासिल कर रहे हैं?                 ","निम्नलिखित कवितांश का भावार्थ भावार्थ लिखिए ।  \n   एक हाथ में न्याय पताका\n   ज्ञान-दीप दूसरे हाथ में\n   जग का रुप बदल दे, हे माँ \n   कोटी-कोटी हम आज साथ में ।\n   गूँज उठे जय-हिंद नाद से\n   सकल नगर और ग्राम\n   मातृ-भू, शत-शत बार प्रणाम ।","लेखिका का ध्यान आकर्षित करने के लिए गिल्लू क्या करता था ?","बसंत में निहित दुर्लब गुण कौन सा था ?","कर्नाटक के ज्ञानपीठ पुरस्कृत कवि कौन-कौन हैं ?                      ",null,"लेखक ने मंत्री को क्या समझाया ?","अभिनव मनुष्य कविता का दूसरा कौन सा शीर्षक हो सकता है ? क्यों ? ",null,"निम्नलिखित कवितांश का भावार्थ भावार्थ लिखिए ।\n   दया धर्म का मूल, पाप मूल अभिमान । \n   तुलसी दया न छांडिये,जब लग घट में प्राण ॥                              ","तीन-अंकवाले","आज हिंदी किस रुप में प्रचलित है ?                                                        "]
["‘हिम्मत’ का समानार्थक शब्द है -  \n   अ) बलवान     आ) साहस    इ) ताकतवान     ई) अहिम्मत",null,"सचेत रहना चाहिए ।","मेरी निःसहायकता सारा वक्त मेरे दिल को मथती रहती ।                         ",null,"भावार्थ लिखो","दो - तीन वाक्य","तीन - चार वाक्य ",null,"भावार्थ","महादेवी वर्मा को चौंकाने के लिए वह कहाँ-कहाँ  छिप जाता था ?",null,null,"दो - तीन वाक्य","लेखक ने कमरा छोड़कर जाने का निर्णय क्यों लिया ?","निम्नलिखित कवितांश का भावार्थ भावार्थ लिखिए । \n    यह मनुज, जो सृष्ठी का श्रंगार ,\n    ज्ञान का,विज्ञान का, आलोक का आगार ।\n    व्योम से पातल तक सब कुच इसे हैं ज्ञात,\n    पर,न यह परिचित मनुज का, यह न उसका श्रेय ।","दो - तीन वाक्य","तीन अंकवाले","सूर श्याम का भावार्थ अपने शब्दों में लिखिए ।"]
["क्या कर रहे हो ? इस वाक्य में प्रयुक्त विराम चिन्ह है -  \n   अ) पूर्णविराम     अ) अर्धविराम     इ) अल्पविराम       ई) प्रश्‍नावचक",null,"बिल भर सकते है ।","यह उसका रेस्ताराँ है,हमारा नहीं ।                                             ",null,"निम्नलिखित कवितांश का भावार्थ भावार्थ लिखिए ।\n       जो तेरी होवे दया दयानिधी \n        तो पूर्ण होते सब के मनोरथ । \n        सभी ये कहते पुकारती\n        यही तो आशा दिला रही है ।","रवींद्रनाथ जी ने ‘सर’ की उपाधि क्यों त्याग दी ?","नौकर की बातें सुनकर साहूकार ने भगवान से क्या कहा ?","दो - तीन वाक्य","निम्नलिखित कवितांश का भावार्थ भावार्थ लिखिए ।  \n   एक हाथ में न्याय पताका\n   ज्ञान-दीप दूसरे हाथ में\n   जग का रुप बदल दे, हे माँ \n   कोटी-कोटी हम आज साथ में ।","लेखिका को गिलहरी किस स्थिति में दिखायी पड़ी ?","दो - तीन वाक्य","दो - तीन वाक्य","भीष्म साहनी जी अन्य बालकों से क्यों जलते थे ?","मुख्य अतिथि की बेईमानी कहाँ दिखाई देती है ?","भावार्थ","बच्चे को गोद लेने के कारण तिम्मक्का दंपति को दुःख भोगना पड़ा । क्यों ?","मुखिया को मुख के समान होना चाहिए । कैसे ?","निम्नलिखित पद का भावार्थ भावार्थ लिखिए ।\n     गोरे नंद जसोदा गोरी, तुम कत स्याम सरीर ।\n     चुतकी दै दै हँसत ग्वाल, सब सिखै देत बलवीर ॥","दो - अंकवाले"]
["यह शब्द अयादि संधि का उदाहरण है -  \n   अ) एकैक      आ) स्वागत      इ) गायक      ई) अत्यंत",null,"एक छोटे गाँव का रूप दे दिया है ।","अधिकांश लड़के सरकारी अफ़सर बनने के लिये सपने देखते हैं।             ",null,"सभी का मनोरथ कैसे पूर्ण होते हैं ?  ","शांतिनिकेतन का आशय क्या था ?","भिकारी ने भगवान से क्या प्रार्थना की ?","इंटरनेट का मतलब क्या है ?","भारत माता के प्रकृती सौंदर्य कैसे है ?                                                            ","लेखिका ने गिल्लू के प्राण कैसे बचाये ?","छलनी से क्या-क्या कर सकते हैं ?","कर्नाटक की प्रमुख नदियाँ और जलप्रपात कौन-कौन से हैं ?","भीष्म साहनी को रेस्तराँ के मालिक का व्यवहार क्यों असहनीय लगा ?",null,"निम्नलिखित कवितांश का भावार्थ भावार्थ लिखिए । \n    यह मनुज, जो सृष्ठी का श्रंगार ,\n    ज्ञान का,विज्ञान का, आलोक का आगार ।\n    व्योम से पातल तक सब कुच इसे हैं ज्ञात,\n    पर,न यह परिचित मनुज का, यह न उसका श्रेय ।","पर्यावरण संरक्षण में तिम्मक्का का क्या योगदान है ?","मनुष्य को हंस की तरह क्या करना चाहिए ?","निम्नलिखित पद का भावार्थ भावार्थ लिखिए ।\n     सुनहु कान्ह बलभद्र चबाई जनमत ही को धूत ।\n     ‘सूर’ स्याम मोहिं गोधन की सौं हौं माता तू पूत ॥","घोडगेरी में अगर कोई बीमार पड़ता तो उसका इलाज कैसे किया जाता था ?"]
["‘सोना’ शब्द का प्रथम प्रेरणार्थक क्रिया रूप है -  \n   अ) सो     आ)सुलाना     इ)सुलवाना     ई)सोलाना",null,"पैरसी, हैकिंग आदि बढ़ रही है । ","वास्तव में मैं खाते पीते परिवार में से था ।                                    ",null,"पद्य भाग पूर्ण करो","रवींद्रनाथ जी की प्रमुख रचनाएँ कौन-कौन सी है ?","बच्चे ने रोते हुए भिखारी से क्या कहा ?","व्यापार और बैंकिंग में इंटरनेट से क्या मदद मिलती है ?","भारत माँ का स्वरुप कैसे सुशोभित है ?                                                  ","गिल्लू ने लेखिका की गैरहाजरी में दिन कैसे बिताये ?","बसंत राजकिशोर से क्या विनती करता है ?","कर्नाटक के किन साहित्यकारों को ज्ञानपीठ पुरस्कार प्राप्त है ?","अंग्रेजी अध्यापक से भीष्म साहनी को कैसी प्रेरणा मिली ?","तीन - अंकवाले","‘प्रकृति पर सर्वत्र है विजयी पुरुष आसीन’ – इस पंक्‍ति का आशय समझाइए ।","तिम्मक्का को किन-किन पुरस्कारों से अलंकृत किया गया है ?","मनुष्य के जीवन में चारों ओर प्रकाश कब फैलता है ?",null,"डॉ. कंबार जी को लोक साहित्य में रुचि कैसे उत्पन्न हुई ?"]
["‘राजमहल’ शब्द में समास है -  \n   अ)द्वंद्व     आ) तत्पुरुष     इ) द्विगु      ई) कर्मधारय",null,null,"गाँधीजी को मैं सेवाग्राम में बहुत निकट से देखा था ।",null,"   विमल इन्दु की -----------\n   ----------------------------\n   -------------दिखा रही है !","रवींद्रनाथ जी ने किन–किन विषयों पर लेख लिखे है?","भिखारी और करोड़पति में से आप किसे श्रेष्ठ मनते हैं ?  क्यों ?","ई-गवर्नेन्स क्या है ?","पद्यभाग पूर्ण करना ","लेखिका ने गिलहरी को क्या-क्या खिलाया ?                      ","बसंत राजकिशोर से दो पैसे लेने से क्यों इनकार करता है ?","बाँध और जलाशयों के क्या उपयोग हैं ?","साहनी जी ने किस उद्देश्य से खादी पहनना शुरु किया ?","लेखक के धूप का चश्मा खो जाने की घटना का वर्णन कीजिए ।","दिनकर जी के अनुसार मानव का सही परिचय क्या है ?","तिम्मक्का एक आदर्श व्यक्‍तित्व हैं । कैसे ?","राम नाम के बारे में तुलसीदास जी ने क्या कहा है ?","चार अंकवाले","डॉ. कंबार ने किन-किन संस्थाओं में सदस्य के तौर पर काम किया है ?"]
["‘मछली’ शब्द का बहुवचन रूप है -   \n   अ) मछलियाँ      आ) मछलिया     इ) मछलियों      ई) मछलियें",null,null,"हम आपको आने-जाने का पहले दर्जे का किराया देंगे ।",null,"   प्रसार तेरी-------------\n   ------------------------\n   ------------गा रही हैं !                                            ",null,"भिखारी को भागवान की लीला क्यों अजीब लगी ?",null,"    मातृ-भू,-----------------\n    --------------------------\n    --------------------------\n    ---शत-शत बार प्रणाम । ","लेखिका ने गिलहरी का प्राण कैसे बचाया ?","बसंत राजकिशोर के पास क्यों नहीं लौटा ?","कर्नाटक के कुछ प्रमुख राजवंशों के नाम लिखिए ।","साहित्य के संबंध में साहनी जी का राय क्या है ?","मंत्री तथा कार्यकर्ताओं के बीच में क्या वार्तालाप हुआ ?",null,null,"भावार्थ ","सूर श्याम का भावार्थ अपने शब्दों में लिखिए ।","डॉ. कंबार जी को प्राप्त किन्हीं चार पुरस्कारों के नाम लिखिए ।"]
["‘रुपया’ शब्द का बहुवचन रूप है -  \n   अ) रुपयों     आ) रुपयाँ      इ) रुपयें        ई) रुपया",null,null,"स्टेशन पर मेरा खूब स्वागत हुआ । ",null,"   जो तेरी होवे ---------------------------\n   -----------------------------------------\n   ----------------------------------रही है !","तीन - अंकवाले ",null,"तीन - अंकवाले ","    हरे-भरे हैं----------------\n    --------------------------\n    --------------------------\n    ---शत-शत बार प्रणाम ।",null,"प्रताप राजिकिशोर के घर क्यों आया ?","बेंगलूरु में कौन-कौन सी बृहत संस्थाएँ हैं ?",null,"सम्मेलन में लेखक को क्या-क्या अनुभव हुए ? संक्षेप में लिखिए ।"," चार अंकवाले","तीन अंकवाले","निम्नलिखित कवितांश का भावार्थ भावार्थ लिखिए ।\n   दया धर्म का मूल, पाप मूल अभिमान । \n   तुलसी दया न छांडिये,जब लग घट में प्राण ॥                              ",null,"राष्ट्रभाषा हिन्दी के बारे में डॉ. कंबार जी के क्या विचार हैं ?"]
["‘पर्वतावली’ इसमें  संधि है -  \n   अ) दीर्घ      आ) यण्      इ) गुण      ई) व्यंजन",null,null,"देखिए, चप्पलें एक जगह नहीं उतारना चाहिए । ",null,null,"रवींद्रनाथ जी को कौन-कौन सी उपाधियाँ मिली है ?","किसने कहा ? किससे कहा ?किस पाठ से लिया गया है ?","संचार व सूचना के क्षेत्र में इंटरनेट का क्या महत्व है ?","   एक हाथ में----------------------\n   ----------------------------------\n   ----------------------------------\n   -----------शत-शत बार प्रणाम । ","तीन - अंकवाले ","बसंत ने राजकिशोर को छलनी खरीदने के लिए किस तरह प्रेरित किया ?",null,"तीन - अंकवाले",null,"अभिनव मनुष्य कविता सार अपने शब्दों में संक्षिप्त रूप में लिखिए ।","बच्चे को गोद लेने के कारण तिम्मक्का दंपति को दुःख भोगना पड़ा । क्यों ?","निम्नलिखित कवितांश का भावार्थ भावार्थ लिखिए ।\n     तुलसी साथी विपत्ति के विद्या विनय विवेक ।\n     साहस सुकृति सुसत्यव्रत राम भरोसो एक ॥"]
["‘जलप्रपात’ में समास है  -   \n   अ) द्विगु      आ) द्वंद्व       इ) कर्मधारय     ई) तत्पुरुष",null,"वन-उपवन","अब मैं बचा हूँ । अगर रुका तो मैं ही चुरा लिया जाऊँगा । ",null,null,"शिक्षा के क्षेत्र को रवींद्रनाथ जी की देन क्या है ?","किसने कहा ? किससे कहा ?किस पाठ से लिया गया है ?\n   ‘एकदम कीमते गिर गयीं । बहुत बड़ा घाटा हुआ ।’","‘वर्चुअल मीटिंग रूम’ के बारे में लिखिए ।","अपने श्ब्दों में मातृभूमि कविता के प्रकृति सौंदर्य वर्णन कीजिए ।","लेखिका ने गिलहरी को क्या-क्या सिखाया ?","बसंत के पैर देखकर डॉक्टर ने क्या कहा ?","तीन - अंकवाले ","साहनी जी अपनी निःसहायता मिटाने के लिए क्या-क्या करते थे ?","किसने कहा ? किससे कहा ?किस पाठ से लिया गया है ?",null,"पर्यावरण संरक्षण में तिम्मक्का का क्या योगदान है ?","निम्नलिखित कवितांश का भावार्थ भावार्थ लिखिए ।\n     मुखिया मुख सों चाहिए, खान पान को एक ।\n     पालै पोसै सकल अँग, तुलसी सहित विवेक ॥",null,"तीन अंकवाले"]
["‘निराश’  शब्द  का विलोम रूप है  -   \n   अ) आशा       आ) निशा      इ) खुशी       ई) नआशा",null,"आज साथ में","तिम्मक्का ग्रामीण प्रदेश के गरीब परिवार में जन्म लेनेवाली एक अनपढ महिला है ।                                                                                  ",null,null,null,"किसने कहा ? किससे कहा ?किस पाठ से लिया गया है ?\n   ‘अबे, चल हट, भिखारी कहीं का ।”","‘सोशल नेटचर्किंग’ एक क्रांतिकारी खोज है । कैसे ?",null,"गिल्लू के अंतिम दिनों का वर्णन कीजिए ।",null,"कर्नाटक के प्राकृतिक सौंदर्य का वर्णन कीजिए ।","भीष्म साहनी का स्वाभिमान दर्शानेवाली एक घटना के बारे में लिखिए ।","किसने कहा ? किससे कहा ?किस पाठ से लिया गया है ?\n   क्या आपकी चप्पलें कोई पहन गया ?",null,"तिम्मक्का को किन-किन पुरस्कारों से अलंकृत किया गया है ?",null,null,"डॉ. कंबार ने किन-किन संस्थाओं में सदस्य के तौर पर काम किया है ?"]
["‘रोना’  शब्द का द्वितीय प्रेरणार्थक  क्रिया रूप है -  \n   अ) रोलाना      आ) रुलाना     इ) रुलवाना      ई) रोना",null,"गाँधी, बुद्ध और राम","तिम्मक्का अपने माता-पिता के छः संतानों में एक है ।                               ",null,null,"चार अंकवाले","किसने कहा ? किससे कहा ?किस पाठ से लिया गया है ?\n   “भगवान! तुमने मेरी प्रार्थना सुन ली ।”","इंटरनेट से कौन सी हानियाँ हो सकती है ?",null,"गिल्लू के कार्य-कलाप के बारे में लिखिए ।","तीन - अंकवाले ","कर्नाटक की शिल्पकला का परिचय दीजिए ।","भीष्म साहनी के घर के साहित्यिक वातावरण का परिचय दीजिए । ","किसने कहा ? किससे कहा ?किस पाठ से लिया गया है ?\n   होटेलवाले ने धुलाने को भेज दी होगी । दूसरी आ जायेगी ।",null,"तिम्मक्का एक आदर्श व्यक्‍तित्व हैं । कैसे ?","पद्य भाग पूर्ण करना ",null,"डॉ. कंबार जी को लोक साहित्य में रुचि कैसे उत्पन्न हुई ?"]
["‘औपचारिक’ शब्द का विलोम शब्द है -  \n   अ) चारिक    आ) अनौपचारिक    इ) अनाचारिक        ई) उपचारिक",null,"शत-शत बार प्रणाम","उन्होने अपने बच्चों की तरह पाला-पोसा ।                                                ",null,null,"शिक्षा के क्षेत्र को रवींद्रनाथ जी की देन क्या है ?",null,null,null,"गिल्लू के प्रति महादेवी वर्मा जी की ममता का वर्णन कीजिए । ","बसंत ईमानदार लड़का है । कैसे ?","कर्नाटक के साहित्यकारों की कन्नड भाषा तथा संस्कृति को क्या देन है ?",null,"किसने कहा ? किससे कहा ?किस पाठ से लिया गया है ?\n   मैं पुलिस को बुलाकर यहाँ सबकी तलाशी करवाता हूँ ।",null,null,"   जड़ चेतन, --------------------------------------\n   ----------------------------वारि विकार ॥",null,"राष्ट्रभाषा हिन्दी के बारे में डॉ. कंबार जी के क्या विचार हैं ?"]
["‘लोग’ का अन्यवचन रूप है -   \n   अ) लोगों     आ) लोगे      इ) लोग       ई) लोगाओं",null,"न्याय - पताका","तिम्मक्का ने अब तक ३०० से भी ज्यादा पेड लगाया है ।                             ",null,null,null,"चार अंकवाले","चार अंकवाले",null,null,"बसंत और प्रताप अहीर के घर में क्यों रहते हैं ?",null,"चार अंकवाले","किसने कहा ? किससे कहा ?किस पाठ से लिया गया है ?\n   चलिये, स्वागत समिति के साथ अच्छे होटेल में भोजन हो जाये ।",null," चार अंकवाले","   दया धर्म का-------------------\n   ------------------घट में प्राण ॥",null,"किसने कहा ? किससे कहा ?किस पाठ से लिया गया है ?"]
["‘भेजना’ शब्द का प्रथम प्रेरणार्थक क्रिया रूप है -  \n   अ) भेजवाना     आ) भिजवाना    इ) भिजाना      ई) भेजाना",null,null,"पर्यावरण संरक्ष्ण के साथ-साथ तिम्मक्का सामाजिक कार्य भी कर रही है । ",null,null,null,"भिखारी और करोड़पति में से आप किसे श्रेष्ठ मनते हैं ?  क्यों ?","इंटरनेट आधुनिक जीवन शैली का अंग बन गया है ।    कसे ?                               ",null,"चार अंकवाले","राजकिशोर के मानवीय व्यवहार का परिचय दीजिए । ","चार अंकवाले","भीष्म साहनी का स्वाभिमान दर्शानेवाली एक घटना के बारे में लिखिए ।","किसने कहा ? किससे कहा ?किस पाठ से लिया गया है ?\n   अब मैं बचा हूँ । अगर रुका तो मैं ही चुरा लिया जाऊँगा । ",null,"तिम्मक्का एक आदर्श व्यक्‍तित्व हैं । कैसे ?","   तुलसी साथी-------------------\n   ------------------भरोसो एक ॥ ",null,"किसने कहा ? किससे कहा ?किस पाठ से लिया गया है ?\n   इस संसार में पुरुष भी सुंदर होता है ।"]
["‘सदैव’ इस संधि किस संधि का उदाहरण है  ?   \n   अ) यण्      आ) व्यंजन       इ) वृद्धि      ई) अयाधि",null,null,"कंबार नाटक तथा कव्य क्षेत्र के शिखर पुरुष हैं ।                                                                                              ",null,null,null,"भक्तों की इच्छा पूरा करने का ढ़ंग अजीब है । इस कथन को भक्तों के भगवान कहानी के आधार पर समझाइए ।",null,null,"गिल्लू के कार्य-कलाप के बारे में लिखिए ।","किसने कहा ? किससे कहा ?किस पाठ से लिया गया है ?","कर्नाटक के साहित्यकारों की कन्नड भाषा तथा संस्कृति को क्या देन है ?",null,null,null,"पर्यावरण संरक्षण में तिम्मक्का का क्या योगदान है ?","   राम नाम----------------------\n   -------------चाहसी उजियार ॥",null,"किसने कहा ? किससे कहा ?किस पाठ से लिया गया है ?\n   आप मुझे चने के झाड़ पर बिठा रहे हैं ।"]
["‘शताब्दी’  शब्द में समास है -  \n   अ) द्वंद्व      आ) कर्मधारय       इ) द्विगु       ई) बहुव्रीहि",null,null,"घोडगेरी घटप्रभा नदी के तट पर है ।                                                                      ",null,null,null,null,null,null,null,"किसने कहा ? किससे कहा ?किस पाठ से लिया गया है ?\n   “नहीं साहब, नहीं । मैं पैसे नहीं लूँगा ।”","कर्नाटक की शिल्पकला का परिचय दीजिए ।",null,"चार अंकवाले",null,null,null,null,"किसने कहा ? किससे कहा ?किस पाठ से लिया गया है ?\n   जहाँ प्रतिभा की कली खिलती है वहाँ पुरस्कारों की महक फैली ही रहती है ।"]
["‘पक्षी’ का समानार्थक शब्द है -  \n   अ) खग     आ) जग      इ) वृक्ष        ई) गात",null,null,"जो पुरुष मेहनत करता है वही सुंदर है ।                                                          ",null,null,null,null,null,null,null,"किसने कहा ? किससे कहा ?किस पाठ से लिया गया है ?\n   “आप क्या कर रहे हैं ? मैं गरीब हूँ ।”",null,null,"सम्मेलन में लेखक को क्या-क्या अनुभव हुए ? संक्षेप में लिखिए ।"]
["‘मालिक’ शब्द का अन्यलिंग रूप है -  \n   अ) मालकी      आ) मालकिन       इ) मालक     ई) मालिका",null,null,"राष्ट्र मे एकेता लाने के लियी हिंदी भाषा अत्यंत उपयोगी है ।                       ",null,null,null,null,null,null,null,"किसने कहा ? किससे कहा ?किस पाठ से लिया गया है ?\n   “आज दोपहर को उसने आपको एक छलनी बेची थी ।”",null,null,null,null,null,null,null,"चार अंक"]
["‘पुस्तक’ शब्द का बहुवचन रूप है -  \n   अ) पुस्तकें      आ) पुस्तकाएँ       इ) पुस्तकों       ई) पुस्तक",null,"गिल्लू",null,null,null,null,null,null,null,null,null,null,null,null,null,null,null,null,"डॉ. कंबार जी को लोक साहित्य में रुचि कैसे उत्पन्न हुई ? और राष्ट्रभाषा हिन्दी के बारे में डॉ. कंबार जी के क्या विचार हैं ?"]
["‘बढ़ना’ शब्द का विलोम रूप है -  \n   अ) बढ़ाना       आ) बहुत       इ)ज्यादा             ई) घटना",null,"गिलहरी की",null,null,null,null,null,null,null,null,"चार अंकवाले"]
["‘चलना शब्द का  द्वितीय प्रेरणार्थक क्रिया रूप है -   \n   अ) चल      आ) चलाना      इ) चलवाना     ई) चालना",null,"चमकीली आँखे",null,null,null,null,null,null,null,null,"बसंत ईमानदार लड़का है । कैसे ?"]
["‘नौ-दो ग्यारह होना’ इस मुहावरे का अर्थ है -  \n   अ) होश हवास खोना      आ) सत्य प्रकट होना        इ) बयानब्बे      ई) भागजाना",null,null,null,null,null,null,null,null,null,null,"राजकिशोर के मानवीय व्यवहार का परिचय दीजिए । "]
["‘चौमास’ शब्द में समास है -   \n   अ) अव्ययीभाव     आ) द्विगु        इ) तत्पुरुष        ई) द्वंद्व"]
["‘सागर’  शब्द  का समानार्थक शब्द है -  \n   अ) समुद्र          आ) पानी          इ) गगन      ई) नदी"]
["‘सदाचार’  शब्द में संधि है -  \n   अ) दीर्घ       आ)  गुण       इ) यण्         ई) व्यंजन"]
["‘बूढ़ा’ शब्द का अन्यलिंग रूप  है -  \n   अ) बुढ़ापा     आ) वृद्ध      इ) बूढ़ी         ई) वृद्धे"]
["‘हस्त’ शब्द का समानार्थक शब्द है -  \n  अ) हाथी      आ) हाथ       इ) हस्ता          ई) पैर"]
["‘जगनमोहन’  यह इस संधि का उदाहरण है -  \n   अ) दीर्घ    आ) व्यंजन        इ) विसर्ग      ई) वृद्धि",null,"गरीब शरणार्थी लडका   "]
["‘उंगली पर नाचना’  इस मुहावरे क अर्थ है -  \n   अ) निश्‍चिंत रहना     आ) वश में रखना     इ) नष्ट करना       ई) होश आना",null,"किशनगंज"]
["‘हिम्मत न हारना’ इस मुहावरे का अर्थ है -  \n   अ) परिश्रम करना      आ) धीरज बाँधना     इ) मज़बूत होना        ई) जिम्मेदारी लेना",null,"भीखू अहीर टीले"]
["‘मोर’ शब्द का अन्यलिंग रूप है -  \n   अ) मोरा     आ) मोरिन       इ) मोरनी     ई) मोरिनी"]
["मैं प्रतिदिन पढ़ता हूँ । इस वाक्य में  रेखांकित शब्द है -   \n   अ) संज्ञा     आ) सर्वनाम      इ) विशेषण     ई) क्रिया"]
[]
[]
["अपठित गद्य"]
["यह स्वतंत्र सेनानी की कहानी है , जिसने देश के लिए अपनी जवानी, अपना जीवन, अपना परिवार त्याग कर अमर बन गया । वह सेनानी भगत सिंह है।  उन्होंने देश की आजादी के लिए साहस के साथ अंग्रेजों का मुकाबला किया । वे बंगा गाँव में २८ सितंबर १९०७ में जन्में। लाहोर के डी. ए,. वी. स्कूल में शिक्षा पाई । उन्होंने नौजवान भारत सभा का संघठन किया ।\n1. देश के लिए अपने जीवन की आहुति देनेवाला सेनानी कौन है ? \n2. भगत सिंग का जन्म कहाँ हुआ ?      \n3. भगत सिंग ने किसका संघटन किया ?\n4. भगत सिंग ने किसका मुकाबाला किया-"]
[" ",null,"जलाशय"]
["यह घटना सन् 1899 की है ।   उन दिनो कोलकता में प्लेग हुआ था ।   शायद  ही कोई ऐसा घर बचा थाजहाँ यह  बीमारी न पहूंची हो ।   ऐसी विकट स्थिति  में भी स्वामी  विवेकानंद और उनके  कई शिष्य रोगियों की सेवा-सुश्रुषा में जुटे हुए थे ।   वे  अपने हाथों  से नगर की गलियाँ और बाजार साफ  करते थे और जिस घर में प्लेग कोई मरीज होता था, उन्हें दवा आदि देकर उनका उपचार करते थे ।  उसी  दौरान  कुछ  लोग  स्वामी  विवेकानंद  के पास आए ।   उनका मुखिया बोला,  स्वामीजी ’ इस धरती पर पाप बहुत बढ गया है, इसलिए प्लेग की महामारी के रूप में भागवान लोगों को दंड दे रहे हैं ।   पर आप ऐसे लोगों को बचाने का यत्न कर रहे हैं ।   ऐसा करके आप भगवान के कार्यों में बाधा डाल रहे हैं ।    मंडली के    मुखिया कील ऐसी बातें सुनकर स्वामीजी गंभीरता से बोले,  ’ सबसे पहले तो मैं आप सब विद्वानों को नमस्कार करता हूँ ।      इसके  बाद स्वामीजी बोले,   आप सब यह हो जानते ही होंगे कि मनुष्य इस जीवन में अपने कर्मों के कारण कष्ट और सुख पाता है ।   ऐसे जो व्यक्ति कष्ट से पीडित है और तडाप रहा है, यदि दूसरा व्यक्ति उसके घावों पर मरहम लगा देता है तो वह  स्वयं ही पुण्य का अधिकारी बन जाता है ।   अब यदि आपके अनुसार प्लेगसे पॊडित लोग पाप के भारी हैं तो हमारे कार्यकर्ता इन लोगों की मदद कर रहे हैं तो हमारे जो कार्यकर्ता इन लोगों की मदद कर रहे हैं वे तो पुण्य के भागी बन रहे हैं ।   बताइए कि इस संदर्भ में आपको क्या कहना है ?   उनकी बात सुनकर सभी लोग भौंचक्के रह गये और  चुपचाप सिर झुकाकर वहाँ से चले गए ।\n(क)  कलकत्ता में कौन-सी महामारी फैली थी ?\n(ख)   महामारी के विषय में कुछ लोगों की धारणा क्या थी  ?\n(ग)   कुछ लोगों की दृष्टि में विवेकानंद जी द्वारा पीडितों की सेवा करने का  अर्थ क्या था ?\n(घ)   स्वामी विवेकानंद जी के अनुसार उनके तथा कार्यकर्ताओं द्वारा किया जा रहा कार्य कौन-सा था ?",null,"अनोखी शिल्पकला"]
["यह सही है कि इन दोनों कुछ ऐसा माहौल बना है कि ईमानदारी से मेहनत करके जीविका चलाने वाले निरीह और भोले-भोले श्रमजीवी पिस रहे हैं और झूठ तथा फरेब का रोजगार करने वाले फल फूल रहे हैं । ईमानदारी को मूर्खता का पर्याय समझा जाने लगा है, सच्चाई केवल भीरु और बेबस लोगों के हिस्से पड़ी है । ऐसे स्थिति में जीवन के मूल्यों के बारे में लोगों की आस्था ही हिलने लगी है । सदा मनुष्य-बुद्धि नई परिस्थितियों का सामने करने के लिए नए सामाजिक विधि निषेधों को बनाती है, उनके ठीक न साबित होने पर उन्हें बदलती हैं ।\n1.  आजकल किनका बोल बाला है ?\n2.  सच्चाई किनके हिस्से  का पर्याय मानी जाने  लगी है ?\n3.  किनके बारे में लोगों की आस्था डाँवाडोल है ?\n4. नवीन सामाजिक विधि निषेध किस के लिए बनते है ?",null,"समाजसुधारक"]
["एक सुसज्जित कमरे में शिवाजी एक पलंग पर से रहे थे । सामने भवानी का चित्र लटक रहाथा । पास ही मालवजी नाम का एक बालक हाथ में नंगी तलवार लिए हुए शिवाजी की हत्या करने के किए तैयार था । शिवाजी एक भायानक स्वप्न देखकर अचानक आँखे मलते हुए उठ बैठे । मालवजी उन पर वार करने के लिए तलवार उठाया । पीछे से तानाजी आकर उसका हाथ पकड़ लिया ।\n1) शिवाजी की हत्या करने के लिए कौन आया था ?\n2) शिवाजी क्या देखकर आँखें मलते हुए उठ बैठे ?\n3) मालवजी शिवाजी पर वार करने के लिए क्या उठाया ?\n4) तानाजी ने क्या किया ?",null,"आधुनिक मीरा"]
["विक्रम साराभाई का जन्म गुजरात के अहमदाबाद में हुआ था । उनकी माता  सरलादेवी और पिता अंबालाल था । विक्रम बचपन से ही प्रतिभावान थे । उनके प्रिय विषय गणित और विझ्ञान थे ।उन्होंने  कैंब्रिज विश्‍वविद्यालय लंड़न से त्रिपोस परीक्षा पास किये थे । अंतरिक्ष की गहराइयों से आनेवाले रहस्यमयी कास्मिक किरणों पर अनुसंधान करके वे कैंब्रिज विश्‍वविद्यालय से सन्‍ १९४७  में पी.एच्‍.डी की उपाधि अर्जित की थी ।\n1) विक्रम साराभाई के माता का नाम क्या था ? \n2)  विक्रम का जन्म किस राज्य में हुआ ?\n3) विक्रम को पी.एच्‍.डी की उपाधि कब मिली ?\n4) किस विश्‍वविद्यालय से वे त्रिपोस परीक्षा पास किये थे ?",null,"गोविंद पै"]
["राणी चन्नम्मा का जन्म बेलगाम जिले के काकती में हुआ था । वह धूलप्प देसाई की इकलौती बेठी थी । बचपन में ही चन्नम्मा अपने पिता से घुड़दौड, तीर चलाना, जैसे युद्ध कौशलों को सीखी थी । बडी होने पर चन्नम्मा  की शादी कित्तूर के राजा मल्लसर्ज देसाई से हुई थी । पति के मरणोपरांत चन्नम्म कित्तूर की रानी बनकर राज्यभार चलाई । स्वातंत्र्य के लिए अंग्रेजों से लड़नेवाली प्रथम राणी चन्नम्मा थी ।\n1. चन्नम्मा का जन्म ------जिले में हुआ था ।\n2. चन्नम्मा के पिता का नाम क्या था \n3. चन्नम्मा बचपन में ही क्या सीखी  थी ?\n4. चन्नम्मा किसके साथ युद्ध की ?",null,"चंदन का आगार"]
["            वन और पर्यावरण का गहरा संबंध है । वन प्रकृति की अमूल्य अंग है । वन जीवनदायक है । वन वर्षा लाने का कारण बनकर पर्यावरण की रक्षा करते हैं । वनों की कृपा से भूमि का कटाव रुकता है, सूखा कम पड़ता है तथा रेगिस्तान का फैलाव रुकता है । मानव सभ्यता-संस्कृति की रक्षा, जीवों की रक्षा, तरह-तरह की वनस्पतियों और औषधियों आदि की रक्षा के लिए वन संरक्षण आवश्यक हैं । पर्यावरण को ठीक रखने के लिए वनों के कटाव रोकना होगा ।\n\n(क)  हमें वन संरक्षण क्यों करना चाहिए ?\n(ख)  वनों से क्या-क्या लाभ होते है ?\n(ग)  वन किसकी अमूल्य संपदा है ?\n(घ)  वर्यावरण की रक्षा कैसे करते है ?",null,"सोने का आगार"]
[]
[]
[]
[null,null,"पहनना शुरु कर दिया"]
[null,null,"अंधेरी गुफा जैसा लगता है ।"]
[]
[]
[]
[]
[null,null,"सम्मेलन के मुख्य अतिथि"]
[null,null,"सम्मेलन के डेलिगेट"]
[null,null,"सिरहाने दबाकर सोया"]
[null,null,"सबकी तलाशी करवाता हूँ ।"]
[null,null,"सबकी गिरफ्तार करवाता हूँ ।"]
[null,null,"तो दूसरी दस फीट दूर"]
[]
[]
[]
[]
[null,null,"सरित गिरी सिंदु एक समान ।"]
[null,null,"असीमित मानवों से प्रीर ।"]
[null,null," वारी विध्युत भाप ।"]
[null,null,"विचित्र नवीन ।"]
[null,null," सृष्ठी का श्रंगार ।"]
[]
[]
[]
[null,null,"वृक्ष"]
[null,null,"कक्केनहल्ली में हुआ ।"]
[null,null,"तिम्मक्का बहुत दुःखी हुई ।"]
[null,null,"मुसीबत की घडियाँ शुरु हुई ।"]
[]
[]
[]
[]
[]
[null,null,"रामबोला"]
[null,null,"पाप मूल अभिमान"]
[null,null,"खान पान को एक"]
[null,null,"विद्या विनय विवेक"]
[]
[]
[]
[]
[]
[null,null,"कृष्ण का"]
[null,null,"यशोदा"]
[null,null,"कृष्ण "]
[null,null,"गोरी"]
[]
[]
[]
[]
[null,null,"घोड़गेरी गाँव में हुआ ।"]
[null,null,"हिन्दी भाषा अत्यंत उपयोगी है ।"]
[null,null,"गहरे पानी पैठ"]
[null,null,"पुरुष भी सुंदर होता है "]
[null,null,"वही सुन्दर है ।"]
[null,null,"हिन्दी सीखना जरूरी है ।"]