{"text_format":"1","workbook":"xlsx","n_sheets":13,"sheets":["Home","T","Info","Main","APPLICATION","Pro","APTC-101","APTC-47","Inner ","APTC-47(B)","BA-I","BA-II","Go Ms No2"],"not_rendered":{"charts":0,"images":3,"macros":1,"external_links":0,"defined_names":42,"comments":2,"pivot_tables":0},"unopened":[],"bounds":{"document_bytes":16777216,"sheet_cells":100000,"rows_first":2000,"rows_last":500,"rows_between":2000,"halvings":0,"cell_chars":16384,"cell_head_chars":4096},"cells_cut":0,"cells_raw":0,"read":"whole","date_system":"1900"}

{"sheet":"Home","index":0,"n_rows":17,"n_cols":3,"rows_kept":17,"cut":false,"hidden":false,"merged":[[7,2,7,5],[13,1,13,4],[1,2,1,16],[2,1,2,4],[3,1,3,4],[4,2,4,14],[5,2,5,14],[6,2,6,14],[16,1,18,15],[33,0,33,3],[34,0,34,3],[35,0,35,3],[36,0,36,3]]}
[]
[null,null,{"$f":"CONCATENATE(\"WELCOME TO UNITED TEACHERS' FEDERATION ::  \",UPPER(#REF!),\"  DISTRICT\")","v":{"$error":"#REF!"}}]
[null,"visit at www.ibknellore.tk"]
[null,"                      Reimbursement of Educational Tution Fee  Excell Programme"]
[null,null,"New Updations are available Visit Our Blogs"]
[null,null,"http://ibknellore.tk"]
[null,null,"Updation on 19/03/2012"]
[null,null,"This Programme Used upto 500 Members"]
[null,null,"Developped By"]
[null,null,"I.BALAKRISHNAIAH"]
[null,null,"SA (MATHE MATICS)"]
[null,null,"GMHS, NELLORE"]
[null,"Note:","Phone No: 9492268881 "]
[null," Please verify with experts before submission. \n Any Mistakes This Programme Iam not Responsible"]
[]
[]
[null,"This Programme Working MS Office-2007/2003"]

{"sheet":"T","index":1,"n_rows":367,"n_cols":6,"rows_kept":367,"cut":false,"hidden":false,"merged":[[0,0,0,5]]}
[" The following Information is Required For Updation of Our Progrrams. Hence I Request  You, The information ( Known ) Fill and Send me through Email: ibknellore@hotmail.com."]
["Sl No","District","Treasury","STO Code","Name of the Bank","Bank Code"]
[1,"Adilabad","Adilabad","1301"]
[2,"Adilabad","Adilabad","1302"]
[3,"Adilabad","Asifabad","1303"]
[4,"Adilabad","Bhainsa","1304"]
[5,"Adilabad","Boath","1305"]
[6,"Adilabad","Chinnor","1306"]
[7,"Adilabad","Kagaznagar","1307"]
[8,"Adilabad","Khanapur","1308"]
[9,"Adilabad","Laksettipet","1309"]
[10,"Adilabad","Mancherial","1310"]
[11,"Adilabad","Mudhole","1311"]
[12,"Adilabad","Nirmal","1312"]
[13,"Adilabad","Nirmal Adilabad","1341"]
[14,"Adilabad","Sirpur","1313"]
[15,"Adilabad","Utnoor","1314"]
[16,"Adilabad","Wankidi","1315"]
[17,"Anantapur","Anantapur","1001"]
[18,"Anantapur","Anantapur","1002"]
[19,"Anantapur","Anantapur","1041"]
[20,"Anantapur","Dharmavaram","1003"]
[21,"Anantapur","Gooty","1004"]
[22,"Anantapur","Guntakal","1005"]
[23,"Anantapur","Hindupur","1006"]
[24,"Anantapur","Kadiri","1007"]
[25,"Anantapur","Kalyandurg","1008"]
[26,"Anantapur","Kambadur","1009"]
[27,"Anantapur","Kanekal","1010"]
[28,"Anantapur","Kothacheruvu","1011"]
[29,"Anantapur","Madakasira","1012"]
[30,"Anantapur","Penukonda","1013"]
[31,"Anantapur","Rayadurg","1014"]
[32,"Anantapur","Singanamala","1015"]
[33,"Anantapur","Tadipatri","1016"]
[34,"Anantapur","Uravakonda","1017"]
[35,"Chittoor","Bangarupalem","1103"]
[36,"Chittoor","Chandragiri","1104"]
[37,"Chittoor","Chittoor","1101"]
[38,"Chittoor","Chittoor","1102"]
[39,"Chittoor","Chittoor","1142"]
[40,"Chittoor","Kuppam","1105"]
[41,"Chittoor","Madanapalli","1106"]
[42,"Chittoor","Nagari","1107"]
[43,"Chittoor","Pakala","1108"]
[44,"Chittoor","Palamaner","1109"]
[45,"Chittoor","Piler","1110"]
[46,"Chittoor","Punganur","1111"]
[47,"Chittoor","Puttur","1112"]
[48,"Chittoor","Satyavedu","1113"]
[49,"Chittoor","Srikalahasti","1114"]
[50,"Chittoor","Thamballapalle","1115"]
[51,"Chittoor","Thottambedu","1117"]
[52,"Chittoor","Tirupati","1116"]
[53,"Chittoor","Tirupati","1141"]
[54,"Chittoor","Vayalpad","1118"]
[55,"East Godavari","Addatheegala","0302"]
[56,"East Godavari","Alamur","0303"]
[57,"East Godavari","Amalapuram","0304"]
[58,"East Godavari","Dawaleswaram Ego","0343"]
[59,"East Godavari","East Godavari","0301"]
[60,"East Godavari","Jaggampet","0318"]
[61,"East Godavari","Kakinada Ego","0342"]
[62,"East Godavari","Kakinada Local","0305"]
[63,"East Godavari","Korukonda","0319"]
[64,"East Godavari","Kothapeta","0306"]
[65,"East Godavari","Mummidivaram","0307"]
[66,"East Godavari","Peddapuram","0308"]
[67,"East Godavari","Pithapuram","0309"]
[68,"East Godavari","Prathipadu","0310"]
[69,"East Godavari","Rajamundry(N)","0312"]
[70,"East Godavari","Ramachandrapuram","0313"]
[71,"East Godavari","Rampachodavaram","0314"]
[72,"East Godavari","Rayavaram","0315"]
[73,"East Godavari","Razole","0316"]
[74,"East Godavari","Tuni","0317"]
[75,"Guntur","Bapatla","0602"]
[76,"Guntur","Chilakaluripet","0603"]
[77,"Guntur","Emani-At-Duggirala","0604"]
[78,"Guntur","Guntur","0601"]
[79,"Guntur","Guntur","0641"]
[80,"Guntur","Guntur ()","0605"]
[81,"Guntur","Gurajala(Palnad)","0606"]
[82,"Guntur","Macherla","0607"]
[83,"Guntur","Mangalagiri","0608"]
[84,"Guntur","Nagaram","0609"]
[85,"Guntur","Narsarao Pet","0642"]
[86,"Guntur","Narsaraopeta","0610"]
[87,"Guntur","Pedakurapadu","0611"]
[88,"Guntur","Piduguralla","0612"]
[89,"Guntur","Ponnuru","0617"]
[90,"Guntur","Rajupalem","0613"]
[91,"Guntur","Repalle","0614"]
[92,"Guntur","Sattenapalli","0615"]
[93,"Guntur","Tenali","0616"]
[94,"Guntur","Vinukonda","0618"]
[95,"Hyderabad","Hyderabad","2502"]
[96,"Hyderabad","Hyderabad","2503"]
[97,"Hyderabad","Hyderabad","2504"]
[98,"Hyderabad","Hyderabad","2505"]
[99,"Hyderabad","Hyderabad","2506"]
[100,"Hyderabad","Hyderabad","2507"]
[101,"Hyderabad","Hyderbad","2552"]
[102,"Hyderabad","Pao,Hyd","2500"]
[103,"Hyderabad","W And P Hyderabad","2541"]
[104,"Hyderabad","Works_Pao,Hyd","2700"]
[105,"Karimnagar","Bhimadevarapalli","1502"]
[106,"Karimnagar","Gangadhara","1503"]
[107,"Karimnagar","Husnabad","1504"]
[108,"Karimnagar","Huzurabad","1505"]
[109,"Karimnagar","Jagtial","1506"]
[110,"Karimnagar","Karimanagar","1507"]
[111,"Karimnagar","Karimnagar","1501"]
[112,"Karimnagar","Karimnagar","1541"]
[113,"Karimnagar","Karimnagar","1542"]
[114,"Karimnagar","Korutla","1508"]
[115,"Karimnagar","Mahadevpur","1509"]
[116,"Karimnagar","Mallial","1510"]
[117,"Karimnagar","Manthani","1511"]
[118,"Karimnagar","Metpalli","1512"]
[119,"Karimnagar","Peddapalli","1513"]
[120,"Karimnagar","Sircilla","1514"]
[121,"Karimnagar","Sultanabad","1515"]
[122,"Karimnagar","Vemulawada","1516"]
[123,"Khammam","Bhadrachalam","1602"]
[124,"Khammam","Burgampahad","1603"]
[125,"Khammam","Kammam","1641"]
[126,"Khammam","Khammam","1601"]
[127,"Khammam","Khammam","1604"]
[128,"Khammam","Kothagudem","1605"]
[129,"Khammam","Madhira","1606"]
[130,"Khammam","Nelakondapalli","1607"]
[131,"Khammam","Sattupalli","1608"]
[132,"Khammam","Venkatapuram","1609"]
[133,"Khammam","Yellandu","1610"]
[134,"Krishna","Avanigadda","0502"]
[135,"Krishna","Bandar","0503"]
[136,"Krishna","Bantumilli","0504"]
[137,"Krishna","Gannavaram","0505"]
[138,"Krishna","Gudivada","0506"]
[139,"Krishna","Jaggaiahpeta","0507"]
[140,"Krishna","Kaikaluru","0508"]
[141,"Krishna","Kanchika Charla","0519"]
[142,"Krishna","Krishna","0501"]
[143,"Krishna","Movva","0509"]
[144,"Krishna","Mylavaram","0510"]
[145,"Krishna","Nandigama","0511"]
[146,"Krishna","Nuzvid","0512"]
[147,"Krishna","Pamarru","0513"]
[148,"Krishna","Tiruvur","0514"]
[149,"Krishna","Vijayawada","0541"]
[150,"Krishna","Vijayawada(East)","0515"]
[151,"Krishna","Vijayawada(West)","0516"]
[152,"Krishna","Vissannapeta","0517"]
[153,"Krishna","Vuyyuru","0518"]
[154,"Kurnool","Adoni","0902"]
[155,"Kurnool","Allagadda","0903"]
[156,"Kurnool","Alur","0904"]
[157,"Kurnool","Atmakur","0905"]
[158,"Kurnool","Banganapalle","0906"]
[159,"Kurnool","Dhone","0907"]
[160,"Kurnool","Kodumur At Gudur","0908"]
[161,"Kurnool","Koilkuntla","0909"]
[162,"Kurnool","Kurnool","0901"]
[163,"Kurnool","Kurnool","0910"]
[164,"Kurnool","Kurnool","0941"]
[165,"Kurnool","Nandikotkur","0911"]
[166,"Kurnool","Nandyal","0912"]
[167,"Kurnool","Nandyal","0942"]
[168,"Kurnool","Pattikonda","0913"]
[169,"Kurnool","Srisailam","0915"]
[170,"Kurnool","Yemmiganur","0914"]
[171,"Mahabubnagar","Achampet","1702"]
[172,"Mahabubnagar","Alampur","1703"]
[173,"Mahabubnagar","Atmakur","1704"]
[174,"Mahabubnagar","Gadwal","1705"]
[175,"Mahabubnagar","Gadwal","1742"]
[176,"Mahabubnagar","Jadcherla","1706"]
[177,"Mahabubnagar","Kalwakurthy","1707"]
[178,"Mahabubnagar","Kodangal","1708"]
[179,"Mahabubnagar","Kollapur","1709"]
[180,"Mahabubnagar","Mahaboob Nagar","1701"]
[181,"Mahabubnagar","Mahaboobnagar","1741"]
[182,"Mahabubnagar","Mahabubnagar()","1710"]
[183,"Mahabubnagar","Makthal","1711"]
[184,"Mahabubnagar","Nagarkurnool","1712"]
[185,"Mahabubnagar","Narayanpeta","1713"]
[186,"Mahabubnagar","Shadnagar","1714"]
[187,"Mahabubnagar","Wanaparthy","1715"]
[188,"Medak","Andol","1802"]
[189,"Medak","Dubbak","1803"]
[190,"Medak","Gazwel","1804"]
[191,"Medak","Medak","1801"]
[192,"Medak","Medak","1805"]
[193,"Medak","Medak","1842"]
[194,"Medak","Narayankhed","1806"]
[195,"Medak","Narsapur","1807"]
[196,"Medak","Patancheru","1813"]
[197,"Medak","Ramayampet","1808"]
[198,"Medak","Sadasivapet","1809"]
[199,"Medak","Sanga Reddy","1810"]
[200,"Medak","Siddipeta","1811"]
[201,"Medak","Zahirabad","1812"]
[202,"Nalgonda","Alair","1902"]
[203,"Nalgonda","Bhongir","1903"]
[204,"Nalgonda","Chandur","1904"]
[205,"Nalgonda","Devarakonda","1905"]
[206,"Nalgonda","Huzurnagar","1906"]
[207,"Nalgonda","Kodad","1907"]
[208,"Nalgonda","Miryalguda","1908"]
[209,"Nalgonda","Mothkur","1909"]
[210,"Nalgonda","Nakrekal","1910"]
[211,"Nalgonda","Nalgonda","1901"]
[212,"Nalgonda","Nalgonda","1911"]
[213,"Nalgonda","Nalgonda","1941"]
[214,"Nalgonda","Nalgonda","1942"]
[215,"Nalgonda","Nidamanoor","1913"]
[216,"Nalgonda","Ramannapeta","1914"]
[217,"Nalgonda","Suryapeta","1915"]
[218,"Nalgonda","Thungathurthi","1916"]
[219,"Nizamabad","Armoor","2002"]
[220,"Nizamabad","Banswada","2004"]
[221,"Nizamabad","Bheemgal","2005"]
[222,"Nizamabad","Bodhan","2006"]
[223,"Nizamabad","Kamareddy","2008"]
[224,"Nizamabad","Madnoor","2009"]
[225,"Nizamabad","Nizamabad","2001"]
[226,"Nizamabad","Nizamabad","2010"]
[227,"Nizamabad","Nizamabad","2042"]
[228,"Nizamabad","Pochampadu","2003"]
[229,"Nizamabad","Yellareddy","2011"]
[230,"Prakasam","Addanki","0702"]
[231,"Prakasam","Chirala","0703"]
[232,"Prakasam","Cumbum","0704"]
[233,"Prakasam","Darsi","0705"]
[234,"Prakasam","Giddalur","0706"]
[235,"Prakasam","Kandukur","0707"]
[236,"Prakasam","Kanigiri","0708"]
[237,"Prakasam","Markapur","0709"]
[238,"Prakasam","Martur","0710"]
[239,"Prakasam","Ongole","0711"]
[240,"Prakasam","Podili","0712"]
[241,"Prakasam","Prakasam","0701"]
[242,"Prakasam","Prakasam","0741"]
[243,"Prakasam","Yerragondapalem","0713"]
[244,"Ranga Reddy","Chevella","1402"]
[245,"Ranga Reddy","Hyathnagar","1403"]
[246,"Ranga Reddy","Ibrahimpatnam","1404"]
[247,"Ranga Reddy","Maheswaram","1405"]
[248,"Ranga Reddy","Medchal","1406"]
[249,"Ranga Reddy","Pargi","1407"]
[250,"Ranga Reddy","Rajendranagar","1408"]
[251,"Ranga Reddy","Rangareddy","1401"]
[252,"Ranga Reddy","Rangareddy","1411"]
[253,"Ranga Reddy","Rangareddy","1441"]
[254,"Ranga Reddy","Tandur","1409"]
[255,"Ranga Reddy","Vikarabad","1410"]
[256,"Sri Pottisreeramulu Nellore","Atmakur","0804","State Bank Of India (SBI) ADB , Atmakur",4828]
[257,"Sri Pottisreeramulu Nellore","Buchireddypalem","0809","Syndicate Bank, Buchireddipalem",3472]
[258,"Sri Pottisreeramulu Nellore","Gudur","0803","State Bank Of India (SBI), Gudur","0843"]
[259,"Sri Pottisreeramulu Nellore","Indukurpeta","0815","State Bank Of India (SBI), Indukurpet",3353]
[260,"Sri Pottisreeramulu Nellore","Kavali","0805","State Bank Of India (SBI), Kavali","0858"]
[261,"Sri Pottisreeramulu Nellore","Kovur","0806","State Bank Of India (SBI), Kovur","0798"]
[262,"Sri Pottisreeramulu Nellore","Naidupeta","0813","State Bank Of India (SBI) ADB , Naidupet",5917]
[263,"Sri Pottisreeramulu Nellore","Nellore","0801","State Bank Of India (SBI), Nellore","0887"]
[264,"Sri Pottisreeramulu Nellore","Nellore","0802","State Bank Of India (SBI), Nellore","0887"]
[265,"Sri Pottisreeramulu Nellore","Podalakur","0812","State Bank Of India (SBI) ADB , Podalakur",6052]
[266,"Sri Pottisreeramulu Nellore","Rapur","0814","Syndicate Bank, Rapur",3468]
[267,"Sri Pottisreeramulu Nellore","Sp Nellore","0843","State Bank Of India (SBI), Nellore","0887"]
[268,"Sri Pottisreeramulu Nellore","Sullurpeta","0808","State Bank Of India (SBI), Sullurpet","0773"]
[269,"Sri Pottisreeramulu Nellore","Tgp Nellore","0842","State Bank Of India (SBI), Nellore","0887"]
[270,"Sri Pottisreeramulu Nellore","Udayagiri","0807","Syndicate Bank, Udayagiri",3470]
[271,"Sri Pottisreeramulu Nellore","Vakadu","0816","State Bank Of India (SBI), Vidyanagar (Vakadu)",2811]
[272,"Sri Pottisreeramulu Nellore","Venkatagiri","0810","State Bank Of India (SBI), Venkatagiri","0969"]
[273,"Sri Pottisreeramulu Nellore","Vinjamuru","0811","State Bank Of India (SBI) ADB , Vinjamur",3177]
[274,"Srikakulam","Amadalavalasa","0102"]
[275,"Srikakulam","Ichapuram","0103"]
[276,"Srikakulam","Kotabommali","0104"]
[277,"Srikakulam","Kottur","0105"]
[278,"Srikakulam","Narsannapeta","0106"]
[279,"Srikakulam","Palakonda","0107"]
[280,"Srikakulam","Palasa","0108"]
[281,"Srikakulam","Pathapatnam","0109"]
[282,"Srikakulam","Ponduru","0110"]
[283,"Srikakulam","Rajam","0111"]
[284,"Srikakulam","Sompeta","0112"]
[285,"Srikakulam","Srikakulam","0101"]
[286,"Srikakulam","Srikakulam","0113"]
[287,"Srikakulam","Srikakulam","0141"]
[288,"Srikakulam","Tekkali","0114"]
[289,"Visakhapatnam","Anakapalli(East)","0202"]
[290,"Visakhapatnam","Anakapalli(West)","0203"]
[291,"Visakhapatnam","Araku","0204"]
[292,"Visakhapatnam","Bheemunipatnam","0205"]
[293,"Visakhapatnam","Chinthapalli","0206"]
[294,"Visakhapatnam","Chodavaram","0207"]
[295,"Visakhapatnam","Ellamanchili","0208"]
[296,"Visakhapatnam","Kotauratla","0209"]
[297,"Visakhapatnam","Madugula","0210"]
[298,"Visakhapatnam","Nakkapalli","0211"]
[299,"Visakhapatnam","Narsipatnam","0212"]
[300,"Visakhapatnam","Paderu","0213"]
[301,"Visakhapatnam","Visakhapatnam","0201"]
[302,"Visakhapatnam","Visakhapatnam","0214"]
[303,"Visakhapatnam","Visakhapatnam","0241"]
[304,"Vizianagaram","Bhogapuram","2202"]
[305,"Vizianagaram","Bobbili","2203"]
[306,"Vizianagaram","Cheepurupalli","2204"]
[307,"Vizianagaram","Gajapathinagaram","2205"]
[308,"Vizianagaram","Kothavalasa","2206"]
[309,"Vizianagaram","Kurupam","2207"]
[310,"Vizianagaram","Nellimarla","2208"]
[311,"Vizianagaram","Parvathipuram","2209"]
[312,"Vizianagaram","Saluru","2210"]
[313,"Vizianagaram","Srungavarapukota","2211"]
[314,"Vizianagaram","Therlam","2212"]
[315,"Vizianagaram","Vijayanagaram","2242"]
[316,"Vizianagaram","Vizaya Nagaram","2201"]
[317,"Vizianagaram","Vizaya Nagaram","2241"]
[318,"Vizianagaram","Vizianagaram","2213"]
[319,"Warangal","Cheriyal","2102"]
[320,"Warangal","Eturnagaram","2104"]
[321,"Warangal","Ghanapur","2105"]
[322,"Warangal","Gudur","2106"]
[323,"Warangal","Jangaon","2107"]
[324,"Warangal","Kodakandla","2108"]
[325,"Warangal","Mahaboobabad","2109"]
[326,"Warangal","Maripeda","2110"]
[327,"Warangal","Mulugu","2111"]
[328,"Warangal","Narsampeta","2112"]
[329,"Warangal","Parkal","2113"]
[330,"Warangal","Warangal","2101"]
[331,"Warangal","Warangal","2114"]
[332,"Warangal","Warangal","2141"]
[333,"Warangal","Warangal","2142"]
[334,"Warangal","Wardhannapeta","2115"]
[335,"West Godavari","Akiveedu","0402"]
[336,"West Godavari","Bhimadole","0404"]
[337,"West Godavari","Bhimavaram","0403"]
[338,"West Godavari","Chitalapudi","0405"]
[339,"West Godavari","Eluru","0406"]
[340,"West Godavari","Eluru Wgo","0441"]
[341,"West Godavari","Jangareddygudem","0407"]
[342,"West Godavari","Kovvur","0408"]
[343,"West Godavari","Narsapur","0409"]
[344,"West Godavari","Nidadavole","0410"]
[345,"West Godavari","Palkol","0411"]
[346,"West Godavari","Penugonda","0412"]
[347,"West Godavari","Polavaram","0413"]
[348,"West Godavari","Tadepalligudem","0414"]
[349,"West Godavari","Tanuku","0415"]
[350,"West Godavari","West Godavari","0401"]
[351,"Y.S.R (Kaddapah)","Badvel","1202"]
[352,"Y.S.R (Kaddapah)","Jammalamadugu","1204"]
[353,"Y.S.R (Kaddapah)","Kadapa","1201"]
[354,"Y.S.R (Kaddapah)","Kadapa","1203"]
[355,"Y.S.R (Kaddapah)","Kadapa","1241"]
[356,"Y.S.R (Kaddapah)","Kadapa","1242"]
[357,"Y.S.R (Kaddapah)","Kamalapuram","1205"]
[358,"Y.S.R (Kaddapah)","Lakkireddypalle","1206"]
[359,"Y.S.R (Kaddapah)","Muddanur","1207"]
[360,"Y.S.R (Kaddapah)","Proddatur","1208"]
[361,"Y.S.R (Kaddapah)","Pulivendla","1209"]
[362,"Y.S.R (Kaddapah)","Railway Kodur","1210"]
[363,"Y.S.R (Kaddapah)","Rajampeta","1211"]
[364,"Y.S.R (Kaddapah)","Rayachoti","1212"]
[365,"Y.S.R (Kaddapah)","Sidhavattam","1213"]

{"sheet":"Info","index":2,"n_rows":1189,"n_cols":103,"rows_kept":1189,"cut":false,"hidden":false,"merged":[[0,73,0,74],[19,4,19,5],[20,4,20,5],[11,4,11,5],[12,4,12,5],[13,4,13,5],[14,4,14,5],[3,4,3,6],[0,0,0,7],[1,7,33,7],[10,4,10,5],[0,65,0,66],[0,67,0,68],[0,69,0,70],[0,71,0,72],[7,6,8,6],[33,1,33,6],[40,5,40,6],[36,2,36,4],[37,2,37,4],[38,2,38,4],[39,2,39,4],[40,2,40,4],[36,5,36,6],[37,5,37,6],[38,5,38,6],[39,5,39,6],[2,1,8,1],[15,1,23,1],[24,1,32,1],[26,5,26,6],[27,5,27,6],[28,5,28,6],[29,5,29,6],[30,5,30,6],[31,5,31,6],[17,4,17,5],[4,6,6,6],[45,0,45,4],[2,4,2,5],[4,4,4,5],[5,4,5,5],[6,4,6,5],[9,4,9,5],[15,4,15,5],[32,5,32,6],[9,1,14,1],[18,4,18,5],[25,5,25,6],[1,0,33,0],[34,2,34,6],[35,2,35,4],[35,5,35,6],[1,1,1,6]]}
["Welcome To UTF",null,null,null,null,null,null,null,null,"                'Name of The Banks -                  Bank Code (Personal Account Nos of the Individuals)",null,null,null,null,null,null,null,null,null,null,null,null,null,null,null,null,null,null,null,null,null,null,null,null,null,null,null,null,null,null,null,null,null,null,null,null,null,null,null,null,null,null,null,null,null,null,null,null,null,null,null,null,null,null,null,"Major Head",null,"Sub-Major Head",null,"Minor Head",null,"Group Sub Head",null,"Subhead",null,null,null,null,null,null,null,null,null,null,null,null,null,null,null,"Treasury",{"$f":"PROPER(VLOOKUP(F17,CS2:CU366,3,FALSE))","v":"Udayagiri"},"District",{"$f":"E12","v":"Sri Pottisreeramulu Nellore"},1,"District Assending Order Codes","District","Stocode - Description","STO Code","Treasury","District Code","STO","Bank Code","Name of the Bank"]
[{"$f":"A1","v":"Welcome To UTF"},"OFFICE INFORMATION",null,null,null,null,null,{"$f":"A1","v":"Welcome To UTF"},null,"State Bank Of India (SBI) ADB , Atmakur",4828,"RPS-2010","Class",null,null,null,null,null,null,null,null,null,null,null,null,null,null,null,null,null,null,null,null,null,null,null,null,null,null,null,null,null,null,null,null,null,null,null,null,null,null,null,null,null,null,null,null,null,null,null,null,null,1,"HOA","SL No","Code","Description","Code","Description","Code","Description","Code","Description","Code","Description",null,"MH","SMH","Min H","GSH","SH",{"$f":"BN1","v":"Major Head"},{"$f":"IF(ISNA(CF8),\"\",VLOOKUP(CF8,Info!BM3:BW1013,2,FALSE))","v":"2202"},{"$f":"IF(ISNA(CF8),\"\",VLOOKUP(CF8,Info!BM3:BW1013,3,FALSE))","v":"General Education"},null,null,null,null,null,null,"District Treasury",2,{"$f":"IF(ISNA(VLOOKUP(CN2,$CP$2:$CS$366,4,FALSE)),\"\",VLOOKUP(CN2,$CP$2:$CS$366,4,FALSE))","v":"0804- ATMAKUR"},{"$f":"IF(EXACT($CO$1,CR2),CP1+1,1)","v":1},1,"Adilabad","1301- ADILABAD","1301","ADILABAD","13","01"]
[null,"Proceeding Authority","Disgnation Of Sanction Authority",":","Mandal Educational Officer",null,"Executive Engineer",null,null,"Syndicate Bank, Buchireddipalem",3472,"6900-20680",null,null,null,null,null,null,null,null,null,null,null,null,null,null,null,null,null,null,null,null,null,null,null,null,null,null,null,null,null,null,null,null,null,null,null,null,null,null,null,null,null,null,null,null,null,null,null,"2009-2010",2,{"$f":"IF(ISNA(VLOOKUP(BI3,$BK$3:$BM$1013,2,FALSE)),\"\",VLOOKUP(BI3,$BK$3:$BM$1013,2,FALSE))","v":"2202-01-101-00-04"},{"$f":"IF(EXACT($E$25,BN3),BK2+1,1)","v":1},{"$f":"CONCATENATE(BN3,\"-\",BP3,\"-\",BR3,\"-\",BT3,\"-\",BV3)","v":"2011-02-101-00-04"},1,"2011","State Legislature","02","State Legislatures","101","Legislative Assembly","00",null,"04","Speaker and Deputy Speaker (Charged)",null,"2011","01","001","03","01",{"$f":"BP1","v":"Sub-Major Head"},{"$f":"IF(ISNA(CF8),\"\",VLOOKUP(CF8,Info!BM3:BW1013,4,FALSE))","v":"01"},{"$f":"IF(ISNA(CF8),\"\",IF(Info!CE3=\"00\",\"\",VLOOKUP(CF8,Info!BM3:BW1013,5,FALSE)))","v":"Elementary Education"},null,null,null,null,null,null,"Sub- Treasury",{"$f":"IF(CN2=\"\",\"\",IF(CN2=MIN(CN2+1,MAX(CP3:CP1013)),\"\",MIN(CN2+1,MAX(CP3:CP1013))))","v":3},{"$f":"IF(ISNA(VLOOKUP(CN3,$CP$2:$CS$366,4,FALSE)),\"\",VLOOKUP(CN3,$CP$2:$CS$366,4,FALSE))","v":"0809- BUCHIREDDYPALEM"},1,1,"Adilabad","1302- ADILABAD","1302","ADILABAD","13","02"]
[null,null,"Name of The Office",":","Mandal Parishad Udayagiri",null,null,null,null,"State Bank Of India (SBI), Gudur","0843","7100-21250","LKG",null,null,null,null,null,null,null,null,null,null,null,null,null,null,null,null,null,null,null,null,null,null,null,null,null,null,null,null,null,null,null,null,null,null,null,null,null,null,null,null,null,null,null,null,null,null,"2010-2011",{"$f":"IF(BI3=\"\",\"\",IF(BI3=MIN(BI3+1,MAX(BK4:BK1014)),\"\",MIN(BI3+1,MAX(BK4:BK1014))))","v":3},{"$f":"IF(ISNA(VLOOKUP(BI4,$BK$3:$BM$1013,2,FALSE)),\"\",VLOOKUP(BI4,$BK$3:$BM$1013,2,FALSE))","v":"2202-01-102-00-04"},{"$f":"IF(EXACT($E$25,BN4),BK3+1,1)","v":1},"2011-02-101-00-05",2,"2011","State Legislature","02","State Legislatures","101","Legislative Assembly","00",null,"05","Members",null,"2012","02","003","06","02",{"$f":"BR1","v":"Minor Head"},{"$f":"IF(ISNA(CF8),\"\",VLOOKUP(CF8,Info!BM3:BW1013,6,FALSE))","v":"103"},{"$f":"IF(ISNA(CF8),\"\",VLOOKUP(CF8,Info!BM3:BW1013,7,FALSE))","v":"Assistance to Local Bodies for Primary Education"},null,null,null,null,null,null,null,{"$f":"IF(CN3=\"\",\"\",IF(CN3=MIN(CN3+1,MAX(CP4:CP1014)),\"\",MIN(CN3+1,MAX(CP4:CP1014))))","v":4},{"$f":"IF(ISNA(VLOOKUP(CN4,$CP$2:$CS$366,4,FALSE)),\"\",VLOOKUP(CN4,$CP$2:$CS$366,4,FALSE))","v":"0803- GUDUR"},1,1,"Adilabad","1303- ASIFABAD","1303","ASIFABAD","13","03"]
[null,null,"District",":","Sri Pottisreeramulu Nellore",null,"UPDATION PROGRAMME AVAILABLE AT",null,null,"State Bank Of India (SBI), Indukurpet",3353,"7520-22430","UKG",null,null,null,null,null,null,null,null,null,null,null,null,null,null,null,null,null,null,null,null,null,null,null,null,null,null,null,null,null,null,null,null,null,null,null,null,null,null,null,null,null,null,null,null,null,null,"2011-2012",{"$f":"IF(BI4=\"\",\"\",IF(BI4=MIN(BI4+1,MAX(BK5:BK1015)),\"\",MIN(BI4+1,MAX(BK5:BK1015))))","v":4},{"$f":"IF(ISNA(VLOOKUP(BI5,$BK$3:$BM$1013,2,FALSE)),\"\",VLOOKUP(BI5,$BK$3:$BM$1013,2,FALSE))","v":"2202-01-103-00-04"},1,"2011-02-102-00-03",3,"2011","State Legislature","02","State Legislatures","102","Legislative Council","00",null,"03","Chairman and Deputy Chairman (Charged)",null,"2013","03","004","07","03",{"$f":"BT1","v":"Group Sub Head"},{"$f":"IF(ISNA(CF8),\"\",VLOOKUP(CF8,Info!BM3:BW1013,8,FALSE))","v":"00"},{"$f":"IF(ISNA(CF8),\"\",IF(Info!CE5=\"00\",\"\",VLOOKUP(CF8,Info!BM3:BW1013,9,FALSE)))","v":""},null,null,null,null,null,null,null,5,"0815- INDUKURPETA",1,1,"Adilabad","1304- BHAINSA","1304","BHAINSA","13","04"]
[null,null,"Mandal",":","Udayagiri",null,null,null,null,"State Bank Of India (SBI), Kavali","0858","7740-23040","I",null,null,null,null,null,null,null,null,null,null,null,null,null,null,null,null,null,null,null,null,null,null,null,null,null,null,null,null,null,null,null,null,null,null,null,null,null,null,null,null,null,null,null,null,null,null,"2012-2013",5,"2202-01-103-00-05",1,"2011-02-102-00-04",4,"2011","State Legislature","02","State Legislatures","102","Legislative Council","00",null,"04","Legislative Council Secretariat",null,"2014","04","005","08","04",{"$f":"BV1","v":"Subhead"},{"$f":"IF(ISNA(CF8),\"\",VLOOKUP(CF8,Info!BM3:BW1013,10,FALSE))","v":"05"},{"$f":"IF(ISNA(CF8),\"\",VLOOKUP(CF8,Info!BM3:BW1013,11,FALSE))","v":"Teaching Grants to Mandal Praja Parishads"},null,null,null,null,null,null,null,6,"0805- KAVALI",1,1,"Adilabad","1305- BOATH","1305","BOATH","13","05"]
[null,null,"Name of The Sanction Authority",":","Sri _____________",null,null,null,null,"State Bank Of India (SBI), Kovur","0798","7960-23650","II",null,null,null,null,null,null,null,null,null,null,null,null,null,null,null,null,null,null,null,null,null,null,null,null,null,null,null,null,null,null,null,null,null,null,null,null,null,null,null,null,null,null,null,null,null,null,"2013-2014",6,"2202-01-107-10-11",1,"2011-02-102-00-05",5,"2011","State Legislature","02","State Legislatures","102","Legislative Council","00",null,"05","Members",null,"2015","05","053","10","05",null,null,null,null,null,null,null,null,null,null,7,"0806- KOVUR",1,1,"Adilabad","1306- CHINNOR","1306","CHINNOR","13","06"]
[null,null,"AAS Proceedings",":","R.C.No:","____________","http://ibknellore.tk",null,null,"State Bank Of India (SBI) ADB , Naidupet",5917,"8440-24950","III",null,null,null,null,null,null,null,null,null,null,null,null,null,null,null,null,null,null,null,null,null,null,null,null,null,null,null,null,null,null,null,null,null,null,null,null,null,null,null,null,null,null,null,null,null,null,"2014-2015",7,"2202-01-800-00-05",1,"2011-02-103-00-04",6,"2011","State Legislature","02","State Legislatures","103","Legislative Secretariat","00",null,"04","Assembly Secretariat",null,"2029","06","090","11","06",null,{"$f":"F25","v":"2202-01-103-00-05"},{"$f":"VLOOKUP(Info!CE8,Info!BL3:BW1013,2,FALSE)","v":166},null,null,null,null,null,null,null,8,"0813- NAIDUPETA",1,1,"Adilabad","1307- KAGAZNAGAR","1307","KAGAZNAGAR","13","07"]
[null,null,"UTF NELLORE",":","Date:","_______________",null,null,null,"State Bank Of India (SBI), Nellore","0887","9200-27000","IV",null,null,null,null,null,null,null,null,null,null,null,null,null,null,null,null,null,null,null,null,null,null,null,null,null,null,null,null,null,null,null,null,null,null,null,null,null,null,null,null,null,null,null,null,null,null,"2015-2016",8,"2202-01-800-00-10",1,"2011-02-104-00-04",7,"2011","State Legislature","02","State Legislatures","104","Legislators' Hostel","00",null,"04","Legislators' Hostel",null,"2030","08","092","00","07",null,{"$f":"CONCATENATE(CE2,\"-\",CE3,\"-\",CE4,\"-\",CE5,\"-\",CE6)","v":"2202-01-103-00-05"},null,null,null,null,null,null,null,null,9,"0801- NELLORE",1,1,"Adilabad","1308- KHANAPUR","1308","KHANAPUR","13","08"]
[null,"Salary Bill Authority","Disgnation Of The DDO  ",": ",{"$f":"E3","v":"Mandal Educational Officer"},null,"Hostel Welfare Officer",null,null,"State Bank Of India (SBI) ADB , Podalakur",6052,"9460-27700","V",null,null,null,null,null,null,null,null,null,null,null,null,null,null,null,null,null,null,null,null,null,null,null,null,null,null,null,null,null,null,null,null,null,null,null,null,null,null,null,null,null,null,null,null,null,null,"2016-2017",9,"2202-01-800-00-75",1,"2011-02-104-00-73",8,"2011","State Legislature","02","State Legislatures","104","Legislators' Hostel","00",null,"73","Residential Buildings (MLA Quarters)",null,"2039","60","093",null,"08",null,null,null,null,null,null,null,null,null,null,10,"0802- NELLORE",1,1,"Adilabad","1309- LAKSETTIPET","1309","LAKSETTIPET","13","09"]
[null,null,"Name of The Office",":",{"$f":"E4","v":"Mandal Parishad Udayagiri"},null,null,null,null,"Syndicate Bank, Rapur",3468,"10020-29200","VI",null,null,null,null,null,null,null,null,null,null,null,null,null,null,null,null,null,null,null,null,null,null,null,null,null,null,null,null,null,null,null,null,null,null,null,null,null,null,null,null,null,null,null,null,null,null,"2017-2018",10,"2202-01-800-10-15",1,"2012-03-090-00-04",9,"2012","Governor","03","Governor","090","Secretariat","00",null,"04","Secretariat (Charged)",null,"2040","80","094",null,"09",null,null,null,null,null,null,null,null,null,null,11,"0812- PODALAKUR",1,1,"Adilabad","1310- MANCHERIAL","1310","MANCHERIAL","13","10"]
[null,null,"District- Mandal",":",{"$f":"E5","v":"Sri Pottisreeramulu Nellore"},null,{"$f":"E6","v":"Udayagiri"},null,null,"State Bank Of India (SBI), Sullurpet","0773","10900-31550","VII",null,null,null,null,null,null,null,null,null,null,null,null,null,null,null,null,null,null,null,null,null,null,null,null,null,null,null,null,null,null,null,null,null,null,null,null,null,null,null,null,null,null,null,null,null,null,"2018-2019",11,"2202-01-800-10-16",1,"2012-03-101-00-04",10,"2012","Governor","03","Governor","101","Emoluments and Allowances of the Governor","00",null,"04","Emoluments and Allowances of the Governor (Charged)",null,"2041","00","095",null,"10",null,null,null,null,null,null,null,null,null,null,12,"0814- RAPUR",1,1,"Adilabad","1311- MUDHOLE","1311","MUDHOLE","13","11"]
[null,null,"Messenger Name",":","_________________________",null,"Programme Developed By",null,null,"Syndicate Bank, Udayagiri",3470,"11530-33200","VIII",null,null,null,null,null,null,null,null,null,null,null,null,null,null,null,null,null,null,null,null,null,null,null,null,null,null,null,null,null,null,null,null,null,null,null,null,null,null,null,null,null,null,null,null,null,null,"2019-2020",12,"2202-01-800-10-29",1,"2012-03-103-00-04",11,"2012","Governor","03","Governor","103","Household Establishment","00",null,"04","Household Establishment (Charged)",null,"2045",null,"096",null,"11",null,null,null,null,null,null,null,null,null,null,13,"0843-SP NELLORE",1,1,"Adilabad","1312- NIRMAL","1312","NIRMAL","13","12"]
[null,null,"Designation",":","___________________",null,"I.BALAKRISHNAIAH",null,null,"State Bank Of India (SBI), Venkatagiri","0969","11860-34050","IX",null,null,null,null,null,null,null,null,null,null,null,null,null,null,null,null,null,null,null,null,null,null,null,null,null,null,null,null,null,null,null,null,null,null,null,null,null,null,null,null,null,null,null,null,null,null,"2020-2021",13,"2202-01-800-11-36",1,"2012-03-105-00-04",12,"2012","Governor","03","Governor","105","Medical Facilities","00",null,"04","Medical Facilities (Charged)",null,"2047",null,"097",null,"12",null,null,null,null,null,null,null,null,null,null,14,"0808- SULLURPETA",1,1,"Adilabad","1341-NIRMAL ADILABAD","1341","NIRMAL ADILABAD","13","41"]
[null,null,"DDO Phone No",":","_________",null,"SA (Maths)",null,null,"State Bank Of India (SBI), Vidyanagar (Vakadu)",2811,"12550-35800","X",null,null,null,null,null,null,null,null,null,null,null,null,null,null,null,null,null,null,null,null,null,null,null,null,null,null,null,null,null,null,null,null,null,null,null,null,null,null,null,null,null,null,null,null,null,null,"2021-2022",14,"2202-02-001-00-04",1,"2012-03-800-00-07",13,"2012","Governor","03","Governor","800","Other Expenditure","00",null,"07","Maintenance of Rajbhavan Gardens (Charged)",null,"2051",null,"098",null,"13",null,null,null,null,null,null,null,null,null,null,15,"0842-TGP NELLORE",1,1,"Adilabad","1313- SIRPUR","1313","SIRPUR","13","13"]
[null,"APTC-47 Information","DDO Code",":","08120308028",null,"GMHS, Nellore",null,null,"State Bank Of India (SBI) ADB , Vinjamur",3177,"12910-36700","Inter-I",null,null,null,null,null,null,null,null,null,null,null,null,null,null,null,null,null,null,null,null,null,null,null,null,null,null,null,null,null,null,null,null,null,null,null,null,null,null,null,null,null,null,null,null,null,null,"2022-2023",15,"2202-02-004-00-04",1,"2013-00-101-00-04",14,"2013","Council of Ministers","00",null,"101","Salary of Ministers and Deputy Ministers","00",null,"04","Salary of Ministers and Deputy Ministers",null,"2052",null,"101",null,"14",null,null,null,null,null,null,null,null,null,null,16,"0807- UDAYAGIRI",1,1,"Adilabad","1314- UTNOOR","1314","UTNOOR","13","14"]
[null,null,"Name of The Treasury",":",{"$f":"IF(VLOOKUP(F17,CS2:CW366,5,FALSE)=\"01\",CM2,CM3)","v":"Sub- Treasury"},"0807- UDAYAGIRI","9492268881",null,null,"Designations",null,"13660-38570","Inter-II",null,null,null,null,null,null,null,null,null,null,null,null,null,null,null,null,null,null,null,null,null,null,null,null,null,null,null,null,null,null,null,null,null,null,null,null,null,null,null,null,null,null,null,null,null,null,"2023-2024",16,"2202-02-004-06-04",1,"2014-00-102-00-04",15,"2014","Administration of Justice","00",null,"102","High Court","00",null,"04","High Court (Charged)",null,"2053",null,"102",null,"15",null,null,null,null,null,null,null,null,null,null,17,"0816- VAKADU",1,1,"Adilabad","1315- WANKIDI","1315","WANKIDI","13","15"]
[null,null,"Treasury / P.A.O Code ",":",{"$f":"VLOOKUP(F17,CS2:CU366,2,FALSE)","v":"0807"},null,null,null,null,"SA (Telugu)",null,"14860-39540",null,null,null,null,null,null,null,null,null,null,null,null,null,null,null,null,null,null,null,null,null,null,null,null,null,null,null,null,null,null,null,null,null,null,null,null,null,null,null,null,null,null,null,null,null,null,null,"2024-2025",17,"2202-02-004-10-04",1,"2014-00-103-00-04",16,"2014","Administration of Justice","00",null,"103","Special Courts","00",null,"04","Special Courts for the Trial of Economic offences",null,"2054",null,"103",null,"16",null,null,null,null,null,null,null,null,null,null,18,"0810- VENKATAGIRI",1,2,"Anantapur","1001- ANANTAPUR","1001","ANANTAPUR","10","01"]
[null,null,"Name of the Bank & Address",":",{"$f":"IF(VLOOKUP(F17,CS2:CY366,7,FALSE)=0,G19,VLOOKUP(F17,CS2:CY366,7,FALSE))","v":"Syndicate Bank, Udayagiri"},null,"State Bank of India, Kandukur",null,null,"SA (Hindi)",null,"15280-40510",null,null,null,null,null,null,null,null,null,null,null,null,null,null,null,null,null,null,null,null,null,null,null,null,null,null,null,null,null,null,null,null,null,null,null,null,null,null,null,null,null,null,null,null,null,null,null,"2025-2026",18,"2202-02-101-00-03",1,"2014-00-103-00-05",17,"2014","Administration of Justice","00",null,"103","Special Courts","00",null,"05","Special Courts for the Trial of Prohibition and Excise Offences",null,"2055",null,"104",null,"17",null,null,null,null,null,null,null,null,null,null,19,"0811- VINJAMURU",1,2,"Anantapur","1002- ANANTAPUR","1002","ANANTAPUR","10","02"]
[null,null,"Bank Code",":",{"$f":"IF(VLOOKUP(F17,CS2:CY366,6,FALSE)=0,G20,VLOOKUP(F17,CS2:CY366,6,FALSE))","v":3470},null,"0854",null,null,"SA (English)",null,"16150-42590",null,null,null,null,null,null,null,null,null,null,null,null,null,null,null,null,null,null,null,null,null,null,null,null,null,null,null,null,null,null,null,null,null,null,null,null,null,null,null,null,null,null,null,null,null,null,null,"2026-2027",19,"2202-02-105-00-04",1,"2014-00-105-00-04",18,"2014","Administration of Justice","00",null,"105","Civil & Sessions Courts","00",null,"04","Civil and Sessions Courts",null,"2056",null,"105",null,"18",null,null,null,null,null,null,null,null,null,null,"","",1,2,"Anantapur","1041-ANANTAPUR","1041","ANANTAPUR","10","41"]
[null,null,"Tan NO",":","_____________",null,"Programme Updation On",null,null,"SA (Maths)",null,"18030-43630",null,null,null,null,null,null,null,null,null,null,null,null,null,null,null,null,null,null,null,null,null,null,null,null,null,null,null,null,null,null,null,null,null,null,null,null,null,null,null,null,null,null,null,null,null,null,null,"2027-2028",20,"2202-02-105-00-09",1,"2014-00-105-00-05",19,"2014","Administration of Justice","00",null,"105","Civil & Sessions Courts","00",null,"05","Additional Session Courts (Fast Track Courts)",null,"2058",null,"106",null,"19",null,null,null,null,null,null,null,null,null,null,"","",1,2,"Anantapur","1003- DHARMAVARAM","1003","DHARMAVARAM","10","03"]
[null,null,"Financial Year- Educational Consession Financial Year",":","2012-2013",null,"19/03/2012",null,null,"SA (PS)",null,"19050-45850",null,null,null,null,null,null,null,null,null,null,null,null,null,null,null,null,null,null,null,null,null,null,null,null,null,null,null,null,null,null,null,null,null,null,null,null,null,null,null,null,null,null,null,null,null,null,null,"2028-2029",21,"2202-02-106-00-05",1,"2014-00-105-00-06",20,"2014","Administration of Justice","00",null,"105","Civil & Sessions Courts","00",null,"06","Mahila Courts",null,"2059",null,"107",null,"20",null,null,null,null,null,null,null,null,null,null,"","",1,2,"Anantapur","1004- GOOTY","1004","GOOTY","10","04"]
[null,null,"Pay Bill For The Month",null,"April",2012,null,null,null,"SA (BS)",null,"20680-46960",null,null,null,null,null,null,null,null,null,null,null,null,null,null,null,null,null,null,null,null,null,null,null,null,null,null,null,null,null,null,null,null,null,null,null,null,null,null,null,null,null,null,null,null,null,null,null,"2029-2030",22,"2202-02-108-00-04",1,"2014-00-106-00-04",21,"2014","Administration of Justice","00",null,"106","Small Causes Courts","00",null,"04","Small Causes Courts",null,"2070",null,"108",null,"21",null,null,null,null,null,null,null,null,null,null,"","",1,2,"Anantapur","1005- GUNTAKAL","1005","GUNTAKAL","10","05"]
[null,null,"TBR NO",null,"___________","Date ","____________",null,null,"SA (SS)",null,"21820-48160",null,null,null,null,null,null,null,null,null,null,null,null,null,null,null,null,null,null,null,null,null,null,null,null,null,null,null,null,null,null,null,null,null,null,null,null,null,null,null,null,null,null,null,null,null,null,null,"2030-2031",23,"2202-02-109-00-04",1,"2014-00-108-00-04",22,"2014","Administration of Justice","00",null,"108","Criminal Courts","00",null,"04","Honarary Railway Magistrates Courts",null,"2071",null,"109",null,"22",null,null,null,null,null,null,null,null,null,null,"","",1,2,"Anantapur","1006- HINDUPUR","1006","HINDUPUR","10","06"]
[null,"Head of Account","Major Head - Head of Account",":","2202","2202-01-103-00-05",{"$f":"CF2","v":"General Education"},null,null,"SA (PD)",null,"23650-49360",null,null,null,null,null,null,null,null,null,null,null,null,null,null,null,null,null,null,null,null,null,null,null,null,null,null,null,null,null,null,null,null,null,null,null,null,null,null,null,null,null,null,null,null,null,null,null,"2031-2032",24,"2202-02-110-00-04",1,"2014-00-108-00-05",23,"2014","Administration of Justice","00",null,"108","Criminal Courts","00",null,"05","Other Courts",null,"2202",null,"110",null,"23",null,null,null,null,null,null,null,null,null,null,"","",1,2,"Anantapur","1007- KADIRI","1007","KADIRI","10","07"]
[null,null,"Sub Major",":",{"$f":"IF(CE3=\"00\",\"\",CE3)","v":"01"},{"$f":"CF3","v":"Elementary Education"},null,null,null,"LFLHM",null,"25600-50560",null,null,null,null,null,null,null,null,null,null,null,null,null,null,null,null,null,null,null,null,null,null,null,null,null,null,null,null,null,null,null,null,null,null,null,null,null,null,null,null,null,null,null,null,null,null,null,"2032-2033",25,"2202-02-110-00-06",1,"2014-00-108-00-07",24,"2014","Administration of Justice","00",null,"108","Criminal Courts","00",null,"07","Mobile Courts for Eradicating Ticketless Travel and other offences in the stage carriage of A.P.S.R.T.C",null,"2203",null,"111",null,"24",null,null,null,null,null,null,null,null,null,null,"","",1,2,"Anantapur","1008- KALYANDURG","1008","KALYANDURG","10","08"]
[null,null,"Minor Head ",":",{"$f":"IF(CE4=\"00\",\"\",CE4)","v":"103"},{"$f":"CF4","v":"Assistance to Local Bodies for Primary Education"},null,null,null,"SGT",null,"27000-51760",null,null,null,null,null,null,null,null,null,null,null,null,null,null,null,null,null,null,null,null,null,null,null,null,null,null,null,null,null,null,null,null,null,null,null,null,null,null,null,null,null,null,null,null,null,null,null,"2033-2034",26,"2202-02-191-00-04",1,"2014-00-108-00-11",25,"2014","Administration of Justice","00",null,"108","Criminal Courts","00",null,"11","Special Courts for dealing C.B.I Cases",null,"2204",null,"112",null,"25",null,null,null,null,null,null,null,null,null,null,"","",1,2,"Anantapur","1009- KAMBADUR","1009","KAMBADUR","10","09"]
[null,null,"Group Sub-Head",":",{"$f":"IF(CE5=\"00\",\"\",CE5)","v":""},{"$f":"CF5","v":""},null,null,null,"LP (Telugu)",null,"29200-53060",null,null,null,null,null,null,null,null,null,null,null,null,null,null,null,null,null,null,null,null,null,null,null,null,null,null,null,null,null,null,null,null,null,null,null,null,null,null,null,null,null,null,null,null,null,null,null,"2034-2035",27,"2202-02-191-00-05",1,"2014-00-110-00-04",26,"2014","Administration of Justice","00",null,"110","Administrator General and Official  Trustees","00",null,"04","Administrator-General and Official Trustees",null,"2205",null,"113",null,"26",null,null,null,null,null,null,null,null,null,null,"","",1,2,"Anantapur","1010- KANEKAL","1010","KANEKAL","10","10"]
[null,null,"Sub Head",":",{"$f":"IF(CE6=\"00\",\"\",CE6)","v":"05"},"Teaching Grants to Mandal Praja Parishads",null,null,null,"LP (Hindi)",null,"31550-53060",null,null,null,null,null,null,null,null,null,null,null,null,null,null,null,null,null,null,null,null,null,null,null,null,null,null,null,null,null,null,null,null,null,null,null,null,null,null,null,null,null,null,null,null,null,null,null,"2035-2036",28,"2202-02-789-06-05",1,"2014-00-112-00-04",27,"2014","Administration of Justice","00",null,"112","Official Receivers","00",null,"04","Official Receivers",null,"2210",null,"114",null,"27",null,null,null,null,null,null,null,null,null,null,"","",1,2,"Anantapur","1011- KOTHACHERUVU","1011","KOTHACHERUVU","10","11"]
[null,null,"Detail Head",":","010","Salaries",null,null,null,"PET",null,"34050-54360",null,null,null,null,null,null,null,null,null,null,null,null,null,null,null,null,null,null,null,null,null,null,null,null,null,null,null,null,null,null,null,null,null,null,null,null,null,null,null,null,null,null,null,null,null,null,null,"2036-2037",29,"2202-02-796-06-05",1,"2014-00-114-00-04",28,"2014","Administration of Justice","00",null,"114","Legal Advisers and Counsels","00",null,"04","Legal Advisers and Counsels",null,"2211",null,"115",null,"28",null,null,null,null,null,null,null,null,null,null,"","",1,2,"Anantapur","1012- MADAKASIRA","1012","MADAKASIRA","10","12"]
[null,null,"Non-plan=N/Plan=P",":","N",null,null,null,null,"Drawing Teacher",null,"37600-54360",null,null,null,null,null,null,null,null,null,null,null,null,null,null,null,null,null,null,null,null,null,null,null,null,null,null,null,null,null,null,null,null,null,null,null,null,null,null,null,null,null,null,null,null,null,null,null,"2037-2038",30,"2202-02-800-10-20",1,"2014-00-114-00-09",29,"2014","Administration of Justice","00",null,"114","Legal Advisers and Counsels","00",null,"09","Andhra Pradesh State Legal Services Authority",null,"2215",null,"116",null,"29",null,null,null,null,null,null,null,null,null,null,null,null,1,2,"Anantapur","1013- PENUKONDA","1013","PENUKONDA","10","13"]
[null,null,"Charged=C/Voted=V",":","V",null,null,null,null,"Music Teacher",null,"41550-55660",null,null,null,null,null,null,null,null,null,null,null,null,null,null,null,null,null,null,null,null,null,null,null,null,null,null,null,null,null,null,null,null,null,null,null,null,null,null,null,null,null,null,null,null,null,null,null,"2038-2039",31,"2202-03-001-00-01",1,"2014-00-114-00-10",30,"2014","Administration of Justice","00",null,"114","Legal Advisers and Counsels","00",null,"10","High Court Legal Service Committee",null,"2216",null,"117",null,"30",null,null,null,null,null,null,null,null,null,null,null,null,1,2,"Anantapur","1014- RAYADURG","1014","RAYADURG","10","14"]
[null,null,"Contingency Fund/MH Service Major Head",":",{"$f":"E25","v":"2202"},null,null,null,null,"Dance Teacher",null,"44740-55660",null,null,null,null,null,null,null,null,null,null,null,null,null,null,null,null,null,null,null,null,null,null,null,null,null,null,null,null,null,null,null,null,null,null,null,null,null,null,null,null,null,null,null,null,null,null,null,"2039-2040",32,"2202-03-001-00-02",1,"2014-00-114-00-13",31,"2014","Administration of Justice","00",null,"114","Legal Advisers and Counsels","00",null,"13","Directorate of Prosecutions (Headquarters office)",null,"2217",null,"119",null,"31",null,null,null,null,null,null,null,null,null,null,null,null,1,2,"Anantapur","1015- SINGANAMALA","1015","SINGANAMALA","10","15"]
[null,{"$f":"A1","v":"Welcome To UTF"},null,null,null,null,null,null,null,"Vocational Training Instructor",null,null,null,null,null,null,null,null,null,null,null,null,null,null,null,null,null,null,null,null,null,null,null,null,null,null,null,null,null,null,null,null,null,null,null,null,null,null,null,null,null,null,null,null,null,null,null,null,null,"2040-2041",33,"2202-03-001-00-03",1,"2014-00-114-00-14",32,"2014","Administration of Justice","00",null,"114","Legal Advisers and Counsels","00",null,"14","District Offices of Prosecutions",null,"2220",null,"120",null,"32",null,null,null,null,null,null,null,null,null,null,null,null,1,2,"Anantapur","1016- TADIPATRI","1016","TADIPATRI","10","16"]
[null,null,"UTF NELLORE",null,null,null,null,null,null,"Superintendent",null,null,null,null,null,null,null,null,null,null,null,null,null,null,null,null,null,null,null,null,null,null,null,null,null,null,null,null,null,null,null,null,null,null,null,null,null,null,null,null,null,null,null,null,null,null,null,null,null,"2041-2042",34,"2202-03-001-00-05",1,"2014-00-114-00-15",33,"2014","Administration of Justice","00",null,"114","Legal Advisers and Counsels","00",null,"15","A.P. State Legal Services Authority (District Offices)",null,"2225",null,"122",null,"33",null,null,null,null,null,null,null,null,null,null,null,null,1,2,"Anantapur","1017- URAVAKONDA","1017","URAVAKONDA","10","17"]
[null,null,"Programme Developed by",null,null,null,null,null,null,"Senior Assistant",null,null,null,null,null,null,null,null,null,null,null,null,null,null,null,null,null,null,null,null,null,null,null,null,null,null,null,null,null,null,null,null,null,null,null,null,null,null,null,null,null,null,null,null,null,null,null,null,null,"2042-2043",35,"2202-03-001-00-75",1,"2014-00-114-00-16",34,"2014","Administration of Justice","00",null,"114","Legal Advisers and Counsels","00",null,"16","A.P.State Legal Services Authority ( Mandal Offices)",null,"2230",null,"123",null,"34",null,null,null,null,null,null,null,null,null,null,null,null,1,3,"Chittoor","1103- BANGARUPALEM","1103","BANGARUPALEM","11","03"]
[null,null,"I.BALAKRISHNAIAH",null,null,null,null,null,null,"Junior Assistant",null,null,null,null,null,null,null,null,null,null,null,null,null,null,null,null,null,null,null,null,null,null,null,null,null,null,null,null,null,null,null,null,null,null,null,null,null,null,null,null,null,null,null,null,null,null,null,null,null,"2043-2044",36,"2202-03-001-10-01",1,"2014-00-114-00-18",35,"2014","Administration of Justice","00",null,"114","Legal Advisers and Counsels","00",null,"18","Permanent Lok Adalaths for Public Utility Services",null,"2235",null,"125",null,"35",null,null,null,null,null,null,null,null,null,null,null,null,1,3,"Chittoor","1104- CHANDRAGIRI","1104","CHANDRAGIRI","11","04"]
[null,null,"SCHOOL ASSISTANT (MATHE MATICS)",null,null,null,null,null,null,"Librarian High Schools",null,null,null,null,null,null,null,null,null,null,null,null,null,null,null,null,null,null,null,null,null,null,null,null,null,null,null,null,null,null,null,null,null,null,null,null,null,null,null,null,null,null,null,null,null,null,null,null,null,"2044-2045",37,"2202-03-001-11-03",1,"2014-00-116-00-04",36,"2014","Administration of Justice","00",null,"116","State Administrative Tribunals","00",null,"04","Andhra Pradesh Administrative Tribunal",null,"2236",null,"127",null,"36",null,null,null,null,null,null,null,null,null,null,null,null,1,3,"Chittoor","1101- CHITTOOR","1101","CHITTOOR","11","01"]
[null,null,"GOVT MODEL HIGH SCHOOL, NELLORE",null,null,null,null,null,null,"Film Operator",null,null,null,null,null,null,null,null,null,null,null,null,null,null,null,null,null,null,null,null,null,null,null,null,null,null,null,null,null,null,null,null,null,null,null,null,null,null,null,null,null,null,null,null,null,null,null,null,null,"2045-2046",38,"2202-03-102-00-17",1,"2014-00-117-00-05",37,"2014","Administration of Justice","00",null,"117","Family Courts","00",null,"05","Family Courts",null,"2245",null,"129",null,"37",null,null,null,null,null,null,null,null,null,null,null,null,1,3,"Chittoor","1102- CHITTOOR","1102","CHITTOOR","11","02"]
[null,null,"Phone No: 9492268881",null,null,null,null,null,null,"Record Assistant",null,null,null,null,null,null,null,null,null,null,null,null,null,null,null,null,null,null,null,null,null,null,null,null,null,null,null,null,null,null,null,null,null,null,null,null,null,null,null,null,null,null,null,null,null,null,null,null,null,"2046-2047",39,"2202-03-102-00-75",1,"2014-00-800-00-05",38,"2014","Administration of Justice","00",null,"800","Other Expenditure","00",null,"05","Andhra Pradesh Judicial Academy",null,"2250",null,"133",null,"38",null,null,null,null,null,null,null,null,null,null,null,null,1,3,"Chittoor","1142-CHITTOOR","1142","CHITTOOR","11","42"]
[null," ","Email: ibknellore@hotmail.com / iruvuru.balakrishnaiah@gmail.com",null,null,null,null,null,null,"Office Subordinate",null,null,null,null,null,null,null,null,null,null,null,null,null,null,null,null,null,null,null,null,null,null,null,null,null,null,null,null,null,null,null,null,null,null,null,null,null,null,null,null,null,null,null,null,null,null,null,null,null,"2047-2048",40,"2202-03-102-11-04",1,"2014-00-800-00-14",39,"2014","Administration of Justice","00",null,"800","Other Expenditure","00",null,"14","State Human Rights Commission",null,"2251",null,"134",null,"39",null,null,null,null,null,null,null,null,null,null,null,null,1,3,"Chittoor","1105- KUPPAM","1105","KUPPAM","11","05"]
[null,null,null,null,null,null,null,null,null,"Sweeper",null,null,null,null,null,null,null,null,null,null,null,null,null,null,null,null,null,null,null,null,null,null,null,null,null,null,null,null,null,null,null,null,null,null,null,null,null,null,null,null,null,null,null,null,null,null,null,null,null,null,41,"2202-03-102-11-05",1,"2014-00-800-00-15",40,"2014","Administration of Justice","00",null,"800","Other Expenditure","00",null,"15","A.P. State Human Rights Commission",null,"2401",null,"135",null,"40",null,null,null,null,null,null,null,null,null,null,null,null,1,3,"Chittoor","1106- MADANAPALLI","1106","MADANAPALLI","11","06"]
[null,null,null,null,null,null,null,null,null,"Gardinar",null,null,null,null,null,null,null,null,null,null,null,null,null,null,null,null,null,null,null,null,null,null,null,null,null,null,null,null,null,null,null,null,null,null,null,null,null,null,null,null,null,null,null,null,null,null,null,null,null,null,42,"2202-03-102-11-06",1,"2015-00-102-00-01",41,"2015","Elections","00",null,"102","Electoral Officers","00",null,"01","Headquarters Office",null,"2402",null,"138",null,"41",null,null,null,null,null,null,null,null,null,null,null,null,1,3,"Chittoor","1107- NAGARI","1107","NAGARI","11","07"]
[null,null,null,null,null,null,null,null,null,"Scavenger",null,null,null,null,null,null,null,null,null,null,null,null,null,null,null,null,null,null,null,null,null,null,null,null,null,null,null,null,null,null,null,null,null,null,null,null,null,null,null,null,null,null,null,null,null,null,null,null,null,null,43,"2202-03-102-11-07",1,"2015-00-102-00-03",42,"2015","Elections","00",null,"102","Electoral Officers","00",null,"03","District Offices",null,"2403",null,"140",null,"42",null,null,null,null,null,null,null,null,null,null,null,null,1,3,"Chittoor","1108- PAKALA","1108","PAKALA","11","08"]
[null,null,null,null,null,null,null,null,null,null,null,null,null,null,null,null,null,null,null,null,null,null,null,null,null,null,null,null,null,null,null,null,null,null,null,null,null,null,null,null,null,null,null,null,null,null,null,null,null,null,null,null,null,null,null,null,null,null,null,null,44,"2202-03-102-11-08",1,"2015-00-103-00-04",43,"2015","Elections","00",null,"103","Preparation and Printing of Electoral Rolls","00",null,"04","Assembly and Parliamentary Constituencies",null,"2405",null,"155",null,"43",null,null,null,null,null,null,null,null,null,null,null,null,1,3,"Chittoor","1109- PALAMANER","1109","PALAMANER","11","09"]
[null,null,null,null,null,null,null,null,null,null,null,null,null,null,null,null,null,null,null,null,null,null,null,null,null,null,null,null,null,null,null,null,null,null,null,null,null,null,null,null,null,null,null,null,null,null,null,null,null,null,null,null,null,null,null,null,null,null,null,null,45,"2202-03-102-11-09",1,"2015-00-103-00-07",44,"2015","Elections","00",null,"103","Preparation and Printing of Electoral Rolls","00",null,"07","Legislative Council",null,"2406",null,"156",null,"44",null,null,null,null,null,null,null,null,null,null,null,null,1,3,"Chittoor","1110- PILER","1110","PILER","11","10"]
[null,null,null,null,null,null,null,null,null,null,null,null,null,null,null,null,null,null,null,null,null,null,null,null,null,null,null,null,null,null,null,null,null,null,null,null,null,null,null,null,null,null,null,null,null,null,null,null,null,null,null,null,null,null,null,null,null,null,null,null,46,"2202-03-102-11-10",1,"2015-00-104-00-04",45,"2015","Elections","00",null,"104","Charges for Conduct of Elections for Loksabha and State Legislative Assemblies when held simultaneously","00",null,"04","Conduct of Elections to Loksabha and State Assembly",null,"2415",null,"165",null,"45",null,null,null,null,null,null,null,null,null,null,null,null,1,3,"Chittoor","1111- PUNGANUR","1111","PUNGANUR","11","11"]
[null,null,null,null,null,null,null,null,null,null,null,null,null,null,null,null,null,null,null,null,null,null,null,null,null,null,null,null,null,null,null,null,null,null,null,null,null,null,null,null,null,null,null,null,null,null,null,null,null,null,null,null,null,null,null,null,null,null,null,null,47,"2202-03-102-11-11",1,"2015-00-108-00-04",46,"2015","Elections","00",null,"108","Issue of Photo Identity Cards to Voters","00",null,"04","Photo Identity Cards to Voters",null,"2425",null,"167",null,"47",null,null,null,null,null,null,null,null,null,null,null,null,1,3,"Chittoor","1112- PUTTUR","1112","PUTTUR","11","12"]
[null,null,null,null,{"$f":"CONCATENATE(E23,\"-\",F23)","v":"April-2012"},null,null,null,null,null,null,null,null,null,null,null,null,null,null,null,null,null,null,null,null,null,null,null,null,null,null,null,null,null,null,null,null,null,null,null,null,null,null,null,null,null,null,null,null,null,null,null,null,null,null,null,null,null,null,null,48,"2202-03-102-11-16",1,"2029-00-001-00-01",47,"2029","Land Revenue","00",null,"001","Direction and Administration","00",null,"01","Headquarters Office (Chief Commissioner of Land Administration)",null,"2435",null,"190",null,"64",null,null,null,null,null,null,null,null,null,null,null,null,1,3,"Chittoor","1113- SATYAVEDU","1113","SATYAVEDU","11","13"]
[null,null,null,null,"Month","Year",null,null,null,null,null,null,null,null,null,null,null,null,null,null,null,null,null,null,null,null,null,null,null,null,null,null,null,null,null,null,null,null,null,null,null,null,null,null,null,null,null,null,null,null,null,null,null,null,null,null,null,null,null,null,49,"2202-03-102-11-20",1,"2029-00-001-00-04",48,"2029","Land Revenue","00",null,"001","Direction and Administration","00",null,"04","Director of Settlements",null,"2501",null,"191",null,"70",null,null,null,null,null,null,null,null,null,null,null,null,1,3,"Chittoor","1114- SRIKALAHASTI","1114","SRIKALAHASTI","11","14"]
[null,null,null,null,{"$f":"E23","v":"April"},{"$f":"F23","v":2012},null,null,null,null,null,null,null,null,null,null,null,null,null,null,null,null,null,null,null,null,null,null,null,null,null,null,null,null,null,null,null,null,null,null,null,null,null,null,null,null,null,null,null,null,null,null,null,null,null,null,null,null,null,null,50,"2202-03-102-11-21",1,"2029-00-001-00-05",49,"2029","Land Revenue","00",null,"001","Direction and Administration","00",null,"05","Director of Survey and Land Records",null,"2506",null,"196",null,"73",null,null,null,null,null,null,null,null,null,null,null,null,1,3,"Chittoor","1115- THAMBALLAPALLE","1115","THAMBALLAPALLE","11","15"]
[null,null,null,null,"January",2010,null,null,null,null,null,null,null,null,null,null,null,null,null,null,null,null,null,null,null,null,null,null,null,null,null,null,null,null,null,null,null,null,null,null,null,null,null,null,null,null,null,null,null,null,null,null,null,null,null,null,null,null,null,null,51,"2202-03-102-11-22",1,"2029-00-102-00-07",50,"2029","Land Revenue","00",null,"102","Survey and Settlement Operations","00",null,"07","District Survey Establishment",null,"2515",null,"197",null,"74",null,null,null,null,null,null,null,null,null,null,null,null,1,3,"Chittoor","1117- THOTTAMBEDU","1117","THOTTAMBEDU","11","17"]
[null,null,null,null,"February",2011,null,null,null,null,null,null,null,null,null,null,null,null,null,null,null,null,null,null,null,null,null,null,null,null,null,null,null,null,null,null,null,null,null,null,null,null,null,null,null,null,null,null,null,null,null,null,null,null,null,null,null,null,null,null,52,"2202-03-102-11-23",1,"2029-00-102-11-11",51,"2029","Land Revenue","00",null,"102","Survey and Settlement Operations","11","Normal State Plan","11","Survey and Settlement of Forest Boundaries",null,"2700",null,"198",null,"75",null,null,null,null,null,null,null,null,null,null,null,null,1,3,"Chittoor","1116- TIRUPATI","1116","TIRUPATI","11","16"]
[null,null,null,null,"March",2012,null,null,null,null,null,null,null,null,null,null,null,null,null,null,null,null,null,null,null,null,null,null,null,null,null,null,null,null,null,null,null,null,null,null,null,null,null,null,null,null,null,null,null,null,null,null,null,null,null,null,null,null,null,null,53,"2202-03-102-11-35",1,"2029-00-800-11-04",52,"2029","Land Revenue","00",null,"800","Other Expenditure","11","Normal State Plan","04","Survey  Training School (D.S.S. & L.R.)",null,"2701",null,"200",null,null,null,null,null,null,null,null,null,null,null,null,null,null,1,3,"Chittoor","1141-TIRUPATI","1141","TIRUPATI","11","41"]
[null,null,null,null,"April",2013,null,null,null,null,null,null,null,null,null,null,null,null,null,null,null,null,null,null,null,null,null,null,null,null,null,null,null,null,null,null,null,null,null,null,null,null,null,null,null,null,null,null,null,null,null,null,null,null,null,null,null,null,null,null,54,"2202-03-102-11-36",1,"2030-03-001-00-01",53,"2030","Stamps and Registration","03","Registration","001","Direction and Administration","00",null,"01","Headquarters Office",null,"2702",null,"201",null,null,null,null,null,null,null,null,null,null,null,null,null,null,1,3,"Chittoor","1118- VAYALPAD","1118","VAYALPAD","11","18"]
[null,null,null,null,"May",2014,null,null,null,null,null,null,null,null,null,null,null,null,null,null,null,null,null,null,null,null,null,null,null,null,null,null,null,null,null,null,null,null,null,null,null,null,null,null,null,null,null,null,null,null,null,null,null,null,null,null,null,null,null,null,55,"2202-03-102-11-37",1,"2030-03-001-00-03",54,"2030","Stamps and Registration","03","Registration","001","Direction and Administration","00",null,"03","District Offices",null,"2705",null,"277",null,null,null,null,null,null,null,null,null,null,null,null,null,null,1,4,"East Godavari","0302- ADDATHEEGALA","0302","ADDATHEEGALA","03","02"]
[null,null,null,null,"June",2015,null,null,null,null,null,null,null,null,null,null,null,null,null,null,null,null,null,null,null,null,null,null,null,null,null,null,null,null,null,null,null,null,null,null,null,null,null,null,null,null,null,null,null,null,null,null,null,null,null,null,null,null,null,null,56,"2202-03-102-11-38",1,"2039-00-001-00-01",55,"2039","State Excise","00",null,"001","Direction and Administration","00",null,"01","Headquarters Office",null,"2711",null,"282",null,null,null,null,null,null,null,null,null,null,null,null,null,null,1,4,"East Godavari","0303- ALAMUR","0303","ALAMUR","03","03"]
[null,null,null,null,"July",2016,null,null,null,null,null,null,null,null,null,null,null,null,null,null,null,null,null,null,null,null,null,null,null,null,null,null,null,null,null,null,null,null,null,null,null,null,null,null,null,null,null,null,null,null,null,null,null,null,null,null,null,null,null,null,57,"2202-03-102-11-39",1,"2039-00-001-00-03",56,"2039","State Excise","00",null,"001","Direction and Administration","00",null,"03","District Offices",null,"2801",null,"337",null,null,null,null,null,null,null,null,null,null,null,null,null,null,1,4,"East Godavari","0304- AMALAPURAM","0304","AMALAPURAM","03","04"]
[null,null,null,null,"August",2017,null,null,null,null,null,null,null,null,null,null,null,null,null,null,null,null,null,null,null,null,null,null,null,null,null,null,null,null,null,null,null,null,null,null,null,null,null,null,null,null,null,null,null,null,null,null,null,null,null,null,null,null,null,null,58,"2202-03-102-11-40",1,"2039-00-001-00-70",57,"2039","State Excise","00",null,"001","Direction and Administration","00",null,"70","Training Colleges",null,"2810",null,"789",null,null,null,null,null,null,null,null,null,null,null,null,null,null,1,4,"East Godavari","0343-DAWALESWARAM EGO","0343","DAWALESWARAM EGO","03","43"]
[null,null,null,null,"September",2018,null,null,null,null,null,null,null,null,null,null,null,null,null,null,null,null,null,null,null,null,null,null,null,null,null,null,null,null,null,null,null,null,null,null,null,null,null,null,null,null,null,null,null,null,null,null,null,null,null,null,null,null,null,null,59,"2202-03-102-11-41",1,"2039-00-800-00-05",58,"2039","State Excise","00",null,"800","Other Expenditure","00",null,"05","Assistance to A.P. Toddy Tappers Co-operative Finance Corporation Ltd.,",null,"2851",null,"796",null,null,null,null,null,null,null,null,null,null,null,null,null,null,1,4,"East Godavari","0301- EAST GODAVARI","0301","EAST GODAVARI","03","01"]
[null,null,null,null,"October",2019,null,null,null,null,null,null,null,null,null,null,null,null,null,null,null,null,null,null,null,null,null,null,null,null,null,null,null,null,null,null,null,null,null,null,null,null,null,null,null,null,null,null,null,null,null,null,null,null,null,null,null,null,null,null,60,"2202-03-103-00-04",1,"2040-00-001-00-01",59,"2040","Taxes on Sales, Trade etc.,","00",null,"001","Direction and Administration","00",null,"01","Headquarters Office",null,"2852",null,"800",null,null,null,null,null,null,null,null,null,null,null,null,null,null,1,4,"East Godavari","0318- JAGGAMPET","0318","JAGGAMPET","03","18"]
[null,null,null,null,"November",2020,null,null,null,null,null,null,null,null,null,null,null,null,null,null,null,null,null,null,null,null,null,null,null,null,null,null,null,null,null,null,null,null,null,null,null,null,null,null,null,null,null,null,null,null,null,null,null,null,null,null,null,null,null,null,61,"2202-03-103-00-07",1,"2040-00-001-00-03",60,"2040","Taxes on Sales, Trade etc.,","00",null,"001","Direction and Administration","00",null,"03","District Offices",null,"2853",null,null,null,null,null,null,null,null,null,null,null,null,null,null,null,null,1,4,"East Godavari","0342-KAKINADA EGO","0342","KAKINADA EGO","03","42"]
[null,null,null,null,"December",2021,null,null,null,null,null,null,null,null,null,null,null,null,null,null,null,null,null,null,null,null,null,null,null,null,null,null,null,null,null,null,null,null,null,null,null,null,null,null,null,null,null,null,null,null,null,null,null,null,null,null,null,null,null,null,62,"2202-03-103-11-04",1,"2040-00-001-00-04",61,"2040","Taxes on Sales, Trade etc.,","00",null,"001","Direction and Administration","00",null,"04","Sales Tax Appellate Tribunal",null,"3051",null,null,null,null,null,null,null,null,null,null,null,null,null,null,null,null,1,4,"East Godavari","0305- KAKINADA LOCAL","0305","KAKINADA LOCAL","03","05"]
[null,null,null,null,null,null,null,null,null,null,null,null,null,null,null,null,null,null,null,null,null,null,null,null,null,null,null,null,null,null,null,null,null,null,null,null,null,null,null,null,null,null,null,null,null,null,null,null,null,null,null,null,null,null,null,null,null,null,null,null,63,"2202-03-103-11-05",1,"2040-00-001-00-05",62,"2040","Taxes on Sales, Trade etc.,","00",null,"001","Direction and Administration","00",null,"05","Training Institute",null,"3053",null,null,null,null,null,null,null,null,null,null,null,null,null,null,null,null,1,4,"East Godavari","0319-KORUKONDA","0319","KORUKONDA","03","19"]
[null,null,null,null,null,null,null,null,null,null,null,null,null,null,null,null,null,null,null,null,null,null,null,null,null,null,null,null,null,null,null,null,null,null,null,null,null,null,null,null,null,null,null,null,null,null,null,null,null,null,null,null,null,null,null,null,null,null,null,null,64,"2202-03-103-11-07",1,"2040-00-001-00-08",63,"2040","Taxes on Sales, Trade etc.,","00",null,"001","Direction and Administration","00",null,"08","Integrated Check Posts",null,"3054",null,null,null,null,null,null,null,null,null,null,null,null,null,null,null,null,1,4,"East Godavari","0306- KOTHAPETA","0306","KOTHAPETA","03","06"]
[null,null,"District",null,"Mandal",null,"District ",null,null,{"$f":"LOOKUP(K66,$C$67:$D$1188)","v":46},{"$f":"E5","v":"Sri Pottisreeramulu Nellore"},{"$f":"LOOKUP(M66,$C$67:$D$1189)","v":46},{"$f":"E12","v":"Sri Pottisreeramulu Nellore"},{"$f":"LOOKUP(O66,$C$67:$D$1189)","v":59},{"$f":"G70","v":"East Godavari"},{"$f":"LOOKUP(Q66,$C$67:$D$1189)","v":57},{"$f":"G71","v":"Guntur"},null,1,"One","Tution Fee",{"$f":"Pro!I1018","v":371000},{"$f":"UPPER(IF(V66=0,\"NIL\",IF(AND(Y66=0,AB66=0,AE66=0,AH66=0),AK66,IF(AND(Y66=0,AB66=0,AE66=0),CONCATENATE(AI66,IF(AJ66>0,\"and \",\" \"),AK66),IF(AND(Y66=0,AB66=0),CONCATENATE(AF66,IF(AND(AJ66=0,AH66>0),\"and \", \"\"),AI66,IF(AJ66>0,\"and \",\" \"),AK66),IF(Y66=0,CONCATENATE(AC66,IF(AND(AJ66=0,AH66=0,AE66>0),\"and \", \"\"),AF66,IF(AND(AJ66=0,AH66>0),\"and \", \"\"),AI66,IF(AJ66>0,\"and \",\" \"),AK66),CONCATENATE(Z66,IF(AND(AJ66=0,AH66=0,AE66=0,AB66>0),\"and \", \"\"),AC66,IF(AND(AJ66=0,AH66=0,AE66>0),\"and \", \"\"),AF66,IF(AND(AJ66=0,AH66>0),\"and \", \"\"),AI66,IF(AJ66>0,\"and \",\" \"),AK66)))))))","v":"THREE  LAKHS  AND SEVENTY ONE THOUSAND  "},{"$f":"INT(V66/10000000)*10000000","v":0},{"$f":"INT(V66/10000000)","v":0},{"$f":"IF(Y66=1,CONCATENATE(VLOOKUP(Y66,$S$66:$T$164,2),\"  Crore \"),IF(Y66>1,CONCATENATE(VLOOKUP(Y66,$S$66:$T$164,2),\"  Crores  \"),\"\"))","v":""},{"$f":"INT(V66/100000)*100000-X66","v":300000},{"$f":"INT(AA66/100000)","v":3},{"$f":"IF(AB66=1,CONCATENATE(VLOOKUP(AB66,$S$66:$T$164,2),\"  Lakh \"),IF(AB66>1,CONCATENATE(VLOOKUP(AB66,$S$66:$T$164,2),\"  Lakhs  \"),\"\"))","v":"Three  Lakhs  "},{"$f":"INT(V66/1000)*1000-X66-AA66","v":71000},{"$f":"INT(AD66/1000)","v":71},{"$f":"IF(AE66>0,CONCATENATE(VLOOKUP(AE66,$S$66:$T$164,2),\" Thousand \"),\"\")","v":"Seventy One Thousand "},{"$f":"INT(V66/100)*100-X66-AA66-AD66","v":0},{"$f":"INT(AG66/100)","v":0},{"$f":"IF(AH66>0,CONCATENATE(VLOOKUP(AH66,$S$66:$T$164,2),\" Hundred \"),\"\")","v":""},{"$f":"V66-X66-AA66-AD66-AG66","v":0},{"$f":"IF(AJ66>0, VLOOKUP(AJ66,$S$66:$T$164,2),\"\")","v":""},null,null,null,null,null,null,null,null,null,null,null,null,null,null,null,null,null,null,null,null,null,null,null,65,"2202-03-104-00-04",1,"2040-00-001-00-09",64,"2040","Taxes on Sales, Trade etc.,","00",null,"001","Direction and Administration","00",null,"09","Project Management Team for implementing V.A.T.",null,"3056",null,null,null,null,null,null,null,null,null,null,null,null,null,null,null,null,{"$f":"IF(EXACT($CO$1,CR66),CP65+1,1)","v":1},4,"East Godavari","0307- MUMMIDIVARAM","0307","MUMMIDIVARAM","03","07"]
[1,1,"Adilabad",1,"Adilabad ",null,"Adilabad",1,{"$f":"LOOKUP(G67,$C$67:$D$1188)","v":52},{"$f":"LOOKUP(K66,$G$92:$H$114)","v":862},"Mandal -1",{"$f":"LOOKUP(M66,$G$92:$H$114)","v":862},"Mandal-2",{"$f":"LOOKUP(O66,$G$92:$H$114)","v":240},"Mandal-3",{"$f":"LOOKUP(Q66,$G$92:$H$114)","v":297},"Mandal-4",null,2,"Two",{"$f":"Main!D851","v":0},{"$f":"V66+1","v":371001},{"$f":"UPPER(IF(V67=0,\"NIL\",IF(AND(Y67=0,AB67=0,AE67=0,AH67=0),AK67,IF(AND(Y67=0,AB67=0,AE67=0),CONCATENATE(AI67,IF(AJ67>0,\"and \",\" \"),AK67),IF(AND(Y67=0,AB67=0),CONCATENATE(AF67,IF(AND(AJ67=0,AH67>0),\"and \", \"\"),AI67,IF(AJ67>0,\"and \",\" \"),AK67),IF(Y67=0,CONCATENATE(AC67,IF(AND(AJ67=0,AH67=0,AE67>0),\"and \", \"\"),AF67,IF(AND(AJ67=0,AH67>0),\"and \", \"\"),AI67,IF(AJ67>0,\"and \",\" \"),AK67),CONCATENATE(Z67,IF(AND(AJ67=0,AH67=0,AE67=0,AB67>0),\"and \", \"\"),AC67,IF(AND(AJ67=0,AH67=0,AE67>0),\"and \", \"\"),AF67,IF(AND(AJ67=0,AH67>0),\"and \", \"\"),AI67,IF(AJ67>0,\"and \",\" \"),AK67)))))))","v":"THREE  LAKHS  SEVENTY ONE THOUSAND AND ONE"},0,0,"",300000,3,"Three  Lakhs  ",71000,71,"Seventy One Thousand ",0,0,"",1,"One",null,null,null,null,null,null,null,null,null,null,null,null,null,null,null,null,null,null,null,null,null,null,null,66,"2202-03-104-00-05",1,{"$f":"CONCATENATE(BN67,\"-\",BP67,\"-\",BR67,\"-\",BT67,\"-\",BV67)","v":"2040-00-001-00-10"},65,"2040","Taxes on Sales, Trade etc.,","00",null,"001","Direction and Administration","00",null,"10","Sales Tax Appellate Tribunal, Additional Bench, Visakhapatnam",null,"3425",null,null,null,null,null,null,null,null,null,null,null,null,null,null,null,null,1,4,"East Godavari","0308- PEDDAPURAM","0308","PEDDAPURAM","03","08"]
[2,1,"Adilabad",2,"Asifabad ",1,"Anantapur",{"$f":"I67+H67","v":53},{"$f":"LOOKUP(G68,$C$67:$D$1189)","v":63},{"$f":"LOOKUP(K66,$G$67:$H$89)","v":817},{"$f":"IF(J68>$J$67,\"\",VLOOKUP(J68,$A$67:$E$1189,5))","v":"Allur"},{"$f":"LOOKUP(M66,$G$67:$H$89)","v":817},{"$f":"IF(L68>$L$67,\"\",VLOOKUP(L68,$A$67:$E$1189,5))","v":"Allur"},{"$f":"LOOKUP(O66,$G$67:$H$89)","v":182},{"$f":"IF(N68>$N$67,\"\",VLOOKUP(N68,$A$67:$E$1189,5))","v":"Addateegala "},{"$f":"LOOKUP(Q66,$G$67:$H$89)","v":241},{"$f":"IF(P68>$P$67,\"\",VLOOKUP(P68,$A$67:$E$1189,5))","v":"Achampeta"},null,3,"Three","Bank",{"$f":"'BA-I'!E510","v":332000},"THREE  LAKHS  AND THIRTY TWO THOUSAND  ",0,0,"",300000,3,"Three  Lakhs  ",32000,32,"Thirty Two Thousand ",0,0,"",0,"",null,null,null,null,null,null,null,null,null,null,null,null,null,null,null,null,null,null,null,null,null,null,null,67,"2202-03-104-00-06",{"$f":"IF(EXACT($E$25,BN68),BK67+1,1)","v":1},"2041-00-001-00-01",66,"2041","Taxes on Vehicles","00",null,"001","Direction and Administration","00",null,"01","Headquarters Office",null,"3435",null,null,null,null,null,null,null,null,null,null,null,null,null,null,null,null,1,4,"East Godavari","0309- PITHAPURAM","0309","PITHAPURAM","03","09"]
[3,1,"Adilabad",3,"Bazarhathnoor ",2,"Chittoor",116,{"$f":"LOOKUP(G69,$C$67:$D$1189)","v":66},{"$f":"IF(J68=$J$67+1,$J$67+1,J68+1)","v":818},{"$f":"IF(J69>$J$67,\"\",VLOOKUP(J69,$A$67:$E$1189,5))","v":"Ananthasagaram"},{"$f":"IF(L68=$L$67+1,$L$67+1,L68+1)","v":818},{"$f":"IF(L69>$L$67,\"\",VLOOKUP(L69,$A$67:$E$1189,5))","v":"Ananthasagaram"},{"$f":"IF(N68=$L$67+1,$L$67+1,N68+1)","v":183},{"$f":"IF(N69>$N$67,\"\",VLOOKUP(N69,$A$67:$E$1189,5))","v":"Ainavilli "},{"$f":"IF(P68=$L$67+1,$L$67+1,P68+1)","v":242},{"$f":"IF(P69>$P$67,\"\",VLOOKUP(P69,$A$67:$E$1189,5))","v":"Amaravathi"},null,4,"Four",{"$f":"Main!D853","v":0},{"$f":"Main!G853","v":0},"NIL",0,0,"",0,0,"",0,0,"",0,0,"",0,"",null,null,null,null,null,null,null,null,null,null,null,null,null,null,null,null,null,null,null,null,null,null,null,{"$f":"IF(BI68=\"\",\"\",IF(BI68=MIN(BI68+1,MAX(BK69:BK1079)),\"\",MIN(BI68+1,MAX(BK69:BK1079))))","v":68},{"$f":"IF(ISNA(VLOOKUP(BI69,$BK$3:$BM$1013,2,FALSE)),\"\",VLOOKUP(BI69,$BK$3:$BM$1013,2,FALSE))","v":"2202-03-104-00-08"},1,"2041-00-001-00-03",67,"2041","Taxes on Vehicles","00",null,"001","Direction and Administration","00",null,"03","District Offices",null,"3451",null,null,null,null,null,null,null,null,null,null,null,null,null,null,null,null,1,4,"East Godavari","0310- PRATHIPADU","0310","PRATHIPADU","03","10"]
[4,1,"Adilabad",4,"Bejjur ",3,"East Godavari",182,59,819,"Anumasamudrampeta",819,"Anumasamudrampeta",184,"Alamuru ",243,"Amruthalur",null,5,"Five",{"$f":"Main!D854","v":0},{"$f":"Main!G854","v":0},"NIL",0,0,"",0,0,"",0,0,"",0,0,"",0,"",null,null,null,null,null,null,null,null,null,null,null,null,null,null,null,null,null,null,null,null,null,null,null,69,"2202-03-104-00-09",1,"2045-00-103-00-01",68,"2045","Other Taxes and Duties on Commodities and Services","00",null,"103","Collection Charges-Electricity Duty","00",null,"01","Headquarter's Office",null,"3452",null,null,null,null,null,null,null,null,null,null,null,null,null,null,null,null,1,4,"East Godavari","0312- RAJAMUNDRY(N)","0312","RAJAMUNDRY(N)","03","12"]
[5,1,"Adilabad",5,"Bela ",4,"Guntur",241,57,820,"Atmakur",820,"Atmakur",185,"Allavaram ",244,"Bapatla",null,6,"Six","S-I",{"$f":"APPLICATION!F47","v":6500},"SIX THOUSAND AND FIVE HUNDRED  ",0,0,"",0,0,"",6000,6,"Six Thousand ",500,5,"Five Hundred ",0,"",null,null,null,null,null,null,null,null,null,null,null,null,null,null,null,null,null,null,null,null,null,null,null,70,"2202-03-104-00-75",1,"2045-00-103-00-02",69,"2045","Other Taxes and Duties on Commodities and Services","00",null,"103","Collection Charges-Electricity Duty","00",null,"02","Regional Offices",null,"3453",null,null,null,null,null,null,null,null,null,null,null,null,null,null,null,null,1,4,"East Godavari","0313- RAMACHANDRAPURAM","0313","RAMACHANDRAPURAM","03","13"]
[6,1,"Adilabad",6,"Bellampalle ",5,"Hyderabad",298,16,821,"Balayapalle",821,"Balayapalle",186,"Amalapuram ",245,"Bellamkonda",null,7,"Seven","S-II",{"$f":"APPLICATION!F64","v":6450},{"$f":"UPPER(IF(V72=0,\"NIL\",IF(AND(Y72=0,AB72=0,AE72=0,AH72=0),AK72,IF(AND(Y72=0,AB72=0,AE72=0),CONCATENATE(AI72,IF(AJ72>0,\"and \",\" \"),AK72),IF(AND(Y72=0,AB72=0),CONCATENATE(AF72,IF(AND(AJ72=0,AH72>0),\"and \", \"\"),AI72,IF(AJ72>0,\"and \",\" \"),AK72),IF(Y72=0,CONCATENATE(AC72,IF(AND(AJ72=0,AH72=0,AE72>0),\"and \", \"\"),AF72,IF(AND(AJ72=0,AH72>0),\"and \", \"\"),AI72,IF(AJ72>0,\"and \",\" \"),AK72),CONCATENATE(Z72,IF(AND(AJ72=0,AH72=0,AE72=0,AB72>0),\"and \", \"\"),AC72,IF(AND(AJ72=0,AH72=0,AE72>0),\"and \", \"\"),AF72,IF(AND(AJ72=0,AH72>0),\"and \", \"\"),AI72,IF(AJ72>0,\"and \",\" \"),AK72)))))))","v":"SIX THOUSAND FOUR HUNDRED AND FIFTY"},0,0,"",0,0,"",6000,6,"Six Thousand ",400,4,"Four Hundred ",50,"Fifty",null,null,null,null,null,null,null,null,null,null,null,null,null,null,null,null,null,null,null,null,null,null,null,71,"2202-03-106-00-04",1,"2047-00-103-00-01",70,"2047","Other Fiscal Services","00",null,"103","Promotion of Small Savings","00",null,"01","Headquarters Office",null,"3454",null,null,null,null,null,null,null,null,null,null,null,null,null,null,null,null,1,4,"East Godavari","0314- RAMPACHODAVARAM","0314","RAMPACHODAVARAM","03","14"]
[7,1,"Adilabad",7,"Bhainsa ",6,"Karimnagar",314,56,822,"Bogole",822,"Bogole",187,"Ambajipeta ",246,"Bhattiprolu",null,8,"Eight",{"$f":"Main!G823","v":0},{"$f":"Main!N877","v":0},{"$f":"UPPER(IF(V73=0,\"NIL\",IF(AND(Y73=0,AB73=0,AE73=0,AH73=0),AK73,IF(AND(Y73=0,AB73=0,AE73=0),CONCATENATE(AI73,IF(AJ73>0,\"and \",\" \"),AK73),IF(AND(Y73=0,AB73=0),CONCATENATE(AF73,IF(AND(AJ73=0,AH73>0),\"and \", \"\"),AI73,IF(AJ73>0,\"and \",\" \"),AK73),IF(Y73=0,CONCATENATE(AC73,IF(AND(AJ73=0,AH73=0,AE73>0),\"and \", \"\"),AF73,IF(AND(AJ73=0,AH73>0),\"and \", \"\"),AI73,IF(AJ73>0,\"and \",\" \"),AK73),CONCATENATE(Z73,IF(AND(AJ73=0,AH73=0,AE73=0,AB73>0),\"and \", \"\"),AC73,IF(AND(AJ73=0,AH73=0,AE73>0),\"and \", \"\"),AF73,IF(AND(AJ73=0,AH73>0),\"and \", \"\"),AI73,IF(AJ73>0,\"and \",\" \"),AK73)))))))","v":"NIL"},0,0,"",0,0,"",0,0,"",0,0,"",0,"",null,null,null,null,null,null,null,null,null,null,null,null,null,null,null,null,null,null,null,null,null,null,null,72,"2202-03-106-10-04",1,"2047-00-103-00-03",71,"2047","Other Fiscal Services","00",null,"103","Promotion of Small Savings","00",null,"03","District Offices",null,"3456",null,null,null,null,null,null,null,null,null,null,null,null,null,null,null,null,1,4,"East Godavari","0315- RAYAVARAM","0315","RAYAVARAM","03","15"]
[8,1,"Adilabad",8,"Bheemini ",7,"Khammam",370,46,823,"Butchireddipalem",823,"Butchireddipalem",188,"Anaparthi ",247,"Bollapalle",null,9,"Nine","AAS EOL",{"$f":"Main!L897","v":0},"NIL",0,0,"",0,0,"",0,0,"",0,0,"",0,"",null,null,null,null,null,null,null,null,null,null,null,null,null,null,null,null,null,null,null,null,null,null,null,73,"2202-03-112-00-04",1,"2051-00-102-00-04",72,"2051","Public Service Commission","00",null,"102","State Public Service Commission","00",null,"04","Andhra Pradesh Public Service Commission (Charged)",null,"3475",null,null,null,null,null,null,null,null,null,null,null,null,null,null,null,null,1,4,"East Godavari","0316- RAZOLE","0316","RAZOLE","03","16"]
[9,1,"Adilabad",9,"Boath ",8,"Krishna",416,50,824,"Chejerla",824,"Chejerla",189,"Atreyapuram ",248,"Chebrole",null,10,"Ten","Ist In EOL",{"$f":"Main!Z927","v":0},"NIL",0,0,"",0,0,"",0,0,"",0,0,"",0,"",null,null,null,null,null,null,null,null,null,null,null,null,null,null,null,null,null,null,null,null,null,null,null,74,"2202-03-112-11-04",1,"2052-00-090-00-04",73,"2052","Secretariat General Services","00",null,"090","Secretariat","00",null,"04","General Administration Department",null,"4059",null,null,null,null,null,null,null,null,null,null,null,null,null,null,null,null,1,4,"East Godavari","0317- TUNI","0317","TUNI","03","17"]
[10,1,"Adilabad",10,"Chennur ",9,"Kurnool",466,54,825,"Chillakur",825,"Chillakur",190,"Biccavolu ",249,"Cherukupalle",null,11,"Eleven","2nd EOL",{"$f":"Main!AB927","v":0},{"$f":"IF(V76=0,\"NIL\",IF(AND(Y76=0,AB76=0,AE76=0,AH76=0),AK76,IF(AND(Y76=0,AB76=0,AE76=0),CONCATENATE(AI76,IF(AJ76>0,\"and \",\" \"),AK76),IF(AND(Y76=0,AB76=0),CONCATENATE(AF76,IF(AND(AJ76=0,AH76>0),\"and \", \"\"),AI76,IF(AJ76>0,\"and \",\" \"),AK76),IF(Y76=0,CONCATENATE(AC76,IF(AND(AJ76=0,AH76=0,AE76>0),\"and \", \"\"),AF76,IF(AND(AJ76=0,AH76>0),\"and \", \"\"),AI76,IF(AJ76>0,\"and \",\" \"),AK76),CONCATENATE(Z76,IF(AND(AJ76=0,AH76=0,AE76=0,AB76>0),\"and \", \"\"),AC76,IF(AND(AJ76=0,AH76=0,AE76>0),\"and \", \"\"),AF76,IF(AND(AJ76=0,AH76>0),\"and \", \"\"),AI76,IF(AJ76>0,\"and \",\" \"),AK76))))))","v":"NIL"},0,0,"",0,0,"",0,0,"",0,0,"",0,"",null,null,null,null,null,null,null,null,null,null,null,null,null,null,null,null,null,null,null,null,null,null,null,75,"2202-03-789-11-12",1,"2052-00-090-00-05",74,"2052","Secretariat General Services","00",null,"090","Secretariat","00",null,"05","Personal Staff attached to Ministers",null,"4215",null,null,null,null,null,null,null,null,null,null,null,null,null,null,null,null,1,5,"Guntur","0602- BAPATLA","0602","BAPATLA","06","02"]
[11,1,"Adilabad",11,"Dahegaon ",10,"Mahabubnagar",520,64,826,"Chittamur",826,"Chittamur",191,"Devipatnam ",250,"Chilakaluripet",null,12,"Twelve","Leaves",null,"NIL",0,0,"",0,0,"",0,0,"",0,0,"",0,"",null,null,null,null,null,null,null,null,null,null,null,null,null,null,null,null,null,null,null,null,null,null,null,76,"2202-03-789-11-13",1,"2052-00-090-00-06",75,"2052","Secretariat General Services","00",null,"090","Secretariat","00",null,"06","Finance  Department",null,"4250",null,null,null,null,null,null,null,null,null,null,null,null,null,null,null,null,1,5,"Guntur","0603- CHILAKALURIPET","0603","CHILAKALURIPET","06","03"]
[12,1,"Adilabad",12,"Dandepalle ",11,"Medak",584,45,827,"Dagadarthi",827,"Dagadarthi",192,"Gandepalle ",251,"Dachepalle",null,13,"Thirteen",null,null,"NIL",0,0,"",0,0,"",0,0,"",0,0,"",0,"",null,null,null,null,null,null,null,null,null,null,null,null,null,null,null,null,null,null,null,null,null,null,null,77,"2202-03-789-11-14",1,"2052-00-090-00-07",76,"2052","Secretariat General Services","00",null,"090","Secretariat","00",null,"07","Planning Department",null,"4406",null,null,null,null,null,null,null,null,null,null,null,null,null,null,null,null,1,5,"Guntur","0604- EMANI-AT-DUGGIRALA","0604","EMANI-AT-DUGGIRALA","06","04"]
[13,1,"Adilabad",13,"Dilawarpur ",12,"Nalgonda",629,59,828,"Dakkili",828,"Dakkili",193,"Gangavaram ",252,"Duggirala",null,14,"Fourteen",null,null,"NIL",0,0,"",0,0,"",0,0,"",0,0,"",0,"",null,null,null,null,null,null,null,null,null,null,null,null,null,null,null,null,null,null,null,null,null,null,null,78,"2202-03-789-11-15",1,"2052-00-090-00-08",77,"2052","Secretariat General Services","00",null,"090","Secretariat","00",null,"08","Home Department",null,"4700",null,null,null,null,null,null,null,null,null,null,null,null,null,null,null,null,1,5,"Guntur","0601- GUNTUR","0601","GUNTUR","06","01"]
[14,1,"Adilabad",14,"Gudihathnur ",13,"Nizamabad",688,36,829,"Doravarisatram",829,"Doravarisatram",194,"Gokavaram ",253,"Durgi",null,15,"Fifteen",null,null,"NIL",0,0,"",0,0,"",0,0,"",0,0,"",0,"",null,null,null,null,null,null,null,null,null,null,null,null,null,null,null,null,null,null,null,null,null,null,null,79,"2202-03-789-11-16",1,"2052-00-090-00-09",78,"2052","Secretariat General Services","00",null,"090","Secretariat","00",null,"09","Revenue Department",null,"4701",null,null,null,null,null,null,null,null,null,null,null,null,null,null,null,null,1,5,"Guntur","0641-GUNTUR","0641","GUNTUR","06","41"]
[15,1,"Adilabad",15,"Ichoda ",14,"Prakasam",724,56,830,"Duttalur",830,"Duttalur",195,"Gollaprolu ",254,"Edlapadu",null,16,"Sixteen",null,null,"NIL",0,0,"",0,0,"",0,0,"",0,0,"",0,"",null,null,null,null,null,null,null,null,null,null,null,null,null,null,null,null,null,null,null,null,null,null,null,80,"2202-03-789-11-17",1,"2052-00-090-00-10",79,"2052","Secretariat General Services","00",null,"090","Secretariat","00",null,"10","Law Department",null,"4702",null,null,null,null,null,null,null,null,null,null,null,null,null,null,null,null,1,5,"Guntur","0605- GUNTUR ()","0605","GUNTUR ()","06","05"]
[16,1,"Adilabad",16,"Inderavelly ",15,"Ranga Reddy",780,37,831,"Gudur",831,"Gudur",196,"I Polavaram",255,"Guntur",null,17,"Seventeen",null,null,"NIL",0,0,"",0,0,"",0,0,"",0,0,"",0,"",null,null,null,null,null,null,null,null,null,null,null,null,null,null,null,null,null,null,null,null,null,null,null,81,"2202-03-789-11-18",1,"2052-00-090-00-17",80,"2052","Secretariat General Services","00",null,"090","Secretariat","00",null,"17","Godavari Valley Development Authority",null,"4711",null,null,null,null,null,null,null,null,null,null,null,null,null,null,null,null,1,5,"Guntur","0606- GURAJALA(PALNAD)","0606","GURAJALA(PALNAD)","06","06"]
[17,1,"Adilabad",17,"Jainad ",16,"Sri Pottisreeramulu Nellore",817,46,832,"Indukurpet",832,"Indukurpet",197,"Jaggampeta ",256,"Gurazala",null,18,"Eighteen",null,null,"NIL",0,0,"",0,0,"",0,0,"",0,0,"",0,"",null,null,null,null,null,null,null,null,null,null,null,null,null,null,null,null,null,null,null,null,null,null,null,82,"2202-03-789-11-19",1,"2052-00-090-00-20",81,"2052","Secretariat General Services","00",null,"090","Secretariat","00",null,"20","Finance (Works & Projects) Department",null,"4801",null,null,null,null,null,null,null,null,null,null,null,null,null,null,null,null,1,5,"Guntur","0607- MACHERLA","0607","MACHERLA","06","07"]
[18,1,"Adilabad",18,"Jainoor ",17,"Srikakulam",863,{"$f":"LOOKUP(G84,$C$67:$D$1189)","v":38},833,"Jaladanki",833,"Jaladanki",198,"Kadiam ",257,"Ipuru",null,19,"Ninteen",null,null,"NIL",0,0,"",0,0,"",0,0,"",0,0,"",0,"",null,null,null,null,null,null,null,null,null,null,null,null,null,null,null,null,null,null,null,null,null,null,null,83,"2202-03-789-11-21",1,"2052-00-090-00-74",82,"2052","Secretariat General Services","00",null,"090","Secretariat","00",null,"74","Buildings",null,"5051",null,null,null,null,null,null,null,null,null,null,null,null,null,null,null,null,1,5,"Guntur","0608- MANGALAGIRI","0608","MANGALAGIRI","06","08"]
[19,1,"Adilabad",19,"Jaipur ",18,"Visakhapatnam",901,43,834,"Kaligiri",834,"Kaligiri",199,"Kajuluru ",258,"Kakumanu",null,20,"Twenty",null,null,"NIL",0,0,"",0,0,"",0,0,"",0,0,"",0,"",null,null,null,null,null,null,null,null,null,null,null,null,null,null,null,null,null,null,null,null,null,null,null,84,"2202-03-789-11-22",1,"2052-00-090-00-75",83,"2052","Secretariat General Services","00",null,"090","Secretariat","00",null,"75","Lumpsum Provision",null,"5054",null,null,null,null,null,null,null,null,null,null,null,null,null,null,null,null,1,5,"Guntur","0609- NAGARAM","0609","NAGARAM","06","09"]
[20,1,"Adilabad",20,"Jannaram ",19,"Vizianagaram",944,34,835,"Kaluvoya",835,"Kaluvoya",200,"Kakinada (Rural)",259,"Karempudi",null,21,"Twenty One",null,null,"NIL",0,0,"",0,0,"",0,0,"",0,0,"",0,"",null,null,null,null,null,null,null,null,null,null,null,null,null,null,null,null,null,null,null,null,null,null,null,85,"2202-03-789-11-23",1,"2052-00-090-11-16",84,"2052","Secretariat General Services","00",null,"090","Secretariat","11","Normal State Plan","16","Project Management Unit",null,null,null,null,null,null,null,null,null,null,null,null,null,null,null,null,null,null,1,5,"Guntur","0642-NARSARAO PET","0642","NARSARAO PET","06","42"]
[21,1,"Adilabad",21,"Kaddampeddur ",20,"Warangal",978,50,836,"Kavali",836,"Kavali",201,"Kakunada (Urban)",260,"Karlapalem",null,22,"Twenty Two",null,null,"NIL",0,0,"",0,0,"",0,0,"",0,0,"",0,"",null,null,null,null,null,null,null,null,null,null,null,null,null,null,null,null,null,null,null,null,null,null,null,86,"2202-03-789-11-24",1,"2052-00-090-11-29",85,"2052","Secretariat General Services","00",null,"090","Secretariat","11","Normal State Plan","29","Establishment of Public Private Partnership (PPP) Cell",null,null,null,null,null,null,null,null,null,null,null,null,null,null,null,null,null,null,1,5,"Guntur","0610- NARSARAOPETA","0610","NARSARAOPETA","06","10"]
[22,1,"Adilabad",22,"Kagaz Nagar",21,"West Godavari",1028,46,837,"Kodavalur",837,"Kodavalur",202,"Kapileswarapuram ",261,"Kollipara",null,23,"Twenty Three",null,123450017,"Twelve  Crores  Thirty Four  Lakhs  Fifty Thousand and Seventeen",120000000,12,"Twelve  Crores  ",3400000,34,"Thirty Four  Lakhs  ",50000,50,"Fifty Thousand ",0,0,"",17,"Seventeen",null,null,null,null,null,null,null,null,null,null,null,null,null,null,null,null,null,null,null,null,null,null,null,87,"2202-03-789-11-25",1,"2052-00-092-00-04",86,"2052","Secretariat General Services","00",null,"092","Other Offices","00",null,"04","Anti Corruption Bureau - Headquarter's Office",null,null,null,null,null,null,null,null,null,null,null,null,null,null,null,null,null,null,1,5,"Guntur","0611- PEDAKURAPADU","0611","PEDAKURAPADU","06","11"]
[23,1,"Adilabad",23,"Kasipet ",22,"Y.S.R (Kaddapah)",1074,50,838,"Kondapuram",838,"Kondapuram",203,"Karapa ",262,"Kollur",null,24,"Twenty Four",null,123450018,"Twelve  Crores  Thirty Four  Lakhs  Fifty Thousand and Eighteen",120000000,12,"Twelve  Crores  ",3400000,34,"Thirty Four  Lakhs  ",50000,50,"Fifty Thousand ",0,0,"",18,"Eighteen",null,null,null,null,null,null,null,null,null,null,null,null,null,null,null,null,null,null,null,null,null,null,null,88,"2202-03-789-11-32",1,"2052-00-092-00-05",87,"2052","Secretariat General Services","00",null,"092","Other Offices","00",null,"05","Anti Corruption Bureau (District Offices)",null,null,null,null,null,null,null,null,null,null,null,null,null,null,null,null,null,null,1,5,"Guntur","0612- PIDUGURALLA","0612","PIDUGURALLA","06","12"]
[24,1,"Adilabad",24,"Kerameri ",23,null,null,null,839,"Kota",839,"Kota",204,"Katrenikona ",263,"Krosuru",null,25,"Twenty Five",null,123450019,"Twelve  Crores  Thirty Four  Lakhs  Fifty Thousand and Ninteen",120000000,12,"Twelve  Crores  ",3400000,34,"Thirty Four  Lakhs  ",50000,50,"Fifty Thousand ",0,0,"",19,"Ninteen",null,null,null,null,null,null,null,null,null,null,null,null,null,null,null,null,null,null,null,null,null,null,null,89,"2202-03-789-11-33",1,"2052-00-092-00-06",88,"2052","Secretariat General Services","00",null,"092","Other Offices","00",null,"06","Tribunal for Disciplinary Proceedings",null,null,null,null,null,null,null,null,null,null,null,null,null,null,null,null,null,null,1,5,"Guntur","0617- PONNURU","0617","PONNURU","06","17"]
[25,1,"Adilabad",25,"Khanpur ",null,null,null,null,840,"Kovur",840,"Kovur",205,"Kirlampudi ",264,"Machavaram",null,26,"Twenty Six",null,123450020,"Twelve  Crores  Thirty Four  Lakhs  Fifty Thousand and Twenty",120000000,12,"Twelve  Crores  ",3400000,34,"Thirty Four  Lakhs  ",50000,50,"Fifty Thousand ",0,0,"",20,"Twenty",null,null,null,null,null,null,null,null,null,null,null,null,null,null,null,null,null,null,null,null,null,null,null,90,"2202-03-789-11-41",1,"2052-00-092-00-07",89,"2052","Secretariat General Services","00",null,"092","Other Offices","00",null,"07","Director of  Translations",null,null,null,null,null,null,null,null,null,null,null,null,null,null,null,null,null,null,1,5,"Guntur","0613- RAJUPALEM","0613","RAJUPALEM","06","13"]
[26,1,"Adilabad",26,"Kotapalle ",null,"Adilabad",{"$f":"I92","v":52},{"$f":"LOOKUP(G92,$C$67:$D$1189)","v":52},841,"Manubolu",841,"Manubolu",206,"Korukonda ",265,"Macherla",null,27,"Twenty Seven",null,123450021,"Twelve  Crores  Thirty Four  Lakhs  Fifty Thousand and Twenty One",120000000,12,"Twelve  Crores  ",3400000,34,"Thirty Four  Lakhs  ",50000,50,"Fifty Thousand ",0,0,"",21,"Twenty One",null,null,null,null,null,null,null,null,null,null,null,null,null,null,null,null,null,null,null,null,null,null,null,91,"2202-03-796-11-04",1,"2052-00-092-00-08",90,"2052","Secretariat General Services","00",null,"092","Other Offices","00",null,"08","Office of the Special Commissioner, Andhra Pradesh at New Delhi",null,null,null,null,null,null,null,null,null,null,null,null,null,null,null,null,null,null,1,5,"Guntur","0614- REPALLE","0614","REPALLE","06","14"]
[27,1,"Adilabad",27,"Kouthala ",1,"Anantapur",{"$f":"H92+I93","v":115},{"$f":"LOOKUP(G93,$C$67:$D$1189)","v":63},842,"Marripadu",842,"Marripadu",207,"Kotananduru ",266,"Mangalagiri",null,28,"Twenty Eight",null,123450022,"Twelve  Crores  Thirty Four  Lakhs  Fifty Thousand and Twenty Two",120000000,12,"Twelve  Crores  ",3400000,34,"Thirty Four  Lakhs  ",50000,50,"Fifty Thousand ",0,0,"",22,"Twenty Two",null,null,null,null,null,null,null,null,null,null,null,null,null,null,null,null,null,null,null,null,null,null,null,92,"2202-03-796-11-06",1,"2052-00-092-00-09",91,"2052","Secretariat General Services","00",null,"092","Other Offices","00",null,"09","Estate Officer",null,null,null,null,null,null,null,null,null,null,null,null,null,null,null,null,null,null,1,5,"Guntur","0615- SATTENAPALLI","0615","SATTENAPALLI","06","15"]
[28,1,"Adilabad",28,"Kubeer ",2,"Chittoor",181,66,843,"Muthukur",843,"Muthukur",208,"Kothapalli ",267,"Medikonduru",null,29,"Twenty Nine",null,123450023,"Twelve  Crores  Thirty Four  Lakhs  Fifty Thousand and Twenty Three",120000000,12,"Twelve  Crores  ",3400000,34,"Thirty Four  Lakhs  ",50000,50,"Fifty Thousand ",0,0,"",23,"Twenty Three",null,null,null,null,null,null,null,null,null,null,null,null,null,null,null,null,null,null,null,null,null,null,null,93,"2202-03-796-11-12",1,"2053-00-093-00-03",92,"2053","District Administration","00",null,"093","District Establishments","00",null,"03","District Offices Collectors' Establishment",null,null,null,null,null,null,null,null,null,null,null,null,null,null,null,null,null,null,1,5,"Guntur","0616- TENALI","0616","TENALI","06","16"]
[29,1,"Adilabad",29,"Kuntala ",3,"East Godavari",240,59,844,"Naidupeta",844,"Naidupeta",209,"Kothapeta ",268,"Muppalla",null,30,"Thirty",null,123450024,"Twelve  Crores  Thirty Four  Lakhs  Fifty Thousand and Twenty Four",120000000,12,"Twelve  Crores  ",3400000,34,"Thirty Four  Lakhs  ",50000,50,"Fifty Thousand ",0,0,"",24,"Twenty Four",null,null,null,null,null,null,null,null,null,null,null,null,null,null,null,null,null,null,null,null,null,null,null,94,"2202-03-796-11-13",1,"2053-00-094-00-04",93,"2053","District Administration","00",null,"094","Other Establishments","00",null,"04","Sub-Divisional Establishment",null,null,null,null,null,null,null,null,null,null,null,null,null,null,null,null,null,null,1,5,"Guntur","0618- VINUKONDA","0618","VINUKONDA","06","18"]
[30,1,"Adilabad",30,"Laxmanchanda ",4,"Guntur",297,57,845,"Nellore",845,"Nellore",210,"Malikipuram ",269,"Nadendla",null,31,"Thirty One",null,123450025,"Twelve  Crores  Thirty Four  Lakhs  Fifty Thousand and Twenty Five",120000000,12,"Twelve  Crores  ",3400000,34,"Thirty Four  Lakhs  ",50000,50,"Fifty Thousand ",0,0,"",25,"Twenty Five",null,null,null,null,null,null,null,null,null,null,null,null,null,null,null,null,null,null,null,null,null,null,null,95,"2202-03-796-11-14",1,"2053-00-094-00-06",94,"2053","District Administration","00",null,"094","Other Establishments","00",null,"06","Village Establishment",null,null,null,null,null,null,null,null,null,null,null,null,null,null,null,null,null,null,1,6,"Hyderabad","2502-Hyderabad","2502","HYDERABAD","25","02"]
[31,1,"Adilabad",31,"Lohesra ",5,"Hyderabad",313,16,846,"Ojili",846,"Ojili",211,"Mamidikuduru ",270,"Nagaram",null,32,"Thirty Two",null,123450026,"Twelve  Crores  Thirty Four  Lakhs  Fifty Thousand and Twenty Six",120000000,12,"Twelve  Crores  ",3400000,34,"Thirty Four  Lakhs  ",50000,50,"Fifty Thousand ",0,0,"",26,"Twenty Six",null,null,null,null,null,null,null,null,null,null,null,null,null,null,null,null,null,null,null,null,null,null,null,96,"2202-03-796-11-15",1,"2053-00-094-00-07",95,"2053","District Administration","00",null,"094","Other Establishments","00",null,"07","Land Acquisition Staff for Steel Plant, Visakhapatnam",null,null,null,null,null,null,null,null,null,null,null,null,null,null,null,null,null,null,1,6,"Hyderabad","2503-Hyderabad","2503","HYDERABAD","25","03"]
[32,1,"Adilabad",32,"Luxettipet ",6,"Karimnagar",369,56,847,"Pellakur",847,"Pellakur",212,"Mandapeta ",271,"Nakarikallu",null,33,"Thirty Three",null,123450027,{"$f":"IF(V98=0,\"NIL\",IF(AND(Y98=0,AB98=0,AE98=0,AH98=0),AK98,IF(AND(Y98=0,AB98=0,AE98=0),CONCATENATE(AI98,IF(AJ98>0,\"and \",\" \"),AK98),IF(AND(Y98=0,AB98=0),CONCATENATE(AF98,IF(AND(AJ98=0,AH98>0),\"and \", \"\"),AI98,IF(AJ98>0,\"and \",\" \"),AK98),IF(Y98=0,CONCATENATE(AC98,IF(AND(AJ98=0,AH98=0,AE98>0),\"and \", \"\"),AF98,IF(AND(AJ98=0,AH98>0),\"and \", \"\"),AI98,IF(AJ98>0,\"and \",\" \"),AK98),CONCATENATE(Z98,IF(AND(AJ98=0,AH98=0,AE98=0,AB98>0),\"and \", \"\"),AC98,IF(AND(AJ98=0,AH98=0,AE98>0),\"and \", \"\"),AF98,IF(AND(AJ98=0,AH98>0),\"and \", \"\"),AI98,IF(AJ98>0,\"and \",\" \"),AK98))))))","v":"Twelve  Crores  Thirty Four  Lakhs  Fifty Thousand and Twenty Seven"},{"$f":"INT(V98/10000000)*10000000","v":120000000},{"$f":"INT(V98/10000000)","v":12},{"$f":"IF(Y98=1,CONCATENATE(VLOOKUP(Y98,$S$66:$T$164,2),\"  Crore \"),IF(Y98>1,CONCATENATE(VLOOKUP(Y98,$S$66:$T$164,2),\"  Crores  \"),\"\"))","v":"Twelve  Crores  "},{"$f":"INT(V98/100000)*100000-X98","v":3400000},{"$f":"INT(AA98/100000)","v":34},{"$f":"IF(AB98=1,CONCATENATE(VLOOKUP(AB98,$S$66:$T$164,2),\"  Lakh \"),IF(AB98>1,CONCATENATE(VLOOKUP(AB98,$S$66:$T$164,2),\"  Lakhs  \"),\"\"))","v":"Thirty Four  Lakhs  "},{"$f":"INT(V98/1000)*1000-X98-AA98","v":50000},{"$f":"INT(AD98/1000)","v":50},{"$f":"IF(AE98>0,CONCATENATE(VLOOKUP(AE98,$S$66:$T$164,2),\" Thousand \"),\"\")","v":"Fifty Thousand "},{"$f":"INT(V98/100)*100-X98-AA98-AD98","v":0},{"$f":"INT(AG98/100)","v":0},{"$f":"IF(AH98>0,CONCATENATE(VLOOKUP(AH98,$S$66:$T$164,2),\" Hundred \"),\"\")","v":""},{"$f":"V98-X98-AA98-AD98-AG98","v":27},{"$f":"IF(AJ98>0, VLOOKUP(AJ98,$S$66:$T$164,2),\"\")","v":"Twenty Seven"},null,null,null,null,null,null,null,null,null,null,null,null,null,null,null,null,null,null,null,null,null,null,null,97,"2202-03-796-11-16",1,"2053-00-094-00-09",96,"2053","District Administration","00",null,"094","Other Establishments","00",null,"09","Land Acquisition staff for acquiring Lands to Central Government Departments",null,null,null,null,null,null,null,null,null,null,null,null,null,null,null,null,null,null,1,6,"Hyderabad","2504-Hyderabad","2504","HYDERABAD","25","04"]
[33,1,"Adilabad",33,"Mamda ",7,"Khammam",415,46,848,"Podlakur",848,"Podlakur",213,"Maredumilli ",272,"Narasaraopeta",null,34,"Thirty Four",null,123450028,"Twelve  Crores  Thirty Four  Lakhs  Fifty Thousand and Twenty Eight",120000000,12,"Twelve  Crores  ",3400000,34,"Thirty Four  Lakhs  ",50000,50,"Fifty Thousand ",0,0,"",28,"Twenty Eight",null,null,null,null,null,null,null,null,null,null,null,null,null,null,null,null,null,null,null,null,null,null,null,98,"2202-03-796-11-17",1,"2053-00-094-00-11",97,"2053","District Administration","00",null,"094","Other Establishments","00",null,"11","Land Acquisition staff for Acquiring Lands for Autonomous Institutions etc.,",null,null,null,null,null,null,null,null,null,null,null,null,null,null,null,null,null,null,1,6,"Hyderabad","2505-Hyderabad","2505","HYDERABAD","25","05"]
[34,1,"Adilabad",34,"Mancherial ",8,"Krishna",465,50,849,"Rapur",849,"Rapur",214,"Mummidivaram ",273,"Nizampatnam",null,35,"Thirty Five",null,123450029,"Twelve  Crores  Thirty Four  Lakhs  Fifty Thousand and Twenty Nine",120000000,12,"Twelve  Crores  ",3400000,34,"Thirty Four  Lakhs  ",50000,50,"Fifty Thousand ",0,0,"",29,"Twenty Nine",null,null,null,null,null,null,null,null,null,null,null,null,null,null,null,null,null,null,null,null,null,null,null,99,"2202-03-796-11-18",1,"2053-00-094-00-12",98,"2053","District Administration","00",null,"094","Other Establishments","00",null,"12","Mandal Administration",null,null,null,null,null,null,null,null,null,null,null,null,null,null,null,null,null,null,1,6,"Hyderabad","2506-Hyderabad","2506","HYDERABAD","25","06"]
[35,1,"Adilabad",35,"Mandamarri ",9,"Kurnool",519,54,{"$f":"IF(J100=$J$67+1,$J$67+1,J100+1)","v":850},"Sangam",{"$f":"IF(L100=$L$67+1,$L$67+1,L100+1)","v":850},"Sangam",{"$f":"IF(N100=$L$67+1,$L$67+1,N100+1)","v":215},"P Gannavaram",{"$f":"IF(P100=$L$67+1,$L$67+1,P100+1)","v":274},"Nuzendla",null,36,"Thirty Six",null,123450030,"Twelve  Crores  Thirty Four  Lakhs  Fifty Thousand and Thirty",120000000,12,"Twelve  Crores  ",3400000,34,"Thirty Four  Lakhs  ",50000,50,"Fifty Thousand ",0,0,"",30,"Thirty",null,null,null,null,null,null,null,null,null,null,null,null,null,null,null,null,null,null,null,null,null,null,null,100,"2202-03-796-11-19",1,"2053-00-094-00-13",99,"2053","District Administration","00",null,"094","Other Establishments","00",null,"13","Special Courts for Land Grabbing Prohibition Act, 1982",null,null,null,null,null,null,null,null,null,null,null,null,null,null,null,null,null,null,1,6,"Hyderabad","2507-Hyderabad","2507","HYDERABAD","25","07"]
[36,1,"Adilabad",36,"Mudhole ",10,"Mahabubnagar",583,64,851,"Seetharamapuram",851,"Seetharamapuram",216,"Pamarru ",275,"Pedakakani",null,37,"Thirty Seven",null,123450031,"Twelve  Crores  Thirty Four  Lakhs  Fifty Thousand and Thirty One",120000000,12,"Twelve  Crores  ",3400000,34,"Thirty Four  Lakhs  ",50000,50,"Fifty Thousand ",0,0,"",31,"Thirty One",null,null,null,null,null,null,null,null,null,null,null,null,null,null,null,null,null,null,null,null,null,null,null,101,"2202-03-796-11-21",1,"2054-00-001-00-01",100,"2054","Treasury and Accounts Administration","00",null,"001","Direction and Administration","00",null,"01","Headquarters Office",null,null,null,null,null,null,null,null,null,null,null,null,null,null,null,null,null,null,1,6,"Hyderabad","2552-Hyderbad","2552","HYDERBAD","25","52"]
[37,1,"Adilabad",37,"Narnoor ",11,"Medak",628,45,852,"Sullurpeta",852,"Sullurpeta",217,"Pedapudi ",276,"Pedakurapadu",null,38,"Thirty Eight",null,123450032,"Twelve  Crores  Thirty Four  Lakhs  Fifty Thousand and Thirty Two",120000000,12,"Twelve  Crores  ",3400000,34,"Thirty Four  Lakhs  ",50000,50,"Fifty Thousand ",0,0,"",32,"Thirty Two",null,null,null,null,null,null,null,null,null,null,null,null,null,null,null,null,null,null,null,null,null,null,null,102,"2202-03-796-11-22",1,"2054-00-001-00-02",101,"2054","Treasury and Accounts Administration","00",null,"001","Direction and Administration","00",null,"02","Regional and District Offices",null,null,null,null,null,null,null,null,null,null,null,null,null,null,null,null,null,null,1,6,"Hyderabad","2500-PAO,HYD","2500","PAO,HYD","25","00"]
[38,1,"Adilabad",38,"Nennal ",12,"Nalgonda",687,59,853,"Sydapuram",853,"Sydapuram",218,"Peddapuram ",277,"Pedanandipadu",null,39,"Thirty Nine",null,123450033,"Twelve  Crores  Thirty Four  Lakhs  Fifty Thousand and Thirty Three",120000000,12,"Twelve  Crores  ",3400000,34,"Thirty Four  Lakhs  ",50000,50,"Fifty Thousand ",0,0,"",33,"Thirty Three",null,null,null,null,null,null,null,null,null,null,null,null,null,null,null,null,null,null,null,null,null,null,null,103,"2202-03-796-11-23",1,"2054-00-095-00-01",102,"2054","Treasury and Accounts Administration","00",null,"095","Directorate of Accounts and Treasuries","00",null,"01","Headquarters Office",null,null,null,null,null,null,null,null,null,null,null,null,null,null,null,null,null,null,1,6,"Hyderabad","2541-W AND P HYDERABAD","2541","W AND P HYDERABAD","25","41"]
[39,1,"Adilabad",39,"Neradigonda ",13,"Nizamabad",723,36,854,"Tada",854,"Tada",219,"Pithapuram ",278,"Phirangipuram",null,40,"Fourty",null,123450034,"Twelve  Crores  Thirty Four  Lakhs  Fifty Thousand and Thirty Four",120000000,12,"Twelve  Crores  ",3400000,34,"Thirty Four  Lakhs  ",50000,50,"Fifty Thousand ",0,0,"",34,"Thirty Four",null,null,null,null,null,null,null,null,null,null,null,null,null,null,null,null,null,null,null,null,null,null,null,104,"2202-03-796-11-24",1,"2054-00-096-00-01",103,"2054","Treasury and Accounts Administration","00",null,"096","Pay and Accounts Office","00",null,"01","Headquarters Office",null,null,null,null,null,null,null,null,null,null,null,null,null,null,null,null,null,null,1,6,"Hyderabad","2700-WORKS_PAO,HYD","2700","WORKS_PAO,HYD","27","00"]
[40,1,"Adilabad",40,"Nirmal ",14,"Prakasam",779,56,855,"Thotapalligudur",855,"Thotapalligudur",220,"Prathipadu ",279,"Piduguralla",null,41,"Fourty One",null,123450035,"Twelve  Crores  Thirty Four  Lakhs  Fifty Thousand and Thirty Five",120000000,12,"Twelve  Crores  ",3400000,34,"Thirty Four  Lakhs  ",50000,50,"Fifty Thousand ",0,0,"",35,"Thirty Five",null,null,null,null,null,null,null,null,null,null,null,null,null,null,null,null,null,null,null,null,null,null,null,105,"2202-03-796-11-32",1,"2054-00-097-00-03",104,"2054","Treasury and Accounts Administration","00",null,"097","Treasury Establishment","00",null,"03","District Treasuries",null,null,null,null,null,null,null,null,null,null,null,null,null,null,null,null,null,null,1,7,"Karimnagar","1502- BHIMADEVARAPALLI","1502","BHIMADEVARAPALLI","15","02"]
[41,1,"Adilabad",41,"Rebbana ",15,"Ranga Reddy",816,37,856,"Udayagiri",856,"Udayagiri",221,"Rajahmundry(Rural) ",280,"Pittalavanipalem",null,42,"Fourty Two",null,123450036,"Twelve  Crores  Thirty Four  Lakhs  Fifty Thousand and Thirty Six",120000000,12,"Twelve  Crores  ",3400000,34,"Thirty Four  Lakhs  ",50000,50,"Fifty Thousand ",0,0,"",36,"Thirty Six",null,null,null,null,null,null,null,null,null,null,null,null,null,null,null,null,null,null,null,null,null,null,null,106,"2202-03-796-11-33",1,"2054-00-097-00-04",105,"2054","Treasury and Accounts Administration","00",null,"097","Treasury Establishment","00",null,"04","Pension Payment Offices",null,null,null,null,null,null,null,null,null,null,null,null,null,null,null,null,null,null,1,7,"Karimnagar","1503- GANGADHARA","1503","GANGADHARA","15","03"]
[42,1,"Adilabad",42,"Sarangapur ",16,"Sri Pottisreeramulu Nellore",862,46,857,"Vakadu",857,"Vakadu",222,"Rajahmundry(Urban) ",281,"Ponnur",null,43,"Fourty Three",null,123450037,"Twelve  Crores  Thirty Four  Lakhs  Fifty Thousand and Thirty Seven",120000000,12,"Twelve  Crores  ",3400000,34,"Thirty Four  Lakhs  ",50000,50,"Fifty Thousand ",0,0,"",37,"Thirty Seven",null,null,null,null,null,null,null,null,null,null,null,null,null,null,null,null,null,null,null,null,null,null,null,107,"2202-03-796-11-41",1,"2054-00-098-00-01",106,"2054","Treasury and Accounts Administration","00",null,"098","Local Fund Audit","00",null,"01","Headquarters Office",null,null,null,null,null,null,null,null,null,null,null,null,null,null,null,null,null,null,1,7,"Karimnagar","1504- HUSNABAD","1504","HUSNABAD","15","04"]
[43,1,"Adilabad",43,"Sirpur (T)",17,"Srikakulam",900,{"$f":"LOOKUP(G109,$C$67:$D$1189)","v":38},858,"Varikuntapadu",858,"Varikuntapadu",223,"Rajanagaram ",282,"Prathipadu",null,44,"Fourty Four",null,123450038,"Twelve  Crores  Thirty Four  Lakhs  Fifty Thousand and Thirty Eight",120000000,12,"Twelve  Crores  ",3400000,34,"Thirty Four  Lakhs  ",50000,50,"Fifty Thousand ",0,0,"",38,"Thirty Eight",null,null,null,null,null,null,null,null,null,null,null,null,null,null,null,null,null,null,null,null,null,null,null,108,"2202-04-001-00-01",1,"2054-00-098-00-03",107,"2054","Treasury and Accounts Administration","00",null,"098","Local Fund Audit","00",null,"03","District Offices",null,null,null,null,null,null,null,null,null,null,null,null,null,null,null,null,null,null,1,7,"Karimnagar","1505- HUZURABAD","1505","HUZURABAD","15","05"]
[44,1,"Adilabad",44,"Sirpur (U)",18,"Visakhapatnam",943,43,859,"Venkatachalam",859,"Venkatachalam",224,"Rajavommangi ",283,"Rajupalem",null,45,"Fourty Five",null,123450039,"Twelve  Crores  Thirty Four  Lakhs  Fifty Thousand and Thirty Nine",120000000,12,"Twelve  Crores  ",3400000,34,"Thirty Four  Lakhs  ",50000,50,"Fifty Thousand ",0,0,"",39,"Thirty Nine",null,null,null,null,null,null,null,null,null,null,null,null,null,null,null,null,null,null,null,null,null,null,null,109,"2202-04-001-00-03",1,"2055-00-001-00-01",108,"2055","Police","00",null,"001","Direction and Administration","00",null,"01","Headquarters Office",null,null,null,null,null,null,null,null,null,null,null,null,null,null,null,null,null,null,1,7,"Karimnagar","1506- JAGTIAL","1506","JAGTIAL","15","06"]
[45,1,"Adilabad",45,"Talamadugu ",19,"Vizianagaram",977,34,860,"Venkatagiri",860,"Venkatagiri",225,"Ramachandrapuram ",284,"Rentacrintala",null,46,"Fourty Six",null,123450040,"Twelve  Crores  Thirty Four  Lakhs  Fifty Thousand and Fourty",120000000,12,"Twelve  Crores  ",3400000,34,"Thirty Four  Lakhs  ",50000,50,"Fifty Thousand ",0,0,"",40,"Fourty",null,null,null,null,null,null,null,null,null,null,null,null,null,null,null,null,null,null,null,null,null,null,null,110,"2202-05-102-00-05",1,"2055-00-001-00-03",109,"2055","Police","00",null,"001","Direction and Administration","00",null,"03","District Offices (Superintendents of Police)",null,null,null,null,null,null,null,null,null,null,null,null,null,null,null,null,null,null,1,7,"Karimnagar","1507- KARIMANAGAR","1507","KARIMANAGAR","15","07"]
[46,1,"Adilabad",46,"Tamsi ",20,"Warangal",1027,50,861,"Vidavalur",861,"Vidavalur",226,"Rampachodavaram ",285,"Repalle",null,47,"Fourty Seven",null,123450041,"Twelve  Crores  Thirty Four  Lakhs  Fifty Thousand and Fourty One",120000000,12,"Twelve  Crores  ",3400000,34,"Thirty Four  Lakhs  ",50000,50,"Fifty Thousand ",0,0,"",41,"Fourty One",null,null,null,null,null,null,null,null,null,null,null,null,null,null,null,null,null,null,null,null,null,null,null,111,"2202-05-103-00-06",1,"2055-00-001-00-07",110,"2055","Police","00",null,"001","Direction and Administration","00",null,"07","Police Recruitment Board",null,null,null,null,null,null,null,null,null,null,null,null,null,null,null,null,null,null,1,7,"Karimnagar","1501- KARIMNAGAR","1501","KARIMNAGAR","15","01"]
[47,1,"Adilabad",47,"Tandur ",21,"West Godavari",1073,46,862,"Vinjamur",862,"Vinjamur",227,"Rangampeta ",286,"Rompicherla",null,48,"Fourty Eight",null,123450042,"Twelve  Crores  Thirty Four  Lakhs  Fifty Thousand and Fourty Two",120000000,12,"Twelve  Crores  ",3400000,34,"Thirty Four  Lakhs  ",50000,50,"Fifty Thousand ",0,0,"",42,"Fourty Two",null,null,null,null,null,null,null,null,null,null,null,null,null,null,null,null,null,null,null,null,null,null,null,112,"2202-05-103-10-08",1,"2055-00-001-00-10",111,"2055","Police","00",null,"001","Direction and Administration","00",null,"10","Marine Police",null,null,null,null,null,null,null,null,null,null,null,null,null,null,null,null,null,null,1,7,"Karimnagar","1541-KARIMNAGAR","1541","KARIMNAGAR","15","41"]
[48,1,"Adilabad",48,"Tanur ",22,"Y.S.R (Kaddapah)",1123,50,863,"",863,"",228,"Ravulapalem ",287,"Sattenapalle",null,49,"Fourty Nine",null,123450043,"Twelve  Crores  Thirty Four  Lakhs  Fifty Thousand and Fourty Three",120000000,12,"Twelve  Crores  ",3400000,34,"Thirty Four  Lakhs  ",50000,50,"Fifty Thousand ",0,0,"",43,"Fourty Three",null,null,null,null,null,null,null,null,null,null,null,null,null,null,null,null,null,null,null,null,null,null,null,113,"2202-80-001-00-01",1,"2055-00-003-00-04",112,"2055","Police","00",null,"003","Education and Training","00",null,"04","Police Training Institutions",null,null,null,null,null,null,null,null,null,null,null,null,null,null,null,null,null,null,1,7,"Karimnagar","1542-KARIMNAGAR","1542","KARIMNAGAR","15","42"]
[49,1,"Adilabad",49,"Tiryani ",23,null,null,null,863,"",863,"",229,"Rayavaram ",288,"Savalyapuram",null,50,"Fifty",null,123450044,"Twelve  Crores  Thirty Four  Lakhs  Fifty Thousand and Fourty Four",120000000,12,"Twelve  Crores  ",3400000,34,"Thirty Four  Lakhs  ",50000,50,"Fifty Thousand ",0,0,"",44,"Fourty Four",null,null,null,null,null,null,null,null,null,null,null,null,null,null,null,null,null,null,null,null,null,null,null,114,"2202-80-001-00-03",1,"2055-00-003-00-05",113,"2055","Police","00",null,"003","Education and Training","00",null,"05","A.P. State Police  Academy",null,null,null,null,null,null,null,null,null,null,null,null,null,null,null,null,null,null,1,7,"Karimnagar","1508- KORUTLA","1508","KORUTLA","15","08"]
[50,1,"Adilabad",50,"Utnur ",null,null,null,null,863,"",863,"",230,"Razole ",289,"Tadikonda",null,51,"Fifty One",null,123450045,"Twelve  Crores  Thirty Four  Lakhs  Fifty Thousand and Fourty Five",120000000,12,"Twelve  Crores  ",3400000,34,"Thirty Four  Lakhs  ",50000,50,"Fifty Thousand ",0,0,"",45,"Fourty Five",null,null,null,null,null,null,null,null,null,null,null,null,null,null,null,null,null,null,null,null,null,null,null,115,"2202-80-003-00-04",1,"2055-00-101-00-05",114,"2055","Police","00",null,"101","Criminal Investigation and Vigilance","00",null,"05","Intelligence Branch",null,null,null,null,null,null,null,null,null,null,null,null,null,null,null,null,null,null,1,7,"Karimnagar","1509- MAHADEVPUR","1509","MAHADEVPUR","15","09"]
[51,1,"Adilabad",51,"Vemanpalle ",null,null,null,null,863,"",863,"",231,"Sakhinetipalle ",290,"Tenali",null,52,"Fifty Two",null,123450046,"Twelve  Crores  Thirty Four  Lakhs  Fifty Thousand and Fourty Six",120000000,12,"Twelve  Crores  ",3400000,34,"Thirty Four  Lakhs  ",50000,50,"Fifty Thousand ",0,0,"",46,"Fourty Six",null,null,null,null,null,null,null,null,null,null,null,null,null,null,null,null,null,null,null,null,null,null,null,116,"2202-80-003-11-11",1,"2055-00-104-00-01",115,"2055","Police","00",null,"104","Special Police","00",null,"01","Headquarters Office (Special Protection Force)",null,null,null,null,null,null,null,null,null,null,null,null,null,null,null,null,null,null,1,7,"Karimnagar","1510- MALLIAL","1510","MALLIAL","15","10"]
[52,1,"Adilabad",52,"Wankdi ",null,null,null,null,863,"",863,"",232,"Samalkota ",291,"Thadepalle",null,53,"Fifty Three",null,123450047,"Twelve  Crores  Thirty Four  Lakhs  Fifty Thousand and Fourty Seven",120000000,12,"Twelve  Crores  ",3400000,34,"Thirty Four  Lakhs  ",50000,50,"Fifty Thousand ",0,0,"",47,"Fourty Seven",null,null,null,null,null,null,null,null,null,null,null,null,null,null,null,null,null,null,null,null,null,null,null,117,"2202-80-800-00-05",1,"2055-00-104-00-04",116,"2055","Police","00",null,"104","Special Police","00",null,"04","Andhra Pradesh Special Police Units",null,null,null,null,null,null,null,null,null,null,null,null,null,null,null,null,null,null,1,7,"Karimnagar","1511- MANTHANI","1511","MANTHANI","15","11"]
[53,2,"Anantapur",1,"Agali",null,null,null,null,863,"",863,"",233,"Sankhavaram ",292,"Thullur",null,54,"Fifty Four",null,123450048,"Twelve  Crores  Thirty Four  Lakhs  Fifty Thousand and Fourty Eight",120000000,12,"Twelve  Crores  ",3400000,34,"Thirty Four  Lakhs  ",50000,50,"Fifty Thousand ",0,0,"",48,"Fourty Eight",null,null,null,null,null,null,null,null,null,null,null,null,null,null,null,null,null,null,null,null,null,null,null,118,"2202-80-800-00-07",1,"2055-00-104-00-06",117,"2055","Police","00",null,"104","Special Police","00",null,"06","A.P. Special Armed Force",null,null,null,null,null,null,null,null,null,null,null,null,null,null,null,null,null,null,1,7,"Karimnagar","1512- METPALLI","1512","METPALLI","15","12"]
[54,2,"Anantapur",2,"Amadagur",null,null,null,null,863,"",863,"",234,"Seethanagaram ",293,"Tsundur",null,55,"Fifty Five",null,123450049,"Twelve  Crores  Thirty Four  Lakhs  Fifty Thousand and Fourty Nine",120000000,12,"Twelve  Crores  ",3400000,34,"Thirty Four  Lakhs  ",50000,50,"Fifty Thousand ",0,0,"",49,"Fourty Nine",null,null,null,null,null,null,null,null,null,null,null,null,null,null,null,null,null,null,null,null,null,null,null,119,"2202-80-800-00-08",1,"2055-00-104-08-01",118,"2055","Police","00",null,"104","Special Police","08","Special Protection Force","01","Headquarters Office",null,null,null,null,null,null,null,null,null,null,null,null,null,null,null,null,null,null,1,7,"Karimnagar","1513- PEDDAPALLI","1513","PEDDAPALLI","15","13"]
[55,2,"Anantapur",3,"Amarapuram",null,null,null,null,863,"",863,"",235,"Thallarevu ",294,"Vatticherukuru",null,56,"Fifty Six",null,123450050,"Twelve  Crores  Thirty Four  Lakhs  Fifty Thousand and Fifty",120000000,12,"Twelve  Crores  ",3400000,34,"Thirty Four  Lakhs  ",50000,50,"Fifty Thousand ",0,0,"",50,"Fifty",null,null,null,null,null,null,null,null,null,null,null,null,null,null,null,null,null,null,null,null,null,null,null,120,"2202-80-800-00-15",1,"2055-00-108-00-04",119,"2055","Police","00",null,"108","State Headquarters Police","00",null,"04","Office of the Commissioner of City Police",null,null,null,null,null,null,null,null,null,null,null,null,null,null,null,null,null,null,1,7,"Karimnagar","1514- SIRCILLA","1514","SIRCILLA","15","14"]
[56,2,"Anantapur",4,"Anantapur",null,null,null,null,863,"",863,"",236,"Thondangi ",295,"Veldurthi",null,57,"Fifty Seven",null,123450051,"Twelve  Crores  Thirty Four  Lakhs  Fifty Thousand and Fifty One",120000000,12,"Twelve  Crores  ",3400000,34,"Thirty Four  Lakhs  ",50000,50,"Fifty Thousand ",0,0,"",51,"Fifty One",null,null,null,null,null,null,null,null,null,null,null,null,null,null,null,null,null,null,null,null,null,null,null,121,"2202-80-800-11-05",1,"2055-00-108-00-05",120,"2055","Police","00",null,"108","State Headquarters Police","00",null,"05","City Police Force",null,null,null,null,null,null,null,null,null,null,null,null,null,null,null,null,null,null,1,7,"Karimnagar","1515- SULTANABAD","1515","SULTANABAD","15","15"]
[57,2,"Anantapur",5,"Atmakur",null,null,null,null,863,"",863,"",237,"Tuni ",296,"Vemuru",null,58,"Fifty Eight",null,123450052,"Twelve  Crores  Thirty Four  Lakhs  Fifty Thousand and Fifty Two",120000000,12,"Twelve  Crores  ",3400000,34,"Thirty Four  Lakhs  ",50000,50,"Fifty Thousand ",0,0,"",52,"Fifty Two",null,null,null,null,null,null,null,null,null,null,null,null,null,null,null,null,null,null,null,null,null,null,null,122,"2202-80-800-11-08",1,"2055-00-108-00-06",121,"2055","Police","00",null,"108","State Headquarters Police","00",null,"06","Armed Guard at Deputy Intelligence Bureau Office",null,null,null,null,null,null,null,null,null,null,null,null,null,null,null,null,null,null,1,7,"Karimnagar","1516- VEMULAWADA","1516","VEMULAWADA","15","16"]
[58,2,"Anantapur",6,"Bathalapalle",null,null,null,null,863,"",863,"",238,"Uppalaguptam ",297,"Vinukonda",null,59,"Fifty Nine",null,123450053,"Twelve  Crores  Thirty Four  Lakhs  Fifty Thousand and Fifty Three",120000000,12,"Twelve  Crores  ",3400000,34,"Thirty Four  Lakhs  ",50000,50,"Fifty Thousand ",0,0,"",53,"Fifty Three",null,null,null,null,null,null,null,null,null,null,null,null,null,null,null,null,null,null,null,null,null,null,null,"","",1,"2055-00-108-00-08",122,"2055","Police","00",null,"108","State Headquarters Police","00",null,"08","Establishment for issue of Indo-Pakistan Passports and Visa",null,null,null,null,null,null,null,null,null,null,null,null,null,null,null,null,null,null,1,8,"Khammam","1602- BHADRACHALAM","1602","BHADRACHALAM","16","02"]
[59,2,"Anantapur",7,"Beluguppa",null,null,null,null,863,"",863,"",239,"Y Ramavaram",298,"",null,60,"Sixty",null,123450054,"Twelve  Crores  Thirty Four  Lakhs  Fifty Thousand and Fifty Four",120000000,12,"Twelve  Crores  ",3400000,34,"Thirty Four  Lakhs  ",50000,50,"Fifty Thousand ",0,0,"",54,"Fifty Four",null,null,null,null,null,null,null,null,null,null,null,null,null,null,null,null,null,null,null,null,null,null,null,"","",1,"2055-00-109-00-03",123,"2055","Police","00",null,"109","District Police","00",null,"03","District Police Force",null,null,null,null,null,null,null,null,null,null,null,null,null,null,null,null,null,null,1,8,"Khammam","1603- BURGAMPAHAD","1603","BURGAMPAHAD","16","03"]
[60,2,"Anantapur",8,"Bommanahal",null,null,null,null,863,"",863,"",240,"Yeleswaram ",299,"",null,61,"Sixty One",null,123450055,"Twelve  Crores  Thirty Four  Lakhs  Fifty Thousand and Fifty Five",120000000,12,"Twelve  Crores  ",3400000,34,"Thirty Four  Lakhs  ",50000,50,"Fifty Thousand ",0,0,"",55,"Fifty Five",null,null,null,null,null,null,null,null,null,null,null,null,null,null,null,null,null,null,null,null,null,null,null,"","",1,"2055-00-109-00-04",124,"2055","Police","00",null,"109","District Police","00",null,"04","Office of the Commissioner of Cyberabad Police",null,null,null,null,null,null,null,null,null,null,null,null,null,null,null,null,null,null,1,8,"Khammam","1641-KAMMAM","1641","KAMMAM","16","41"]
[61,2,"Anantapur",9,"Brahmasamudram",null,null,null,null,863,"",863,"",241,"",300,"",null,62,"Sixty Two",null,123450056,"Twelve  Crores  Thirty Four  Lakhs  Fifty Thousand and Fifty Six",120000000,12,"Twelve  Crores  ",3400000,34,"Thirty Four  Lakhs  ",50000,50,"Fifty Thousand ",0,0,"",56,"Fifty Six",null,null,null,null,null,null,null,null,null,null,null,null,null,null,null,null,null,null,null,null,null,null,null,"","",1,"2055-00-111-00-04",125,"2055","Police","00",null,"111","Railway Police","00",null,"04","Railway Police",null,null,null,null,null,null,null,null,null,null,null,null,null,null,null,null,null,null,1,8,"Khammam","1601- KHAMMAM","1601","KHAMMAM","16","01"]
[62,2,"Anantapur",10,"Bukkapatnam",null,null,null,null,863,"",863,"",242,"",301,"",null,63,"Sixty Three",null,123450057,"Twelve  Crores  Thirty Four  Lakhs  Fifty Thousand and Fifty Seven",120000000,12,"Twelve  Crores  ",3400000,34,"Thirty Four  Lakhs  ",50000,50,"Fifty Thousand ",0,0,"",57,"Fifty Seven",null,null,null,null,null,null,null,null,null,null,null,null,null,null,null,null,null,null,null,null,null,null,null,"","",1,"2055-00-113-00-04",126,"2055","Police","00",null,"113","Welfare of Police Personnel","00",null,"04","Welfare of Police Personnel",null,null,null,null,null,null,null,null,null,null,null,null,null,null,null,null,null,null,1,8,"Khammam","1604- KHAMMAM","1604","KHAMMAM","16","04"]
[63,2,"Anantapur",11,"Bukkarayasamudram",null,null,null,null,863,"",863,"",243,"",302,"",null,64,"Sixty Four",null,123450058,"Twelve  Crores  Thirty Four  Lakhs  Fifty Thousand and Fifty Eight",120000000,12,"Twelve  Crores  ",3400000,34,"Thirty Four  Lakhs  ",50000,50,"Fifty Thousand ",0,0,"",58,"Fifty Eight",null,null,null,null,null,null,null,null,null,null,null,null,null,null,null,null,null,null,null,null,null,null,null,"","",1,"2055-00-114-00-04",127,"2055","Police","00",null,"114","Wireless and Computers","00",null,"04","Police Communications and Computer Services",null,null,null,null,null,null,null,null,null,null,null,null,null,null,null,null,null,null,1,8,"Khammam","1605- KOTHAGUDEM","1605","KOTHAGUDEM","16","05"]
[64,2,"Anantapur",12,"Chenne Kothapalle",null,null,null,null,863,"",863,"",244,"",303,"",null,65,"Sixty Five",null,123450059,{"$f":"IF(V130=0,\"NIL\",IF(AND(Y130=0,AB130=0,AE130=0,AH130=0),AK130,IF(AND(Y130=0,AB130=0,AE130=0),CONCATENATE(AI130,IF(AJ130>0,\"and \",\" \"),AK130),IF(AND(Y130=0,AB130=0),CONCATENATE(AF130,IF(AND(AJ130=0,AH130>0),\"and \", \"\"),AI130,IF(AJ130>0,\"and \",\" \"),AK130),IF(Y130=0,CONCATENATE(AC130,IF(AND(AJ130=0,AH130=0,AE130>0),\"and \", \"\"),AF130,IF(AND(AJ130=0,AH130>0),\"and \", \"\"),AI130,IF(AJ130>0,\"and \",\" \"),AK130),CONCATENATE(Z130,IF(AND(AJ130=0,AH130=0,AE130=0,AB130>0),\"and \", \"\"),AC130,IF(AND(AJ130=0,AH130=0,AE130>0),\"and \", \"\"),AF130,IF(AND(AJ130=0,AH130>0),\"and \", \"\"),AI130,IF(AJ130>0,\"and \",\" \"),AK130))))))","v":"Twelve  Crores  Thirty Four  Lakhs  Fifty Thousand and Fifty Nine"},{"$f":"INT(V130/10000000)*10000000","v":120000000},{"$f":"INT(V130/10000000)","v":12},{"$f":"IF(Y130=1,CONCATENATE(VLOOKUP(Y130,$S$66:$T$164,2),\"  Crore \"),IF(Y130>1,CONCATENATE(VLOOKUP(Y130,$S$66:$T$164,2),\"  Crores  \"),\"\"))","v":"Twelve  Crores  "},{"$f":"INT(V130/100000)*100000-X130","v":3400000},{"$f":"INT(AA130/100000)","v":34},{"$f":"IF(AB130=1,CONCATENATE(VLOOKUP(AB130,$S$66:$T$164,2),\"  Lakh \"),IF(AB130>1,CONCATENATE(VLOOKUP(AB130,$S$66:$T$164,2),\"  Lakhs  \"),\"\"))","v":"Thirty Four  Lakhs  "},{"$f":"INT(V130/1000)*1000-X130-AA130","v":50000},{"$f":"INT(AD130/1000)","v":50},{"$f":"IF(AE130>0,CONCATENATE(VLOOKUP(AE130,$S$66:$T$164,2),\" Thousand \"),\"\")","v":"Fifty Thousand "},{"$f":"INT(V130/100)*100-X130-AA130-AD130","v":0},{"$f":"INT(AG130/100)","v":0},{"$f":"IF(AH130>0,CONCATENATE(VLOOKUP(AH130,$S$66:$T$164,2),\" Hundred \"),\"\")","v":""},{"$f":"V130-X130-AA130-AD130-AG130","v":59},{"$f":"IF(AJ130>0, VLOOKUP(AJ130,$S$66:$T$164,2),\"\")","v":"Fifty Nine"},null,null,null,null,null,null,null,null,null,null,null,null,null,null,null,null,null,null,null,null,null,null,null,"","",1,"2055-00-116-00-04",128,"2055","Police","00",null,"116","Forensic Science","00",null,"04","Forensic Science Laboratory",null,null,null,null,null,null,null,null,null,null,null,null,null,null,null,null,null,null,{"$f":"IF(EXACT($CO$1,CR130),CP129+1,1)","v":1},8,"Khammam","1606- MADHIRA","1606","MADHIRA","16","06"]
[65,2,"Anantapur",13,"Chilamathur",null,null,null,null,863,"",863,"",245,"",304,"",null,66,"Sixty Six",null,123450060,"Twelve  Crores  Thirty Four  Lakhs  Fifty Thousand and Sixty",120000000,12,"Twelve  Crores  ",3400000,34,"Thirty Four  Lakhs  ",50000,50,"Fifty Thousand ",0,0,"",60,"Sixty",null,null,null,null,null,null,null,null,null,null,null,null,null,null,null,null,null,null,null,null,null,null,null,"","",1,{"$f":"CONCATENATE(BN131,\"-\",BP131,\"-\",BR131,\"-\",BT131,\"-\",BV131)","v":"2055-00-117-11-06"},129,"2055","Police","00",null,"117","Internal Security","11","Normal State Plan","06","Organisation of Counter Terrorist Operations (OCTOPUS)",null,null,null,null,null,null,null,null,null,null,null,null,null,null,null,null,null,null,1,8,"Khammam","1607- NELAKONDAPALLI","1607","NELAKONDAPALLI","16","07"]
[66,2,"Anantapur",14,"D.Hirchal",null,null,null,null,863,"",863,"",246,"",305,"",null,67,"Sixty Seven",null,123450061,"Twelve  Crores  Thirty Four  Lakhs  Fifty Thousand and Sixty One",120000000,12,"Twelve  Crores  ",3400000,34,"Thirty Four  Lakhs  ",50000,50,"Fifty Thousand ",0,0,"",61,"Sixty One",null,null,null,null,null,null,null,null,null,null,null,null,null,null,null,null,null,null,null,null,null,null,null,"","",{"$f":"IF(EXACT($E$25,BN132),BK131+1,1)","v":1},"2056-00-001-00-01",130,"2056","Jails","00",null,"001","Direction and Administration","00",null,"01","Headquarters Office",null,null,null,null,null,null,null,null,null,null,null,null,null,null,null,null,null,null,1,8,"Khammam","1608- SATTUPALLI","1608","SATTUPALLI","16","08"]
[67,2,"Anantapur",15,"Dharmavaram",null,null,null,null,863,{"$f":"IF(J133>$J$67,\"\",VLOOKUP(J133,$A$67:$E$1189,5))","v":""},863,{"$f":"IF(L133>$L$67,\"\",VLOOKUP(L133,$A$67:$E$1189,5))","v":""},247,{"$f":"IF(N133>$N$67,\"\",VLOOKUP(N133,$A$67:$E$1189,5))","v":""},306,{"$f":"IF(P133>$P$67,\"\",VLOOKUP(P133,$A$67:$E$1189,5))","v":""},null,68,"Sixty Eight",null,123450062,"Twelve  Crores  Thirty Four  Lakhs  Fifty Thousand and Sixty Two",120000000,12,"Twelve  Crores  ",3400000,34,"Thirty Four  Lakhs  ",50000,50,"Fifty Thousand ",0,0,"",62,"Sixty Two",null,null,null,null,null,null,null,null,null,null,null,null,null,null,null,null,null,null,null,null,null,null,null,{"$f":"IF(BI132=\"\",\"\",IF(BI132=MIN(BI132+1,MAX(BK133:BK1143)),\"\",MIN(BI132+1,MAX(BK133:BK1143))))","v":""},{"$f":"IF(ISNA(VLOOKUP(BI133,$BK$3:$BM$1013,2,FALSE)),\"\",VLOOKUP(BI133,$BK$3:$BM$1013,2,FALSE))","v":""},1,"2056-00-001-00-02",131,"2056","Jails","00",null,"001","Direction and Administration","00",null,"02","Regional Offices",null,null,null,null,null,null,null,null,null,null,null,null,null,null,null,null,null,null,1,8,"Khammam","1609- VENKATAPURAM","1609","VENKATAPURAM","16","09"]
[68,2,"Anantapur",16,"Gandlapenta",null,null,null,null,863,"",863,"",248,"",307,"",null,69,"Sixty Nine",null,123450063,"Twelve  Crores  Thirty Four  Lakhs  Fifty Thousand and Sixty Three",120000000,12,"Twelve  Crores  ",3400000,34,"Thirty Four  Lakhs  ",50000,50,"Fifty Thousand ",0,0,"",63,"Sixty Three",null,null,null,null,null,null,null,null,null,null,null,null,null,null,null,null,null,null,null,null,null,null,null,"","",1,"2056-00-101-00-04",132,"2056","Jails","00",null,"101","Jails","00",null,"04","Jails",null,null,null,null,null,null,null,null,null,null,null,null,null,null,null,null,null,null,1,8,"Khammam","1610- YELLANDU","1610","YELLANDU","16","10"]
[69,2,"Anantapur",17,"Garladinne",null,null,null,null,null,null,null,null,null,null,null,null,null,70,"Seventy",null,123450064,"Twelve  Crores  Thirty Four  Lakhs  Fifty Thousand and Sixty Four",120000000,12,"Twelve  Crores  ",3400000,34,"Thirty Four  Lakhs  ",50000,50,"Fifty Thousand ",0,0,"",64,"Sixty Four",null,null,null,null,null,null,null,null,null,null,null,null,null,null,null,null,null,null,null,null,null,null,null,"","",1,"2056-00-102-00-04",133,"2056","Jails","00",null,"102","Jail Manufactures","00",null,"04","Jail Manufactures",null,null,null,null,null,null,null,null,null,null,null,null,null,null,null,null,null,null,1,9,"Krishna","0502- AVANIGADDA","0502","AVANIGADDA","05","02"]
[70,2,"Anantapur",18,"Gooty",null,null,null,null,null,null,null,null,null,null,null,null,null,71,"Seventy One",null,123450065,"Twelve  Crores  Thirty Four  Lakhs  Fifty Thousand and Sixty Five",120000000,12,"Twelve  Crores  ",3400000,34,"Thirty Four  Lakhs  ",50000,50,"Fifty Thousand ",0,0,"",65,"Sixty Five",null,null,null,null,null,null,null,null,null,null,null,null,null,null,null,null,null,null,null,null,null,null,null,"","",1,"2056-00-800-00-70",134,"2056","Jails","00",null,"800","Other Expenditure","00",null,"70","Training",null,null,null,null,null,null,null,null,null,null,null,null,null,null,null,null,null,null,1,9,"Krishna","0503- BANDAR","0503","BANDAR","05","03"]
[71,2,"Anantapur",19,"Gorantla",null,null,null,null,null,null,null,null,null,null,null,null,null,72,"Seventy Two",null,123450066,"Twelve  Crores  Thirty Four  Lakhs  Fifty Thousand and Sixty Six",120000000,12,"Twelve  Crores  ",3400000,34,"Thirty Four  Lakhs  ",50000,50,"Fifty Thousand ",0,0,"",66,"Sixty Six",null,null,null,null,null,null,null,null,null,null,null,null,null,null,null,null,null,null,null,null,null,null,null,"","",1,"2058-00-001-00-01",135,"2058","Stationery and Printing","00",null,"001","Direction and Administration","00",null,"01","Headquarter's Office",null,null,null,null,null,null,null,null,null,null,null,null,null,null,null,null,null,null,1,9,"Krishna","0504- BANTUMILLI","0504","BANTUMILLI","05","04"]
[72,2,"Anantapur",20,"Gudibanda",null,null,null,null,null,null,null,null,null,null,null,null,null,73,"Seventy Three",null,123450067,"Twelve  Crores  Thirty Four  Lakhs  Fifty Thousand and Sixty Seven",120000000,12,"Twelve  Crores  ",3400000,34,"Thirty Four  Lakhs  ",50000,50,"Fifty Thousand ",0,0,"",67,"Sixty Seven",null,null,null,null,null,null,null,null,null,null,null,null,null,null,null,null,null,null,null,null,null,null,null,"","",1,"2058-00-003-00-04",136,"2058","Stationery and Printing","00",null,"003","Training","00",null,"04","Training",null,null,null,null,null,null,null,null,null,null,null,null,null,null,null,null,null,null,1,9,"Krishna","0505- GANNAVARAM","0505","GANNAVARAM","05","05"]
[73,2,"Anantapur",21,"Gummagatta",null,null,null,null,null,null,null,null,null,null,null,null,null,74,"Seventy Four",null,123450068,"Twelve  Crores  Thirty Four  Lakhs  Fifty Thousand and Sixty Eight",120000000,12,"Twelve  Crores  ",3400000,34,"Thirty Four  Lakhs  ",50000,50,"Fifty Thousand ",0,0,"",68,"Sixty Eight",null,null,null,null,null,null,null,null,null,null,null,null,null,null,null,null,null,null,null,null,null,null,null,"","",1,"2058-00-103-00-04",137,"2058","Stationery and Printing","00",null,"103","Government Presses","00",null,"04","Government Presses",null,null,null,null,null,null,null,null,null,null,null,null,null,null,null,null,null,null,1,9,"Krishna","0506- GUDIVADA","0506","GUDIVADA","05","06"]
[74,2,"Anantapur",22,"Guntakal",null,null,null,null,null,null,null,null,null,null,null,null,null,75,"Seventy Five",null,123450069,"Twelve  Crores  Thirty Four  Lakhs  Fifty Thousand and Sixty Nine",120000000,12,"Twelve  Crores  ",3400000,34,"Thirty Four  Lakhs  ",50000,50,"Fifty Thousand ",0,0,"",69,"Sixty Nine",null,null,null,null,null,null,null,null,null,null,null,null,null,null,null,null,null,null,null,null,null,null,null,"","",1,"2059-01-053-00-04",138,"2059","Public Works","01","Office Buildings","053","Maintenance and Repairs","00",null,"04","Maintenance and Repairs of Buildings",null,null,null,null,null,null,null,null,null,null,null,null,null,null,null,null,null,null,1,9,"Krishna","0507- JAGGAIAHPETA","0507","JAGGAIAHPETA","05","07"]
[75,2,"Anantapur",23,"Hindupur",null,null,null,null,null,null,null,null,null,null,null,null,null,76,"Seventy Six",null,123450070,"Twelve  Crores  Thirty Four  Lakhs  Fifty Thousand and Seventy",120000000,12,"Twelve  Crores  ",3400000,34,"Thirty Four  Lakhs  ",50000,50,"Fifty Thousand ",0,0,"",70,"Seventy",null,null,null,null,null,null,null,null,null,null,null,null,null,null,null,null,null,null,null,null,null,null,null,"","",1,"2059-01-053-00-08",139,"2059","Public Works","01","Office Buildings","053","Maintenance and Repairs","00",null,"08","Buildings of Legislature",null,null,null,null,null,null,null,null,null,null,null,null,null,null,null,null,null,null,1,9,"Krishna","0508- KAIKALURU","0508","KAIKALURU","05","08"]
[76,2,"Anantapur",24,"Kadiri",null,null,null,null,null,null,null,null,null,null,null,null,null,77,"Seventy Seven",null,123450071,"Twelve  Crores  Thirty Four  Lakhs  Fifty Thousand and Seventy One",120000000,12,"Twelve  Crores  ",3400000,34,"Thirty Four  Lakhs  ",50000,50,"Fifty Thousand ",0,0,"",71,"Seventy One",null,null,null,null,null,null,null,null,null,null,null,null,null,null,null,null,null,null,null,null,null,null,null,"","",1,"2059-80-001-00-01",140,"2059","Public Works","80","General","001","Direction and Administration","00",null,"01","Headquarters Office",null,null,null,null,null,null,null,null,null,null,null,null,null,null,null,null,null,null,1,9,"Krishna","0519- KANCHIKA CHARLA","0519","KANCHIKA CHARLA","05","19"]
[77,2,"Anantapur",25,"Kalyandurg",null,null,null,null,null,null,null,null,null,null,null,null,null,78,"Seventy Eight",null,123450072,"Twelve  Crores  Thirty Four  Lakhs  Fifty Thousand and Seventy Two",120000000,12,"Twelve  Crores  ",3400000,34,"Thirty Four  Lakhs  ",50000,50,"Fifty Thousand ",0,0,"",72,"Seventy Two",null,null,null,null,null,null,null,null,null,null,null,null,null,null,null,null,null,null,null,null,null,null,null,"","",1,"2059-80-001-00-03",141,"2059","Public Works","80","General","001","Direction and Administration","00",null,"03","District Offices (Divisional and Sub-Divisional Offices)",null,null,null,null,null,null,null,null,null,null,null,null,null,null,null,null,null,null,1,9,"Krishna","0501- KRISHNA","0501","KRISHNA","05","01"]
[78,2,"Anantapur",26,"Kambadur",null,null,null,null,null,null,null,null,null,null,null,null,null,79,"Seventy Nine",null,123450073,"Twelve  Crores  Thirty Four  Lakhs  Fifty Thousand and Seventy Three",120000000,12,"Twelve  Crores  ",3400000,34,"Thirty Four  Lakhs  ",50000,50,"Fifty Thousand ",0,0,"",73,"Seventy Three",null,null,null,null,null,null,null,null,null,null,null,null,null,null,null,null,null,null,null,null,null,null,null,"","",1,"2070-00-003-00-04",142,"2070","Other Administrative Services","00",null,"003","Training","00",null,"04","Allowances to I.A.S. Probationers",null,null,null,null,null,null,null,null,null,null,null,null,null,null,null,null,null,null,1,9,"Krishna","0509- MOVVA","0509","MOVVA","05","09"]
[79,2,"Anantapur",27,"Kanaganapalle",null,null,null,null,null,null,null,null,null,null,null,null,null,80,"Eighty",null,123450074,"Twelve  Crores  Thirty Four  Lakhs  Fifty Thousand and Seventy Four",120000000,12,"Twelve  Crores  ",3400000,34,"Thirty Four  Lakhs  ",50000,50,"Fifty Thousand ",0,0,"",74,"Seventy Four",null,null,null,null,null,null,null,null,null,null,null,null,null,null,null,null,null,null,null,null,null,null,null,"","",1,"2070-00-003-00-04",143,"2070","Other Administrative Services","00",null,"003","Training","00",null,"04","Training",null,null,null,null,null,null,null,null,null,null,null,null,null,null,null,null,null,null,1,9,"Krishna","0510- MYLAVARAM","0510","MYLAVARAM","05","10"]
[80,2,"Anantapur",28,"Kanekal",null,null,null,null,null,null,null,null,null,null,null,null,null,81,"Eighty One",null,123450075,"Twelve  Crores  Thirty Four  Lakhs  Fifty Thousand and Seventy Five",120000000,12,"Twelve  Crores  ",3400000,34,"Thirty Four  Lakhs  ",50000,50,"Fifty Thousand ",0,0,"",75,"Seventy Five",null,null,null,null,null,null,null,null,null,null,null,null,null,null,null,null,null,null,null,null,null,null,null,"","",1,"2070-00-003-00-05",144,"2070","Other Administrative Services","00",null,"003","Training","00",null,"05","MCR HRD Institute",null,null,null,null,null,null,null,null,null,null,null,null,null,null,null,null,null,null,1,9,"Krishna","0511- NANDIGAMA","0511","NANDIGAMA","05","11"]
[81,2,"Anantapur",29,"Kothacheruvu",null,null,null,null,null,null,null,null,null,null,null,null,null,82,"Eighty Two",null,123450076,"Twelve  Crores  Thirty Four  Lakhs  Fifty Thousand and Seventy Six",120000000,12,"Twelve  Crores  ",3400000,34,"Thirty Four  Lakhs  ",50000,50,"Fifty Thousand ",0,0,"",76,"Seventy Six",null,null,null,null,null,null,null,null,null,null,null,null,null,null,null,null,null,null,null,null,null,null,null,"","",1,"2070-00-003-00-07",145,"2070","Other Administrative Services","00",null,"003","Training","00",null,"07","Training in Accounts and Audit",null,null,null,null,null,null,null,null,null,null,null,null,null,null,null,null,null,null,1,9,"Krishna","0512- NUZVID","0512","NUZVID","05","12"]
[82,2,"Anantapur",30,"Kudair",null,null,null,null,null,null,null,null,null,null,null,null,null,83,"Eighty Three",null,123450077,"Twelve  Crores  Thirty Four  Lakhs  Fifty Thousand and Seventy Seven",120000000,12,"Twelve  Crores  ",3400000,34,"Thirty Four  Lakhs  ",50000,50,"Fifty Thousand ",0,0,"",77,"Seventy Seven",null,null,null,null,null,null,null,null,null,null,null,null,null,null,null,null,null,null,null,null,null,null,null,"","",1,"2070-00-003-11-05",146,"2070","Other Administrative Services","00",null,"003","Training","11","Normal State Plan","05","MCR HRD Institute",null,null,null,null,null,null,null,null,null,null,null,null,null,null,null,null,null,null,1,9,"Krishna","0513- PAMARRU","0513","PAMARRU","05","13"]
[83,2,"Anantapur",31,"Kundurpi",null,null,null,null,null,null,null,null,null,null,null,null,null,84,"Eighty Four",null,123450078,"Twelve  Crores  Thirty Four  Lakhs  Fifty Thousand and Seventy Eight",120000000,12,"Twelve  Crores  ",3400000,34,"Thirty Four  Lakhs  ",50000,50,"Fifty Thousand ",0,0,"",78,"Seventy Eight",null,null,null,null,null,null,null,null,null,null,null,null,null,null,null,null,null,null,null,null,null,null,null,"","",1,"2070-00-104-00-04",147,"2070","Other Administrative Services","00",null,"104","Vigilance","00",null,"04","Lokayukta - Upa Lokayukta",null,null,null,null,null,null,null,null,null,null,null,null,null,null,null,null,null,null,1,9,"Krishna","0514- TIRUVUR","0514","TIRUVUR","05","14"]
[84,2,"Anantapur",32,"Lepakshi",null,null,null,null,null,null,null,null,null,null,null,null,null,85,"Eighty Five",null,123450079,"Twelve  Crores  Thirty Four  Lakhs  Fifty Thousand and Seventy Nine",120000000,12,"Twelve  Crores  ",3400000,34,"Thirty Four  Lakhs  ",50000,50,"Fifty Thousand ",0,0,"",79,"Seventy Nine",null,null,null,null,null,null,null,null,null,null,null,null,null,null,null,null,null,null,null,null,null,null,null,"","",1,"2070-00-104-00-05",148,"2070","Other Administrative Services","00",null,"104","Vigilance","00",null,"05","Department of Vigilance and Enforcement - Head Quarters",null,null,null,null,null,null,null,null,null,null,null,null,null,null,null,null,null,null,1,9,"Krishna","0541-VIJAYAWADA","0541","VIJAYAWADA","05","41"]
[85,2,"Anantapur",33,"Madakasira",null,null,null,null,null,null,null,null,null,null,null,null,null,86,"Eighty Six",null,123450080,"Twelve  Crores  Thirty Four  Lakhs  Fifty Thousand and Eighty",120000000,12,"Twelve  Crores  ",3400000,34,"Thirty Four  Lakhs  ",50000,50,"Fifty Thousand ",0,0,"",80,"Eighty",null,null,null,null,null,null,null,null,null,null,null,null,null,null,null,null,null,null,null,null,null,null,null,"","",1,"2070-00-104-00-06",149,"2070","Other Administrative Services","00",null,"104","Vigilance","00",null,"06","Department of Vigilance and Enforcement - District Task Force",null,null,null,null,null,null,null,null,null,null,null,null,null,null,null,null,null,null,1,9,"Krishna","0515- VIJAYAWADA(EAST)","0515","VIJAYAWADA(EAST)","05","15"]
[86,2,"Anantapur",34,"Mudigubba",null,null,null,null,null,null,null,null,null,null,null,null,null,87,"Eighty Seven",null,123450081,"Twelve  Crores  Thirty Four  Lakhs  Fifty Thousand and Eighty One",120000000,12,"Twelve  Crores  ",3400000,34,"Thirty Four  Lakhs  ",50000,50,"Fifty Thousand ",0,0,"",81,"Eighty One",null,null,null,null,null,null,null,null,null,null,null,null,null,null,null,null,null,null,null,null,null,null,null,"","",1,"2070-00-104-00-08",150,"2070","Other Administrative Services","00",null,"104","Vigilance","00",null,"08","Andhra Pradesh Vigilance Commission",null,null,null,null,null,null,null,null,null,null,null,null,null,null,null,null,null,null,1,9,"Krishna","0516- VIJAYAWADA(WEST)","0516","VIJAYAWADA(WEST)","05","16"]
[87,2,"Anantapur",35,"Nallacheruvu",null,null,null,null,null,null,null,null,null,null,null,null,null,88,"Eighty Eight",null,123450082,"Twelve  Crores  Thirty Four  Lakhs  Fifty Thousand and Eighty Two",120000000,12,"Twelve  Crores  ",3400000,34,"Thirty Four  Lakhs  ",50000,50,"Fifty Thousand ",0,0,"",82,"Eighty Two",null,null,null,null,null,null,null,null,null,null,null,null,null,null,null,null,null,null,null,null,null,null,null,"","",1,"2070-00-106-00-05",151,"2070","Other Administrative Services","00",null,"106","Civil Defence","00",null,"05","Civil Defence Organisation",null,null,null,null,null,null,null,null,null,null,null,null,null,null,null,null,null,null,1,9,"Krishna","0517- VISSANNAPETA","0517","VISSANNAPETA","05","17"]
[88,2,"Anantapur",36,"Nallamada",null,null,null,null,null,null,null,null,null,null,null,null,null,89,"Eighty Nine",null,0,"NIL",0,0,"",0,0,"",0,0,"",0,0,"",0,"",null,null,null,null,null,null,null,null,null,null,null,null,null,null,null,null,null,null,null,null,null,null,null,"","",1,"2070-00-107-00-04",152,"2070","Other Administrative Services","00",null,"107","Home Guards","00",null,"04","Headquarters Home Guards Organisation",null,null,null,null,null,null,null,null,null,null,null,null,null,null,null,null,null,null,1,9,"Krishna","0518- VUYYURU","0518","VUYYURU","05","18"]
[89,2,"Anantapur",37,"Nambulipulikunta",null,null,null,null,null,null,null,null,null,null,null,null,null,90,"Ninty",null,123450084,"Twelve  Crores  Thirty Four  Lakhs  Fifty Thousand and Eighty Four",120000000,12,"Twelve  Crores  ",3400000,34,"Thirty Four  Lakhs  ",50000,50,"Fifty Thousand ",0,0,"",84,"Eighty Four",null,null,null,null,null,null,null,null,null,null,null,null,null,null,null,null,null,null,null,null,null,null,null,"","",1,"2070-00-107-00-05",153,"2070","Other Administrative Services","00",null,"107","Home Guards","00",null,"05","District Home Guards Organization",null,null,null,null,null,null,null,null,null,null,null,null,null,null,null,null,null,null,1,10,"Kurnool","0902- ADONI","0902","ADONI","09","02"]
[90,2,"Anantapur",38,"Narpala",null,null,null,null,null,null,null,null,null,null,null,null,null,91,"Ninty One",null,10150000,"One  Crore One  Lakh and Fifty Thousand  ",10000000,1,"One  Crore ",100000,1,"One  Lakh ",50000,50,"Fifty Thousand ",0,0,"",0,"",null,null,null,null,null,null,null,null,null,null,null,null,null,null,null,null,null,null,null,null,null,null,null,"","",1,"2070-00-108-00-01",154,"2070","Other Administrative Services","00",null,"108","Fire Protection and Control","00",null,"01","Headquarters Office",null,null,null,null,null,null,null,null,null,null,null,null,null,null,null,null,null,null,1,10,"Kurnool","0903- ALLAGADDA","0903","ALLAGADDA","09","03"]
[91,2,"Anantapur",39,"Obuladevaracheruvu",null,null,null,null,null,null,null,null,null,null,null,null,null,92,"Ninty Two",null,10150001,"One  Crore One  Lakh Fifty Thousand and One",10000000,1,"One  Crore ",100000,1,"One  Lakh ",50000,50,"Fifty Thousand ",0,0,"",1,"One",null,null,null,null,null,null,null,null,null,null,null,null,null,null,null,null,null,null,null,null,null,null,null,"","",1,"2070-00-108-00-03",155,"2070","Other Administrative Services","00",null,"108","Fire Protection and Control","00",null,"03","District Offices",null,null,null,null,null,null,null,null,null,null,null,null,null,null,null,null,null,null,1,10,"Kurnool","0904- ALUR","0904","ALUR","09","04"]
[92,2,"Anantapur",40,"Pamidi",null,null,null,null,null,null,null,null,null,null,null,null,null,93,"Ninty Three",null,10150002,"One  Crore One  Lakh Fifty Thousand and Two",10000000,1,"One  Crore ",100000,1,"One  Lakh ",50000,50,"Fifty Thousand ",0,0,"",2,"Two",null,null,null,null,null,null,null,null,null,null,null,null,null,null,null,null,null,null,null,null,null,null,null,"","",1,"2070-00-115-00-04",156,"2070","Other Administrative Services","00",null,"115","Guest Houses, Govt. Hostels, etc.,","00",null,"04","The Director, Protocol",null,null,null,null,null,null,null,null,null,null,null,null,null,null,null,null,null,null,1,10,"Kurnool","0905- ATMAKUR","0905","ATMAKUR","09","05"]
[93,2,"Anantapur",41,"Parigi",null,null,null,null,null,null,null,null,null,null,null,null,null,94,"Ninty Four",null,10150003,"One  Crore One  Lakh Fifty Thousand and Three",10000000,1,"One  Crore ",100000,1,"One  Lakh ",50000,50,"Fifty Thousand ",0,0,"",3,"Three",null,null,null,null,null,null,null,null,null,null,null,null,null,null,null,null,null,null,null,null,null,null,null,"","",1,"2070-00-115-00-05",157,"2070","Other Administrative Services","00",null,"115","Guest Houses, Govt. Hostels, etc.,","00",null,"05","Andhra Pradesh Guest House, New Delhi",null,null,null,null,null,null,null,null,null,null,null,null,null,null,null,null,null,null,1,10,"Kurnool","0906- BANGANAPALLE","0906","BANGANAPALLE","09","06"]
[94,2,"Anantapur",42,"Peddapappur",null,null,null,null,null,null,null,null,null,null,null,null,null,95,"Ninty Five",null,10150004,"One  Crore One  Lakh Fifty Thousand and Four",10000000,1,"One  Crore ",100000,1,"One  Lakh ",50000,50,"Fifty Thousand ",0,0,"",4,"Four",null,null,null,null,null,null,null,null,null,null,null,null,null,null,null,null,null,null,null,null,null,null,null,"","",1,"2070-00-115-00-06",158,"2070","Other Administrative Services","00",null,"115","Guest Houses, Govt. Hostels, etc.,","00",null,"06","State Guest Houses",null,null,null,null,null,null,null,null,null,null,null,null,null,null,null,null,null,null,1,10,"Kurnool","0907- DHONE","0907","DHONE","09","07"]
[95,2,"Anantapur",43,"Peddavadugur",null,null,null,null,null,null,null,null,null,null,null,null,null,96,"Ninty Six",null,10150005,"One  Crore One  Lakh Fifty Thousand and Five",10000000,1,"One  Crore ",100000,1,"One  Lakh ",50000,50,"Fifty Thousand ",0,0,"",5,"Five",null,null,null,null,null,null,null,null,null,null,null,null,null,null,null,null,null,null,null,null,null,null,null,"","",1,"2070-00-115-00-74",159,"2070","Other Administrative Services","00",null,"115","Guest Houses, Govt. Hostels, etc.,","00",null,"74","Buildings (APGHC)",null,null,null,null,null,null,null,null,null,null,null,null,null,null,null,null,null,null,1,10,"Kurnool","0908- KODUMUR AT GUDUR","0908","KODUMUR AT GUDUR","09","08"]
[96,2,"Anantapur",44,"Penu Konda",null,null,null,null,null,null,null,null,null,null,null,null,null,97,"Ninty Seven",null,10150006,{"$f":"IF(V162=0,\"NIL\",IF(AND(Y162=0,AB162=0,AE162=0,AH162=0),AK162,IF(AND(Y162=0,AB162=0,AE162=0),CONCATENATE(AI162,IF(AJ162>0,\"and \",\" \"),AK162),IF(AND(Y162=0,AB162=0),CONCATENATE(AF162,IF(AND(AJ162=0,AH162>0),\"and \", \"\"),AI162,IF(AJ162>0,\"and \",\" \"),AK162),IF(Y162=0,CONCATENATE(AC162,IF(AND(AJ162=0,AH162=0,AE162>0),\"and \", \"\"),AF162,IF(AND(AJ162=0,AH162>0),\"and \", \"\"),AI162,IF(AJ162>0,\"and \",\" \"),AK162),CONCATENATE(Z162,IF(AND(AJ162=0,AH162=0,AE162=0,AB162>0),\"and \", \"\"),AC162,IF(AND(AJ162=0,AH162=0,AE162>0),\"and \", \"\"),AF162,IF(AND(AJ162=0,AH162>0),\"and \", \"\"),AI162,IF(AJ162>0,\"and \",\" \"),AK162))))))","v":"One  Crore One  Lakh Fifty Thousand and Six"},10000000,1,{"$f":"IF(Y162=1,CONCATENATE(VLOOKUP(Y162,$S$66:$T$164,2),\"  Crore \"),IF(Y162>1,CONCATENATE(VLOOKUP(Y162,$S$66:$T$164,2),\"  Crores  \"),\"\"))","v":"One  Crore "},100000,{"$f":"INT(AA162/100000)","v":1},{"$f":"IF(AB162=1,CONCATENATE(VLOOKUP(AB162,$S$66:$T$164,2),\"  Lakh \"),IF(AB162>1,CONCATENATE(VLOOKUP(AB162,$S$66:$T$164,2),\"  Lakhs  \"),\"\"))","v":"One  Lakh "},50000,{"$f":"INT(AD162/1000)","v":50},{"$f":"IF(AE162>0,CONCATENATE(VLOOKUP(AE162,$S$66:$T$164,2),\" Thousand \"),\"\")","v":"Fifty Thousand "},0,{"$f":"INT(AG162/100)","v":0},{"$f":"IF(AH162>0,CONCATENATE(VLOOKUP(AH162,$S$66:$T$164,2),\" Hundred \"),\"\")","v":""},6,{"$f":"IF(AJ162>0, VLOOKUP(AJ162,$S$66:$T$164,2),\"\")","v":"Six"},null,null,null,null,null,null,null,null,null,null,null,null,null,null,null,null,null,null,null,null,null,null,null,"","",1,"2070-00-800-00-05",160,"2070","Other Administrative Services","00",null,"800","Other Expenditure","00",null,"05","Charges in Connection with State Functions",null,null,null,null,null,null,null,null,null,null,null,null,null,null,null,null,null,null,1,10,"Kurnool","0909- KOILKUNTLA","0909","KOILKUNTLA","09","09"]
[97,2,"Anantapur",45,"Putlur",null,null,null,null,null,null,null,null,null,null,null,null,null,98,"Ninty Eight",null,10150007,"One  Crore One  Lakh Fifty Thousand and Seven",10000000,1,"One  Crore ",100000,1,"One  Lakh ",50000,50,"Fifty Thousand ",0,0,"",7,"Seven",null,null,null,null,null,null,null,null,null,null,null,null,null,null,null,null,null,null,null,null,null,null,null,"","",1,"2070-00-800-00-08",161,"2070","Other Administrative Services","00",null,"800","Other Expenditure","00",null,"08","Non I.S.F. Records Office",null,null,null,null,null,null,null,null,null,null,null,null,null,null,null,null,null,null,1,10,"Kurnool","0901- KURNOOL","0901","KURNOOL","09","01"]
[98,2,"Anantapur",46,"Puttaparthi",null,null,null,null,null,null,null,null,null,null,null,null,null,99,"Ninty Nine",null,10150008,"One  Crore One  Lakh Fifty Thousand and Eight",10000000,1,"One  Crore ",100000,1,"One  Lakh ",50000,50,"Fifty Thousand ",0,0,"",8,"Eight",null,null,null,null,null,null,null,null,null,null,null,null,null,null,null,null,null,null,null,null,null,null,null,"","",1,"2071-01-101-00-04",162,"2071","Pension and Other Retirement Benefits","01","Civil","101","Superannuation and Retirement Allowances","00",null,"04","Service Pensions",null,null,null,null,null,null,null,null,null,null,null,null,null,null,null,null,null,null,1,10,"Kurnool","0910- KURNOOL","0910","KURNOOL","09","10"]
[99,2,"Anantapur",47,"Ramagiri",null,null,null,null,null,null,null,null,null,null,null,null,null,null,null,null,null,null,null,null,null,null,null,null,null,null,null,null,null,null,null,null,null,null,null,null,null,null,null,null,null,null,null,null,null,null,null,null,null,null,null,null,null,null,null,"","",2,"2202-01-101-00-04",163,"2202","General Education","01","Elementary Education","101","Government Primary Schools","00",null,"04","Primary Schools",null,null,null,null,null,null,null,null,null,null,null,null,null,null,null,null,null,null,1,10,"Kurnool","0941-KURNOOL","0941","KURNOOL","09","41"]
[100,2,"Anantapur",48,"Raptadu",null,null,null,null,null,null,null,null,null,null,null,null,null,null,null,null,null,null,null,null,null,null,null,null,null,null,null,null,null,null,null,null,null,null,null,null,null,null,null,null,null,null,null,null,null,null,null,null,null,null,null,null,null,null,null,"","",3,"2202-01-102-00-04",164,"2202","General Education","01","Elementary Education","102","Assistance to Non-Government Primary Schools","00",null,"04","Teaching Grants",null,null,null,null,null,null,null,null,null,null,null,null,null,null,null,null,null,null,1,10,"Kurnool","0911- NANDIKOTKUR","0911","NANDIKOTKUR","09","11"]
[101,2,"Anantapur",49,"Rayadurg",null,null,null,null,null,null,null,null,null,null,null,null,null,"DDO",null,"Old AAS","New AAS",null,null,null,null,null,null,null,null,null,null,null,null,null,null,null,null,null,null,null,null,null,null,null,null,null,null,null,null,null,null,null,null,null,null,null,null,null,null,"","",4,"2202-01-103-00-04",165,"2202","General Education","01","Elementary Education","103","Assistance to Local Bodies for Primary Education","00",null,"04","Teaching Grants to Municipalities",null,null,null,null,null,null,null,null,null,null,null,null,null,null,null,null,null,null,1,10,"Kurnool","0912- NANDYAL","0912","NANDYAL","09","12"]
[102,2,"Anantapur",50,"Roddam",null,null,null,null,null,null,null,null,null,null,null,null,null,"Principal",null,"(O)","(O)",null,"(O)",null,null,null,null,null,null,null,null,null,null,null,null,null,null,null,null,null,null,null,null,null,null,null,null,null,null,null,null,null,null,null,null,null,null,null,null,"","",5,"2202-01-103-00-05",166,"2202","General Education","01","Elementary Education","103","Assistance to Local Bodies for Primary Education","00",null,"05","Teaching Grants to Mandal Praja Parishads",null,null,null,null,null,null,null,null,null,null,null,null,null,null,null,null,null,null,1,10,"Kurnool","0942-NANDYAL","0942","NANDYAL","09","42"]
[103,2,"Anantapur",51,"Rolla",null,null,null,null,null,null,null,null,null,null,null,null,null,"District Educational Officer",null,"(SG)","(SG)",6,"(SG)",null,null,null,null,null,null,null,null,null,null,null,null,null,null,null,null,null,null,null,null,null,null,null,null,null,null,null,null,null,null,null,null,null,null,null,null,"","",6,"2202-01-107-10-11",167,"2202","General Education","01","Elementary Education","107","Teachers Training","10","Centrally Sponsored Schemes","11","District Institute of Educational Training",null,null,null,null,null,null,null,null,null,null,null,null,null,null,null,null,null,null,1,10,"Kurnool","0913- PATTIKONDA","0913","PATTIKONDA","09","13"]
[104,2,"Anantapur",52,"Settur",null,null,null,null,null,null,null,null,null,null,null,null,null,"Commissioner",null,"(SPP-I)","(SPP-IA)",12,"(SPP-I)",null,null,null,null,null,null,null,null,null,null,null,null,null,null,null,null,null,null,null,null,null,null,null,null,null,null,null,null,null,null,null,null,null,null,null,null,"","",7,"2202-01-800-00-05",168,"2202","General Education","01","Elementary Education","800","Other Expenditure","00",null,"05","Assistance to State Institute of Educational Technology",null,null,null,null,null,null,null,null,null,null,null,null,null,null,null,null,null,null,1,10,"Kurnool","0915- SRISAILAM","0915","SRISAILAM","09","15"]
[105,2,"Anantapur",53,"Singanamala",null,null,null,null,null,null,null,null,null,null,null,null,null,"Deputy Educational Officer",null,"(SPP-II)","(SPP-IB)",18,"(SPP-IA)",null,null,null,null,null,null,null,null,null,null,null,null,null,null,null,null,null,null,null,null,null,null,null,null,null,null,null,null,null,null,null,null,null,null,null,null,"","",8,"2202-01-800-00-10",169,"2202","General Education","01","Elementary Education","800","Other Expenditure","00",null,"10","Operation Black Board Scheme",null,null,null,null,null,null,null,null,null,null,null,null,null,null,null,null,null,null,1,10,"Kurnool","0914- YEMMIGANUR","0914","YEMMIGANUR","09","14"]
[106,2,"Anantapur",54,"Somandepalle",null,null,null,null,null,null,null,null,null,null,null,null,null,"Mandal Educational Officer",null,"(SAPP-I)","(SPP-II)",24,"(SPP-IB)",null,null,null,null,null,null,null,null,null,null,null,null,null,null,null,null,null,null,null,null,null,null,null,null,null,null,null,null,null,null,null,null,null,null,null,null,"","",9,"2202-01-800-00-75",170,"2202","General Education","01","Elementary Education","800","Other Expenditure","00",null,"75","Lumpsum Provision",null,null,null,null,null,null,null,null,null,null,null,null,null,null,null,null,null,null,1,11,"Mahabubnagar","1702- ACHAMPET","1702","ACHAMPET","17","02"]
[107,2,"Anantapur",55,"Tadimarri",null,null,null,null,null,null,null,null,null,null,null,null,null,"Gazetted Headmaster Grade-I",null,"(SAPP-II)","(SAPP-IA)",12,"(SPP-II)",null,null,null,null,null,null,null,null,null,null,null,null,null,null,null,null,null,null,null,null,null,null,null,null,null,null,null,null,null,null,null,null,null,null,null,null,"","",10,"2202-01-800-10-15",171,"2202","General Education","01","Elementary Education","800","Other Expenditure","10","Centrally Sponsored Schemes","15","Integrated Education for Disabled Children",null,null,null,null,null,null,null,null,null,null,null,null,null,null,null,null,null,null,1,11,"Mahabubnagar","1703- ALAMPUR","1703","ALAMPUR","17","03"]
[108,2,"Anantapur",56,"Tadpatri",null,null,null,null,null,null,null,null,null,null,null,null,null,"Gazetted Headmistress Grade- I",null,null,"(SAPP-IB)",18,"(SAPP-IA)",null,null,null,null,null,null,null,null,null,null,null,null,null,null,null,null,null,null,null,null,null,null,null,null,null,null,null,null,null,null,null,null,null,null,null,null,"","",11,"2202-01-800-10-16",172,"2202","General Education","01","Elementary Education","800","Other Expenditure","10","Centrally Sponsored Schemes","16","Assistance to Hindi Pandits in Non-Hindi speaking States",null,null,null,null,null,null,null,null,null,null,null,null,null,null,null,null,null,null,1,11,"Mahabubnagar","1704- ATMAKUR","1704","ATMAKUR","17","04"]
[109,2,"Anantapur",57,"Talupula",null,null,null,null,null,null,null,null,null,null,null,null,null,"Gazetted Headmaster Grade-II",null,null,"(SAPP-II)",24,"(SAPP-I)",null,null,null,null,null,null,null,null,null,null,null,null,null,null,null,null,null,null,null,null,null,null,null,null,null,null,null,null,null,null,null,null,null,null,null,null,"","",12,"2202-01-800-10-29",173,"2202","General Education","01","Elementary Education","800","Other Expenditure","10","Centrally Sponsored Schemes","29","Improvement of Urdu Education",null,null,null,null,null,null,null,null,null,null,null,null,null,null,null,null,null,null,1,11,"Mahabubnagar","1705- GADWAL","1705","GADWAL","17","05"]
[110,2,"Anantapur",58,"Tanakal",null,null,null,null,null,null,null,null,null,null,null,null,null,"Gazetted Headmistress Grade- II",null,null,null,null,"(SAPP-IB)",null,null,null,null,null,null,null,null,null,null,null,null,null,null,null,null,null,null,null,null,null,null,null,null,null,null,null,null,null,null,null,null,null,null,null,null,"","",13,"2202-01-800-11-36",174,"2202","General Education","01","Elementary Education","800","Other Expenditure","11","Normal State Plan","36","Primary Schools",null,null,null,null,null,null,null,null,null,null,null,null,null,null,null,null,null,null,1,11,"Mahabubnagar","1742-GADWAL","1742","GADWAL","17","42"]
[111,2,"Anantapur",59,"Uravakonda",null,null,null,null,null,null,null,null,null,null,null,null,null,{"$f":"G3","v":"Executive Engineer"},null,null,null,null,"(SAPP-II)",null,null,null,null,null,null,null,null,null,null,null,null,null,null,null,null,null,null,null,null,null,null,null,null,null,null,null,null,null,null,null,null,null,null,null,null,"","",14,"2202-02-001-00-04",175,"2202","General Education","02","Secondary Education","001","Direction and Administration","00",null,"04","Zilla Praja Parishad Educational Officers",null,null,null,null,null,null,null,null,null,null,null,null,null,null,null,null,null,null,1,11,"Mahabubnagar","1706- JADCHERLA","1706","JADCHERLA","17","06"]
[112,2,"Anantapur",60,"Vajrakarur",null,null,null,null,null,null,null,null,null,null,null,null,null,{"$f":"G10","v":"Hostel Welfare Officer"},null,null,null,null,null,null,null,null,null,null,null,null,null,null,null,null,null,null,null,null,null,null,null,null,null,null,null,null,null,null,null,null,null,null,null,null,null,null,null,null,null,"","",15,"2202-02-004-00-04",176,"2202","General Education","02","Secondary Education","004","Research and Training","00",null,"04","Vocationalisation of Education",null,null,null,null,null,null,null,null,null,null,null,null,null,null,null,null,null,null,1,11,"Mahabubnagar","1707- KALWAKURTHY","1707","KALWAKURTHY","17","07"]
[113,2,"Anantapur",61,"Vidapanakal",null,null,null,null,null,null,null,null,null,null,null,null,null,"Deputy Commissioner",null,null,null,null,null,null,null,null,null,null,null,null,null,null,null,null,null,null,null,null,null,null,null,null,null,null,null,null,null,null,null,null,null,null,null,null,null,null,null,null,null,"","",16,"2202-02-004-06-04",177,"2202","General Education","02","Secondary Education","004","Research and Training","06","Matching State Share of Centrally Sponsored Schemes","04","Vocationalisation of Education",null,null,null,null,null,null,null,null,null,null,null,null,null,null,null,null,null,null,1,11,"Mahabubnagar","1708- KODANGAL","1708","KODANGAL","17","08"]
[114,2,"Anantapur",62,"Yadiki",null,null,null,null,null,null,null,null,null,null,null,null,null,"GPF",null,"Servicess",null,null,null,null,null,null,null,null,null,null,null,null,null,null,null,null,null,null,null,null,null,null,null,null,null,null,null,null,null,null,null,null,null,null,null,null,null,null,null,"","",17,"2202-02-004-10-04",178,"2202","General Education","02","Secondary Education","004","Research and Training","10","Centrally Sponsored Schemes","04","Vocationalisation of Education",null,null,null,null,null,null,null,null,null,null,null,null,null,null,null,null,null,null,1,11,"Mahabubnagar","1709- KOLLAPUR","1709","KOLLAPUR","17","09"]
[115,2,"Anantapur",63,"Yellanur",null,null,null,null,null,null,null,null,null,null,null,null,null,"ZPGPF",null,null,null,null,null,null,null,null,null,null,null,null,null,null,null,null,null,null,null,null,null,null,null,null,null,null,null,null,null,null,null,null,null,null,null,null,null,null,null,null,null,"","",18,"2202-02-101-00-03",179,"2202","General Education","02","Secondary Education","101","Inspection","00",null,"03","District Officers-Deputy Educational Officers",null,null,null,null,null,null,null,null,null,null,null,null,null,null,null,null,null,null,1,11,"Mahabubnagar","1701- MAHABOOB NAGAR","1701","MAHABOOB NAGAR","17","01"]
[116,3,"Chittoor",1,"B Kothakota",null,null,null,null,null,null,null,null,null,null,null,null,null,"Class-IV-DTO",null,"Dyeo Above","APSES",null,null,null,null,null,null,null,null,null,null,null,null,null,null,null,null,null,null,null,null,null,null,null,null,null,null,null,null,null,null,null,null,null,null,null,null,null,null,"","",19,"2202-02-105-00-04",180,"2202","General Education","02","Secondary Education","105","Teachers Training","00",null,"04","Government Training Colleges",null,null,null,null,null,null,null,null,null,null,null,null,null,null,null,null,null,null,1,11,"Mahabubnagar","1741-MAHABOOBNAGAR","1741","MAHABOOBNAGAR","17","41"]
[117,3,"Chittoor",2,"Baireddi Palle",null,null,null,null,null,null,null,null,null,null,null,null,null,"CPS",null,"Teachers","APSESS",null,null,null,null,null,null,null,null,null,null,null,null,null,null,null,null,null,null,null,null,null,null,null,null,null,null,null,null,null,null,null,null,null,null,null,null,null,null,"","",20,"2202-02-105-00-09",181,"2202","General Education","02","Secondary Education","105","Teachers Training","00",null,"09","Vocationalisation of Secondary Education",null,null,null,null,null,null,null,null,null,null,null,null,null,null,null,null,null,null,1,11,"Mahabubnagar","1710- MAHABUBNAGAR()","1710","MAHABUBNAGAR()","17","10"]
[118,3,"Chittoor",3,"Bangarupalem ",null,null,null,null,null,null,null,null,null,null,null,null,null,null,null,"Jr Assistant To Sup","APMS",null,null,null,null,null,null,null,null,null,null,null,null,null,null,null,null,null,null,null,null,null,null,null,null,null,null,null,null,null,null,null,null,null,null,null,null,null,null,"","",21,"2202-02-106-00-05",182,"2202","General Education","02","Secondary Education","106","Text Books","00",null,"05","A.P. Text Book Press",null,null,null,null,null,null,null,null,null,null,null,null,null,null,null,null,null,null,1,11,"Mahabubnagar","1711- MAKTHAL","1711","MAKTHAL","17","11"]
[119,3,"Chittoor",4,"Buchinaidu Khandriga",null,null,null,null,null,null,null,null,null,null,null,null,null,null,null,"Record Ass","APGSS",null,null,null,null,null,null,null,null,null,null,null,null,null,null,null,null,null,null,null,null,null,null,null,null,null,null,null,null,null,null,null,null,null,null,null,null,null,null,"","",22,"2202-02-108-00-04",183,"2202","General Education","02","Secondary Education","108","Examinations","00",null,"04","Conduct of Common Examinations (CGE)",null,null,null,null,null,null,null,null,null,null,null,null,null,null,null,null,null,null,1,11,"Mahabubnagar","1712- NAGARKURNOOL","1712","NAGARKURNOOL","17","12"]
[120,3,"Chittoor",5,"Chandragiri ",null,null,null,null,null,null,null,null,null,null,null,null,null,null,null,"Attenders","APLGS",null,null,null,null,null,null,null,null,null,null,null,null,null,null,null,null,null,null,null,null,null,null,null,null,null,null,null,null,null,null,null,null,null,null,null,null,null,null,"","",23,"2202-02-109-00-04",184,"2202","General Education","02","Secondary Education","109","Government Secondary Schools","00",null,"04","Government Secondary Schools",null,null,null,null,null,null,null,null,null,null,null,null,null,null,null,null,null,null,1,11,"Mahabubnagar","1713- NARAYANPETA","1713","NARAYANPETA","17","13"]
[121,3,"Chittoor",6,"Chinnagottigallu ",null,null,null,null,null,null,null,null,null,null,null,null,null,null,null,"General","Public Services",null,null,null,null,null,null,null,null,null,null,null,null,null,null,null,null,null,null,null,null,null,null,null,null,null,null,null,null,null,null,null,null,null,null,null,null,null,null,"","",24,"2202-02-110-00-04",185,"2202","General Education","02","Secondary Education","110","Assistance to Non-Government Secondary Schools","00",null,"04","Assistance to Private Aided Institutions",null,null,null,null,null,null,null,null,null,null,null,null,null,null,null,null,null,null,1,11,"Mahabubnagar","1714- SHADNAGAR","1714","SHADNAGAR","17","14"]
[122,3,"Chittoor",7,"Chittoor ",null,null,null,null,null,null,null,null,null,null,null,null,null,null,null,null,null,null,null,null,null,null,null,null,null,null,null,null,null,null,null,null,null,null,null,null,null,null,null,null,null,null,null,null,null,null,null,null,null,null,null,null,null,null,null,"","",25,"2202-02-110-00-06",186,"2202","General Education","02","Secondary Education","110","Assistance to Non-Government Secondary Schools","00",null,"06","Assistance to the A.P. Residential Educational Institutions Society",null,null,null,null,null,null,null,null,null,null,null,null,null,null,null,null,null,null,1,11,"Mahabubnagar","1715- WANAPARTHY","1715","WANAPARTHY","17","15"]
[123,3,"Chittoor",8,"Chowdepalle ",null,null,null,null,null,null,null,null,null,null,null,null,null,null,null,null,null,null,null,null,null,null,null,null,null,null,null,null,null,null,null,null,null,null,null,null,null,null,null,null,null,null,null,null,null,null,null,null,null,null,null,null,null,null,null,"","",26,"2202-02-191-00-04",187,"2202","General Education","02","Secondary Education","191","Assistance to Local Bodies for Secondary Education","00",null,"04","Teaching Grants to Municipalities",null,null,null,null,null,null,null,null,null,null,null,null,null,null,null,null,null,null,1,12,"Medak","1802- ANDOL","1802","ANDOL","18","02"]
[124,3,"Chittoor",9,"Gangadhara Nellore",null,null,null,null,null,null,null,null,null,null,null,null,null,null,"6700-20110","Employee Designations","Services","Oridinary","SG","SPP-IA","SPP-IB","SPP-II","O","SG","SAPP-IA","SAPP-IB","SAPP-II",null,null,null,null,null,null,null,null,null,null,null,null,null,null,null,null,null,null,null,null,null,null,null,null,null,null,null,null,"","",27,"2202-02-191-00-05",188,"2202","General Education","02","Secondary Education","191","Assistance to Local Bodies for Secondary Education","00",null,"05","Teaching Grants to Zilla Praja Parishads",null,null,null,null,null,null,null,null,null,null,null,null,null,null,null,null,null,null,1,12,"Medak","1803- DUBBAK","1803","DUBBAK","18","03"]
[125,3,"Chittoor",10,"Gangavaram ",null,null,null,null,null,null,null,null,null,null,null,null,null,{"$f":"VALUE(IF(TYPE(VALUE(MID(T190,1,5)))=16,VALUE(MID(T190,1,4)),VALUE(MID(T190,1,5))))","v":6700},"6900-20680","Principal","APSES","27000-51760",{"$f":"LOOKUP(VALUE(IF(TYPE(VALUE(MID(W191,1,5)))=16,VALUE(MID(W191,1,4)),VALUE(MID(W191,1,5)))),$S$191:$T$222)","v":"29200-53060"},null,null,null,"27000-51760",{"$f":"IF(V191=\"APLGS\",$T$193,LOOKUP(VALUE(IF(TYPE(VALUE(MID(AB191,1,5)))=16,VALUE(MID(AB191,1,4)),VALUE(MID(AB191,1,5)))),$S$191:$T$222))","v":"29200-53060"},{"$f":"IF(V191=\"APLGS\",$T$194,VLOOKUP(VALUE(IF(TYPE(VALUE(MID(AB191,1,5)))=16,VALUE(MID(AB191,1,4)),VALUE(MID(AB191,1,5)))),$R$191:$T$222,3))","v":"31550-53060"},{"$f":"AD191","v":"31550-53060"},{"$f":"IF(V191=\"APLGS\",$T$195,VLOOKUP(VALUE(IF(TYPE(VALUE(MID(AB191,1,5)))=16,VALUE(MID(AB191,1,4)),VALUE(MID(AB191,1,5)))),$Q$193:$T$222,4))","v":"34050-54360"},null,null,null,null,null,null,null,null,null,null,null,null,null,null,null,null,null,null,null,null,null,null,null,null,null,null,null,null,"","",28,"2202-02-789-06-05",189,"2202","General Education","02","Secondary Education","789","Special Component Plan for Scheduled Castes","06","Matching State Share of Centrally Sponsored Schemes","05","Vocationalisation of Education",null,null,null,null,null,null,null,null,null,null,null,null,null,null,null,null,null,null,1,12,"Medak","1804- GAZWEL","1804","GAZWEL","18","04"]
[126,3,"Chittoor",11,"Gudi Palle",null,null,null,null,null,null,null,null,null,null,null,null,{"$f":"S191","v":6700},{"$f":"VALUE(IF(TYPE(VALUE(MID(T191,1,5)))=16,VALUE(MID(T191,1,4)),VALUE(MID(T191,1,5))))","v":6900},"7100-21250","District Educational Officer","APSES","21820-48160","23650-49360",null,null,null,"21820-48160",{"$f":"IF(V192=\"APLGS\",$T$193,LOOKUP(VALUE(IF(TYPE(VALUE(MID(AB192,1,5)))=16,VALUE(MID(AB192,1,4)),VALUE(MID(AB192,1,5)))),$S$191:$T$222))","v":"23650-49360"},{"$f":"IF(V192=\"APLGS\",$T$194,VLOOKUP(VALUE(IF(TYPE(VALUE(MID(AB192,1,5)))=16,VALUE(MID(AB192,1,4)),VALUE(MID(AB192,1,5)))),$R$191:$T$222,3))","v":"25600-50560"},{"$f":"AD192","v":"25600-50560"},{"$f":"IF(V192=\"APLGS\",$T$195,VLOOKUP(VALUE(IF(TYPE(VALUE(MID(AB192,1,5)))=16,VALUE(MID(AB192,1,4)),VALUE(MID(AB192,1,5)))),$Q$193:$T$222,4))","v":"27000-51760"},null,null,null,null,null,null,null,null,null,null,null,null,null,null,null,null,null,null,null,null,null,null,null,null,null,null,null,null,"","",29,"2202-02-796-06-05",190,"2202","General Education","02","Secondary Education","796","Tribal Areas Sub-Plan","06","Matching State Share of Centrally Sponsored Schemes","05","Vocationalisation of Education",null,null,null,null,null,null,null,null,null,null,null,null,null,null,null,null,null,null,1,12,"Medak","1801- MEDAK","1801","MEDAK","18","01"]
[127,3,"Chittoor",12,"Gudipala ",null,null,null,null,null,null,null,null,null,null,null,{"$f":"R192","v":6700},{"$f":"S192","v":6900},{"$f":"VALUE(IF(TYPE(VALUE(MID(T192,1,5)))=16,VALUE(MID(T192,1,4)),VALUE(MID(T192,1,5))))","v":7100},"7520-22430","Deputy Educational Officer","APSES","18030-43630","19050-45850",null,null,null,"18030-43630","19050-45850","20680-46960","20680-46960","21820-48160",null,null,null,null,null,null,null,null,null,null,null,null,null,null,null,null,null,null,null,null,null,null,null,null,null,null,null,null,"","",30,"2202-02-800-10-20",191,"2202","General Education","02","Secondary Education","800","Other Expenditure","10","Centrally Sponsored Schemes","20","Improvement of Urdu Education",null,null,null,null,null,null,null,null,null,null,null,null,null,null,null,null,null,null,1,12,"Medak","1805-MEDAK","1805","MEDAK","18","05"]
[128,3,"Chittoor",13,"Gurramkonda ",null,null,null,null,null,null,null,null,null,null,null,{"$f":"R193","v":6900},7100,7520,"7740-23040","Lecturer","APSES","20680-46960","21820-48160",null,null,null,"20680-46960","21820-48160","23650-49360","23650-49360","25600-50560",null,null,null,null,null,null,null,null,null,null,null,null,null,null,null,null,null,null,null,null,null,null,null,null,null,null,null,null,"","",31,"2202-03-001-00-01",192,"2202","General Education","03","University and Higher Education","001","Direction and Administration","00",null,"01","Headquarters Office - Commissioner of Collegiate Education",null,null,null,null,null,null,null,null,null,null,null,null,null,null,null,null,null,null,{"$f":"IF(EXACT($CO$1,CR194),CP193+1,1)","v":1},12,"Medak","1842-MEDAK","1842","MEDAK","18","42"]
[129,3,"Chittoor",14,"Irala ",null,null,null,null,null,null,null,null,null,null,null,7100,7520,7740,"7960-23650","Mandal Educational Officer","APSESS","16150-42590","18030-43630",null,null,null,"16150-42590","18030-43630","19050-45850","19050-45850","20680-46960",null,null,null,null,null,null,null,null,null,null,null,null,null,null,null,null,null,null,null,null,null,null,null,null,null,null,null,null,"","",32,{"$f":"CONCATENATE(BN195,\"-\",BP195,\"-\",BR195,\"-\",BT195,\"-\",BV195)","v":"2202-03-001-00-02"},193,"2202","General Education","03","University and Higher Education","001","Direction and Administration","00",null,"02","Regional Offices - Collegiate  Education",null,null,null,null,null,null,null,null,null,null,null,null,null,null,null,null,null,null,1,12,"Medak","1806- NARAYANKHED","1806","NARAYANKHED","18","06"]
[130,3,"Chittoor",15,"K V P Puram ",null,null,null,null,null,null,null,null,null,null,null,7520,7740,7960,"8440-24950","Gazetted Head Master Grade-II","APSESS","18030-43630","19050-45850",null,null,null,"18030-43630","19050-45850","20680-46960","20680-46960","21820-48160",null,null,null,null,null,null,null,null,null,null,null,null,null,null,null,null,null,null,null,null,null,null,null,null,null,null,null,null,"","",{"$f":"IF(EXACT($E$25,BN196),BK195+1,1)","v":33},"2202-03-001-00-03",194,"2202","General Education","03","University and Higher Education","001","Direction and Administration","00",null,"03","Headquarters Office Director of Intermediate Education",null,null,null,null,null,null,null,null,null,null,null,null,null,null,null,null,null,null,1,12,"Medak","1807- NARSAPUR","1807","NARSAPUR","18","07"]
[131,3,"Chittoor",16,"Kalakada ",null,null,null,null,null,null,null,null,null,null,null,7740,7960,8440,"9200-27000","Gazetted Head Mistress Grade-II","APSESS","18030-43630","19050-45850",null,null,null,"18030-43630","19050-45850","20680-46960","20680-46960","21820-48160",null,null,null,null,null,null,null,null,null,null,null,null,null,null,null,null,null,null,null,null,null,null,null,null,null,null,null,null,{"$f":"IF(BI196=\"\",\"\",IF(BI196=MIN(BI196+1,MAX(BK197:BK1207)),\"\",MIN(BI196+1,MAX(BK197:BK1207))))","v":""},{"$f":"IF(ISNA(VLOOKUP(BI197,$BK$3:$BM$1013,2,FALSE)),\"\",VLOOKUP(BI197,$BK$3:$BM$1013,2,FALSE))","v":""},34,"2202-03-001-00-05",195,"2202","General Education","03","University and Higher Education","001","Direction and Administration","00",null,"05","Regional Offices of Intermediate Education",null,null,null,null,null,null,null,null,null,null,null,null,null,null,null,null,null,null,1,12,"Medak","1813-PATANCHERU","1813","PATANCHERU","18","13"]
[132,3,"Chittoor",17,"Kalikiri ",null,null,null,null,null,null,null,null,null,null,null,7960,8440,9200,"9460-27700","School Assistant ( Telugu ) ","APSESS","14860-39540","15280-40510",null,null,null,"14860-39540","15280-40510","16150-42590","16150-42590","18030-43630",null,null,null,null,null,null,null,null,null,null,null,null,null,null,null,null,null,null,null,null,null,null,null,null,null,null,null,null,"","",35,"2202-03-001-00-75",196,"2202","General Education","03","University and Higher Education","001","Direction and Administration","00",null,"75","Lumpsum Provision",null,null,null,null,null,null,null,null,null,null,null,null,null,null,null,null,null,null,1,12,"Medak","1808- RAMAYAMPET","1808","RAMAYAMPET","18","08"]
[133,3,"Chittoor",18,"Kambhamvaripalle ",null,null,null,null,null,null,null,null,null,null,null,8440,9200,9460,"10020-29200","School Assistant ( Hindi ) ","APSESS","14860-39540","15280-40510",null,null,null,"14860-39540","15280-40510","16150-42590","16150-42590","18030-43630",null,null,null,null,null,null,null,null,null,null,null,null,null,null,null,null,null,null,null,null,null,null,null,null,null,null,null,null,"","",36,"2202-03-001-10-01",197,"2202","General Education","03","University and Higher Education","001","Direction and Administration","10","Centrally Sponsored Schemes","01","Headquarters Office, National Service Scheme cell (Commissioner of Collegiate Education)",null,null,null,null,null,null,null,null,null,null,null,null,null,null,null,null,null,null,1,12,"Medak","1809- SADASIVAPET","1809","SADASIVAPET","18","09"]
[134,3,"Chittoor",19,"Karvetinagar ",null,null,null,null,null,null,null,null,null,null,null,9200,9460,10020,"10900-31550","School Assistant ( English ) ","APSESS","14860-39540","15280-40510",null,null,null,"14860-39540","15280-40510","16150-42590","16150-42590","18030-43630",null,null,null,null,null,null,null,null,null,null,null,null,null,null,null,null,null,null,null,null,null,null,null,null,null,null,null,null,"","",37,"2202-03-001-11-03",198,"2202","General Education","03","University and Higher Education","001","Direction and Administration","11","Normal State Plan","03","Headquarters Office Director of Intermediate Education",null,null,null,null,null,null,null,null,null,null,null,null,null,null,null,null,null,null,1,12,"Medak","1810-SANGA REDDY","1810","SANGA REDDY","18","10"]
[135,3,"Chittoor",20,"Kuppam ",null,null,null,null,null,null,null,null,null,null,null,9460,10020,10900,"11530-33200","School Assistant ( Mathematics ) ","APSESS","14860-39540","15280-40510",null,null,null,"14860-39540","15280-40510","16150-42590","16150-42590","18030-43630",null,null,null,null,null,null,null,null,null,null,null,null,null,null,null,null,null,null,null,null,null,null,null,null,null,null,null,null,"","",38,"2202-03-102-00-17",199,"2202","General Education","03","University and Higher Education","102","Assistance to Universities","00",null,"17","Hindi Academy",null,null,null,null,null,null,null,null,null,null,null,null,null,null,null,null,null,null,1,12,"Medak","1811- SIDDIPETA","1811","SIDDIPETA","18","11"]
[136,3,"Chittoor",21,"Kurabalakota ",null,null,null,null,null,null,null,null,null,null,null,10020,10900,11530,"11860-34050","School Assistant ( Physical Science ) ","APSESS","14860-39540","15280-40510",null,null,null,"14860-39540","15280-40510","16150-42590","16150-42590","18030-43630",null,null,null,null,null,null,null,null,null,null,null,null,null,null,null,null,null,null,null,null,null,null,null,null,null,null,null,null,"","",39,"2202-03-102-00-75",200,"2202","General Education","03","University and Higher Education","102","Assistance to Universities","00",null,"75","Lumpsum Provision",null,null,null,null,null,null,null,null,null,null,null,null,null,null,null,null,null,null,1,12,"Medak","1812- ZAHIRABAD","1812","ZAHIRABAD","18","12"]
[137,3,"Chittoor",22,"Mandanpalle ",null,null,null,null,null,null,null,null,null,null,null,10900,11530,11860,"12550-35800","School Assistant ( Biological Science ) ","APSESS","14860-39540","15280-40510",null,null,null,"14860-39540","15280-40510","16150-42590","16150-42590","18030-43630",null,null,null,null,null,null,null,null,null,null,null,null,null,null,null,null,null,null,null,null,null,null,null,null,null,null,null,null,"","",40,"2202-03-102-11-04",201,"2202","General Education","03","University and Higher Education","102","Assistance to Universities","11","Normal State Plan","04","Osmania University",null,null,null,null,null,null,null,null,null,null,null,null,null,null,null,null,null,null,1,13,"Nalgonda","1902- ALAIR","1902","ALAIR","19","02"]
[138,3,"Chittoor",23,"Mulakalacheruvu ",null,null,null,null,null,null,null,null,null,null,null,11530,11860,12550,"12910-36700","School Assistant ( Social Studies ) ","APSESS","14860-39540","15280-40510",null,null,null,"14860-39540","15280-40510","16150-42590","16150-42590","18030-43630",null,null,null,null,null,null,null,null,null,null,null,null,null,null,null,null,null,null,null,null,null,null,null,null,null,null,null,null,"","",41,"2202-03-102-11-05",202,"2202","General Education","03","University and Higher Education","102","Assistance to Universities","11","Normal State Plan","05","Andhra University",null,null,null,null,null,null,null,null,null,null,null,null,null,null,null,null,null,null,1,13,"Nalgonda","1903- BHONGIR","1903","BHONGIR","19","03"]
[139,3,"Chittoor",24,"Nagalapuram ",null,null,null,null,null,null,null,null,null,null,null,11860,12550,12910,"13660-38570","School Assistant ( Physical Director ) ","APSESS","14860-39540","15280-40510",null,null,null,"14860-39540","15280-40510","16150-42590","16150-42590","18030-43630",null,null,null,null,null,null,null,null,null,null,null,null,null,null,null,null,null,null,null,null,null,null,null,null,null,null,null,null,"","",42,"2202-03-102-11-06",203,"2202","General Education","03","University and Higher Education","102","Assistance to Universities","11","Normal State Plan","06","Sri Venkateswara University",null,null,null,null,null,null,null,null,null,null,null,null,null,null,null,null,null,null,1,13,"Nalgonda","1904- CHANDUR","1904","CHANDUR","19","04"]
[140,3,"Chittoor",25,"Nagari ",null,null,null,null,null,null,null,null,null,null,null,12550,12910,13660,"14860-39540","School Assistant ( Sanscrit ) ","APSESS","14860-39540","15280-40510",null,null,null,"14860-39540","15280-40510","16150-42590","16150-42590","18030-43630",null,null,null,null,null,null,null,null,null,null,null,null,null,null,null,null,null,null,null,null,null,null,null,null,null,null,null,null,"","",43,"2202-03-102-11-07",204,"2202","General Education","03","University and Higher Education","102","Assistance to Universities","11","Normal State Plan","07","Kakatiya University",null,null,null,null,null,null,null,null,null,null,null,null,null,null,null,null,null,null,1,13,"Nalgonda","1905- DEVARAKONDA","1905","DEVARAKONDA","19","05"]
[141,3,"Chittoor",26,"Narayanavanam ",null,null,null,null,null,null,null,null,null,null,null,12910,13660,14860,"15280-40510","School Assistant ( Urdu ) ","APSESS","14860-39540","15280-40510",null,null,null,"14860-39540","15280-40510","16150-42590","16150-42590","18030-43630",null,null,null,null,null,null,null,null,null,null,null,null,null,null,null,null,null,null,null,null,null,null,null,null,null,null,null,null,"","",44,"2202-03-102-11-08",205,"2202","General Education","03","University and Higher Education","102","Assistance to Universities","11","Normal State Plan","08","Nagarjuna University",null,null,null,null,null,null,null,null,null,null,null,null,null,null,null,null,null,null,1,13,"Nalgonda","1906- HUZURNAGAR","1906","HUZURNAGAR","19","06"]
[142,3,"Chittoor",27,"Nimmanapalle ",null,null,null,null,null,null,null,null,null,null,null,13660,14860,15280,"16150-42590","Head Masters of Primary Schools","APSESS","14860-39540","15280-40510",null,null,null,"14860-39540","15280-40510","16150-42590","16150-42590","18030-43630",null,null,null,null,null,null,null,null,null,null,null,null,null,null,null,null,null,null,null,null,null,null,null,null,null,null,null,null,"","",45,"2202-03-102-11-09",206,"2202","General Education","03","University and Higher Education","102","Assistance to Universities","11","Normal State Plan","09","Sri Krishna Devaraya University",null,null,null,null,null,null,null,null,null,null,null,null,null,null,null,null,null,null,1,13,"Nalgonda","1907- KODAD","1907","KODAD","19","07"]
[143,3,"Chittoor",28,"Nindra  ",null,null,null,null,null,null,null,null,null,null,null,14860,15280,16150,"18030-43630","Secondary Grade Teacher","APSESS","10900-31550","11530-33200",null,null,null,"10900-31550","11530-33200","11860-34050","11860-34050","12550-35800",null,null,null,null,null,null,null,null,null,null,null,null,null,null,null,null,null,null,null,null,null,null,null,null,null,null,null,null,"","",46,"2202-03-102-11-10",207,"2202","General Education","03","University and Higher Education","102","Assistance to Universities","11","Normal State Plan","10","Dr. B.R. Ambedkar Open University",null,null,null,null,null,null,null,null,null,null,null,null,null,null,null,null,null,null,1,13,"Nalgonda","1908- MIRYALGUDA","1908","MIRYALGUDA","19","08"]
[144,3,"Chittoor",29,"Pakala ",null,null,null,null,null,null,null,null,null,null,null,15280,16150,18030,"19050-45850","Language Pandit ( Telugu )","APSESS","10900-31550","11530-33200",null,null,null,"10900-31550","11530-33200","11860-34050","11860-34050","12550-35800",null,null,null,null,null,null,null,null,null,null,null,null,null,null,null,null,null,null,null,null,null,null,null,null,null,null,null,null,"","",47,"2202-03-102-11-11",208,"2202","General Education","03","University and Higher Education","102","Assistance to Universities","11","Normal State Plan","11","Sri Padmavathi Mahila Viswa Vidyalayam",null,null,null,null,null,null,null,null,null,null,null,null,null,null,null,null,null,null,1,13,"Nalgonda","1909- MOTHKUR","1909","MOTHKUR","19","09"]
[145,3,"Chittoor",30,"Palamaner ",null,null,null,null,null,null,null,null,null,null,null,16150,18030,19050,"20680-46960","Language Pandit ( Hindi )","APSESS","10900-31550","11530-33200",null,null,null,"10900-31550","11530-33200","11860-34050","11860-34050","12550-35800",null,null,null,null,null,null,null,null,null,null,null,null,null,null,null,null,null,null,null,null,null,null,null,null,null,null,null,null,"","",48,"2202-03-102-11-16",209,"2202","General Education","03","University and Higher Education","102","Assistance to Universities","11","Normal State Plan","16","Dravidian University",null,null,null,null,null,null,null,null,null,null,null,null,null,null,null,null,null,null,1,13,"Nalgonda","1910- NAKREKAL","1910","NAKREKAL","19","10"]
[146,3,"Chittoor",31,"Palasamudram ",null,null,null,null,null,null,null,null,null,null,null,18030,19050,20680,"21820-48160","Language Pandit ( Urdu )","APSESS","10900-31550","11530-33200",null,null,null,"10900-31550","11530-33200","11860-34050","11860-34050","12550-35800",null,null,null,null,null,null,null,null,null,null,null,null,null,null,null,null,null,null,null,null,null,null,null,null,null,null,null,null,"","",49,"2202-03-102-11-20",210,"2202","General Education","03","University and Higher Education","102","Assistance to Universities","11","Normal State Plan","20","Adikavi Nannaya University",null,null,null,null,null,null,null,null,null,null,null,null,null,null,null,null,null,null,1,13,"Nalgonda","1901- NALGONDA","1901","NALGONDA","19","01"]
[147,3,"Chittoor",32,"Pedda Panjani",null,null,null,null,null,null,null,null,null,null,null,19050,20680,21820,"23650-49360","Physical Education Teacher","APSESS","10900-31550","11530-33200",null,null,null,"10900-31550","11530-33200","11860-34050","11860-34050","12550-35800",null,null,null,null,null,null,null,null,null,null,null,null,null,null,null,null,null,null,null,null,null,null,null,null,null,null,null,null,"","",50,"2202-03-102-11-21",211,"2202","General Education","03","University and Higher Education","102","Assistance to Universities","11","Normal State Plan","21","Telangana University",null,null,null,null,null,null,null,null,null,null,null,null,null,null,null,null,null,null,1,13,"Nalgonda","1911- NALGONDA","1911","NALGONDA","19","11"]
[148,3,"Chittoor",33,"Peddamandyam ",null,null,null,null,null,null,null,null,null,null,null,20680,21820,23650,"25600-50560","Drawing Teacher","APSESS","10900-31550","11530-33200",null,null,null,"10900-31550","11530-33200","11860-34050","11860-34050","12550-35800",null,null,null,null,null,null,null,null,null,null,null,null,null,null,null,null,null,null,null,null,null,null,null,null,null,null,null,null,"","",51,"2202-03-102-11-22",212,"2202","General Education","03","University and Higher Education","102","Assistance to Universities","11","Normal State Plan","22","Yogi Vemana University",null,null,null,null,null,null,null,null,null,null,null,null,null,null,null,null,null,null,1,13,"Nalgonda","1941-NALGONDA","1941","NALGONDA","19","41"]
[149,3,"Chittoor",34,"Peddathippasamudram ",null,null,null,null,null,null,null,null,null,null,null,21820,23650,25600,"27000-51760","Music Teacher","APSESS","10900-31550","11530-33200",null,null,null,"10900-31550","11530-33200","11860-34050","11860-34050","12550-35800",null,null,null,null,null,null,null,null,null,null,null,null,null,null,null,null,null,null,null,null,null,null,null,null,null,null,null,null,"","",52,"2202-03-102-11-23",213,"2202","General Education","03","University and Higher Education","102","Assistance to Universities","11","Normal State Plan","23","Mahatma Gandhi  University",null,null,null,null,null,null,null,null,null,null,null,null,null,null,null,null,null,null,1,13,"Nalgonda","1942-NALGONDA","1942","NALGONDA","19","42"]
[150,3,"Chittoor",35,"Penumuru ",null,null,null,null,null,null,null,null,null,null,null,23650,25600,27000,"29200-53060","Dance Teacher","APSESS","10900-31550","11530-33200",null,null,null,"10900-31550","11530-33200","11860-34050","11860-34050","12550-35800",null,null,null,null,null,null,null,null,null,null,null,null,null,null,null,null,null,null,null,null,null,null,null,null,null,null,null,null,"","",53,"2202-03-102-11-35",214,"2202","General Education","03","University and Higher Education","102","Assistance to Universities","11","Normal State Plan","35","Ambedkar University, Srikakulam",null,null,null,null,null,null,null,null,null,null,null,null,null,null,null,null,null,null,1,13,"Nalgonda","1913- NIDAMANOOR","1913","NIDAMANOOR","19","13"]
[151,3,"Chittoor",36,"Pichatur ",null,null,null,null,null,null,null,null,null,null,null,25600,27000,29200,"31550-53060","Vocational Training Instructor","APSESS","10900-31550","11530-33200",null,null,null,"10900-31550","11530-33200","11860-34050","11860-34050","12550-35800",null,null,null,null,null,null,null,null,null,null,null,null,null,null,null,null,null,null,null,null,null,null,null,null,null,null,null,null,"","",54,"2202-03-102-11-36",215,"2202","General Education","03","University and Higher Education","102","Assistance to Universities","11","Normal State Plan","36","Krishna University, Machilipatnam",null,null,null,null,null,null,null,null,null,null,null,null,null,null,null,null,null,null,1,13,"Nalgonda","1914- RAMANNAPETA","1914","RAMANNAPETA","19","14"]
[152,3,"Chittoor",37,"Pileru ",null,null,null,null,null,null,null,null,null,null,null,27000,29200,31550,"34050-54360","Superintendent","APMS","14860-39540","15280-40510",null,null,null,"14860-39540","15280-40510","16150-42590","16150-42590","18030-43630",null,null,null,null,null,null,null,null,null,null,null,null,null,null,null,null,null,null,null,null,null,null,null,null,null,null,null,null,"","",55,"2202-03-102-11-37",216,"2202","General Education","03","University and Higher Education","102","Assistance to Universities","11","Normal State Plan","37","Satavahana University, Karimnagar",null,null,null,null,null,null,null,null,null,null,null,null,null,null,null,null,null,null,1,13,"Nalgonda","1915- SURYAPETA","1915","SURYAPETA","19","15"]
[153,3,"Chittoor",38,"Pulicherla ",null,null,null,null,null,null,null,null,null,null,null,29200,31550,34050,"37600-54360","Senior Assistant","APMS","10900-31550","11530-33200",null,null,null,"10900-31550","11530-33200","11860-34050","11860-34050","12550-35800",null,null,null,null,null,null,null,null,null,null,null,null,null,null,null,null,null,null,null,null,null,null,null,null,null,null,null,null,"","",56,"2202-03-102-11-38",217,"2202","General Education","03","University and Higher Education","102","Assistance to Universities","11","Normal State Plan","38","Rayalaseema University, Kurnool",null,null,null,null,null,null,null,null,null,null,null,null,null,null,null,null,null,null,1,13,"Nalgonda","1916- THUNGATHURTHI","1916","THUNGATHURTHI","19","16"]
[154,3,"Chittoor",39,"Punganur ",null,null,null,null,null,null,null,null,null,null,null,31550,34050,37600,"41550-55660","Junior Assistant","APMS","8440-24950","9200-27000",null,null,null,"8440-24950","9200-27000","9460-27700","9460-27700","10020-29200",null,null,null,null,null,null,null,null,null,null,null,null,null,null,null,null,null,null,null,null,null,null,null,null,null,null,null,null,"","",57,"2202-03-102-11-39",218,"2202","General Education","03","University and Higher Education","102","Assistance to Universities","11","Normal State Plan","39","Palamur University, Mahabubnagar",null,null,null,null,null,null,null,null,null,null,null,null,null,null,null,null,null,null,1,14,"Nizamabad","2002- ARMOOR","2002","ARMOOR","20","02"]
[155,3,"Chittoor",40,"Puthalapattu ",null,null,null,null,null,null,null,null,null,null,null,34050,37600,41550,"44740-55660","Librarian High Schools",{"$f":"V220","v":"APMS"},"8440-24950","9200-27000",null,null,null,"8440-24950","9200-27000","9460-27700","9460-27700","10020-29200",null,null,null,null,null,null,null,null,null,null,null,null,null,null,null,null,null,null,null,null,null,null,null,null,null,null,null,null,"","",58,"2202-03-102-11-40",219,"2202","General Education","03","University and Higher Education","102","Assistance to Universities","11","Normal State Plan","40","Vikramasimhapuri  University, Nellore",null,null,null,null,null,null,null,null,null,null,null,null,null,null,null,null,null,null,1,14,"Nizamabad","2004- BANSWADA","2004","BANSWADA","20","04"]
[156,3,"Chittoor",41,"Puttur ",null,null,null,null,null,null,null,null,null,null,null,37600,41550,44740,null,"Film Operator","APSESS","9460-27700","10020-29200",null,null,null,"9460-27700","10020-29200","10900-31550","10900-31550","11530-33200",null,null,null,null,null,null,null,null,null,null,null,null,null,null,null,null,null,null,null,null,null,null,null,null,null,null,null,null,"","",59,"2202-03-102-11-41",220,"2202","General Education","03","University and Higher Education","102","Assistance to Universities","11","Normal State Plan","41","Lumpsum provision for additional commitment for UGC Pay Scales (20% arrears of UGC Scales from 1.1.06 to 31.3.10)",null,null,null,null,null,null,null,null,null,null,null,null,null,null,null,null,null,null,1,14,"Nizamabad","2005- BHEEMGAL","2005","BHEEMGAL","20","05"]
[157,3,"Chittoor",42,"Rama Kuppam",null,null,null,null,null,null,null,null,null,null,null,41550,44740,null,null,"Record Assistant","APGSS","7740-23040","7960-23650",null,null,null,"7740-23040","7960-23650","8440-24950","8440-24950","9200-27000",null,null,null,null,null,null,null,null,null,null,null,null,null,null,null,null,null,null,null,null,null,null,null,null,null,null,null,null,"","",60,"2202-03-103-00-04",221,"2202","General Education","03","University and Higher Education","103","Government Colleges and Institutes","00",null,"04","Government Junior Colleges",null,null,null,null,null,null,null,null,null,null,null,null,null,null,null,null,null,null,1,14,"Nizamabad","2006- BODHAN","2006","BODHAN","20","06"]
[158,3,"Chittoor",43,"Ramachandrapuram ",null,null,null,null,null,null,null,null,null,null,null,44740,null,null,null,"Office Subordinate","APLGS","6700-20110","6900-20680",null,null,null,"6700-20110","7520-22430","7740-23040","7740-23040","7960-23650",null,null,null,null,null,null,null,null,null,null,null,null,null,null,null,null,null,null,null,null,null,null,null,null,null,null,null,null,"","",61,"2202-03-103-00-07",222,"2202","General Education","03","University and Higher Education","103","Government Colleges and Institutes","00",null,"07","Government Degree Colleges",null,null,null,null,null,null,null,null,null,null,null,null,null,null,null,null,null,null,1,14,"Nizamabad","2008- KAMAREDDY","2008","KAMAREDDY","20","08"]
[159,3,"Chittoor",44,"Ramasamudram ",null,null,null,null,null,null,null,null,null,null,null,null,null,null,null,"Sweeper","APLGS","6700-20110","6900-20680",null,null,null,"6700-20110","7520-22430","7740-23040","7740-23040","7960-23650",null,null,null,null,null,null,null,null,null,null,null,null,null,null,null,null,null,null,null,null,null,null,null,null,null,null,null,null,"","",62,"2202-03-103-11-04",223,"2202","General Education","03","University and Higher Education","103","Government Colleges and Institutes","11","Normal State Plan","04","Government Junior Colleges",null,null,null,null,null,null,null,null,null,null,null,null,null,null,null,null,null,null,1,14,"Nizamabad","2009- MADNOOR","2009","MADNOOR","20","09"]
[160,3,"Chittoor",45,"Renigunta ",null,null,null,null,null,null,null,null,null,null,null,null,null,null,null,"Gardinar","APLGS","6700-20110","6900-20680",null,null,null,"6700-20110","7520-22430","7740-23040","7740-23040","7960-23650",null,null,null,null,null,null,null,null,null,null,null,null,null,null,null,null,null,null,null,null,null,null,null,null,null,null,null,null,"","",63,"2202-03-103-11-05",224,"2202","General Education","03","University and Higher Education","103","Government Colleges and Institutes","11","Normal State Plan","05","Government Vocational Junior Colleges",null,null,null,null,null,null,null,null,null,null,null,null,null,null,null,null,null,null,1,14,"Nizamabad","2001- NIZAMABAD","2001","NIZAMABAD","20","01"]
[161,3,"Chittoor",46,"Rompicherla ",null,null,null,null,null,null,null,null,null,null,null,null,null,null,null,"Scavenger","APLGS","6700-20110","6900-20680",null,null,null,"6700-20110","7520-22430","7740-23040","7740-23040","7960-23650",null,null,null,null,null,null,null,null,null,null,null,null,null,null,null,null,null,null,null,null,null,null,null,null,null,null,null,null,"","",64,"2202-03-103-11-07",225,"2202","General Education","03","University and Higher Education","103","Government Colleges and Institutes","11","Normal State Plan","07","Government Degree Colleges",null,null,null,null,null,null,null,null,null,null,null,null,null,null,null,null,null,null,1,14,"Nizamabad","2010- NIZAMABAD","2010","NIZAMABAD","20","10"]
[162,3,"Chittoor",47,"Santhi Puram",null,null,null,null,null,null,null,null,null,null,null,null,null,null,null,{"$f":"Main!K811","v":0},"Public Services",null,null,null,null,null,null,null,null,null,null,null,null,null,null,null,null,null,null,null,null,null,null,null,null,null,null,null,null,null,null,null,null,null,null,null,null,null,null,"","",65,"2202-03-104-00-04",226,"2202","General Education","03","University and Higher Education","104","Assistance to Non-Government Colleges and Institutes","00",null,"04","Assistance to Non-Government Aided Institutions",null,null,null,null,null,null,null,null,null,null,null,null,null,null,null,null,null,null,1,14,"Nizamabad","2042-NIZAMABAD","2042","NIZAMABAD","20","42"]
[163,3,"Chittoor",48,"Satyavedu ",null,null,null,null,null,null,null,null,null,null,null,null,null,null,null,{"$f":"Main!O821","v":0},null,null,null,null,null,null,null,null,null,null,null,null,null,null,null,null,null,null,null,null,null,null,null,null,null,null,null,null,null,null,null,null,null,null,null,null,null,null,null,"","",66,"2202-03-104-00-05",227,"2202","General Education","03","University and Higher Education","104","Assistance to Non-Government Colleges and Institutes","00",null,"05","Assistance to A.P. Residential Educational Institutions Society (C.E)",null,null,null,null,null,null,null,null,null,null,null,null,null,null,null,null,null,null,1,14,"Nizamabad","2003-POCHAMPADU","2003","POCHAMPADU","20","03"]
[164,3,"Chittoor",49,"Sodam ",null,null,null,null,null,null,null,null,null,null,null,null,null,null,null,{"$f":"X226","v":"6900-20680"},{"$f":"VALUE(IF(TYPE(VALUE(MID(U230,1,5)))=16,VALUE(MID(U230,1,4)),VALUE(MID(U230,1,5))))","v":6900},{"$f":"W227","v":"6700-20110"},null,{"$f":"IF(VALUE(MID(W230,6,10))<0,VALUE(MID(W230,7,10)),VALUE(MID(W230,6,10)))","v":20110},null,null,null,null,null,null,null,null,null,null,null,null,null,null,null,null,null,null,null,null,null,null,null,null,null,null,null,null,null,null,null,null,null,null,null,"","",67,"2202-03-104-00-06",228,"2202","General Education","03","University and Higher Education","104","Assistance to Non-Government Colleges and Institutes","00",null,"06","Assistance to Aided Colleges",null,null,null,null,null,null,null,null,null,null,null,null,null,null,null,null,null,null,1,14,"Nizamabad","2011- YELLAREDDY","2011","YELLAREDDY","20","11"]
[165,3,"Chittoor",50,"Somala ",null,null,null,null,null,null,null,null,null,null,null,null,null,null,null,null,{"$f":"VALUE(IF(TYPE(VALUE(MID(W230,1,5)))=16,VALUE(MID(W230,1,4)),VALUE(MID(W230,1,5))))","v":6700},null,null,null,null,null,null,null,null,null,null,null,null,null,null,null,null,null,null,null,null,null,null,null,null,null,null,null,null,null,null,null,null,null,null,null,null,null,null,"","",68,"2202-03-104-00-08",229,"2202","General Education","03","University and Higher Education","104","Assistance to Non-Government Colleges and Institutes","00",null,"08","Assistance to A.P Residential Educational Institutional Societies (I.E)",null,null,null,null,null,null,null,null,null,null,null,null,null,null,null,null,null,null,1,15,"Prakasam","0702- ADDANKI","0702","ADDANKI","07","02"]
[166,3,"Chittoor",51,"Srikalahasti ",null,null,null,null,null,null,null,null,null,null,null,null,null,null,null,null,null,null,null,null,null,null,null,null,null,null,null,null,null,null,null,null,null,null,null,null,null,null,null,null,null,null,null,null,null,null,null,null,null,null,null,null,null,null,null,"","",69,"2202-03-104-00-09",230,"2202","General Education","03","University and Higher Education","104","Assistance to Non-Government Colleges and Institutes","00",null,"09","Assistance to Residential Junior Colleges for S.T. Students",null,null,null,null,null,null,null,null,null,null,null,null,null,null,null,null,null,null,1,15,"Prakasam","0703- CHIRALA","0703","CHIRALA","07","03"]
[167,3,"Chittoor",52,"Srirangarajapuram ",null,null,null,null,null,null,null,null,null,null,null,null,null,null,null,null,null,null,null,null,null,null,null,null,null,null,null,null,null,null,null,null,null,null,null,null,null,null,null,null,null,null,null,null,null,null,null,null,null,null,null,null,null,null,null,"","",70,"2202-03-104-00-75",231,"2202","General Education","03","University and Higher Education","104","Assistance to Non-Government Colleges and Institutes","00",null,"75","Lumpsum Provision",null,null,null,null,null,null,null,null,null,null,null,null,null,null,null,null,null,null,1,15,"Prakasam","0704- CUMBUM","0704","CUMBUM","07","04"]
[168,3,"Chittoor",53,"Thamballapalle ",null,null,null,null,null,null,null,null,null,null,null,null,null,null,null,null,null,null,null,null,null,null,null,null,null,null,null,null,null,null,null,null,null,null,null,null,null,null,null,null,null,null,null,null,null,null,null,null,null,null,null,null,null,null,null,"","",71,"2202-03-106-00-04",232,"2202","General Education","03","University and Higher Education","106","Text Books Development","00",null,"04","Assistance to Telugu Academy",null,null,null,null,null,null,null,null,null,null,null,null,null,null,null,null,null,null,1,15,"Prakasam","0705- DARSI","0705","DARSI","07","05"]
[169,3,"Chittoor",54,"Thavanampalle ",null,null,null,null,null,null,null,null,null,null,null,null,null,null,null,null,null,null,null,null,null,null,null,null,null,null,null,null,null,null,null,null,null,null,null,null,null,null,null,null,null,null,null,null,null,null,null,null,null,null,null,null,null,null,null,"","",72,"2202-03-106-10-04",233,"2202","General Education","03","University and Higher Education","106","Text Books Development","10","Centrally Sponsored Schemes","04","Assistance to Telugu Academy",null,null,null,null,null,null,null,null,null,null,null,null,null,null,null,null,null,null,1,15,"Prakasam","0706- GIDDALUR","0706","GIDDALUR","07","06"]
[170,3,"Chittoor",55,"Thottambedu ",null,null,null,null,null,null,null,null,null,null,null,null,null,null,null,null,null,null,null,null,null,null,null,null,null,null,null,null,null,null,null,null,null,null,null,null,null,null,null,null,null,null,null,null,null,null,null,null,null,null,null,null,null,null,null,"","",73,"2202-03-112-00-04",234,"2202","General Education","03","University and Higher Education","112","Institutes of Higher Learning","00",null,"04","Assistance to A.P. State Council of Higher Education",null,null,null,null,null,null,null,null,null,null,null,null,null,null,null,null,null,null,1,15,"Prakasam","0707- KANDUKUR","0707","KANDUKUR","07","07"]
[171,3,"Chittoor",56,"Tirupati Rural",null,null,null,null,null,null,null,null,null,null,null,null,null,null,null,null,null,null,null,null,null,null,null,null,null,null,null,null,null,null,null,null,null,null,null,null,null,null,null,null,null,null,null,null,null,null,null,null,null,null,null,null,null,null,null,"","",74,"2202-03-112-11-04",235,"2202","General Education","03","University and Higher Education","112","Institutes of Higher Learning","11","Normal State Plan","04","Assistance to A.P State Council of Higher Education",null,null,null,null,null,null,null,null,null,null,null,null,null,null,null,null,null,null,1,15,"Prakasam","0708- KANIGIRI","0708","KANIGIRI","07","08"]
[172,3,"Chittoor",57,"Tirupati Urban",null,null,null,null,null,null,null,null,null,null,null,null,null,null,null,null,null,null,null,null,null,null,null,null,null,null,null,null,null,null,null,null,null,null,null,null,null,null,null,null,null,null,null,null,null,null,null,null,null,null,null,null,null,null,null,"","",75,"2202-03-789-11-12",236,"2202","General Education","03","University and Higher Education","789","Special Component Plan for Scheduled Castes","11","Normal State Plan","12","Osmania University",null,null,null,null,null,null,null,null,null,null,null,null,null,null,null,null,null,null,1,15,"Prakasam","0709- MARKAPUR","0709","MARKAPUR","07","09"]
[173,3,"Chittoor",58,"Vadamalapeta ",null,null,null,null,null,null,null,null,null,null,null,null,null,null,null,null,null,null,null,null,null,null,null,null,null,null,null,null,null,null,null,null,null,null,null,null,null,null,null,null,null,null,null,null,null,null,null,null,null,null,null,null,null,null,null,"","",76,"2202-03-789-11-13",237,"2202","General Education","03","University and Higher Education","789","Special Component Plan for Scheduled Castes","11","Normal State Plan","13","Andhra University",null,null,null,null,null,null,null,null,null,null,null,null,null,null,null,null,null,null,1,15,"Prakasam","0710- MARTUR","0710","MARTUR","07","10"]
[174,3,"Chittoor",59,"Varadaiahpalem ",null,null,null,null,null,null,null,null,null,null,null,null,null,null,null,null,null,null,null,null,null,null,null,null,null,null,null,null,null,null,null,null,null,null,null,null,null,null,null,null,null,null,null,null,null,null,null,null,null,null,null,null,null,null,null,"","",77,"2202-03-789-11-14",238,"2202","General Education","03","University and Higher Education","789","Special Component Plan for Scheduled Castes","11","Normal State Plan","14","Sri Venkateswara University",null,null,null,null,null,null,null,null,null,null,null,null,null,null,null,null,null,null,1,15,"Prakasam","0711- ONGOLE","0711","ONGOLE","07","11"]
[175,3,"Chittoor",60,"Vayalpad ",null,null,null,null,null,null,null,null,null,null,null,null,null,null,null,null,null,null,null,null,null,null,null,null,null,null,null,null,null,null,null,null,null,null,null,null,null,null,null,null,null,null,null,null,null,null,null,null,null,null,null,null,null,null,null,"","",78,"2202-03-789-11-15",239,"2202","General Education","03","University and Higher Education","789","Special Component Plan for Scheduled Castes","11","Normal State Plan","15","Kakatiya University",null,null,null,null,null,null,null,null,null,null,null,null,null,null,null,null,null,null,1,15,"Prakasam","0712- PODILI","0712","PODILI","07","12"]
[176,3,"Chittoor",61,"Veduru Kuppam",null,null,null,null,null,null,null,null,null,null,null,null,null,null,null,null,null,null,null,null,null,null,null,null,null,null,null,null,null,null,null,null,null,null,null,null,null,null,null,null,null,null,null,null,null,null,null,null,null,null,null,null,null,null,null,"","",79,"2202-03-789-11-16",240,"2202","General Education","03","University and Higher Education","789","Special Component Plan for Scheduled Castes","11","Normal State Plan","16","Nagarjuna University",null,null,null,null,null,null,null,null,null,null,null,null,null,null,null,null,null,null,1,15,"Prakasam","0701- PRAKASAM","0701","PRAKASAM","07","01"]
[177,3,"Chittoor",62,"Venkatagiri Kota",null,null,null,null,null,null,null,null,null,null,null,null,null,null,null,null,null,null,null,null,null,null,null,null,null,null,null,null,null,null,null,null,null,null,null,null,null,null,null,null,null,null,null,null,null,null,null,null,null,null,null,null,null,null,null,"","",80,"2202-03-789-11-17",241,"2202","General Education","03","University and Higher Education","789","Special Component Plan for Scheduled Castes","11","Normal State Plan","17","Sri Krishna Devaraya University",null,null,null,null,null,null,null,null,null,null,null,null,null,null,null,null,null,null,1,15,"Prakasam","0741-PRAKASAM","0741","PRAKASAM","07","41"]
[178,3,"Chittoor",63,"Vijaya Puram",null,null,null,null,null,null,null,null,null,null,null,null,null,null,null,null,null,null,null,null,null,null,null,null,null,null,null,null,null,null,null,null,null,null,null,null,null,null,null,null,null,null,null,null,null,null,null,null,null,null,null,null,null,null,null,"","",81,"2202-03-789-11-18",242,"2202","General Education","03","University and Higher Education","789","Special Component Plan for Scheduled Castes","11","Normal State Plan","18","Dr. B.R. Ambedkar Open University",null,null,null,null,null,null,null,null,null,null,null,null,null,null,null,null,null,null,1,15,"Prakasam","0713- YERRAGONDAPALEM","0713","YERRAGONDAPALEM","07","13"]
[179,3,"Chittoor",64,"Yadamari ",null,null,null,null,null,null,null,null,null,null,null,null,null,null,null,null,null,null,null,null,null,null,null,null,null,null,null,null,null,null,null,null,null,null,null,null,null,null,null,null,null,null,null,null,null,null,null,null,null,null,null,null,null,null,null,"","",82,"2202-03-789-11-19",243,"2202","General Education","03","University and Higher Education","789","Special Component Plan for Scheduled Castes","11","Normal State Plan","19","Sri Padmavathi Mahila Viswa Vidyalayam",null,null,null,null,null,null,null,null,null,null,null,null,null,null,null,null,null,null,1,16,"Ranga Reddy","1402- CHEVELLA","1402","CHEVELLA","14","02"]
[180,3,"Chittoor",65,"Yerpedu ",null,null,null,null,null,null,null,null,null,null,null,null,null,null,null,null,null,null,null,null,null,null,null,null,null,null,null,null,null,null,null,null,null,null,null,null,null,null,null,null,null,null,null,null,null,null,null,null,null,null,null,null,null,null,null,"","",83,"2202-03-789-11-21",244,"2202","General Education","03","University and Higher Education","789","Special Component Plan for Scheduled Castes","11","Normal State Plan","21","Dravidian University",null,null,null,null,null,null,null,null,null,null,null,null,null,null,null,null,null,null,1,16,"Ranga Reddy","1403- HYATHNAGAR","1403","HYATHNAGAR","14","03"]
[181,3,"Chittoor",66,"Yerravaripalem ",null,null,null,null,null,null,null,null,null,null,null,null,null,null,null,null,null,null,null,null,null,null,null,null,null,null,null,null,null,null,null,null,null,null,null,null,null,null,null,null,null,null,null,null,null,null,null,null,null,null,null,null,null,null,null,"",null,84,"2202-03-789-11-22",245,"2202","General Education","03","University and Higher Education","789","Special Component Plan for Scheduled Castes","11","Normal State Plan","22","Adikavi Nannaya University",null,null,null,null,null,null,null,null,null,null,null,null,null,null,null,null,null,null,1,16,"Ranga Reddy","1404- IBRAHIMPATNAM","1404","IBRAHIMPATNAM","14","04"]
[182,4,"East Godavari",1,"Addateegala ",null,null,null,null,null,null,null,null,null,null,null,null,null,null,null,null,null,null,null,null,null,null,null,null,null,null,null,null,null,null,null,null,null,null,null,null,null,null,null,null,null,null,null,null,null,null,null,null,null,null,null,null,null,null,null,"",null,85,"2202-03-789-11-23",246,"2202","General Education","03","University and Higher Education","789","Special Component Plan for Scheduled Castes","11","Normal State Plan","23","Telangana University",null,null,null,null,null,null,null,null,null,null,null,null,null,null,null,null,null,null,1,16,"Ranga Reddy","1405- MAHESWARAM","1405","MAHESWARAM","14","05"]
[183,4,"East Godavari",2,"Ainavilli ",null,null,null,null,null,null,null,null,null,null,null,null,null,null,null,null,null,null,null,null,null,null,null,null,null,null,null,null,null,null,null,null,null,null,null,null,null,null,null,null,null,null,null,null,null,null,null,null,null,null,null,null,null,null,null,"",null,86,"2202-03-789-11-24",247,"2202","General Education","03","University and Higher Education","789","Special Component Plan for Scheduled Castes","11","Normal State Plan","24","Yogi Vemana University",null,null,null,null,null,null,null,null,null,null,null,null,null,null,null,null,null,null,1,16,"Ranga Reddy","1406- MEDCHAL","1406","MEDCHAL","14","06"]
[184,4,"East Godavari",3,"Alamuru ",null,null,null,null,null,null,null,null,null,null,null,null,null,null,null,null,null,null,null,null,null,null,null,null,null,null,null,null,null,null,null,null,null,null,null,null,null,null,null,null,null,null,null,null,null,null,null,null,null,null,null,null,null,null,null,"",null,87,"2202-03-789-11-25",248,"2202","General Education","03","University and Higher Education","789","Special Component Plan for Scheduled Castes","11","Normal State Plan","25","Mahatma Gandhi  University",null,null,null,null,null,null,null,null,null,null,null,null,null,null,null,null,null,null,1,16,"Ranga Reddy","1407- PARGI","1407","PARGI","14","07"]
[185,4,"East Godavari",4,"Allavaram ",null,null,null,null,null,null,null,null,null,null,null,null,null,null,null,null,null,null,null,null,null,null,null,null,null,null,null,null,null,null,null,null,null,null,null,null,null,null,null,null,null,null,null,null,null,null,null,null,null,null,null,null,null,null,null,"",null,88,"2202-03-789-11-32",249,"2202","General Education","03","University and Higher Education","789","Special Component Plan for Scheduled Castes","11","Normal State Plan","32","Government Junior Colleges",null,null,null,null,null,null,null,null,null,null,null,null,null,null,null,null,null,null,1,16,"Ranga Reddy","1408- RAJENDRANAGAR","1408","RAJENDRANAGAR","14","08"]
[186,4,"East Godavari",5,"Amalapuram ",null,null,null,null,null,null,null,null,null,null,null,null,null,null,null,null,null,null,null,null,null,null,null,null,null,null,null,null,null,null,null,null,null,null,null,null,null,null,null,null,null,null,null,null,null,null,null,null,null,null,null,null,null,null,null,"",null,89,"2202-03-789-11-33",250,"2202","General Education","03","University and Higher Education","789","Special Component Plan for Scheduled Castes","11","Normal State Plan","33","Government Vocational Junior Colleges",null,null,null,null,null,null,null,null,null,null,null,null,null,null,null,null,null,null,1,16,"Ranga Reddy","1401- RANGAREDDY","1401","RANGAREDDY","14","01"]
[187,4,"East Godavari",6,"Ambajipeta ",null,null,null,null,null,null,null,null,null,null,null,null,null,null,null,null,null,null,null,null,null,null,null,null,null,null,null,null,null,null,null,null,null,null,null,null,null,null,null,null,null,null,null,null,null,null,null,null,null,null,null,null,null,null,null,"",null,90,"2202-03-789-11-41",251,"2202","General Education","03","University and Higher Education","789","Special Component Plan for Scheduled Castes","11","Normal State Plan","41","Lumpsum provision for additional commitment for UGC Pay Scales (20% arrears of UGC Scales from 1.1.06 to 31.3.10)",null,null,null,null,null,null,null,null,null,null,null,null,null,null,null,null,null,null,1,16,"Ranga Reddy","1411-RANGAREDDY","1411","RANGAREDDY","14","11"]
[188,4,"East Godavari",7,"Anaparthi ",null,null,null,null,null,null,null,null,null,null,null,null,null,null,null,null,null,null,null,null,null,null,null,null,null,null,null,null,null,null,null,null,null,null,null,null,null,null,null,null,null,null,null,null,null,null,null,null,null,null,null,null,null,null,null,"",null,91,"2202-03-796-11-04",252,"2202","General Education","03","University and Higher Education","796","Tribal Area Sub-Plan","11","Normal State Plan","04","Assistance to Residential Junior Colleges for Scheduled Tribe Students",null,null,null,null,null,null,null,null,null,null,null,null,null,null,null,null,null,null,1,16,"Ranga Reddy","1441-RANGAREDDY","1441","RANGAREDDY","14","41"]
[189,4,"East Godavari",8,"Atreyapuram ",null,null,null,null,null,null,null,null,null,null,null,null,null,null,null,null,null,null,null,null,null,null,null,null,null,null,null,null,null,null,null,null,null,null,null,null,null,null,null,null,null,null,null,null,null,null,null,null,null,null,null,null,null,null,null,"",null,92,"2202-03-796-11-06",253,"2202","General Education","03","University and Higher Education","796","Tribal Area Sub-Plan","11","Normal State Plan","06","Government Degree Colleges in RIAD Areas",null,null,null,null,null,null,null,null,null,null,null,null,null,null,null,null,null,null,1,16,"Ranga Reddy","1409- TANDUR","1409","TANDUR","14","09"]
[190,4,"East Godavari",9,"Biccavolu ",null,null,null,null,null,null,null,null,null,null,null,null,null,null,null,null,null,null,null,null,null,null,null,null,null,null,null,null,null,null,null,null,null,null,null,null,null,null,null,null,null,null,null,null,null,null,null,null,null,null,null,null,null,null,null,"",null,93,"2202-03-796-11-12",254,"2202","General Education","03","University and Higher Education","796","Tribal Area Sub-Plan","11","Normal State Plan","12","Osmania University",null,null,null,null,null,null,null,null,null,null,null,null,null,null,null,null,null,null,1,16,"Ranga Reddy","1410- VIKARABAD","1410","VIKARABAD","14","10"]
[191,4,"East Godavari",10,"Devipatnam ",null,null,null,null,null,null,null,null,null,null,null,null,null,null,null,null,null,null,null,null,null,null,null,null,null,null,null,null,null,null,null,null,null,null,null,null,null,null,null,null,null,null,null,null,null,null,null,null,null,null,null,null,null,null,null,"",null,94,"2202-03-796-11-13",255,"2202","General Education","03","University and Higher Education","796","Tribal Area Sub-Plan","11","Normal State Plan","13","Andhra University",null,null,null,null,null,null,null,null,null,null,null,null,null,null,null,null,null,null,2,17,"Sri Pottisreeramulu Nellore","0804- ATMAKUR","0804","ATMAKUR","08","04",4828,"State Bank Of India (SBI) ADB , Atmakur"]
[192,4,"East Godavari",11,"Gandepalle ",null,null,null,null,null,null,null,null,null,null,null,null,null,null,null,null,null,null,null,null,null,null,null,null,null,null,null,null,null,null,null,null,null,null,null,null,null,null,null,null,null,null,null,null,null,null,null,null,null,null,null,null,null,null,null,"",null,95,"2202-03-796-11-14",256,"2202","General Education","03","University and Higher Education","796","Tribal Area Sub-Plan","11","Normal State Plan","14","Sri Venkateswara University",null,null,null,null,null,null,null,null,null,null,null,null,null,null,null,null,null,null,{"$f":"IF(EXACT($CO$1,CR258),CP257+1,1)","v":3},17,"Sri Pottisreeramulu Nellore","0809- BUCHIREDDYPALEM","0809","BUCHIREDDYPALEM","08","09",3472,"Syndicate Bank, Buchireddipalem"]
[193,4,"East Godavari",12,"Gangavaram ",null,null,null,null,null,null,null,null,null,null,null,null,null,null,null,null,null,null,null,null,null,null,null,null,null,null,null,null,null,null,null,null,null,null,null,null,null,null,null,null,null,null,null,null,null,null,null,null,null,null,null,null,null,null,null,"",null,96,{"$f":"CONCATENATE(BN259,\"-\",BP259,\"-\",BR259,\"-\",BT259,\"-\",BV259)","v":"2202-03-796-11-15"},257,"2202","General Education","03","University and Higher Education","796","Tribal Area Sub-Plan","11","Normal State Plan","15","Kakatiya University",null,null,null,null,null,null,null,null,null,null,null,null,null,null,null,null,null,null,4,17,"Sri Pottisreeramulu Nellore","0803- GUDUR","0803","GUDUR","08","03","0843","State Bank Of India (SBI), Gudur"]
[194,4,"East Godavari",13,"Gokavaram ",null,null,null,null,null,null,null,null,null,null,null,null,null,null,null,null,null,null,null,null,null,null,null,null,null,null,null,null,null,null,null,null,null,null,null,null,null,null,null,null,null,null,null,null,null,null,null,null,null,null,null,null,null,null,null,"",null,{"$f":"IF(EXACT($E$25,BN260),BK259+1,1)","v":97},"2202-03-796-11-16",258,"2202","General Education","03","University and Higher Education","796","Tribal Area Sub-Plan","11","Normal State Plan","16","Nagarjuna University",null,null,null,null,null,null,null,null,null,null,null,null,null,null,null,null,null,null,5,17,"Sri Pottisreeramulu Nellore","0815- INDUKURPETA","0815","INDUKURPETA","08","15",3353,"State Bank Of India (SBI), Indukurpet"]
[195,4,"East Godavari",14,"Gollaprolu ",null,null,null,null,null,null,null,null,null,null,null,null,null,null,null,null,null,null,null,null,null,null,null,null,null,null,null,null,null,null,null,null,null,null,null,null,null,null,null,null,null,null,null,null,null,null,null,null,null,null,null,null,null,null,null,{"$f":"IF(BI260=\"\",\"\",IF(BI260=MIN(BI260+1,MAX(BK261:BK1271)),\"\",MIN(BI260+1,MAX(BK261:BK1271))))","v":""},null,98,"2202-03-796-11-17",259,"2202","General Education","03","University and Higher Education","796","Tribal Area Sub-Plan","11","Normal State Plan","17","Sri Krishna Devaraya University",null,null,null,null,null,null,null,null,null,null,null,null,null,null,null,null,null,null,6,17,"Sri Pottisreeramulu Nellore","0805- KAVALI","0805","KAVALI","08","05","0858","State Bank Of India (SBI), Kavali"]
[196,4,"East Godavari",15,"I Polavaram",null,null,null,null,null,null,null,null,null,null,null,null,null,null,null,null,null,null,null,null,null,null,null,null,null,null,null,null,null,null,null,null,null,null,null,null,null,null,null,null,null,null,null,null,null,null,null,null,null,null,null,null,null,null,null,"",null,99,"2202-03-796-11-18",260,"2202","General Education","03","University and Higher Education","796","Tribal Area Sub-Plan","11","Normal State Plan","18","Dr. B.R. Ambedkar Open University",null,null,null,null,null,null,null,null,null,null,null,null,null,null,null,null,null,null,7,17,"Sri Pottisreeramulu Nellore","0806- KOVUR","0806","KOVUR","08","06","0798","State Bank Of India (SBI), Kovur"]
[197,4,"East Godavari",16,"Jaggampeta ",null,null,null,null,null,null,null,null,null,null,null,null,null,null,null,null,null,null,null,null,null,null,null,null,null,null,null,null,null,null,null,null,null,null,null,null,null,null,null,null,null,null,null,null,null,null,null,null,null,null,null,null,null,null,null,"",null,100,"2202-03-796-11-19",261,"2202","General Education","03","University and Higher Education","796","Tribal Area Sub-Plan","11","Normal State Plan","19","Sri Padmavathi Mahila Viswa Vidyalayam",null,null,null,null,null,null,null,null,null,null,null,null,null,null,null,null,null,null,8,17,"Sri Pottisreeramulu Nellore","0813- NAIDUPETA","0813","NAIDUPETA","08","13",5917,"State Bank Of India (SBI) ADB , Naidupet"]
[198,4,"East Godavari",17,"Kadiam ",null,null,null,null,null,null,null,null,null,null,null,null,null,null,null,null,null,null,null,null,null,null,null,null,null,null,null,null,null,null,null,null,null,null,null,null,null,null,null,null,null,null,null,null,null,null,null,null,null,null,null,null,null,null,null,"",null,101,"2202-03-796-11-21",262,"2202","General Education","03","University and Higher Education","796","Tribal Area Sub-Plan","11","Normal State Plan","21","Dravidian University",null,null,null,null,null,null,null,null,null,null,null,null,null,null,null,null,null,null,9,17,"Sri Pottisreeramulu Nellore","0801- NELLORE","0801","NELLORE","08","01","0887","State Bank Of India (SBI), Nellore"]
[199,4,"East Godavari",18,"Kajuluru ",null,null,null,null,null,null,null,null,null,null,null,null,null,null,null,null,null,null,null,null,null,null,null,null,null,null,null,null,null,null,null,null,null,null,null,null,null,null,null,null,null,null,null,null,null,null,null,null,null,null,null,null,null,null,null,"",null,102,"2202-03-796-11-22",263,"2202","General Education","03","University and Higher Education","796","Tribal Area Sub-Plan","11","Normal State Plan","22","Adikavi Nannaya University",null,null,null,null,null,null,null,null,null,null,null,null,null,null,null,null,null,null,10,17,"Sri Pottisreeramulu Nellore","0802- NELLORE","0802","NELLORE","08","02","0887","State Bank Of India (SBI), Nellore"]
[200,4,"East Godavari",19,"Kakinada (Rural)",null,null,null,null,null,null,null,null,null,null,null,null,null,null,null,null,null,null,null,null,null,null,null,null,null,null,null,null,null,null,null,null,null,null,null,null,null,null,null,null,null,null,null,null,null,null,null,null,null,null,null,null,null,null,null,"",null,103,"2202-03-796-11-23",264,"2202","General Education","03","University and Higher Education","796","Tribal Area Sub-Plan","11","Normal State Plan","23","Telangana University",null,null,null,null,null,null,null,null,null,null,null,null,null,null,null,null,null,null,11,17,"Sri Pottisreeramulu Nellore","0812- PODALAKUR","0812","PODALAKUR","08","12",6052,"State Bank Of India (SBI) ADB , Podalakur"]
[201,4,"East Godavari",20,"Kakunada (Urban)",null,null,null,null,null,null,null,null,null,null,null,null,null,null,null,null,null,null,null,null,null,null,null,null,null,null,null,null,null,null,null,null,null,null,null,null,null,null,null,null,null,null,null,null,null,null,null,null,null,null,null,null,null,null,null,"",null,104,"2202-03-796-11-24",265,"2202","General Education","03","University and Higher Education","796","Tribal Area Sub-Plan","11","Normal State Plan","24","Yogi Vemana University",null,null,null,null,null,null,null,null,null,null,null,null,null,null,null,null,null,null,12,17,"Sri Pottisreeramulu Nellore","0814- RAPUR","0814","RAPUR","08","14",3468,"Syndicate Bank, Rapur"]
[202,4,"East Godavari",21,"Kapileswarapuram ",null,null,null,null,null,null,null,null,null,null,null,null,null,null,null,null,null,null,null,null,null,null,null,null,null,null,null,null,null,null,null,null,null,null,null,null,null,null,null,null,null,null,null,null,null,null,null,null,null,null,null,null,null,null,null,"",null,105,"2202-03-796-11-32",266,"2202","General Education","03","University and Higher Education","796","Tribal Area Sub-Plan","11","Normal State Plan","32","Government Junior Colleges",null,null,null,null,null,null,null,null,null,null,null,null,null,null,null,null,null,null,13,17,"Sri Pottisreeramulu Nellore","0843-SP NELLORE","0843","SP NELLORE","08","43","0887","State Bank Of India (SBI), Nellore"]
[203,4,"East Godavari",22,"Karapa ",null,null,null,null,null,null,null,null,null,null,null,null,null,null,null,null,null,null,null,null,null,null,null,null,null,null,null,null,null,null,null,null,null,null,null,null,null,null,null,null,null,null,null,null,null,null,null,null,null,null,null,null,null,null,null,"",null,106,"2202-03-796-11-33",267,"2202","General Education","03","University and Higher Education","796","Tribal Area Sub-Plan","11","Normal State Plan","33","Government Vocational Junior Colleges",null,null,null,null,null,null,null,null,null,null,null,null,null,null,null,null,null,null,14,17,"Sri Pottisreeramulu Nellore","0808- SULLURPETA","0808","SULLURPETA","08","08","0773","State Bank Of India (SBI), Sullurpet"]
[204,4,"East Godavari",23,"Katrenikona ",null,null,null,null,null,null,null,null,null,null,null,null,null,null,null,null,null,null,null,null,null,null,null,null,null,null,null,null,null,null,null,null,null,null,null,null,null,null,null,null,null,null,null,null,null,null,null,null,null,null,null,null,null,null,null,"",null,107,"2202-03-796-11-41",268,"2202","General Education","03","University and Higher Education","796","Tribal Area Sub-Plan","11","Normal State Plan","41","Lumpsum provision for additional commitment for UGC Pay Scales (20% arrears of UGC Scales from 1.1.06 to 31.3.10)",null,null,null,null,null,null,null,null,null,null,null,null,null,null,null,null,null,null,15,17,"Sri Pottisreeramulu Nellore","0842-TGP NELLORE","0842","TGP NELLORE","08","42","0887","State Bank Of India (SBI), Nellore"]
[205,4,"East Godavari",24,"Kirlampudi ",null,null,null,null,null,null,null,null,null,null,null,null,null,null,null,null,null,null,null,null,null,null,null,null,null,null,null,null,null,null,null,null,null,null,null,null,null,null,null,null,null,null,null,null,null,null,null,null,null,null,null,null,null,null,null,"",null,108,"2202-04-001-00-01",269,"2202","General Education","04","Adult Education","001","Direction and Administration","00",null,"01","Headquarter's Office - Director of Adult Education",null,null,null,null,null,null,null,null,null,null,null,null,null,null,null,null,null,null,16,17,"Sri Pottisreeramulu Nellore","0807- UDAYAGIRI","0807","UDAYAGIRI","08","07",3470,"Syndicate Bank, Udayagiri"]
[206,4,"East Godavari",25,"Korukonda ",null,null,null,null,null,null,null,null,null,null,null,null,null,null,null,null,null,null,null,null,null,null,null,null,null,null,null,null,null,null,null,null,null,null,null,null,null,null,null,null,null,null,null,null,null,null,null,null,null,null,null,null,null,null,null,"",null,109,"2202-04-001-00-03",270,"2202","General Education","04","Adult Education","001","Direction and Administration","00",null,"03","District Level Administration",null,null,null,null,null,null,null,null,null,null,null,null,null,null,null,null,null,null,17,17,"Sri Pottisreeramulu Nellore","0816- VAKADU","0816","VAKADU","08","16",2811,"State Bank Of India (SBI), Vidyanagar (Vakadu)"]
[207,4,"East Godavari",26,"Kotananduru ",null,null,null,null,null,null,null,null,null,null,null,null,null,null,null,null,null,null,null,null,null,null,null,null,null,null,null,null,null,null,null,null,null,null,null,null,null,null,null,null,null,null,null,null,null,null,null,null,null,null,null,null,null,null,null,"",null,110,"2202-05-102-00-05",271,"2202","General Education","05","Language Development","102","Promotion of Modern Indian Languages and Literature","00",null,"05","Assistance to Non Governmental Institutions",null,null,null,null,null,null,null,null,null,null,null,null,null,null,null,null,null,null,18,17,"Sri Pottisreeramulu Nellore","0810- VENKATAGIRI","0810","VENKATAGIRI","08","10","0969","State Bank Of India (SBI), Venkatagiri"]
[208,4,"East Godavari",27,"Kothapalli ",null,null,null,null,null,null,null,null,null,null,null,null,null,null,null,null,null,null,null,null,null,null,null,null,null,null,null,null,null,null,null,null,null,null,null,null,null,null,null,null,null,null,null,null,null,null,null,null,null,null,null,null,null,null,null,"",null,111,"2202-05-103-00-06",272,"2202","General Education","05","Language Development","103","Sanskrit Education","00",null,"06","Assistance to Non-Government Sanskrit Schools",null,null,null,null,null,null,null,null,null,null,null,null,null,null,null,null,null,null,19,17,"Sri Pottisreeramulu Nellore","0811- VINJAMURU","0811","VINJAMURU","08","11",3177,"State Bank Of India (SBI) ADB , Vinjamur"]
[209,4,"East Godavari",28,"Kothapeta ",null,null,null,null,null,null,null,null,null,null,null,null,null,null,null,null,null,null,null,null,null,null,null,null,null,null,null,null,null,null,null,null,null,null,null,null,null,null,null,null,null,null,null,null,null,null,null,null,null,null,null,null,null,null,null,"",null,112,"2202-05-103-10-08",273,"2202","General Education","05","Language Development","103","Sanskrit Education","10","Centrally Sponsored Schemes","08","Modernisation of Sanskrit Pathasalas",null,null,null,null,null,null,null,null,null,null,null,null,null,null,null,null,null,null,1,18,"Srikakulam","0102- AMADALAVALASA","0102","AMADALAVALASA","01","02"]
[210,4,"East Godavari",29,"Malikipuram ",null,null,null,null,null,null,null,null,null,null,null,null,null,null,null,null,null,null,null,null,null,null,null,null,null,null,null,null,null,null,null,null,null,null,null,null,null,null,null,null,null,null,null,null,null,null,null,null,null,null,null,null,null,null,null,"",null,113,"2202-80-001-00-01",274,"2202","General Education","80","General","001","Direction and Administration","00",null,"01","Headquarters Office Director of School Education",null,null,null,null,null,null,null,null,null,null,null,null,null,null,null,null,null,null,1,18,"Srikakulam","0103- ICHAPURAM","0103","ICHAPURAM","01","03"]
[211,4,"East Godavari",30,"Mamidikuduru ",null,null,null,null,null,null,null,null,null,null,null,null,null,null,null,null,null,null,null,null,null,null,null,null,null,null,null,null,null,null,null,null,null,null,null,null,null,null,null,null,null,null,null,null,null,null,null,null,null,null,null,null,null,null,null,"",null,114,"2202-80-001-00-03",275,"2202","General Education","80","General","001","Direction and Administration","00",null,"03","District Offices",null,null,null,null,null,null,null,null,null,null,null,null,null,null,null,null,null,null,1,18,"Srikakulam","0104- KOTABOMMALI","0104","KOTABOMMALI","01","04"]
[212,4,"East Godavari",31,"Mandapeta ",null,null,null,null,null,null,null,null,null,null,null,null,null,null,null,null,null,null,null,null,null,null,null,null,null,null,null,null,null,null,null,null,null,null,null,null,null,null,null,null,null,null,null,null,null,null,null,null,null,null,null,null,null,null,null,"",null,115,"2202-80-003-00-04",276,"2202","General Education","80","General","003","Training","00",null,"04","State Council of Educational Research and Training",null,null,null,null,null,null,null,null,null,null,null,null,null,null,null,null,null,null,1,18,"Srikakulam","0105- KOTTUR","0105","KOTTUR","01","05"]
[213,4,"East Godavari",32,"Maredumilli ",null,null,null,null,null,null,null,null,null,null,null,null,null,null,null,null,null,null,null,null,null,null,null,null,null,null,null,null,null,null,null,null,null,null,null,null,null,null,null,null,null,null,null,null,null,null,null,null,null,null,null,null,null,null,null,"",null,116,"2202-80-003-11-11",277,"2202","General Education","80","General","003","Training","11","Normal State Plan","11","Maintenance of Computer cell in SCERT",null,null,null,null,null,null,null,null,null,null,null,null,null,null,null,null,null,null,1,18,"Srikakulam","0106- NARSANNAPETA","0106","NARSANNAPETA","01","06"]
[214,4,"East Godavari",33,"Mummidivaram ",null,null,null,null,null,null,null,null,null,null,null,null,null,null,null,null,null,null,null,null,null,null,null,null,null,null,null,null,null,null,null,null,null,null,null,null,null,null,null,null,null,null,null,null,null,null,null,null,null,null,null,null,null,null,null,"",null,117,"2202-80-800-00-05",278,"2202","General Education","80","General","800","Other Expenditure","00",null,"05","Jawahar BalBhavan",null,null,null,null,null,null,null,null,null,null,null,null,null,null,null,null,null,null,1,18,"Srikakulam","0107- PALAKONDA","0107","PALAKONDA","01","07"]
[215,4,"East Godavari",34,"P Gannavaram",null,null,null,null,null,null,null,null,null,null,null,null,null,null,null,null,null,null,null,null,null,null,null,null,null,null,null,null,null,null,null,null,null,null,null,null,null,null,null,null,null,null,null,null,null,null,null,null,null,null,null,null,null,null,null,"",null,118,"2202-80-800-00-07",279,"2202","General Education","80","General","800","Other Expenditure","00",null,"07","District Bal Bhavans",null,null,null,null,null,null,null,null,null,null,null,null,null,null,null,null,null,null,1,18,"Srikakulam","0108- PALASA","0108","PALASA","01","08"]
[216,4,"East Godavari",35,"Pamarru ",null,null,null,null,null,null,null,null,null,null,null,null,null,null,null,null,null,null,null,null,null,null,null,null,null,null,null,null,null,null,null,null,null,null,null,null,null,null,null,null,null,null,null,null,null,null,null,null,null,null,null,null,null,null,null,"",null,119,"2202-80-800-00-08",280,"2202","General Education","80","General","800","Other Expenditure","00",null,"08","Registrar of Publications",null,null,null,null,null,null,null,null,null,null,null,null,null,null,null,null,null,null,1,18,"Srikakulam","0109- PATHAPATNAM","0109","PATHAPATNAM","01","09"]
[217,4,"East Godavari",36,"Pedapudi ",null,null,null,null,null,null,null,null,null,null,null,null,null,null,null,null,null,null,null,null,null,null,null,null,null,null,null,null,null,null,null,null,null,null,null,null,null,null,null,null,null,null,null,null,null,null,null,null,null,null,null,null,null,null,null,"",null,120,"2202-80-800-00-15",281,"2202","General Education","80","General","800","Other Expenditure","00",null,"15","Science Academy",null,null,null,null,null,null,null,null,null,null,null,null,null,null,null,null,null,null,1,18,"Srikakulam","0110- PONDURU","0110","PONDURU","01","10"]
[218,4,"East Godavari",37,"Peddapuram ",null,null,null,null,null,null,null,null,null,null,null,null,null,null,null,null,null,null,null,null,null,null,null,null,null,null,null,null,null,null,null,null,null,null,null,null,null,null,null,null,null,null,null,null,null,null,null,null,null,null,null,null,null,null,null,"",null,121,"2202-80-800-11-05",282,"2202","General Education","80","General","800","Other Expenditure","11","Normal State Plan","05","Jawahar Bal Bhavan",null,null,null,null,null,null,null,null,null,null,null,null,null,null,null,null,null,null,1,18,"Srikakulam","0111- RAJAM","0111","RAJAM","01","11"]
[219,4,"East Godavari",38,"Pithapuram ",null,null,null,null,null,null,null,null,null,null,null,null,null,null,null,null,null,null,null,null,null,null,null,null,null,null,null,null,null,null,null,null,null,null,null,null,null,null,null,null,null,null,null,null,null,null,null,null,null,null,null,null,null,null,null,"",null,122,"2202-80-800-11-08",283,"2202","General Education","80","General","800","Other Expenditure","11","Normal State Plan","08","Registrar of Publications",null,null,null,null,null,null,null,null,null,null,null,null,null,null,null,null,null,null,1,18,"Srikakulam","0112- SOMPETA","0112","SOMPETA","01","12"]
[220,4,"East Godavari",39,"Prathipadu ",null,null,null,null,null,null,null,null,null,null,null,null,null,null,null,null,null,null,null,null,null,null,null,null,null,null,null,null,null,null,null,null,null,null,null,null,null,null,null,null,null,null,null,null,null,null,null,null,null,null,null,null,null,null,null,"",null,1,"2203-00-001-00-01",284,"2203","Technical Education","00",null,"001","Direction and Administration","00",null,"01","Headquarters Office",null,null,null,null,null,null,null,null,null,null,null,null,null,null,null,null,null,null,1,18,"Srikakulam","0101- SRIKAKULAM","0101","SRIKAKULAM","01","01"]
[221,4,"East Godavari",40,"Rajahmundry(Rural) ",null,null,null,null,null,null,null,null,null,null,null,null,null,null,null,null,null,null,null,null,null,null,null,null,null,null,null,null,null,null,null,null,null,null,null,null,null,null,null,null,null,null,null,null,null,null,null,null,null,null,null,null,null,null,null,"",null,1,"2203-00-001-00-02",285,"2203","Technical Education","00",null,"001","Direction and Administration","00",null,"02","Regional Offices",null,null,null,null,null,null,null,null,null,null,null,null,null,null,null,null,null,null,1,18,"Srikakulam","0113- SRIKAKULAM","0113","SRIKAKULAM","01","13"]
[222,4,"East Godavari",41,"Rajahmundry(Urban) ",null,null,null,null,null,null,null,null,null,null,null,null,null,null,null,null,null,null,null,null,null,null,null,null,null,null,null,null,null,null,null,null,null,null,null,null,null,null,null,null,null,null,null,null,null,null,null,null,null,null,null,null,null,null,null,"",null,1,"2203-00-102-11-04",286,"2203","Technical Education","00",null,"102","Assistance to Universities for Technical Education","11","Normal State Plan","04","Assistance to Jawaharlal Nehru Technological University,Hyderabad",null,null,null,null,null,null,null,null,null,null,null,null,null,null,null,null,null,null,1,18,"Srikakulam","0141-SRIKAKULAM","0141","SRIKAKULAM","01","41"]
[223,4,"East Godavari",42,"Rajanagaram ",null,null,null,null,null,null,null,null,null,null,null,null,null,null,null,null,null,null,null,null,null,null,null,null,null,null,null,null,null,null,null,null,null,null,null,null,null,null,null,null,null,null,null,null,null,null,null,null,null,null,null,null,null,null,null,"",null,1,"2203-00-102-11-05",287,"2203","Technical Education","00",null,"102","Assistance to Universities for Technical Education","11","Normal State Plan","05","Assistance to JNTU for New Engineering Colleges at Pulivendula",null,null,null,null,null,null,null,null,null,null,null,null,null,null,null,null,null,null,1,18,"Srikakulam","0114- TEKKALI","0114","TEKKALI","01","14"]
[224,4,"East Godavari",43,"Rajavommangi ",null,null,null,null,null,null,null,null,null,null,null,null,null,null,null,null,null,null,null,null,null,null,null,null,null,null,null,null,null,null,null,null,null,null,null,null,null,null,null,null,null,null,null,null,null,null,null,null,null,null,null,null,null,null,null,"",null,1,"2203-00-102-11-06",288,"2203","Technical Education","00",null,"102","Assistance to Universities for Technical Education","11","Normal State Plan","06","Assistance to Setting up of 21st Century Gurukulams",null,null,null,null,null,null,null,null,null,null,null,null,null,null,null,null,null,null,1,19,"Visakhapatnam","0202- ANAKAPALLI(EAST)","0202","ANAKAPALLI(EAST)","02","02"]
[225,4,"East Godavari",44,"Ramachandrapuram ",null,null,null,null,null,null,null,null,null,null,null,null,null,null,null,null,null,null,null,null,null,null,null,null,null,null,null,null,null,null,null,null,null,null,null,null,null,null,null,null,null,null,null,null,null,null,null,null,null,null,null,null,null,null,null,"",null,1,"2203-00-102-11-09",289,"2203","Technical Education","00",null,"102","Assistance to Universities for Technical Education","11","Normal State Plan","09","Assistance to Jawaharlal Nehru Technological University, Kakinada",null,null,null,null,null,null,null,null,null,null,null,null,null,null,null,null,null,null,1,19,"Visakhapatnam","0203- ANAKAPALLI(WEST)","0203","ANAKAPALLI(WEST)","02","03"]
[226,4,"East Godavari",45,"Rampachodavaram ",null,null,null,null,null,null,null,null,null,null,null,null,null,null,null,null,null,null,null,null,null,null,null,null,null,null,null,null,null,null,null,null,null,null,null,null,null,null,null,null,null,null,null,null,null,null,null,null,null,null,null,null,null,null,null,"",null,1,"2203-00-102-11-20",290,"2203","Technical Education","00",null,"102","Assistance to Universities for Technical Education","11","Normal State Plan","20","Assistance to Jawaharlal Nehru Technological University, Ananthapur",null,null,null,null,null,null,null,null,null,null,null,null,null,null,null,null,null,null,1,19,"Visakhapatnam","0204- ARAKU","0204","ARAKU","02","04"]
[227,4,"East Godavari",46,"Rangampeta ",null,null,null,null,null,null,null,null,null,null,null,null,null,null,null,null,null,null,null,null,null,null,null,null,null,null,null,null,null,null,null,null,null,null,null,null,null,null,null,null,null,null,null,null,null,null,null,null,null,null,null,null,null,null,null,"",null,1,"2203-00-102-11-21",291,"2203","Technical Education","00",null,"102","Assistance to Universities for Technical Education","11","Normal State Plan","21","Assistance to Jawaharlal Nehru Architecture and Fine Arts University",null,null,null,null,null,null,null,null,null,null,null,null,null,null,null,null,null,null,1,19,"Visakhapatnam","0205- BHEEMUNIPATNAM","0205","BHEEMUNIPATNAM","02","05"]
[228,4,"East Godavari",47,"Ravulapalem ",null,null,null,null,null,null,null,null,null,null,null,null,null,null,null,null,null,null,null,null,null,null,null,null,null,null,null,null,null,null,null,null,null,null,null,null,null,null,null,null,null,null,null,null,null,null,null,null,null,null,null,null,null,null,null,"",null,1,"2203-00-102-11-22",292,"2203","Technical Education","00",null,"102","Assistance to Universities for Technical Education","11","Normal State Plan","22","Assistance to JNTU for New Engineering Colleges at Karimnagar",null,null,null,null,null,null,null,null,null,null,null,null,null,null,null,null,null,null,1,19,"Visakhapatnam","0206- CHINTHAPALLI","0206","CHINTHAPALLI","02","06"]
[229,4,"East Godavari",48,"Rayavaram ",null,null,null,null,null,null,null,null,null,null,null,null,null,null,null,null,null,null,null,null,null,null,null,null,null,null,null,null,null,null,null,null,null,null,null,null,null,null,null,null,null,null,null,null,null,null,null,null,null,null,null,null,null,null,null,"",null,1,"2203-00-102-11-23",293,"2203","Technical Education","00",null,"102","Assistance to Universities for Technical Education","11","Normal State Plan","23","Assistance to JNTU for New Engineering College at Vizianagaram",null,null,null,null,null,null,null,null,null,null,null,null,null,null,null,null,null,null,1,19,"Visakhapatnam","0207- CHODAVARAM","0207","CHODAVARAM","02","07"]
[230,4,"East Godavari",49,"Razole ",null,null,null,null,null,null,null,null,null,null,null,null,null,null,null,null,null,null,null,null,null,null,null,null,null,null,null,null,null,null,null,null,null,null,null,null,null,null,null,null,null,null,null,null,null,null,null,null,null,null,null,null,null,null,null,"",null,1,"2203-00-104-00-07",294,"2203","Technical Education","00",null,"104","Assistance to Non-Government Technical Colleges and Institutes","00",null,"07","Assistance to Jawaharlal Nehru Technological University for maintaining the oil Technological research Institute, Anantapur.",null,null,null,null,null,null,null,null,null,null,null,null,null,null,null,null,null,null,1,19,"Visakhapatnam","0208- ELLAMANCHILI","0208","ELLAMANCHILI","02","08"]
[231,4,"East Godavari",50,"Sakhinetipalle ",null,null,null,null,null,null,null,null,null,null,null,null,null,null,null,null,null,null,null,null,null,null,null,null,null,null,null,null,null,null,null,null,null,null,null,null,null,null,null,null,null,null,null,null,null,null,null,null,null,null,null,null,null,null,null,null,null,1,"2203-00-104-00-09",295,"2203","Technical Education","00",null,"104","Assistance to Non-Government Technical Colleges and Institutes","00",null,"09","Assistance to Kakatiya University for running the School of Mines,  Kothagudem",null,null,null,null,null,null,null,null,null,null,null,null,null,null,null,null,null,null,1,19,"Visakhapatnam","0209- KOTAURATLA","0209","KOTAURATLA","02","09"]
[232,4,"East Godavari",51,"Samalkota ",null,null,null,null,null,null,null,null,null,null,null,null,null,null,null,null,null,null,null,null,null,null,null,null,null,null,null,null,null,null,null,null,null,null,null,null,null,null,null,null,null,null,null,null,null,null,null,null,null,null,null,null,null,null,null,null,null,1,"2203-00-104-11-08",296,"2203","Technical Education","00",null,"104","Assistance to Non-Government Technical Colleges and Institutes","11","Normal State Plan","08","Assistance to Food Crafts Institute, Visakhapatnam",null,null,null,null,null,null,null,null,null,null,null,null,null,null,null,null,null,null,1,19,"Visakhapatnam","0210- MADUGULA","0210","MADUGULA","02","10"]
[233,4,"East Godavari",52,"Sankhavaram ",null,null,null,null,null,null,null,null,null,null,null,null,null,null,null,null,null,null,null,null,null,null,null,null,null,null,null,null,null,null,null,null,null,null,null,null,null,null,null,null,null,null,null,null,null,null,null,null,null,null,null,null,null,null,null,null,null,1,"2203-00-105-00-04",297,"2203","Technical Education","00",null,"105","Polytechnics","00",null,"04","Government Polytechnics",null,null,null,null,null,null,null,null,null,null,null,null,null,null,null,null,null,null,1,19,"Visakhapatnam","0211- NAKKAPALLI","0211","NAKKAPALLI","02","11"]
[234,4,"East Godavari",53,"Seethanagaram ",null,null,null,null,null,null,null,null,null,null,null,null,null,null,null,null,null,null,null,null,null,null,null,null,null,null,null,null,null,null,null,null,null,null,null,null,null,null,null,null,null,null,null,null,null,null,null,null,null,null,null,null,null,null,null,null,null,1,"2203-00-105-06-01",298,"2203","Technical Education","00",null,"105","Polytechnics","06","Matching State Share of Centrally Sponsored Schemes","01","Headquarters Office",null,null,null,null,null,null,null,null,null,null,null,null,null,null,null,null,null,null,1,19,"Visakhapatnam","0212- NARSIPATNAM","0212","NARSIPATNAM","02","12"]
[235,4,"East Godavari",54,"Thallarevu ",null,null,null,null,null,null,null,null,null,null,null,null,null,null,null,null,null,null,null,null,null,null,null,null,null,null,null,null,null,null,null,null,null,null,null,null,null,null,null,null,null,null,null,null,null,null,null,null,null,null,null,null,null,null,null,null,null,1,"2203-00-105-06-05",299,"2203","Technical Education","00",null,"105","Polytechnics","06","Matching State Share of Centrally Sponsored Schemes","05","Technical Education Quality Improvement Programme (T.E.Q.I.P)",null,null,null,null,null,null,null,null,null,null,null,null,null,null,null,null,null,null,1,19,"Visakhapatnam","0213- PADERU","0213","PADERU","02","13"]
[236,4,"East Godavari",55,"Thondangi ",null,null,null,null,null,null,null,null,null,null,null,null,null,null,null,null,null,null,null,null,null,null,null,null,null,null,null,null,null,null,null,null,null,null,null,null,null,null,null,null,null,null,null,null,null,null,null,null,null,null,null,null,null,null,null,null,null,1,"2203-00-105-11-07",300,"2203","Technical Education","00",null,"105","Polytechnics","11","Normal State Plan","07","Assistance to Private Polytechnics",null,null,null,null,null,null,null,null,null,null,null,null,null,null,null,null,null,null,1,19,"Visakhapatnam","0201- VISAKHAPATNAM","0201","VISAKHAPATNAM","02","01"]
[237,4,"East Godavari",56,"Tuni ",null,null,null,null,null,null,null,null,null,null,null,null,null,null,null,null,null,null,null,null,null,null,null,null,null,null,null,null,null,null,null,null,null,null,null,null,null,null,null,null,null,null,null,null,null,null,null,null,null,null,null,null,null,null,null,null,null,1,"2203-00-105-11-08",301,"2203","Technical Education","00",null,"105","Polytechnics","11","Normal State Plan","08","Government Model Residential Polytechnics",null,null,null,null,null,null,null,null,null,null,null,null,null,null,null,null,null,null,1,19,"Visakhapatnam","0214- VISAKHAPATNAM","0214","VISAKHAPATNAM","02","14"]
[238,4,"East Godavari",57,"Uppalaguptam ",null,null,null,null,null,null,null,null,null,null,null,null,null,null,null,null,null,null,null,null,null,null,null,null,null,null,null,null,null,null,null,null,null,null,null,null,null,null,null,null,null,null,null,null,null,null,null,null,null,null,null,null,null,null,null,null,null,1,"2203-00-105-11-09",302,"2203","Technical Education","00",null,"105","Polytechnics","11","Normal State Plan","09","Newly Established Government Polytechnics",null,null,null,null,null,null,null,null,null,null,null,null,null,null,null,null,null,null,1,19,"Visakhapatnam","0241-VISAKHAPATNAM","0241","VISAKHAPATNAM","02","41"]
[239,4,"East Godavari",58,"Y Ramavaram",null,null,null,null,null,null,null,null,null,null,null,null,null,null,null,null,null,null,null,null,null,null,null,null,null,null,null,null,null,null,null,null,null,null,null,null,null,null,null,null,null,null,null,null,null,null,null,null,null,null,null,null,null,null,null,null,null,1,"2203-00-105-11-17",303,"2203","Technical Education","00",null,"105","Polytechnics","11","Normal State Plan","17","Government Polytechnics at Obulavaripalli of Kadapa District & Eluru of West Godavari District",null,null,null,null,null,null,null,null,null,null,null,null,null,null,null,null,null,null,1,20,"Vizianagaram","2202- BHOGAPURAM","2202","BHOGAPURAM","22","02"]
[240,4,"East Godavari",59,"Yeleswaram ",null,null,null,null,null,null,null,null,null,null,null,null,null,null,null,null,null,null,null,null,null,null,null,null,null,null,null,null,null,null,null,null,null,null,null,null,null,null,null,null,null,null,null,null,null,null,null,null,null,null,null,null,null,null,null,null,null,1,"2203-00-112-00-04",304,"2203","Technical Education","00",null,"112","Engineering/ Technical Colleges and Institutes","00",null,"04","Vocational Institutes",null,null,null,null,null,null,null,null,null,null,null,null,null,null,null,null,null,null,1,20,"Vizianagaram","2203- BOBBILI","2203","BOBBILI","22","03"]
[241,5,"Guntur",1,"Achampeta",null,null,null,null,null,null,null,null,null,null,null,null,null,null,null,null,null,null,null,null,null,null,null,null,null,null,null,null,null,null,null,null,null,null,null,null,null,null,null,null,null,null,null,null,null,null,null,null,null,null,null,null,null,null,null,null,null,1,"2203-00-789-11-05",305,"2203","Technical Education","00",null,"789","Special Component Plan for Scheduled Castes","11","Normal State Plan","05","Assistance to Jawaharlal Nehru Technological University,Hyderabad",null,null,null,null,null,null,null,null,null,null,null,null,null,null,null,null,null,null,1,20,"Vizianagaram","2204- CHEEPURUPALLI","2204","CHEEPURUPALLI","22","04"]
[242,5,"Guntur",2,"Amaravathi",null,null,null,null,null,null,null,null,null,null,null,null,null,null,null,null,null,null,null,null,null,null,null,null,null,null,null,null,null,null,null,null,null,null,null,null,null,null,null,null,null,null,null,null,null,null,null,null,null,null,null,null,null,null,null,null,null,1,"2203-00-789-11-06",306,"2203","Technical Education","00",null,"789","Special Component Plan for Scheduled Castes","11","Normal State Plan","06","Assistance to JNTU for New Engineering Colleges at Pulivendula",null,null,null,null,null,null,null,null,null,null,null,null,null,null,null,null,null,null,1,20,"Vizianagaram","2205- GAJAPATHINAGARAM","2205","GAJAPATHINAGARAM","22","05"]
[243,5,"Guntur",3,"Amruthalur",null,null,null,null,null,null,null,null,null,null,null,null,null,null,null,null,null,null,null,null,null,null,null,null,null,null,null,null,null,null,null,null,null,null,null,null,null,null,null,null,null,null,null,null,null,null,null,null,null,null,null,null,null,null,null,null,null,1,"2203-00-789-11-10",307,"2203","Technical Education","00",null,"789","Special Component Plan for Scheduled Castes","11","Normal State Plan","10","Assistance to Food Crafts Institute, Visakhapatnam",null,null,null,null,null,null,null,null,null,null,null,null,null,null,null,null,null,null,1,20,"Vizianagaram","2206- KOTHAVALASA","2206","KOTHAVALASA","22","06"]
[244,5,"Guntur",4,"Bapatla",null,null,null,null,null,null,null,null,null,null,null,null,null,null,null,null,null,null,null,null,null,null,null,null,null,null,null,null,null,null,null,null,null,null,null,null,null,null,null,null,null,null,null,null,null,null,null,null,null,null,null,null,null,null,null,null,null,1,"2203-00-789-11-12",308,"2203","Technical Education","00",null,"789","Special Component Plan for Scheduled Castes","11","Normal State Plan","12","Assistance to Private Polytechnics",null,null,null,null,null,null,null,null,null,null,null,null,null,null,null,null,null,null,1,20,"Vizianagaram","2207- KURUPAM","2207","KURUPAM","22","07"]
[245,5,"Guntur",5,"Bellamkonda",null,null,null,null,null,null,null,null,null,null,null,null,null,null,null,null,null,null,null,null,null,null,null,null,null,null,null,null,null,null,null,null,null,null,null,null,null,null,null,null,null,null,null,null,null,null,null,null,null,null,null,null,null,null,null,null,null,1,"2203-00-789-11-13",309,"2203","Technical Education","00",null,"789","Special Component Plan for Scheduled Castes","11","Normal State Plan","13","Government Model Residential Polytechnics",null,null,null,null,null,null,null,null,null,null,null,null,null,null,null,null,null,null,1,20,"Vizianagaram","2208- NELLIMARLA","2208","NELLIMARLA","22","08"]
[246,5,"Guntur",6,"Bhattiprolu",null,null,null,null,null,null,null,null,null,null,null,null,null,null,null,null,null,null,null,null,null,null,null,null,null,null,null,null,null,null,null,null,null,null,null,null,null,null,null,null,null,null,null,null,null,null,null,null,null,null,null,null,null,null,null,null,null,1,"2203-00-789-11-17",310,"2203","Technical Education","00",null,"789","Special Component Plan for Scheduled Castes","11","Normal State Plan","17","Government Polytechnics at Obulavaripalli of Kadapa District & Eluru of West Godavari District",null,null,null,null,null,null,null,null,null,null,null,null,null,null,null,null,null,null,1,20,"Vizianagaram","2209- PARVATHIPURAM","2209","PARVATHIPURAM","22","09"]
[247,5,"Guntur",7,"Bollapalle",null,null,null,null,null,null,null,null,null,null,null,null,null,null,null,null,null,null,null,null,null,null,null,null,null,null,null,null,null,null,null,null,null,null,null,null,null,null,null,null,null,null,null,null,null,null,null,null,null,null,null,null,null,null,null,null,null,1,"2203-00-789-11-20",311,"2203","Technical Education","00",null,"789","Special Component Plan for Scheduled Castes","11","Normal State Plan","20","Assistance to Jawaharlal Nehru Technological University, Ananthapur",null,null,null,null,null,null,null,null,null,null,null,null,null,null,null,null,null,null,1,20,"Vizianagaram","2210- SALURU","2210","SALURU","22","10"]
[248,5,"Guntur",8,"Chebrole",null,null,null,null,null,null,null,null,null,null,null,null,null,null,null,null,null,null,null,null,null,null,null,null,null,null,null,null,null,null,null,null,null,null,null,null,null,null,null,null,null,null,null,null,null,null,null,null,null,null,null,null,null,null,null,null,null,1,"2203-00-789-11-21",312,"2203","Technical Education","00",null,"789","Special Component Plan for Scheduled Castes","11","Normal State Plan","21","Assistance to Jawaharlal Nehru Architecture and Fine Arts University",null,null,null,null,null,null,null,null,null,null,null,null,null,null,null,null,null,null,1,20,"Vizianagaram","2211- SRUNGAVARAPUKOTA","2211","SRUNGAVARAPUKOTA","22","11"]
[249,5,"Guntur",9,"Cherukupalle",null,null,null,null,null,null,null,null,null,null,null,null,null,null,null,null,null,null,null,null,null,null,null,null,null,null,null,null,null,null,null,null,null,null,null,null,null,null,null,null,null,null,null,null,null,null,null,null,null,null,null,null,null,null,null,null,null,1,"2203-00-789-11-22",313,"2203","Technical Education","00",null,"789","Special Component Plan for Scheduled Castes","11","Normal State Plan","22","Assistance to JNTU for New Engineering Colleges at Karimnagar",null,null,null,null,null,null,null,null,null,null,null,null,null,null,null,null,null,null,1,20,"Vizianagaram","2212- THERLAM","2212","THERLAM","22","12"]
[250,5,"Guntur",10,"Chilakaluripet",null,null,null,null,null,null,null,null,null,null,null,null,null,null,null,null,null,null,null,null,null,null,null,null,null,null,null,null,null,null,null,null,null,null,null,null,null,null,null,null,null,null,null,null,null,null,null,null,null,null,null,null,null,null,null,null,null,1,"2203-00-789-11-23",314,"2203","Technical Education","00",null,"789","Special Component Plan for Scheduled Castes","11","Normal State Plan","23","Assistance to JNTU for New Engineering College at Vizianagaram",null,null,null,null,null,null,null,null,null,null,null,null,null,null,null,null,null,null,1,20,"Vizianagaram","2242-VIJAYANAGARAM","2242","VIJAYANAGARAM","22","42"]
[251,5,"Guntur",11,"Dachepalle",null,null,null,null,null,null,null,null,null,null,null,null,null,null,null,null,null,null,null,null,null,null,null,null,null,null,null,null,null,null,null,null,null,null,null,null,null,null,null,null,null,null,null,null,null,null,null,null,null,null,null,null,null,null,null,null,null,1,"2203-00-789-11-24",315,"2203","Technical Education","00",null,"789","Special Component Plan for Scheduled Castes","11","Normal State Plan","24","Newly Established Government Polytechnics",null,null,null,null,null,null,null,null,null,null,null,null,null,null,null,null,null,null,1,20,"Vizianagaram","2201- VIZAYA NAGARAM","2201","VIZAYA NAGARAM","22","01"]
[252,5,"Guntur",12,"Duggirala",null,null,null,null,null,null,null,null,null,null,null,null,null,null,null,null,null,null,null,null,null,null,null,null,null,null,null,null,null,null,null,null,null,null,null,null,null,null,null,null,null,null,null,null,null,null,null,null,null,null,null,null,null,null,null,null,null,1,"2203-00-796-11-05",316,"2203","Technical Education","00",null,"796","Tribal Area Sub-Plan","11","Normal State Plan","05","Assistance to Jawaharlal Nehru Technological University,Hyderabad",null,null,null,null,null,null,null,null,null,null,null,null,null,null,null,null,null,null,1,20,"Vizianagaram","2241- VIZAYA NAGARAM","2241","VIZAYA NAGARAM","22","41"]
[253,5,"Guntur",13,"Durgi",null,null,null,null,null,null,null,null,null,null,null,null,null,null,null,null,null,null,null,null,null,null,null,null,null,null,null,null,null,null,null,null,null,null,null,null,null,null,null,null,null,null,null,null,null,null,null,null,null,null,null,null,null,null,null,null,null,1,"2203-00-796-11-06",317,"2203","Technical Education","00",null,"796","Tribal Area Sub-Plan","11","Normal State Plan","06","Assistance to JNTU for New Engineering Colleges at Pulivendula",null,null,null,null,null,null,null,null,null,null,null,null,null,null,null,null,null,null,1,20,"Vizianagaram","2213- VIZIANAGARAM","2213","VIZIANAGARAM","22","13"]
[254,5,"Guntur",14,"Edlapadu",null,null,null,null,null,null,null,null,null,null,null,null,null,null,null,null,null,null,null,null,null,null,null,null,null,null,null,null,null,null,null,null,null,null,null,null,null,null,null,null,null,null,null,null,null,null,null,null,null,null,null,null,null,null,null,null,null,1,"2203-00-796-11-10",318,"2203","Technical Education","00",null,"796","Tribal Area Sub-Plan","11","Normal State Plan","10","Assistance to Food Crafts Institute, Visakhapatnam",null,null,null,null,null,null,null,null,null,null,null,null,null,null,null,null,null,null,1,21,"Warangal","2102- CHERIYAL","2102","CHERIYAL","21","02"]
[255,5,"Guntur",15,"Guntur",null,null,null,null,null,null,null,null,null,null,null,null,null,null,null,null,null,null,null,null,null,null,null,null,null,null,null,null,null,null,null,null,null,null,null,null,null,null,null,null,null,null,null,null,null,null,null,null,null,null,null,null,null,null,null,null,null,1,"2203-00-796-11-12",319,"2203","Technical Education","00",null,"796","Tribal Area Sub-Plan","11","Normal State Plan","12","Assistance to Private Polytechnics",null,null,null,null,null,null,null,null,null,null,null,null,null,null,null,null,null,null,1,21,"Warangal","2104- ETURNAGARAM","2104","ETURNAGARAM","21","04"]
[256,5,"Guntur",16,"Gurazala",null,null,null,null,null,null,null,null,null,null,null,null,null,null,null,null,null,null,null,null,null,null,null,null,null,null,null,null,null,null,null,null,null,null,null,null,null,null,null,null,null,null,null,null,null,null,null,null,null,null,null,null,null,null,null,null,null,1,"2203-00-796-11-13",320,"2203","Technical Education","00",null,"796","Tribal Area Sub-Plan","11","Normal State Plan","13","Government Model Residential Polytechnics",null,null,null,null,null,null,null,null,null,null,null,null,null,null,null,null,null,null,{"$f":"IF(EXACT($CO$1,CR322),CP321+1,1)","v":1},21,"Warangal","2105- GHANAPUR","2105","GHANAPUR","21","05"]
[257,5,"Guntur",17,"Ipuru",null,null,null,null,null,null,null,null,null,null,null,null,null,null,null,null,null,null,null,null,null,null,null,null,null,null,null,null,null,null,null,null,null,null,null,null,null,null,null,null,null,null,null,null,null,null,null,null,null,null,null,null,null,null,null,null,null,1,{"$f":"CONCATENATE(BN323,\"-\",BP323,\"-\",BR323,\"-\",BT323,\"-\",BV323)","v":"2203-00-796-11-17"},321,"2203","Technical Education","00",null,"796","Tribal Area Sub-Plan","11","Normal State Plan","17","Government Polytechnics at Obulavaripalli of Kadapa District & Eluru of West Godavari District",null,null,null,null,null,null,null,null,null,null,null,null,null,null,null,null,null,null,1,21,"Warangal","2106- GUDUR","2106","GUDUR","21","06"]
[258,5,"Guntur",18,"Kakumanu",null,null,null,null,null,null,null,null,null,null,null,null,null,null,null,null,null,null,null,null,null,null,null,null,null,null,null,null,null,null,null,null,null,null,null,null,null,null,null,null,null,null,null,null,null,null,null,null,null,null,null,null,null,null,null,null,null,{"$f":"IF(EXACT($E$25,BN324),BK323+1,1)","v":1},"2203-00-796-11-20",322,"2203","Technical Education","00",null,"796","Tribal Area Sub-Plan","11","Normal State Plan","20","Assistance to Jawaharlal Nehru Technological University, Ananthapur",null,null,null,null,null,null,null,null,null,null,null,null,null,null,null,null,null,null,1,21,"Warangal","2107- JANGAON","2107","JANGAON","21","07"]
[259,5,"Guntur",19,"Karempudi",null,null,null,null,null,null,null,null,null,null,null,null,null,null,null,null,null,null,null,null,null,null,null,null,null,null,null,null,null,null,null,null,null,null,null,null,null,null,null,null,null,null,null,null,null,null,null,null,null,null,null,null,null,null,null,null,null,1,"2203-00-796-11-21",323,"2203","Technical Education","00",null,"796","Tribal Area Sub-Plan","11","Normal State Plan","21","Assistance to Jawaharlal Nehru Architecture and Fine Arts University",null,null,null,null,null,null,null,null,null,null,null,null,null,null,null,null,null,null,1,21,"Warangal","2108- KODAKANDLA","2108","KODAKANDLA","21","08"]
[260,5,"Guntur",20,"Karlapalem",null,null,null,null,null,null,null,null,null,null,null,null,null,null,null,null,null,null,null,null,null,null,null,null,null,null,null,null,null,null,null,null,null,null,null,null,null,null,null,null,null,null,null,null,null,null,null,null,null,null,null,null,null,null,null,null,null,1,"2203-00-796-11-22",324,"2203","Technical Education","00",null,"796","Tribal Area Sub-Plan","11","Normal State Plan","22","Assistance to JNTU for New Engineering Colleges at Karimnagar",null,null,null,null,null,null,null,null,null,null,null,null,null,null,null,null,null,null,1,21,"Warangal","2109- MAHABOOBABAD","2109","MAHABOOBABAD","21","09"]
[261,5,"Guntur",21,"Kollipara",null,null,null,null,null,null,null,null,null,null,null,null,null,null,null,null,null,null,null,null,null,null,null,null,null,null,null,null,null,null,null,null,null,null,null,null,null,null,null,null,null,null,null,null,null,null,null,null,null,null,null,null,null,null,null,null,null,1,"2203-00-796-11-23",325,"2203","Technical Education","00",null,"796","Tribal Area Sub-Plan","11","Normal State Plan","23","Assistance to JNTU for New Engineering College at Vizianagaram",null,null,null,null,null,null,null,null,null,null,null,null,null,null,null,null,null,null,1,21,"Warangal","2110- MARIPEDA","2110","MARIPEDA","21","10"]
[262,5,"Guntur",22,"Kollur",null,null,null,null,null,null,null,null,null,null,null,null,null,null,null,null,null,null,null,null,null,null,null,null,null,null,null,null,null,null,null,null,null,null,null,null,null,null,null,null,null,null,null,null,null,null,null,null,null,null,null,null,null,null,null,null,null,1,"2203-00-796-11-24",326,"2203","Technical Education","00",null,"796","Tribal Area Sub-Plan","11","Normal State Plan","24","Newly Established Government Polytechnics",null,null,null,null,null,null,null,null,null,null,null,null,null,null,null,null,null,null,1,21,"Warangal","2111- MULUGU","2111","MULUGU","21","11"]
[263,5,"Guntur",23,"Krosuru",null,null,null,null,null,null,null,null,null,null,null,null,null,null,null,null,null,null,null,null,null,null,null,null,null,null,null,null,null,null,null,null,null,null,null,null,null,null,null,null,null,null,null,null,null,null,null,null,null,null,null,null,null,null,null,null,null,1,"2204-00-001-00-01",327,"2204","Sports and Youth Services","00",null,"001","Direction and Administration","00",null,"01","Headquarters Office Director of Youth Services",null,null,null,null,null,null,null,null,null,null,null,null,null,null,null,null,null,null,1,21,"Warangal","2112- NARSAMPETA","2112","NARSAMPETA","21","12"]
[264,5,"Guntur",24,"Machavaram",null,null,null,null,null,null,null,null,null,null,null,null,null,null,null,null,null,null,null,null,null,null,null,null,null,null,null,null,null,null,null,null,null,null,null,null,null,null,null,null,null,null,null,null,null,null,null,null,null,null,null,null,null,null,null,null,null,1,"2204-00-001-00-04",328,"2204","Sports and Youth Services","00",null,"001","Direction and Administration","00",null,"04","Directorate of N.C.C.",null,null,null,null,null,null,null,null,null,null,null,null,null,null,null,null,null,null,1,21,"Warangal","2113- PARKAL","2113","PARKAL","21","13"]
[265,5,"Guntur",25,"Macherla",null,null,null,null,null,null,null,null,null,null,null,null,null,null,null,null,null,null,null,null,null,null,null,null,null,null,null,null,null,null,null,null,null,null,null,null,null,null,null,null,null,null,null,null,null,null,null,null,null,null,null,null,null,null,null,null,null,1,"2204-00-001-11-01",329,"2204","Sports and Youth Services","00",null,"001","Direction and Administration","11","Normal State Plan","01","Headquarters Office - Director of Youth Services",null,null,null,null,null,null,null,null,null,null,null,null,null,null,null,null,null,null,1,21,"Warangal","2101- WARANGAL","2101","WARANGAL","21","01"]
[266,5,"Guntur",26,"Mangalagiri",null,null,null,null,null,null,null,null,null,null,null,null,null,null,null,null,null,null,null,null,null,null,null,null,null,null,null,null,null,null,null,null,null,null,null,null,null,null,null,null,null,null,null,null,null,null,null,null,null,null,null,null,null,null,null,null,null,1,"2204-00-001-11-03",330,"2204","Sports and Youth Services","00",null,"001","Direction and Administration","11","Normal State Plan","03","District Offices - Youth Services",null,null,null,null,null,null,null,null,null,null,null,null,null,null,null,null,null,null,1,21,"Warangal","2114- WARANGAL","2114","WARANGAL","21","14"]
[267,5,"Guntur",27,"Medikonduru",null,null,null,null,null,null,null,null,null,null,null,null,null,null,null,null,null,null,null,null,null,null,null,null,null,null,null,null,null,null,null,null,null,null,null,null,null,null,null,null,null,null,null,null,null,null,null,null,null,null,null,null,null,null,null,null,null,1,"2204-00-001-11-06",331,"2204","Sports and Youth Services","00",null,"001","Direction and Administration","11","Normal State Plan","06","Youth Welfare Schemes",null,null,null,null,null,null,null,null,null,null,null,null,null,null,null,null,null,null,1,21,"Warangal","2141-WARANGAL","2141","WARANGAL","21","41"]
[268,5,"Guntur",28,"Muppalla",null,null,null,null,null,null,null,null,null,null,null,null,null,null,null,null,null,null,null,null,null,null,null,null,null,null,null,null,null,null,null,null,null,null,null,null,null,null,null,null,null,null,null,null,null,null,null,null,null,null,null,null,null,null,null,null,null,1,"2204-00-001-11-07",332,"2204","Sports and Youth Services","00",null,"001","Direction and Administration","11","Normal State Plan","07","SETWIN",null,null,null,null,null,null,null,null,null,null,null,null,null,null,null,null,null,null,1,21,"Warangal","2142-WARANGAL","2142","WARANGAL","21","42"]
[269,5,"Guntur",29,"Nadendla",null,null,null,null,null,null,null,null,null,null,null,null,null,null,null,null,null,null,null,null,null,null,null,null,null,null,null,null,null,null,null,null,null,null,null,null,null,null,null,null,null,null,null,null,null,null,null,null,null,null,null,null,null,null,null,null,null,1,"2204-00-101-00-04",333,"2204","Sports and Youth Services","00",null,"101","Physical Education","00",null,"04","Government College of Physical Education",null,null,null,null,null,null,null,null,null,null,null,null,null,null,null,null,null,null,1,21,"Warangal","2115- WARDHANNAPETA","2115","WARDHANNAPETA","21","15"]
[270,5,"Guntur",30,"Nagaram",null,null,null,null,null,null,null,null,null,null,null,null,null,null,null,null,null,null,null,null,null,null,null,null,null,null,null,null,null,null,null,null,null,null,null,null,null,null,null,null,null,null,null,null,null,null,null,null,null,null,null,null,null,null,null,null,null,1,"2204-00-102-00-05",334,"2204","Sports and Youth Services","00",null,"102","Youth Welfare Programmes for Students","00",null,"05","National Cadet Corps Training (Non-Reimbursable Expenditure)",null,null,null,null,null,null,null,null,null,null,null,null,null,null,null,null,null,null,1,22,"West Godavari","0402- AKIVEEDU","0402","AKIVEEDU","04","02"]
[271,5,"Guntur",31,"Nakarikallu",null,null,null,null,null,null,null,null,null,null,null,null,null,null,null,null,null,null,null,null,null,null,null,null,null,null,null,null,null,null,null,null,null,null,null,null,null,null,null,null,null,null,null,null,null,null,null,null,null,null,null,null,null,null,null,null,null,1,"2204-00-102-00-06",335,"2204","Sports and Youth Services","00",null,"102","Youth Welfare Programmes for Students","00",null,"06","National Fitness Corps",null,null,null,null,null,null,null,null,null,null,null,null,null,null,null,null,null,null,1,22,"West Godavari","0404- BHIMADOLE","0404","BHIMADOLE","04","04"]
[272,5,"Guntur",32,"Narasaraopeta",null,null,null,null,null,null,null,null,null,null,null,null,null,null,null,null,null,null,null,null,null,null,null,null,null,null,null,null,null,null,null,null,null,null,null,null,null,null,null,null,null,null,null,null,null,null,null,null,null,null,null,null,null,null,null,null,null,1,"2204-00-104-11-04",336,"2204","Sports and Youth Services","00",null,"104","Sports and Games","11","Normal State Plan","04","Assistance to Sports Authority of Andhra Pradesh",null,null,null,null,null,null,null,null,null,null,null,null,null,null,null,null,null,null,1,22,"West Godavari","0403- BHIMAVARAM","0403","BHIMAVARAM","04","03"]
[273,5,"Guntur",33,"Nizampatnam",null,null,null,null,null,null,null,null,null,null,null,null,null,null,null,null,null,null,null,null,null,null,null,null,null,null,null,null,null,null,null,null,null,null,null,null,null,null,null,null,null,null,null,null,null,null,null,null,null,null,null,null,null,null,null,null,null,1,"2204-00-789-11-04",337,"2204","Sports and Youth Services","00",null,"789","Special Component Plan for Scheduled Castes","11","Normal State Plan","04","Youth Welfare Schemes",null,null,null,null,null,null,null,null,null,null,null,null,null,null,null,null,null,null,1,22,"West Godavari","0405- CHITALAPUDI","0405","CHITALAPUDI","04","05"]
[274,5,"Guntur",34,"Nuzendla",null,null,null,null,null,null,null,null,null,null,null,null,null,null,null,null,null,null,null,null,null,null,null,null,null,null,null,null,null,null,null,null,null,null,null,null,null,null,null,null,null,null,null,null,null,null,null,null,null,null,null,null,null,null,null,null,null,1,"2204-00-796-11-05",338,"2204","Sports and Youth Services","00",null,"796","Tribal Area Sub-Plan","11","Normal State Plan","05","Youth Welfare Schemes",null,null,null,null,null,null,null,null,null,null,null,null,null,null,null,null,null,null,1,22,"West Godavari","0406- ELURU","0406","ELURU","04","06"]
[275,5,"Guntur",35,"Pedakakani",null,null,null,null,null,null,null,null,null,null,null,null,null,null,null,null,null,null,null,null,null,null,null,null,null,null,null,null,null,null,null,null,null,null,null,null,null,null,null,null,null,null,null,null,null,null,null,null,null,null,null,null,null,null,null,null,null,1,"2205-00-001-00-01",339,"2205","Art and Culture","00",null,"001","Direction and Administration","00",null,"01","Headquarters Office - Directorate of Cultural Affairs",null,null,null,null,null,null,null,null,null,null,null,null,null,null,null,null,null,null,1,22,"West Godavari","0441-ELURU WGO","0441","ELURU WGO","04","41"]
[276,5,"Guntur",36,"Pedakurapadu",null,null,null,null,null,null,null,null,null,null,null,null,null,null,null,null,null,null,null,null,null,null,null,null,null,null,null,null,null,null,null,null,null,null,null,null,null,null,null,null,null,null,null,null,null,null,null,null,null,null,null,null,null,null,null,null,null,1,"2205-00-001-11-01",340,"2205","Art and Culture","00",null,"001","Direction and Administration","11","Normal State Plan","01","Headquarters Office - Directorate of Cultural Affairs",null,null,null,null,null,null,null,null,null,null,null,null,null,null,null,null,null,null,1,22,"West Godavari","0407- JANGAREDDYGUDEM","0407","JANGAREDDYGUDEM","04","07"]
[277,5,"Guntur",37,"Pedanandipadu",null,null,null,null,null,null,null,null,null,null,null,null,null,null,null,null,null,null,null,null,null,null,null,null,null,null,null,null,null,null,null,null,null,null,null,null,null,null,null,null,null,null,null,null,null,null,null,null,null,null,null,null,null,null,null,null,null,1,"2205-00-101-00-04",341,"2205","Art and Culture","00",null,"101","Fine Arts Education","00",null,"04","Govt. Music Colleges",null,null,null,null,null,null,null,null,null,null,null,null,null,null,null,null,null,null,1,22,"West Godavari","0408- KOVVUR","0408","KOVVUR","04","08"]
[278,5,"Guntur",38,"Phirangipuram",null,null,null,null,null,null,null,null,null,null,null,null,null,null,null,null,null,null,null,null,null,null,null,null,null,null,null,null,null,null,null,null,null,null,null,null,null,null,null,null,null,null,null,null,null,null,null,null,null,null,null,null,null,null,null,null,null,1,"2205-00-101-11-04",342,"2205","Art and Culture","00",null,"101","Fine Arts Education","11","Normal State Plan","04","Govt. Music Colleges",null,null,null,null,null,null,null,null,null,null,null,null,null,null,null,null,null,null,1,22,"West Godavari","0409- NARSAPUR","0409","NARSAPUR","04","09"]
[279,5,"Guntur",39,"Piduguralla",null,null,null,null,null,null,null,null,null,null,null,null,null,null,null,null,null,null,null,null,null,null,null,null,null,null,null,null,null,null,null,null,null,null,null,null,null,null,null,null,null,null,null,null,null,null,null,null,null,null,null,null,null,null,null,null,null,1,"2205-00-101-11-09",343,"2205","Art and Culture","00",null,"101","Fine Arts Education","11","Normal State Plan","09","Potti Sriramulu Telugu University",null,null,null,null,null,null,null,null,null,null,null,null,null,null,null,null,null,null,1,22,"West Godavari","0410- NIDADAVOLE","0410","NIDADAVOLE","04","10"]
[280,5,"Guntur",40,"Pittalavanipalem",null,null,null,null,null,null,null,null,null,null,null,null,null,null,null,null,null,null,null,null,null,null,null,null,null,null,null,null,null,null,null,null,null,null,null,null,null,null,null,null,null,null,null,null,null,null,null,null,null,null,null,null,null,null,null,null,null,1,"2205-00-103-00-01",344,"2205","Art and Culture","00",null,"103","Archaeology","00",null,"01","Headquarters Office",null,null,null,null,null,null,null,null,null,null,null,null,null,null,null,null,null,null,1,22,"West Godavari","0411- PALKOL","0411","PALKOL","04","11"]
[281,5,"Guntur",41,"Ponnur",null,null,null,null,null,null,null,null,null,null,null,null,null,null,null,null,null,null,null,null,null,null,null,null,null,null,null,null,null,null,null,null,null,null,null,null,null,null,null,null,null,null,null,null,null,null,null,null,null,null,null,null,null,null,null,null,null,1,"2205-00-103-00-02",345,"2205","Art and Culture","00",null,"103","Archaeology","00",null,"02","Regional Offices",null,null,null,null,null,null,null,null,null,null,null,null,null,null,null,null,null,null,1,22,"West Godavari","0412- PENUGONDA","0412","PENUGONDA","04","12"]
[282,5,"Guntur",42,"Prathipadu",null,null,null,null,null,null,null,null,null,null,null,null,null,null,null,null,null,null,null,null,null,null,null,null,null,null,null,null,null,null,null,null,null,null,null,null,null,null,null,null,null,null,null,null,null,null,null,null,null,null,null,null,null,null,null,null,null,1,"2205-00-103-00-05",346,"2205","Art and Culture","00",null,"103","Archaeology","00",null,"05","Excavations",null,null,null,null,null,null,null,null,null,null,null,null,null,null,null,null,null,null,1,22,"West Godavari","0413- POLAVARAM","0413","POLAVARAM","04","13"]
[283,5,"Guntur",43,"Rajupalem",null,null,null,null,null,null,null,null,null,null,null,null,null,null,null,null,null,null,null,null,null,null,null,null,null,null,null,null,null,null,null,null,null,null,null,null,null,null,null,null,null,null,null,null,null,null,null,null,null,null,null,null,null,null,null,null,null,1,"2205-00-103-11-05",347,"2205","Art and Culture","00",null,"103","Archaeology","11","Normal State Plan","05","Excavations",null,null,null,null,null,null,null,null,null,null,null,null,null,null,null,null,null,null,1,22,"West Godavari","0414- TADEPALLIGUDEM","0414","TADEPALLIGUDEM","04","14"]
[284,5,"Guntur",44,"Rentacrintala",null,null,null,null,null,null,null,null,null,null,null,null,null,null,null,null,null,null,null,null,null,null,null,null,null,null,null,null,null,null,null,null,null,null,null,null,null,null,null,null,null,null,null,null,null,null,null,null,null,null,null,null,null,null,null,null,null,1,"2205-00-104-00-01",348,"2205","Art and Culture","00",null,"104","Archives","00",null,"01","Headquarters Office: Commissionerate of State Archives",null,null,null,null,null,null,null,null,null,null,null,null,null,null,null,null,null,null,1,22,"West Godavari","0415- TANUKU","0415","TANUKU","04","15"]
[285,5,"Guntur",45,"Repalle",null,null,null,null,null,null,null,null,null,null,null,null,null,null,null,null,null,null,null,null,null,null,null,null,null,null,null,null,null,null,null,null,null,null,null,null,null,null,null,null,null,null,null,null,null,null,null,null,null,null,null,null,null,null,null,null,null,1,"2205-00-104-00-02",349,"2205","Art and Culture","00",null,"104","Archives","00",null,"02","Regional Offices",null,null,null,null,null,null,null,null,null,null,null,null,null,null,null,null,null,null,1,22,"West Godavari","0401- WEST GODAVARI","0401","WEST GODAVARI","04","01"]
[286,5,"Guntur",46,"Rompicherla",null,null,null,null,null,null,null,null,null,null,null,null,null,null,null,null,null,null,null,null,null,null,null,null,null,null,null,null,null,null,null,null,null,null,null,null,null,null,null,null,null,null,null,null,null,null,null,null,null,null,null,null,null,null,null,null,null,1,"2205-00-104-00-06",350,"2205","Art and Culture","00",null,"104","Archives","00",null,"06","Oriental Manuscripts Library and Research Institute",null,null,null,null,null,null,null,null,null,null,null,null,null,null,null,null,null,null,1,23,"Y.S.R (Kaddapah)","1202- BADVEL","1202","BADVEL","12","02"]
[287,5,"Guntur",47,"Sattenapalle",null,null,null,null,null,null,null,null,null,null,null,null,null,null,null,null,null,null,null,null,null,null,null,null,null,null,null,null,null,null,null,null,null,null,null,null,null,null,null,null,null,null,null,null,null,null,null,null,null,null,null,null,null,null,null,null,null,1,"2205-00-104-11-06",351,"2205","Art and Culture","00",null,"104","Archives","11","Normal State Plan","06","Oriental Manuscripts Library and Research Institute",null,null,null,null,null,null,null,null,null,null,null,null,null,null,null,null,null,null,1,23,"Y.S.R (Kaddapah)","1204- JAMMALAMADUGU","1204","JAMMALAMADUGU","12","04"]
[288,5,"Guntur",48,"Savalyapuram",null,null,null,null,null,null,null,null,null,null,null,null,null,null,null,null,null,null,null,null,null,null,null,null,null,null,null,null,null,null,null,null,null,null,null,null,null,null,null,null,null,null,null,null,null,null,null,null,null,null,null,null,null,null,null,null,null,1,"2205-00-105-00-01",352,"2205","Art and Culture","00",null,"105","Public Libraries","00",null,"01","Headquarters Office: Directorate of Public Libraries:",null,null,null,null,null,null,null,null,null,null,null,null,null,null,null,null,null,null,1,23,"Y.S.R (Kaddapah)","1201-Y S R","1201","KADAPA","12","01"]
[289,5,"Guntur",49,"Tadikonda",null,null,null,null,null,null,null,null,null,null,null,null,null,null,null,null,null,null,null,null,null,null,null,null,null,null,null,null,null,null,null,null,null,null,null,null,null,null,null,null,null,null,null,null,null,null,null,null,null,null,null,null,null,null,null,null,null,1,"2205-00-105-00-04",353,"2205","Art and Culture","00",null,"105","Public Libraries","00",null,"04","State Central Library",null,null,null,null,null,null,null,null,null,null,null,null,null,null,null,null,null,null,1,23,"Y.S.R (Kaddapah)","1203- KADAPA","1203","KADAPA","12","03"]
[290,5,"Guntur",50,"Tenali",null,null,null,null,null,null,null,null,null,null,null,null,null,null,null,null,null,null,null,null,null,null,null,null,null,null,null,null,null,null,null,null,null,null,null,null,null,null,null,null,null,null,null,null,null,null,null,null,null,null,null,null,null,null,null,null,null,1,"2205-00-105-00-05",354,"2205","Art and Culture","00",null,"105","Public Libraries","00",null,"05","Other Government Libraries",null,null,null,null,null,null,null,null,null,null,null,null,null,null,null,null,null,null,1,23,"Y.S.R (Kaddapah)","1241-KADAPA","1241","KADAPA","12","41"]
[291,5,"Guntur",51,"Thadepalle",null,null,null,null,null,null,null,null,null,null,null,null,null,null,null,null,null,null,null,null,null,null,null,null,null,null,null,null,null,null,null,null,null,null,null,null,null,null,null,null,null,null,null,null,null,null,null,null,null,null,null,null,null,null,null,null,null,1,"2205-00-105-11-05",355,"2205","Art and Culture","00",null,"105","Public Libraries","11","Normal State Plan","05","Other Government Libraries",null,null,null,null,null,null,null,null,null,null,null,null,null,null,null,null,null,null,1,23,"Y.S.R (Kaddapah)","1242-KADAPA","1242","KADAPA","12","42"]
[292,5,"Guntur",52,"Thullur",null,null,null,null,null,null,null,null,null,null,null,null,null,null,null,null,null,null,null,null,null,null,null,null,null,null,null,null,null,null,null,null,null,null,null,null,null,null,null,null,null,null,null,null,null,null,null,null,null,null,null,null,null,null,null,null,null,1,"2205-00-107-00-04",356,"2205","Art and Culture","00",null,"107","Museums","00",null,"04","State Museums",null,null,null,null,null,null,null,null,null,null,null,null,null,null,null,null,null,null,1,23,"Y.S.R (Kaddapah)","1205- KAMALAPURAM","1205","KAMALAPURAM","12","05"]
[293,5,"Guntur",53,"Tsundur",null,null,null,null,null,null,null,null,null,null,null,null,null,null,null,null,null,null,null,null,null,null,null,null,null,null,null,null,null,null,null,null,null,null,null,null,null,null,null,null,null,null,null,null,null,null,null,null,null,null,null,null,null,null,null,null,null,1,"2205-00-107-00-05",357,"2205","Art and Culture","00",null,"107","Museums","00",null,"05","District Museums",null,null,null,null,null,null,null,null,null,null,null,null,null,null,null,null,null,null,1,23,"Y.S.R (Kaddapah)","1206- LAKKIREDDYPALLE","1206","LAKKIREDDYPALLE","12","06"]
[294,5,"Guntur",54,"Vatticherukuru",null,null,null,null,null,null,null,null,null,null,null,null,null,null,null,null,null,null,null,null,null,null,null,null,null,null,null,null,null,null,null,null,null,null,null,null,null,null,null,null,null,null,null,null,null,null,null,null,null,null,null,null,null,null,null,null,null,1,"2205-00-107-11-05",358,"2205","Art and Culture","00",null,"107","Museums","11","Normal State Plan","05","District Museums",null,null,null,null,null,null,null,null,null,null,null,null,null,null,null,null,null,null,1,23,"Y.S.R (Kaddapah)","1207- MUDDANUR","1207","MUDDANUR","12","07"]
[295,5,"Guntur",55,"Veldurthi",null,null,null,null,null,null,null,null,null,null,null,null,null,null,null,null,null,null,null,null,null,null,null,null,null,null,null,null,null,null,null,null,null,null,null,null,null,null,null,null,null,null,null,null,null,null,null,null,null,null,null,null,null,null,null,null,null,1,"2205-00-789-11-07",359,"2205","Art and Culture","00",null,"789","Special Component Plan for Scheduled Castes","11","Normal State Plan","07","Oriental Manuscripts Library and Research Institute",null,null,null,null,null,null,null,null,null,null,null,null,null,null,null,null,null,null,1,23,"Y.S.R (Kaddapah)","1208- PRODDATUR","1208","PRODDATUR","12","08"]
[296,5,"Guntur",56,"Vemuru",null,null,null,null,null,null,null,null,null,null,null,null,null,null,null,null,null,null,null,null,null,null,null,null,null,null,null,null,null,null,null,null,null,null,null,null,null,null,null,null,null,null,null,null,null,null,null,null,null,null,null,null,null,null,null,null,null,1,"2205-00-789-11-08",360,"2205","Art and Culture","00",null,"789","Special Component Plan for Scheduled Castes","11","Normal State Plan","08","Other Government Libraries",null,null,null,null,null,null,null,null,null,null,null,null,null,null,null,null,null,null,1,23,"Y.S.R (Kaddapah)","1209- PULIVENDLA","1209","PULIVENDLA","12","09"]
[297,5,"Guntur",57,"Vinukonda",null,null,null,null,null,null,null,null,null,null,null,null,null,null,null,null,null,null,null,null,null,null,null,null,null,null,null,null,null,null,null,null,null,null,null,null,null,null,null,null,null,null,null,null,null,null,null,null,null,null,null,null,null,null,null,null,null,1,"2205-00-789-11-09",361,"2205","Art and Culture","00",null,"789","Special Component Plan for Scheduled Castes","11","Normal State Plan","09","Potti Sriramulu Telugu University",null,null,null,null,null,null,null,null,null,null,null,null,null,null,null,null,null,null,1,23,"Y.S.R (Kaddapah)","1210- RAILWAY KODUR","1210","RAILWAY KODUR","12","10"]
[298,6,"Hyderabad",1,"Amberpet ",null,null,null,null,null,null,null,null,null,null,null,null,null,null,null,null,null,null,null,null,null,null,null,null,null,null,null,null,null,null,null,null,null,null,null,null,null,null,null,null,null,null,null,null,null,null,null,null,null,null,null,null,null,null,null,null,null,1,"2205-00-796-11-07",362,"2205","Art and Culture","00",null,"796","Tribal Area Sub-Plan","11","Normal State Plan","07","Oriental Manuscripts Library and Research Institute",null,null,null,null,null,null,null,null,null,null,null,null,null,null,null,null,null,null,1,23,"Y.S.R (Kaddapah)","1211- RAJAMPETA","1211","RAJAMPETA","12","11"]
[299,6,"Hyderabad",2,"Ameerpet ",null,null,null,null,null,null,null,null,null,null,null,null,null,null,null,null,null,null,null,null,null,null,null,null,null,null,null,null,null,null,null,null,null,null,null,null,null,null,null,null,null,null,null,null,null,null,null,null,null,null,null,null,null,null,null,null,null,1,"2205-00-796-11-08",363,"2205","Art and Culture","00",null,"796","Tribal Area Sub-Plan","11","Normal State Plan","08","Other Government Libraries",null,null,null,null,null,null,null,null,null,null,null,null,null,null,null,null,null,null,1,23,"Y.S.R (Kaddapah)","1212- RAYACHOTI","1212","RAYACHOTI","12","12"]
[300,6,"Hyderabad",3,"Asifnagar ",null,null,null,null,null,null,null,null,null,null,null,null,null,null,null,null,null,null,null,null,null,null,null,null,null,null,null,null,null,null,null,null,null,null,null,null,null,null,null,null,null,null,null,null,null,null,null,null,null,null,null,null,null,null,null,null,null,1,"2205-00-796-11-09",364,"2205","Art and Culture","00",null,"796","Tribal Area Sub-Plan","11","Normal State Plan","09","Potti Sriramulu Telugu University",null,null,null,null,null,null,null,null,null,null,null,null,null,null,null,null,null,null,1,23,"Y.S.R (Kaddapah)","1213- SIDHAVATTAM","1213","SIDHAVATTAM","12","13"]
[301,6,"Hyderabad",4,"Bandlaguda ",null,null,null,null,null,null,null,null,null,null,null,null,null,null,null,null,null,null,null,null,null,null,null,null,null,null,null,null,null,null,null,null,null,null,null,null,null,null,null,null,null,null,null,null,null,null,null,null,null,null,null,null,null,null,null,null,null,1,"2210-01-001-00-01",365,"2210","Medical and Public Health","01","Urban Health Services - Allopathy","001","Direction and Administration","00",null,"01","Headquarters Office"]
[302,6,"Hyderabad",5,"Bhadurpura ",null,null,null,null,null,null,null,null,null,null,null,null,null,null,null,null,null,null,null,null,null,null,null,null,null,null,null,null,null,null,null,null,null,null,null,null,null,null,null,null,null,null,null,null,null,null,null,null,null,null,null,null,null,null,null,null,null,1,"2210-01-001-00-02",366,"2210","Medical and Public Health","01","Urban Health Services - Allopathy","001","Direction and Administration","00",null,"02","Regional Offices"]
[303,6,"Hyderabad",6,"Charminar ",null,null,null,null,null,null,null,null,null,null,null,null,null,null,null,null,null,null,null,null,null,null,null,null,null,null,null,null,null,null,null,null,null,null,null,null,null,null,null,null,null,null,null,null,null,null,null,null,null,null,null,null,null,null,null,null,null,1,"2210-01-001-00-05",367,"2210","Medical and Public Health","01","Urban Health Services - Allopathy","001","Direction and Administration","00",null,"05","Assistance to Andhra Pradesh Vaidya Vidhana Parishad"]
[304,6,"Hyderabad",7,"Golconda ",null,null,null,null,null,null,null,null,null,null,null,null,null,null,null,null,null,null,null,null,null,null,null,null,null,null,null,null,null,null,null,null,null,null,null,null,null,null,null,null,null,null,null,null,null,null,null,null,null,null,null,null,null,null,null,null,null,1,"2210-01-001-00-75",368,"2210","Medical and Public Health","01","Urban Health Services - Allopathy","001","Direction and Administration","00",null,"75","Lumpsum Provision"]
[305,6,"Hyderabad",8,"Himayatnagar ",null,null,null,null,null,null,null,null,null,null,null,null,null,null,null,null,null,null,null,null,null,null,null,null,null,null,null,null,null,null,null,null,null,null,null,null,null,null,null,null,null,null,null,null,null,null,null,null,null,null,null,null,null,null,null,null,null,1,"2210-01-102-00-01",369,"2210","Medical and Public Health","01","Urban Health Services - Allopathy","102","Employees State Insurance Scheme","00",null,"01","Headquarters Office"]
[306,6,"Hyderabad",9,"Khairtabad ",null,null,null,null,null,null,null,null,null,null,null,null,null,null,null,null,null,null,null,null,null,null,null,null,null,null,null,null,null,null,null,null,null,null,null,null,null,null,null,null,null,null,null,null,null,null,null,null,null,null,null,null,null,null,null,null,null,1,"2210-01-102-00-04",370,"2210","Medical and Public Health","01","Urban Health Services - Allopathy","102","Employees State Insurance Scheme","00",null,"04","Dispensaries"]
[307,6,"Hyderabad",10,"Marredpally ",null,null,null,null,null,null,null,null,null,null,null,null,null,null,null,null,null,null,null,null,null,null,null,null,null,null,null,null,null,null,null,null,null,null,null,null,null,null,null,null,null,null,null,null,null,null,null,null,null,null,null,null,null,null,null,null,null,1,"2210-01-102-11-01",371,"2210","Medical and Public Health","01","Urban Health Services - Allopathy","102","Employees State Insurance Scheme","11","Normal State Plan","01","Headquarters Office"]
[308,6,"Hyderabad",11,"Musheerabad ",null,null,null,null,null,null,null,null,null,null,null,null,null,null,null,null,null,null,null,null,null,null,null,null,null,null,null,null,null,null,null,null,null,null,null,null,null,null,null,null,null,null,null,null,null,null,null,null,null,null,null,null,null,null,null,null,null,1,"2210-01-102-11-04",372,"2210","Medical and Public Health","01","Urban Health Services - Allopathy","102","Employees State Insurance Scheme","11","Normal State Plan","04","Dispensaries"]
[309,6,"Hyderabad",12,"Nampally ",null,null,null,null,null,null,null,null,null,null,null,null,null,null,null,null,null,null,null,null,null,null,null,null,null,null,null,null,null,null,null,null,null,null,null,null,null,null,null,null,null,null,null,null,null,null,null,null,null,null,null,null,null,null,null,null,null,1,"2210-01-109-00-04",373,"2210","Medical and Public Health","01","Urban Health Services - Allopathy","109","School Health Scheme","00",null,"04","Medical Inspection of Schools"]
[310,6,"Hyderabad",13,"Saidabad ",null,null,null,null,null,null,null,null,null,null,null,null,null,null,null,null,null,null,null,null,null,null,null,null,null,null,null,null,null,null,null,null,null,null,null,null,null,null,null,null,null,null,null,null,null,null,null,null,null,null,null,null,null,null,null,null,null,1,"2210-01-110-00-04",374,"2210","Medical and Public Health","01","Urban Health Services - Allopathy","110","Hospitals and Dispensaries","00",null,"04","City Hospitals"]
[311,6,"Hyderabad",14,"Secunderabad ",null,null,null,null,null,null,null,null,null,null,null,null,null,null,null,null,null,null,null,null,null,null,null,null,null,null,null,null,null,null,null,null,null,null,null,null,null,null,null,null,null,null,null,null,null,null,null,null,null,null,null,null,null,null,null,null,null,1,"2210-01-110-00-05",375,"2210","Medical and Public Health","01","Urban Health Services - Allopathy","110","Hospitals and Dispensaries","00",null,"05","District Headquarters Hospitals"]
[312,6,"Hyderabad",15,"Shaikpet ",null,null,null,null,null,null,null,null,null,null,null,null,null,null,null,null,null,null,null,null,null,null,null,null,null,null,null,null,null,null,null,null,null,null,null,null,null,null,null,null,null,null,null,null,null,null,null,null,null,null,null,null,null,null,null,null,null,1,"2210-01-110-00-07",376,"2210","Medical and Public Health","01","Urban Health Services - Allopathy","110","Hospitals and Dispensaries","00",null,"07","M.N.J. Instutite of Oncology and Regional Cancer Centre, Hyderabad"]
[313,6,"Hyderabad",16,"Tirumalgherry ",null,null,null,null,null,null,null,null,null,null,null,null,null,null,null,null,null,null,null,null,null,null,null,null,null,null,null,null,null,null,null,null,null,null,null,null,null,null,null,null,null,null,null,null,null,null,null,null,null,null,null,null,null,null,null,null,null,1,"2210-01-110-00-14",377,"2210","Medical and Public Health","01","Urban Health Services - Allopathy","110","Hospitals and Dispensaries","00",null,"14","Assistance to Andhra Pradesh Vaidya Vidhana Parishad"]
[314,7,"Karimnagar",1,"Bejjanki ",null,null,null,null,null,null,null,null,null,null,null,null,null,null,null,null,null,null,null,null,null,null,null,null,null,null,null,null,null,null,null,null,null,null,null,null,null,null,null,null,null,null,null,null,null,null,null,null,null,null,null,null,null,null,null,null,null,1,"2210-01-110-00-15",378,"2210","Medical and Public Health","01","Urban Health Services - Allopathy","110","Hospitals and Dispensaries","00",null,"15","Assistance to A.P Medicinal & Aromatic Plants Board, Hyderabad"]
[315,7,"Karimnagar",2,"Bheemadevarpalle ",null,null,null,null,null,null,null,null,null,null,null,null,null,null,null,null,null,null,null,null,null,null,null,null,null,null,null,null,null,null,null,null,null,null,null,null,null,null,null,null,null,null,null,null,null,null,null,null,null,null,null,null,null,null,null,null,null,1,"2210-01-110-00-28",379,"2210","Medical and Public Health","01","Urban Health Services - Allopathy","110","Hospitals and Dispensaries","00",null,"28","Nizam's Institute of Medical Sciences, Hyderabad"]
[316,7,"Karimnagar",3,"Boinpalle ",null,null,null,null,null,null,null,null,null,null,null,null,null,null,null,null,null,null,null,null,null,null,null,null,null,null,null,null,null,null,null,null,null,null,null,null,null,null,null,null,null,null,null,null,null,null,null,null,null,null,null,null,null,null,null,null,null,1,"2210-01-110-00-29",380,"2210","Medical and Public Health","01","Urban Health Services - Allopathy","110","Hospitals and Dispensaries","00",null,"29","Establishment of Teaching Hospitals"]
[317,7,"Karimnagar",4,"Chandurthi ",null,null,null,null,null,null,null,null,null,null,null,null,null,null,null,null,null,null,null,null,null,null,null,null,null,null,null,null,null,null,null,null,null,null,null,null,null,null,null,null,null,null,null,null,null,null,null,null,null,null,null,null,null,null,null,null,null,1,"2210-01-110-11-06",381,"2210","Medical and Public Health","01","Urban Health Services - Allopathy","110","Hospitals and Dispensaries","11","Normal State Plan","06","Taluk Hospitals"]
[318,7,"Karimnagar",5,"Chigurumamidi ",null,null,null,null,null,null,null,null,null,null,null,null,null,null,null,null,null,null,null,null,null,null,null,null,null,null,null,null,null,null,null,null,null,null,null,null,null,null,null,null,null,null,null,null,null,null,null,null,null,null,null,null,null,null,null,null,null,1,"2210-01-110-11-40",382,"2210","Medical and Public Health","01","Urban Health Services - Allopathy","110","Hospitals and Dispensaries","11","Normal State Plan","40","RIMS General Hospitals"]
[319,7,"Karimnagar",6,"Choppadandi ",null,null,null,null,null,null,null,null,null,null,null,null,null,null,null,null,null,null,null,null,null,null,null,null,null,null,null,null,null,null,null,null,null,null,null,null,null,null,null,null,null,null,null,null,null,null,null,null,null,null,null,null,null,null,null,null,null,1,"2210-01-110-11-45",383,"2210","Medical and Public Health","01","Urban Health Services - Allopathy","110","Hospitals and Dispensaries","11","Normal State Plan","45","E.N.T. Hospital, Visakhapatnam"]
[320,7,"Karimnagar",7,"Dharmapuri ",null,null,null,null,null,null,null,null,null,null,null,null,null,null,null,null,null,null,null,null,null,null,null,null,null,null,null,null,null,null,null,null,null,null,null,null,null,null,null,null,null,null,null,null,null,null,null,null,null,null,null,null,null,null,null,null,null,1,"2210-02-001-00-01",384,"2210","Medical and Public Health","02","Urban Health Services - Other Systems of Medicine","001","Direction and Administration","00",null,"01","Headquarters Office,"]
[321,7,"Karimnagar",8,"Dharmaram ",null,null,null,null,null,null,null,null,null,null,null,null,null,null,null,null,null,null,null,null,null,null,null,null,null,null,null,null,null,null,null,null,null,null,null,null,null,null,null,null,null,null,null,null,null,null,null,null,null,null,null,null,null,null,null,null,null,1,{"$f":"CONCATENATE(BN387,\"-\",BP387,\"-\",BR387,\"-\",BT387,\"-\",BV387)","v":"2210-02-001-00-02"},385,"2210","Medical and Public Health","02","Urban Health Services - Other Systems of Medicine","001","Direction and Administration","00",null,"02","Regional Offices"]
[322,7,"Karimnagar",9,"Elkathurthi ",null,null,null,null,null,null,null,null,null,null,null,null,null,null,null,null,null,null,null,null,null,null,null,null,null,null,null,null,null,null,null,null,null,null,null,null,null,null,null,null,null,null,null,null,null,null,null,null,null,null,null,null,null,null,null,null,null,{"$f":"IF(EXACT($E$25,BN388),BK387+1,1)","v":1},"2210-02-101-00-04",386,"2210","Medical and Public Health","02","Urban Health Services - Other Systems of Medicine","101","Ayurveda","00",null,"04","Ayurvedic Hospitals and Dispensaries"]
[323,7,"Karimnagar",10,"Ellanthakunta ",null,null,null,null,null,null,null,null,null,null,null,null,null,null,null,null,null,null,null,null,null,null,null,null,null,null,null,null,null,null,null,null,null,null,null,null,null,null,null,null,null,null,null,null,null,null,null,null,null,null,null,null,null,null,null,null,null,1,"2210-02-101-00-05",387,"2210","Medical and Public Health","02","Urban Health Services - Other Systems of Medicine","101","Ayurveda","00",null,"05","Drug Manufacture"]
[324,7,"Karimnagar",11,"Gambhiraopet ",null,null,null,null,null,null,null,null,null,null,null,null,null,null,null,null,null,null,null,null,null,null,null,null,null,null,null,null,null,null,null,null,null,null,null,null,null,null,null,null,null,null,null,null,null,null,null,null,null,null,null,null,null,null,null,null,null,1,"2210-02-102-00-04",388,"2210","Medical and Public Health","02","Urban Health Services - Other Systems of Medicine","102","Homoeopathy","00",null,"04","Homeopathic Hospitals and Dispensaries"]
[325,7,"Karimnagar",12,"Gangadhara ",null,null,null,null,null,null,null,null,null,null,null,null,null,null,null,null,null,null,null,null,null,null,null,null,null,null,null,null,null,null,null,null,null,null,null,null,null,null,null,null,null,null,null,null,null,null,null,null,null,null,null,null,null,null,null,null,null,1,"2210-02-102-00-05",389,"2210","Medical and Public Health","02","Urban Health Services - Other Systems of Medicine","102","Homoeopathy","00",null,"05","Government Homeopathy Pharmacy ,Ramanthapur Hyderabad"]
[326,7,"Karimnagar",13,"Gollapalle ",null,null,null,null,null,null,null,null,null,null,null,null,null,null,null,null,null,null,null,null,null,null,null,null,null,null,null,null,null,null,null,null,null,null,null,null,null,null,null,null,null,null,null,null,null,null,null,null,null,null,null,null,null,null,null,null,null,1,"2210-02-103-00-04",390,"2210","Medical and Public Health","02","Urban Health Services - Other Systems of Medicine","103","Unani","00",null,"04","Unani Hospitals and Dispensaries"]
[327,7,"Karimnagar",14,"Husnabad ",null,null,null,null,null,null,null,null,null,null,null,null,null,null,null,null,null,null,null,null,null,null,null,null,null,null,null,null,null,null,null,null,null,null,null,null,null,null,null,null,null,null,null,null,null,null,null,null,null,null,null,null,null,null,null,null,null,1,"2210-02-103-00-05",391,"2210","Medical and Public Health","02","Urban Health Services - Other Systems of Medicine","103","Unani","00",null,"05","Drug Manufacture"]
[328,7,"Karimnagar",15,"Huzurabad ",null,null,null,null,null,null,null,null,null,null,null,null,null,null,null,null,null,null,null,null,null,null,null,null,null,null,null,null,null,null,null,null,null,null,null,null,null,null,null,null,null,null,null,null,null,null,null,null,null,null,null,null,null,null,null,null,null,1,"2210-03-103-00-04",392,"2210","Medical and Public Health","03","Rural Health Services-Allopathy","103","Primary Health Centres","00",null,"04","Primary Health Centres"]
[329,7,"Karimnagar",16,"Ibrahimpatnam ",null,null,null,null,null,null,null,null,null,null,null,null,null,null,null,null,null,null,null,null,null,null,null,null,null,null,null,null,null,null,null,null,null,null,null,null,null,null,null,null,null,null,null,null,null,null,null,null,null,null,null,null,null,null,null,null,null,1,"2210-03-103-11-04",393,"2210","Medical and Public Health","03","Rural Health Services-Allopathy","103","Primary Health Centres","11","Normal State Plan","04","Primary Health Centres"]
[330,7,"Karimnagar",17,"Jagtial ",null,null,null,null,null,null,null,null,null,null,null,null,null,null,null,null,null,null,null,null,null,null,null,null,null,null,null,null,null,null,null,null,null,null,null,null,null,null,null,null,null,null,null,null,null,null,null,null,null,null,null,null,null,null,null,null,null,1,"2210-03-110-00-04",394,"2210","Medical and Public Health","03","Rural Health Services-Allopathy","110","Hospitals and Dispensaries","00",null,"04","Hospitals on Dam sites"]
[331,7,"Karimnagar",18,"Jammikunta ",null,null,null,null,null,null,null,null,null,null,null,null,null,null,null,null,null,null,null,null,null,null,null,null,null,null,null,null,null,null,null,null,null,null,null,null,null,null,null,null,null,null,null,null,null,null,null,null,null,null,null,null,null,null,null,null,null,1,"2210-03-110-00-06",395,"2210","Medical and Public Health","03","Rural Health Services-Allopathy","110","Hospitals and Dispensaries","00",null,"06","A.P.R.E.P."]
[332,7,"Karimnagar",19,"Julapalle ",null,null,null,null,null,null,null,null,null,null,null,null,null,null,null,null,null,null,null,null,null,null,null,null,null,null,null,null,null,null,null,null,null,null,null,null,null,null,null,null,null,null,null,null,null,null,null,null,null,null,null,null,null,null,null,null,null,1,"2210-03-789-11-05",396,"2210","Medical and Public Health","03","Rural Health Services-Allopathy","789","Special Component Plan for Scheduled Castes","11","Normal State Plan","05","Hospitals on Dam Sites"]
[333,7,"Karimnagar",20,"Kamalapur ",null,null,null,null,null,null,null,null,null,null,null,null,null,null,null,null,null,null,null,null,null,null,null,null,null,null,null,null,null,null,null,null,null,null,null,null,null,null,null,null,null,null,null,null,null,null,null,null,null,null,null,null,null,null,null,null,null,1,"2210-04-101-00-04",397,"2210","Medical and Public Health","04","Rural Health Services - Other Systems of Medicine","101","Ayurveda","00",null,"04","Ayurvedic Hospitals and Dispensaries"]
[334,7,"Karimnagar",21,"Kamanpur ",null,null,null,null,null,null,null,null,null,null,null,null,null,null,null,null,null,null,null,null,null,null,null,null,null,null,null,null,null,null,null,null,null,null,null,null,null,null,null,null,null,null,null,null,null,null,null,null,null,null,null,null,null,null,null,null,null,1,"2210-04-101-00-05",398,"2210","Medical and Public Health","04","Rural Health Services - Other Systems of Medicine","101","Ayurveda","00",null,"05","Drug Manufacture"]
[335,7,"Karimnagar",22,"Karimnagar ",null,null,null,null,null,null,null,null,null,null,null,null,null,null,null,null,null,null,null,null,null,null,null,null,null,null,null,null,null,null,null,null,null,null,null,null,null,null,null,null,null,null,null,null,null,null,null,null,null,null,null,null,null,null,null,null,null,1,"2210-04-102-00-04",399,"2210","Medical and Public Health","04","Rural Health Services - Other Systems of Medicine","102","Homoeopathy","00",null,"04","Homeopathic Hospitals and Dispensaries"]
[336,7,"Karimnagar",23,"Kataram ",null,null,null,null,null,null,null,null,null,null,null,null,null,null,null,null,null,null,null,null,null,null,null,null,null,null,null,null,null,null,null,null,null,null,null,null,null,null,null,null,null,null,null,null,null,null,null,null,null,null,null,null,null,null,null,null,null,1,"2210-04-103-00-04",400,"2210","Medical and Public Health","04","Rural Health Services - Other Systems of Medicine","103","Unani","00",null,"04","Unani Hospitals and Dispensaries"]
[337,7,"Karimnagar",24,"Kathlapur ",null,null,null,null,null,null,null,null,null,null,null,null,null,null,null,null,null,null,null,null,null,null,null,null,null,null,null,null,null,null,null,null,null,null,null,null,null,null,null,null,null,null,null,null,null,null,null,null,null,null,null,null,null,null,null,null,null,1,"2210-05-101-00-04",401,"2210","Medical and Public Health","05","Medical Education, Training and Research","101","Ayurveda","00",null,"04","Ayurvedic Colleges"]
[338,7,"Karimnagar",25,"Kesavapatnam ",null,null,null,null,null,null,null,null,null,null,null,null,null,null,null,null,null,null,null,null,null,null,null,null,null,null,null,null,null,null,null,null,null,null,null,null,null,null,null,null,null,null,null,null,null,null,null,null,null,null,null,null,null,null,null,null,null,1,"2210-05-101-00-05",402,"2210","Medical and Public Health","05","Medical Education, Training and Research","101","Ayurveda","00",null,"05","Research"]
[339,7,"Karimnagar",26,"Kodimial ",null,null,null,null,null,null,null,null,null,null,null,null,null,null,null,null,null,null,null,null,null,null,null,null,null,null,null,null,null,null,null,null,null,null,null,null,null,null,null,null,null,null,null,null,null,null,null,null,null,null,null,null,null,null,null,null,null,1,"2210-05-102-00-04",403,"2210","Medical and Public Health","05","Medical Education, Training and Research","102","Homoeopathy","00",null,"04","Homoeopathic Colleges"]
[340,7,"Karimnagar",27,"Koheda ",null,null,null,null,null,null,null,null,null,null,null,null,null,null,null,null,null,null,null,null,null,null,null,null,null,null,null,null,null,null,null,null,null,null,null,null,null,null,null,null,null,null,null,null,null,null,null,null,null,null,null,null,null,null,null,null,null,1,"2210-05-102-00-05",404,"2210","Medical and Public Health","05","Medical Education, Training and Research","102","Homoeopathy","00",null,"05","Research"]
[341,7,"Karimnagar",28,"Konaraopeta ",null,null,null,null,null,null,null,null,null,null,null,null,null,null,null,null,null,null,null,null,null,null,null,null,null,null,null,null,null,null,null,null,null,null,null,null,null,null,null,null,null,null,null,null,null,null,null,null,null,null,null,null,null,null,null,null,null,1,"2210-05-103-00-04",405,"2210","Medical and Public Health","05","Medical Education, Training and Research","103","Unani","00",null,"04","Unani Colleges"]
[342,7,"Karimnagar",29,"Koratla ",null,null,null,null,null,null,null,null,null,null,null,null,null,null,null,null,null,null,null,null,null,null,null,null,null,null,null,null,null,null,null,null,null,null,null,null,null,null,null,null,null,null,null,null,null,null,null,null,null,null,null,null,null,null,null,null,null,1,"2210-05-103-00-05",406,"2210","Medical and Public Health","05","Medical Education, Training and Research","103","Unani","00",null,"05","Research"]
[343,7,"Karimnagar",30,"Mahadevpur ",null,null,null,null,null,null,null,null,null,null,null,null,null,null,null,null,null,null,null,null,null,null,null,null,null,null,null,null,null,null,null,null,null,null,null,null,null,null,null,null,null,null,null,null,null,null,null,null,null,null,null,null,null,null,null,null,null,1,"2210-05-105-00-18",407,"2210","Medical and Public Health","05","Medical Education, Training and Research","105","Allopathy","00",null,"18","Medical Colleges"]
[344,7,"Karimnagar",31,"Malharrao ",null,null,null,null,null,null,null,null,null,null,null,null,null,null,null,null,null,null,null,null,null,null,null,null,null,null,null,null,null,null,null,null,null,null,null,null,null,null,null,null,null,null,null,null,null,null,null,null,null,null,null,null,null,null,null,null,null,1,"2210-05-105-00-19",408,"2210","Medical and Public Health","05","Medical Education, Training and Research","105","Allopathy","00",null,"19","Nursing Colleges"]
[345,7,"Karimnagar",32,"Mallapur ",null,null,null,null,null,null,null,null,null,null,null,null,null,null,null,null,null,null,null,null,null,null,null,null,null,null,null,null,null,null,null,null,null,null,null,null,null,null,null,null,null,null,null,null,null,null,null,null,null,null,null,null,null,null,null,null,null,1,"2210-05-105-00-23",409,"2210","Medical and Public Health","05","Medical Education, Training and Research","105","Allopathy","00",null,"23","Assistance to University of Health Sciences"]
[346,7,"Karimnagar",33,"Mallial ",null,null,null,null,null,null,null,null,null,null,null,null,null,null,null,null,null,null,null,null,null,null,null,null,null,null,null,null,null,null,null,null,null,null,null,null,null,null,null,null,null,null,null,null,null,null,null,null,null,null,null,null,null,null,null,null,null,1,"2210-05-105-00-24",410,"2210","Medical and Public Health","05","Medical Education, Training and Research","105","Allopathy","00",null,"24","Training of Para-Medical Personnel"]
[347,7,"Karimnagar",34,"Manakondur ",null,null,null,null,null,null,null,null,null,null,null,null,null,null,null,null,null,null,null,null,null,null,null,null,null,null,null,null,null,null,null,null,null,null,null,null,null,null,null,null,null,null,null,null,null,null,null,null,null,null,null,null,null,null,null,null,null,1,"2210-05-105-11-19",411,"2210","Medical and Public Health","05","Medical Education, Training and Research","105","Allopathy","11","Normal State Plan","19","Nursing Colleges"]
[348,7,"Karimnagar",35,"Manthani ",null,null,null,null,null,null,null,null,null,null,null,null,null,null,null,null,null,null,null,null,null,null,null,null,null,null,null,null,null,null,null,null,null,null,null,null,null,null,null,null,null,null,null,null,null,null,null,null,null,null,null,null,null,null,null,null,null,1,"2210-05-105-11-20",412,"2210","Medical and Public Health","05","Medical Education, Training and Research","105","Allopathy","11","Normal State Plan","20","Medical College at RIMS, Kadapa"]
[349,7,"Karimnagar",36,"Medipalle ",null,null,null,null,null,null,null,null,null,null,null,null,null,null,null,null,null,null,null,null,null,null,null,null,null,null,null,null,null,null,null,null,null,null,null,null,null,null,null,null,null,null,null,null,null,null,null,null,null,null,null,null,null,null,null,null,null,1,"2210-05-105-11-27",413,"2210","Medical and Public Health","05","Medical Education, Training and Research","105","Allopathy","11","Normal State Plan","27","Senior Residents on Contract basis"]
[350,7,"Karimnagar",37,"Metpalle ",null,null,null,null,null,null,null,null,null,null,null,null,null,null,null,null,null,null,null,null,null,null,null,null,null,null,null,null,null,null,null,null,null,null,null,null,null,null,null,null,null,null,null,null,null,null,null,null,null,null,null,null,null,null,null,null,null,1,"2210-05-105-11-29",414,"2210","Medical and Public Health","05","Medical Education, Training and Research","105","Allopathy","11","Normal State Plan","29","Assistance to Semi Autonomous Institutions"]
[351,7,"Karimnagar",38,"Mustabad ",null,null,null,null,null,null,null,null,null,null,null,null,null,null,null,null,null,null,null,null,null,null,null,null,null,null,null,null,null,null,null,null,null,null,null,null,null,null,null,null,null,null,null,null,null,null,null,null,null,null,null,null,null,null,null,null,null,1,"2210-05-105-11-31",415,"2210","Medical and Public Health","05","Medical Education, Training and Research","105","Allopathy","11","Normal State Plan","31","RIMS Medical Colleges"]
[352,7,"Karimnagar",39,"Mutharam Mahadevpur",null,null,null,null,null,null,null,null,null,null,null,null,null,null,null,null,null,null,null,null,null,null,null,null,null,null,null,null,null,null,null,null,null,null,null,null,null,null,null,null,null,null,null,null,null,null,null,null,null,null,null,null,null,null,null,null,null,1,"2210-05-105-11-36",416,"2210","Medical and Public Health","05","Medical Education, Training and Research","105","Allopathy","11","Normal State Plan","36","Dental College, RIMS, Kadapa"]
[353,7,"Karimnagar",40,"Mutharam Manthani",null,null,null,null,null,null,null,null,null,null,null,null,null,null,null,null,null,null,null,null,null,null,null,null,null,null,null,null,null,null,null,null,null,null,null,null,null,null,null,null,null,null,null,null,null,null,null,null,null,null,null,null,null,null,null,null,null,1,"2210-05-200-00-06",417,"2210","Medical and Public Health","05","Medical Education, Training and Research","200","Other Systems","00",null,"06","Assistance to Andhra Pradesh Yogadhyayana Parishad"]
[354,7,"Karimnagar",41,"Odela ",null,null,null,null,null,null,null,null,null,null,null,null,null,null,null,null,null,null,null,null,null,null,null,null,null,null,null,null,null,null,null,null,null,null,null,null,null,null,null,null,null,null,null,null,null,null,null,null,null,null,null,null,null,null,null,null,null,1,"2210-05-789-11-27",418,"2210","Medical and Public Health","05","Medical Education, Training and Research","789","Special Component Plan for Scheduled Castes","11","Normal State Plan","27","Senior Residents on Contract basis"]
[355,7,"Karimnagar",42,"Peddapalle ",null,null,null,null,null,null,null,null,null,null,null,null,null,null,null,null,null,null,null,null,null,null,null,null,null,null,null,null,null,null,null,null,null,null,null,null,null,null,null,null,null,null,null,null,null,null,null,null,null,null,null,null,null,null,null,null,null,1,"2210-05-789-11-29",419,"2210","Medical and Public Health","05","Medical Education, Training and Research","789","Special Component Plan for Scheduled Castes","11","Normal State Plan","29","Assistance to Semi Autonomous Institutions"]
[356,7,"Karimnagar",43,"Pegadapalle ",null,null,null,null,null,null,null,null,null,null,null,null,null,null,null,null,null,null,null,null,null,null,null,null,null,null,null,null,null,null,null,null,null,null,null,null,null,null,null,null,null,null,null,null,null,null,null,null,null,null,null,null,null,null,null,null,null,1,"2210-05-796-11-27",420,"2210","Medical and Public Health","05","Medical Education, Training and Research","796","Tribal Area Sub-Plan","11","Normal State Plan","27","Senior Residents on Contract basis"]
[357,7,"Karimnagar",44,"Raikal ",null,null,null,null,null,null,null,null,null,null,null,null,null,null,null,null,null,null,null,null,null,null,null,null,null,null,null,null,null,null,null,null,null,null,null,null,null,null,null,null,null,null,null,null,null,null,null,null,null,null,null,null,null,null,null,null,null,1,"2210-05-796-11-29",421,"2210","Medical and Public Health","05","Medical Education, Training and Research","796","Tribal Area Sub-Plan","11","Normal State Plan","29","Assistance to Semi Autonomous Institutions"]
[358,7,"Karimnagar",45,"Ramadugu ",null,null,null,null,null,null,null,null,null,null,null,null,null,null,null,null,null,null,null,null,null,null,null,null,null,null,null,null,null,null,null,null,null,null,null,null,null,null,null,null,null,null,null,null,null,null,null,null,null,null,null,null,null,null,null,null,null,1,"2210-06-001-00-01",422,"2210","Medical and Public Health","06","Public Health","001","Direction and Administration","00",null,"01","Headquarters Office"]
[359,7,"Karimnagar",46,"Ramagundam ",null,null,null,null,null,null,null,null,null,null,null,null,null,null,null,null,null,null,null,null,null,null,null,null,null,null,null,null,null,null,null,null,null,null,null,null,null,null,null,null,null,null,null,null,null,null,null,null,null,null,null,null,null,null,null,null,null,1,"2210-06-001-00-03",423,"2210","Medical and Public Health","06","Public Health","001","Direction and Administration","00",null,"03","District Offices"]
[360,7,"Karimnagar",47,"Saidapur ",null,null,null,null,null,null,null,null,null,null,null,null,null,null,null,null,null,null,null,null,null,null,null,null,null,null,null,null,null,null,null,null,null,null,null,null,null,null,null,null,null,null,null,null,null,null,null,null,null,null,null,null,null,null,null,null,null,1,"2210-06-001-00-05",424,"2210","Medical and Public Health","06","Public Health","001","Direction and Administration","00",null,"05","Assistance to A.P. Vaidya Vidhana Parishad"]
[361,7,"Karimnagar",48,"Sarangapur ",null,null,null,null,null,null,null,null,null,null,null,null,null,null,null,null,null,null,null,null,null,null,null,null,null,null,null,null,null,null,null,null,null,null,null,null,null,null,null,null,null,null,null,null,null,null,null,null,null,null,null,null,null,null,null,null,null,1,"2210-06-001-11-01",425,"2210","Medical and Public Health","06","Public Health","001","Direction and Administration","11","Normal State Plan","01","Headquarters Office"]
[362,7,"Karimnagar",49,"Sirsilla ",null,null,null,null,null,null,null,null,null,null,null,null,null,null,null,null,null,null,null,null,null,null,null,null,null,null,null,null,null,null,null,null,null,null,null,null,null,null,null,null,null,null,null,null,null,null,null,null,null,null,null,null,null,null,null,null,null,1,"2210-06-003-00-04",426,"2210","Medical and Public Health","06","Public Health","003","Training","00",null,"04","Training of Health Staff"]
[363,7,"Karimnagar",50,"Srirampur ",null,null,null,null,null,null,null,null,null,null,null,null,null,null,null,null,null,null,null,null,null,null,null,null,null,null,null,null,null,null,null,null,null,null,null,null,null,null,null,null,null,null,null,null,null,null,null,null,null,null,null,null,null,null,null,null,null,1,"2210-06-101-00-04",427,"2210","Medical and Public Health","06","Public Health","101","Prevention and Control of Diseases","00",null,"04","Health Services"]
[364,7,"Karimnagar",51,"Sultanabad ",null,null,null,null,null,null,null,null,null,null,null,null,null,null,null,null,null,null,null,null,null,null,null,null,null,null,null,null,null,null,null,null,null,null,null,null,null,null,null,null,null,null,null,null,null,null,null,null,null,null,null,null,null,null,null,null,null,1,"2210-06-101-00-06",428,"2210","Medical and Public Health","06","Public Health","101","Prevention and Control of Diseases","00",null,"06","National Malaria Eradication Programme"]
[365,7,"Karimnagar",52,"Thimmapur ",null,null,null,null,null,null,null,null,null,null,null,null,null,null,null,null,null,null,null,null,null,null,null,null,null,null,null,null,null,null,null,null,null,null,null,null,null,null,null,null,null,null,null,null,null,null,null,null,null,null,null,null,null,null,null,null,null,1,"2210-06-101-06-06",429,"2210","Medical and Public Health","06","Public Health","101","Prevention and Control of Diseases","06","Matching State Share of Centrally Sponsored Schemes","06","National Malaria Eradication Programme"]
[366,7,"Karimnagar",53,"Veenavanka ",null,null,null,null,null,null,null,null,null,null,null,null,null,null,null,null,null,null,null,null,null,null,null,null,null,null,null,null,null,null,null,null,null,null,null,null,null,null,null,null,null,null,null,null,null,null,null,null,null,null,null,null,null,null,null,null,null,1,"2210-06-101-06-07",430,"2210","Medical and Public Health","06","Public Health","101","Prevention and Control of Diseases","06","Matching State Share of Centrally Sponsored Schemes","07","National Filaria Control Programme"]
[367,7,"Karimnagar",54,"Velgatoor ",null,null,null,null,null,null,null,null,null,null,null,null,null,null,null,null,null,null,null,null,null,null,null,null,null,null,null,null,null,null,null,null,null,null,null,null,null,null,null,null,null,null,null,null,null,null,null,null,null,null,null,null,null,null,null,null,null,1,"2210-06-101-10-10",431,"2210","Medical and Public Health","06","Public Health","101","Prevention and Control of Diseases","10","Centrally Sponsored Schemes","10","National V.D. Control Programme"]
[368,7,"Karimnagar",55,"Vemulawada ",null,null,null,null,null,null,null,null,null,null,null,null,null,null,null,null,null,null,null,null,null,null,null,null,null,null,null,null,null,null,null,null,null,null,null,null,null,null,null,null,null,null,null,null,null,null,null,null,null,null,null,null,null,null,null,null,null,1,"2210-06-101-10-14",432,"2210","Medical and Public Health","06","Public Health","101","Prevention and Control of Diseases","10","Centrally Sponsored Schemes","14","Guineaworm Eradication Programme"]
[369,7,"Karimnagar",56,"Yella Reddi Peta",null,null,null,null,null,null,null,null,null,null,null,null,null,null,null,null,null,null,null,null,null,null,null,null,null,null,null,null,null,null,null,null,null,null,null,null,null,null,null,null,null,null,null,null,null,null,null,null,null,null,null,null,null,null,null,null,null,1,"2210-06-101-10-23",433,"2210","Medical and Public Health","06","Public Health","101","Prevention and Control of Diseases","10","Centrally Sponsored Schemes","23","National Goitre Control Programme"]
[370,8,"Khammam",1,"Aswapuram ",null,null,null,null,null,null,null,null,null,null,null,null,null,null,null,null,null,null,null,null,null,null,null,null,null,null,null,null,null,null,null,null,null,null,null,null,null,null,null,null,null,null,null,null,null,null,null,null,null,null,null,null,null,null,null,null,null,1,"2210-06-101-11-05",434,"2210","Medical and Public Health","06","Public Health","101","Prevention and Control of Diseases","11","Normal State Plan","05","National Leprosy Eradication Programme"]
[371,8,"Khammam",2,"Aswaraopeta ",null,null,null,null,null,null,null,null,null,null,null,null,null,null,null,null,null,null,null,null,null,null,null,null,null,null,null,null,null,null,null,null,null,null,null,null,null,null,null,null,null,null,null,null,null,null,null,null,null,null,null,null,null,null,null,null,null,1,"2210-06-101-11-37",435,"2210","Medical and Public Health","06","Public Health","101","Prevention and Control of Diseases","11","Normal State Plan","37","National Programme for Control of Blindness"]
[372,8,"Khammam",3,"Bayyaram ",null,null,null,null,null,null,null,null,null,null,null,null,null,null,null,null,null,null,null,null,null,null,null,null,null,null,null,null,null,null,null,null,null,null,null,null,null,null,null,null,null,null,null,null,null,null,null,null,null,null,null,null,null,null,null,null,null,1,"2210-06-104-00-04",436,"2210","Medical and Public Health","06","Public Health","104","Drug Control","00",null,"04","Administration of Drugs Act"]
[373,8,"Khammam",4,"Bhadrachalam ",null,null,null,null,null,null,null,null,null,null,null,null,null,null,null,null,null,null,null,null,null,null,null,null,null,null,null,null,null,null,null,null,null,null,null,null,null,null,null,null,null,null,null,null,null,null,null,null,null,null,null,null,null,null,null,null,null,1,"2210-06-104-11-04",437,"2210","Medical and Public Health","06","Public Health","104","Drug Control","11","Normal State Plan","04","Administration of Drugs Act"]
[374,8,"Khammam",5,"Bonakal ",null,null,null,null,null,null,null,null,null,null,null,null,null,null,null,null,null,null,null,null,null,null,null,null,null,null,null,null,null,null,null,null,null,null,null,null,null,null,null,null,null,null,null,null,null,null,null,null,null,null,null,null,null,null,null,null,null,1,"2210-06-104-11-05",438,"2210","Medical and Public Health","06","Public Health","104","Drug Control","11","Normal State Plan","05","Strengthening of Drugs Control Laboratory at Hyderabad and Vijayawada under Capacity Building Project Programme (World Bank Assistance)"]
[375,8,"Khammam",6,"Burgampadu ",null,null,null,null,null,null,null,null,null,null,null,null,null,null,null,null,null,null,null,null,null,null,null,null,null,null,null,null,null,null,null,null,null,null,null,null,null,null,null,null,null,null,null,null,null,null,null,null,null,null,null,null,null,null,null,null,null,1,"2210-06-106-00-03",439,"2210","Medical and Public Health","06","Public Health","106","Manufacture of Sera/Vaccine","00",null,"03","Institute of Preventive Medicine  (District Offices)"]
[376,8,"Khammam",7,"Chandrugonda ",null,null,null,null,null,null,null,null,null,null,null,null,null,null,null,null,null,null,null,null,null,null,null,null,null,null,null,null,null,null,null,null,null,null,null,null,null,null,null,null,null,null,null,null,null,null,null,null,null,null,null,null,null,null,null,null,null,1,"2210-06-106-00-04",440,"2210","Medical and Public Health","06","Public Health","106","Manufacture of Sera/Vaccine","00",null,"04","Institute of Preventive Medicine (Headquarters Office)"]
[377,8,"Khammam",8,"Cherla ",null,null,null,null,null,null,null,null,null,null,null,null,null,null,null,null,null,null,null,null,null,null,null,null,null,null,null,null,null,null,null,null,null,null,null,null,null,null,null,null,null,null,null,null,null,null,null,null,null,null,null,null,null,null,null,null,null,1,"2210-06-113-00-04",441,"2210","Medical and Public Health","06","Public Health","113","Public Health Publicity","00",null,"04","Publicity"]
[378,8,"Khammam",9,"Chinthakani ",null,null,null,null,null,null,null,null,null,null,null,null,null,null,null,null,null,null,null,null,null,null,null,null,null,null,null,null,null,null,null,null,null,null,null,null,null,null,null,null,null,null,null,null,null,null,null,null,null,null,null,null,null,null,null,null,null,1,"2210-06-789-06-06",442,"2210","Medical and Public Health","06","Public Health","789","Special Component Plan for Scheduled Castes","06","Matching State Share of Centrally Sponsored Schemes","06","National Malaria Eradication Programme"]
[379,8,"Khammam",10,"Chintur ",null,null,null,null,null,null,null,null,null,null,null,null,null,null,null,null,null,null,null,null,null,null,null,null,null,null,null,null,null,null,null,null,null,null,null,null,null,null,null,null,null,null,null,null,null,null,null,null,null,null,null,null,null,null,null,null,null,1,"2210-06-789-06-07",443,"2210","Medical and Public Health","06","Public Health","789","Special Component Plan for Scheduled Castes","06","Matching State Share of Centrally Sponsored Schemes","07","National Filaria Control Programme"]
[380,8,"Khammam",11,"Dammapeta ",null,null,null,null,null,null,null,null,null,null,null,null,null,null,null,null,null,null,null,null,null,null,null,null,null,null,null,null,null,null,null,null,null,null,null,null,null,null,null,null,null,null,null,null,null,null,null,null,null,null,null,null,null,null,null,null,null,1,"2210-06-789-11-01",444,"2210","Medical and Public Health","06","Public Health","789","Special Component Plan for Scheduled Castes","11","Normal State Plan","01","Headquarters Office"]
[381,8,"Khammam",12,"Dummugudem ",null,null,null,null,null,null,null,null,null,null,null,null,null,null,null,null,null,null,null,null,null,null,null,null,null,null,null,null,null,null,null,null,null,null,null,null,null,null,null,null,null,null,null,null,null,null,null,null,null,null,null,null,null,null,null,null,null,1,"2210-06-789-11-05",445,"2210","Medical and Public Health","06","Public Health","789","Special Component Plan for Scheduled Castes","11","Normal State Plan","05","National Leprosy Eradication Programme"]
[382,8,"Khammam",13,"Enkuru ",null,null,null,null,null,null,null,null,null,null,null,null,null,null,null,null,null,null,null,null,null,null,null,null,null,null,null,null,null,null,null,null,null,null,null,null,null,null,null,null,null,null,null,null,null,null,null,null,null,null,null,null,null,null,null,null,null,1,"2210-06-789-11-35",446,"2210","Medical and Public Health","06","Public Health","789","Special Component Plan for Scheduled Castes","11","Normal State Plan","35","National Programme for Control of Blindness"]
[383,8,"Khammam",14,"Garla ",null,null,null,null,null,null,null,null,null,null,null,null,null,null,null,null,null,null,null,null,null,null,null,null,null,null,null,null,null,null,null,null,null,null,null,null,null,null,null,null,null,null,null,null,null,null,null,null,null,null,null,null,null,null,null,null,null,1,"2210-06-796-06-06",447,"2210","Medical and Public Health","06","Public Health","796","Tribal Area Sub-Plan","06","Matching State Share of Centrally Sponsored Schemes","06","National Malaria Eradication Programme"]
[384,8,"Khammam",15,"Gundala ",null,null,null,null,null,null,null,null,null,null,null,null,null,null,null,null,null,null,null,null,null,null,null,null,null,null,null,null,null,null,null,null,null,null,null,null,null,null,null,null,null,null,null,null,null,null,null,null,null,null,null,null,null,null,null,null,null,1,"2210-06-796-06-08",448,"2210","Medical and Public Health","06","Public Health","796","Tribal Area Sub-Plan","06","Matching State Share of Centrally Sponsored Schemes","08","T.B. Control Programme"]
[385,8,"Khammam",16,"Julurpad ",null,null,null,null,null,null,null,null,null,null,null,null,null,null,null,null,null,null,null,null,null,null,null,null,null,null,null,null,null,null,null,null,null,null,null,null,null,null,null,null,null,null,null,null,null,null,null,null,null,null,null,null,null,null,null,null,null,1,{"$f":"CONCATENATE(BN451,\"-\",BP451,\"-\",BR451,\"-\",BT451,\"-\",BV451)","v":"2210-06-796-11-01"},449,"2210","Medical and Public Health","06","Public Health","796","Tribal Area Sub-Plan","11","Normal State Plan","01","Headquarters Office"]
[386,8,"Khammam",17,"Kalluru ",null,null,null,null,null,null,null,null,null,null,null,null,null,null,null,null,null,null,null,null,null,null,null,null,null,null,null,null,null,null,null,null,null,null,null,null,null,null,null,null,null,null,null,null,null,null,null,null,null,null,null,null,null,null,null,null,null,{"$f":"IF(EXACT($E$25,BN452),BK451+1,1)","v":1},"2210-06-796-11-05",450,"2210","Medical and Public Health","06","Public Health","796","Tribal Area Sub-Plan","11","Normal State Plan","05","National Leprosy Eradication Programme"]
[387,8,"Khammam",18,"Kamepalle ",null,null,null,null,null,null,null,null,null,null,null,null,null,null,null,null,null,null,null,null,null,null,null,null,null,null,null,null,null,null,null,null,null,null,null,null,null,null,null,null,null,null,null,null,null,null,null,null,null,null,null,null,null,null,null,null,null,1,"2210-06-796-11-06",451,"2210","Medical and Public Health","06","Public Health","796","Tribal Area Sub-Plan","11","Normal State Plan","06","Public Health Laboratories under Director of Institute of Preventive Medicine"]
[388,8,"Khammam",19,"Khammam Rural",null,null,null,null,null,null,null,null,null,null,null,null,null,null,null,null,null,null,null,null,null,null,null,null,null,null,null,null,null,null,null,null,null,null,null,null,null,null,null,null,null,null,null,null,null,null,null,null,null,null,null,null,null,null,null,null,null,1,"2210-06-796-11-35",452,"2210","Medical and Public Health","06","Public Health","796","Tribal Area Sub-Plan","11","Normal State Plan","35","National Programme for Control of Blindness"]
[389,8,"Khammam",20,"Khammam Urban",null,null,null,null,null,null,null,null,null,null,null,null,null,null,null,null,null,null,null,null,null,null,null,null,null,null,null,null,null,null,null,null,null,null,null,null,null,null,null,null,null,null,null,null,null,null,null,null,null,null,null,null,null,null,null,null,null,1,"2210-80-004-00-04",453,"2210","Medical and Public Health","80","General","004","Health Statistics and Evaluation","00",null,"04","Nutrition Research Scheme"]
[390,8,"Khammam",21,"Konijerla ",null,null,null,null,null,null,null,null,null,null,null,null,null,null,null,null,null,null,null,null,null,null,null,null,null,null,null,null,null,null,null,null,null,null,null,null,null,null,null,null,null,null,null,null,null,null,null,null,null,null,null,null,null,null,null,null,null,1,"2210-80-800-00-04",454,"2210","Medical and Public Health","80","General","800","Other Expenditure","00",null,"04","Health Transport"]
[391,8,"Khammam",22,"Kothagudem ",null,null,null,null,null,null,null,null,null,null,null,null,null,null,null,null,null,null,null,null,null,null,null,null,null,null,null,null,null,null,null,null,null,null,null,null,null,null,null,null,null,null,null,null,null,null,null,null,null,null,null,null,null,null,null,null,null,1,"2211-00-001-00-01",455,"2211","Family Welfare","00",null,"001","Direction and Administration","00",null,"01","Headquarters office"]
[392,8,"Khammam",23,"Kukunoor ",null,null,null,null,null,null,null,null,null,null,null,null,null,null,null,null,null,null,null,null,null,null,null,null,null,null,null,null,null,null,null,null,null,null,null,null,null,null,null,null,null,null,null,null,null,null,null,null,null,null,null,null,null,null,null,null,null,1,"2211-00-001-10-01",456,"2211","Family Welfare","00",null,"001","Direction and Administration","10","Centrally Sponsored Schemes","01","Headquarters office"]
[393,8,"Khammam",24,"Kunavaram ",null,null,null,null,null,null,null,null,null,null,null,null,null,null,null,null,null,null,null,null,null,null,null,null,null,null,null,null,null,null,null,null,null,null,null,null,null,null,null,null,null,null,null,null,null,null,null,null,null,null,null,null,null,null,null,null,null,1,"2211-00-001-10-06",457,"2211","Family Welfare","00",null,"001","Direction and Administration","10","Centrally Sponsored Schemes","06","District Family Welfare Bureau"]
[394,8,"Khammam",25,"Kusumanchi ",null,null,null,null,null,null,null,null,null,null,null,null,null,null,null,null,null,null,null,null,null,null,null,null,null,null,null,null,null,null,null,null,null,null,null,null,null,null,null,null,null,null,null,null,null,null,null,null,null,null,null,null,null,null,null,null,null,1,"2211-00-003-10-04",458,"2211","Family Welfare","00",null,"003","Training","10","Centrally Sponsored Schemes","04","Regional Family Welfare Training Centres"]
[395,8,"Khammam",26,"Madhira ",null,null,null,null,null,null,null,null,null,null,null,null,null,null,null,null,null,null,null,null,null,null,null,null,null,null,null,null,null,null,null,null,null,null,null,null,null,null,null,null,null,null,null,null,null,null,null,null,null,null,null,null,null,null,null,null,null,1,"2211-00-003-10-05",459,"2211","Family Welfare","00",null,"003","Training","10","Centrally Sponsored Schemes","05","Training of Auxillary Nurses, Midwives, Dayas and Lady Health Visitors"]
[396,8,"Khammam",27,"Manuguru ",null,null,null,null,null,null,null,null,null,null,null,null,null,null,null,null,null,null,null,null,null,null,null,null,null,null,null,null,null,null,null,null,null,null,null,null,null,null,null,null,null,null,null,null,null,null,null,null,null,null,null,null,null,null,null,null,null,1,"2211-00-003-10-07",460,"2211","Family Welfare","00",null,"003","Training","10","Centrally Sponsored Schemes","07","Training and Employment of Multipurpose Workers (Male)"]
[397,8,"Khammam",28,"Mudigonda ",null,null,null,null,null,null,null,null,null,null,null,null,null,null,null,null,null,null,null,null,null,null,null,null,null,null,null,null,null,null,null,null,null,null,null,null,null,null,null,null,null,null,null,null,null,null,null,null,null,null,null,null,null,null,null,null,null,1,"2211-00-101-10-09",461,"2211","Family Welfare","00",null,"101","Rural Family Welfare Services","10","Centrally Sponsored Schemes","09","Sub-Centres"]
[398,8,"Khammam",29,"Mulakalapalle ",null,null,null,null,null,null,null,null,null,null,null,null,null,null,null,null,null,null,null,null,null,null,null,null,null,null,null,null,null,null,null,null,null,null,null,null,null,null,null,null,null,null,null,null,null,null,null,null,null,null,null,null,null,null,null,null,null,1,"2211-00-101-11-04",462,"2211","Family Welfare","00",null,"101","Rural Family Welfare Services","11","Normal State Plan","04","Family Welfare Centres"]
[399,8,"Khammam",30,"Nelakondapalle ",null,null,null,null,null,null,null,null,null,null,null,null,null,null,null,null,null,null,null,null,null,null,null,null,null,null,null,null,null,null,null,null,null,null,null,null,null,null,null,null,null,null,null,null,null,null,null,null,null,null,null,null,null,null,null,null,null,1,"2211-00-101-11-06",463,"2211","Family Welfare","00",null,"101","Rural Family Welfare Services","11","Normal State Plan","06","Employment of ANMs"]
[400,8,"Khammam",31,"Palawancha ",null,null,null,null,null,null,null,null,null,null,null,null,null,null,null,null,null,null,null,null,null,null,null,null,null,null,null,null,null,null,null,null,null,null,null,null,null,null,null,null,null,null,null,null,null,null,null,null,null,null,null,null,null,null,null,null,null,1,"2211-00-102-10-04",464,"2211","Family Welfare","00",null,"102","Urban Family Welfare Services","10","Centrally Sponsored Schemes","04","Urban Family Welfare Centres"]
[401,8,"Khammam",32,"Penuballi ",null,null,null,null,null,null,null,null,null,null,null,null,null,null,null,null,null,null,null,null,null,null,null,null,null,null,null,null,null,null,null,null,null,null,null,null,null,null,null,null,null,null,null,null,null,null,null,null,null,null,null,null,null,null,null,null,null,1,"2211-00-103-00-04",465,"2211","Family Welfare","00",null,"103","Maternity and Child Health","00",null,"04","Maternity and Child Health Centres"]
[402,8,"Khammam",33,"Pinapaka ",null,null,null,null,null,null,null,null,null,null,null,null,null,null,null,null,null,null,null,null,null,null,null,null,null,null,null,null,null,null,null,null,null,null,null,null,null,null,null,null,null,null,null,null,null,null,null,null,null,null,null,null,null,null,null,null,null,1,"2211-00-103-10-08",466,"2211","Family Welfare","00",null,"103","Maternity and Child Health","10","Centrally Sponsored Schemes","08","Medical Termination of Pregnency"]
[403,8,"Khammam",34,"Sathupalle ",null,null,null,null,null,null,null,null,null,null,null,null,null,null,null,null,null,null,null,null,null,null,null,null,null,null,null,null,null,null,null,null,null,null,null,null,null,null,null,null,null,null,null,null,null,null,null,null,null,null,null,null,null,null,null,null,null,1,"2211-00-103-11-10",467,"2211","Family Welfare","00",null,"103","Maternity and Child Health","11","Normal State Plan","10","R.C.H. Programme"]
[404,8,"Khammam",35,"Singareni ",null,null,null,null,null,null,null,null,null,null,null,null,null,null,null,null,null,null,null,null,null,null,null,null,null,null,null,null,null,null,null,null,null,null,null,null,null,null,null,null,null,null,null,null,null,null,null,null,null,null,null,null,null,null,null,null,null,1,"2211-00-108-11-05",468,"2211","Family Welfare","00",null,"108","Selected Area Programme (including India Population Project)","11","Normal State Plan","05","Area Project / Indian Population Project - VI"]
[405,8,"Khammam",36,"Tekulapalle ",null,null,null,null,null,null,null,null,null,null,null,null,null,null,null,null,null,null,null,null,null,null,null,null,null,null,null,null,null,null,null,null,null,null,null,null,null,null,null,null,null,null,null,null,null,null,null,null,null,null,null,null,null,null,null,null,null,1,"2211-00-108-11-06",469,"2211","Family Welfare","00",null,"108","Selected Area Programme (including India Population Project)","11","Normal State Plan","06","Indian Institute of Health and Family Welfare, Hyderabad under I.P.P.VI"]
[406,8,"Khammam",37,"Thallada ",null,null,null,null,null,null,null,null,null,null,null,null,null,null,null,null,null,null,null,null,null,null,null,null,null,null,null,null,null,null,null,null,null,null,null,null,null,null,null,null,null,null,null,null,null,null,null,null,null,null,null,null,null,null,null,null,null,1,"2211-00-108-11-10",470,"2211","Family Welfare","00",null,"108","Selected Area Programme (including India Population Project)","11","Normal State Plan","10","A.P Urban Slum Health care Project I.P.P. VIII extension"]
[407,8,"Khammam",38,"Thirumalayapalem ",null,null,null,null,null,null,null,null,null,null,null,null,null,null,null,null,null,null,null,null,null,null,null,null,null,null,null,null,null,null,null,null,null,null,null,null,null,null,null,null,null,null,null,null,null,null,null,null,null,null,null,null,null,null,null,null,null,1,"2211-00-200-10-04",471,"2211","Family Welfare","00",null,"200","Other Services and Supplies","10","Centrally Sponsored Schemes","04","Maintenance of Sterilisation Beds"]
[408,8,"Khammam",39,"Vararamachandrapuram ",null,null,null,null,null,null,null,null,null,null,null,null,null,null,null,null,null,null,null,null,null,null,null,null,null,null,null,null,null,null,null,null,null,null,null,null,null,null,null,null,null,null,null,null,null,null,null,null,null,null,null,null,null,null,null,null,null,1,"2211-00-200-11-05",472,"2211","Family Welfare","00",null,"200","Other Services and Supplies","11","Normal State Plan","05","Post Partum Schemes: District Hospitals/Teaching Hospitals"]
[409,8,"Khammam",40,"Velairpad ",null,null,null,null,null,null,null,null,null,null,null,null,null,null,null,null,null,null,null,null,null,null,null,null,null,null,null,null,null,null,null,null,null,null,null,null,null,null,null,null,null,null,null,null,null,null,null,null,null,null,null,null,null,null,null,null,null,1,"2211-00-200-11-07",473,"2211","Family Welfare","00",null,"200","Other Services and Supplies","11","Normal State Plan","07","Post Partum Schemes/Taluk Hospitals"]
[410,8,"Khammam",41,"Vemsoor ",null,null,null,null,null,null,null,null,null,null,null,null,null,null,null,null,null,null,null,null,null,null,null,null,null,null,null,null,null,null,null,null,null,null,null,null,null,null,null,null,null,null,null,null,null,null,null,null,null,null,null,null,null,null,null,null,null,1,"2211-00-789-10-06",474,"2211","Family Welfare","00",null,"789","Special Component Plan for Scheduled Castes","10","Centrally Sponsored Schemes","06","District Family Welfare Bureau"]
[411,8,"Khammam",42,"Venkatapuram ",null,null,null,null,null,null,null,null,null,null,null,null,null,null,null,null,null,null,null,null,null,null,null,null,null,null,null,null,null,null,null,null,null,null,null,null,null,null,null,null,null,null,null,null,null,null,null,null,null,null,null,null,null,null,null,null,null,1,"2211-00-789-10-09",475,"2211","Family Welfare","00",null,"789","Special Component Plan for Scheduled Castes","10","Centrally Sponsored Schemes","09","Sub-Centres"]
[412,8,"Khammam",43,"Wazeed ",null,null,null,null,null,null,null,null,null,null,null,null,null,null,null,null,null,null,null,null,null,null,null,null,null,null,null,null,null,null,null,null,null,null,null,null,null,null,null,null,null,null,null,null,null,null,null,null,null,null,null,null,null,null,null,null,null,1,"2211-00-789-10-15",476,"2211","Family Welfare","00",null,"789","Special Component Plan for Scheduled Castes","10","Centrally Sponsored Schemes","15","Urban Family Welfare Centres"]
[413,8,"Khammam",44,"Wyra ",null,null,null,null,null,null,null,null,null,null,null,null,null,null,null,null,null,null,null,null,null,null,null,null,null,null,null,null,null,null,null,null,null,null,null,null,null,null,null,null,null,null,null,null,null,null,null,null,null,null,null,null,null,null,null,null,null,1,"2211-00-789-11-06",477,"2211","Family Welfare","00",null,"789","Special Component Plan for Scheduled Castes","11","Normal State Plan","06","Employment of ANMs"]
[414,8,"Khammam",45,"Yellandu ",null,null,null,null,null,null,null,null,null,null,null,null,null,null,null,null,null,null,null,null,null,null,null,null,null,null,null,null,null,null,null,null,null,null,null,null,null,null,null,null,null,null,null,null,null,null,null,null,null,null,null,null,null,null,null,null,null,1,"2211-00-789-11-16",478,"2211","Family Welfare","00",null,"789","Special Component Plan for Scheduled Castes","11","Normal State Plan","16","Family Welfare Centres"]
[415,8,"Khammam",46,"Yerrupalem ",null,null,null,null,null,null,null,null,null,null,null,null,null,null,null,null,null,null,null,null,null,null,null,null,null,null,null,null,null,null,null,null,null,null,null,null,null,null,null,null,null,null,null,null,null,null,null,null,null,null,null,null,null,null,null,null,null,1,"2211-00-796-10-06",479,"2211","Family Welfare","00",null,"796","Tribal Area Sub-Plan","10","Centrally Sponsored Schemes","06","District Family Welfare Bureau"]
[416,9,"Krishna",1,"A Konduru",null,null,null,null,null,null,null,null,null,null,null,null,null,null,null,null,null,null,null,null,null,null,null,null,null,null,null,null,null,null,null,null,null,null,null,null,null,null,null,null,null,null,null,null,null,null,null,null,null,null,null,null,null,null,null,null,null,1,"2211-00-796-10-09",480,"2211","Family Welfare","00",null,"796","Tribal Area Sub-Plan","10","Centrally Sponsored Schemes","09","Sub-Centres"]
[417,9,"Krishna",2,"Agiripalle ",null,null,null,null,null,null,null,null,null,null,null,null,null,null,null,null,null,null,null,null,null,null,null,null,null,null,null,null,null,null,null,null,null,null,null,null,null,null,null,null,null,null,null,null,null,null,null,null,null,null,null,null,null,null,null,null,null,1,"2211-00-796-10-15",481,"2211","Family Welfare","00",null,"796","Tribal Area Sub-Plan","10","Centrally Sponsored Schemes","15","Urban Family Welfare Centres"]
[418,9,"Krishna",3,"Avanigadda ",null,null,null,null,null,null,null,null,null,null,null,null,null,null,null,null,null,null,null,null,null,null,null,null,null,null,null,null,null,null,null,null,null,null,null,null,null,null,null,null,null,null,null,null,null,null,null,null,null,null,null,null,null,null,null,null,null,1,"2211-00-796-11-08",482,"2211","Family Welfare","00",null,"796","Tribal Area Sub-Plan","11","Normal State Plan","08","Employment of ANMs"]
[419,9,"Krishna",4,"Bantumilli ",null,null,null,null,null,null,null,null,null,null,null,null,null,null,null,null,null,null,null,null,null,null,null,null,null,null,null,null,null,null,null,null,null,null,null,null,null,null,null,null,null,null,null,null,null,null,null,null,null,null,null,null,null,null,null,null,null,1,"2211-00-796-11-16",483,"2211","Family Welfare","00",null,"796","Tribal Area Sub-Plan","11","Normal State Plan","16","Family Welfare Centres"]
[420,9,"Krishna",5,"Bapulapadu ",null,null,null,null,null,null,null,null,null,null,null,null,null,null,null,null,null,null,null,null,null,null,null,null,null,null,null,null,null,null,null,null,null,null,null,null,null,null,null,null,null,null,null,null,null,null,null,null,null,null,null,null,null,null,null,null,null,1,"2215-01-001-00-01",484,"2215","Water Supply and Sanitation","01","Water Supply","001","Direction and Administration","00",null,"01","Headquarters Office"]
[421,9,"Krishna",6,"Challapalli ",null,null,null,null,null,null,null,null,null,null,null,null,null,null,null,null,null,null,null,null,null,null,null,null,null,null,null,null,null,null,null,null,null,null,null,null,null,null,null,null,null,null,null,null,null,null,null,null,null,null,null,null,null,null,null,null,null,1,"2215-01-001-00-03",485,"2215","Water Supply and Sanitation","01","Water Supply","001","Direction and Administration","00",null,"03","District Offices"]
[422,9,"Krishna",7,"Chandarlapadu ",null,null,null,null,null,null,null,null,null,null,null,null,null,null,null,null,null,null,null,null,null,null,null,null,null,null,null,null,null,null,null,null,null,null,null,null,null,null,null,null,null,null,null,null,null,null,null,null,null,null,null,null,null,null,null,null,null,1,"2215-01-101-11-07",486,"2215","Water Supply and Sanitation","01","Water Supply","101","Urban Water Supply Programmes","11","Normal State Plan","07","Guntur Water Supply Scheme"]
[423,9,"Krishna",8,"Chatrai ",null,null,null,null,null,null,null,null,null,null,null,null,null,null,null,null,null,null,null,null,null,null,null,null,null,null,null,null,null,null,null,null,null,null,null,null,null,null,null,null,null,null,null,null,null,null,null,null,null,null,null,null,null,null,null,null,null,1,"2215-01-102-00-01",487,"2215","Water Supply and Sanitation","01","Water Supply","102","Rural Water Supply Programmes","00",null,"01","Headquarter's Office"]
[424,9,"Krishna",9,"G Konduru",null,null,null,null,null,null,null,null,null,null,null,null,null,null,null,null,null,null,null,null,null,null,null,null,null,null,null,null,null,null,null,null,null,null,null,null,null,null,null,null,null,null,null,null,null,null,null,null,null,null,null,null,null,null,null,null,null,1,"2215-01-102-00-03",488,"2215","Water Supply and Sanitation","01","Water Supply","102","Rural Water Supply Programmes","00",null,"03","District Offices"]
[425,9,"Krishna",10,"Gampalagudem ",null,null,null,null,null,null,null,null,null,null,null,null,null,null,null,null,null,null,null,null,null,null,null,null,null,null,null,null,null,null,null,null,null,null,null,null,null,null,null,null,null,null,null,null,null,null,null,null,null,null,null,null,null,null,null,null,null,1,"2215-01-102-00-10",489,"2215","Water Supply and Sanitation","01","Water Supply","102","Rural Water Supply Programmes","00",null,"10","Assistance to Panchayat Raj Bodies"]
[426,9,"Krishna",11,"Gannavaram ",null,null,null,null,null,null,null,null,null,null,null,null,null,null,null,null,null,null,null,null,null,null,null,null,null,null,null,null,null,null,null,null,null,null,null,null,null,null,null,null,null,null,null,null,null,null,null,null,null,null,null,null,null,null,null,null,null,1,"2215-01-102-10-03",490,"2215","Water Supply and Sanitation","01","Water Supply","102","Rural Water Supply Programmes","10","Centrally Sponsored Schemes","03","District Offices (Executive Establishment)"]
[427,9,"Krishna",12,"Ghantasala ",null,null,null,null,null,null,null,null,null,null,null,null,null,null,null,null,null,null,null,null,null,null,null,null,null,null,null,null,null,null,null,null,null,null,null,null,null,null,null,null,null,null,null,null,null,null,null,null,null,null,null,null,null,null,null,null,null,1,"2215-01-102-10-11",491,"2215","Water Supply and Sanitation","01","Water Supply","102","Rural Water Supply Programmes","10","Centrally Sponsored Schemes","11","Monitoring Cell for Water Supply Schemes"]
[428,9,"Krishna",13,"Gudivada ",null,null,null,null,null,null,null,null,null,null,null,null,null,null,null,null,null,null,null,null,null,null,null,null,null,null,null,null,null,null,null,null,null,null,null,null,null,null,null,null,null,null,null,null,null,null,null,null,null,null,null,null,null,null,null,null,null,1,"2215-01-102-10-12",492,"2215","Water Supply and Sanitation","01","Water Supply","102","Rural Water Supply Programmes","10","Centrally Sponsored Schemes","12","Investigation Unit for Accelerated Rural Water Supply Schemes"]
[429,9,"Krishna",14,"Gudlavalleru ",null,null,null,null,null,null,null,null,null,null,null,null,null,null,null,null,null,null,null,null,null,null,null,null,null,null,null,null,null,null,null,null,null,null,null,null,null,null,null,null,null,null,null,null,null,null,null,null,null,null,null,null,null,null,null,null,null,1,"2215-01-196-00-05",493,"2215","Water Supply and Sanitation","01","Water Supply","196","Assistance to Zilla Parishads","00",null,"05","Assistance to Panchayat Raj Bodies for maintenance of Comprehensive Piped Water Supply Schemes"]
[430,9,"Krishna",15,"Gudur ",null,null,null,null,null,null,null,null,null,null,null,null,null,null,null,null,null,null,null,null,null,null,null,null,null,null,null,null,null,null,null,null,null,null,null,null,null,null,null,null,null,null,null,null,null,null,null,null,null,null,null,null,null,null,null,null,null,1,"2215-02-105-11-06",494,"2215","Water Supply and Sanitation","02","Sewerage and Sanitation","105","Sanitation Services","11","Normal State Plan","06","Implementation of Low Cost Sanitation Programme"]
[431,9,"Krishna",16,"Ibrahimpatnam ",null,null,null,null,null,null,null,null,null,null,null,null,null,null,null,null,null,null,null,null,null,null,null,null,null,null,null,null,null,null,null,null,null,null,null,null,null,null,null,null,null,null,null,null,null,null,null,null,null,null,null,null,null,null,null,null,null,1,"2216-03-101-11-04",495,"2216","Housing","03","Rural Housing","101","Weaker Section Housing Programme","11","Normal State Plan","04","Weaker Section Housing Programme"]
[432,9,"Krishna",17,"Jaggayyapeta ",null,null,null,null,null,null,null,null,null,null,null,null,null,null,null,null,null,null,null,null,null,null,null,null,null,null,null,null,null,null,null,null,null,null,null,null,null,null,null,null,null,null,null,null,null,null,null,null,null,null,null,null,null,null,null,null,null,1,"2216-05-053-00-05",496,"2216","Housing","05","General Pool Accommodation","053","Maintenance and Repairs","00",null,"05","Maintenance and Repairs of Buildings"]
[433,9,"Krishna",18,"Kaikalur ",null,null,null,null,null,null,null,null,null,null,null,null,null,null,null,null,null,null,null,null,null,null,null,null,null,null,null,null,null,null,null,null,null,null,null,null,null,null,null,null,null,null,null,null,null,null,null,null,null,null,null,null,null,null,null,null,null,1,"2217-05-001-00-01",497,"2217","Urban Development","05","Other Urban Development Schemes","001","Direction & Administration","00",null,"01","Headquarter Office(DT&CP)"]
[434,9,"Krishna",19,"Kalidindi ",null,null,null,null,null,null,null,null,null,null,null,null,null,null,null,null,null,null,null,null,null,null,null,null,null,null,null,null,null,null,null,null,null,null,null,null,null,null,null,null,null,null,null,null,null,null,null,null,null,null,null,null,null,null,null,null,null,1,"2217-05-001-00-03",498,"2217","Urban Development","05","Other Urban Development Schemes","001","Direction & Administration","00",null,"03","District Offices"]
[435,9,"Krishna",20,"Kanchika Cherla",null,null,null,null,null,null,null,null,null,null,null,null,null,null,null,null,null,null,null,null,null,null,null,null,null,null,null,null,null,null,null,null,null,null,null,null,null,null,null,null,null,null,null,null,null,null,null,null,null,null,null,null,null,null,null,null,null,1,"2217-05-001-00-05",499,"2217","Urban Development","05","Other Urban Development Schemes","001","Direction & Administration","00",null,"05","Regional Planning for fast Developing Urban Complexes"]
[436,9,"Krishna",21,"Kankipadu ",null,null,null,null,null,null,null,null,null,null,null,null,null,null,null,null,null,null,null,null,null,null,null,null,null,null,null,null,null,null,null,null,null,null,null,null,null,null,null,null,null,null,null,null,null,null,null,null,null,null,null,null,null,null,null,null,null,1,"2217-05-001-11-05",500,"2217","Urban Development","05","Other Urban Development Schemes","001","Direction & Administration","11","Normal State Plan","05","Regional Planning for fast Developing Urban Complexes"]
[437,9,"Krishna",22,"Koduru ",null,null,null,null,null,null,null,null,null,null,null,null,null,null,null,null,null,null,null,null,null,null,null,null,null,null,null,null,null,null,null,null,null,null,null,null,null,null,null,null,null,null,null,null,null,null,null,null,null,null,null,null,null,null,null,null,null,1,"2217-80-001-00-01",501,"2217","Urban Development","80","General","001","Direction and Administration","00",null,"01","Headquarters Office (Municipal Administration)"]
[438,9,"Krishna",23,"Kruthivennu ",null,null,null,null,null,null,null,null,null,null,null,null,null,null,null,null,null,null,null,null,null,null,null,null,null,null,null,null,null,null,null,null,null,null,null,null,null,null,null,null,null,null,null,null,null,null,null,null,null,null,null,null,null,null,null,null,null,1,"2217-80-001-00-03",502,"2217","Urban Development","80","General","001","Direction and Administration","00",null,"03","District Offices"]
[439,9,"Krishna",24,"Machilipatnam ",null,null,null,null,null,null,null,null,null,null,null,null,null,null,null,null,null,null,null,null,null,null,null,null,null,null,null,null,null,null,null,null,null,null,null,null,null,null,null,null,null,null,null,null,null,null,null,null,null,null,null,null,null,null,null,null,null,1,"2217-80-001-00-04",503,"2217","Urban Development","80","General","001","Direction and Administration","00",null,"04","Municipal Commissioners"]
[440,9,"Krishna",25,"Mandavalli ",null,null,null,null,null,null,null,null,null,null,null,null,null,null,null,null,null,null,null,null,null,null,null,null,null,null,null,null,null,null,null,null,null,null,null,null,null,null,null,null,null,null,null,null,null,null,null,null,null,null,null,null,null,null,null,null,null,1,"2217-80-001-00-07",504,"2217","Urban Development","80","General","001","Direction and Administration","00",null,"07","Municipal Corporation of Hyderabad"]
[441,9,"Krishna",26,"Mopidevi ",null,null,null,null,null,null,null,null,null,null,null,null,null,null,null,null,null,null,null,null,null,null,null,null,null,null,null,null,null,null,null,null,null,null,null,null,null,null,null,null,null,null,null,null,null,null,null,null,null,null,null,null,null,null,null,null,null,1,"2217-80-001-00-08",505,"2217","Urban Development","80","General","001","Direction and Administration","00",null,"08","Establishment cost of  Municipalities / Corporations"]
[442,9,"Krishna",27,"Movva ",null,null,null,null,null,null,null,null,null,null,null,null,null,null,null,null,null,null,null,null,null,null,null,null,null,null,null,null,null,null,null,null,null,null,null,null,null,null,null,null,null,null,null,null,null,null,null,null,null,null,null,null,null,null,null,null,null,1,"2217-80-001-00-75",506,"2217","Urban Development","80","General","001","Direction and Administration","00",null,"75","Lumpsum Provision"]
[443,9,"Krishna",28,"Mudinepalli ",null,null,null,null,null,null,null,null,null,null,null,null,null,null,null,null,null,null,null,null,null,null,null,null,null,null,null,null,null,null,null,null,null,null,null,null,null,null,null,null,null,null,null,null,null,null,null,null,null,null,null,null,null,null,null,null,null,1,"2217-80-001-11-03",507,"2217","Urban Development","80","General","001","Direction and Administration","11","Normal State Plan","03","District Offices"]
[444,9,"Krishna",29,"Musunuru ",null,null,null,null,null,null,null,null,null,null,null,null,null,null,null,null,null,null,null,null,null,null,null,null,null,null,null,null,null,null,null,null,null,null,null,null,null,null,null,null,null,null,null,null,null,null,null,null,null,null,null,null,null,null,null,null,null,1,"2217-80-001-11-04",508,"2217","Urban Development","80","General","001","Direction and Administration","11","Normal State Plan","04","Municipal Commissioners"]
[445,9,"Krishna",30,"Mylavaram ",null,null,null,null,null,null,null,null,null,null,null,null,null,null,null,null,null,null,null,null,null,null,null,null,null,null,null,null,null,null,null,null,null,null,null,null,null,null,null,null,null,null,null,null,null,null,null,null,null,null,null,null,null,null,null,null,null,1,"2217-80-800-11-04",509,"2217","Urban Development","80","General","800","Other Expenditure","11","Normal State Plan","04","Urban Community Development (GHMC)"]
[446,9,"Krishna",31,"Nagayalanka ",null,null,null,null,null,null,null,null,null,null,null,null,null,null,null,null,null,null,null,null,null,null,null,null,null,null,null,null,null,null,null,null,null,null,null,null,null,null,null,null,null,null,null,null,null,null,null,null,null,null,null,null,null,null,null,null,null,1,"2217-80-800-11-13",510,"2217","Urban Development","80","General","800","Other Expenditure","11","Normal State Plan","13","Mission for Elimination of Poverty in Municipal Areas (Indira Kranti Patham) - Urban"]
[447,9,"Krishna",32,"Nandigama ",null,null,null,null,null,null,null,null,null,null,null,null,null,null,null,null,null,null,null,null,null,null,null,null,null,null,null,null,null,null,null,null,null,null,null,null,null,null,null,null,null,null,null,null,null,null,null,null,null,null,null,null,null,null,null,null,null,1,"2220-60-001-00-01",511,"2220","Information and Publicity","60","Others","001","Direction and Administration","00",null,"01","Headquarter's Office"]
[448,9,"Krishna",33,"Nandivada ",null,null,null,null,null,null,null,null,null,null,null,null,null,null,null,null,null,null,null,null,null,null,null,null,null,null,null,null,null,null,null,null,null,null,null,null,null,null,null,null,null,null,null,null,null,null,null,null,null,null,null,null,null,null,null,null,null,1,"2220-60-001-00-03",512,"2220","Information and Publicity","60","Others","001","Direction and Administration","00",null,"03","District Offices"]
[449,9,"Krishna",34,"Nuzvid ",null,null,null,null,null,null,null,null,null,null,null,null,null,null,null,null,null,null,null,null,null,null,null,null,null,null,null,null,null,null,null,null,null,null,null,null,null,null,null,null,null,null,null,null,null,null,null,null,null,null,null,null,null,null,null,null,null,1,{"$f":"CONCATENATE(BN515,\"-\",BP515,\"-\",BR515,\"-\",BT515,\"-\",BV515)","v":"2220-60-003-11-05"},513,"2220","Information and Publicity","60","Others","003","Research and Training in Mass Communications","11","Normal State Plan","05","Purchase of Books"]
[450,9,"Krishna",35,"Pamarru ",null,null,null,null,null,null,null,null,null,null,null,null,null,null,null,null,null,null,null,null,null,null,null,null,null,null,null,null,null,null,null,null,null,null,null,null,null,null,null,null,null,null,null,null,null,null,null,null,null,null,null,null,null,null,null,null,null,{"$f":"IF(EXACT($E$25,BN516),BK515+1,1)","v":1},"2220-60-101-00-04",514,"2220","Information and Publicity","60","Others","101","Advertising and Visual Publicity","00",null,"04","Advertisement of Government Departments"]
[451,9,"Krishna",36,"Pamidimukkala ",null,null,null,null,null,null,null,null,null,null,null,null,null,null,null,null,null,null,null,null,null,null,null,null,null,null,null,null,null,null,null,null,null,null,null,null,null,null,null,null,null,null,null,null,null,null,null,null,null,null,null,null,null,null,null,null,null,1,"2220-60-103-00-08",515,"2220","Information and Publicity","60","Others","103","Press Information Services","00",null,"08","Press Academy of Andhra Pradesh"]
[452,9,"Krishna",37,"Pedana ",null,null,null,null,null,null,null,null,null,null,null,null,null,null,null,null,null,null,null,null,null,null,null,null,null,null,null,null,null,null,null,null,null,null,null,null,null,null,null,null,null,null,null,null,null,null,null,null,null,null,null,null,null,null,null,null,null,1,"2220-60-800-00-06",516,"2220","Information and Publicity","60","Others","800","Other Expenditure","00",null,"06","A.P. Information Commission"]
[453,9,"Krishna",38,"Pedaparupudi ",null,null,null,null,null,null,null,null,null,null,null,null,null,null,null,null,null,null,null,null,null,null,null,null,null,null,null,null,null,null,null,null,null,null,null,null,null,null,null,null,null,null,null,null,null,null,null,null,null,null,null,null,null,null,null,null,null,1,"2225-01-001-00-01",517,"2225","Welfare of Scheduled Castes, Scheduled Tribes and Other Backward Classes","01","Welfare of Scheduled Castes","001","Direction and Administration","00",null,"01","Headquarters Office"]
[454,9,"Krishna",39,"Penamaluru ",null,null,null,null,null,null,null,null,null,null,null,null,null,null,null,null,null,null,null,null,null,null,null,null,null,null,null,null,null,null,null,null,null,null,null,null,null,null,null,null,null,null,null,null,null,null,null,null,null,null,null,null,null,null,null,null,null,1,"2225-01-001-00-03",518,"2225","Welfare of Scheduled Castes, Scheduled Tribes and Other Backward Classes","01","Welfare of Scheduled Castes","001","Direction and Administration","00",null,"03","District Offices"]
[455,9,"Krishna",40,"Penuganchiprolu ",null,null,null,null,null,null,null,null,null,null,null,null,null,null,null,null,null,null,null,null,null,null,null,null,null,null,null,null,null,null,null,null,null,null,null,null,null,null,null,null,null,null,null,null,null,null,null,null,null,null,null,null,null,null,null,null,null,1,"2225-01-001-11-01",519,"2225","Welfare of Scheduled Castes, Scheduled Tribes and Other Backward Classes","01","Welfare of Scheduled Castes","001","Direction and Administration","11","Normal State Plan","01","Headquarters Office"]
[456,9,"Krishna",41,"Reddigudem ",null,null,null,null,null,null,null,null,null,null,null,null,null,null,null,null,null,null,null,null,null,null,null,null,null,null,null,null,null,null,null,null,null,null,null,null,null,null,null,null,null,null,null,null,null,null,null,null,null,null,null,null,null,null,null,null,null,1,"2225-01-277-00-07",520,"2225","Welfare of Scheduled Castes, Scheduled Tribes and Other Backward Classes","01","Welfare of Scheduled Castes","277","Education","00",null,"07","Government Hostels"]
[457,9,"Krishna",42,"Thotlavalluru ",null,null,null,null,null,null,null,null,null,null,null,null,null,null,null,null,null,null,null,null,null,null,null,null,null,null,null,null,null,null,null,null,null,null,null,null,null,null,null,null,null,null,null,null,null,null,null,null,null,null,null,null,null,null,null,null,null,1,"2225-01-277-06-30",521,"2225","Welfare of Scheduled Castes, Scheduled Tribes and Other Backward Classes","01","Welfare of Scheduled Castes","277","Education","06","Matching State Share of Centrally Sponsored Schemes","30","Government Residential Centralised Schools"]
[458,9,"Krishna",43,"Tiruvuru ",null,null,null,null,null,null,null,null,null,null,null,null,null,null,null,null,null,null,null,null,null,null,null,null,null,null,null,null,null,null,null,null,null,null,null,null,null,null,null,null,null,null,null,null,null,null,null,null,null,null,null,null,null,null,null,null,null,1,"2225-01-277-11-07",522,"2225","Welfare of Scheduled Castes, Scheduled Tribes and Other Backward Classes","01","Welfare of Scheduled Castes","277","Education","11","Normal State Plan","07","Government Hostels"]
[459,9,"Krishna",44,"Unguturu ",null,null,null,null,null,null,null,null,null,null,null,null,null,null,null,null,null,null,null,null,null,null,null,null,null,null,null,null,null,null,null,null,null,null,null,null,null,null,null,null,null,null,null,null,null,null,null,null,null,null,null,null,null,null,null,null,null,1,"2225-01-277-11-30",523,"2225","Welfare of Scheduled Castes, Scheduled Tribes and Other Backward Classes","01","Welfare of Scheduled Castes","277","Education","11","Normal State Plan","30","Government Residential Centralised Schools"]
[460,9,"Krishna",45,"Vatsavai ",null,null,null,null,null,null,null,null,null,null,null,null,null,null,null,null,null,null,null,null,null,null,null,null,null,null,null,null,null,null,null,null,null,null,null,null,null,null,null,null,null,null,null,null,null,null,null,null,null,null,null,null,null,null,null,null,null,1,"2225-01-800-00-05",524,"2225","Welfare of Scheduled Castes, Scheduled Tribes and Other Backward Classes","01","Welfare of Scheduled Castes","800","Other Expenditure","00",null,"05","Special Criminal Courts dealing with offences under the Indian Penal Code and Protection of Civil Rights Act, 1955 against Scheduled Castes and Scheduled Tribes"]
[461,9,"Krishna",46,"Veerullapadu ",null,null,null,null,null,null,null,null,null,null,null,null,null,null,null,null,null,null,null,null,null,null,null,null,null,null,null,null,null,null,null,null,null,null,null,null,null,null,null,null,null,null,null,null,null,null,null,null,null,null,null,null,null,null,null,null,null,1,"2225-01-800-06-05",525,"2225","Welfare of Scheduled Castes, Scheduled Tribes and Other Backward Classes","01","Welfare of Scheduled Castes","800","Other Expenditure","06","Matching State Share of Centrally Sponsored Schemes","05","Special Criminal Courts dealing with Offences under the Indian Penal Code and Protection of Civil Rights Act,1955 against Scheduled Castes and Scheduled Tribes"]
[462,9,"Krishna",47,"Vijayawada Rural",null,null,null,null,null,null,null,null,null,null,null,null,null,null,null,null,null,null,null,null,null,null,null,null,null,null,null,null,null,null,null,null,null,null,null,null,null,null,null,null,null,null,null,null,null,null,null,null,null,null,null,null,null,null,null,null,null,1,"2225-01-800-10-05",526,"2225","Welfare of Scheduled Castes, Scheduled Tribes and Other Backward Classes","01","Welfare of Scheduled Castes","800","Other Expenditure","10","Centrally Sponsored Schemes","05","Special Criminal Courts dealing with Offences under the Indian Penal Code and Protection of Civil Rights Act,1955 against Scheduled Castes and Scheduled Tribes"]
[463,9,"Krishna",48,"Vijayawada Urban",null,null,null,null,null,null,null,null,null,null,null,null,null,null,null,null,null,null,null,null,null,null,null,null,null,null,null,null,null,null,null,null,null,null,null,null,null,null,null,null,null,null,null,null,null,null,null,null,null,null,null,null,null,null,null,null,null,1,"2225-01-800-11-05",527,"2225","Welfare of Scheduled Castes, Scheduled Tribes and Other Backward Classes","01","Welfare of Scheduled Castes","800","Other Expenditure","11","Normal State Plan","05","Special Criminal Courts dealing with Offences under the Indian Penal Code and Protection of Civil Rights Act,1955 against Scheduled Castes and Scheduled Tribes"]
[464,9,"Krishna",49,"Vissannapet ",null,null,null,null,null,null,null,null,null,null,null,null,null,null,null,null,null,null,null,null,null,null,null,null,null,null,null,null,null,null,null,null,null,null,null,null,null,null,null,null,null,null,null,null,null,null,null,null,null,null,null,null,null,null,null,null,null,1,"2225-01-800-11-07",528,"2225","Welfare of Scheduled Castes, Scheduled Tribes and Other Backward Classes","01","Welfare of Scheduled Castes","800","Other Expenditure","11","Normal State Plan","07","A.P. SC, ST Commission"]
[465,9,"Krishna",50,"Vuyyuru ",null,null,null,null,null,null,null,null,null,null,null,null,null,null,null,null,null,null,null,null,null,null,null,null,null,null,null,null,null,null,null,null,null,null,null,null,null,null,null,null,null,null,null,null,null,null,null,null,null,null,null,null,null,null,null,null,null,1,"2225-02-001-00-01",529,"2225","Welfare of Scheduled Castes, Scheduled Tribes and Other Backward Classes","02","Welfare of Scheduled Tribes","001","Direction and Administration","00",null,"01","Headquarters Office"]
[466,10,"Kurnool",1,"Adoni ",null,null,null,null,null,null,null,null,null,null,null,null,null,null,null,null,null,null,null,null,null,null,null,null,null,null,null,null,null,null,null,null,null,null,null,null,null,null,null,null,null,null,null,null,null,null,null,null,null,null,null,null,null,null,null,null,null,1,"2225-02-001-00-03",530,"2225","Welfare of Scheduled Castes, Scheduled Tribes and Other Backward Classes","02","Welfare of Scheduled Tribes","001","Direction and Administration","00",null,"03","District Offices"]
[467,10,"Kurnool",2,"Allagadda ",null,null,null,null,null,null,null,null,null,null,null,null,null,null,null,null,null,null,null,null,null,null,null,null,null,null,null,null,null,null,null,null,null,null,null,null,null,null,null,null,null,null,null,null,null,null,null,null,null,null,null,null,null,null,null,null,null,1,"2225-02-001-00-04",531,"2225","Welfare of Scheduled Castes, Scheduled Tribes and Other Backward Classes","02","Welfare of Scheduled Tribes","001","Direction and Administration","00",null,"04","Engineering Establishment, Chief Engineer Tribal Welfare"]
[468,10,"Kurnool",3,"Alur ",null,null,null,null,null,null,null,null,null,null,null,null,null,null,null,null,null,null,null,null,null,null,null,null,null,null,null,null,null,null,null,null,null,null,null,null,null,null,null,null,null,null,null,null,null,null,null,null,null,null,null,null,null,null,null,null,null,1,"2225-02-001-00-05",532,"2225","Welfare of Scheduled Castes, Scheduled Tribes and Other Backward Classes","02","Welfare of Scheduled Tribes","001","Direction and Administration","00",null,"05","Engineering Establishment, District Offices"]
[469,10,"Kurnool",4,"Aspari ",null,null,null,null,null,null,null,null,null,null,null,null,null,null,null,null,null,null,null,null,null,null,null,null,null,null,null,null,null,null,null,null,null,null,null,null,null,null,null,null,null,null,null,null,null,null,null,null,null,null,null,null,null,null,null,null,null,1,"2225-02-001-11-01",533,"2225","Welfare of Scheduled Castes, Scheduled Tribes and Other Backward Classes","02","Welfare of Scheduled Tribes","001","Direction and Administration","11","Normal State Plan","01","Headquarters Office"]
[470,10,"Kurnool",5,"Atmakur ",null,null,null,null,null,null,null,null,null,null,null,null,null,null,null,null,null,null,null,null,null,null,null,null,null,null,null,null,null,null,null,null,null,null,null,null,null,null,null,null,null,null,null,null,null,null,null,null,null,null,null,null,null,null,null,null,null,1,"2225-02-001-11-03",534,"2225","Welfare of Scheduled Castes, Scheduled Tribes and Other Backward Classes","02","Welfare of Scheduled Tribes","001","Direction and Administration","11","Normal State Plan","03","District Offices"]
[471,10,"Kurnool",6,"Banaganapalle ",null,null,null,null,null,null,null,null,null,null,null,null,null,null,null,null,null,null,null,null,null,null,null,null,null,null,null,null,null,null,null,null,null,null,null,null,null,null,null,null,null,null,null,null,null,null,null,null,null,null,null,null,null,null,null,null,null,1,"2225-02-001-11-04",535,"2225","Welfare of Scheduled Castes, Scheduled Tribes and Other Backward Classes","02","Welfare of Scheduled Tribes","001","Direction and Administration","11","Normal State Plan","04","Engineering Establishment, Chief Engineer, Tribal Welfare"]
[472,10,"Kurnool",7,"Bandi Atmakur",null,null,null,null,null,null,null,null,null,null,null,null,null,null,null,null,null,null,null,null,null,null,null,null,null,null,null,null,null,null,null,null,null,null,null,null,null,null,null,null,null,null,null,null,null,null,null,null,null,null,null,null,null,null,null,null,null,1,"2225-02-001-11-05",536,"2225","Welfare of Scheduled Castes, Scheduled Tribes and Other Backward Classes","02","Welfare of Scheduled Tribes","001","Direction and Administration","11","Normal State Plan","05","Engineering Establishment, District Offices"]
[473,10,"Kurnool",8,"Bethamcherla ",null,null,null,null,null,null,null,null,null,null,null,null,null,null,null,null,null,null,null,null,null,null,null,null,null,null,null,null,null,null,null,null,null,null,null,null,null,null,null,null,null,null,null,null,null,null,null,null,null,null,null,null,null,null,null,null,null,1,"2225-02-003-10-07",537,"2225","Welfare of Scheduled Castes, Scheduled Tribes and Other Backward Classes","02","Welfare of Scheduled Tribes","003","Training","10","Centrally Sponsored Schemes","07","Tribal Cultural Training and Research Institute (Headquarters)"]
[474,10,"Kurnool",9,"C.Belagal ",null,null,null,null,null,null,null,null,null,null,null,null,null,null,null,null,null,null,null,null,null,null,null,null,null,null,null,null,null,null,null,null,null,null,null,null,null,null,null,null,null,null,null,null,null,null,null,null,null,null,null,null,null,null,null,null,null,1,"2225-02-102-00-04",538,"2225","Welfare of Scheduled Castes, Scheduled Tribes and Other Backward Classes","02","Welfare of Scheduled Tribes","102","Economic Development","00",null,"04","Economic Support Schemes"]
[475,10,"Kurnool",10,"Chagalamarri ",null,null,null,null,null,null,null,null,null,null,null,null,null,null,null,null,null,null,null,null,null,null,null,null,null,null,null,null,null,null,null,null,null,null,null,null,null,null,null,null,null,null,null,null,null,null,null,null,null,null,null,null,null,null,null,null,null,1,"2225-02-102-11-04",539,"2225","Welfare of Scheduled Castes, Scheduled Tribes and Other Backward Classes","02","Welfare of Scheduled Tribes","102","Economic Development","11","Normal State Plan","04","Economic Support Schemes"]
[476,10,"Kurnool",11,"Chippagiri ",null,null,null,null,null,null,null,null,null,null,null,null,null,null,null,null,null,null,null,null,null,null,null,null,null,null,null,null,null,null,null,null,null,null,null,null,null,null,null,null,null,null,null,null,null,null,null,null,null,null,null,null,null,null,null,null,null,1,"2225-02-190-00-05",540,"2225","Welfare of Scheduled Castes, Scheduled Tribes and Other Backward Classes","02","Welfare of Scheduled Tribes","190","Assistance to Public Sector and Other Undertakings","00",null,"05","Financial Assistance to Public Sector and Other Undertakings"]
[477,10,"Kurnool",12,"Devanakonda ",null,null,null,null,null,null,null,null,null,null,null,null,null,null,null,null,null,null,null,null,null,null,null,null,null,null,null,null,null,null,null,null,null,null,null,null,null,null,null,null,null,null,null,null,null,null,null,null,null,null,null,null,null,null,null,null,null,1,"2225-02-277-00-04",541,"2225","Welfare of Scheduled Castes, Scheduled Tribes and Other Backward Classes","02","Welfare of Scheduled Tribes","277","Education","00",null,"04","Schools ( under the control of DSE)"]
[478,10,"Kurnool",13,"Dhone ",null,null,null,null,null,null,null,null,null,null,null,null,null,null,null,null,null,null,null,null,null,null,null,null,null,null,null,null,null,null,null,null,null,null,null,null,null,null,null,null,null,null,null,null,null,null,null,null,null,null,null,null,null,null,null,null,null,1,"2225-02-277-00-05",542,"2225","Welfare of Scheduled Castes, Scheduled Tribes and Other Backward Classes","02","Welfare of Scheduled Tribes","277","Education","00",null,"05","Educational Institutions"]
[479,10,"Kurnool",14,"Dornipadu ",null,null,null,null,null,null,null,null,null,null,null,null,null,null,null,null,null,null,null,null,null,null,null,null,null,null,null,null,null,null,null,null,null,null,null,null,null,null,null,null,null,null,null,null,null,null,null,null,null,null,null,null,null,null,null,null,null,1,"2225-02-277-00-13",543,"2225","Welfare of Scheduled Castes, Scheduled Tribes and Other Backward Classes","02","Welfare of Scheduled Tribes","277","Education","00",null,"13","College of Teacher Education (TW), Bhadrachalam ITDA"]
[480,10,"Kurnool",15,"Gadivemula ",null,null,null,null,null,null,null,null,null,null,null,null,null,null,null,null,null,null,null,null,null,null,null,null,null,null,null,null,null,null,null,null,null,null,null,null,null,null,null,null,null,null,null,null,null,null,null,null,null,null,null,null,null,null,null,null,null,1,"2225-02-277-11-05",544,"2225","Welfare of Scheduled Castes, Scheduled Tribes and Other Backward Classes","02","Welfare of Scheduled Tribes","277","Education","11","Normal State Plan","05","Educational Institutions"]
[481,10,"Kurnool",16,"Gonegandla ",null,null,null,null,null,null,null,null,null,null,null,null,null,null,null,null,null,null,null,null,null,null,null,null,null,null,null,null,null,null,null,null,null,null,null,null,null,null,null,null,null,null,null,null,null,null,null,null,null,null,null,null,null,null,null,null,null,1,"2225-02-277-11-12",545,"2225","Welfare of Scheduled Castes, Scheduled Tribes and Other Backward Classes","02","Welfare of Scheduled Tribes","277","Education","11","Normal State Plan","12","Residential Schools for Tribals"]
[482,10,"Kurnool",17,"Gospadu ",null,null,null,null,null,null,null,null,null,null,null,null,null,null,null,null,null,null,null,null,null,null,null,null,null,null,null,null,null,null,null,null,null,null,null,null,null,null,null,null,null,null,null,null,null,null,null,null,null,null,null,null,null,null,null,null,null,1,"2225-02-282-00-04",546,"2225","Welfare of Scheduled Castes, Scheduled Tribes and Other Backward Classes","02","Welfare of Scheduled Tribes","282","Health","00",null,"04","Hospitals and Dispensaries"]
[483,10,"Kurnool",18,"Gudur ",null,null,null,null,null,null,null,null,null,null,null,null,null,null,null,null,null,null,null,null,null,null,null,null,null,null,null,null,null,null,null,null,null,null,null,null,null,null,null,null,null,null,null,null,null,null,null,null,null,null,null,null,null,null,null,null,null,1,"2225-02-282-00-05",547,"2225","Welfare of Scheduled Castes, Scheduled Tribes and Other Backward Classes","02","Welfare of Scheduled Tribes","282","Health","00",null,"05","Public Health"]
[484,10,"Kurnool",19,"Halaharvi ",null,null,null,null,null,null,null,null,null,null,null,null,null,null,null,null,null,null,null,null,null,null,null,null,null,null,null,null,null,null,null,null,null,null,null,null,null,null,null,null,null,null,null,null,null,null,null,null,null,null,null,null,null,null,null,null,null,1,"2225-02-282-00-07",548,"2225","Welfare of Scheduled Castes, Scheduled Tribes and Other Backward Classes","02","Welfare of Scheduled Tribes","282","Health","00",null,"07","Hospitals and Dispensaries (under the control Director of Health and Family Welfare)"]
[485,10,"Kurnool",20,"Holagunda ",null,null,null,null,null,null,null,null,null,null,null,null,null,null,null,null,null,null,null,null,null,null,null,null,null,null,null,null,null,null,null,null,null,null,null,null,null,null,null,null,null,null,null,null,null,null,null,null,null,null,null,null,null,null,null,null,null,1,"2225-03-001-00-01",549,"2225","Welfare of Scheduled Castes, Scheduled Tribes and Other Backward Classes","03","Welfare of Backward Classes","001","Direction and Administration","00",null,"01","Headquarters Office"]
[486,10,"Kurnool",21,"Jupadu Bungalow",null,null,null,null,null,null,null,null,null,null,null,null,null,null,null,null,null,null,null,null,null,null,null,null,null,null,null,null,null,null,null,null,null,null,null,null,null,null,null,null,null,null,null,null,null,null,null,null,null,null,null,null,null,null,null,null,null,1,"2225-03-001-00-03",550,"2225","Welfare of Scheduled Castes, Scheduled Tribes and Other Backward Classes","03","Welfare of Backward Classes","001","Direction and Administration","00",null,"03","District Offices"]
[487,10,"Kurnool",22,"Kallur ",null,null,null,null,null,null,null,null,null,null,null,null,null,null,null,null,null,null,null,null,null,null,null,null,null,null,null,null,null,null,null,null,null,null,null,null,null,null,null,null,null,null,null,null,null,null,null,null,null,null,null,null,null,null,null,null,null,1,"2225-03-001-00-04",551,"2225","Welfare of Scheduled Castes, Scheduled Tribes and Other Backward Classes","03","Welfare of Backward Classes","001","Direction and Administration","00",null,"04","A.P. Commission for Backward Classes"]
[488,10,"Kurnool",23,"Kodumur ",null,null,null,null,null,null,null,null,null,null,null,null,null,null,null,null,null,null,null,null,null,null,null,null,null,null,null,null,null,null,null,null,null,null,null,null,null,null,null,null,null,null,null,null,null,null,null,null,null,null,null,null,null,null,null,null,null,1,"2225-03-001-11-01",552,"2225","Welfare of Scheduled Castes, Scheduled Tribes and Other Backward Classes","03","Welfare of Backward Classes","001","Direction and Administration","11","Normal State Plan","01","Headquarters Office"]
[489,10,"Kurnool",24,"Koilkuntla ",null,null,null,null,null,null,null,null,null,null,null,null,null,null,null,null,null,null,null,null,null,null,null,null,null,null,null,null,null,null,null,null,null,null,null,null,null,null,null,null,null,null,null,null,null,null,null,null,null,null,null,null,null,null,null,null,null,1,"2225-03-001-11-03",553,"2225","Welfare of Scheduled Castes, Scheduled Tribes and Other Backward Classes","03","Welfare of Backward Classes","001","Direction and Administration","11","Normal State Plan","03","District Offices"]
[490,10,"Kurnool",25,"Kolimigundla ",null,null,null,null,null,null,null,null,null,null,null,null,null,null,null,null,null,null,null,null,null,null,null,null,null,null,null,null,null,null,null,null,null,null,null,null,null,null,null,null,null,null,null,null,null,null,null,null,null,null,null,null,null,null,null,null,null,1,"2225-03-190-11-06",554,"2225","Welfare of Scheduled Castes, Scheduled Tribes and Other Backward Classes","03","Welfare of Backward Classes","190","Assistance to Public Sector and Other Undertakings","11","Normal State Plan","06","Financial Assistance to A.P. Nayee Brahman Cooperative Societies Federation Ltd"]
[491,10,"Kurnool",26,"Kosigi ",null,null,null,null,null,null,null,null,null,null,null,null,null,null,null,null,null,null,null,null,null,null,null,null,null,null,null,null,null,null,null,null,null,null,null,null,null,null,null,null,null,null,null,null,null,null,null,null,null,null,null,null,null,null,null,null,null,1,"2225-03-277-00-07",555,"2225","Welfare of Scheduled Castes, Scheduled Tribes and Other Backward Classes","03","Welfare of Backward Classes","277","Education","00",null,"07","Government Hostels"]
[492,10,"Kurnool",27,"Kothapalle ",null,null,null,null,null,null,null,null,null,null,null,null,null,null,null,null,null,null,null,null,null,null,null,null,null,null,null,null,null,null,null,null,null,null,null,null,null,null,null,null,null,null,null,null,null,null,null,null,null,null,null,null,null,null,null,null,null,1,"2225-03-277-00-15",556,"2225","Welfare of Scheduled Castes, Scheduled Tribes and Other Backward Classes","03","Welfare of Backward Classes","277","Education","00",null,"15","Special Libraries for Students of Professional and Special Services"]
[493,10,"Kurnool",28,"Kowthalam ",null,null,null,null,null,null,null,null,null,null,null,null,null,null,null,null,null,null,null,null,null,null,null,null,null,null,null,null,null,null,null,null,null,null,null,null,null,null,null,null,null,null,null,null,null,null,null,null,null,null,null,null,null,null,null,null,null,1,"2225-03-277-11-21",557,"2225","Welfare of Scheduled Castes, Scheduled Tribes and Other Backward Classes","03","Welfare of Backward Classes","277","Education","11","Normal State Plan","21","Assistance to APREI Society for Residential High Schools-Cum-Junior Colleges for Backward Classes"]
[494,10,"Kurnool",29,"Krishnagiri ",null,null,null,null,null,null,null,null,null,null,null,null,null,null,null,null,null,null,null,null,null,null,null,null,null,null,null,null,null,null,null,null,null,null,null,null,null,null,null,null,null,null,null,null,null,null,null,null,null,null,null,null,null,null,null,null,null,1,"2225-03-277-11-22",558,"2225","Welfare of Scheduled Castes, Scheduled Tribes and Other Backward Classes","03","Welfare of Backward Classes","277","Education","11","Normal State Plan","22","College Hostels for Boys and Girls"]
[495,10,"Kurnool",30,"Kurnool ",null,null,null,null,null,null,null,null,null,null,null,null,null,null,null,null,null,null,null,null,null,null,null,null,null,null,null,null,null,null,null,null,null,null,null,null,null,null,null,null,null,null,null,null,null,null,null,null,null,null,null,null,null,null,null,null,null,1,"2225-80-001-00-01",559,"2225","Welfare of Scheduled Castes, Scheduled Tribes and Other Backward Classes","80","General","001","Direction and Administration","00",null,"01","Headquarters Office"]
[496,10,"Kurnool",31,"Maddikera East",null,null,null,null,null,null,null,null,null,null,null,null,null,null,null,null,null,null,null,null,null,null,null,null,null,null,null,null,null,null,null,null,null,null,null,null,null,null,null,null,null,null,null,null,null,null,null,null,null,null,null,null,null,null,null,null,null,1,"2225-80-001-00-03",560,"2225","Welfare of Scheduled Castes, Scheduled Tribes and Other Backward Classes","80","General","001","Direction and Administration","00",null,"03","District Offices"]
[497,10,"Kurnool",32,"Mahanandi ",null,null,null,null,null,null,null,null,null,null,null,null,null,null,null,null,null,null,null,null,null,null,null,null,null,null,null,null,null,null,null,null,null,null,null,null,null,null,null,null,null,null,null,null,null,null,null,null,null,null,null,null,null,null,null,null,null,1,"2225-80-001-00-03",561,"2225","Welfare of Scheduled Castes, Scheduled Tribes and Other Backward Classes","80","General","001","Direction and Administration","00",null,"03","Government Hostels"]
[498,10,"Kurnool",33,"Mantralayam ",null,null,null,null,null,null,null,null,null,null,null,null,null,null,null,null,null,null,null,null,null,null,null,null,null,null,null,null,null,null,null,null,null,null,null,null,null,null,null,null,null,null,null,null,null,null,null,null,null,null,null,null,null,null,null,null,null,1,"2225-80-101-00-05",562,"2225","Welfare of Scheduled Castes, Scheduled Tribes and Other Backward Classes","80","General","101","Welfare of Denotified and Other Nomadic Tribes","00",null,"05","Hostels"]
[499,10,"Kurnool",34,"Midthur ",null,null,null,null,null,null,null,null,null,null,null,null,null,null,null,null,null,null,null,null,null,null,null,null,null,null,null,null,null,null,null,null,null,null,null,null,null,null,null,null,null,null,null,null,null,null,null,null,null,null,null,null,null,null,null,null,null,1,"2225-80-190-11-05",563,"2225","Welfare of Scheduled Castes, Scheduled Tribes and Other Backward Classes","80","General","190","Assistance to Public Sector and Other Undertakings","11","Normal State Plan","05","Assistance to A.P. State Minorities Finance Corporation Ltd.,"]
[500,10,"Kurnool",35,"Nandavaram ",null,null,null,null,null,null,null,null,null,null,null,null,null,null,null,null,null,null,null,null,null,null,null,null,null,null,null,null,null,null,null,null,null,null,null,null,null,null,null,null,null,null,null,null,null,null,null,null,null,null,null,null,null,null,null,null,null,1,"2225-80-800-00-07",564,"2225","Welfare of Scheduled Castes, Scheduled Tribes and Other Backward Classes","80","General","800","Other Expenditure","00",null,"07","Assistance to Urdu Academy"]
[501,10,"Kurnool",36,"Nandi Kotkur",null,null,null,null,null,null,null,null,null,null,null,null,null,null,null,null,null,null,null,null,null,null,null,null,null,null,null,null,null,null,null,null,null,null,null,null,null,null,null,null,null,null,null,null,null,null,null,null,null,null,null,null,null,null,null,null,null,1,"2225-80-800-00-08",565,"2225","Welfare of Scheduled Castes, Scheduled Tribes and Other Backward Classes","80","General","800","Other Expenditure","00",null,"08","Administration of Macca Masjid and Public Garden Mosque"]
[502,10,"Kurnool",37,"Nandyal ",null,null,null,null,null,null,null,null,null,null,null,null,null,null,null,null,null,null,null,null,null,null,null,null,null,null,null,null,null,null,null,null,null,null,null,null,null,null,null,null,null,null,null,null,null,null,null,null,null,null,null,null,null,null,null,null,null,1,"2225-80-800-00-10",566,"2225","Welfare of Scheduled Castes, Scheduled Tribes and Other Backward Classes","80","General","800","Other Expenditure","00",null,"10","Administration of Wakf Properties"]
[503,10,"Kurnool",38,"Orvakal ",null,null,null,null,null,null,null,null,null,null,null,null,null,null,null,null,null,null,null,null,null,null,null,null,null,null,null,null,null,null,null,null,null,null,null,null,null,null,null,null,null,null,null,null,null,null,null,null,null,null,null,null,null,null,null,null,null,1,"2225-80-800-00-11",567,"2225","Welfare of Scheduled Castes, Scheduled Tribes and Other Backward Classes","80","General","800","Other Expenditure","00",null,"11","Wakf Tribunal under Wakf"]
[504,10,"Kurnool",39,"Owk ",null,null,null,null,null,null,null,null,null,null,null,null,null,null,null,null,null,null,null,null,null,null,null,null,null,null,null,null,null,null,null,null,null,null,null,null,null,null,null,null,null,null,null,null,null,null,null,null,null,null,null,null,null,null,null,null,null,1,"2225-80-800-00-12",568,"2225","Welfare of Scheduled Castes, Scheduled Tribes and Other Backward Classes","80","General","800","Other Expenditure","00",null,"12","Andhra Pradesh Minorities Commission"]
[505,10,"Kurnool",40,"Pagidyala ",null,null,null,null,null,null,null,null,null,null,null,null,null,null,null,null,null,null,null,null,null,null,null,null,null,null,null,null,null,null,null,null,null,null,null,null,null,null,null,null,null,null,null,null,null,null,null,null,null,null,null,null,null,null,null,null,null,1,"2225-80-800-11-05",569,"2225","Welfare of Scheduled Castes, Scheduled Tribes and Other Backward Classes","80","General","800","Other Expenditure","11","Normal State Plan","05","Studies on Socio Economic Conditions and Programmes of Minorities"]
[506,10,"Kurnool",41,"Pamulapadu ",null,null,null,null,null,null,null,null,null,null,null,null,null,null,null,null,null,null,null,null,null,null,null,null,null,null,null,null,null,null,null,null,null,null,null,null,null,null,null,null,null,null,null,null,null,null,null,null,null,null,null,null,null,null,null,null,null,1,"2225-80-800-11-14",570,"2225","Welfare of Scheduled Castes, Scheduled Tribes and Other Backward Classes","80","General","800","Other Expenditure","11","Normal State Plan","14","Minority Girls Residential Schools"]
[507,10,"Kurnool",42,"Panyam ",null,null,null,null,null,null,null,null,null,null,null,null,null,null,null,null,null,null,null,null,null,null,null,null,null,null,null,null,null,null,null,null,null,null,null,null,null,null,null,null,null,null,null,null,null,null,null,null,null,null,null,null,null,null,null,null,null,1,"2230-01-001-00-01",571,"2230","Labour and Employment","01","Labour","001","Direction and Administration","00",null,"01","Headquarters Office"]
[508,10,"Kurnool",43,"Pattikanda ",null,null,null,null,null,null,null,null,null,null,null,null,null,null,null,null,null,null,null,null,null,null,null,null,null,null,null,null,null,null,null,null,null,null,null,null,null,null,null,null,null,null,null,null,null,null,null,null,null,null,null,null,null,null,null,null,null,1,"2230-01-001-00-02",572,"2230","Labour and Employment","01","Labour","001","Direction and Administration","00",null,"02","Regional Offices"]
[509,10,"Kurnool",44,"Peapally ",null,null,null,null,null,null,null,null,null,null,null,null,null,null,null,null,null,null,null,null,null,null,null,null,null,null,null,null,null,null,null,null,null,null,null,null,null,null,null,null,null,null,null,null,null,null,null,null,null,null,null,null,null,null,null,null,null,1,"2230-01-001-00-03",573,"2230","Labour and Employment","01","Labour","001","Direction and Administration","00",null,"03","District Offices"]
[510,10,"Kurnool",45,"Pedda Kadubur",null,null,null,null,null,null,null,null,null,null,null,null,null,null,null,null,null,null,null,null,null,null,null,null,null,null,null,null,null,null,null,null,null,null,null,null,null,null,null,null,null,null,null,null,null,null,null,null,null,null,null,null,null,null,null,null,null,1,"2230-01-101-00-04",574,"2230","Labour and Employment","01","Labour","101","Industrial Relations","00",null,"04","Industrial Tribunal-I, Hyderabad"]
[511,10,"Kurnool",46,"Rudravaram ",null,null,null,null,null,null,null,null,null,null,null,null,null,null,null,null,null,null,null,null,null,null,null,null,null,null,null,null,null,null,null,null,null,null,null,null,null,null,null,null,null,null,null,null,null,null,null,null,null,null,null,null,null,null,null,null,null,1,"2230-01-101-00-05",575,"2230","Labour and Employment","01","Labour","101","Industrial Relations","00",null,"05","Labour Court, Guntur"]
[512,10,"Kurnool",47,"Sanjamala ",null,null,null,null,null,null,null,null,null,null,null,null,null,null,null,null,null,null,null,null,null,null,null,null,null,null,null,null,null,null,null,null,null,null,null,null,null,null,null,null,null,null,null,null,null,null,null,null,null,null,null,null,null,null,null,null,null,1,"2230-01-101-00-06",576,"2230","Labour and Employment","01","Labour","101","Industrial Relations","00",null,"06","Labour Court-I, Hyderabad."]
[513,10,"Kurnool",48,"Sirvel ",null,null,null,null,null,null,null,null,null,null,null,null,null,null,null,null,null,null,null,null,null,null,null,null,null,null,null,null,null,null,null,null,null,null,null,null,null,null,null,null,null,null,null,null,null,null,null,null,null,null,null,null,null,null,null,null,null,1,{"$f":"CONCATENATE(BN579,\"-\",BP579,\"-\",BR579,\"-\",BT579,\"-\",BV579)","v":"2230-01-101-00-07"},577,"2230","Labour and Employment","01","Labour","101","Industrial Relations","00",null,"07","Additional Industrial Tribunal, Hyderabad"]
[514,10,"Kurnool",49,"Srisailam ",null,null,null,null,null,null,null,null,null,null,null,null,null,null,null,null,null,null,null,null,null,null,null,null,null,null,null,null,null,null,null,null,null,null,null,null,null,null,null,null,null,null,null,null,null,null,null,null,null,null,null,null,null,null,null,null,null,{"$f":"IF(EXACT($E$25,BN580),BK579+1,1)","v":1},"2230-01-101-00-08",578,"2230","Labour and Employment","01","Labour","101","Industrial Relations","00",null,"08","Labour court-cum-Industrial Tribunal, Visakhapatnam."]
[515,10,"Kurnool",50,"Tuggali ",null,null,null,null,null,null,null,null,null,null,null,null,null,null,null,null,null,null,null,null,null,null,null,null,null,null,null,null,null,null,null,null,null,null,null,null,null,null,null,null,null,null,null,null,null,null,null,null,null,null,null,null,null,null,null,null,null,1,"2230-01-101-00-09",579,"2230","Labour and Employment","01","Labour","101","Industrial Relations","00",null,"09","Labour Court, Anantapur"]
[516,10,"Kurnool",51,"Uyyalawada ",null,null,null,null,null,null,null,null,null,null,null,null,null,null,null,null,null,null,null,null,null,null,null,null,null,null,null,null,null,null,null,null,null,null,null,null,null,null,null,null,null,null,null,null,null,null,null,null,null,null,null,null,null,null,null,null,null,1,"2230-01-101-00-10",580,"2230","Labour and Employment","01","Labour","101","Industrial Relations","00",null,"10","Labour Court, Warangal."]
[517,10,"Kurnool",52,"Veldurthi ",null,null,null,null,null,null,null,null,null,null,null,null,null,null,null,null,null,null,null,null,null,null,null,null,null,null,null,null,null,null,null,null,null,null,null,null,null,null,null,null,null,null,null,null,null,null,null,null,null,null,null,null,null,null,null,null,null,1,"2230-01-101-00-11",581,"2230","Labour and Employment","01","Labour","101","Industrial Relations","00",null,"11","Labour Court, Godavarikhani."]
[518,10,"Kurnool",53,"Velgodu ",null,null,null,null,null,null,null,null,null,null,null,null,null,null,null,null,null,null,null,null,null,null,null,null,null,null,null,null,null,null,null,null,null,null,null,null,null,null,null,null,null,null,null,null,null,null,null,null,null,null,null,null,null,null,null,null,null,1,"2230-01-101-00-12",582,"2230","Labour and Employment","01","Labour","101","Industrial Relations","00",null,"12","Labour Court-II, Hyderabad"]
[519,10,"Kurnool",54,"Yemmiganur ",null,null,null,null,null,null,null,null,null,null,null,null,null,null,null,null,null,null,null,null,null,null,null,null,null,null,null,null,null,null,null,null,null,null,null,null,null,null,null,null,null,null,null,null,null,null,null,null,null,null,null,null,null,null,null,null,null,1,"2230-01-101-00-13",583,"2230","Labour and Employment","01","Labour","101","Industrial Relations","00",null,"13","Labour Court-III, Hyderabad"]
[520,11,"Mahabubnagar",1,"Achampeta ",null,null,null,null,null,null,null,null,null,null,null,null,null,null,null,null,null,null,null,null,null,null,null,null,null,null,null,null,null,null,null,null,null,null,null,null,null,null,null,null,null,null,null,null,null,null,null,null,null,null,null,null,null,null,null,null,null,1,"2230-01-101-00-14",584,"2230","Labour and Employment","01","Labour","101","Industrial Relations","00",null,"14","Industrial Tribunal-II, Hyderabad"]
[521,11,"Mahabubnagar",2,"Addakal ",null,null,null,null,null,null,null,null,null,null,null,null,null,null,null,null,null,null,null,null,null,null,null,null,null,null,null,null,null,null,null,null,null,null,null,null,null,null,null,null,null,null,null,null,null,null,null,null,null,null,null,null,null,null,null,null,null,1,"2230-01-102-00-01",585,"2230","Labour and Employment","01","Labour","102","Working Conditions and Safety","00",null,"01","Headquarters Office (Director of Factories)"]
[522,11,"Mahabubnagar",3,"Aiza ",null,null,null,null,null,null,null,null,null,null,null,null,null,null,null,null,null,null,null,null,null,null,null,null,null,null,null,null,null,null,null,null,null,null,null,null,null,null,null,null,null,null,null,null,null,null,null,null,null,null,null,null,null,null,null,null,null,1,"2230-01-102-00-04",586,"2230","Labour and Employment","01","Labour","102","Working Conditions and Safety","00",null,"04","Inspectors of Factories"]
[523,11,"Mahabubnagar",4,"Alampur ",null,null,null,null,null,null,null,null,null,null,null,null,null,null,null,null,null,null,null,null,null,null,null,null,null,null,null,null,null,null,null,null,null,null,null,null,null,null,null,null,null,null,null,null,null,null,null,null,null,null,null,null,null,null,null,null,null,1,"2230-01-102-00-05",587,"2230","Labour and Employment","01","Labour","102","Working Conditions and Safety","00",null,"05","Chief Inspector of Boilers"]
[524,11,"Mahabubnagar",5,"Amangal ",null,null,null,null,null,null,null,null,null,null,null,null,null,null,null,null,null,null,null,null,null,null,null,null,null,null,null,null,null,null,null,null,null,null,null,null,null,null,null,null,null,null,null,null,null,null,null,null,null,null,null,null,null,null,null,null,null,1,"2230-01-102-00-06",588,"2230","Labour and Employment","01","Labour","102","Working Conditions and Safety","00",null,"06","Inspector of Boilers"]
[525,11,"Mahabubnagar",6,"Amrabad ",null,null,null,null,null,null,null,null,null,null,null,null,null,null,null,null,null,null,null,null,null,null,null,null,null,null,null,null,null,null,null,null,null,null,null,null,null,null,null,null,null,null,null,null,null,null,null,null,null,null,null,null,null,null,null,null,null,1,"2230-01-102-11-04",589,"2230","Labour and Employment","01","Labour","102","Working Conditions and Safety","11","Normal State Plan","04","Inspectors of Factories"]
[526,11,"Mahabubnagar",7,"Atmakur ",null,null,null,null,null,null,null,null,null,null,null,null,null,null,null,null,null,null,null,null,null,null,null,null,null,null,null,null,null,null,null,null,null,null,null,null,null,null,null,null,null,null,null,null,null,null,null,null,null,null,null,null,null,null,null,null,null,1,"2230-01-103-00-04",590,"2230","Labour and Employment","01","Labour","103","General Labour Welfare","00",null,"04","Industrial Welfare and Housing"]
[527,11,"Mahabubnagar",8,"Balanagar ",null,null,null,null,null,null,null,null,null,null,null,null,null,null,null,null,null,null,null,null,null,null,null,null,null,null,null,null,null,null,null,null,null,null,null,null,null,null,null,null,null,null,null,null,null,null,null,null,null,null,null,null,null,null,null,null,null,1,"2230-02-001-00-01",591,"2230","Labour and Employment","02","Employment Services","001","Direction and Administration","00",null,"01","Headquarters Office"]
[528,11,"Mahabubnagar",9,"Balmoor ",null,null,null,null,null,null,null,null,null,null,null,null,null,null,null,null,null,null,null,null,null,null,null,null,null,null,null,null,null,null,null,null,null,null,null,null,null,null,null,null,null,null,null,null,null,null,null,null,null,null,null,null,null,null,null,null,null,1,"2230-02-101-00-04",592,"2230","Labour and Employment","02","Employment Services","101","Employment Services","00",null,"04","Employment Exchanges"]
[529,11,"Mahabubnagar",10,"Bhoothpur ",null,null,null,null,null,null,null,null,null,null,null,null,null,null,null,null,null,null,null,null,null,null,null,null,null,null,null,null,null,null,null,null,null,null,null,null,null,null,null,null,null,null,null,null,null,null,null,null,null,null,null,null,null,null,null,null,null,1,"2230-02-101-00-05",593,"2230","Labour and Employment","02","Employment Services","101","Employment Services","00",null,"05","District Surplus Man Power Cell"]
[530,11,"Mahabubnagar",11,"Bijinapalle ",null,null,null,null,null,null,null,null,null,null,null,null,null,null,null,null,null,null,null,null,null,null,null,null,null,null,null,null,null,null,null,null,null,null,null,null,null,null,null,null,null,null,null,null,null,null,null,null,null,null,null,null,null,null,null,null,null,1,"2230-02-101-11-04",594,"2230","Labour and Employment","02","Employment Services","101","Employment Services","11","Normal State Plan","04","Employment Exchanges"]
[531,11,"Mahabubnagar",12,"Bomraspeta ",null,null,null,null,null,null,null,null,null,null,null,null,null,null,null,null,null,null,null,null,null,null,null,null,null,null,null,null,null,null,null,null,null,null,null,null,null,null,null,null,null,null,null,null,null,null,null,null,null,null,null,null,null,null,null,null,null,1,"2230-02-102-11-05",595,"2230","Labour and Employment","02","Employment Services","102","Assistance to Urban Poor","11","Normal State Plan","05","Employment to the Urban Poor Under Swarna Jayanthi Sahari  Rojgar Yojana"]
[532,11,"Mahabubnagar",13,"Chinna Chinta Kunta",null,null,null,null,null,null,null,null,null,null,null,null,null,null,null,null,null,null,null,null,null,null,null,null,null,null,null,null,null,null,null,null,null,null,null,null,null,null,null,null,null,null,null,null,null,null,null,null,null,null,null,null,null,null,null,null,null,1,"2230-03-001-11-01",596,"2230","Labour and Employment","03","Training","001","Direction and Administration","11","Normal State Plan","01","Headquarters Office"]
[533,11,"Mahabubnagar",14,"Damaragidda ",null,null,null,null,null,null,null,null,null,null,null,null,null,null,null,null,null,null,null,null,null,null,null,null,null,null,null,null,null,null,null,null,null,null,null,null,null,null,null,null,null,null,null,null,null,null,null,null,null,null,null,null,null,null,null,null,null,1,"2230-03-101-00-04",597,"2230","Labour and Employment","03","Training","101","Industrial Training Institutes","00",null,"04","Industrial Training Institutes"]
[534,11,"Mahabubnagar",15,"Devarkadara ",null,null,null,null,null,null,null,null,null,null,null,null,null,null,null,null,null,null,null,null,null,null,null,null,null,null,null,null,null,null,null,null,null,null,null,null,null,null,null,null,null,null,null,null,null,null,null,null,null,null,null,null,null,null,null,null,null,1,"2230-03-101-06-04",598,"2230","Labour and Employment","03","Training","101","Industrial Training Institutes","06","Matching State Share of Centrally Sponsored Schemes","04","Industrial Training Institutes"]
[535,11,"Mahabubnagar",16,"Dhanwada ",null,null,null,null,null,null,null,null,null,null,null,null,null,null,null,null,null,null,null,null,null,null,null,null,null,null,null,null,null,null,null,null,null,null,null,null,null,null,null,null,null,null,null,null,null,null,null,null,null,null,null,null,null,null,null,null,null,1,"2230-03-101-10-04",599,"2230","Labour and Employment","03","Training","101","Industrial Training Institutes","10","Centrally Sponsored Schemes","04","Industrial Training Institutes"]
[536,11,"Mahabubnagar",17,"Dharur ",null,null,null,null,null,null,null,null,null,null,null,null,null,null,null,null,null,null,null,null,null,null,null,null,null,null,null,null,null,null,null,null,null,null,null,null,null,null,null,null,null,null,null,null,null,null,null,null,null,null,null,null,null,null,null,null,null,1,"2230-03-101-10-07",600,"2230","Labour and Employment","03","Training","101","Industrial Training Institutes","10","Centrally Sponsored Schemes","07","Instructors Training Wing"]
[537,11,"Mahabubnagar",18,"Doulatabad ",null,null,null,null,null,null,null,null,null,null,null,null,null,null,null,null,null,null,null,null,null,null,null,null,null,null,null,null,null,null,null,null,null,null,null,null,null,null,null,null,null,null,null,null,null,null,null,null,null,null,null,null,null,null,null,null,null,1,"2230-03-101-11-04",601,"2230","Labour and Employment","03","Training","101","Industrial Training Institutes","11","Normal State Plan","04","Industrial Training Institutes"]
[538,11,"Mahabubnagar",19,"Farooqnagar ",null,null,null,null,null,null,null,null,null,null,null,null,null,null,null,null,null,null,null,null,null,null,null,null,null,null,null,null,null,null,null,null,null,null,null,null,null,null,null,null,null,null,null,null,null,null,null,null,null,null,null,null,null,null,null,null,null,1,"2230-03-102-00-04",602,"2230","Labour and Employment","03","Training","102","Apprenticeship Training","00",null,"04","Apprenticeship Training Schemes"]
[539,11,"Mahabubnagar",20,"Gadwal ",null,null,null,null,null,null,null,null,null,null,null,null,null,null,null,null,null,null,null,null,null,null,null,null,null,null,null,null,null,null,null,null,null,null,null,null,null,null,null,null,null,null,null,null,null,null,null,null,null,null,null,null,null,null,null,null,null,1,"2230-03-102-11-04",603,"2230","Labour and Employment","03","Training","102","Apprenticeship Training","11","Normal State Plan","04","Apprenticeship Training Schemes"]
[540,11,"Mahabubnagar",21,"Ghanpur ",null,null,null,null,null,null,null,null,null,null,null,null,null,null,null,null,null,null,null,null,null,null,null,null,null,null,null,null,null,null,null,null,null,null,null,null,null,null,null,null,null,null,null,null,null,null,null,null,null,null,null,null,null,null,null,null,null,1,"2230-03-789-11-04",604,"2230","Labour and Employment","03","Training","789","Special Component Plan for Scheduled Castes","11","Normal State Plan","04","Industrial Training Institutes"]
[541,11,"Mahabubnagar",22,"Ghattu ",null,null,null,null,null,null,null,null,null,null,null,null,null,null,null,null,null,null,null,null,null,null,null,null,null,null,null,null,null,null,null,null,null,null,null,null,null,null,null,null,null,null,null,null,null,null,null,null,null,null,null,null,null,null,null,null,null,1,"2230-03-796-11-04",605,"2230","Labour and Employment","03","Training","796","Tribal Areas Sub-Plan","11","Normal State Plan","04","Industrial Training Institutes"]
[542,11,"Mahabubnagar",23,"Gopalpeta ",null,null,null,null,null,null,null,null,null,null,null,null,null,null,null,null,null,null,null,null,null,null,null,null,null,null,null,null,null,null,null,null,null,null,null,null,null,null,null,null,null,null,null,null,null,null,null,null,null,null,null,null,null,null,null,null,null,1,"2235-01-140-00-04",606,"2235","Social Security and Welfare","01","Rehabilitation","140","Rehabilitation of Repatriates from Other Countries","00",null,"04","Relief Works for Rehabilitation of repatriates from Burma"]
[543,11,"Mahabubnagar",24,"Hanwada ",null,null,null,null,null,null,null,null,null,null,null,null,null,null,null,null,null,null,null,null,null,null,null,null,null,null,null,null,null,null,null,null,null,null,null,null,null,null,null,null,null,null,null,null,null,null,null,null,null,null,null,null,null,null,null,null,null,1,"2235-02-101-00-01",607,"2235","Social Security and Welfare","02","Social Welfare","101"," Welfare of Handicapped","00",null,"01","Headquarters Office"]
[544,11,"Mahabubnagar",25,"Itikyal ",null,null,null,null,null,null,null,null,null,null,null,null,null,null,null,null,null,null,null,null,null,null,null,null,null,null,null,null,null,null,null,null,null,null,null,null,null,null,null,null,null,null,null,null,null,null,null,null,null,null,null,null,null,null,null,null,null,1,"2235-02-101-00-03",608,"2235","Social Security and Welfare","02","Social Welfare","101"," Welfare of Handicapped","00",null,"03","District Offices"]
[545,11,"Mahabubnagar",26,"Jadcherla ",null,null,null,null,null,null,null,null,null,null,null,null,null,null,null,null,null,null,null,null,null,null,null,null,null,null,null,null,null,null,null,null,null,null,null,null,null,null,null,null,null,null,null,null,null,null,null,null,null,null,null,null,null,null,null,null,null,1,"2235-02-101-00-40",609,"2235","Social Security and Welfare","02","Social Welfare","101"," Welfare of Handicapped","00",null,"40","Managerial subsidy to A.P Vikalangula Co-operative Corporation"]
[546,11,"Mahabubnagar",27,"Kalwakurthy ",null,null,null,null,null,null,null,null,null,null,null,null,null,null,null,null,null,null,null,null,null,null,null,null,null,null,null,null,null,null,null,null,null,null,null,null,null,null,null,null,null,null,null,null,null,null,null,null,null,null,null,null,null,null,null,null,null,1,"2235-02-101-00-44",610,"2235","Social Security and Welfare","02","Social Welfare","101"," Welfare of Handicapped","00",null,"44","Government Residential Schools for Disabled under control of Director for Disabled/Handicapped"]
[547,11,"Mahabubnagar",28,"Keshampeta ",null,null,null,null,null,null,null,null,null,null,null,null,null,null,null,null,null,null,null,null,null,null,null,null,null,null,null,null,null,null,null,null,null,null,null,null,null,null,null,null,null,null,null,null,null,null,null,null,null,null,null,null,null,null,null,null,null,1,"2235-02-101-11-01",611,"2235","Social Security and Welfare","02","Social Welfare","101"," Welfare of Handicapped","11","Normal State Plan","01","Headquarters Office (Directorate of Handicapped)"]
[548,11,"Mahabubnagar",29,"Kodair ",null,null,null,null,null,null,null,null,null,null,null,null,null,null,null,null,null,null,null,null,null,null,null,null,null,null,null,null,null,null,null,null,null,null,null,null,null,null,null,null,null,null,null,null,null,null,null,null,null,null,null,null,null,null,null,null,null,1,"2235-02-101-11-03",612,"2235","Social Security and Welfare","02","Social Welfare","101"," Welfare of Handicapped","11","Normal State Plan","03","District Offices"]
[549,11,"Mahabubnagar",30,"Kodangal ",null,null,null,null,null,null,null,null,null,null,null,null,null,null,null,null,null,null,null,null,null,null,null,null,null,null,null,null,null,null,null,null,null,null,null,null,null,null,null,null,null,null,null,null,null,null,null,null,null,null,null,null,null,null,null,null,null,1,"2235-02-101-11-40",613,"2235","Social Security and Welfare","02","Social Welfare","101"," Welfare of Handicapped","11","Normal State Plan","40","Managerial Subsidy to A.P. Vikalangula Co-operative Corporation"]
[550,11,"Mahabubnagar",31,"Koilkonda ",null,null,null,null,null,null,null,null,null,null,null,null,null,null,null,null,null,null,null,null,null,null,null,null,null,null,null,null,null,null,null,null,null,null,null,null,null,null,null,null,null,null,null,null,null,null,null,null,null,null,null,null,null,null,null,null,null,1,"2235-02-101-11-44",614,"2235","Social Security and Welfare","02","Social Welfare","101"," Welfare of Handicapped","11","Normal State Plan","44","Government Residential Schools for Handicapped (under the Control of Commissioner for the  Disabled Welfare)"]
[551,11,"Mahabubnagar",32,"Kollapur ",null,null,null,null,null,null,null,null,null,null,null,null,null,null,null,null,null,null,null,null,null,null,null,null,null,null,null,null,null,null,null,null,null,null,null,null,null,null,null,null,null,null,null,null,null,null,null,null,null,null,null,null,null,null,null,null,null,1,"2235-02-101-11-47",615,"2235","Social Security and Welfare","02","Social Welfare","101"," Welfare of Handicapped","11","Normal State Plan","47","Opening and Maintenance of Junior College for Hearing Handicapped"]
[552,11,"Mahabubnagar",33,"Kondurg ",null,null,null,null,null,null,null,null,null,null,null,null,null,null,null,null,null,null,null,null,null,null,null,null,null,null,null,null,null,null,null,null,null,null,null,null,null,null,null,null,null,null,null,null,null,null,null,null,null,null,null,null,null,null,null,null,null,1,"2235-02-102-00-06",616,"2235","Social Security and Welfare","02","Social Welfare","102","Child Welfare","00",null,"06","Integrated Child Development Programmes"]
[553,11,"Mahabubnagar",34,"Kosgi ",null,null,null,null,null,null,null,null,null,null,null,null,null,null,null,null,null,null,null,null,null,null,null,null,null,null,null,null,null,null,null,null,null,null,null,null,null,null,null,null,null,null,null,null,null,null,null,null,null,null,null,null,null,null,null,null,null,1,"2235-02-102-00-09",617,"2235","Social Security and Welfare","02","Social Welfare","102","Child Welfare","00",null,"09","Integrated Child Development Services Schemes"]
[554,11,"Mahabubnagar",35,"Kothakota ",null,null,null,null,null,null,null,null,null,null,null,null,null,null,null,null,null,null,null,null,null,null,null,null,null,null,null,null,null,null,null,null,null,null,null,null,null,null,null,null,null,null,null,null,null,null,null,null,null,null,null,null,null,null,null,null,null,1,"2235-02-102-00-10",618,"2235","Social Security and Welfare","02","Social Welfare","102","Child Welfare","00",null,"10","Service for Children in need of care and protection"]
[555,11,"Mahabubnagar",36,"Kothur ",null,null,null,null,null,null,null,null,null,null,null,null,null,null,null,null,null,null,null,null,null,null,null,null,null,null,null,null,null,null,null,null,null,null,null,null,null,null,null,null,null,null,null,null,null,null,null,null,null,null,null,null,null,null,null,null,null,1,"2235-02-102-06-09",619,"2235","Social Security and Welfare","02","Social Welfare","102","Child Welfare","06","Matching State Share of Centrally Sponsored Schemes","09","Integrated Child Development Services Schemes"]
[556,11,"Mahabubnagar",37,"Lingal ",null,null,null,null,null,null,null,null,null,null,null,null,null,null,null,null,null,null,null,null,null,null,null,null,null,null,null,null,null,null,null,null,null,null,null,null,null,null,null,null,null,null,null,null,null,null,null,null,null,null,null,null,null,null,null,null,null,1,"2235-02-102-06-11",620,"2235","Social Security and Welfare","02","Social Welfare","102","Child Welfare","06","Matching State Share of Centrally Sponsored Schemes","11","Training Programmes under ICDS"]
[557,11,"Mahabubnagar",38,"Maddur ",null,null,null,null,null,null,null,null,null,null,null,null,null,null,null,null,null,null,null,null,null,null,null,null,null,null,null,null,null,null,null,null,null,null,null,null,null,null,null,null,null,null,null,null,null,null,null,null,null,null,null,null,null,null,null,null,null,1,"2235-02-102-10-09",621,"2235","Social Security and Welfare","02","Social Welfare","102","Child Welfare","10","Centrally Sponsored Schemes","09","Integrated Child Development Services Schemes"]
[558,11,"Mahabubnagar",39,"Madgul ",null,null,null,null,null,null,null,null,null,null,null,null,null,null,null,null,null,null,null,null,null,null,null,null,null,null,null,null,null,null,null,null,null,null,null,null,null,null,null,null,null,null,null,null,null,null,null,null,null,null,null,null,null,null,null,null,null,1,"2235-02-102-10-11",622,"2235","Social Security and Welfare","02","Social Welfare","102","Child Welfare","10","Centrally Sponsored Schemes","11","Training Programmes under ICDS"]
[559,11,"Mahabubnagar",40,"Maganoor ",null,null,null,null,null,null,null,null,null,null,null,null,null,null,null,null,null,null,null,null,null,null,null,null,null,null,null,null,null,null,null,null,null,null,null,null,null,null,null,null,null,null,null,null,null,null,null,null,null,null,null,null,null,null,null,null,null,1,"2235-02-102-10-13",623,"2235","Social Security and Welfare","02","Social Welfare","102","Child Welfare","10","Centrally Sponsored Schemes","13","IDA Assisted I.C.D.S.-IV Project"]
[560,11,"Mahabubnagar",41,"Mahbubnagar ",null,null,null,null,null,null,null,null,null,null,null,null,null,null,null,null,null,null,null,null,null,null,null,null,null,null,null,null,null,null,null,null,null,null,null,null,null,null,null,null,null,null,null,null,null,null,null,null,null,null,null,null,null,null,null,null,null,1,"2235-02-102-11-01",624,"2235","Social Security and Welfare","02","Social Welfare","102","Child Welfare","11","Normal State Plan","01","Headquarters Office"]
[561,11,"Mahabubnagar",42,"Makthal ",null,null,null,null,null,null,null,null,null,null,null,null,null,null,null,null,null,null,null,null,null,null,null,null,null,null,null,null,null,null,null,null,null,null,null,null,null,null,null,null,null,null,null,null,null,null,null,null,null,null,null,null,null,null,null,null,null,1,"2235-02-102-11-09",625,"2235","Social Security and Welfare","02","Social Welfare","102","Child Welfare","11","Normal State Plan","09","Integrated Child Development Services Schemes"]
[562,11,"Mahabubnagar",43,"Maldakal ",null,null,null,null,null,null,null,null,null,null,null,null,null,null,null,null,null,null,null,null,null,null,null,null,null,null,null,null,null,null,null,null,null,null,null,null,null,null,null,null,null,null,null,null,null,null,null,null,null,null,null,null,null,null,null,null,null,1,"2235-02-102-11-10",626,"2235","Social Security and Welfare","02","Social Welfare","102","Child Welfare","11","Normal State Plan","10","Services for Children in need of Care and Protection"]
[563,11,"Mahabubnagar",44,"Manopadu ",null,null,null,null,null,null,null,null,null,null,null,null,null,null,null,null,null,null,null,null,null,null,null,null,null,null,null,null,null,null,null,null,null,null,null,null,null,null,null,null,null,null,null,null,null,null,null,null,null,null,null,null,null,null,null,null,null,1,"2235-02-102-11-15",627,"2235","Social Security and Welfare","02","Social Welfare","102","Child Welfare","11","Normal State Plan","15","Girl Child Protection Scheme"]
[564,11,"Mahabubnagar",45,"Midjil ",null,null,null,null,null,null,null,null,null,null,null,null,null,null,null,null,null,null,null,null,null,null,null,null,null,null,null,null,null,null,null,null,null,null,null,null,null,null,null,null,null,null,null,null,null,null,null,null,null,null,null,null,null,null,null,null,null,1,"2235-02-103-00-01",628,"2235","Social Security and Welfare","02","Social Welfare","103","Women's Welfare","00",null,"01","Headquarters Office"]
[565,11,"Mahabubnagar",46,"Nagar Kurnool",null,null,null,null,null,null,null,null,null,null,null,null,null,null,null,null,null,null,null,null,null,null,null,null,null,null,null,null,null,null,null,null,null,null,null,null,null,null,null,null,null,null,null,null,null,null,null,null,null,null,null,null,null,null,null,null,null,1,"2235-02-103-00-03",629,"2235","Social Security and Welfare","02","Social Welfare","103","Women's Welfare","00",null,"03","District Offices"]
[566,11,"Mahabubnagar",47,"Narayanpet ",null,null,null,null,null,null,null,null,null,null,null,null,null,null,null,null,null,null,null,null,null,null,null,null,null,null,null,null,null,null,null,null,null,null,null,null,null,null,null,null,null,null,null,null,null,null,null,null,null,null,null,null,null,null,null,null,null,1,"2235-02-103-00-06",630,"2235","Social Security and Welfare","02","Social Welfare","103","Women's Welfare","00",null,"06","Women's Welfare Centres"]
[567,11,"Mahabubnagar",48,"Narva ",null,null,null,null,null,null,null,null,null,null,null,null,null,null,null,null,null,null,null,null,null,null,null,null,null,null,null,null,null,null,null,null,null,null,null,null,null,null,null,null,null,null,null,null,null,null,null,null,null,null,null,null,null,null,null,null,null,1,"2235-02-103-00-22",631,"2235","Social Security and Welfare","02","Social Welfare","103","Women's Welfare","00",null,"22","State Social Welfare Advisory Board"]
[568,11,"Mahabubnagar",49,"Nawabpet ",null,null,null,null,null,null,null,null,null,null,null,null,null,null,null,null,null,null,null,null,null,null,null,null,null,null,null,null,null,null,null,null,null,null,null,null,null,null,null,null,null,null,null,null,null,null,null,null,null,null,null,null,null,null,null,null,null,1,"2235-02-103-11-24",632,"2235","Social Security and Welfare","02","Social Welfare","103","Women's Welfare","11","Normal State Plan","24","State Commission for Women"]
[569,11,"Mahabubnagar",50,"Pangal ",null,null,null,null,null,null,null,null,null,null,null,null,null,null,null,null,null,null,null,null,null,null,null,null,null,null,null,null,null,null,null,null,null,null,null,null,null,null,null,null,null,null,null,null,null,null,null,null,null,null,null,null,null,null,null,null,null,1,"2235-02-103-11-28",633,"2235","Social Security and Welfare","02","Social Welfare","103","Women's Welfare","11","Normal State Plan","28","Schemes for implementation of protection for Women from Domestic Violence"]
[570,11,"Mahabubnagar",51,"Pebbair ",null,null,null,null,null,null,null,null,null,null,null,null,null,null,null,null,null,null,null,null,null,null,null,null,null,null,null,null,null,null,null,null,null,null,null,null,null,null,null,null,null,null,null,null,null,null,null,null,null,null,null,null,null,null,null,null,null,1,"2235-02-104-00-04",634,"2235","Social Security and Welfare","02","Social Welfare","104","Welfare of Aged, Infirm and Destitute","00",null,"04","Home for Welfare of Aged infirm and destitute"]
[571,11,"Mahabubnagar",52,"Peddakothapalle ",null,null,null,null,null,null,null,null,null,null,null,null,null,null,null,null,null,null,null,null,null,null,null,null,null,null,null,null,null,null,null,null,null,null,null,null,null,null,null,null,null,null,null,null,null,null,null,null,null,null,null,null,null,null,null,null,null,1,"2235-02-106-00-01",635,"2235","Social Security and Welfare","02","Social Welfare","106","Correctional Services","00",null,"01","Headquarters Office"]
[572,11,"Mahabubnagar",53,"Peddamandadi ",null,null,null,null,null,null,null,null,null,null,null,null,null,null,null,null,null,null,null,null,null,null,null,null,null,null,null,null,null,null,null,null,null,null,null,null,null,null,null,null,null,null,null,null,null,null,null,null,null,null,null,null,null,null,null,null,null,1,"2235-02-106-00-02",636,"2235","Social Security and Welfare","02","Social Welfare","106","Correctional Services","00",null,"02","Regional Offices"]
[573,11,"Mahabubnagar",54,"Tadoor ",null,null,null,null,null,null,null,null,null,null,null,null,null,null,null,null,null,null,null,null,null,null,null,null,null,null,null,null,null,null,null,null,null,null,null,null,null,null,null,null,null,null,null,null,null,null,null,null,null,null,null,null,null,null,null,null,null,1,"2235-02-106-00-04",637,"2235","Social Security and Welfare","02","Social Welfare","106","Correctional Services","00",null,"04","Certified Schools and Homes"]
[574,11,"Mahabubnagar",55,"Talakondapalle ",null,null,null,null,null,null,null,null,null,null,null,null,null,null,null,null,null,null,null,null,null,null,null,null,null,null,null,null,null,null,null,null,null,null,null,null,null,null,null,null,null,null,null,null,null,null,null,null,null,null,null,null,null,null,null,null,null,1,"2235-02-106-06-04",638,"2235","Social Security and Welfare","02","Social Welfare","106","Correctional Services","06","Matching State Share of Centrally Sponsored Schemes","04","Certified Schools and Homes"]
[575,11,"Mahabubnagar",56,"Telkapalle ",null,null,null,null,null,null,null,null,null,null,null,null,null,null,null,null,null,null,null,null,null,null,null,null,null,null,null,null,null,null,null,null,null,null,null,null,null,null,null,null,null,null,null,null,null,null,null,null,null,null,null,null,null,null,null,null,null,1,"2235-02-106-10-04",639,"2235","Social Security and Welfare","02","Social Welfare","106","Correctional Services","10","Centrally Sponsored Schemes","04","Certified Schools and Homes"]
[576,11,"Mahabubnagar",57,"Thimmajipeta ",null,null,null,null,null,null,null,null,null,null,null,null,null,null,null,null,null,null,null,null,null,null,null,null,null,null,null,null,null,null,null,null,null,null,null,null,null,null,null,null,null,null,null,null,null,null,null,null,null,null,null,null,null,null,null,null,null,1,"2235-02-789-11-05",640,"2235","Social Security and Welfare","02","Social Welfare","789","Special Component Plan for Scheduled Castes","11","Normal State Plan","05","Women Welfare Centres"]
[577,11,"Mahabubnagar",58,"Uppununthala ",null,null,null,null,null,null,null,null,null,null,null,null,null,null,null,null,null,null,null,null,null,null,null,null,null,null,null,null,null,null,null,null,null,null,null,null,null,null,null,null,null,null,null,null,null,null,null,null,null,null,null,null,null,null,null,null,null,1,{"$f":"CONCATENATE(BN643,\"-\",BP643,\"-\",BR643,\"-\",BT643,\"-\",BV643)","v":"2235-02-789-11-40"},641,"2235","Social Security and Welfare","02","Social Welfare","789","Special Component Plan for Scheduled Castes","11","Normal State Plan","40","Managerial Subsidy to A.P. Vikalangula Co-operative Corporation"]
[578,11,"Mahabubnagar",59,"Utkoor ",null,null,null,null,null,null,null,null,null,null,null,null,null,null,null,null,null,null,null,null,null,null,null,null,null,null,null,null,null,null,null,null,null,null,null,null,null,null,null,null,null,null,null,null,null,null,null,null,null,null,null,null,null,null,null,null,null,{"$f":"IF(EXACT($E$25,BN644),BK643+1,1)","v":1},"2235-02-796-10-05",642,"2235","Social Security and Welfare","02","Social Welfare","796","Tribal Areas Sub-Plan","10","Centrally Sponsored Schemes","05","Integrated Child Development Services Schemes"]
[579,11,"Mahabubnagar",60,"Vangoor ",null,null,null,null,null,null,null,null,null,null,null,null,null,null,null,null,null,null,null,null,null,null,null,null,null,null,null,null,null,null,null,null,null,null,null,null,null,null,null,null,null,null,null,null,null,null,null,null,null,null,null,null,null,null,null,null,null,1,"2235-02-796-11-40",643,"2235","Social Security and Welfare","02","Social Welfare","796","Tribal Areas Sub-Plan","11","Normal State Plan","40","Managerial Subsidy to A.P. Vikalangula Co-operative Corporation"]
[580,11,"Mahabubnagar",61,"Veepangandla ",null,null,null,null,null,null,null,null,null,null,null,null,null,null,null,null,null,null,null,null,null,null,null,null,null,null,null,null,null,null,null,null,null,null,null,null,null,null,null,null,null,null,null,null,null,null,null,null,null,null,null,null,null,null,null,null,null,1,"2235-60-105-00-01",644,"2235","Social Security and Welfare","60","Other Social Security and Welfare Programmes","105","Government Employees Insurance Schemes","00",null,"01","Headquarters Office"]
[581,11,"Mahabubnagar",62,"Veldanda ",null,null,null,null,null,null,null,null,null,null,null,null,null,null,null,null,null,null,null,null,null,null,null,null,null,null,null,null,null,null,null,null,null,null,null,null,null,null,null,null,null,null,null,null,null,null,null,null,null,null,null,null,null,null,null,null,null,1,"2235-60-105-00-03",645,"2235","Social Security and Welfare","60","Other Social Security and Welfare Programmes","105","Government Employees Insurance Schemes","00",null,"03","District Offices"]
[582,11,"Mahabubnagar",63,"Waddepalle ",null,null,null,null,null,null,null,null,null,null,null,null,null,null,null,null,null,null,null,null,null,null,null,null,null,null,null,null,null,null,null,null,null,null,null,null,null,null,null,null,null,null,null,null,null,null,null,null,null,null,null,null,null,null,null,null,null,1,"2235-60-105-00-04",646,"2235","Social Security and Welfare","60","Other Social Security and Welfare Programmes","105","Government Employees Insurance Schemes","00",null,"04","Group Insurance Scheme"]
[583,11,"Mahabubnagar",64,"Wanaparthy ",null,null,null,null,null,null,null,null,null,null,null,null,null,null,null,null,null,null,null,null,null,null,null,null,null,null,null,null,null,null,null,null,null,null,null,null,null,null,null,null,null,null,null,null,null,null,null,null,null,null,null,null,null,null,null,null,null,1,"2235-60-200-00-01",647,"2235","Social Security and Welfare","60","Other Social Security and Welfare Programmes","200","Other Programmes","00",null,"01","Head Quarters Office (Directorate of Sainik Welfare)"]
[584,12,"Medak",1,"Alladurg ",null,null,null,null,null,null,null,null,null,null,null,null,null,null,null,null,null,null,null,null,null,null,null,null,null,null,null,null,null,null,null,null,null,null,null,null,null,null,null,null,null,null,null,null,null,null,null,null,null,null,null,null,null,null,null,null,null,1,"2235-60-200-00-03",648,"2235","Social Security and Welfare","60","Other Social Security and Welfare Programmes","200","Other Programmes","00",null,"03","District Offices (Zilla Sainik Welfare Offices)"]
[585,12,"Medak",2,"Andole ",null,null,null,null,null,null,null,null,null,null,null,null,null,null,null,null,null,null,null,null,null,null,null,null,null,null,null,null,null,null,null,null,null,null,null,null,null,null,null,null,null,null,null,null,null,null,null,null,null,null,null,null,null,null,null,null,null,1,"2235-60-200-00-04",649,"2235","Social Security and Welfare","60","Other Social Security and Welfare Programmes","200","Other Programmes","00",null,"04","Relief to affected persons on account of Public Disturbances"]
[586,12,"Medak",3,"Chegunta ",null,null,null,null,null,null,null,null,null,null,null,null,null,null,null,null,null,null,null,null,null,null,null,null,null,null,null,null,null,null,null,null,null,null,null,null,null,null,null,null,null,null,null,null,null,null,null,null,null,null,null,null,null,null,null,null,null,1,"2235-60-200-11-01",650,"2235","Social Security and Welfare","60","Other Social Security and Welfare Programmes","200","Other Programmes","11","Normal State Plan","01","Head-Quarters Office (Directorate of Sainik Welfare)"]
[587,12,"Medak",4,"Chinna Kodur",null,null,null,null,null,null,null,null,null,null,null,null,null,null,null,null,null,null,null,null,null,null,null,null,null,null,null,null,null,null,null,null,null,null,null,null,null,null,null,null,null,null,null,null,null,null,null,null,null,null,null,null,null,null,null,null,null,1,"2235-60-200-11-03",651,"2235","Social Security and Welfare","60","Other Social Security and Welfare Programmes","200","Other Programmes","11","Normal State Plan","03","District Offices (Zilla Sainik Welfare Offices)"]
[588,12,"Medak",5,"Doultabad ",null,null,null,null,null,null,null,null,null,null,null,null,null,null,null,null,null,null,null,null,null,null,null,null,null,null,null,null,null,null,null,null,null,null,null,null,null,null,null,null,null,null,null,null,null,null,null,null,null,null,null,null,null,null,null,null,null,1,"2236-02-101-00-05",652,"2236","Nutrition","02","Distribution of Nutritious Food and Beverages","101","Special Nutrition Programmes","00",null,"05","Special Nutrition Programmes in Urban Slum Areas"]
[589,12,"Medak",6,"Dubbak ",null,null,null,null,null,null,null,null,null,null,null,null,null,null,null,null,null,null,null,null,null,null,null,null,null,null,null,null,null,null,null,null,null,null,null,null,null,null,null,null,null,null,null,null,null,null,null,null,null,null,null,null,null,null,null,null,null,1,"2245-80-001-00-01",653,"2245","Relief on Account of Natural Calamities","80","General","001","Direction and Administration","00",null,"01","Headquarters Office"]
[590,12,"Medak",7,"Gajwel ",null,null,null,null,null,null,null,null,null,null,null,null,null,null,null,null,null,null,null,null,null,null,null,null,null,null,null,null,null,null,null,null,null,null,null,null,null,null,null,null,null,null,null,null,null,null,null,null,null,null,null,null,null,null,null,null,null,1,"2250-00-102-00-01",654,"2250","Other Social Services","00",null,"102","Administration of Religious and Charitable Endowments Acts","00",null,"01","Headquarters Office"]
[591,12,"Medak",8,"Hathnoora ",null,null,null,null,null,null,null,null,null,null,null,null,null,null,null,null,null,null,null,null,null,null,null,null,null,null,null,null,null,null,null,null,null,null,null,null,null,null,null,null,null,null,null,null,null,null,null,null,null,null,null,null,null,null,null,null,null,1,"2250-00-102-00-03",655,"2250","Other Social Services","00",null,"102","Administration of Religious and Charitable Endowments Acts","00",null,"03","District Offices"]
[592,12,"Medak",9,"Jagdevpur ",null,null,null,null,null,null,null,null,null,null,null,null,null,null,null,null,null,null,null,null,null,null,null,null,null,null,null,null,null,null,null,null,null,null,null,null,null,null,null,null,null,null,null,null,null,null,null,null,null,null,null,null,null,null,null,null,null,1,"2250-00-102-00-04",656,"2250","Other Social Services","00",null,"102","Administration of Religious and Charitable Endowments Acts","00",null,"04","Executive Officers of Temples"]
[593,12,"Medak",10,"Jharasangam ",null,null,null,null,null,null,null,null,null,null,null,null,null,null,null,null,null,null,null,null,null,null,null,null,null,null,null,null,null,null,null,null,null,null,null,null,null,null,null,null,null,null,null,null,null,null,null,null,null,null,null,null,null,null,null,null,null,1,"2250-00-102-00-05",657,"2250","Other Social Services","00",null,"102","Administration of Religious and Charitable Endowments Acts","00",null,"05","Land Protection Cell and Legal Cell"]
[594,12,"Medak",11,"Jinnaram ",null,null,null,null,null,null,null,null,null,null,null,null,null,null,null,null,null,null,null,null,null,null,null,null,null,null,null,null,null,null,null,null,null,null,null,null,null,null,null,null,null,null,null,null,null,null,null,null,null,null,null,null,null,null,null,null,null,1,"2251-00-090-00-04",658,"2251","Secretariat Social Services","00",null,"090","Secretariat","00",null,"04","Higher Education Department"]
[595,12,"Medak",12,"Kalher ",null,null,null,null,null,null,null,null,null,null,null,null,null,null,null,null,null,null,null,null,null,null,null,null,null,null,null,null,null,null,null,null,null,null,null,null,null,null,null,null,null,null,null,null,null,null,null,null,null,null,null,null,null,null,null,null,null,1,"2251-00-090-00-05",659,"2251","Secretariat Social Services","00",null,"090","Secretariat","00",null,"05","Personal Staff attached to Ministers"]
[596,12,"Medak",13,"Kangti ",null,null,null,null,null,null,null,null,null,null,null,null,null,null,null,null,null,null,null,null,null,null,null,null,null,null,null,null,null,null,null,null,null,null,null,null,null,null,null,null,null,null,null,null,null,null,null,null,null,null,null,null,null,null,null,null,null,1,"2251-00-090-00-06",660,"2251","Secretariat Social Services","00",null,"090","Secretariat","00",null,"06","Health, Medical and Family Welfare Department"]
[597,12,"Medak",14,"Kohir ",null,null,null,null,null,null,null,null,null,null,null,null,null,null,null,null,null,null,null,null,null,null,null,null,null,null,null,null,null,null,null,null,null,null,null,null,null,null,null,null,null,null,null,null,null,null,null,null,null,null,null,null,null,null,null,null,null,1,"2251-00-090-00-07",661,"2251","Secretariat Social Services","00",null,"090","Secretariat","00",null,"07"," Municipal Administration and Urban Development Department"]
[598,12,"Medak",15,"Kondapak ",null,null,null,null,null,null,null,null,null,null,null,null,null,null,null,null,null,null,null,null,null,null,null,null,null,null,null,null,null,null,null,null,null,null,null,null,null,null,null,null,null,null,null,null,null,null,null,null,null,null,null,null,null,null,null,null,null,1,"2251-00-090-00-08",662,"2251","Secretariat Social Services","00",null,"090","Secretariat","00",null,"08","Social Welfare Department"]
[599,12,"Medak",16,"Kondapur ",null,null,null,null,null,null,null,null,null,null,null,null,null,null,null,null,null,null,null,null,null,null,null,null,null,null,null,null,null,null,null,null,null,null,null,null,null,null,null,null,null,null,null,null,null,null,null,null,null,null,null,null,null,null,null,null,null,1,"2251-00-090-00-10",663,"2251","Secretariat Social Services","00",null,"090","Secretariat","00",null,"10","Women Development, Chold Welfare and Disabled Welfare Department"]
[600,12,"Medak",17,"Kowdipalle ",null,null,null,null,null,null,null,null,null,null,null,null,null,null,null,null,null,null,null,null,null,null,null,null,null,null,null,null,null,null,null,null,null,null,null,null,null,null,null,null,null,null,null,null,null,null,null,null,null,null,null,null,null,null,null,null,null,1,"2251-00-090-00-12",664,"2251","Secretariat Social Services","00",null,"090","Secretariat","00",null,"12","Housing Department"]
[601,12,"Medak",18,"Kulcharam ",null,null,null,null,null,null,null,null,null,null,null,null,null,null,null,null,null,null,null,null,null,null,null,null,null,null,null,null,null,null,null,null,null,null,null,null,null,null,null,null,null,null,null,null,null,null,null,null,null,null,null,null,null,null,null,null,null,1,"2251-00-090-00-14",665,"2251","Secretariat Social Services","00",null,"090","Secretariat","00",null,"14","Youth Advancement, Tourism & Cultural Department"]
[602,12,"Medak",19,"Manoor ",null,null,null,null,null,null,null,null,null,null,null,null,null,null,null,null,null,null,null,null,null,null,null,null,null,null,null,null,null,null,null,null,null,null,null,null,null,null,null,null,null,null,null,null,null,null,null,null,null,null,null,null,null,null,null,null,null,1,"2251-00-090-00-15",666,"2251","Secretariat Social Services","00",null,"090","Secretariat","00",null,"15","Minorities Welfare Department"]
[603,12,"Medak",20,"Medak ",null,null,null,null,null,null,null,null,null,null,null,null,null,null,null,null,null,null,null,null,null,null,null,null,null,null,null,null,null,null,null,null,null,null,null,null,null,null,null,null,null,null,null,null,null,null,null,null,null,null,null,null,null,null,null,null,null,1,"2251-00-090-00-16",667,"2251","Secretariat Social Services","00",null,"090","Secretariat","00",null,"16","Labour, Employment, Training and Factories Department"]
[604,12,"Medak",21,"Mirdoddi ",null,null,null,null,null,null,null,null,null,null,null,null,null,null,null,null,null,null,null,null,null,null,null,null,null,null,null,null,null,null,null,null,null,null,null,null,null,null,null,null,null,null,null,null,null,null,null,null,null,null,null,null,null,null,null,null,null,1,"2251-00-090-00-17",668,"2251","Secretariat Social Services","00",null,"090","Secretariat","00",null,"17","Backward Classes Welfare Department"]
[605,12,"Medak",22,"Mulug ",null,null,null,null,null,null,null,null,null,null,null,null,null,null,null,null,null,null,null,null,null,null,null,null,null,null,null,null,null,null,null,null,null,null,null,null,null,null,null,null,null,null,null,null,null,null,null,null,null,null,null,null,null,null,null,null,null,1,"2251-00-090-00-18",669,"2251","Secretariat Social Services","00",null,"090","Secretariat","00",null,"18","School Education Department"]
[606,12,"Medak",23,"Munpalle ",null,null,null,null,null,null,null,null,null,null,null,null,null,null,null,null,null,null,null,null,null,null,null,null,null,null,null,null,null,null,null,null,null,null,null,null,null,null,null,null,null,null,null,null,null,null,null,null,null,null,null,null,null,null,null,null,null,1,"2401-00-001-00-01",670,"2401","Crop Husbandry","00",null,"001","Direction and Administration","00",null,"01","Headquarters Office"]
[607,12,"Medak",24,"Nanganur ",null,null,null,null,null,null,null,null,null,null,null,null,null,null,null,null,null,null,null,null,null,null,null,null,null,null,null,null,null,null,null,null,null,null,null,null,null,null,null,null,null,null,null,null,null,null,null,null,null,null,null,null,null,null,null,null,null,1,"2401-00-001-00-03",671,"2401","Crop Husbandry","00",null,"001","Direction and Administration","00",null,"03","District Offices"]
[608,12,"Medak",25,"Narayankhed ",null,null,null,null,null,null,null,null,null,null,null,null,null,null,null,null,null,null,null,null,null,null,null,null,null,null,null,null,null,null,null,null,null,null,null,null,null,null,null,null,null,null,null,null,null,null,null,null,null,null,null,null,null,null,null,null,null,1,"2401-00-103-11-09",672,"2401","Crop Husbandry","00",null,"103","Seeds","11","Normal State Plan","09","Supply of Seeds to Farmers"]
[609,12,"Medak",26,"Narsapur ",null,null,null,null,null,null,null,null,null,null,null,null,null,null,null,null,null,null,null,null,null,null,null,null,null,null,null,null,null,null,null,null,null,null,null,null,null,null,null,null,null,null,null,null,null,null,null,null,null,null,null,null,null,null,null,null,null,1,"2401-00-108-06-09",673,"2401","Crop Husbandry","00",null,"108","Commercial Crops","06","Matching State Share of Centrally Sponsored Schemes","09","Coconut Development"]
[610,12,"Medak",27,"Nyalkal ",null,null,null,null,null,null,null,null,null,null,null,null,null,null,null,null,null,null,null,null,null,null,null,null,null,null,null,null,null,null,null,null,null,null,null,null,null,null,null,null,null,null,null,null,null,null,null,null,null,null,null,null,null,null,null,null,null,1,"2401-00-108-10-09",674,"2401","Crop Husbandry","00",null,"108","Commercial Crops","10","Centrally Sponsored Schemes","09","Coconut Development"]
[611,12,"Medak",28,"Papannapet ",null,null,null,null,null,null,null,null,null,null,null,null,null,null,null,null,null,null,null,null,null,null,null,null,null,null,null,null,null,null,null,null,null,null,null,null,null,null,null,null,null,null,null,null,null,null,null,null,null,null,null,null,null,null,null,null,null,1,"2401-00-108-10-21",675,"2401","Crop Husbandry","00",null,"108","Commercial Crops","10","Centrally Sponsored Schemes","21","Oil Palm Development Scheme"]
[612,12,"Medak",29,"Patancheru ",null,null,null,null,null,null,null,null,null,null,null,null,null,null,null,null,null,null,null,null,null,null,null,null,null,null,null,null,null,null,null,null,null,null,null,null,null,null,null,null,null,null,null,null,null,null,null,null,null,null,null,null,null,null,null,null,null,1,"2401-00-109-11-11",676,"2401","Crop Husbandry","00",null,"109","Extension and Farmers Training","11","Normal State Plan","11","Extension"]
[613,12,"Medak",30,"Pulkal ",null,null,null,null,null,null,null,null,null,null,null,null,null,null,null,null,null,null,null,null,null,null,null,null,null,null,null,null,null,null,null,null,null,null,null,null,null,null,null,null,null,null,null,null,null,null,null,null,null,null,null,null,null,null,null,null,null,1,"2401-00-119-00-01",677,"2401","Crop Husbandry","00",null,"119","Horticulture and Vegetable Crops","00",null,"01","Headquarters Office"]
[614,12,"Medak",31,"Raikode ",null,null,null,null,null,null,null,null,null,null,null,null,null,null,null,null,null,null,null,null,null,null,null,null,null,null,null,null,null,null,null,null,null,null,null,null,null,null,null,null,null,null,null,null,null,null,null,null,null,null,null,null,null,null,null,null,null,1,"2401-00-119-00-03",678,"2401","Crop Husbandry","00",null,"119","Horticulture and Vegetable Crops","00",null,"03","District Offices"]
[615,12,"Medak",32,"Ramachandrapuram ",null,null,null,null,null,null,null,null,null,null,null,null,null,null,null,null,null,null,null,null,null,null,null,null,null,null,null,null,null,null,null,null,null,null,null,null,null,null,null,null,null,null,null,null,null,null,null,null,null,null,null,null,null,null,null,null,null,1,"2401-00-119-11-01",679,"2401","Crop Husbandry","00",null,"119","Horticulture and Vegetable Crops","11","Normal State Plan","01","Headquarters Office"]
[616,12,"Medak",33,"Ramayampet ",null,null,null,null,null,null,null,null,null,null,null,null,null,null,null,null,null,null,null,null,null,null,null,null,null,null,null,null,null,null,null,null,null,null,null,null,null,null,null,null,null,null,null,null,null,null,null,null,null,null,null,null,null,null,null,null,null,1,"2401-00-119-11-03",680,"2401","Crop Husbandry","00",null,"119","Horticulture and Vegetable Crops","11","Normal State Plan","03","District Offices"]
[617,12,"Medak",34,"Regode ",null,null,null,null,null,null,null,null,null,null,null,null,null,null,null,null,null,null,null,null,null,null,null,null,null,null,null,null,null,null,null,null,null,null,null,null,null,null,null,null,null,null,null,null,null,null,null,null,null,null,null,null,null,null,null,null,null,1,"2401-00-789-11-08",681,"2401","Crop Husbandry","00",null,"789","Special Component Plan for Scheduled Castes","11","Normal State Plan","08","Extension"]
[618,12,"Medak",35,"Sadasivpet ",null,null,null,null,null,null,null,null,null,null,null,null,null,null,null,null,null,null,null,null,null,null,null,null,null,null,null,null,null,null,null,null,null,null,null,null,null,null,null,null,null,null,null,null,null,null,null,null,null,null,null,null,null,null,null,null,null,1,"2401-00-796-11-64",682,"2401","Crop Husbandry","00",null,"796","Tribal Area Sub-Plan","11","Normal State Plan","64","Extension"]
[619,12,"Medak",36,"Sangareddy ",null,null,null,null,null,null,null,null,null,null,null,null,null,null,null,null,null,null,null,null,null,null,null,null,null,null,null,null,null,null,null,null,null,null,null,null,null,null,null,null,null,null,null,null,null,null,null,null,null,null,null,null,null,null,null,null,null,1,"2401-00-800-06-18",683,"2401","Crop Husbandry","00",null,"800","Other Expenditure","06","Matching State Share of Centrally Sponsored Schemes","18","Implementation of Work Plan Programme on Macro Management Basis"]
[620,12,"Medak",37,"Shankarampet (A)",null,null,null,null,null,null,null,null,null,null,null,null,null,null,null,null,null,null,null,null,null,null,null,null,null,null,null,null,null,null,null,null,null,null,null,null,null,null,null,null,null,null,null,null,null,null,null,null,null,null,null,null,null,null,null,null,null,1,"2401-00-800-10-18",684,"2401","Crop Husbandry","00",null,"800","Other Expenditure","10","Centrally Sponsored Schemes","18","Implementation of Work Plan Programme on Macro Management Basis"]
[621,12,"Medak",38,"Shankarampet (R)",null,null,null,null,null,null,null,null,null,null,null,null,null,null,null,null,null,null,null,null,null,null,null,null,null,null,null,null,null,null,null,null,null,null,null,null,null,null,null,null,null,null,null,null,null,null,null,null,null,null,null,null,null,null,null,null,null,1,"2402-00-101-00-04",685,"2402","Soil and Water Conservation","00",null,"101","Soil Survey and Testing","00",null,"04","Soil Survey and Testing"]
[622,12,"Medak",39,"Shivampet ",null,null,null,null,null,null,null,null,null,null,null,null,null,null,null,null,null,null,null,null,null,null,null,null,null,null,null,null,null,null,null,null,null,null,null,null,null,null,null,null,null,null,null,null,null,null,null,null,null,null,null,null,null,null,null,null,null,1,"2402-00-102-00-04",686,"2402","Soil and Water Conservation","00",null,"102","Soil Conservation","00",null,"04","Afforestation etc. in Machkund Basin"]
[623,12,"Medak",40,"Siddipet ",null,null,null,null,null,null,null,null,null,null,null,null,null,null,null,null,null,null,null,null,null,null,null,null,null,null,null,null,null,null,null,null,null,null,null,null,null,null,null,null,null,null,null,null,null,null,null,null,null,null,null,null,null,null,null,null,null,1,"2402-00-102-00-05",687,"2402","Soil and Water Conservation","00",null,"102","Soil Conservation","00",null,"05","Soil Conservation Scheme in Other Areas"]
[624,12,"Medak",41,"Tekmal ",null,null,null,null,null,null,null,null,null,null,null,null,null,null,null,null,null,null,null,null,null,null,null,null,null,null,null,null,null,null,null,null,null,null,null,null,null,null,null,null,null,null,null,null,null,null,null,null,null,null,null,null,null,null,null,null,null,1,"2402-00-102-06-04",688,"2402","Soil and Water Conservation","00",null,"102","Soil Conservation","06","Matching State Share of Centrally Sponsored Schemes","04","Afforestation etc. in Machkund Basin"]
[625,12,"Medak",42,"Tupran ",null,null,null,null,null,null,null,null,null,null,null,null,null,null,null,null,null,null,null,null,null,null,null,null,null,null,null,null,null,null,null,null,null,null,null,null,null,null,null,null,null,null,null,null,null,null,null,null,null,null,null,null,null,null,null,null,null,1,"2402-00-102-10-04",689,"2402","Soil and Water Conservation","00",null,"102","Soil Conservation","10","Centrally Sponsored Schemes","04","Afforestation etc. in Machkund Basin"]
[626,12,"Medak",43,"Wargal ",null,null,null,null,null,null,null,null,null,null,null,null,null,null,null,null,null,null,null,null,null,null,null,null,null,null,null,null,null,null,null,null,null,null,null,null,null,null,null,null,null,null,null,null,null,null,null,null,null,null,null,null,null,null,null,null,null,1,"2402-00-102-11-06",690,"2402","Soil and Water Conservation","00",null,"102","Soil Conservation","11","Normal State Plan","06","River Valley Project"]
[627,12,"Medak",44,"Yeldurthy ",null,null,null,null,null,null,null,null,null,null,null,null,null,null,null,null,null,null,null,null,null,null,null,null,null,null,null,null,null,null,null,null,null,null,null,null,null,null,null,null,null,null,null,null,null,null,null,null,null,null,null,null,null,null,null,null,null,1,"2403-00-001-00-01",691,"2403","Animal Husbandry","00",null,"001","Direction and Administration","00",null,"01","Headquarters Office"]
[628,12,"Medak",45,"Zahirabad ",null,null,null,null,null,null,null,null,null,null,null,null,null,null,null,null,null,null,null,null,null,null,null,null,null,null,null,null,null,null,null,null,null,null,null,null,null,null,null,null,null,null,null,null,null,null,null,null,null,null,null,null,null,null,null,null,null,1,"2403-00-001-00-03",692,"2403","Animal Husbandry","00",null,"001","Direction and Administration","00",null,"03","District Offices"]
[629,13,"Nalgonda",1,"Alair ",null,null,null,null,null,null,null,null,null,null,null,null,null,null,null,null,null,null,null,null,null,null,null,null,null,null,null,null,null,null,null,null,null,null,null,null,null,null,null,null,null,null,null,null,null,null,null,null,null,null,null,null,null,null,null,null,null,1,"2403-00-001-00-04",693,"2403","Animal Husbandry","00",null,"001","Direction and Administration","00",null,"04","Other Offices"]
[630,13,"Nalgonda",2,"Anumula ",null,null,null,null,null,null,null,null,null,null,null,null,null,null,null,null,null,null,null,null,null,null,null,null,null,null,null,null,null,null,null,null,null,null,null,null,null,null,null,null,null,null,null,null,null,null,null,null,null,null,null,null,null,null,null,null,null,1,"2403-00-001-00-05",694,"2403","Animal Husbandry","00",null,"001","Direction and Administration","00",null,"05","Andhra Pradesh Veterinary Council"]
[631,13,"Nalgonda",3,"Atmakur (M)",null,null,null,null,null,null,null,null,null,null,null,null,null,null,null,null,null,null,null,null,null,null,null,null,null,null,null,null,null,null,null,null,null,null,null,null,null,null,null,null,null,null,null,null,null,null,null,null,null,null,null,null,null,null,null,null,null,1,"2403-00-101-00-04",695,"2403","Animal Husbandry","00",null,"101","Veterinary Services and Animal Health","00",null,"04","Hospitals and Dispensaries"]
[632,13,"Nalgonda",4,"Atmakur (S)",null,null,null,null,null,null,null,null,null,null,null,null,null,null,null,null,null,null,null,null,null,null,null,null,null,null,null,null,null,null,null,null,null,null,null,null,null,null,null,null,null,null,null,null,null,null,null,null,null,null,null,null,null,null,null,null,null,1,"2403-00-101-00-07",696,"2403","Animal Husbandry","00",null,"101","Veterinary Services and Animal Health","00",null,"07","Clinical Laboratories"]
[633,13,"Nalgonda",5,"Bhuvanagiri ",null,null,null,null,null,null,null,null,null,null,null,null,null,null,null,null,null,null,null,null,null,null,null,null,null,null,null,null,null,null,null,null,null,null,null,null,null,null,null,null,null,null,null,null,null,null,null,null,null,null,null,null,null,null,null,null,null,1,"2403-00-101-00-08",697,"2403","Animal Husbandry","00",null,"101","Veterinary Services and Animal Health","00",null,"08","Animal Disease Surveillance"]
[634,13,"Nalgonda",6,"Bibinagar ",null,null,null,null,null,null,null,null,null,null,null,null,null,null,null,null,null,null,null,null,null,null,null,null,null,null,null,null,null,null,null,null,null,null,null,null,null,null,null,null,null,null,null,null,null,null,null,null,null,null,null,null,null,null,null,null,null,1,"2403-00-101-11-04",698,"2403","Animal Husbandry","00",null,"101","Veterinary Services and Animal Health","11","Normal State Plan","04","Hospitals and Dispensaries"]
[635,13,"Nalgonda",7,"Bommalaramaram ",null,null,null,null,null,null,null,null,null,null,null,null,null,null,null,null,null,null,null,null,null,null,null,null,null,null,null,null,null,null,null,null,null,null,null,null,null,null,null,null,null,null,null,null,null,null,null,null,null,null,null,null,null,null,null,null,null,1,"2403-00-101-11-13",699,"2403","Animal Husbandry","00",null,"101","Veterinary Services and Animal Health","11","Normal State Plan","13","Assistance to State Poultry farms Mamnoor, Warangal"]
[636,13,"Nalgonda",8,"Chandam Pet",null,null,null,null,null,null,null,null,null,null,null,null,null,null,null,null,null,null,null,null,null,null,null,null,null,null,null,null,null,null,null,null,null,null,null,null,null,null,null,null,null,null,null,null,null,null,null,null,null,null,null,null,null,null,null,null,null,1,"2403-00-102-00-04",700,"2403","Animal Husbandry","00",null,"102","Cattle and Buffalo Development","00",null,"04","Livestock Schemes"]
[637,13,"Nalgonda",9,"Chandur ",null,null,null,null,null,null,null,null,null,null,null,null,null,null,null,null,null,null,null,null,null,null,null,null,null,null,null,null,null,null,null,null,null,null,null,null,null,null,null,null,null,null,null,null,null,null,null,null,null,null,null,null,null,null,null,null,null,1,"2403-00-104-00-04",701,"2403","Animal Husbandry","00",null,"104","Sheep and Wool Development","00",null,"04","Sheep Farms"]
[638,13,"Nalgonda",10,"Chilkur ",null,null,null,null,null,null,null,null,null,null,null,null,null,null,null,null,null,null,null,null,null,null,null,null,null,null,null,null,null,null,null,null,null,null,null,null,null,null,null,null,null,null,null,null,null,null,null,null,null,null,null,null,null,null,null,null,null,1,"2403-00-105-00-04",702,"2403","Animal Husbandry","00",null,"105","Piggery Development","00",null,"04","Piggery Units"]
[639,13,"Nalgonda",11,"Chintha Palle",null,null,null,null,null,null,null,null,null,null,null,null,null,null,null,null,null,null,null,null,null,null,null,null,null,null,null,null,null,null,null,null,null,null,null,null,null,null,null,null,null,null,null,null,null,null,null,null,null,null,null,null,null,null,null,null,null,1,"2403-00-113-06-04",703,"2403","Animal Husbandry","00",null,"113","Administrative Investigation and Statistics","06","Matching State Share of Centrally Sponsored Schemes","04","Survey Schemes"]
[640,13,"Nalgonda",12,"Chityala ",null,null,null,null,null,null,null,null,null,null,null,null,null,null,null,null,null,null,null,null,null,null,null,null,null,null,null,null,null,null,null,null,null,null,null,null,null,null,null,null,null,null,null,null,null,null,null,null,null,null,null,null,null,null,null,null,null,1,"2403-00-113-10-04",704,"2403","Animal Husbandry","00",null,"113","Administrative Investigation and Statistics","10","Centrally Sponsored Schemes","04","Survey Schemes"]
[641,13,"Nalgonda",13,"Chivvemla ",null,null,null,null,null,null,null,null,null,null,null,null,null,null,null,null,null,null,null,null,null,null,null,null,null,null,null,null,null,null,null,null,null,null,null,null,null,null,null,null,null,null,null,null,null,null,null,null,null,null,null,null,null,null,null,null,null,1,{"$f":"CONCATENATE(BN707,\"-\",BP707,\"-\",BR707,\"-\",BT707,\"-\",BV707)","v":"2403-00-796-11-05"},705,"2403","Animal Husbandry","00",null,"796","Tribal Areas Sub-Plan","11","Normal State Plan","05","Hospitals and Dispensaries"]
[642,13,"Nalgonda",14,"Choutuppal ",null,null,null,null,null,null,null,null,null,null,null,null,null,null,null,null,null,null,null,null,null,null,null,null,null,null,null,null,null,null,null,null,null,null,null,null,null,null,null,null,null,null,null,null,null,null,null,null,null,null,null,null,null,null,null,null,null,{"$f":"IF(EXACT($E$25,BN708),BK707+1,1)","v":1},"2403-00-800-11-17",706,"2403","Animal Husbandry","00",null,"800","Other Expenditure","11","Normal State Plan","17","Supply of Milch Animals under CMs Package"]
[643,13,"Nalgonda",15,"Dameracherla ",null,null,null,null,null,null,null,null,null,null,null,null,null,null,null,null,null,null,null,null,null,null,null,null,null,null,null,null,null,null,null,null,null,null,null,null,null,null,null,null,null,null,null,null,null,null,null,null,null,null,null,null,null,null,null,null,null,1,"2405-00-001-00-01",707,"2405","Fisheries","00",null,"001","Direction and Administration","00",null,"01","Headquarters Office:"]
[644,13,"Nalgonda",16,"Devarakonda ",null,null,null,null,null,null,null,null,null,null,null,null,null,null,null,null,null,null,null,null,null,null,null,null,null,null,null,null,null,null,null,null,null,null,null,null,null,null,null,null,null,null,null,null,null,null,null,null,null,null,null,null,null,null,null,null,null,1,"2405-00-001-00-03",708,"2405","Fisheries","00",null,"001","Direction and Administration","00",null,"03","District Offices"]
[645,13,"Nalgonda",17,"Garide Palle",null,null,null,null,null,null,null,null,null,null,null,null,null,null,null,null,null,null,null,null,null,null,null,null,null,null,null,null,null,null,null,null,null,null,null,null,null,null,null,null,null,null,null,null,null,null,null,null,null,null,null,null,null,null,null,null,null,1,"2405-00-001-00-04",709,"2405","Fisheries","00",null,"001","Direction and Administration","00",null,"04","Enforcement Marine Fishing Regulation Act"]
[646,13,"Nalgonda",18,"Gundala ",null,null,null,null,null,null,null,null,null,null,null,null,null,null,null,null,null,null,null,null,null,null,null,null,null,null,null,null,null,null,null,null,null,null,null,null,null,null,null,null,null,null,null,null,null,null,null,null,null,null,null,null,null,null,null,null,null,1,"2405-00-101-00-10",710,"2405","Fisheries","00",null,"101","Inland Fisheries","00",null,"10","Tungabhadra Fisheries Project"]
[647,13,"Nalgonda",19,"Gundla Palle",null,null,null,null,null,null,null,null,null,null,null,null,null,null,null,null,null,null,null,null,null,null,null,null,null,null,null,null,null,null,null,null,null,null,null,null,null,null,null,null,null,null,null,null,null,null,null,null,null,null,null,null,null,null,null,null,null,1,"2405-00-101-10-08",711,"2405","Fisheries","00",null,"101","Inland Fisheries","10","Centrally Sponsored Schemes","08","Scheme for Intensive Development of Inland Fisheries Statistics"]
[648,13,"Nalgonda",20,"Gurrampode ",null,null,null,null,null,null,null,null,null,null,null,null,null,null,null,null,null,null,null,null,null,null,null,null,null,null,null,null,null,null,null,null,null,null,null,null,null,null,null,null,null,null,null,null,null,null,null,null,null,null,null,null,null,null,null,null,null,1,"2405-00-102-11-04",712,"2405","Fisheries","00",null,"102","Estuarine/Brackish Water Fisheries","11","Normal State Plan","04","Shrimp and fish culture project"]
[649,13,"Nalgonda",21,"Huzurnagar ",null,null,null,null,null,null,null,null,null,null,null,null,null,null,null,null,null,null,null,null,null,null,null,null,null,null,null,null,null,null,null,null,null,null,null,null,null,null,null,null,null,null,null,null,null,null,null,null,null,null,null,null,null,null,null,null,null,1,"2405-00-109-11-04",713,"2405","Fisheries","00",null,"109","Extention and Training","11","Normal State Plan","04","Fisheries Training Schemes (AHRD)"]
[650,13,"Nalgonda",22,"Jaji Reddi Gudem",null,null,null,null,null,null,null,null,null,null,null,null,null,null,null,null,null,null,null,null,null,null,null,null,null,null,null,null,null,null,null,null,null,null,null,null,null,null,null,null,null,null,null,null,null,null,null,null,null,null,null,null,null,null,null,null,null,1,"2406-01-001-00-01",714,"2406","Forestry and Wild Life","01","Forestry","001","Direction and Administration","00",null,"01","Headquarter's Office"]
[651,13,"Nalgonda",23,"Kangal ",null,null,null,null,null,null,null,null,null,null,null,null,null,null,null,null,null,null,null,null,null,null,null,null,null,null,null,null,null,null,null,null,null,null,null,null,null,null,null,null,null,null,null,null,null,null,null,null,null,null,null,null,null,null,null,null,null,1,"2406-01-001-00-03",715,"2406","Forestry and Wild Life","01","Forestry","001","Direction and Administration","00",null,"03","District Offices"]
[652,13,"Nalgonda",24,"Kattangoor ",null,null,null,null,null,null,null,null,null,null,null,null,null,null,null,null,null,null,null,null,null,null,null,null,null,null,null,null,null,null,null,null,null,null,null,null,null,null,null,null,null,null,null,null,null,null,null,null,null,null,null,null,null,null,null,null,null,1,"2406-01-001-11-03",716,"2406","Forestry and Wild Life","01","Forestry","001","Direction and Administration","11","Normal State Plan","03","District Offices"]
[653,13,"Nalgonda",25,"Kethepalle ",null,null,null,null,null,null,null,null,null,null,null,null,null,null,null,null,null,null,null,null,null,null,null,null,null,null,null,null,null,null,null,null,null,null,null,null,null,null,null,null,null,null,null,null,null,null,null,null,null,null,null,null,null,null,null,null,null,1,"2406-01-003-00-04",717,"2406","Forestry and Wild Life","01","Forestry","003","Education and Training","00",null,"04","Forest School, Yellandu"]
[654,13,"Nalgonda",26,"Kodad ",null,null,null,null,null,null,null,null,null,null,null,null,null,null,null,null,null,null,null,null,null,null,null,null,null,null,null,null,null,null,null,null,null,null,null,null,null,null,null,null,null,null,null,null,null,null,null,null,null,null,null,null,null,null,null,null,null,1,"2406-02-110-00-04",718,"2406","Forestry and Wild Life","02","Environmental Forestry and Wild Life","110","Wild Life Preservation","00",null,"04","Sanctuaries"]
[655,13,"Nalgonda",27,"M Turkapalle",null,null,null,null,null,null,null,null,null,null,null,null,null,null,null,null,null,null,null,null,null,null,null,null,null,null,null,null,null,null,null,null,null,null,null,null,null,null,null,null,null,null,null,null,null,null,null,null,null,null,null,null,null,null,null,null,null,1,"2406-02-110-06-04",719,"2406","Forestry and Wild Life","02","Environmental Forestry and Wild Life","110","Wild Life Preservation","06","Matching State Share of Centrally Sponsored Schemes","04","Sanctuaries"]
[656,13,"Nalgonda",28,"Marri Guda",null,null,null,null,null,null,null,null,null,null,null,null,null,null,null,null,null,null,null,null,null,null,null,null,null,null,null,null,null,null,null,null,null,null,null,null,null,null,null,null,null,null,null,null,null,null,null,null,null,null,null,null,null,null,null,null,null,1,"2406-02-111-11-04",720,"2406","Forestry and Wild Life","02","Environmental Forestry and Wild Life","111","Zoological Parks","11","Normal State Plan","04","Zoological Parks"]
[657,13,"Nalgonda",29,"Mattampalle ",null,null,null,null,null,null,null,null,null,null,null,null,null,null,null,null,null,null,null,null,null,null,null,null,null,null,null,null,null,null,null,null,null,null,null,null,null,null,null,null,null,null,null,null,null,null,null,null,null,null,null,null,null,null,null,null,null,1,"2406-02-112-00-04",721,"2406","Forestry and Wild Life","02","Environmental Forestry and Wild Life","112","Public Gardens","00",null,"04","Public Gardens"]
[658,13,"Nalgonda",30,"Mellachervu ",null,null,null,null,null,null,null,null,null,null,null,null,null,null,null,null,null,null,null,null,null,null,null,null,null,null,null,null,null,null,null,null,null,null,null,null,null,null,null,null,null,null,null,null,null,null,null,null,null,null,null,null,null,null,null,null,null,1,"2406-02-112-11-04",722,"2406","Forestry and Wild Life","02","Environmental Forestry and Wild Life","112","Public Gardens","11","Normal State Plan","04","Public Gardens"]
[659,13,"Nalgonda",31,"Miryalaguda ",null,null,null,null,null,null,null,null,null,null,null,null,null,null,null,null,null,null,null,null,null,null,null,null,null,null,null,null,null,null,null,null,null,null,null,null,null,null,null,null,null,null,null,null,null,null,null,null,null,null,null,null,null,null,null,null,null,1,"2415-01-120-11-04",723,"2415","Agricultural Research and Education","01","Crop Husbandry","120","Assistance to Other Institutions","11","Normal State Plan","04","Assistance to Andhra Pradesh Agricultural University"]
[660,13,"Nalgonda",32,"Mothey ",null,null,null,null,null,null,null,null,null,null,null,null,null,null,null,null,null,null,null,null,null,null,null,null,null,null,null,null,null,null,null,null,null,null,null,null,null,null,null,null,null,null,null,null,null,null,null,null,null,null,null,null,null,null,null,null,null,1,"2415-01-120-11-05",724,"2415","Agricultural Research and Education","01","Crop Husbandry","120","Assistance to Other Institutions","11","Normal State Plan","05","Assistance to Horticulture University"]
[661,13,"Nalgonda",33,"Mothkur ",null,null,null,null,null,null,null,null,null,null,null,null,null,null,null,null,null,null,null,null,null,null,null,null,null,null,null,null,null,null,null,null,null,null,null,null,null,null,null,null,null,null,null,null,null,null,null,null,null,null,null,null,null,null,null,null,null,1,"2415-01-789-11-04",725,"2415","Agricultural Research and Education","01","Crop Husbandry","789","Special Component Plan for Scheduled Castes","11","Normal State Plan","04","Assistance to Andhra Pradesh Agricultural University"]
[662,13,"Nalgonda",34,"Munagala ",null,null,null,null,null,null,null,null,null,null,null,null,null,null,null,null,null,null,null,null,null,null,null,null,null,null,null,null,null,null,null,null,null,null,null,null,null,null,null,null,null,null,null,null,null,null,null,null,null,null,null,null,null,null,null,null,null,1,"2415-01-789-11-05",726,"2415","Agricultural Research and Education","01","Crop Husbandry","789","Special Component Plan for Scheduled Castes","11","Normal State Plan","05","Assistance to Horticulture University"]
[663,13,"Nalgonda",35,"Munugode ",null,null,null,null,null,null,null,null,null,null,null,null,null,null,null,null,null,null,null,null,null,null,null,null,null,null,null,null,null,null,null,null,null,null,null,null,null,null,null,null,null,null,null,null,null,null,null,null,null,null,null,null,null,null,null,null,null,1,"2415-01-796-11-04",727,"2415","Agricultural Research and Education","01","Crop Husbandry","796","Tribal Area Sub-Plan","11","Normal State Plan","04","Assistance to Andhra Pradesh Agricultural University"]
[664,13,"Nalgonda",36,"Nadigudem ",null,null,null,null,null,null,null,null,null,null,null,null,null,null,null,null,null,null,null,null,null,null,null,null,null,null,null,null,null,null,null,null,null,null,null,null,null,null,null,null,null,null,null,null,null,null,null,null,null,null,null,null,null,null,null,null,null,1,"2415-01-796-11-05",728,"2415","Agricultural Research and Education","01","Crop Husbandry","796","Tribal Area Sub-Plan","11","Normal State Plan","05","Assistance to Horticulture University"]
[665,13,"Nalgonda",37,"Nakrekal ",null,null,null,null,null,null,null,null,null,null,null,null,null,null,null,null,null,null,null,null,null,null,null,null,null,null,null,null,null,null,null,null,null,null,null,null,null,null,null,null,null,null,null,null,null,null,null,null,null,null,null,null,null,null,null,null,null,1,"2415-03-277-11-04",729,"2415","Agricultural Research and Education","03","Animal Husbandry","277","Education","11","Normal State Plan","04","Assistance to Sri Venkateswara Veterinary University"]
[666,13,"Nalgonda",38,"Nalgonda ",null,null,null,null,null,null,null,null,null,null,null,null,null,null,null,null,null,null,null,null,null,null,null,null,null,null,null,null,null,null,null,null,null,null,null,null,null,null,null,null,null,null,null,null,null,null,null,null,null,null,null,null,null,null,null,null,null,1,"2415-03-789-11-05",730,"2415","Agricultural Research and Education","03","Animal Husbandry","789","Special Component Plan for Scheduled Castes","11","Normal State Plan","05","Assistance to Sri Venkateswara Veterinary University"]
[667,13,"Nalgonda",39,"Nampalle ",null,null,null,null,null,null,null,null,null,null,null,null,null,null,null,null,null,null,null,null,null,null,null,null,null,null,null,null,null,null,null,null,null,null,null,null,null,null,null,null,null,null,null,null,null,null,null,null,null,null,null,null,null,null,null,null,null,1,"2415-03-796-11-05",731,"2415","Agricultural Research and Education","03","Animal Husbandry","796","Tribal Areas Sub-Plan","11","Normal State Plan","05","Assistance to Sri Venkateswara Veterinary University"]
[668,13,"Nalgonda",40,"Narayanapur ",null,null,null,null,null,null,null,null,null,null,null,null,null,null,null,null,null,null,null,null,null,null,null,null,null,null,null,null,null,null,null,null,null,null,null,null,null,null,null,null,null,null,null,null,null,null,null,null,null,null,null,null,null,null,null,null,null,1,"2425-00-001-00-01",732,"2425","Co-operation","00",null,"001","Direction and Administration","00",null,"01","Headquarters Office"]
[669,13,"Nalgonda",41,"Narketpalle ",null,null,null,null,null,null,null,null,null,null,null,null,null,null,null,null,null,null,null,null,null,null,null,null,null,null,null,null,null,null,null,null,null,null,null,null,null,null,null,null,null,null,null,null,null,null,null,null,null,null,null,null,null,null,null,null,null,1,"2425-00-001-00-03",733,"2425","Co-operation","00",null,"001","Direction and Administration","00",null,"03","District Offices"]
[670,13,"Nalgonda",42,"Nered Cherla",null,null,null,null,null,null,null,null,null,null,null,null,null,null,null,null,null,null,null,null,null,null,null,null,null,null,null,null,null,null,null,null,null,null,null,null,null,null,null,null,null,null,null,null,null,null,null,null,null,null,null,null,null,null,null,null,null,1,"2425-00-001-00-17",734,"2425","Co-operation","00",null,"001","Direction and Administration","00",null,"17","Co-operative Tribunal"]
[671,13,"Nalgonda",43,"Nidamanur ",null,null,null,null,null,null,null,null,null,null,null,null,null,null,null,null,null,null,null,null,null,null,null,null,null,null,null,null,null,null,null,null,null,null,null,null,null,null,null,null,null,null,null,null,null,null,null,null,null,null,null,null,null,null,null,null,null,1,"2425-00-001-11-01",735,"2425","Co-operation","00",null,"001","Direction and Administration","11","Normal State Plan","01","Headquarters Office"]
[672,13,"Nalgonda",44,"Nuthankal ",null,null,null,null,null,null,null,null,null,null,null,null,null,null,null,null,null,null,null,null,null,null,null,null,null,null,null,null,null,null,null,null,null,null,null,null,null,null,null,null,null,null,null,null,null,null,null,null,null,null,null,null,null,null,null,null,null,1,"2425-00-001-11-03",736,"2425","Co-operation","00",null,"001","Direction and Administration","11","Normal State Plan","03","District Offices"]
[673,13,"Nalgonda",45,"Pedda Adiserlapalle",null,null,null,null,null,null,null,null,null,null,null,null,null,null,null,null,null,null,null,null,null,null,null,null,null,null,null,null,null,null,null,null,null,null,null,null,null,null,null,null,null,null,null,null,null,null,null,null,null,null,null,null,null,null,null,null,null,1,"2425-00-003-00-05",737,"2425","Co-operation","00",null,"003","Training","00",null,"05","Assistance to State Co-operative Unions for implementation of Training and Education Schemes"]
[674,13,"Nalgonda",46,"Peddavura ",null,null,null,null,null,null,null,null,null,null,null,null,null,null,null,null,null,null,null,null,null,null,null,null,null,null,null,null,null,null,null,null,null,null,null,null,null,null,null,null,null,null,null,null,null,null,null,null,null,null,null,null,null,null,null,null,null,1,"2425-00-789-11-03",738,"2425","Co-operation","00",null,"789","Special Component Plan for Scheduled Castes","11","Normal State Plan","03","District Offices"]
[675,13,"Nalgonda",47,"Penpahad ",null,null,null,null,null,null,null,null,null,null,null,null,null,null,null,null,null,null,null,null,null,null,null,null,null,null,null,null,null,null,null,null,null,null,null,null,null,null,null,null,null,null,null,null,null,null,null,null,null,null,null,null,null,null,null,null,null,1,"2425-00-796-11-03",739,"2425","Co-operation","00",null,"796","Tribal Area Sub-Plan","11","Normal State Plan","03","District Offices"]
[676,13,"Nalgonda",48,"Pochampalle ",null,null,null,null,null,null,null,null,null,null,null,null,null,null,null,null,null,null,null,null,null,null,null,null,null,null,null,null,null,null,null,null,null,null,null,null,null,null,null,null,null,null,null,null,null,null,null,null,null,null,null,null,null,null,null,null,null,1,"2435-01-001-00-01",740,"2435","Other Agricultural Programmes","01","Marketing and Quality Control","001","Direction and Administration","00",null,"01","Headquarters Office"]
[677,13,"Nalgonda",49,"Rajapet ",null,null,null,null,null,null,null,null,null,null,null,null,null,null,null,null,null,null,null,null,null,null,null,null,null,null,null,null,null,null,null,null,null,null,null,null,null,null,null,null,null,null,null,null,null,null,null,null,null,null,null,null,null,null,null,null,null,1,"2435-01-001-00-03",741,"2435","Other Agricultural Programmes","01","Marketing and Quality Control","001","Direction and Administration","00",null,"03","District Offices"]
[678,13,"Nalgonda",50,"Ramannapeta ",null,null,null,null,null,null,null,null,null,null,null,null,null,null,null,null,null,null,null,null,null,null,null,null,null,null,null,null,null,null,null,null,null,null,null,null,null,null,null,null,null,null,null,null,null,null,null,null,null,null,null,null,null,null,null,null,null,1,"2501-01-001-00-01",742,"2501","Special Programmes for Rural Development","01","Integrated Rural Development Programme","001","Direction and Administration","00",null,"01","Headquarters Office"]
[679,13,"Nalgonda",51,"Saligouraram ",null,null,null,null,null,null,null,null,null,null,null,null,null,null,null,null,null,null,null,null,null,null,null,null,null,null,null,null,null,null,null,null,null,null,null,null,null,null,null,null,null,null,null,null,null,null,null,null,null,null,null,null,null,null,null,null,null,1,"2501-01-001-11-05",743,"2501","Special Programmes for Rural Development","01","Integrated Rural Development Programme","001","Direction and Administration","11","Normal State Plan","05","Water Conservation Mission"]
[680,13,"Nalgonda",52,"Suryapet ",null,null,null,null,null,null,null,null,null,null,null,null,null,null,null,null,null,null,null,null,null,null,null,null,null,null,null,null,null,null,null,null,null,null,null,null,null,null,null,null,null,null,null,null,null,null,null,null,null,null,null,null,null,null,null,null,null,1,"2501-01-001-11-08",744,"2501","Special Programmes for Rural Development","01","Integrated Rural Development Programme","001","Direction and Administration","11","Normal State Plan","08","Assistance to Society for Employment Generation and Enterprise Development in AP (SEEDAP)"]
[681,13,"Nalgonda",53,"Thipparthi ",null,null,null,null,null,null,null,null,null,null,null,null,null,null,null,null,null,null,null,null,null,null,null,null,null,null,null,null,null,null,null,null,null,null,null,null,null,null,null,null,null,null,null,null,null,null,null,null,null,null,null,null,null,null,null,null,null,1,"2501-01-003-06-05",745,"2501","Special Programmes for Rural Development","01","Integrated Rural Development Programme","003","Traning","06","Matching State Share of Centrally Sponsored Schemes","05","Strengthening of State Institute for Rural Development (SIRD)"]
[682,13,"Nalgonda",54,"Thirumalagiri ",null,null,null,null,null,null,null,null,null,null,null,null,null,null,null,null,null,null,null,null,null,null,null,null,null,null,null,null,null,null,null,null,null,null,null,null,null,null,null,null,null,null,null,null,null,null,null,null,null,null,null,null,null,null,null,null,null,1,"2501-02-800-11-08",746,"2501","Special Programmes for Rural Development","02","Drought Prone Areas Development Programme","800","Other Expenditure","11","Normal State Plan","08","Assistance to District Water management Agencies"]
[683,13,"Nalgonda",55,"Thripuraram ",null,null,null,null,null,null,null,null,null,null,null,null,null,null,null,null,null,null,null,null,null,null,null,null,null,null,null,null,null,null,null,null,null,null,null,null,null,null,null,null,null,null,null,null,null,null,null,null,null,null,null,null,null,null,null,null,null,1,"2506-00-001-00-03",747,"2506","Land Reforms","00",null,"001","Direction and Administration","00",null,"03","District Offices"]
[684,13,"Nalgonda",56,"Thunga Thurthi",null,null,null,null,null,null,null,null,null,null,null,null,null,null,null,null,null,null,null,null,null,null,null,null,null,null,null,null,null,null,null,null,null,null,null,null,null,null,null,null,null,null,null,null,null,null,null,null,null,null,null,null,null,null,null,null,null,1,"2515-00-001-00-01",748,"2515","Other Rural Development Programmes","00",null,"001","Direction and Administration","00",null,"01","Headquarters Office  (Commissioner of Panchayat Raj)"]
[685,13,"Nalgonda",57,"Valigonda ",null,null,null,null,null,null,null,null,null,null,null,null,null,null,null,null,null,null,null,null,null,null,null,null,null,null,null,null,null,null,null,null,null,null,null,null,null,null,null,null,null,null,null,null,null,null,null,null,null,null,null,null,null,null,null,null,null,1,"2515-00-001-00-03",749,"2515","Other Rural Development Programmes","00",null,"001","Direction and Administration","00",null,"03","District Panchayat Offices"]
[686,13,"Nalgonda",58,"Vemulapalle ",null,null,null,null,null,null,null,null,null,null,null,null,null,null,null,null,null,null,null,null,null,null,null,null,null,null,null,null,null,null,null,null,null,null,null,null,null,null,null,null,null,null,null,null,null,null,null,null,null,null,null,null,null,null,null,null,null,1,"2515-00-001-00-05",750,"2515","Other Rural Development Programmes","00",null,"001","Direction and Administration","00",null,"05","Chief Engineer (Panchayat Raj and General)"]
[687,13,"Nalgonda",59,"Yadagirigutta ",null,null,null,null,null,null,null,null,null,null,null,null,null,null,null,null,null,null,null,null,null,null,null,null,null,null,null,null,null,null,null,null,null,null,null,null,null,null,null,null,null,null,null,null,null,null,null,null,null,null,null,null,null,null,null,null,null,1,"2515-00-001-00-06",751,"2515","Other Rural Development Programmes","00",null,"001","Direction and Administration","00",null,"06","Panchayat Raj Engineering Establishment"]
[688,14,"Nizamabad",1,"Armur ",null,null,null,null,null,null,null,null,null,null,null,null,null,null,null,null,null,null,null,null,null,null,null,null,null,null,null,null,null,null,null,null,null,null,null,null,null,null,null,null,null,null,null,null,null,null,null,null,null,null,null,null,null,null,null,null,null,1,"2515-00-001-00-07",752,"2515","Other Rural Development Programmes","00",null,"001","Direction and Administration","00",null,"07","District Offices"]
[689,14,"Nizamabad",2,"Balkonda ",null,null,null,null,null,null,null,null,null,null,null,null,null,null,null,null,null,null,null,null,null,null,null,null,null,null,null,null,null,null,null,null,null,null,null,null,null,null,null,null,null,null,null,null,null,null,null,null,null,null,null,null,null,null,null,null,null,1,"2515-00-001-11-07",753,"2515","Other Rural Development Programmes","00",null,"001","Direction and Administration","11","Normal State Plan","07","District Offices"]
[690,14,"Nizamabad",3,"Banswada ",null,null,null,null,null,null,null,null,null,null,null,null,null,null,null,null,null,null,null,null,null,null,null,null,null,null,null,null,null,null,null,null,null,null,null,null,null,null,null,null,null,null,null,null,null,null,null,null,null,null,null,null,null,null,null,null,null,1,"2515-00-003-00-04",754,"2515","Other Rural Development Programmes","00",null,"003","Training","00",null,"04","State Institute of Rural Development"]
[691,14,"Nizamabad",4,"Bheemgal ",null,null,null,null,null,null,null,null,null,null,null,null,null,null,null,null,null,null,null,null,null,null,null,null,null,null,null,null,null,null,null,null,null,null,null,null,null,null,null,null,null,null,null,null,null,null,null,null,null,null,null,null,null,null,null,null,null,1,"2515-00-003-00-05",755,"2515","Other Rural Development Programmes","00",null,"003","Training","00",null,"05","Village Development Officers Training Centres"]
[692,14,"Nizamabad",5,"Bhiknur ",null,null,null,null,null,null,null,null,null,null,null,null,null,null,null,null,null,null,null,null,null,null,null,null,null,null,null,null,null,null,null,null,null,null,null,null,null,null,null,null,null,null,null,null,null,null,null,null,null,null,null,null,null,null,null,null,null,1,"2515-00-003-00-06",756,"2515","Other Rural Development Programmes","00",null,"003","Training","00",null,"06","Vocational Training Centres"]
[693,14,"Nizamabad",6,"Bichkunda ",null,null,null,null,null,null,null,null,null,null,null,null,null,null,null,null,null,null,null,null,null,null,null,null,null,null,null,null,null,null,null,null,null,null,null,null,null,null,null,null,null,null,null,null,null,null,null,null,null,null,null,null,null,null,null,null,null,1,"2515-00-101-00-04",757,"2515","Other Rural Development Programmes","00",null,"101","Panchayat Raj","00",null,"04","Assistance to Mandala Praja Parishads"]
[694,14,"Nizamabad",7,"Birkoor ",null,null,null,null,null,null,null,null,null,null,null,null,null,null,null,null,null,null,null,null,null,null,null,null,null,null,null,null,null,null,null,null,null,null,null,null,null,null,null,null,null,null,null,null,null,null,null,null,null,null,null,null,null,null,null,null,null,1,"2515-00-101-00-07",758,"2515","Other Rural Development Programmes","00",null,"101","Panchayat Raj","00",null,"07","Assistance to Zilla Parishads (CEO,DY.CEO's and AO's)"]
[695,14,"Nizamabad",8,"Bodhan ",null,null,null,null,null,null,null,null,null,null,null,null,null,null,null,null,null,null,null,null,null,null,null,null,null,null,null,null,null,null,null,null,null,null,null,null,null,null,null,null,null,null,null,null,null,null,null,null,null,null,null,null,null,null,null,null,null,1,"2515-00-101-00-08",759,"2515","Other Rural Development Programmes","00",null,"101","Panchayat Raj","00",null,"08","Assistance to Gram Panchayats"]
[696,14,"Nizamabad",9,"Dhar Palle",null,null,null,null,null,null,null,null,null,null,null,null,null,null,null,null,null,null,null,null,null,null,null,null,null,null,null,null,null,null,null,null,null,null,null,null,null,null,null,null,null,null,null,null,null,null,null,null,null,null,null,null,null,null,null,null,null,1,"2515-00-101-00-21",760,"2515","Other Rural Development Programmes","00",null,"101","Panchayat Raj","00",null,"21","State Election Commission"]
[697,14,"Nizamabad",10,"Dich Palle",null,null,null,null,null,null,null,null,null,null,null,null,null,null,null,null,null,null,null,null,null,null,null,null,null,null,null,null,null,null,null,null,null,null,null,null,null,null,null,null,null,null,null,null,null,null,null,null,null,null,null,null,null,null,null,null,null,1,"2515-00-196-00-07",761,"2515","Other Rural Development Programmes","00",null,"196","Assistance to Zilla Parishads","00",null,"07","Assistance to Zilla Parishads (CEOs, Dy. CEOs and AOs)"]
[698,14,"Nizamabad",11,"Domakonda ",null,null,null,null,null,null,null,null,null,null,null,null,null,null,null,null,null,null,null,null,null,null,null,null,null,null,null,null,null,null,null,null,null,null,null,null,null,null,null,null,null,null,null,null,null,null,null,null,null,null,null,null,null,null,null,null,null,1,"2515-00-197-00-04",762,"2515","Other Rural Development Programmes","00",null,"197","Assistance to Mandal Parishads","00",null,"04","Assistance to Mandala Parishads"]
[699,14,"Nizamabad",12,"Gandhari ",null,null,null,null,null,null,null,null,null,null,null,null,null,null,null,null,null,null,null,null,null,null,null,null,null,null,null,null,null,null,null,null,null,null,null,null,null,null,null,null,null,null,null,null,null,null,null,null,null,null,null,null,null,null,null,null,null,1,"2515-00-198-00-08",763,"2515","Other Rural Development Programmes","00",null,"198","Assistance to Gram Panchayats","00",null,"08","Assistance to Gram Panchayats"]
[700,14,"Nizamabad",13,"Jakranpalle ",null,null,null,null,null,null,null,null,null,null,null,null,null,null,null,null,null,null,null,null,null,null,null,null,null,null,null,null,null,null,null,null,null,null,null,null,null,null,null,null,null,null,null,null,null,null,null,null,null,null,null,null,null,null,null,null,null,1,"2700-01-101-00-25",764,"2700","Major Irrigation","01","MAJOR IRRIGATION - COMMERCIAL","101","Nagarjuna Sagar Project","00",null,"25","Project Establishment"]
[701,14,"Nizamabad",14,"Jukkal ",null,null,null,null,null,null,null,null,null,null,null,null,null,null,null,null,null,null,null,null,null,null,null,null,null,null,null,null,null,null,null,null,null,null,null,null,null,null,null,null,null,null,null,null,null,null,null,null,null,null,null,null,null,null,null,null,null,1,"2700-01-101-00-26",765,"2700","Major Irrigation","01","MAJOR IRRIGATION - COMMERCIAL","101","Nagarjuna Sagar Project","00",null,"26","Dam and Appurtenant Works"]
[702,14,"Nizamabad",15,"Kamareddy ",null,null,null,null,null,null,null,null,null,null,null,null,null,null,null,null,null,null,null,null,null,null,null,null,null,null,null,null,null,null,null,null,null,null,null,null,null,null,null,null,null,null,null,null,null,null,null,null,null,null,null,null,null,null,null,null,null,1,"2700-01-101-00-27",766,"2700","Major Irrigation","01","MAJOR IRRIGATION - COMMERCIAL","101","Nagarjuna Sagar Project","00",null,"27","Canals and Distributaries"]
[703,14,"Nizamabad",16,"Kammar Palle",null,null,null,null,null,null,null,null,null,null,null,null,null,null,null,null,null,null,null,null,null,null,null,null,null,null,null,null,null,null,null,null,null,null,null,null,null,null,null,null,null,null,null,null,null,null,null,null,null,null,null,null,null,null,null,null,null,1,"2700-01-101-11-25",767,"2700","Major Irrigation","01","MAJOR IRRIGATION - COMMERCIAL","101","Nagarjuna Sagar Project","11","Normal State Plan","25","Project Establishment"]
[704,14,"Nizamabad",17,"Kotgiri ",null,null,null,null,null,null,null,null,null,null,null,null,null,null,null,null,null,null,null,null,null,null,null,null,null,null,null,null,null,null,null,null,null,null,null,null,null,null,null,null,null,null,null,null,null,null,null,null,null,null,null,null,null,null,null,null,null,1,"2700-01-102-00-26",768,"2700","Major Irrigation","01","MAJOR IRRIGATION - COMMERCIAL","102","Godavari Delta System","00",null,"26","Dam and Appurtenant Works"]
[705,14,"Nizamabad",18,"Lingampet ",null,null,null,null,null,null,null,null,null,null,null,null,null,null,null,null,null,null,null,null,null,null,null,null,null,null,null,null,null,null,null,null,null,null,null,null,null,null,null,null,null,null,null,null,null,null,null,null,null,null,null,null,null,null,null,null,null,1,{"$f":"CONCATENATE(BN771,\"-\",BP771,\"-\",BR771,\"-\",BT771,\"-\",BV771)","v":"2700-01-102-00-27"},769,"2700","Major Irrigation","01","MAJOR IRRIGATION - COMMERCIAL","102","Godavari Delta System","00",null,"27","Canals and Distributaries"]
[706,14,"Nizamabad",19,"Machareddy ",null,null,null,null,null,null,null,null,null,null,null,null,null,null,null,null,null,null,null,null,null,null,null,null,null,null,null,null,null,null,null,null,null,null,null,null,null,null,null,null,null,null,null,null,null,null,null,null,null,null,null,null,null,null,null,null,null,{"$f":"IF(EXACT($E$25,BN772),BK771+1,1)","v":1},"2700-01-104-00-26",770,"2700","Major Irrigation","01","MAJOR IRRIGATION - COMMERCIAL","104","Polavaram Island Project","00",null,"26","Dam and Appurtenant Works"]
[707,14,"Nizamabad",20,"Madnur ",null,null,null,null,null,null,null,null,null,null,null,null,null,null,null,null,null,null,null,null,null,null,null,null,null,null,null,null,null,null,null,null,null,null,null,null,null,null,null,null,null,null,null,null,null,null,null,null,null,null,null,null,null,null,null,null,null,1,"2700-01-105-00-26",771,"2700","Major Irrigation","01","MAJOR IRRIGATION - COMMERCIAL","105","Krishna Delta System","00",null,"26","Dam and Appurtenant Works"]
[708,14,"Nizamabad",21,"Makloor ",null,null,null,null,null,null,null,null,null,null,null,null,null,null,null,null,null,null,null,null,null,null,null,null,null,null,null,null,null,null,null,null,null,null,null,null,null,null,null,null,null,null,null,null,null,null,null,null,null,null,null,null,null,null,null,null,null,1,"2700-01-105-00-27",772,"2700","Major Irrigation","01","MAJOR IRRIGATION - COMMERCIAL","105","Krishna Delta System","00",null,"27","Canals and Distributaries"]
[709,14,"Nizamabad",22,"Mortad ",null,null,null,null,null,null,null,null,null,null,null,null,null,null,null,null,null,null,null,null,null,null,null,null,null,null,null,null,null,null,null,null,null,null,null,null,null,null,null,null,null,null,null,null,null,null,null,null,null,null,null,null,null,null,null,null,null,1,"2700-01-106-00-26",773,"2700","Major Irrigation","01","MAJOR IRRIGATION - COMMERCIAL","106","Pennar River Canal System","00",null,"26","Dam and Appurtenant Works"]
[710,14,"Nizamabad",23,"Naga Reddipet",null,null,null,null,null,null,null,null,null,null,null,null,null,null,null,null,null,null,null,null,null,null,null,null,null,null,null,null,null,null,null,null,null,null,null,null,null,null,null,null,null,null,null,null,null,null,null,null,null,null,null,null,null,null,null,null,null,1,"2700-01-106-00-27",774,"2700","Major Irrigation","01","MAJOR IRRIGATION - COMMERCIAL","106","Pennar River Canal System","00",null,"27","Canals and Distributaries"]
[711,14,"Nizamabad",24,"Nandipet ",null,null,null,null,null,null,null,null,null,null,null,null,null,null,null,null,null,null,null,null,null,null,null,null,null,null,null,null,null,null,null,null,null,null,null,null,null,null,null,null,null,null,null,null,null,null,null,null,null,null,null,null,null,null,null,null,null,1,"2700-01-107-00-26",775,"2700","Major Irrigation","01","MAJOR IRRIGATION - COMMERCIAL","107","Kurnool Cuddapah Canal","00",null,"26","Dam and Appurtenant Works"]
[712,14,"Nizamabad",25,"Navipet ",null,null,null,null,null,null,null,null,null,null,null,null,null,null,null,null,null,null,null,null,null,null,null,null,null,null,null,null,null,null,null,null,null,null,null,null,null,null,null,null,null,null,null,null,null,null,null,null,null,null,null,null,null,null,null,null,null,1,"2700-01-107-00-27",776,"2700","Major Irrigation","01","MAJOR IRRIGATION - COMMERCIAL","107","Kurnool Cuddapah Canal","00",null,"27","Canals and Distributaries"]
[713,14,"Nizamabad",26,"Nizam Sagar",null,null,null,null,null,null,null,null,null,null,null,null,null,null,null,null,null,null,null,null,null,null,null,null,null,null,null,null,null,null,null,null,null,null,null,null,null,null,null,null,null,null,null,null,null,null,null,null,null,null,null,null,null,null,null,null,null,1,"2700-01-108-00-26",777,"2700","Major Irrigation","01","MAJOR IRRIGATION - COMMERCIAL","108","Tungabhadra Project (High Level Canal) Stage - I","00",null,"26","Dam and Appurtenant Works"]
[714,14,"Nizamabad",27,"Nizamabad ",null,null,null,null,null,null,null,null,null,null,null,null,null,null,null,null,null,null,null,null,null,null,null,null,null,null,null,null,null,null,null,null,null,null,null,null,null,null,null,null,null,null,null,null,null,null,null,null,null,null,null,null,null,null,null,null,null,1,"2700-01-108-00-27",778,"2700","Major Irrigation","01","MAJOR IRRIGATION - COMMERCIAL","108","Tungabhadra Project (High Level Canal) Stage - I","00",null,"27","Canals and Distributaries"]
[715,14,"Nizamabad",28,"Pitlam ",null,null,null,null,null,null,null,null,null,null,null,null,null,null,null,null,null,null,null,null,null,null,null,null,null,null,null,null,null,null,null,null,null,null,null,null,null,null,null,null,null,null,null,null,null,null,null,null,null,null,null,null,null,null,null,null,null,1,"2700-01-110-00-27",779,"2700","Major Irrigation","01","MAJOR IRRIGATION - COMMERCIAL","110","Rajolibanda Diversion Scheme","00",null,"27","Canals and Distributaries"]
[716,14,"Nizamabad",29,"Ranjal ",null,null,null,null,null,null,null,null,null,null,null,null,null,null,null,null,null,null,null,null,null,null,null,null,null,null,null,null,null,null,null,null,null,null,null,null,null,null,null,null,null,null,null,null,null,null,null,null,null,null,null,null,null,null,null,null,null,1,"2700-01-111-00-26",780,"2700","Major Irrigation","01","MAJOR IRRIGATION - COMMERCIAL","111","Nizamsagar Project","00",null,"26","Dam and Appurtenant Works"]
[717,14,"Nizamabad",30,"Sadasivanagar ",null,null,null,null,null,null,null,null,null,null,null,null,null,null,null,null,null,null,null,null,null,null,null,null,null,null,null,null,null,null,null,null,null,null,null,null,null,null,null,null,null,null,null,null,null,null,null,null,null,null,null,null,null,null,null,null,null,1,"2700-01-111-00-27",781,"2700","Major Irrigation","01","MAJOR IRRIGATION - COMMERCIAL","111","Nizamsagar Project","00",null,"27","Canals and Distributaries"]
[718,14,"Nizamabad",31,"Sirkonda ",null,null,null,null,null,null,null,null,null,null,null,null,null,null,null,null,null,null,null,null,null,null,null,null,null,null,null,null,null,null,null,null,null,null,null,null,null,null,null,null,null,null,null,null,null,null,null,null,null,null,null,null,null,null,null,null,null,1,"2700-01-112-00-25",782,"2700","Major Irrigation","01","MAJOR IRRIGATION - COMMERCIAL","112","Kadam Project","00",null,"25","Project Establishment"]
[719,14,"Nizamabad",32,"Tadwai ",null,null,null,null,null,null,null,null,null,null,null,null,null,null,null,null,null,null,null,null,null,null,null,null,null,null,null,null,null,null,null,null,null,null,null,null,null,null,null,null,null,null,null,null,null,null,null,null,null,null,null,null,null,null,null,null,null,1,"2700-01-112-00-26",783,"2700","Major Irrigation","01","MAJOR IRRIGATION - COMMERCIAL","112","Kadam Project","00",null,"26","Dam and Apprutenant Works"]
[720,14,"Nizamabad",33,"Varni ",null,null,null,null,null,null,null,null,null,null,null,null,null,null,null,null,null,null,null,null,null,null,null,null,null,null,null,null,null,null,null,null,null,null,null,null,null,null,null,null,null,null,null,null,null,null,null,null,null,null,null,null,null,null,null,null,null,1,"2700-01-113-00-27",784,"2700","Major Irrigation","01","MAJOR IRRIGATION - COMMERCIAL","113","Tungabhadra Project (High Level Canal) Stage-II","00",null,"27","Canals and Distributaries"]
[721,14,"Nizamabad",34,"Velpur ",null,null,null,null,null,null,null,null,null,null,null,null,null,null,null,null,null,null,null,null,null,null,null,null,null,null,null,null,null,null,null,null,null,null,null,null,null,null,null,null,null,null,null,null,null,null,null,null,null,null,null,null,null,null,null,null,null,1,"2700-01-116-11-25",785,"2700","Major Irrigation","01","MAJOR IRRIGATION - COMMERCIAL","116","Sriramsagar Project","11","Normal State Plan","25","Project Establishment"]
[722,14,"Nizamabad",35,"Yeda Palle",null,null,null,null,null,null,null,null,null,null,null,null,null,null,null,null,null,null,null,null,null,null,null,null,null,null,null,null,null,null,null,null,null,null,null,null,null,null,null,null,null,null,null,null,null,null,null,null,null,null,null,null,null,null,null,null,null,1,"2700-01-127-11-26",786,"2700","Major Irrigation","01","MAJOR IRRIGATION - COMMERCIAL","127","Srisailam Left Bank Canal","11","Normal State Plan","26","Dam and Appurtenant Works"]
[723,14,"Nizamabad",36,"Yellareddy ",null,null,null,null,null,null,null,null,null,null,null,null,null,null,null,null,null,null,null,null,null,null,null,null,null,null,null,null,null,null,null,null,null,null,null,null,null,null,null,null,null,null,null,null,null,null,null,null,null,null,null,null,null,null,null,null,null,1,"2700-01-155-00-25",787,"2700","Major Irrigation","01","MAJOR IRRIGATION - COMMERCIAL","155","Tungabhadra Project (High Level Canal) Stage - I  (Board Area)","00",null,"25","Project Establishment"]
[724,15,"Prakasam",1,"Addanki",null,null,null,null,null,null,null,null,null,null,null,null,null,null,null,null,null,null,null,null,null,null,null,null,null,null,null,null,null,null,null,null,null,null,null,null,null,null,null,null,null,null,null,null,null,null,null,null,null,null,null,null,null,null,null,null,null,1,"2700-01-155-00-27",788,"2700","Major Irrigation","01","MAJOR IRRIGATION - COMMERCIAL","155","Tungabhadra Project (High Level Canal) Stage - I  (Board Area)","00",null,"27","Canals and Distributaries"]
[725,15,"Prakasam",2,"Ardhaveedu",null,null,null,null,null,null,null,null,null,null,null,null,null,null,null,null,null,null,null,null,null,null,null,null,null,null,null,null,null,null,null,null,null,null,null,null,null,null,null,null,null,null,null,null,null,null,null,null,null,null,null,null,null,null,null,null,null,1,"2700-01-156-00-25",789,"2700","Major Irrigation","01","MAJOR IRRIGATION - COMMERCIAL","156","Tungabhadra Project (Low Level Canal)  Board Area","00",null,"25","Project Establishment"]
[726,15,"Prakasam",3,"Ballikuruva",null,null,null,null,null,null,null,null,null,null,null,null,null,null,null,null,null,null,null,null,null,null,null,null,null,null,null,null,null,null,null,null,null,null,null,null,null,null,null,null,null,null,null,null,null,null,null,null,null,null,null,null,null,null,null,null,null,1,"2700-01-156-00-26",790,"2700","Major Irrigation","01","MAJOR IRRIGATION - COMMERCIAL","156","Tungabhadra Project (Low Level Canal)  Board Area","00",null,"26","Dam and Appurtenant Works"]
[727,15,"Prakasam",4,"Bestavaripeta",null,null,null,null,null,null,null,null,null,null,null,null,null,null,null,null,null,null,null,null,null,null,null,null,null,null,null,null,null,null,null,null,null,null,null,null,null,null,null,null,null,null,null,null,null,null,null,null,null,null,null,null,null,null,null,null,null,1,"2700-01-156-00-27",791,"2700","Major Irrigation","01","MAJOR IRRIGATION - COMMERCIAL","156","Tungabhadra Project (Low Level Canal)  Board Area","00",null,"27","Canals and Distributaries"]
[728,15,"Prakasam",5,"Chadrasekarapuram",null,null,null,null,null,null,null,null,null,null,null,null,null,null,null,null,null,null,null,null,null,null,null,null,null,null,null,null,null,null,null,null,null,null,null,null,null,null,null,null,null,null,null,null,null,null,null,null,null,null,null,null,null,null,null,null,null,1,"2700-01-800-00-04",792,"2700","Major Irrigation","01","MAJOR IRRIGATION - COMMERCIAL","800","Other expenditure","00",null,"04","Project Establishment under Chief Engineer, Major Irrigation"]
[729,15,"Prakasam",6,"Chimakurthi",null,null,null,null,null,null,null,null,null,null,null,null,null,null,null,null,null,null,null,null,null,null,null,null,null,null,null,null,null,null,null,null,null,null,null,null,null,null,null,null,null,null,null,null,null,null,null,null,null,null,null,null,null,null,null,null,null,1,"2700-01-800-03-25",793,"2700","Major Irrigation","01","MAJOR IRRIGATION - COMMERCIAL","800","Other expenditure","03","Externally Aided Projects","25","Project Establishment under Project Director PPMU"]
[730,15,"Prakasam",7,"Chinaganjam",null,null,null,null,null,null,null,null,null,null,null,null,null,null,null,null,null,null,null,null,null,null,null,null,null,null,null,null,null,null,null,null,null,null,null,null,null,null,null,null,null,null,null,null,null,null,null,null,null,null,null,null,null,null,null,null,null,1,"2700-01-800-11-05",794,"2700","Major Irrigation","01","MAJOR IRRIGATION - COMMERCIAL","800","Other expenditure","11","Normal State Plan","05","Project Establishment under Chief Engineer, Srisailam Project"]
[731,15,"Prakasam",8,"Chirala",null,null,null,null,null,null,null,null,null,null,null,null,null,null,null,null,null,null,null,null,null,null,null,null,null,null,null,null,null,null,null,null,null,null,null,null,null,null,null,null,null,null,null,null,null,null,null,null,null,null,null,null,null,null,null,null,null,1,"2700-80-001-00-01",795,"2700","Major Irrigation","80","General","001","Direction and Administration","00",null,"01","Headquarter Office-Common Establishment (Chief Engineer, Irrigation)"]
[732,15,"Prakasam",9,"Cumbum",null,null,null,null,null,null,null,null,null,null,null,null,null,null,null,null,null,null,null,null,null,null,null,null,null,null,null,null,null,null,null,null,null,null,null,null,null,null,null,null,null,null,null,null,null,null,null,null,null,null,null,null,null,null,null,null,null,1,"2700-80-001-00-02",796,"2700","Major Irrigation","80","General","001","Direction and Administration","00",null,"02","District Offices - Comman Establishment (Engineer-in-Chief (Administration))"]
[733,15,"Prakasam",10,"Darsi",null,null,null,null,null,null,null,null,null,null,null,null,null,null,null,null,null,null,null,null,null,null,null,null,null,null,null,null,null,null,null,null,null,null,null,null,null,null,null,null,null,null,null,null,null,null,null,null,null,null,null,null,null,null,null,null,null,1,"2700-80-001-00-04",797,"2700","Major Irrigation","80","General","001","Direction and Administration","00",null,"04","Common Establishment Under Chief Engineer.CDO(Regional and District Offices)"]
[734,15,"Prakasam",11,"Donakonda",null,null,null,null,null,null,null,null,null,null,null,null,null,null,null,null,null,null,null,null,null,null,null,null,null,null,null,null,null,null,null,null,null,null,null,null,null,null,null,null,null,null,null,null,null,null,null,null,null,null,null,null,null,null,null,null,null,1,"2700-80-001-00-05",798,"2700","Major Irrigation","80","General","001","Direction and Administration","00",null,"05","Regional Work Shops"]
[735,15,"Prakasam",12,"Dornala",null,null,null,null,null,null,null,null,null,null,null,null,null,null,null,null,null,null,null,null,null,null,null,null,null,null,null,null,null,null,null,null,null,null,null,null,null,null,null,null,null,null,null,null,null,null,null,null,null,null,null,null,null,null,null,null,null,1,"2700-80-001-00-06",799,"2700","Major Irrigation","80","General","001","Direction and Administration","00",null,"06","Planning and Research"]
[736,15,"Prakasam",13,"Giddaluru",null,null,null,null,null,null,null,null,null,null,null,null,null,null,null,null,null,null,null,null,null,null,null,null,null,null,null,null,null,null,null,null,null,null,null,null,null,null,null,null,null,null,null,null,null,null,null,null,null,null,null,null,null,null,null,null,null,1,"2700-80-001-00-07",800,"2700","Major Irrigation","80","General","001","Direction and Administration","00",null,"07","Commisioner of Tenders"]
[737,15,"Prakasam",14,"Gudluru",null,null,null,null,null,null,null,null,null,null,null,null,null,null,null,null,null,null,null,null,null,null,null,null,null,null,null,null,null,null,null,null,null,null,null,null,null,null,null,null,null,null,null,null,null,null,null,null,null,null,null,null,null,null,null,null,null,1,"2700-80-001-00-08",801,"2700","Major Irrigation","80","General","001","Direction and Administration","00",null,"08","CE ISWR"]
[738,15,"Prakasam",15,"Hanumanthunipadu",null,null,null,null,null,null,null,null,null,null,null,null,null,null,null,null,null,null,null,null,null,null,null,null,null,null,null,null,null,null,null,null,null,null,null,null,null,null,null,null,null,null,null,null,null,null,null,null,null,null,null,null,null,null,null,null,null,1,"2700-80-001-11-01",802,"2700","Major Irrigation","80","General","001","Direction and Administration","11","Normal State Plan","01","Headquarters Office, Common Establishment (ENC, Irrigation)"]
[739,15,"Prakasam",16,"Inkollu",null,null,null,null,null,null,null,null,null,null,null,null,null,null,null,null,null,null,null,null,null,null,null,null,null,null,null,null,null,null,null,null,null,null,null,null,null,null,null,null,null,null,null,null,null,null,null,null,null,null,null,null,null,null,null,null,null,1,"2700-80-001-11-02",803,"2700","Major Irrigation","80","General","001","Direction and Administration","11","Normal State Plan","02","District Offices, Common Establishment (Engineer-in-Chief, Irrigation)"]
[740,15,"Prakasam",17,"Janakavarampanguluru",null,null,null,null,null,null,null,null,null,null,null,null,null,null,null,null,null,null,null,null,null,null,null,null,null,null,null,null,null,null,null,null,null,null,null,null,null,null,null,null,null,null,null,null,null,null,null,null,null,null,null,null,null,null,null,null,null,1,"2700-80-001-11-03",804,"2700","Major Irrigation","80","General","001","Direction and Administration","11","Normal State Plan","03","Prioritized Project Monitoring Unit"]
[741,15,"Prakasam",18,"Kandukur",null,null,null,null,null,null,null,null,null,null,null,null,null,null,null,null,null,null,null,null,null,null,null,null,null,null,null,null,null,null,null,null,null,null,null,null,null,null,null,null,null,null,null,null,null,null,null,null,null,null,null,null,null,null,null,null,null,1,"2700-80-001-11-04",805,"2700","Major Irrigation","80","General","001","Direction and Administration","11","Normal State Plan","04","Common Establishment under Chief Engineer Central Design Organisation"]
[742,15,"Prakasam",19,"Kanigiri",null,null,null,null,null,null,null,null,null,null,null,null,null,null,null,null,null,null,null,null,null,null,null,null,null,null,null,null,null,null,null,null,null,null,null,null,null,null,null,null,null,null,null,null,null,null,null,null,null,null,null,null,null,null,null,null,null,1,"2700-80-001-11-06",806,"2700","Major Irrigation","80","General","001","Direction and Administration","11","Normal State Plan","06","Planning and Reasearch"]
[743,15,"Prakasam",20,"Karamchedu",null,null,null,null,null,null,null,null,null,null,null,null,null,null,null,null,null,null,null,null,null,null,null,null,null,null,null,null,null,null,null,null,null,null,null,null,null,null,null,null,null,null,null,null,null,null,null,null,null,null,null,null,null,null,null,null,null,1,"2700-80-003-11-09",807,"2700","Major Irrigation","80","General","003","Training","11","Normal State Plan","09","Training Programmes"]
[744,15,"Prakasam",21,"Komarolu",null,null,null,null,null,null,null,null,null,null,null,null,null,null,null,null,null,null,null,null,null,null,null,null,null,null,null,null,null,null,null,null,null,null,null,null,null,null,null,null,null,null,null,null,null,null,null,null,null,null,null,null,null,null,null,null,null,1,"2700-80-800-00-05",808,"2700","Major Irrigation","80","General","800","Other Expenditure","00",null,"05","Establishment under Commissioner (I&CAD), Krishna Basin"]
[745,15,"Prakasam",22,"Konakanamitla",null,null,null,null,null,null,null,null,null,null,null,null,null,null,null,null,null,null,null,null,null,null,null,null,null,null,null,null,null,null,null,null,null,null,null,null,null,null,null,null,null,null,null,null,null,null,null,null,null,null,null,null,null,null,null,null,null,1,"2700-80-800-00-06",809,"2700","Major Irrigation","80","General","800","Other Expenditure","00",null,"06","Establishment under Director  (I&CAD), Godavari Basin"]
[746,15,"Prakasam",23,"Kondapi",null,null,null,null,null,null,null,null,null,null,null,null,null,null,null,null,null,null,null,null,null,null,null,null,null,null,null,null,null,null,null,null,null,null,null,null,null,null,null,null,null,null,null,null,null,null,null,null,null,null,null,null,null,null,null,null,null,1,"2700-80-800-03-12",810,"2700","Major Irrigation","80","General","800","Other Expenditure","03","Externally Aided Projects","12","National Hydrology Project (Surface Water Component)"]
[747,15,"Prakasam",24,"Korisapadu",null,null,null,null,null,null,null,null,null,null,null,null,null,null,null,null,null,null,null,null,null,null,null,null,null,null,null,null,null,null,null,null,null,null,null,null,null,null,null,null,null,null,null,null,null,null,null,null,null,null,null,null,null,null,null,null,null,1,"2700-80-800-03-25",811,"2700","Major Irrigation","80","General","800","Other Expenditure","03","Externally Aided Projects","25","Project Establishment under APILIP"]
[748,15,"Prakasam",25,"Kothapatnam",null,null,null,null,null,null,null,null,null,null,null,null,null,null,null,null,null,null,null,null,null,null,null,null,null,null,null,null,null,null,null,null,null,null,null,null,null,null,null,null,null,null,null,null,null,null,null,null,null,null,null,null,null,null,null,null,null,1,"2700-80-800-11-11",812,"2700","Major Irrigation","80","General","800","Other Expenditure","11","Normal State Plan","11","Investigation of Major and Medium Irrigation Projects"]
[749,15,"Prakasam",26,"Kurichedu",null,null,null,null,null,null,null,null,null,null,null,null,null,null,null,null,null,null,null,null,null,null,null,null,null,null,null,null,null,null,null,null,null,null,null,null,null,null,null,null,null,null,null,null,null,null,null,null,null,null,null,null,null,null,null,null,null,1,"2701-03-105-00-27",813,"2701","Medium Irrigation","03","MEDIUM IRRIGATION - COMMERCIAL","105","Jurreru Project","00",null,"27","Canals and Distributaries"]
[750,15,"Prakasam",27,"Lingasamudram",null,null,null,null,null,null,null,null,null,null,null,null,null,null,null,null,null,null,null,null,null,null,null,null,null,null,null,null,null,null,null,null,null,null,null,null,null,null,null,null,null,null,null,null,null,null,null,null,null,null,null,null,null,null,null,null,null,1,"2701-03-133-00-26",814,"2701","Medium Irrigation","03","MEDIUM IRRIGATION - COMMERCIAL","133","Jutpalli Project","00",null,"26","Dam and Appurtenant Works"]
[751,15,"Prakasam",28,"Maddipadu",null,null,null,null,null,null,null,null,null,null,null,null,null,null,null,null,null,null,null,null,null,null,null,null,null,null,null,null,null,null,null,null,null,null,null,null,null,null,null,null,null,null,null,null,null,null,null,null,null,null,null,null,null,null,null,null,null,1,"2701-03-134-00-26",815,"2701","Medium Irrigation","03","MEDIUM IRRIGATION - COMMERCIAL","134","Laknapur Project","00",null,"26","Dam and Appurtenant Works"]
[752,15,"Prakasam",29,"Markapur",null,null,null,null,null,null,null,null,null,null,null,null,null,null,null,null,null,null,null,null,null,null,null,null,null,null,null,null,null,null,null,null,null,null,null,null,null,null,null,null,null,null,null,null,null,null,null,null,null,null,null,null,null,null,null,null,null,1,"2701-03-134-00-27",816,"2701","Medium Irrigation","03","MEDIUM IRRIGATION - COMMERCIAL","134","Laknapur Project","00",null,"27","Canals and Distributaries"]
[753,15,"Prakasam",30,"Marripudi",null,null,null,null,null,null,null,null,null,null,null,null,null,null,null,null,null,null,null,null,null,null,null,null,null,null,null,null,null,null,null,null,null,null,null,null,null,null,null,null,null,null,null,null,null,null,null,null,null,null,null,null,null,null,null,null,null,1,"2701-03-135-00-27",817,"2701","Medium Irrigation","03","MEDIUM IRRIGATION - COMMERCIAL","135","Nallavagu Project","00",null,"27","Canals and Distributaries"]
[754,15,"Prakasam",31,"Martur",null,null,null,null,null,null,null,null,null,null,null,null,null,null,null,null,null,null,null,null,null,null,null,null,null,null,null,null,null,null,null,null,null,null,null,null,null,null,null,null,null,null,null,null,null,null,null,null,null,null,null,null,null,null,null,null,null,1,"2701-03-138-00-26",818,"2701","Medium Irrigation","03","MEDIUM IRRIGATION - COMMERCIAL","138","Kotipalli Vagu Project","00",null,"26","Dam and Appurtenant Works"]
[755,15,"Prakasam",32,"Mundlamuru",null,null,null,null,null,null,null,null,null,null,null,null,null,null,null,null,null,null,null,null,null,null,null,null,null,null,null,null,null,null,null,null,null,null,null,null,null,null,null,null,null,null,null,null,null,null,null,null,null,null,null,null,null,null,null,null,null,1,"2701-03-800-00-04",819,"2701","Medium Irrigation","03","MEDIUM IRRIGATION - COMMERCIAL","800","Other Expenditure","00",null,"04","Project Establishment under Chief Engineer, Medium Irrigation"]
[756,15,"Prakasam",33,"Naguluppalapadu",null,null,null,null,null,null,null,null,null,null,null,null,null,null,null,null,null,null,null,null,null,null,null,null,null,null,null,null,null,null,null,null,null,null,null,null,null,null,null,null,null,null,null,null,null,null,null,null,null,null,null,null,null,null,null,null,null,1,"2702-02-001-00-01",820,"2702","Minor Irrigation","02","Ground Water","001","Direction and Administration","00",null,"01","Head Quarters Office"]
[757,15,"Prakasam",34,"Ongole",null,null,null,null,null,null,null,null,null,null,null,null,null,null,null,null,null,null,null,null,null,null,null,null,null,null,null,null,null,null,null,null,null,null,null,null,null,null,null,null,null,null,null,null,null,null,null,null,null,null,null,null,null,null,null,null,null,1,"2702-02-001-11-01",821,"2702","Minor Irrigation","02","Ground Water","001","Direction and Administration","11","Normal State Plan","01","Head Quarters Office"]
[758,15,"Prakasam",35,"Pamur",null,null,null,null,null,null,null,null,null,null,null,null,null,null,null,null,null,null,null,null,null,null,null,null,null,null,null,null,null,null,null,null,null,null,null,null,null,null,null,null,null,null,null,null,null,null,null,null,null,null,null,null,null,null,null,null,null,1,"2702-02-005-00-04",822,"2702","Minor Irrigation","02","Ground Water","005","Investigation","00",null,"04","Survey and Investigation of Ground Water Resources"]
[759,15,"Prakasam",36,"Parchur",null,null,null,null,null,null,null,null,null,null,null,null,null,null,null,null,null,null,null,null,null,null,null,null,null,null,null,null,null,null,null,null,null,null,null,null,null,null,null,null,null,null,null,null,null,null,null,null,null,null,null,null,null,null,null,null,null,1,"2702-02-005-03-05",823,"2702","Minor Irrigation","02","Ground Water","005","Investigation","03","Externally Aided Projects","05","National Hydrology Project"]
[760,15,"Prakasam",37,"Pedaaraveedu",null,null,null,null,null,null,null,null,null,null,null,null,null,null,null,null,null,null,null,null,null,null,null,null,null,null,null,null,null,null,null,null,null,null,null,null,null,null,null,null,null,null,null,null,null,null,null,null,null,null,null,null,null,null,null,null,null,1,"2702-02-005-11-04",824,"2702","Minor Irrigation","02","Ground Water","005","Investigation","11","Normal State Plan","04","Survey and Investigation of Ground Water Resources"]
[761,15,"Prakasam",38,"Pedacherlopalle",null,null,null,null,null,null,null,null,null,null,null,null,null,null,null,null,null,null,null,null,null,null,null,null,null,null,null,null,null,null,null,null,null,null,null,null,null,null,null,null,null,null,null,null,null,null,null,null,null,null,null,null,null,null,null,null,null,1,"2702-02-789-11-04",825,"2702","Minor Irrigation","02","Ground Water","789","Special Component Plan for Scheduled Castes","11","Normal State Plan","04","Survey and investigation of Ground Water Resources"]
[762,15,"Prakasam",39,"Podili",null,null,null,null,null,null,null,null,null,null,null,null,null,null,null,null,null,null,null,null,null,null,null,null,null,null,null,null,null,null,null,null,null,null,null,null,null,null,null,null,null,null,null,null,null,null,null,null,null,null,null,null,null,null,null,null,null,1,"2702-02-796-11-04",826,"2702","Minor Irrigation","02","Ground Water","796","Tribal Areas Sub-Plan","11","Normal State Plan","04","Ground Water Investigation in Tribal Areas"]
[763,15,"Prakasam",40,"Ponnaluru",null,null,null,null,null,null,null,null,null,null,null,null,null,null,null,null,null,null,null,null,null,null,null,null,null,null,null,null,null,null,null,null,null,null,null,null,null,null,null,null,null,null,null,null,null,null,null,null,null,null,null,null,null,null,null,null,null,1,"2702-03-101-00-05",827,"2702","Minor Irrigation","03","Maintenance","101","Water Tanks","00",null,"05","Minor Irrigation Tanks"]
[764,15,"Prakasam",41,"Pullalacheruvu",null,null,null,null,null,null,null,null,null,null,null,null,null,null,null,null,null,null,null,null,null,null,null,null,null,null,null,null,null,null,null,null,null,null,null,null,null,null,null,null,null,null,null,null,null,null,null,null,null,null,null,null,null,null,null,null,null,1,"2702-03-101-03-06",828,"2702","Minor Irrigation","03","Maintenance","101","Water Tanks","03","Externally Aided Projects","06","WUA Programme under APCBTMP"]
[765,15,"Prakasam",42,"Racherla",null,null,null,null,null,null,null,null,null,null,null,null,null,null,null,null,null,null,null,null,null,null,null,null,null,null,null,null,null,null,null,null,null,null,null,null,null,null,null,null,null,null,null,null,null,null,null,null,null,null,null,null,null,null,null,null,null,1,"2702-03-101-03-08",829,"2702","Minor Irrigation","03","Maintenance","101","Water Tanks","03","Externally Aided Projects","08","Agriculture Production Enhancement of Programme under APCBTMP"]
[766,15,"Prakasam",43,"Santhamaguluru",null,null,null,null,null,null,null,null,null,null,null,null,null,null,null,null,null,null,null,null,null,null,null,null,null,null,null,null,null,null,null,null,null,null,null,null,null,null,null,null,null,null,null,null,null,null,null,null,null,null,null,null,null,null,null,null,null,1,"2702-03-101-03-09",830,"2702","Minor Irrigation","03","Maintenance","101","Water Tanks","03","Externally Aided Projects","09","Administration uner APCBTMP"]
[767,15,"Prakasam",44,"Santhanuthlapadu",null,null,null,null,null,null,null,null,null,null,null,null,null,null,null,null,null,null,null,null,null,null,null,null,null,null,null,null,null,null,null,null,null,null,null,null,null,null,null,null,null,null,null,null,null,null,null,null,null,null,null,null,null,null,null,null,null,1,"2702-03-101-03-11",831,"2702","Minor Irrigation","03","Maintenance","101","Water Tanks","03","Externally Aided Projects","11","WUA Programme under APILIP"]
[768,15,"Prakasam",45,"Singarayakonda",null,null,null,null,null,null,null,null,null,null,null,null,null,null,null,null,null,null,null,null,null,null,null,null,null,null,null,null,null,null,null,null,null,null,null,null,null,null,null,null,null,null,null,null,null,null,null,null,null,null,null,null,null,null,null,null,null,1,"2702-03-101-03-14",832,"2702","Minor Irrigation","03","Maintenance","101","Water Tanks","03","Externally Aided Projects","14","Establishment under APCBTMB"]
[769,15,"Prakasam",46,"Tangutur",null,null,null,null,null,null,null,null,null,null,null,null,null,null,null,null,null,null,null,null,null,null,null,null,null,null,null,null,null,null,null,null,null,null,null,null,null,null,null,null,null,null,null,null,null,null,null,null,null,null,null,null,null,null,null,null,null,1,{"$f":"CONCATENATE(BN835,\"-\",BP835,\"-\",BR835,\"-\",BT835,\"-\",BV835)","v":"2702-03-102-00-06"},833,"2702","Minor Irrigation","03","Maintenance","102","Lift Irrigation Schemes","00",null,"06","Pumping Schemes"]
[770,15,"Prakasam",47,"Tarlapadu",null,null,null,null,null,null,null,null,null,null,null,null,null,null,null,null,null,null,null,null,null,null,null,null,null,null,null,null,null,null,null,null,null,null,null,null,null,null,null,null,null,null,null,null,null,null,null,null,null,null,null,null,null,null,null,null,null,{"$f":"IF(EXACT($E$25,BN836),BK835+1,1)","v":1},"2702-80-800-00-07",834,"2702","Minor Irrigation","80","General","800","Other Expenditure","00",null,"07","General Establishment, Chief Engineer, Minor Irrigation"]
[771,15,"Prakasam",48,"Thallur",null,null,null,null,null,null,null,null,null,null,null,null,null,null,null,null,null,null,null,null,null,null,null,null,null,null,null,null,null,null,null,null,null,null,null,null,null,null,null,null,null,null,null,null,null,null,null,null,null,null,null,null,null,null,null,null,null,1,"2702-80-800-11-09",835,"2702","Minor Irrigation","80","General","800","Other Expenditure","11","Normal State Plan","09","Investigation on Minor Irrigation Schemes including Master Plan"]
[772,15,"Prakasam",49,"Tripuranthakam",null,null,null,null,null,null,null,null,null,null,null,null,null,null,null,null,null,null,null,null,null,null,null,null,null,null,null,null,null,null,null,null,null,null,null,null,null,null,null,null,null,null,null,null,null,null,null,null,null,null,null,null,null,null,null,null,null,1,"2705-00-001-06-01",836,"2705","Command Area Development","00",null,"001","Direction and Administration","06","Matching State Share of Centrally Sponsored Schemes","01","Head Quarters Office"]
[773,15,"Prakasam",50,"Ulavapadu",null,null,null,null,null,null,null,null,null,null,null,null,null,null,null,null,null,null,null,null,null,null,null,null,null,null,null,null,null,null,null,null,null,null,null,null,null,null,null,null,null,null,null,null,null,null,null,null,null,null,null,null,null,null,null,null,null,1,"2705-00-001-10-01",837,"2705","Command Area Development","00",null,"001","Direction and Administration","10","Centrally Sponsored Schemes","01","Headquarters Office"]
[774,15,"Prakasam",51,"Veligandla",null,null,null,null,null,null,null,null,null,null,null,null,null,null,null,null,null,null,null,null,null,null,null,null,null,null,null,null,null,null,null,null,null,null,null,null,null,null,null,null,null,null,null,null,null,null,null,null,null,null,null,null,null,null,null,null,null,1,"2705-00-103-06-04",838,"2705","Command Area Development","00",null,"103","Srirama Sagar Project","06","Matching State Share of Centrally Sponsored Schemes","04","Administrator's Establishment"]
[775,15,"Prakasam",52,"Vetapalem",null,null,null,null,null,null,null,null,null,null,null,null,null,null,null,null,null,null,null,null,null,null,null,null,null,null,null,null,null,null,null,null,null,null,null,null,null,null,null,null,null,null,null,null,null,null,null,null,null,null,null,null,null,null,null,null,null,1,"2705-00-103-06-09",839,"2705","Command Area Development","00",null,"103","Srirama Sagar Project","06","Matching State Share of Centrally Sponsored Schemes","09","Demonstration Farms"]
[776,15,"Prakasam",53,"Voletivaripalem",null,null,null,null,null,null,null,null,null,null,null,null,null,null,null,null,null,null,null,null,null,null,null,null,null,null,null,null,null,null,null,null,null,null,null,null,null,null,null,null,null,null,null,null,null,null,null,null,null,null,null,null,null,null,null,null,null,1,"2705-00-103-06-14",840,"2705","Command Area Development","00",null,"103","Srirama Sagar Project","06","Matching State Share of Centrally Sponsored Schemes","14","Pilot Project Tractor Training Centre at Chelgal"]
[777,15,"Prakasam",54,"Yeddanapudi",null,null,null,null,null,null,null,null,null,null,null,null,null,null,null,null,null,null,null,null,null,null,null,null,null,null,null,null,null,null,null,null,null,null,null,null,null,null,null,null,null,null,null,null,null,null,null,null,null,null,null,null,null,null,null,null,null,1,"2705-00-103-10-04",841,"2705","Command Area Development","00",null,"103","Srirama Sagar Project","10","Centrally Sponsored Schemes","04","Administrators Establishment"]
[778,15,"Prakasam",55,"Yerragondapalem",null,null,null,null,null,null,null,null,null,null,null,null,null,null,null,null,null,null,null,null,null,null,null,null,null,null,null,null,null,null,null,null,null,null,null,null,null,null,null,null,null,null,null,null,null,null,null,null,null,null,null,null,null,null,null,null,null,1,"2705-00-103-10-09",842,"2705","Command Area Development","00",null,"103","Srirama Sagar Project","10","Centrally Sponsored Schemes","09","Demonstration Farms"]
[779,15,"Prakasam",56,"Zarugumilli",null,null,null,null,null,null,null,null,null,null,null,null,null,null,null,null,null,null,null,null,null,null,null,null,null,null,null,null,null,null,null,null,null,null,null,null,null,null,null,null,null,null,null,null,null,null,null,null,null,null,null,null,null,null,null,null,null,1,"2705-00-103-10-14",843,"2705","Command Area Development","00",null,"103","Srirama Sagar Project","10","Centrally Sponsored Schemes","14","Pilot Project Tractor Training Centre at Chelgal"]
[780,16,"Ranga Reddy",1,"Balanagar ",null,null,null,null,null,null,null,null,null,null,null,null,null,null,null,null,null,null,null,null,null,null,null,null,null,null,null,null,null,null,null,null,null,null,null,null,null,null,null,null,null,null,null,null,null,null,null,null,null,null,null,null,null,null,null,null,null,1,"2705-00-200-06-06",844,"2705","Command Area Development","00",null,"200","Other Schemes","06","Matching State Share of Centrally Sponsored Schemes","06","Water Management Research and Training Centre"]
[781,16,"Ranga Reddy",2,"Bantaram ",null,null,null,null,null,null,null,null,null,null,null,null,null,null,null,null,null,null,null,null,null,null,null,null,null,null,null,null,null,null,null,null,null,null,null,null,null,null,null,null,null,null,null,null,null,null,null,null,null,null,null,null,null,null,null,null,null,1,"2705-00-200-10-06",845,"2705","Command Area Development","00",null,"200","Other Schemes","10","Centrally Sponsored Schemes","06","Water Management Research and Training Centre"]
[782,16,"Ranga Reddy",3,"Basheerabad ",null,null,null,null,null,null,null,null,null,null,null,null,null,null,null,null,null,null,null,null,null,null,null,null,null,null,null,null,null,null,null,null,null,null,null,null,null,null,null,null,null,null,null,null,null,null,null,null,null,null,null,null,null,null,null,null,null,1,"2705-00-200-11-06",846,"2705","Command Area Development","00",null,"200","Other Schemes","11","Normal State Plan","06","Water Management Research and Training Centre"]
[783,16,"Ranga Reddy",4,"Chevella ",null,null,null,null,null,null,null,null,null,null,null,null,null,null,null,null,null,null,null,null,null,null,null,null,null,null,null,null,null,null,null,null,null,null,null,null,null,null,null,null,null,null,null,null,null,null,null,null,null,null,null,null,null,null,null,null,null,1,"2705-00-200-11-07",847,"2705","Command Area Development","00",null,"200","Other Schemes","11","Normal State Plan","07","Conjuctive use of Ground Water"]
[784,16,"Ranga Reddy",5,"Dharur ",null,null,null,null,null,null,null,null,null,null,null,null,null,null,null,null,null,null,null,null,null,null,null,null,null,null,null,null,null,null,null,null,null,null,null,null,null,null,null,null,null,null,null,null,null,null,null,null,null,null,null,null,null,null,null,null,null,1,"2711-01-800-00-04",848,"2711","Flood Control and Drainage","01","Flood Control","800","Other Expenditure","00",null,"04","River Flood Banks"]
[785,16,"Ranga Reddy",6,"Doma ",null,null,null,null,null,null,null,null,null,null,null,null,null,null,null,null,null,null,null,null,null,null,null,null,null,null,null,null,null,null,null,null,null,null,null,null,null,null,null,null,null,null,null,null,null,null,null,null,null,null,null,null,null,null,null,null,null,1,"2801-01-001-00-04",849,"2801","Power","01","Hydel Generation","001","Direction and Administration","00",null,"04","A.P. Electricity Regulatory Commission"]
[786,16,"Ranga Reddy",7,"Gandeed ",null,null,null,null,null,null,null,null,null,null,null,null,null,null,null,null,null,null,null,null,null,null,null,null,null,null,null,null,null,null,null,null,null,null,null,null,null,null,null,null,null,null,null,null,null,null,null,null,null,null,null,null,null,null,null,null,null,1,"2801-01-103-00-04",850,"2801","Power","01","Hydel Generation","103","Tungabhadra Hydro-Electric (Joint) Scheme","00",null,"04","Head works and Hydro-Electric Installations"]
[787,16,"Ranga Reddy",8,"Ghatkesar ",null,null,null,null,null,null,null,null,null,null,null,null,null,null,null,null,null,null,null,null,null,null,null,null,null,null,null,null,null,null,null,null,null,null,null,null,null,null,null,null,null,null,null,null,null,null,null,null,null,null,null,null,null,null,null,null,null,1,"2801-01-105-11-25",851,"2801","Power","01","Hydel Generation","105","Srisailam Hydro-Electric Scheme","11","Normal State Plan","25","Project Establishment"]
[788,16,"Ranga Reddy",9,"Hayathnagar ",null,null,null,null,null,null,null,null,null,null,null,null,null,null,null,null,null,null,null,null,null,null,null,null,null,null,null,null,null,null,null,null,null,null,null,null,null,null,null,null,null,null,null,null,null,null,null,null,null,null,null,null,null,null,null,null,null,1,"2801-01-105-11-26",852,"2801","Power","01","Hydel Generation","105","Srisailam Hydro-Electric Scheme","11","Normal State Plan","26","Dam and Appurtenant Works"]
[789,16,"Ranga Reddy",10,"Ibrahimpatam ",null,null,null,null,null,null,null,null,null,null,null,null,null,null,null,null,null,null,null,null,null,null,null,null,null,null,null,null,null,null,null,null,null,null,null,null,null,null,null,null,null,null,null,null,null,null,null,null,null,null,null,null,null,null,null,null,null,1,"2810-00-800-00-04",853,"2810","New and Renewable Energy","00",null,"800","Other Expenditure","00",null,"04","Development of Other Sources of Energy (NEDCAP)"]
[790,16,"Ranga Reddy",11,"Kandukur ",null,null,null,null,null,null,null,null,null,null,null,null,null,null,null,null,null,null,null,null,null,null,null,null,null,null,null,null,null,null,null,null,null,null,null,null,null,null,null,null,null,null,null,null,null,null,null,null,null,null,null,null,null,null,null,null,null,1,"2810-00-800-11-04",854,"2810","New and Renewable Energy","00",null,"800","Other Expenditure","11","Normal State plan","04","Development of Other Sources of Energy (NEDCAP)"]
[791,16,"Ranga Reddy",12,"Keesara ",null,null,null,null,null,null,null,null,null,null,null,null,null,null,null,null,null,null,null,null,null,null,null,null,null,null,null,null,null,null,null,null,null,null,null,null,null,null,null,null,null,null,null,null,null,null,null,null,null,null,null,null,null,null,null,null,null,1,"2810-00-800-11-05",855,"2810","New and Renewable Energy","00",null,"800","Other Expenditure","11","Normal State plan","05","Solar Energy Programme"]
[792,16,"Ranga Reddy",13,"Kulkacharla ",null,null,null,null,null,null,null,null,null,null,null,null,null,null,null,null,null,null,null,null,null,null,null,null,null,null,null,null,null,null,null,null,null,null,null,null,null,null,null,null,null,null,null,null,null,null,null,null,null,null,null,null,null,null,null,null,null,1,"2810-00-800-11-06",856,"2810","New and Renewable Energy","00",null,"800","Other Expenditure","11","Normal State plan","06","Improved Chullhas Programme"]
[793,16,"Ranga Reddy",14,"Maheswaram ",null,null,null,null,null,null,null,null,null,null,null,null,null,null,null,null,null,null,null,null,null,null,null,null,null,null,null,null,null,null,null,null,null,null,null,null,null,null,null,null,null,null,null,null,null,null,null,null,null,null,null,null,null,null,null,null,null,1,"2810-01-800-00-04",857,"2810","New and Renewable Energy","01","Bio-Energy","800","Other Expenditure","00",null,"04","Development of Other Sources of Energy (NEDCAP)"]
[794,16,"Ranga Reddy",15,"Malkajgiri ",null,null,null,null,null,null,null,null,null,null,null,null,null,null,null,null,null,null,null,null,null,null,null,null,null,null,null,null,null,null,null,null,null,null,null,null,null,null,null,null,null,null,null,null,null,null,null,null,null,null,null,null,null,null,null,null,null,1,"2851-00-102-10-25",858,"2851","Village and Small Industries","00",null,"102","Small Scale Industries","10","Centrally Sponsored Schemes","25","Scheme for Census - cum - Sample Survey of S.S.I.Units"]
[795,16,"Ranga Reddy",16,"Manchal ",null,null,null,null,null,null,null,null,null,null,null,null,null,null,null,null,null,null,null,null,null,null,null,null,null,null,null,null,null,null,null,null,null,null,null,null,null,null,null,null,null,null,null,null,null,null,null,null,null,null,null,null,null,null,null,null,null,1,"2851-00-102-11-01",859,"2851","Village and Small Industries","00",null,"102","Small Scale Industries","11","Normal State Plan","01","Headquarters Office"]
[796,16,"Ranga Reddy",17,"Marpalle ",null,null,null,null,null,null,null,null,null,null,null,null,null,null,null,null,null,null,null,null,null,null,null,null,null,null,null,null,null,null,null,null,null,null,null,null,null,null,null,null,null,null,null,null,null,null,null,null,null,null,null,null,null,null,null,null,null,1,"2851-00-102-11-10",860,"2851","Village and Small Industries","00",null,"102","Small Scale Industries","11","Normal State Plan","10","Establishment of District Industries Centres"]
[797,16,"Ranga Reddy",18,"Medchal ",null,null,null,null,null,null,null,null,null,null,null,null,null,null,null,null,null,null,null,null,null,null,null,null,null,null,null,null,null,null,null,null,null,null,null,null,null,null,null,null,null,null,null,null,null,null,null,null,null,null,null,null,null,null,null,null,null,1,"2851-00-103-00-01",861,"2851","Village and Small Industries","00",null,"103","Handloom Industries","00",null,"01","Headquarters office"]
[798,16,"Ranga Reddy",19,"Moinabad ",null,null,null,null,null,null,null,null,null,null,null,null,null,null,null,null,null,null,null,null,null,null,null,null,null,null,null,null,null,null,null,null,null,null,null,null,null,null,null,null,null,null,null,null,null,null,null,null,null,null,null,null,null,null,null,null,null,1,"2851-00-103-00-03",862,"2851","Village and Small Industries","00",null,"103","Handloom Industries","00",null,"03","District Offices"]
[799,16,"Ranga Reddy",20,"Mominpet ",null,null,null,null,null,null,null,null,null,null,null,null,null,null,null,null,null,null,null,null,null,null,null,null,null,null,null,null,null,null,null,null,null,null,null,null,null,null,null,null,null,null,null,null,null,null,null,null,null,null,null,null,null,null,null,null,null,1,"2851-00-103-11-01",863,"2851","Village and Small Industries","00",null,"103","Handloom Industries","11","Normal State Plan","01","Headquarters Office"]
[800,16,"Ranga Reddy",21,"Nawabpet ",null,null,null,null,null,null,null,null,null,null,null,null,null,null,null,null,null,null,null,null,null,null,null,null,null,null,null,null,null,null,null,null,null,null,null,null,null,null,null,null,null,null,null,null,null,null,null,null,null,null,null,null,null,null,null,null,null,1,"2851-00-103-11-03",864,"2851","Village and Small Industries","00",null,"103","Handloom Industries","11","Normal State Plan","03","District Offices"]
[801,16,"Ranga Reddy",22,"Pargi ",null,null,null,null,null,null,null,null,null,null,null,null,null,null,null,null,null,null,null,null,null,null,null,null,null,null,null,null,null,null,null,null,null,null,null,null,null,null,null,null,null,null,null,null,null,null,null,null,null,null,null,null,null,null,null,null,null,1,"2851-00-103-11-37",865,"2851","Village and Small Industries","00",null,"103","Handloom Industries","11","Normal State Plan","37","Establishment of IIHT, Venkatagiri"]
[802,16,"Ranga Reddy",23,"Peddemul ",null,null,null,null,null,null,null,null,null,null,null,null,null,null,null,null,null,null,null,null,null,null,null,null,null,null,null,null,null,null,null,null,null,null,null,null,null,null,null,null,null,null,null,null,null,null,null,null,null,null,null,null,null,null,null,null,null,1,"2851-00-105-00-04",866,"2851","Village and Small Industries","00",null,"105","Khadi and Village Industries","00",null,"04","Assistance to Andhra Pradesh Khadi and Village Industries Board"]
[803,16,"Ranga Reddy",24,"Pudur ",null,null,null,null,null,null,null,null,null,null,null,null,null,null,null,null,null,null,null,null,null,null,null,null,null,null,null,null,null,null,null,null,null,null,null,null,null,null,null,null,null,null,null,null,null,null,null,null,null,null,null,null,null,null,null,null,null,1,"2851-00-107-00-01",867,"2851","Village and Small Industries","00",null,"107","Sericulture Industries","00",null,"01","Headquarters Office"]
[804,16,"Ranga Reddy",25,"Quthbullapur ",null,null,null,null,null,null,null,null,null,null,null,null,null,null,null,null,null,null,null,null,null,null,null,null,null,null,null,null,null,null,null,null,null,null,null,null,null,null,null,null,null,null,null,null,null,null,null,null,null,null,null,null,null,null,null,null,null,1,"2851-00-107-00-03",868,"2851","Village and Small Industries","00",null,"107","Sericulture Industries","00",null,"03","District Offices"]
[805,16,"Ranga Reddy",26,"Rajendranagar ",null,null,null,null,null,null,null,null,null,null,null,null,null,null,null,null,null,null,null,null,null,null,null,null,null,null,null,null,null,null,null,null,null,null,null,null,null,null,null,null,null,null,null,null,null,null,null,null,null,null,null,null,null,null,null,null,null,1,"2852-08-201-00-01",869,"2852","Industries","08","Consumer Industries","201","Sugar","00",null,"01","Directorate of Sugar"]
[806,16,"Ranga Reddy",27,"Saroornagar ",null,null,null,null,null,null,null,null,null,null,null,null,null,null,null,null,null,null,null,null,null,null,null,null,null,null,null,null,null,null,null,null,null,null,null,null,null,null,null,null,null,null,null,null,null,null,null,null,null,null,null,null,null,null,null,null,null,1,"2852-08-201-00-03",870,"2852","Industries","08","Consumer Industries","201","Sugar","00",null,"03","District Offices"]
[807,16,"Ranga Reddy",28,"Serilingampalle ",null,null,null,null,null,null,null,null,null,null,null,null,null,null,null,null,null,null,null,null,null,null,null,null,null,null,null,null,null,null,null,null,null,null,null,null,null,null,null,null,null,null,null,null,null,null,null,null,null,null,null,null,null,null,null,null,null,1,"2852-80-001-00-01",871,"2852","Industries","80","General","001","Direction and Administration","00",null,"01","Headquarters Office"]
[808,16,"Ranga Reddy",29,"Shabad ",null,null,null,null,null,null,null,null,null,null,null,null,null,null,null,null,null,null,null,null,null,null,null,null,null,null,null,null,null,null,null,null,null,null,null,null,null,null,null,null,null,null,null,null,null,null,null,null,null,null,null,null,null,null,null,null,null,1,"2852-80-001-00-03",872,"2852","Industries","80","General","001","Direction and Administration","00",null,"03","District Offices"]
[809,16,"Ranga Reddy",30,"Shamirpet ",null,null,null,null,null,null,null,null,null,null,null,null,null,null,null,null,null,null,null,null,null,null,null,null,null,null,null,null,null,null,null,null,null,null,null,null,null,null,null,null,null,null,null,null,null,null,null,null,null,null,null,null,null,null,null,null,null,1,"2853-02-001-00-01",873,"2853","Non-Ferrous Mining and Metallurgical Industries","02","Regulation and Development of Mines","001","Direction and Administration","00",null,"01","Headquarters Office"]
[810,16,"Ranga Reddy",31,"Shamshabad ",null,null,null,null,null,null,null,null,null,null,null,null,null,null,null,null,null,null,null,null,null,null,null,null,null,null,null,null,null,null,null,null,null,null,null,null,null,null,null,null,null,null,null,null,null,null,null,null,null,null,null,null,null,null,null,null,null,1,"2853-02-001-00-03",874,"2853","Non-Ferrous Mining and Metallurgical Industries","02","Regulation and Development of Mines","001","Direction and Administration","00",null,"03","District Offices"]
[811,16,"Ranga Reddy",32,"Shankarpalle ",null,null,null,null,null,null,null,null,null,null,null,null,null,null,null,null,null,null,null,null,null,null,null,null,null,null,null,null,null,null,null,null,null,null,null,null,null,null,null,null,null,null,null,null,null,null,null,null,null,null,null,null,null,null,null,null,null,1,"2853-02-001-11-01",875,"2853","Non-Ferrous Mining and Metallurgical Industries","02","Regulation and Development of Mines","001","Direction and Administration","11","Normal State Plan","01","Headquarters Office"]
[812,16,"Ranga Reddy",33,"Tandur ",null,null,null,null,null,null,null,null,null,null,null,null,null,null,null,null,null,null,null,null,null,null,null,null,null,null,null,null,null,null,null,null,null,null,null,null,null,null,null,null,null,null,null,null,null,null,null,null,null,null,null,null,null,null,null,null,null,1,"2853-02-001-11-03",876,"2853","Non-Ferrous Mining and Metallurgical Industries","02","Regulation and Development of Mines","001","Direction and Administration","11","Normal State Plan","03","District Offices"]
[813,16,"Ranga Reddy",34,"Uppal ",null,null,null,null,null,null,null,null,null,null,null,null,null,null,null,null,null,null,null,null,null,null,null,null,null,null,null,null,null,null,null,null,null,null,null,null,null,null,null,null,null,null,null,null,null,null,null,null,null,null,null,null,null,null,null,null,null,1,"3051-02-001-00-01",877,"3051","Ports and Light Houses","02","Minor Ports","001","Direction and Administration","00",null,"01","Headquarters office"]
[814,16,"Ranga Reddy",35,"Vikarabad ",null,null,null,null,null,null,null,null,null,null,null,null,null,null,null,null,null,null,null,null,null,null,null,null,null,null,null,null,null,null,null,null,null,null,null,null,null,null,null,null,null,null,null,null,null,null,null,null,null,null,null,null,null,null,null,null,null,1,"3051-02-102-00-04",878,"3051","Ports and Light Houses","02","Minor Ports","102","Port Management","00",null,"04","Management of Ports"]
[815,16,"Ranga Reddy",36,"Yacharam ",null,null,null,null,null,null,null,null,null,null,null,null,null,null,null,null,null,null,null,null,null,null,null,null,null,null,null,null,null,null,null,null,null,null,null,null,null,null,null,null,null,null,null,null,null,null,null,null,null,null,null,null,null,null,null,null,null,1,"3053-01-190-00-04",879,"3053","Civil Aviation","01","Air Services","190","Assistance to Public Sector and Other Undertakings","00",null,"04","A.P. Aviation Corporation"]
[816,16,"Ranga Reddy",37,"Yelal ",null,null,null,null,null,null,null,null,null,null,null,null,null,null,null,null,null,null,null,null,null,null,null,null,null,null,null,null,null,null,null,null,null,null,null,null,null,null,null,null,null,null,null,null,null,null,null,null,null,null,null,null,null,null,null,null,null,1,"3054-03-337-00-04",880,"3054","Roads and Bridges","03","State High Ways","337","Road Works","00",null,"04","Highways Works"]
[817,17,"Sri Pottisreeramulu Nellore",1,"Allur",null,null,null,null,null,null,null,null,null,null,null,null,null,null,null,null,null,null,null,null,null,null,null,null,null,null,null,null,null,null,null,null,null,null,null,null,null,null,null,null,null,null,null,null,null,null,null,null,null,null,null,null,null,null,null,null,null,1,"3054-04-800-00-07",881,"3054","Roads and Bridges","04","District and Other Roads","800","Other Expenditure","00",null,"07","District and Other Roads under Government"]
[818,17,"Sri Pottisreeramulu Nellore",2,"Ananthasagaram",null,null,null,null,null,null,null,null,null,null,null,null,null,null,null,null,null,null,null,null,null,null,null,null,null,null,null,null,null,null,null,null,null,null,null,null,null,null,null,null,null,null,null,null,null,null,null,null,null,null,null,null,null,null,null,null,null,1,"3054-80-001-00-01",882,"3054","Roads and Bridges","80","General","001","Direction and Administration","00",null,"01","Head quarters Office (N.H)"]
[819,17,"Sri Pottisreeramulu Nellore",3,"Anumasamudrampeta",null,null,null,null,null,null,null,null,null,null,null,null,null,null,null,null,null,null,null,null,null,null,null,null,null,null,null,null,null,null,null,null,null,null,null,null,null,null,null,null,null,null,null,null,null,null,null,null,null,null,null,null,null,null,null,null,null,1,"3054-80-001-00-03",883,"3054","Roads and Bridges","80","General","001","Direction and Administration","00",null,"03","District Offices (Divisional and Sub Divisional Offices) (N.H)"]
[820,17,"Sri Pottisreeramulu Nellore",4,"Atmakur",null,null,null,null,null,null,null,null,null,null,null,null,null,null,null,null,null,null,null,null,null,null,null,null,null,null,null,null,null,null,null,null,null,null,null,null,null,null,null,null,null,null,null,null,null,null,null,null,null,null,null,null,null,null,null,null,null,1,"3056-00-104-00-04",884,"3056","Inland Water Transport","00",null,"104","Navigation","00",null,"04","Buckingham Canal"]
[821,17,"Sri Pottisreeramulu Nellore",5,"Balayapalle",null,null,null,null,null,null,null,null,null,null,null,null,null,null,null,null,null,null,null,null,null,null,null,null,null,null,null,null,null,null,null,null,null,null,null,null,null,null,null,null,null,null,null,null,null,null,null,null,null,null,null,null,null,null,null,null,null,1,"3056-00-104-00-05",885,"3056","Inland Water Transport","00",null,"104","Navigation","00",null,"05","Godavari Delta System"]
[822,17,"Sri Pottisreeramulu Nellore",6,"Bogole",null,null,null,null,null,null,null,null,null,null,null,null,null,null,null,null,null,null,null,null,null,null,null,null,null,null,null,null,null,null,null,null,null,null,null,null,null,null,null,null,null,null,null,null,null,null,null,null,null,null,null,null,null,null,null,null,null,1,"3425-60-200-00-05",886,"3425","Other Scientific Research","60","Others","200","Assistance to other Scientific Bodies","00",null,"05","Assistance to Institutions for Scientific and Technical Research (APCOST)"]
[823,17,"Sri Pottisreeramulu Nellore",7,"Butchireddipalem",null,null,null,null,null,null,null,null,null,null,null,null,null,null,null,null,null,null,null,null,null,null,null,null,null,null,null,null,null,null,null,null,null,null,null,null,null,null,null,null,null,null,null,null,null,null,null,null,null,null,null,null,null,null,null,null,null,1,"3425-60-200-00-06",887,"3425","Other Scientific Research","60","Others","200","Assistance to other Scientific Bodies","00",null,"06","Assistance to A.P. Science Centre"]
[824,17,"Sri Pottisreeramulu Nellore",8,"Chejerla",null,null,null,null,null,null,null,null,null,null,null,null,null,null,null,null,null,null,null,null,null,null,null,null,null,null,null,null,null,null,null,null,null,null,null,null,null,null,null,null,null,null,null,null,null,null,null,null,null,null,null,null,null,null,null,null,null,1,"3435-03-101-11-01",888,"3435","Ecology and Environment","03","Environmental Research and Ecological Regeneration","101","Conservation Programmes","11","Normal State Plan","01","National Green Corps"]
[825,17,"Sri Pottisreeramulu Nellore",9,"Chillakur",null,null,null,null,null,null,null,null,null,null,null,null,null,null,null,null,null,null,null,null,null,null,null,null,null,null,null,null,null,null,null,null,null,null,null,null,null,null,null,null,null,null,null,null,null,null,null,null,null,null,null,null,null,null,null,null,null,1,"3435-04-103-00-05",889,"3435","Ecology and Environment","04","Prevention and Control of Pollution","103","Prevention of Air and Water Pollution","00",null,"05","Scheme for Prevention of Water Pollution"]
[826,17,"Sri Pottisreeramulu Nellore",10,"Chittamur",null,null,null,null,null,null,null,null,null,null,null,null,null,null,null,null,null,null,null,null,null,null,null,null,null,null,null,null,null,null,null,null,null,null,null,null,null,null,null,null,null,null,null,null,null,null,null,null,null,null,null,null,null,null,null,null,null,1,"3451-00-090-00-04",890,"3451","Secretariat Economic Services","00",null,"090","Secretariat","00",null,"04","Food and Civil Supplies Department"]
[827,17,"Sri Pottisreeramulu Nellore",11,"Dagadarthi",null,null,null,null,null,null,null,null,null,null,null,null,null,null,null,null,null,null,null,null,null,null,null,null,null,null,null,null,null,null,null,null,null,null,null,null,null,null,null,null,null,null,null,null,null,null,null,null,null,null,null,null,null,null,null,null,null,1,"3451-00-090-00-05",891,"3451","Secretariat Economic Services","00",null,"090","Secretariat","00",null,"05","Panchayat Raj and Rural Development Department"]
[828,17,"Sri Pottisreeramulu Nellore",12,"Dakkili",null,null,null,null,null,null,null,null,null,null,null,null,null,null,null,null,null,null,null,null,null,null,null,null,null,null,null,null,null,null,null,null,null,null,null,null,null,null,null,null,null,null,null,null,null,null,null,null,null,null,null,null,null,null,null,null,null,1,"3451-00-090-00-07",892,"3451","Secretariat Economic Services","00",null,"090","Secretariat","00",null,"07","Industries and Commerce Department"]
[829,17,"Sri Pottisreeramulu Nellore",13,"Doravarisatram",null,null,null,null,null,null,null,null,null,null,null,null,null,null,null,null,null,null,null,null,null,null,null,null,null,null,null,null,null,null,null,null,null,null,null,null,null,null,null,null,null,null,null,null,null,null,null,null,null,null,null,null,null,null,null,null,null,1,"3451-00-090-00-08",893,"3451","Secretariat Economic Services","00",null,"090","Secretariat","00",null,"08","Personal Staff attached to Ministers"]
[830,17,"Sri Pottisreeramulu Nellore",14,"Duttalur",null,null,null,null,null,null,null,null,null,null,null,null,null,null,null,null,null,null,null,null,null,null,null,null,null,null,null,null,null,null,null,null,null,null,null,null,null,null,null,null,null,null,null,null,null,null,null,null,null,null,null,null,null,null,null,null,null,1,"3451-00-090-00-09",894,"3451","Secretariat Economic Services","00",null,"090","Secretariat","00",null,"09","Irrigation and Command Area Development Department (Irrigation Wing)"]
[831,17,"Sri Pottisreeramulu Nellore",15,"Gudur",null,null,null,null,null,null,null,null,null,null,null,null,null,null,null,null,null,null,null,null,null,null,null,null,null,null,null,null,null,null,null,null,null,null,null,null,null,null,null,null,null,null,null,null,null,null,null,null,null,null,null,null,null,null,null,null,null,1,"3451-00-090-00-10",895,"3451","Secretariat Economic Services","00",null,"090","Secretariat","00",null,"10","Transport, Roads and Buildings Department"]
[832,17,"Sri Pottisreeramulu Nellore",16,"Indukurpet",null,null,null,null,null,null,null,null,null,null,null,null,null,null,null,null,null,null,null,null,null,null,null,null,null,null,null,null,null,null,null,null,null,null,null,null,null,null,null,null,null,null,null,null,null,null,null,null,null,null,null,null,null,null,null,null,null,1,"3451-00-090-00-11",896,"3451","Secretariat Economic Services","00",null,"090","Secretariat","00",null,"11","Energy Department"]
[833,17,"Sri Pottisreeramulu Nellore",17,"Jaladanki",null,null,null,null,null,null,null,null,null,null,null,null,null,null,null,null,null,null,null,null,null,null,null,null,null,null,null,null,null,null,null,null,null,null,null,null,null,null,null,null,null,null,null,null,null,null,null,null,null,null,null,null,null,null,null,null,null,1,{"$f":"CONCATENATE(BN899,\"-\",BP899,\"-\",BR899,\"-\",BT899,\"-\",BV899)","v":"3451-00-090-00-12"},897,"3451","Secretariat Economic Services","00",null,"090","Secretariat","00",null,"12","Strengthening of Monitoring, Reviewing and Evaluation"]
[834,17,"Sri Pottisreeramulu Nellore",18,"Kaligiri",null,null,null,null,null,null,null,null,null,null,null,null,null,null,null,null,null,null,null,null,null,null,null,null,null,null,null,null,null,null,null,null,null,null,null,null,null,null,null,null,null,null,null,null,null,null,null,null,null,null,null,null,null,null,null,null,null,{"$f":"IF(EXACT($E$25,BN900),BK899+1,1)","v":1},"3451-00-090-00-16",898,"3451","Secretariat Economic Services","00",null,"090","Secretariat","00",null,"16","Irrigation and Command Area Development Department (Command Area Development Wing)"]
[835,17,"Sri Pottisreeramulu Nellore",19,"Kaluvoya",null,null,null,null,null,null,null,null,null,null,null,null,null,null,null,null,null,null,null,null,null,null,null,null,null,null,null,null,null,null,null,null,null,null,null,null,null,null,null,null,null,null,null,null,null,null,null,null,null,null,null,null,null,null,null,null,null,1,"3451-00-090-00-17",899,"3451","Secretariat Economic Services","00",null,"090","Secretariat","00",null,"17","Industrial and Financial Reconstruction Department"]
[836,17,"Sri Pottisreeramulu Nellore",20,"Kavali",null,null,null,null,null,null,null,null,null,null,null,null,null,null,null,null,null,null,null,null,null,null,null,null,null,null,null,null,null,null,null,null,null,null,null,null,null,null,null,null,null,null,null,null,null,null,null,null,null,null,null,null,null,null,null,null,null,1,"3451-00-090-00-18",900,"3451","Secretariat Economic Services","00",null,"090","Secretariat","00",null,"18","Agriculture and Co-operation Department"]
[837,17,"Sri Pottisreeramulu Nellore",21,"Kodavalur",null,null,null,null,null,null,null,null,null,null,null,null,null,null,null,null,null,null,null,null,null,null,null,null,null,null,null,null,null,null,null,null,null,null,null,null,null,null,null,null,null,null,null,null,null,null,null,null,null,null,null,null,null,null,null,null,null,1,"3451-00-090-00-19",901,"3451","Secretariat Economic Services","00",null,"090","Secretariat","00",null,"19","Animal Husbandary, Dairy Development and Fisheries Department"]
[838,17,"Sri Pottisreeramulu Nellore",22,"Kondapuram",null,null,null,null,null,null,null,null,null,null,null,null,null,null,null,null,null,null,null,null,null,null,null,null,null,null,null,null,null,null,null,null,null,null,null,null,null,null,null,null,null,null,null,null,null,null,null,null,null,null,null,null,null,null,null,null,null,1,"3451-00-090-00-20",902,"3451","Secretariat Economic Services","00",null,"090","Secretariat","00",null,"20","Environment, Forest, Science and Technology Department"]
[839,17,"Sri Pottisreeramulu Nellore",23,"Kota",null,null,null,null,null,null,null,null,null,null,null,null,null,null,null,null,null,null,null,null,null,null,null,null,null,null,null,null,null,null,null,null,null,null,null,null,null,null,null,null,null,null,null,null,null,null,null,null,null,null,null,null,null,null,null,null,null,1,"3451-00-090-00-21",903,"3451","Secretariat Economic Services","00",null,"090","Secretariat","00",null,"21","Public Enterprises Department"]
[840,17,"Sri Pottisreeramulu Nellore",24,"Kovur",null,null,null,null,null,null,null,null,null,null,null,null,null,null,null,null,null,null,null,null,null,null,null,null,null,null,null,null,null,null,null,null,null,null,null,null,null,null,null,null,null,null,null,null,null,null,null,null,null,null,null,null,null,null,null,null,null,1,"3451-00-090-00-22",904,"3451","Secretariat Economic Services","00",null,"090","Secretariat","00",null,"22","Information Technology & Communications department"]
[841,17,"Sri Pottisreeramulu Nellore",25,"Manubolu",null,null,null,null,null,null,null,null,null,null,null,null,null,null,null,null,null,null,null,null,null,null,null,null,null,null,null,null,null,null,null,null,null,null,null,null,null,null,null,null,null,null,null,null,null,null,null,null,null,null,null,null,null,null,null,null,null,1,"3451-00-090-00-25",905,"3451","Secretariat Economic Services","00",null,"090","Secretariat","00",null,"25","Irrigation and Command Area Development Department (Projects Wing)"]
[842,17,"Sri Pottisreeramulu Nellore",26,"Marripadu",null,null,null,null,null,null,null,null,null,null,null,null,null,null,null,null,null,null,null,null,null,null,null,null,null,null,null,null,null,null,null,null,null,null,null,null,null,null,null,null,null,null,null,null,null,null,null,null,null,null,null,null,null,null,null,null,null,1,"3451-00-090-00-26",906,"3451","Secretariat Economic Services","00",null,"090","Secretariat","00",null,"26","Rain Shadow Areas Development Department"]
[843,17,"Sri Pottisreeramulu Nellore",27,"Muthukur",null,null,null,null,null,null,null,null,null,null,null,null,null,null,null,null,null,null,null,null,null,null,null,null,null,null,null,null,null,null,null,null,null,null,null,null,null,null,null,null,null,null,null,null,null,null,null,null,null,null,null,null,null,null,null,null,null,1,"3451-00-090-00-27",907,"3451","Secretariat Economic Services","00",null,"090","Secretariat","00",null,"27","Agriculture Marketing & Co-operation, Secretariat Department"]
[844,17,"Sri Pottisreeramulu Nellore",28,"Naidupeta",null,null,null,null,null,null,null,null,null,null,null,null,null,null,null,null,null,null,null,null,null,null,null,null,null,null,null,null,null,null,null,null,null,null,null,null,null,null,null,null,null,null,null,null,null,null,null,null,null,null,null,null,null,null,null,null,null,1,"3451-00-090-00-28",908,"3451","Secretariat Economic Services","00",null,"090","Secretariat","00",null,"28","Infrastructure and Investment Department"]
[845,17,"Sri Pottisreeramulu Nellore",29,"Nellore",null,null,null,null,null,null,null,null,null,null,null,null,null,null,null,null,null,null,null,null,null,null,null,null,null,null,null,null,null,null,null,null,null,null,null,null,null,null,null,null,null,null,null,null,null,null,null,null,null,null,null,null,null,null,null,null,null,1,"3451-00-090-00-29",909,"3451","Secretariat Economic Services","00",null,"090","Secretariat","00",null,"29","Food Processing, Agriculture Marketing & Co-operation Department"]
[846,17,"Sri Pottisreeramulu Nellore",30,"Ojili",null,null,null,null,null,null,null,null,null,null,null,null,null,null,null,null,null,null,null,null,null,null,null,null,null,null,null,null,null,null,null,null,null,null,null,null,null,null,null,null,null,null,null,null,null,null,null,null,null,null,null,null,null,null,null,null,null,1,"3451-00-090-11-12",910,"3451","Secretariat Economic Services","00",null,"090","Secretariat","11","Normal State Plan","12","Strengthening of Monitoring Review and Evaluation"]
[847,17,"Sri Pottisreeramulu Nellore",31,"Pellakur",null,null,null,null,null,null,null,null,null,null,null,null,null,null,null,null,null,null,null,null,null,null,null,null,null,null,null,null,null,null,null,null,null,null,null,null,null,null,null,null,null,null,null,null,null,null,null,null,null,null,null,null,null,null,null,null,null,1,"3451-00-092-00-05",911,"3451","Secretariat Economic Services","00",null,"092","Other Offices","00",null,"05","Strengthening of Monitoring and Review Wing (State Finance Commission, Secretariat Branch)"]
[848,17,"Sri Pottisreeramulu Nellore",32,"Podlakur",null,null,null,null,null,null,null,null,null,null,null,null,null,null,null,null,null,null,null,null,null,null,null,null,null,null,null,null,null,null,null,null,null,null,null,null,null,null,null,null,null,null,null,null,null,null,null,null,null,null,null,null,null,null,null,null,null,1,"3451-00-092-00-12",912,"3451","Secretariat Economic Services","00",null,"092","Other Offices","00",null,"12","Director, Electronically Deliverable Services"]
[849,17,"Sri Pottisreeramulu Nellore",33,"Rapur",null,null,null,null,null,null,null,null,null,null,null,null,null,null,null,null,null,null,null,null,null,null,null,null,null,null,null,null,null,null,null,null,null,null,null,null,null,null,null,null,null,null,null,null,null,null,null,null,null,null,null,null,null,null,null,null,null,1,"3451-00-092-11-10",913,"3451","Secretariat Economic Services","00",null,"092","Other Offices","11","Normal State Plan","10","Model Village Scheme on Pilot Basis"]
[850,17,"Sri Pottisreeramulu Nellore",34,"Sangam",null,null,null,null,null,null,null,null,null,null,null,null,null,null,null,null,null,null,null,null,null,null,null,null,null,null,null,null,null,null,null,null,null,null,null,null,null,null,null,null,null,null,null,null,null,null,null,null,null,null,null,null,null,null,null,null,null,1,"3451-00-092-11-21",914,"3451","Secretariat Economic Services","00",null,"092","Other Offices","11","Normal State Plan","21","Agriculture Technology Mission"]
[851,17,"Sri Pottisreeramulu Nellore",35,"Seetharamapuram",null,null,null,null,null,null,null,null,null,null,null,null,null,null,null,null,null,null,null,null,null,null,null,null,null,null,null,null,null,null,null,null,null,null,null,null,null,null,null,null,null,null,null,null,null,null,null,null,null,null,null,null,null,null,null,null,null,1,"3451-00-092-11-24",915,"3451","Secretariat Economic Services","00",null,"092","Other Offices","11","Normal State Plan","24","Twenty Point Programme"]
[852,17,"Sri Pottisreeramulu Nellore",36,"Sullurpeta",null,null,null,null,null,null,null,null,null,null,null,null,null,null,null,null,null,null,null,null,null,null,null,null,null,null,null,null,null,null,null,null,null,null,null,null,null,null,null,null,null,null,null,null,null,null,null,null,null,null,null,null,null,null,null,null,null,1,"3451-00-092-11-25",916,"3451","Secretariat Economic Services","00",null,"092","Other Offices","11","Normal State Plan","25","Area Development Authority,Pileru"]
[853,17,"Sri Pottisreeramulu Nellore",37,"Sydapuram",null,null,null,null,null,null,null,null,null,null,null,null,null,null,null,null,null,null,null,null,null,null,null,null,null,null,null,null,null,null,null,null,null,null,null,null,null,null,null,null,null,null,null,null,null,null,null,null,null,null,null,null,null,null,null,null,null,1,"3451-00-102-00-04",917,"3451","Secretariat Economic Services","00",null,"102","District Planning Machinery","00",null,"04","Planning Wing"]
[854,17,"Sri Pottisreeramulu Nellore",38,"Tada",null,null,null,null,null,null,null,null,null,null,null,null,null,null,null,null,null,null,null,null,null,null,null,null,null,null,null,null,null,null,null,null,null,null,null,null,null,null,null,null,null,null,null,null,null,null,null,null,null,null,null,null,null,null,null,null,null,1,"3451-00-102-00-05",918,"3451","Secretariat Economic Services","00",null,"102","District Planning Machinery","00",null,"05","Director, Bureau of Economics and Statistics"]
[855,17,"Sri Pottisreeramulu Nellore",39,"Thotapalligudur",null,null,null,null,null,null,null,null,null,null,null,null,null,null,null,null,null,null,null,null,null,null,null,null,null,null,null,null,null,null,null,null,null,null,null,null,null,null,null,null,null,null,null,null,null,null,null,null,null,null,null,null,null,null,null,null,null,1,"3452-01-102-00-04",919,"3452","Tourism","01","Tourist Infrastructure","102","Tourist Accommodation","00",null,"04","Accommodation and other facilities to Tourists"]
[856,17,"Sri Pottisreeramulu Nellore",40,"Udayagiri",null,null,null,null,null,null,null,null,null,null,null,null,null,null,null,null,null,null,null,null,null,null,null,null,null,null,null,null,null,null,null,null,null,null,null,null,null,null,null,null,null,null,null,null,null,null,null,null,null,null,null,null,null,null,null,null,null,1,"3452-01-102-11-04",920,"3452","Tourism","01","Tourist Infrastructure","102","Tourist Accommodation","11","Normal State Plan","04","Accommodation and other facilities to Tourists"]
[857,17,"Sri Pottisreeramulu Nellore",41,"Vakadu",null,null,null,null,null,null,null,null,null,null,null,null,null,null,null,null,null,null,null,null,null,null,null,null,null,null,null,null,null,null,null,null,null,null,null,null,null,null,null,null,null,null,null,null,null,null,null,null,null,null,null,null,null,null,null,null,null,1,"3452-01-102-11-05",921,"3452","Tourism","01","Tourist Infrastructure","102","Tourist Accommodation","11","Normal State Plan","05","Development of Infrastructure facilities for Tourism Promotion"]
[858,17,"Sri Pottisreeramulu Nellore",42,"Varikuntapadu",null,null,null,null,null,null,null,null,null,null,null,null,null,null,null,null,null,null,null,null,null,null,null,null,null,null,null,null,null,null,null,null,null,null,null,null,null,null,null,null,null,null,null,null,null,null,null,null,null,null,null,null,null,null,null,null,null,1,"3452-01-102-11-07",922,"3452","Tourism","01","Tourist Infrastructure","102","Tourist Accommodation","11","Normal State Plan","07","New Tourism Projects"]
[859,17,"Sri Pottisreeramulu Nellore",43,"Venkatachalam",null,null,null,null,null,null,null,null,null,null,null,null,null,null,null,null,null,null,null,null,null,null,null,null,null,null,null,null,null,null,null,null,null,null,null,null,null,null,null,null,null,null,null,null,null,null,null,null,null,null,null,null,null,null,null,null,null,1,"3452-01-190-00-04",923,"3452","Tourism","01","Tourist Infrastructure","190","Assistance to Public Sector  and Other Under Takings","00",null,"04","Assistance to A.P.Travel and Tourism Development Corporation"]
[860,17,"Sri Pottisreeramulu Nellore",44,"Venkatagiri",null,null,null,null,null,null,null,null,null,null,null,null,null,null,null,null,null,null,null,null,null,null,null,null,null,null,null,null,null,null,null,null,null,null,null,null,null,null,null,null,null,null,null,null,null,null,null,null,null,null,null,null,null,null,null,null,null,1,"3452-80-001-00-01",924,"3452","Tourism","80","General","001","Direction and Administration","00",null,"01","Headquarters Office"]
[861,17,"Sri Pottisreeramulu Nellore",45,"Vidavalur",null,null,null,null,null,null,null,null,null,null,null,null,null,null,null,null,null,null,null,null,null,null,null,null,null,null,null,null,null,null,null,null,null,null,null,null,null,null,null,null,null,null,null,null,null,null,null,null,null,null,null,null,null,null,null,null,null,1,"3452-80-001-00-03",925,"3452","Tourism","80","General","001","Direction and Administration","00",null,"03","District Offices"]
[862,17,"Sri Pottisreeramulu Nellore",46,"Vinjamur",null,null,null,null,null,null,null,null,null,null,null,null,null,null,null,null,null,null,null,null,null,null,null,null,null,null,null,null,null,null,null,null,null,null,null,null,null,null,null,null,null,null,null,null,null,null,null,null,null,null,null,null,null,null,null,null,null,1,"3453-00-106-00-01",926,"3453","Foreign Trade and Export Promotion","00",null,"106","Administration of Export Promotion Schemes","00",null,"01","Headquarters Office"]
[863,18,"Srikakulam",1,"Amadalavalasa",null,null,null,null,null,null,null,null,null,null,null,null,null,null,null,null,null,null,null,null,null,null,null,null,null,null,null,null,null,null,null,null,null,null,null,null,null,null,null,null,null,null,null,null,null,null,null,null,null,null,null,null,null,null,null,null,null,1,"3454-02-110-00-04",927,"3454","Census Surveys and Statistics","02","Surveys and Statistics","110","Gazetteer and Statistical Memoirs","00",null,"04","State Editor District Gazetteers"]
[864,18,"Srikakulam",2,"Bhamini",null,null,null,null,null,null,null,null,null,null,null,null,null,null,null,null,null,null,null,null,null,null,null,null,null,null,null,null,null,null,null,null,null,null,null,null,null,null,null,null,null,null,null,null,null,null,null,null,null,null,null,null,null,null,null,null,null,1,"3454-02-111-00-04",928,"3454","Census Surveys and Statistics","02","Surveys and Statistics","111","Vital Statistics","00",null,"04","Registrar of Births, Deaths and Marriages"]
[865,18,"Srikakulam",3,"Burja",null,null,null,null,null,null,null,null,null,null,null,null,null,null,null,null,null,null,null,null,null,null,null,null,null,null,null,null,null,null,null,null,null,null,null,null,null,null,null,null,null,null,null,null,null,null,null,null,null,null,null,null,null,null,null,null,null,1,"3454-02-111-00-05",929,"3454","Census Surveys and Statistics","02","Surveys and Statistics","111","Vital Statistics","00",null,"05","Compilation of Vital Statistics"]
[866,18,"Srikakulam",4,"Etcherla",null,null,null,null,null,null,null,null,null,null,null,null,null,null,null,null,null,null,null,null,null,null,null,null,null,null,null,null,null,null,null,null,null,null,null,null,null,null,null,null,null,null,null,null,null,null,null,null,null,null,null,null,null,null,null,null,null,1,"3454-02-112-00-01",930,"3454","Census Surveys and Statistics","02","Surveys and Statistics","112","Economic Advise and Statistics","00",null,"01","Headquarters Office"]
[867,18,"Srikakulam",5,"Ganguvari Singadam",null,null,null,null,null,null,null,null,null,null,null,null,null,null,null,null,null,null,null,null,null,null,null,null,null,null,null,null,null,null,null,null,null,null,null,null,null,null,null,null,null,null,null,null,null,null,null,null,null,null,null,null,null,null,null,null,null,1,"3454-02-112-00-03",931,"3454","Census Surveys and Statistics","02","Surveys and Statistics","112","Economic Advise and Statistics","00",null,"03","District Offices"]
[868,18,"Srikakulam",6,"Gara",null,null,null,null,null,null,null,null,null,null,null,null,null,null,null,null,null,null,null,null,null,null,null,null,null,null,null,null,null,null,null,null,null,null,null,null,null,null,null,null,null,null,null,null,null,null,null,null,null,null,null,null,null,null,null,null,null,1,"3454-02-112-10-06",932,"3454","Census Surveys and Statistics","02","Surveys and Statistics","112","Economic Advise and Statistics","10","Centrally Sponsored Schemes","06","Sixth Economic Census"]
[869,18,"Srikakulam",7,"Hiramandalam",null,null,null,null,null,null,null,null,null,null,null,null,null,null,null,null,null,null,null,null,null,null,null,null,null,null,null,null,null,null,null,null,null,null,null,null,null,null,null,null,null,null,null,null,null,null,null,null,null,null,null,null,null,null,null,null,null,1,"3454-02-112-11-01",933,"3454","Census Surveys and Statistics","02","Surveys and Statistics","112","Economic Advise and Statistics","11","Normal State Plan","01","Headquarters Office"]
[870,18,"Srikakulam",8,"Ichchapuram",null,null,null,null,null,null,null,null,null,null,null,null,null,null,null,null,null,null,null,null,null,null,null,null,null,null,null,null,null,null,null,null,null,null,null,null,null,null,null,null,null,null,null,null,null,null,null,null,null,null,null,null,null,null,null,null,null,1,"3454-02-112-11-03",934,"3454","Census Surveys and Statistics","02","Surveys and Statistics","112","Economic Advise and Statistics","11","Normal State Plan","03","District Offices Upgradation of C.P.Os. Offices"]
[871,18,"Srikakulam",9,"Jalumuru",null,null,null,null,null,null,null,null,null,null,null,null,null,null,null,null,null,null,null,null,null,null,null,null,null,null,null,null,null,null,null,null,null,null,null,null,null,null,null,null,null,null,null,null,null,null,null,null,null,null,null,null,null,null,null,null,null,1,"3454-02-800-00-04",935,"3454","Census Surveys and Statistics","02","Surveys and Statistics","800","Other Expenditure","00",null,"04","Other Offices"]
[872,18,"Srikakulam",10,"Kanchili",null,null,null,null,null,null,null,null,null,null,null,null,null,null,null,null,null,null,null,null,null,null,null,null,null,null,null,null,null,null,null,null,null,null,null,null,null,null,null,null,null,null,null,null,null,null,null,null,null,null,null,null,null,null,null,null,null,1,"3454-02-800-10-06",936,"3454","Census Surveys and Statistics","02","Surveys and Statistics","800","Other Expenditure","10","Centrally Sponsored Schemes","06","Agricultural Census on Land holdings"]
[873,18,"Srikakulam",11,"Kaviti",null,null,null,null,null,null,null,null,null,null,null,null,null,null,null,null,null,null,null,null,null,null,null,null,null,null,null,null,null,null,null,null,null,null,null,null,null,null,null,null,null,null,null,null,null,null,null,null,null,null,null,null,null,null,null,null,null,1,"3454-02-800-10-07",937,"3454","Census Surveys and Statistics","02","Surveys and Statistics","800","Other Expenditure","10","Centrally Sponsored Schemes","07","Timely Reporting of Agricultural Statistics"]
[874,18,"Srikakulam",12,"Kotabommili",null,null,null,null,null,null,null,null,null,null,null,null,null,null,null,null,null,null,null,null,null,null,null,null,null,null,null,null,null,null,null,null,null,null,null,null,null,null,null,null,null,null,null,null,null,null,null,null,null,null,null,null,null,null,null,null,null,1,"3454-02-800-10-08",938,"3454","Census Surveys and Statistics","02","Surveys and Statistics","800","Other Expenditure","10","Centrally Sponsored Schemes","08","Improvement of Crops Statistics"]
[875,18,"Srikakulam",13,"Kothuru",null,null,null,null,null,null,null,null,null,null,null,null,null,null,null,null,null,null,null,null,null,null,null,null,null,null,null,null,null,null,null,null,null,null,null,null,null,null,null,null,null,null,null,null,null,null,null,null,null,null,null,null,null,null,null,null,null,1,"3454-02-800-10-12",939,"3454","Census Surveys and Statistics","02","Surveys and Statistics","800","Other Expenditure","10","Centrally Sponsored Schemes","12","Conduct of Crop Estimation Surveys on Fruits Vegetables and other Minor Crops"]
[876,18,"Srikakulam",14,"Laveru",null,null,null,null,null,null,null,null,null,null,null,null,null,null,null,null,null,null,null,null,null,null,null,null,null,null,null,null,null,null,null,null,null,null,null,null,null,null,null,null,null,null,null,null,null,null,null,null,null,null,null,null,null,null,null,null,null,1,"3454-02-800-10-15",940,"3454","Census Surveys and Statistics","02","Surveys and Statistics","800","Other Expenditure","10","Centrally Sponsored Schemes","15","Rationalisation of Minor Irrigation Statistics"]
[877,18,"Srikakulam",15,"Laxminarasupeta",null,null,null,null,null,null,null,null,null,null,null,null,null,null,null,null,null,null,null,null,null,null,null,null,null,null,null,null,null,null,null,null,null,null,null,null,null,null,null,null,null,null,null,null,null,null,null,null,null,null,null,null,null,null,null,null,null,1,"3456-00-001-00-01",941,"3456","Civil Supplies","00",null,"001","Direction and Administration","00",null,"01","Headquarter's Office: (Commissioner and Director of Civil Supplies)"]
[878,18,"Srikakulam",16,"Mandasa",null,null,null,null,null,null,null,null,null,null,null,null,null,null,null,null,null,null,null,null,null,null,null,null,null,null,null,null,null,null,null,null,null,null,null,null,null,null,null,null,null,null,null,null,null,null,null,null,null,null,null,null,null,null,null,null,null,1,"3456-00-001-00-03",942,"3456","Civil Supplies","00",null,"001","Direction and Administration","00",null,"03","District Offices"]
[879,18,"Srikakulam",17,"Meilaputti",null,null,null,null,null,null,null,null,null,null,null,null,null,null,null,null,null,null,null,null,null,null,null,null,null,null,null,null,null,null,null,null,null,null,null,null,null,null,null,null,null,null,null,null,null,null,null,null,null,null,null,null,null,null,null,null,null,1,"3456-00-001-00-05",943,"3456","Civil Supplies","00",null,"001","Direction and Administration","00",null,"05","Maintenance of the Consumer Protection Act 1986"]
[880,18,"Srikakulam",18,"Nandigam",null,null,null,null,null,null,null,null,null,null,null,null,null,null,null,null,null,null,null,null,null,null,null,null,null,null,null,null,null,null,null,null,null,null,null,null,null,null,null,null,null,null,null,null,null,null,null,null,null,null,null,null,null,null,null,null,null,1,"3475-00-106-00-01",944,"3475","Other General Economic Services","00",null,"106","Regulation of Weights and Measures","00",null,"01","Headquarter's Office"]
[881,18,"Srikakulam",19,"Narasannapeta",null,null,null,null,null,null,null,null,null,null,null,null,null,null,null,null,null,null,null,null,null,null,null,null,null,null,null,null,null,null,null,null,null,null,null,null,null,null,null,null,null,null,null,null,null,null,null,null,null,null,null,null,null,null,null,null,null,1,"3475-00-106-00-03",945,"3475","Other General Economic Services","00",null,"106","Regulation of Weights and Measures","00",null,"03","District Offices"]
[882,18,"Srikakulam",20,"Palakonda",null,null,null,null,null,null,null,null,null,null,null,null,null,null,null,null,null,null,null,null,null,null,null,null,null,null,null,null,null,null,null,null,null,null,null,null,null,null,null,null,null,null,null,null,null,null,null,null,null,null,null,null,null,null,null,null,null,1,"3475-00-106-11-03",946,"3475","Other General Economic Services","00",null,"106","Regulation of Weights and Measures","11","Normal State Plan","03","District Offices"]
[883,18,"Srikakulam",21,"Palasa",null,null,null,null,null,null,null,null,null,null,null,null,null,null,null,null,null,null,null,null,null,null,null,null,null,null,null,null,null,null,null,null,null,null,null,null,null,null,null,null,null,null,null,null,null,null,null,null,null,null,null,null,null,null,null,null,null,1,"3475-00-200-00-04",947,"3475","Other General Economic Services","00",null,"200","Regulation of other Business Undertakings","00",null,"04","Administration of Andhra Pradesh Non-Trading Companies Act,1962."]
[884,18,"Srikakulam",22,"Pathapatnam",null,null,null,null,null,null,null,null,null,null,null,null,null,null,null,null,null,null,null,null,null,null,null,null,null,null,null,null,null,null,null,null,null,null,null,null,null,null,null,null,null,null,null,null,null,null,null,null,null,null,null,null,null,null,null,null,null,1,"3475-00-200-00-05",948,"3475","Other General Economic Services","00",null,"200","Regulation of other Business Undertakings","00",null,"05","Administration of Indian Partnership Act, 1932."]
[885,18,"Srikakulam",23,"Polaki",null,null,null,null,null,null,null,null,null,null,null,null,null,null,null,null,null,null,null,null,null,null,null,null,null,null,null,null,null,null,null,null,null,null,null,null,null,null,null,null,null,null,null,null,null,null,null,null,null,null,null,null,null,null,null,null,null,1,"3475-00-200-00-06",949,"3475","Other General Economic Services","00",null,"200","Regulation of other Business Undertakings","00",null,"06","Administration of A.P. Chit Fund Act,1971."]
[886,18,"Srikakulam",24,"Ponduru",null,null,null,null,null,null,null,null,null,null,null,null,null,null,null,null,null,null,null,null,null,null,null,null,null,null,null,null,null,null,null,null,null,null,null,null,null,null,null,null,null,null,null,null,null,null,null,null,null,null,null,null,null,null,null,null,null,1,"3475-00-200-00-07",950,"3475","Other General Economic Services","00",null,"200","Regulation of other Business Undertakings","00",null,"07","Administration of Public Societies Registration Act,1860"]
[887,18,"Srikakulam",25,"Rajam",null,null,null,null,null,null,null,null,null,null,null,null,null,null,null,null,null,null,null,null,null,null,null,null,null,null,null,null,null,null,null,null,null,null,null,null,null,null,null,null,null,null,null,null,null,null,null,null,null,null,null,null,null,null,null,null,null,1,"4059-80-001-11-01",951,"4059","Capital Outlay on Public Works","80","General","001","Direction and Administration","11","Normal State Plan","01","Headquarters Office"]
[888,18,"Srikakulam",26,"Ranastalam",null,null,null,null,null,null,null,null,null,null,null,null,null,null,null,null,null,null,null,null,null,null,null,null,null,null,null,null,null,null,null,null,null,null,null,null,null,null,null,null,null,null,null,null,null,null,null,null,null,null,null,null,null,null,null,null,null,1,"4215-01-101-11-05",952,"4215","Capital Outlay on Water Supply and Sanitation","01","Water Supply","101","Urban Water Supply","11","Normal State Plan","05","Warangal Water Supply"]
[889,18,"Srikakulam",27,"Regidiamadalavalasa",null,null,null,null,null,null,null,null,null,null,null,null,null,null,null,null,null,null,null,null,null,null,null,null,null,null,null,null,null,null,null,null,null,null,null,null,null,null,null,null,null,null,null,null,null,null,null,null,null,null,null,null,null,null,null,null,null,1,"4250-00-101-10-01",953,"4250","Capital Outlay on Other Social Services","00",null,"101","Natural Calamities","10","Centrally Sponsored Schemes","01","Headquarters Office (Project Implementation Unit (P.I.U))"]
[890,18,"Srikakulam",28,"Santhabommali",null,null,null,null,null,null,null,null,null,null,null,null,null,null,null,null,null,null,null,null,null,null,null,null,null,null,null,null,null,null,null,null,null,null,null,null,null,null,null,null,null,null,null,null,null,null,null,null,null,null,null,null,null,null,null,null,null,1,"4406-01-101-11-04",954,"4406","Capital Outlay on Forestry and Wild Life","01","Forestry","101","Forest Conservation Development and Regeneration","11","Normal State Plan","04","Compensatory Afforestation of Non-Forestry Lands taken under TGP"]
[891,18,"Srikakulam",29,"Santhakaviti",null,null,null,null,null,null,null,null,null,null,null,null,null,null,null,null,null,null,null,null,null,null,null,null,null,null,null,null,null,null,null,null,null,null,null,null,null,null,null,null,null,null,null,null,null,null,null,null,null,null,null,null,null,null,null,null,null,1,"4700-01-104-11-27",955,"4700","Capital Outlay on Major Irrigation","01","Major Irrigation-Commercial","104","Thungabhadra Project (High Level Canal) Stage-II","11","Normal State Plan","27","Canals and Distributaries"]
[892,18,"Srikakulam",30,"Saravakota",null,null,null,null,null,null,null,null,null,null,null,null,null,null,null,null,null,null,null,null,null,null,null,null,null,null,null,null,null,null,null,null,null,null,null,null,null,null,null,null,null,null,null,null,null,null,null,null,null,null,null,null,null,null,null,null,null,1,"4700-01-110-11-26",956,"4700","Capital Outlay on Major Irrigation","01","Major Irrigation-Commercial","110","Godavari Barrage","11","Normal State Plan","26","Dam and Appurtenant Works"]
[893,18,"Srikakulam",31,"Sarubujjili",null,null,null,null,null,null,null,null,null,null,null,null,null,null,null,null,null,null,null,null,null,null,null,null,null,null,null,null,null,null,null,null,null,null,null,null,null,null,null,null,null,null,null,null,null,null,null,null,null,null,null,null,null,null,null,null,null,1,"4700-01-112-11-26",957,"4700","Capital Outlay on Major Irrigation","01","Major Irrigation-Commercial","112","Somasila Project","11","Normal State Plan","26","Dam and Appurtenant Works"]
[894,18,"Srikakulam",32,"Seethampeta",null,null,null,null,null,null,null,null,null,null,null,null,null,null,null,null,null,null,null,null,null,null,null,null,null,null,null,null,null,null,null,null,null,null,null,null,null,null,null,null,null,null,null,null,null,null,null,null,null,null,null,null,null,null,null,null,null,1,"4700-01-112-11-27",958,"4700","Capital Outlay on Major Irrigation","01","Major Irrigation-Commercial","112","Somasila Project","11","Normal State Plan","27","Canals and Distributaries"]
[895,18,"Srikakulam",33,"Sompeta",null,null,null,null,null,null,null,null,null,null,null,null,null,null,null,null,null,null,null,null,null,null,null,null,null,null,null,null,null,null,null,null,null,null,null,null,null,null,null,null,null,null,null,null,null,null,null,null,null,null,null,null,null,null,null,null,null,1,"4700-01-116-11-26",959,"4700","Capital Outlay on Major Irrigation","01","Major Irrigation-Commercial","116","Yeleru Reservoir Scheme","11","Normal State Plan","26","Dam and Appurtenant Works"]
[896,18,"Srikakulam",34,"Srikakulam",null,null,null,null,null,null,null,null,null,null,null,null,null,null,null,null,null,null,null,null,null,null,null,null,null,null,null,null,null,null,null,null,null,null,null,null,null,null,null,null,null,null,null,null,null,null,null,null,null,null,null,null,null,null,null,null,null,1,"4700-01-122-11-26",960,"4700","Capital Outlay on Major Irrigation","01","Major Irrigation-Commercial","122","Jurala Project","11","Normal State Plan","26","Dam and Appurtenant Works"]
[897,18,"Srikakulam",35,"Tekkali",null,null,null,null,null,null,null,null,null,null,null,null,null,null,null,null,null,null,null,null,null,null,null,null,null,null,null,null,null,null,null,null,null,null,null,null,null,null,null,null,null,null,null,null,null,null,null,null,null,null,null,null,null,null,null,null,null,1,{"$f":"CONCATENATE(BN963,\"-\",BP963,\"-\",BR963,\"-\",BT963,\"-\",BV963)","v":"4700-01-122-11-27"},961,"4700","Capital Outlay on Major Irrigation","01","Major Irrigation-Commercial","122","Jurala Project","11","Normal State Plan","27","Canals and Distributaries"]
[898,18,"Srikakulam",36,"Vajrapukothuru",null,null,null,null,null,null,null,null,null,null,null,null,null,null,null,null,null,null,null,null,null,null,null,null,null,null,null,null,null,null,null,null,null,null,null,null,null,null,null,null,null,null,null,null,null,null,null,null,null,null,null,null,null,null,null,null,null,{"$f":"IF(EXACT($E$25,BN964),BK963+1,1)","v":1},"4700-01-123-11-26",962,"4700","Capital Outlay on Major Irrigation","01","Major Irrigation-Commercial","123","Telugu Ganga Project","11","Normal State Plan","26","Dam and Appurtenant Works"]
[899,18,"Srikakulam",37,"Vangara",null,null,null,null,null,null,null,null,null,null,null,null,null,null,null,null,null,null,null,null,null,null,null,null,null,null,null,null,null,null,null,null,null,null,null,null,null,null,null,null,null,null,null,null,null,null,null,null,null,null,null,null,null,null,null,null,null,1,"4700-01-123-11-27",963,"4700","Capital Outlay on Major Irrigation","01","Major Irrigation-Commercial","123","Telugu Ganga Project","11","Normal State Plan","27","Canals and Distributaries"]
[900,18,"Srikakulam",38,"Veeraghattam",null,null,null,null,null,null,null,null,null,null,null,null,null,null,null,null,null,null,null,null,null,null,null,null,null,null,null,null,null,null,null,null,null,null,null,null,null,null,null,null,null,null,null,null,null,null,null,null,null,null,null,null,null,null,null,null,null,1,"4700-01-125-11-26",964,"4700","Capital Outlay on Major Irrigation","01","Major Irrigation-Commercial","125","Srisailam Left Bank Canal (Alemineti Madhava Reddy Project)","11","Normal State Plan","26","Dam and Appurtenant Works"]
[901,19,"Visakhapatnam",1,"Anakapalli  ",null,null,null,null,null,null,null,null,null,null,null,null,null,null,null,null,null,null,null,null,null,null,null,null,null,null,null,null,null,null,null,null,null,null,null,null,null,null,null,null,null,null,null,null,null,null,null,null,null,null,null,null,null,null,null,null,null,1,"4700-01-129-03-34",965,"4700","Capital Outlay on Major Irrigation","01","Major Irrigation-Commercial","129","Nagarjunasagar Project","03","Externally Aided Projects","34","Fostering and Capacity Building of WUOs under Modernization of NSP"]
[902,19,"Visakhapatnam",2,"Anandapuram  ",null,null,null,null,null,null,null,null,null,null,null,null,null,null,null,null,null,null,null,null,null,null,null,null,null,null,null,null,null,null,null,null,null,null,null,null,null,null,null,null,null,null,null,null,null,null,null,null,null,null,null,null,null,null,null,null,null,1,"4700-01-129-03-37",966,"4700","Capital Outlay on Major Irrigation","01","Major Irrigation-Commercial","129","Nagarjunasagar Project","03","Externally Aided Projects","37","Agriculture component Under Modernization of NSP"]
[903,19,"Visakhapatnam",3,"Ananthagiri  ",null,null,null,null,null,null,null,null,null,null,null,null,null,null,null,null,null,null,null,null,null,null,null,null,null,null,null,null,null,null,null,null,null,null,null,null,null,null,null,null,null,null,null,null,null,null,null,null,null,null,null,null,null,null,null,null,null,1,"4700-01-129-03-38",967,"4700","Capital Outlay on Major Irrigation","01","Major Irrigation-Commercial","129","Nagarjunasagar Project","03","Externally Aided Projects","38","Horticulture component under Modernization of NSP"]
[904,19,"Visakhapatnam",4,"Araku  Valley",null,null,null,null,null,null,null,null,null,null,null,null,null,null,null,null,null,null,null,null,null,null,null,null,null,null,null,null,null,null,null,null,null,null,null,null,null,null,null,null,null,null,null,null,null,null,null,null,null,null,null,null,null,null,null,null,null,1,"4700-01-129-03-39",968,"4700","Capital Outlay on Major Irrigation","01","Major Irrigation-Commercial","129","Nagarjunasagar Project","03","Externally Aided Projects","39","Animal Husbandry component under Modernization of NSP"]
[905,19,"Visakhapatnam",5,"Atchutapuram  ",null,null,null,null,null,null,null,null,null,null,null,null,null,null,null,null,null,null,null,null,null,null,null,null,null,null,null,null,null,null,null,null,null,null,null,null,null,null,null,null,null,null,null,null,null,null,null,null,null,null,null,null,null,null,null,null,null,1,"4700-01-129-03-40",969,"4700","Capital Outlay on Major Irrigation","01","Major Irrigation-Commercial","129","Nagarjunasagar Project","03","Externally Aided Projects","40","Fisheries Component under Modernization of NSP"]
[906,19,"Visakhapatnam",6,"Bheemunipatnam  ",null,null,null,null,null,null,null,null,null,null,null,null,null,null,null,null,null,null,null,null,null,null,null,null,null,null,null,null,null,null,null,null,null,null,null,null,null,null,null,null,null,null,null,null,null,null,null,null,null,null,null,null,null,null,null,null,null,1,"4700-01-129-03-41",970,"4700","Capital Outlay on Major Irrigation","01","Major Irrigation-Commercial","129","Nagarjunasagar Project","03","Externally Aided Projects","41","Operationalization and fostering of APWRRC under Modernization of NSP"]
[907,19,"Visakhapatnam",7,"Butchayyapeta  ",null,null,null,null,null,null,null,null,null,null,null,null,null,null,null,null,null,null,null,null,null,null,null,null,null,null,null,null,null,null,null,null,null,null,null,null,null,null,null,null,null,null,null,null,null,null,null,null,null,null,null,null,null,null,null,null,null,1,"4700-01-129-03-42",971,"4700","Capital Outlay on Major Irrigation","01","Major Irrigation-Commercial","129","Nagarjunasagar Project","03","Externally Aided Projects","42","Restructuring and Capacity Building of I&CADD under Modernisation of NSP"]
[908,19,"Visakhapatnam",8,"Cheedikada  ",null,null,null,null,null,null,null,null,null,null,null,null,null,null,null,null,null,null,null,null,null,null,null,null,null,null,null,null,null,null,null,null,null,null,null,null,null,null,null,null,null,null,null,null,null,null,null,null,null,null,null,null,null,null,null,null,null,1,"4700-01-129-03-43",972,"4700","Capital Outlay on Major Irrigation","01","Major Irrigation-Commercial","129","Nagarjunasagar Project","03","Externally Aided Projects","43","Integrated Computerized Information System under Modernization of NSP"]
[909,19,"Visakhapatnam",9,"Chintapalle  ",null,null,null,null,null,null,null,null,null,null,null,null,null,null,null,null,null,null,null,null,null,null,null,null,null,null,null,null,null,null,null,null,null,null,null,null,null,null,null,null,null,null,null,null,null,null,null,null,null,null,null,null,null,null,null,null,null,1,"4700-01-129-03-44",973,"4700","Capital Outlay on Major Irrigation","01","Major Irrigation-Commercial","129","Nagarjunasagar Project","03","Externally Aided Projects","44","Users Centered Aquifer Level Ground Water Management Pilot under Modernization of NSP"]
[910,19,"Visakhapatnam",10,"Chodavaram  ",null,null,null,null,null,null,null,null,null,null,null,null,null,null,null,null,null,null,null,null,null,null,null,null,null,null,null,null,null,null,null,null,null,null,null,null,null,null,null,null,null,null,null,null,null,null,null,null,null,null,null,null,null,null,null,null,null,1,"4700-01-129-03-45",974,"4700","Capital Outlay on Major Irrigation","01","Major Irrigation-Commercial","129","Nagarjunasagar Project","03","Externally Aided Projects","45","Conjusctive use of Surface and Ground Water Pilots under Modernization of NSP"]
[911,19,"Visakhapatnam",11,"Devarapalle  ",null,null,null,null,null,null,null,null,null,null,null,null,null,null,null,null,null,null,null,null,null,null,null,null,null,null,null,null,null,null,null,null,null,null,null,null,null,null,null,null,null,null,null,null,null,null,null,null,null,null,null,null,null,null,null,null,null,1,"4700-01-133-11-26",975,"4700","Capital Outlay on Major Irrigation","01","Major Irrigation-Commercial","133","Sri Krishna Devaraya Galeru Nagari Sujala Sravanti","11","Normal State Plan","26","Dam and Appurtenant Works"]
[912,19,"Visakhapatnam",12,"Dumbriguda  ",null,null,null,null,null,null,null,null,null,null,null,null,null,null,null,null,null,null,null,null,null,null,null,null,null,null,null,null,null,null,null,null,null,null,null,null,null,null,null,null,null,null,null,null,null,null,null,null,null,null,null,null,null,null,null,null,null,1,"4700-01-135-11-26",976,"4700","Capital Outlay on Major Irrigation","01","Major Irrigation-Commercial","135","Pulivendla Branch Canal","11","Normal State Plan","26","Dam and Appurtenant Works"]
[913,19,"Visakhapatnam",13,"Gajuwaka  ",null,null,null,null,null,null,null,null,null,null,null,null,null,null,null,null,null,null,null,null,null,null,null,null,null,null,null,null,null,null,null,null,null,null,null,null,null,null,null,null,null,null,null,null,null,null,null,null,null,null,null,null,null,null,null,null,null,1,"4700-01-165-11-26",977,"4700","Capital Outlay on Major Irrigation","01","Major Irrigation-Commercial","165","Mylavaram Canal under Thungabhadra Project (High Level Canal), Stage-II","11","Normal State Plan","26","Dam and Appurtenant Works"]
[914,19,"Visakhapatnam",14,"Gangaraju  Madugula",null,null,null,null,null,null,null,null,null,null,null,null,null,null,null,null,null,null,null,null,null,null,null,null,null,null,null,null,null,null,null,null,null,null,null,null,null,null,null,null,null,null,null,null,null,null,null,null,null,null,null,null,null,null,null,null,null,1,"4700-01-165-11-27",978,"4700","Capital Outlay on Major Irrigation","01","Major Irrigation-Commercial","165","Mylavaram Canal under Thungabhadra Project (High Level Canal), Stage-II","11","Normal State Plan","27","Canals and Distributaries"]
[915,19,"Visakhapatnam",15,"Golugonda  ",null,null,null,null,null,null,null,null,null,null,null,null,null,null,null,null,null,null,null,null,null,null,null,null,null,null,null,null,null,null,null,null,null,null,null,null,null,null,null,null,null,null,null,null,null,null,null,null,null,null,null,null,null,null,null,null,null,1,"4700-01-167-11-25",979,"4700","Capital Outlay on Major Irrigation","01","Major Irrigation-Commercial","167","Pranahita Chevella Lift Irrigation Scheme","11","Normal State Plan","25","Project Establishment"]
[916,19,"Visakhapatnam",16,"Gudem  Kothaveedhi",null,null,null,null,null,null,null,null,null,null,null,null,null,null,null,null,null,null,null,null,null,null,null,null,null,null,null,null,null,null,null,null,null,null,null,null,null,null,null,null,null,null,null,null,null,null,null,null,null,null,null,null,null,null,null,null,null,1,"4700-01-800-11-04",980,"4700","Capital Outlay on Major Irrigation","01","Major Irrigation-Commercial","800","Other Expenditure","11","Normal State Plan","04","Project Establishment under Chief Engineer, Major Irrigation"]
[917,19,"Visakhapatnam",17,"Hukumpeta  ",null,null,null,null,null,null,null,null,null,null,null,null,null,null,null,null,null,null,null,null,null,null,null,null,null,null,null,null,null,null,null,null,null,null,null,null,null,null,null,null,null,null,null,null,null,null,null,null,null,null,null,null,null,null,null,null,null,1,"4700-01-800-11-05",981,"4700","Capital Outlay on Major Irrigation","01","Major Irrigation-Commercial","800","Other Expenditure","11","Normal State Plan","05","Project Establishment under Chief Engineer, FFC (SRSP) &SSP"]
[918,19,"Visakhapatnam",18,"K  Kotapadu",null,null,null,null,null,null,null,null,null,null,null,null,null,null,null,null,null,null,null,null,null,null,null,null,null,null,null,null,null,null,null,null,null,null,null,null,null,null,null,null,null,null,null,null,null,null,null,null,null,null,null,null,null,null,null,null,null,1,"4700-01-800-11-06",982,"4700","Capital Outlay on Major Irrigation","01","Major Irrigation-Commercial","800","Other Expenditure","11","Normal State Plan","06","Project Establishment under Chief Engineer, Telugu Ganga Project"]
[919,19,"Visakhapatnam",19,"Kasimkota  ",null,null,null,null,null,null,null,null,null,null,null,null,null,null,null,null,null,null,null,null,null,null,null,null,null,null,null,null,null,null,null,null,null,null,null,null,null,null,null,null,null,null,null,null,null,null,null,null,null,null,null,null,null,null,null,null,null,1,"4700-01-800-11-07",983,"4700","Capital Outlay on Major Irrigation","01","Major Irrigation-Commercial","800","Other Expenditure","11","Normal State Plan","07","Proejct Establishment under Chief Engineer (Projects), Irrigation, Kadapa"]
[920,19,"Visakhapatnam",20,"Kotauratla  ",null,null,null,null,null,null,null,null,null,null,null,null,null,null,null,null,null,null,null,null,null,null,null,null,null,null,null,null,null,null,null,null,null,null,null,null,null,null,null,null,null,null,null,null,null,null,null,null,null,null,null,null,null,null,null,null,null,1,"4700-01-800-11-08",984,"4700","Capital Outlay on Major Irrigation","01","Major Irrigation-Commercial","800","Other Expenditure","11","Normal State Plan","08","Proejct Establishment under Chief Engineer, North Coastal"]
[921,19,"Visakhapatnam",21,"Koyyuru  ",null,null,null,null,null,null,null,null,null,null,null,null,null,null,null,null,null,null,null,null,null,null,null,null,null,null,null,null,null,null,null,null,null,null,null,null,null,null,null,null,null,null,null,null,null,null,null,null,null,null,null,null,null,null,null,null,null,1,"4700-01-800-11-09",985,"4700","Capital Outlay on Major Irrigation","01","Major Irrigation-Commercial","800","Other Expenditure","11","Normal State Plan","09","Proejct Establishment under Chief Engineer, Ongolu Project"]
[922,19,"Visakhapatnam",22,"Madugula  ",null,null,null,null,null,null,null,null,null,null,null,null,null,null,null,null,null,null,null,null,null,null,null,null,null,null,null,null,null,null,null,null,null,null,null,null,null,null,null,null,null,null,null,null,null,null,null,null,null,null,null,null,null,null,null,null,null,1,"4700-01-800-11-10",986,"4700","Capital Outlay on Major Irrigation","01","Major Irrigation-Commercial","800","Other Expenditure","11","Normal State Plan","10","Proejct Establishment under Chief Engineer, Anantapur Project"]
[923,19,"Visakhapatnam",23,"Makavarapalem  ",null,null,null,null,null,null,null,null,null,null,null,null,null,null,null,null,null,null,null,null,null,null,null,null,null,null,null,null,null,null,null,null,null,null,null,null,null,null,null,null,null,null,null,null,null,null,null,null,null,null,null,null,null,null,null,null,null,1,"4700-01-800-11-11",987,"4700","Capital Outlay on Major Irrigation","01","Major Irrigation-Commercial","800","Other Expenditure","11","Normal State Plan","11","Proejct Establishment under Chief Engineer, Polavaram Project"]
[924,19,"Visakhapatnam",24,"Munagapaka  ",null,null,null,null,null,null,null,null,null,null,null,null,null,null,null,null,null,null,null,null,null,null,null,null,null,null,null,null,null,null,null,null,null,null,null,null,null,null,null,null,null,null,null,null,null,null,null,null,null,null,null,null,null,null,null,null,null,1,"4700-01-800-11-12",988,"4700","Capital Outlay on Major Irrigation","01","Major Irrigation-Commercial","800","Other Expenditure","11","Normal State Plan","12","Proejct Establishment under Chief Engineer, Mahabubnagar Project"]
[925,19,"Visakhapatnam",25,"Munchingiputtu  ",null,null,null,null,null,null,null,null,null,null,null,null,null,null,null,null,null,null,null,null,null,null,null,null,null,null,null,null,null,null,null,null,null,null,null,null,null,null,null,null,null,null,null,null,null,null,null,null,null,null,null,null,null,null,null,null,null,1,"4700-01-800-11-13",989,"4700","Capital Outlay on Major Irrigation","01","Major Irrigation-Commercial","800","Other Expenditure","11","Normal State Plan","13","Project Establishment under CE (Projects), Irrigation, Kunrool"]
[926,19,"Visakhapatnam",26,"Nakkapalli  ",null,null,null,null,null,null,null,null,null,null,null,null,null,null,null,null,null,null,null,null,null,null,null,null,null,null,null,null,null,null,null,null,null,null,null,null,null,null,null,null,null,null,null,null,null,null,null,null,null,null,null,null,null,null,null,null,null,1,"4700-01-800-11-17",990,"4700","Capital Outlay on Major Irrigation","01","Major Irrigation-Commercial","800","Other Expenditure","11","Normal State Plan","17","Project Establishment under Chief Engineer, Quality Control Wing, Rayalaseema Region"]
[927,19,"Visakhapatnam",27,"Narsipatnam  ",null,null,null,null,null,null,null,null,null,null,null,null,null,null,null,null,null,null,null,null,null,null,null,null,null,null,null,null,null,null,null,null,null,null,null,null,null,null,null,null,null,null,null,null,null,null,null,null,null,null,null,null,null,null,null,null,null,1,"4700-01-800-11-18",991,"4700","Capital Outlay on Major Irrigation","01","Major Irrigation-Commercial","800","Other Expenditure","11","Normal State Plan","18","Project Establishment under Chief Engineer, Quality Control Wing, Coastal Region"]
[928,19,"Visakhapatnam",28,"Nathavaram  ",null,null,null,null,null,null,null,null,null,null,null,null,null,null,null,null,null,null,null,null,null,null,null,null,null,null,null,null,null,null,null,null,null,null,null,null,null,null,null,null,null,null,null,null,null,null,null,null,null,null,null,null,null,null,null,null,null,1,"4700-01-800-11-19",992,"4700","Capital Outlay on Major Irrigation","01","Major Irrigation-Commercial","800","Other Expenditure","11","Normal State Plan","19","Project Establishment under Chief Engineer, Quality Control Wing, Telangana Region"]
[929,19,"Visakhapatnam",29,"Paderu  ",null,null,null,null,null,null,null,null,null,null,null,null,null,null,null,null,null,null,null,null,null,null,null,null,null,null,null,null,null,null,null,null,null,null,null,null,null,null,null,null,null,null,null,null,null,null,null,null,null,null,null,null,null,null,null,null,null,1,"4700-01-800-11-20",993,"4700","Capital Outlay on Major Irrigation","01","Major Irrigation-Commercial","800","Other Expenditure","11","Normal State Plan","20","Project Establishment under Chief Engineer, Modernization"]
[930,19,"Visakhapatnam",30,"Padmanabham  ",null,null,null,null,null,null,null,null,null,null,null,null,null,null,null,null,null,null,null,null,null,null,null,null,null,null,null,null,null,null,null,null,null,null,null,null,null,null,null,null,null,null,null,null,null,null,null,null,null,null,null,null,null,null,null,null,null,1,"4700-01-800-11-21",994,"4700","Capital Outlay on Major Irrigation","01","Major Irrigation-Commercial","800","Other Expenditure","11","Normal State Plan","21","Project Establishment under Chief Engineer, Godavari LIS, Warangal"]
[931,19,"Visakhapatnam",31,"Paravada  ",null,null,null,null,null,null,null,null,null,null,null,null,null,null,null,null,null,null,null,null,null,null,null,null,null,null,null,null,null,null,null,null,null,null,null,null,null,null,null,null,null,null,null,null,null,null,null,null,null,null,null,null,null,null,null,null,null,1,"4700-01-800-11-25",995,"4700","Capital Outlay on Major Irrigation","01","Major Irrigation-Commercial","800","Other Expenditure","11","Normal State Plan","25","Project Establishment under Chief Engineer, Rajiv Sagar, Indira Sagar L.I. Schemes and Dummugudem - NSP Tail Pond Link Canal, Bhandrachalam"]
[932,19,"Visakhapatnam",32,"Payakaraopeta  ",null,null,null,null,null,null,null,null,null,null,null,null,null,null,null,null,null,null,null,null,null,null,null,null,null,null,null,null,null,null,null,null,null,null,null,null,null,null,null,null,null,null,null,null,null,null,null,null,null,null,null,null,null,null,null,null,null,1,"4700-01-800-11-29",996,"4700","Capital Outlay on Major Irrigation","01","Major Irrigation-Commercial","800","Other Expenditure","11","Normal State Plan","29","Project Establishment under Chief Engineer, Godavari Delta System, Dowlaiswaran"]
[933,19,"Visakhapatnam",33,"Pedabayalu  ",null,null,null,null,null,null,null,null,null,null,null,null,null,null,null,null,null,null,null,null,null,null,null,null,null,null,null,null,null,null,null,null,null,null,null,null,null,null,null,null,null,null,null,null,null,null,null,null,null,null,null,null,null,null,null,null,null,1,"4700-80-800-11-04",997,"4700","Capital Outlay on Major Irrigation","80","General","800","Other Expenditure","11","Normal State Plan","04","Commissioner (R&R)"]
[934,19,"Visakhapatnam",34,"Pedagantyada  ",null,null,null,null,null,null,null,null,null,null,null,null,null,null,null,null,null,null,null,null,null,null,null,null,null,null,null,null,null,null,null,null,null,null,null,null,null,null,null,null,null,null,null,null,null,null,null,null,null,null,null,null,null,null,null,null,null,1,"4701-03-127-11-27",998,"4701","Capital Outlay on Medium Irrigation","03","Medium Irrigation - Commercial","127","Koilsagar Project","11","Normal State Plan","27","Canals and Distributaries"]
[935,19,"Visakhapatnam",35,"Pendurthi  ",null,null,null,null,null,null,null,null,null,null,null,null,null,null,null,null,null,null,null,null,null,null,null,null,null,null,null,null,null,null,null,null,null,null,null,null,null,null,null,null,null,null,null,null,null,null,null,null,null,null,null,null,null,null,null,null,null,1,"4701-03-800-11-04",999,"4701","Capital Outlay on Medium Irrigation","03","Medium Irrigation - Commercial","800","Other Expenditure","11","Normal State Plan","04","Project Establishment under Chief Engineer, Medium Irrigation"]
[936,19,"Visakhapatnam",36,"Rambilli  ",null,null,null,null,null,null,null,null,null,null,null,null,null,null,null,null,null,null,null,null,null,null,null,null,null,null,null,null,null,null,null,null,null,null,null,null,null,null,null,null,null,null,null,null,null,null,null,null,null,null,null,null,null,null,null,null,null,1,"4702-00-101-11-12",1000,"4702","Capital Outlay on Minor Irrigation","00",null,"101","Surface Water","11","Normal State Plan","12","Construction and restoration of Minor Irrigation Sources"]
[937,19,"Visakhapatnam",37,"Ravikamatham  ",null,null,null,null,null,null,null,null,null,null,null,null,null,null,null,null,null,null,null,null,null,null,null,null,null,null,null,null,null,null,null,null,null,null,null,null,null,null,null,null,null,null,null,null,null,null,null,null,null,null,null,null,null,null,null,null,null,1,"4702-00-796-11-12",1001,"4702","Capital Outlay on Minor Irrigation","00",null,"796","Tribal Areas Sub-Plan","11","Normal State Plan","12","Construction and Restoration of Minor Irrigation Sources"]
[938,19,"Visakhapatnam",38,"Rolugunta  ",null,null,null,null,null,null,null,null,null,null,null,null,null,null,null,null,null,null,null,null,null,null,null,null,null,null,null,null,null,null,null,null,null,null,null,null,null,null,null,null,null,null,null,null,null,null,null,null,null,null,null,null,null,null,null,null,null,1,"4711-01-103-11-25",1002,"4711","Capital Outlay on Flood Control Projects","01","Flood Control","103","Civil Works","11","Normal State Plan","25","Project Establishment"]
[939,19,"Visakhapatnam",39,"S  Rayavaram",null,null,null,null,null,null,null,null,null,null,null,null,null,null,null,null,null,null,null,null,null,null,null,null,null,null,null,null,null,null,null,null,null,null,null,null,null,null,null,null,null,null,null,null,null,null,null,null,null,null,null,null,null,null,null,null,null,1,"4711-03-001-11-01",1003,"4711","Capital Outlay on Flood Control Projects","03","Drainage","001","Direction and Administration","11","Normal State Plan","01","Headquarters Office"]
[940,19,"Visakhapatnam",40,"Sabbavaram  ",null,null,null,null,null,null,null,null,null,null,null,null,null,null,null,null,null,null,null,null,null,null,null,null,null,null,null,null,null,null,null,null,null,null,null,null,null,null,null,null,null,null,null,null,null,null,null,null,null,null,null,null,null,null,null,null,null,1,"4711-03-103-11-06",1004,"4711","Capital Outlay on Flood Control Projects","03","Drainage","103","Civil Works","11","Normal State Plan","06","Krishna Delta Area"]
[941,19,"Visakhapatnam",41,"Visakhapatnam  ",null,null,null,null,null,null,null,null,null,null,null,null,null,null,null,null,null,null,null,null,null,null,null,null,null,null,null,null,null,null,null,null,null,null,null,null,null,null,null,null,null,null,null,null,null,null,null,null,null,null,null,null,null,null,null,null,null,1,"4711-03-103-11-07",1005,"4711","Capital Outlay on Flood Control Projects","03","Drainage","103","Civil Works","11","Normal State Plan","07","Godavari Delta Area"]
[942,19,"Visakhapatnam",42,"Visakhapatnam(U)  ",null,null,null,null,null,null,null,null,null,null,null,null,null,null,null,null,null,null,null,null,null,null,null,null,null,null,null,null,null,null,null,null,null,null,null,null,null,null,null,null,null,null,null,null,null,null,null,null,null,null,null,null,null,null,null,null,null,1,"4711-03-103-11-08",1006,"4711","Capital Outlay on Flood Control Projects","03","Drainage","103","Civil Works","11","Normal State Plan","08","Pennar Delta Area"]
[943,19,"Visakhapatnam",43,"Yelamanchili  ",null,null,null,null,null,null,null,null,null,null,null,null,null,null,null,null,null,null,null,null,null,null,null,null,null,null,null,null,null,null,null,null,null,null,null,null,null,null,null,null,null,null,null,null,null,null,null,null,null,null,null,null,null,null,null,null,null,1,"4801-01-101-11-26",1007,"4801","Capital Outlay on Power Projects","01","Hydel Generation","101","Srisailam Hydro-Electric Scheme","11","Normal State Plan","26","Dam and Appurtenant Works"]
[944,20,"Vizianagaram",1,"Badangi",null,null,null,null,null,null,null,null,null,null,null,null,null,null,null,null,null,null,null,null,null,null,null,null,null,null,null,null,null,null,null,null,null,null,null,null,null,null,null,null,null,null,null,null,null,null,null,null,null,null,null,null,null,null,null,null,null,1,"5051-02-101-11-04",1008,"5051","Capital Outlay on Ports and Light Houses","02","Minor Ports","101","Kakinada Port","11","Normal State Plan","04","Kakinada Port"]
[945,20,"Vizianagaram",2,"Balajipeta",null,null,null,null,null,null,null,null,null,null,null,null,null,null,null,null,null,null,null,null,null,null,null,null,null,null,null,null,null,null,null,null,null,null,null,null,null,null,null,null,null,null,null,null,null,null,null,null,null,null,null,null,null,null,null,null,null,1,"5054-80-001-07-01",1009,"5054","Capital Outlay on Roads and Bridges","80","General","001","Directioin and Administration","07","Rural Infrastructure Development Fund (RIDF)","01","Headquarters Office"]
[946,20,"Vizianagaram",3,"Bhoghapuram",null,null,null,null,null,null,null,null,null,null,null,null,null,null,null,null,null,null,null,null,null,null,null,null,null,null,null,null,null,null,null,null,null,null,null,null,null,null,null,null,null,null,null,null,null,null,null,null,null,null,null,null,null,null,null,null,null,1,"5054-80-001-11-01",1010,"5054","Capital Outlay on Roads and Bridges","80","General","001","Directioin and Administration","11","Normal State Plan","01","Headquarters Office"]
[947,20,"Vizianagaram",4,"Bobbili",null,null,null,null,null,null,null,null,null,null,null,null,null,null,null,null,null,null,null,null,null,null,null,null,null,null,null,null,null,null,null,null,null,null,null,null,null,null,null,null,null,null,null,null,null,null,null,null,null,null,null,null,null,null,null,null,null,1,"5054-80-001-11-03",1011,"5054","Capital Outlay on Roads and Bridges","80","General","001","Directioin and Administration","11","Normal State Plan","03","District Offices (Division and Sub-Divisional Offices)"]
[948,20,"Vizianagaram",5,"Bondapalle"]
[949,20,"Vizianagaram",6,"Cheepurupalle"]
[950,20,"Vizianagaram",7,"Dattirajeru"]
[951,20,"Vizianagaram",8,"Denkada"]
[952,20,"Vizianagaram",9,"Gajapathinagaram"]
[953,20,"Vizianagaram",10,"Gantyada"]
[954,20,"Vizianagaram",11,"Garividi"]
[955,20,"Vizianagaram",12,"Garugubilli"]
[956,20,"Vizianagaram",13,"Gummalakshmipuram"]
[957,20,"Vizianagaram",14,"Gurla"]
[958,20,"Vizianagaram",15,"Jami"]
[959,20,"Vizianagaram",16,"Jiyyamma Valasa"]
[960,20,"Vizianagaram",17,"Komarada"]
[961,20,"Vizianagaram",18,"Kothavalasa"]
[962,20,"Vizianagaram",19,"Kurupam"]
[963,20,"Vizianagaram",20,"Lakkavarapukota"]
[964,20,"Vizianagaram",21,"Makkuva"]
[965,20,"Vizianagaram",22,"Mentada"]
[966,20,"Vizianagaram",23,"Merakamudidam"]
[967,20,"Vizianagaram",24,"Nellimarla"]
[968,20,"Vizianagaram",25,"Pachipenta"]
[969,20,"Vizianagaram",26,"Parvathipuram"]
[970,20,"Vizianagaram",27,"Pusapatirega"]
[971,20,"Vizianagaram",28,"Ramabhadrapuram"]
[972,20,"Vizianagaram",29,"Salur"]
[973,20,"Vizianagaram",30,"Seethanagaram"]
[974,20,"Vizianagaram",31,"Srungavarapukota"]
[975,20,"Vizianagaram",32,"Therlam"]
[976,20,"Vizianagaram",33,"Vepada"]
[977,20,"Vizianagaram",34,"Vizianagaram"]
[978,21,"Warangal",1,"Atmakur "]
[979,21,"Warangal",2,"Bachannapeta "]
[980,21,"Warangal",3,"Bhupalpalle "]
[981,21,"Warangal",4,"Chennaraopet "]
[982,21,"Warangal",5,"Cheriyal "]
[983,21,"Warangal",6,"Chityal "]
[984,21,"Warangal",7,"Devaruppula "]
[985,21,"Warangal",8,"Dharmasagar "]
[986,21,"Warangal",9,"Dornakal "]
[987,21,"Warangal",10,"Duggondi "]
[988,21,"Warangal",11,"Eturnagaram "]
[989,21,"Warangal",12,"Geesugonda "]
[990,21,"Warangal",13,"Ghanapur "]
[991,21,"Warangal",14,"Ghanpur(Stn) "]
[992,21,"Warangal",15,"Govindaraopet "]
[993,21,"Warangal",16,"Gudur "]
[994,21,"Warangal",17,"Hanamkonda "]
[995,21,"Warangal",18,"Hasanparthy "]
[996,21,"Warangal",19,"Jangaon "]
[997,21,"Warangal",20,"Kesamudram "]
[998,21,"Warangal",21,"Khanapur "]
[999,21,"Warangal",22,"Kodakandla "]
[1000,21,"Warangal",23,"Kothagudem "]
[1001,21,"Warangal",24,"Kuravi "]
[1002,21,"Warangal",25,"Lingala Ghanpur"]
[1003,21,"Warangal",26,"Maddur "]
[1004,21,"Warangal",27,"Mahabubabad "]
[1005,21,"Warangal",28,"Mangapet "]
[1006,21,"Warangal",29,"Maripeda "]
[1007,21,"Warangal",30,"Mogullapalle "]
[1008,21,"Warangal",31,"Mulug "]
[1009,21,"Warangal",32,"Nallabelly "]
[1010,21,"Warangal",33,"Narmetta "]
[1011,21,"Warangal",34,"Narsampet "]
[1012,21,"Warangal",35,"Narsimhulapet "]
[1013,21,"Warangal",36,"Nekkonda "]
[1014,21,"Warangal",37,"Nellikudur "]
[1015,21,"Warangal",38,"Palakurthi "]
[1016,21,"Warangal",39,"Parkal "]
[1017,21,"Warangal",40,"Parvathagiri "]
[1018,21,"Warangal",41,"Raghunatha Palle"]
[1019,21,"Warangal",42,"Raiparthy "]
[1020,21,"Warangal",43,"Regonda "]
[1021,21,"Warangal",44,"Sangem "]
[1022,21,"Warangal",45,"Shayampet "]
[1023,21,"Warangal",46,"Tadvai "]
[1024,21,"Warangal",47,"Thorrur "]
[1025,21,"Warangal",48,"Venkatapur "]
[1026,21,"Warangal",49,"Wardhannapet "]
[1027,21,"Warangal",50,"Zaffergadh "]
[1028,22,"West Godavari",1,"Achanta "]
[1029,22,"West Godavari",2,"Akiveedu "]
[1030,22,"West Godavari",3,"Attili "]
[1031,22,"West Godavari",4,"Bheemavaram "]
[1032,22,"West Godavari",5,"Bhimadole "]
[1033,22,"West Godavari",6,"Buttayagudem "]
[1034,22,"West Godavari",7,"Chagallu "]
[1035,22,"West Godavari",8,"Chintalapudi "]
[1036,22,"West Godavari",9,"Denduluru "]
[1037,22,"West Godavari",10,"Devarapalle "]
[1038,22,"West Godavari",11,"Dwaraka Tirumala"]
[1039,22,"West Godavari",12,"Eluru "]
[1040,22,"West Godavari",13,"Ganapavaram "]
[1041,22,"West Godavari",14,"Gopalapuram "]
[1042,22,"West Godavari",15,"Iragavaram "]
[1043,22,"West Godavari",16,"Jangareddigudem "]
[1044,22,"West Godavari",17,"Jeelugumilli "]
[1045,22,"West Godavari",18,"Kalla "]
[1046,22,"West Godavari",19,"Kamavarapukota "]
[1047,22,"West Godavari",20,"Kovvur "]
[1048,22,"West Godavari",21,"Koyyalagudem "]
[1049,22,"West Godavari",22,"Lingapalem "]
[1050,22,"West Godavari",23,"Mogalthur "]
[1051,22,"West Godavari",24,"Nallajerla "]
[1052,22,"West Godavari",25,"Narasapuram "]
[1053,22,"West Godavari",26,"Nidadavole "]
[1054,22,"West Godavari",27,"Nidamarru "]
[1055,22,"West Godavari",28,"Palacole "]
[1056,22,"West Godavari",29,"Palakoderu "]
[1057,22,"West Godavari",30,"Pedapadu "]
[1058,22,"West Godavari",31,"Pedavegi "]
[1059,22,"West Godavari",32,"Pentapadu "]
[1060,22,"West Godavari",33,"Penugonda "]
[1061,22,"West Godavari",34,"Penumantra "]
[1062,22,"West Godavari",35,"Peravali "]
[1063,22,"West Godavari",36,"Poduru "]
[1064,22,"West Godavari",37,"Polavaram "]
[1065,22,"West Godavari",38,"T Narasapuram"]
[1066,22,"West Godavari",39,"Tadepalligudem "]
[1067,22,"West Godavari",40,"Tanuku "]
[1068,22,"West Godavari",41,"Thallapudi "]
[1069,22,"West Godavari",42,"Undi "]
[1070,22,"West Godavari",43,"Undrajavaram "]
[1071,22,"West Godavari",44,"Unguturu "]
[1072,22,"West Godavari",45,"Veeravasaram "]
[1073,22,"West Godavari",46,"Yelamanchili "]
[1074,23,"Y.S.R (Kaddapah)",1,"Atlur "]
[1075,23,"Y.S.R (Kaddapah)",2,"B Kodur"]
[1076,23,"Y.S.R (Kaddapah)",3,"Badvel "]
[1077,23,"Y.S.R (Kaddapah)",4,"Brahmamgarimattam "]
[1078,23,"Y.S.R (Kaddapah)",5,"Chakrayapet "]
[1079,23,"Y.S.R (Kaddapah)",6,"Chapad "]
[1080,23,"Y.S.R (Kaddapah)",7,"Chennur "]
[1081,23,"Y.S.R (Kaddapah)",8,"Chinnamandem "]
[1082,23,"Y.S.R (Kaddapah)",9,"Chintha Kommadinne"]
[1083,23,"Y.S.R (Kaddapah)",10,"Chitvel "]
[1084,23,"Y.S.R (Kaddapah)",11,"Cuddapah "]
[1085,23,"Y.S.R (Kaddapah)",12,"Duvvur "]
[1086,23,"Y.S.R (Kaddapah)",13,"Galiveedu "]
[1087,23,"Y.S.R (Kaddapah)",14,"Gopavaram "]
[1088,23,"Y.S.R (Kaddapah)",15,"Jammalamadugu "]
[1089,23,"Y.S.R (Kaddapah)",16,"Kalasapadu "]
[1090,23,"Y.S.R (Kaddapah)",17,"Kamalapuram "]
[1091,23,"Y.S.R (Kaddapah)",18,"Khajipet "]
[1092,23,"Y.S.R (Kaddapah)",19,"Kodur "]
[1093,23,"Y.S.R (Kaddapah)",20,"Kondapuram "]
[1094,23,"Y.S.R (Kaddapah)",21,"Lakkireddipalle "]
[1095,23,"Y.S.R (Kaddapah)",22,"Lingala "]
[1096,23,"Y.S.R (Kaddapah)",23,"Muddanur "]
[1097,23,"Y.S.R (Kaddapah)",24,"Mylavaram "]
[1098,23,"Y.S.R (Kaddapah)",25,"Nandalur "]
[1099,23,"Y.S.R (Kaddapah)",26,"Obulavaripalle "]
[1100,23,"Y.S.R (Kaddapah)",27,"Peddamudium "]
[1101,23,"Y.S.R (Kaddapah)",28,"Penagaluru "]
[1102,23,"Y.S.R (Kaddapah)",29,"Pendlimarri "]
[1103,23,"Y.S.R (Kaddapah)",30,"Porumamilla "]
[1104,23,"Y.S.R (Kaddapah)",31,"Proddutur "]
[1105,23,"Y.S.R (Kaddapah)",32,"Pulivendla "]
[1106,23,"Y.S.R (Kaddapah)",33,"Pullampeta "]
[1107,23,"Y.S.R (Kaddapah)",34,"Rajampet "]
[1108,23,"Y.S.R (Kaddapah)",35,"Raju Palem"]
[1109,23,"Y.S.R (Kaddapah)",36,"Ramapuram "]
[1110,23,"Y.S.R (Kaddapah)",37,"Rayachoti "]
[1111,23,"Y.S.R (Kaddapah)",38,"S Mydukur"]
[1112,23,"Y.S.R (Kaddapah)",39,"Sambepalle "]
[1113,23,"Y.S.R (Kaddapah)",40,"Sidhout "]
[1114,23,"Y.S.R (Kaddapah)",41,"Simhadripuram "]
[1115,23,"Y.S.R (Kaddapah)",42,"T Sundupalle"]
[1116,23,"Y.S.R (Kaddapah)",43,"Thandur "]
[1117,23,"Y.S.R (Kaddapah)",44,"Vallur "]
[1118,23,"Y.S.R (Kaddapah)",45,"Veeraballe "]
[1119,23,"Y.S.R (Kaddapah)",46,"Veerapunayunipalle "]
[1120,23,"Y.S.R (Kaddapah)",47,"Vempalle "]
[1121,23,"Y.S.R (Kaddapah)",48,"Vemula "]
[1122,23,"Y.S.R (Kaddapah)",49,"Vontimitta "]
[1123,23,"Y.S.R (Kaddapah)",50,"Yerraguntla "]

{"sheet":"Main","index":3,"n_rows":503,"n_cols":21,"rows_kept":503,"cut":false,"hidden":false,"merged":[[0,9,0,13],[0,14,0,18],[0,1,1,1],[0,2,1,2],[0,3,1,3],[0,4,1,4],[0,6,1,6],[0,7,1,7],[0,8,1,8],[0,5,1,5]]}
[null,"ID No","Name Of the Employee","Designation","Scale of Pay","Name of the School (IF The Mandal Parishad Schools Must be Filled . Others Must Be empty)","Gross","Name of The Bank","Bank Account No","PUPIL-I",null,null,null,null,"PUPIL-II"]
[null,null,null,null,null,null,null,null,null,"Name","Class","Academic year","Name of the school","Reimbursement of tuition fee Amount","Name","Class","Academic year","Name of the school","Reimbursement of tuition fee Amount","Bank Code","Total Reimbursement"]
[1,2,3,4,5,6,7,8,9,10,11,12,13,14,15,16,17,18,19]
[{"$f":"CONCATENATE(C4,\" ( \",B4,\" )\")","v":"K.V.RAVANAMMA ( 0807541 )"},"0807541","K.V.RAVANAMMA","SA (English)","15280-40510","MPUPS, Dasaripalli",21860,"State Bank Of India (SBI), Nellore",10555653,"K.V.Sai Sujith","VIII","2010-2011","Rathnam High School, Nelore",1000,"XXXXXXXXXX","Inter-I","2010-2011","Abdul Kalam Jr Coolege",1000,{"$f":"IF(ISNA(VLOOKUP(H4,Info!$J$2:$K$16,2,FALSE)),\"\",VLOOKUP(H4,Info!$J$2:$K$16,2,FALSE))","v":"0887"},{"$f":"SUM(N4,S4)","v":2000}]
[{"$f":"CONCATENATE(C5,\" ( \",B5,\" )\")","v":"K.V.RAVANAMMA ( 0807541 )"},"0807541","K.V.RAVANAMMA","SA (English)","15280-40510","MPUPS, Dasaripalli",21860,"Syndicate Bank, Udayagiri",10555653,"K.V.Sai Sujith","VIII","2010-2011","Rathnam High School, Nelore",1000,"XXXXXXXXXX","Inter-I","2010-2011","Abdul Kalam Jr Coolege",null,{"$f":"IF(ISNA(VLOOKUP(H5,Info!$J$2:$K$16,2,FALSE)),\"\",VLOOKUP(H5,Info!$J$2:$K$16,2,FALSE))","v":3470},{"$f":"SUM(N5,S5)","v":1000}]
["K.V.RAVANAMMA ( 0807541 )","0807541","K.V.RAVANAMMA","SA (English)","15280-40510","MPUPS, Dasaripalli",21860,"State Bank Of India (SBI) ADB , Vinjamur",10555653,"K.V.Sai Sujith","VIII","2010-2011","Rathnam High School, Nelore",1000,"XXXXXXXXXX","Inter-I","2010-2011","Abdul Kalam Jr Coolege",null,{"$f":"IF(ISNA(VLOOKUP(H6,Info!$J$2:$K$16,2,FALSE)),\"\",VLOOKUP(H6,Info!$J$2:$K$16,2,FALSE))","v":3177},1000]
["K.V.RAVANAMMA ( 0807541 )","0807541","K.V.RAVANAMMA","SA (English)","15280-40510","MPUPS, Dasaripalli",21860,"State Bank Of India (SBI), Vidyanagar (Vakadu)",10555653,"K.V.Sai Sujith","VIII","2010-2011","Rathnam High School, Nelore",1000,"XXXXXXXXXX","Inter-I","2010-2011","Abdul Kalam Jr Coolege",null,{"$f":"IF(ISNA(VLOOKUP(H7,Info!$J$2:$K$16,2,FALSE)),\"\",VLOOKUP(H7,Info!$J$2:$K$16,2,FALSE))","v":2811},1000]
["K.V.RAVANAMMA ( 0807541 )","0807541","K.V.RAVANAMMA","SA (English)","15280-40510","MPUPS, Dasaripalli",21860,"Syndicate Bank, Udayagiri",10555653,"K.V.Sai Sujith","VIII","2010-2011","Rathnam High School, Nelore",1000,"XXXXXXXXXX","Inter-I","2010-2011","Abdul Kalam Jr Coolege",null,{"$f":"IF(ISNA(VLOOKUP(H8,Info!$J$2:$K$16,2,FALSE)),\"\",VLOOKUP(H8,Info!$J$2:$K$16,2,FALSE))","v":3470},1000]
["K.V.RAVANAMMA ( 0807541 )","0807541","K.V.RAVANAMMA","SA (English)","15280-40510","MPUPS, Dasaripalli",21860,"Syndicate Bank, Rapur",10555653,"K.V.Sai Sujith","VIII","2010-2011","Rathnam High School, Nelore",1000,"XXXXXXXXXX","Inter-I","2010-2011","Abdul Kalam Jr Coolege",null,{"$f":"IF(ISNA(VLOOKUP(H9,Info!$J$2:$K$16,2,FALSE)),\"\",VLOOKUP(H9,Info!$J$2:$K$16,2,FALSE))","v":3468},1000]
["K.V.RAVANAMMA ( 0807541 )","0807541","K.V.RAVANAMMA","SA (English)","15280-40510","MPUPS, Dasaripalli",21860,"Syndicate Bank, Rapur",10555653,"K.V.Sai Sujith","VIII","2010-2011","Rathnam High School, Nelore",1000,"XXXXXXXXXX","Inter-I","2010-2011","Abdul Kalam Jr Coolege",null,{"$f":"IF(ISNA(VLOOKUP(H10,Info!$J$2:$K$16,2,FALSE)),\"\",VLOOKUP(H10,Info!$J$2:$K$16,2,FALSE))","v":3468},1000]
["K.V.RAVANAMMA ( 0807541 )","0807541","K.V.RAVANAMMA","SA (English)","15280-40510","MPUPS, Dasaripalli",21860,"Syndicate Bank, Rapur",10555653,"K.V.Sai Sujith","VIII","2010-2011","Rathnam High School, Nelore",1000,"XXXXXXXXXX","Inter-I","2010-2011","Abdul Kalam Jr Coolege",null,{"$f":"IF(ISNA(VLOOKUP(H11,Info!$J$2:$K$16,2,FALSE)),\"\",VLOOKUP(H11,Info!$J$2:$K$16,2,FALSE))","v":3468},1000]
["K.V.RAVANAMMA ( 0807541 )","0807541","K.V.RAVANAMMA","SA (English)","15280-40510","MPUPS, Dasaripalli",21860,"Syndicate Bank, Rapur",10555653,"K.V.Sai Sujith","VIII","2010-2011","Rathnam High School, Nelore",1000,"XXXXXXXXXX","Inter-I","2010-2011","Abdul Kalam Jr Coolege",null,{"$f":"IF(ISNA(VLOOKUP(H12,Info!$J$2:$K$16,2,FALSE)),\"\",VLOOKUP(H12,Info!$J$2:$K$16,2,FALSE))","v":3468},1000]
["K.V.RAVANAMMA ( 0807541 )","0807541","K.V.RAVANAMMA","SA (English)","15280-40510","MPUPS, Dasaripalli",21860,"Syndicate Bank, Rapur",10555653,"K.V.Sai Sujith","VIII","2010-2011","Rathnam High School, Nelore",1000,"XXXXXXXXXX","Inter-I","2010-2011","Abdul Kalam Jr Coolege",null,{"$f":"IF(ISNA(VLOOKUP(H13,Info!$J$2:$K$16,2,FALSE)),\"\",VLOOKUP(H13,Info!$J$2:$K$16,2,FALSE))","v":3468},1000]
["K.V.RAVANAMMA ( 0807541 )","0807541","K.V.RAVANAMMA","SA (English)","15280-40510","MPUPS, Dasaripalli",21860,"Syndicate Bank, Rapur",10555653,"K.V.Sai Sujith","VIII","2010-2011","Rathnam High School, Nelore",1000,"XXXXXXXXXX","Inter-I","2010-2011","Abdul Kalam Jr Coolege",1000,{"$f":"IF(ISNA(VLOOKUP(H14,Info!$J$2:$K$16,2,FALSE)),\"\",VLOOKUP(H14,Info!$J$2:$K$16,2,FALSE))","v":3468},2000]
["K.V.RAVANAMMA ( 0807541 )","0807541","K.V.RAVANAMMA","SA (English)","15280-40510","MPUPS, Dasaripalli",21860,"Syndicate Bank, Rapur",10555653,"K.V.Sai Sujith","VIII","2010-2011","Rathnam High School, Nelore",1000,"XXXXXXXXXX","Inter-I","2010-2011","Abdul Kalam Jr Coolege",1000,{"$f":"IF(ISNA(VLOOKUP(H15,Info!$J$2:$K$16,2,FALSE)),\"\",VLOOKUP(H15,Info!$J$2:$K$16,2,FALSE))","v":3468},2000]
["K.V.RAVANAMMA ( 0807541 )","0807541","K.V.RAVANAMMA","SA (English)","15280-40510","MPUPS, Dasaripalli",21860,"Syndicate Bank, Rapur",10555653,"K.V.Sai Sujith","VIII","2010-2011","Rathnam High School, Nelore",1000,"XXXXXXXXXX","Inter-I","2010-2011","Abdul Kalam Jr Coolege",1000,{"$f":"IF(ISNA(VLOOKUP(H16,Info!$J$2:$K$16,2,FALSE)),\"\",VLOOKUP(H16,Info!$J$2:$K$16,2,FALSE))","v":3468},2000]
["K.V.RAVANAMMA ( 0807541 )","0807541","K.V.RAVANAMMA","SA (English)","15280-40510","MPUPS, Dasaripalli",21860,"State Bank Of India (SBI) ADB , Atmakur",10555653,"K.V.Sai Sujith","VIII","2010-2011","Rathnam High School, Nelore",1000,"XXXXXXXXXX","Inter-I","2010-2011","Abdul Kalam Jr Coolege",1000,{"$f":"IF(ISNA(VLOOKUP(H17,Info!$J$2:$K$16,2,FALSE)),\"\",VLOOKUP(H17,Info!$J$2:$K$16,2,FALSE))","v":4828},2000]
["K.V.RAVANAMMA ( 0807541 )","0807541","K.V.RAVANAMMA","SA (English)","15280-40510","MPUPS, Dasaripalli",21860,"State Bank Of India (SBI) ADB , Atmakur",10555653,"K.V.Sai Sujith","VIII","2010-2011","Rathnam High School, Nelore",1000,"XXXXXXXXXX","Inter-I","2010-2011","Abdul Kalam Jr Coolege",1000,{"$f":"IF(ISNA(VLOOKUP(H18,Info!$J$2:$K$16,2,FALSE)),\"\",VLOOKUP(H18,Info!$J$2:$K$16,2,FALSE))","v":4828},2000]
["K.V.RAVANAMMA ( 0807541 )","0807541","K.V.RAVANAMMA","SA (English)","15280-40510","MPUPS, Dasaripalli",21860,"State Bank Of India (SBI) ADB , Atmakur",10555653,"K.V.Sai Sujith","VIII","2010-2011","Rathnam High School, Nelore",1000,"XXXXXXXXXX","Inter-I","2010-2011","Abdul Kalam Jr Coolege",1000,{"$f":"IF(ISNA(VLOOKUP(H19,Info!$J$2:$K$16,2,FALSE)),\"\",VLOOKUP(H19,Info!$J$2:$K$16,2,FALSE))","v":4828},2000]
["K.V.RAVANAMMA ( 0807541 )","0807541","K.V.RAVANAMMA","SA (English)","15280-40510","MPUPS, Dasaripalli",21860,"State Bank Of India (SBI) ADB , Atmakur",10555653,"K.V.Sai Sujith","VIII","2010-2011","Rathnam High School, Nelore",1000,"XXXXXXXXXX","Inter-I","2010-2011","Abdul Kalam Jr Coolege",1000,{"$f":"IF(ISNA(VLOOKUP(H20,Info!$J$2:$K$16,2,FALSE)),\"\",VLOOKUP(H20,Info!$J$2:$K$16,2,FALSE))","v":4828},2000]
["K.V.RAVANAMMA ( 0807541 )","0807541","K.V.RAVANAMMA","SA (English)","15280-40510","MPUPS, Dasaripalli",21860,"State Bank Of India (SBI) ADB , Atmakur",10555653,"K.V.Sai Sujith","VIII","2010-2011","Rathnam High School, Nelore",1000,"XXXXXXXXXX","Inter-I","2010-2011","Abdul Kalam Jr Coolege",1000,{"$f":"IF(ISNA(VLOOKUP(H21,Info!$J$2:$K$16,2,FALSE)),\"\",VLOOKUP(H21,Info!$J$2:$K$16,2,FALSE))","v":4828},2000]
["K.V.RAVANAMMA ( 0807541 )","0807541","K.V.RAVANAMMA","SA (English)","15280-40510","MPUPS, Dasaripalli",21860,"State Bank Of India (SBI) ADB , Atmakur",10555653,"K.V.Sai Sujith","VIII","2010-2011","Rathnam High School, Nelore",1000,"XXXXXXXXXX","Inter-I","2010-2011","Abdul Kalam Jr Coolege",1000,{"$f":"IF(ISNA(VLOOKUP(H22,Info!$J$2:$K$16,2,FALSE)),\"\",VLOOKUP(H22,Info!$J$2:$K$16,2,FALSE))","v":4828},2000]
["K.V.RAVANAMMA ( 0807541 )","0807541","K.V.RAVANAMMA","SA (English)","15280-40510","MPUPS, Dasaripalli",21860,"State Bank Of India (SBI) ADB , Atmakur",10555653,"K.V.Sai Sujith","VIII","2010-2011","Rathnam High School, Nelore",1000,"XXXXXXXXXX","Inter-I","2010-2011","Abdul Kalam Jr Coolege",1000,{"$f":"IF(ISNA(VLOOKUP(H23,Info!$J$2:$K$16,2,FALSE)),\"\",VLOOKUP(H23,Info!$J$2:$K$16,2,FALSE))","v":4828},2000]
["K.V.RAVANAMMA ( 0807541 )","0807541","K.V.RAVANAMMA","SA (English)","15280-40510","MPUPS, Dasaripalli",21860,"State Bank Of India (SBI), Gudur",10555653,"K.V.Sai Sujith","VIII","2010-2011","Rathnam High School, Nelore",1000,"XXXXXXXXXX","Inter-I","2010-2011","Abdul Kalam Jr Coolege",1000,{"$f":"IF(ISNA(VLOOKUP(H24,Info!$J$2:$K$16,2,FALSE)),\"\",VLOOKUP(H24,Info!$J$2:$K$16,2,FALSE))","v":"0843"},2000]
["K.V.RAVANAMMA ( 0807541 )","0807541","K.V.RAVANAMMA","SA (English)","15280-40510","MPUPS, Dasaripalli",21860,"State Bank Of India (SBI), Gudur",10555653,"K.V.Sai Sujith","VIII","2010-2011","Rathnam High School, Nelore",1000,"XXXXXXXXXX","Inter-I","2010-2011","Abdul Kalam Jr Coolege",1000,{"$f":"IF(ISNA(VLOOKUP(H25,Info!$J$2:$K$16,2,FALSE)),\"\",VLOOKUP(H25,Info!$J$2:$K$16,2,FALSE))","v":"0843"},2000]
["K.V.RAVANAMMA ( 0807541 )","0807541","K.V.RAVANAMMA","SA (English)","15280-40510","MPUPS, Dasaripalli",21860,"State Bank Of India (SBI), Gudur",10555653,"K.V.Sai Sujith","VIII","2010-2011","Rathnam High School, Nelore",1000,"XXXXXXXXXX","Inter-I","2010-2011","Abdul Kalam Jr Coolege",1000,{"$f":"IF(ISNA(VLOOKUP(H26,Info!$J$2:$K$16,2,FALSE)),\"\",VLOOKUP(H26,Info!$J$2:$K$16,2,FALSE))","v":"0843"},2000]
["K.V.RAVANAMMA ( 0807541 )","0807541","K.V.RAVANAMMA","SA (English)","15280-40510","MPUPS, Dasaripalli",21860,"State Bank Of India (SBI), Gudur",10555653,"K.V.Sai Sujith","VIII","2010-2011","Rathnam High School, Nelore",1000,"XXXXXXXXXX","Inter-I","2010-2011","Abdul Kalam Jr Coolege",1000,{"$f":"IF(ISNA(VLOOKUP(H27,Info!$J$2:$K$16,2,FALSE)),\"\",VLOOKUP(H27,Info!$J$2:$K$16,2,FALSE))","v":"0843"},2000]
["K.V.RAVANAMMA ( 0807541 )","0807541","K.V.RAVANAMMA","SA (English)","15280-40510","MPUPS, Dasaripalli",21860,"State Bank Of India (SBI), Gudur",10555653,"K.V.Sai Sujith","VIII","2010-2011","Rathnam High School, Nelore",1000,"XXXXXXXXXX","Inter-I","2010-2011","Abdul Kalam Jr Coolege",1000,{"$f":"IF(ISNA(VLOOKUP(H28,Info!$J$2:$K$16,2,FALSE)),\"\",VLOOKUP(H28,Info!$J$2:$K$16,2,FALSE))","v":"0843"},2000]
["K.V.RAVANAMMA ( 0807541 )","0807541","K.V.RAVANAMMA","SA (English)","15280-40510","MPUPS, Dasaripalli",21860,"State Bank Of India (SBI), Nellore",10555653,"K.V.Sai Sujith","VIII","2010-2011","Rathnam High School, Nelore",1000,"XXXXXXXXXX","Inter-I","2010-2011","Abdul Kalam Jr Coolege",1000,{"$f":"IF(ISNA(VLOOKUP(H29,Info!$J$2:$K$16,2,FALSE)),\"\",VLOOKUP(H29,Info!$J$2:$K$16,2,FALSE))","v":"0887"},2000]
["K.V.RAVANAMMA ( 0807541 )","0807541","K.V.RAVANAMMA","SA (English)","15280-40510","MPUPS, Dasaripalli",21860,"State Bank Of India (SBI), Nellore",10555653,"K.V.Sai Sujith","VIII","2010-2011","Rathnam High School, Nelore",1000,"XXXXXXXXXX","Inter-I","2010-2011","Abdul Kalam Jr Coolege",1000,{"$f":"IF(ISNA(VLOOKUP(H30,Info!$J$2:$K$16,2,FALSE)),\"\",VLOOKUP(H30,Info!$J$2:$K$16,2,FALSE))","v":"0887"},2000]
["K.V.RAVANAMMA ( 0807541 )","0807541","K.V.RAVANAMMA","SA (English)","15280-40510","MPUPS, Dasaripalli",21860,"State Bank Of India (SBI), Nellore",10555653,"K.V.Sai Sujith","VIII","2010-2011","Rathnam High School, Nelore",1000,"XXXXXXXXXX","Inter-I","2010-2011","Abdul Kalam Jr Coolege",1000,{"$f":"IF(ISNA(VLOOKUP(H31,Info!$J$2:$K$16,2,FALSE)),\"\",VLOOKUP(H31,Info!$J$2:$K$16,2,FALSE))","v":"0887"},2000]
["K.V.RAVANAMMA ( 0807541 )","0807541","K.V.RAVANAMMA","SA (English)","15280-40510","MPUPS, Dasaripalli",21860,"State Bank Of India (SBI), Nellore",10555653,"K.V.Sai Sujith","VIII","2010-2011","Rathnam High School, Nelore",1000,"XXXXXXXXXX","Inter-I","2010-2011","Abdul Kalam Jr Coolege",1000,{"$f":"IF(ISNA(VLOOKUP(H32,Info!$J$2:$K$16,2,FALSE)),\"\",VLOOKUP(H32,Info!$J$2:$K$16,2,FALSE))","v":"0887"},2000]
["K.V.RAVANAMMA ( 0807541 )","0807541","K.V.RAVANAMMA","SA (English)","15280-40510","MPUPS, Dasaripalli",21860,"State Bank Of India (SBI), Nellore",10555653,"K.V.Sai Sujith","VIII","2010-2011","Rathnam High School, Nelore",1000,"XXXXXXXXXX","Inter-I","2010-2011","Abdul Kalam Jr Coolege",1000,{"$f":"IF(ISNA(VLOOKUP(H33,Info!$J$2:$K$16,2,FALSE)),\"\",VLOOKUP(H33,Info!$J$2:$K$16,2,FALSE))","v":"0887"},2000]
["K.V.RAVANAMMA ( 0807541 )","0807541","K.V.RAVANAMMA","SA (English)","15280-40510","MPUPS, Dasaripalli",21860,"State Bank Of India (SBI), Nellore",10555653,"K.V.Sai Sujith","VIII","2010-2011","Rathnam High School, Nelore",1000,"XXXXXXXXXX","Inter-I","2010-2011","Abdul Kalam Jr Coolege",1000,{"$f":"IF(ISNA(VLOOKUP(H34,Info!$J$2:$K$16,2,FALSE)),\"\",VLOOKUP(H34,Info!$J$2:$K$16,2,FALSE))","v":"0887"},2000]
["K.V.RAVANAMMA ( 0807541 )","0807541","K.V.RAVANAMMA","SA (English)","15280-40510","MPUPS, Dasaripalli",21860,"State Bank Of India (SBI), Nellore",10555653,"K.V.Sai Sujith","VIII","2010-2011","Rathnam High School, Nelore",1000,"XXXXXXXXXX","Inter-I","2010-2011","Abdul Kalam Jr Coolege",1000,{"$f":"IF(ISNA(VLOOKUP(H35,Info!$J$2:$K$16,2,FALSE)),\"\",VLOOKUP(H35,Info!$J$2:$K$16,2,FALSE))","v":"0887"},2000]
["K.V.RAVANAMMA ( 0807541 )","0807541","K.V.RAVANAMMA","SA (English)","15280-40510","MPUPS, Dasaripalli",21860,"State Bank Of India (SBI), Nellore",10555653,"K.V.Sai Sujith","VIII","2010-2011","Rathnam High School, Nelore",1000,"XXXXXXXXXX","Inter-I","2010-2011","Abdul Kalam Jr Coolege",1000,{"$f":"IF(ISNA(VLOOKUP(H36,Info!$J$2:$K$16,2,FALSE)),\"\",VLOOKUP(H36,Info!$J$2:$K$16,2,FALSE))","v":"0887"},2000]
["K.V.RAVANAMMA ( 0807541 )","0807541","K.V.RAVANAMMA","SA (English)","15280-40510","MPUPS, Dasaripalli",21860,"State Bank Of India (SBI), Nellore",10555653,"K.V.Sai Sujith","VIII","2010-2011","Rathnam High School, Nelore",1000,"XXXXXXXXXX","Inter-I","2010-2011","Abdul Kalam Jr Coolege",1000,{"$f":"IF(ISNA(VLOOKUP(H37,Info!$J$2:$K$16,2,FALSE)),\"\",VLOOKUP(H37,Info!$J$2:$K$16,2,FALSE))","v":"0887"},2000]
["K.V.RAVANAMMA ( 0807541 )","0807541","K.V.RAVANAMMA","SA (English)","15280-40510","MPUPS, Dasaripalli",21860,"State Bank Of India (SBI), Nellore",10555653,"K.V.Sai Sujith","VIII","2010-2011","Rathnam High School, Nelore",1000,"XXXXXXXXXX","Inter-I","2010-2011","Abdul Kalam Jr Coolege",1000,{"$f":"IF(ISNA(VLOOKUP(H38,Info!$J$2:$K$16,2,FALSE)),\"\",VLOOKUP(H38,Info!$J$2:$K$16,2,FALSE))","v":"0887"},2000]
["K.V.RAVANAMMA ( 0807541 )","0807541","K.V.RAVANAMMA","SA (English)","15280-40510","MPUPS, Dasaripalli",21860,"State Bank Of India (SBI), Nellore",10555653,"K.V.Sai Sujith","VIII","2010-2011","Rathnam High School, Nelore",1000,"XXXXXXXXXX","Inter-I","2010-2011","Abdul Kalam Jr Coolege",1000,{"$f":"IF(ISNA(VLOOKUP(H39,Info!$J$2:$K$16,2,FALSE)),\"\",VLOOKUP(H39,Info!$J$2:$K$16,2,FALSE))","v":"0887"},2000]
["K.V.RAVANAMMA ( 0807541 )","0807541","K.V.RAVANAMMA","SA (English)","15280-40510","MPUPS, Dasaripalli",21860,"State Bank Of India (SBI), Nellore",10555653,"K.V.Sai Sujith","VIII","2010-2011","Rathnam High School, Nelore",1000,"XXXXXXXXXX","Inter-I","2010-2011","Abdul Kalam Jr Coolege",1000,{"$f":"IF(ISNA(VLOOKUP(H40,Info!$J$2:$K$16,2,FALSE)),\"\",VLOOKUP(H40,Info!$J$2:$K$16,2,FALSE))","v":"0887"},2000]
["K.V.RAVANAMMA ( 0807541 )","0807541","K.V.RAVANAMMA","SA (English)","15280-40510","MPUPS, Dasaripalli",21860,"State Bank Of India (SBI), Nellore",10555653,"K.V.Sai Sujith","VIII","2010-2011","Rathnam High School, Nelore",1000,"XXXXXXXXXX","Inter-I","2010-2011","Abdul Kalam Jr Coolege",1000,{"$f":"IF(ISNA(VLOOKUP(H41,Info!$J$2:$K$16,2,FALSE)),\"\",VLOOKUP(H41,Info!$J$2:$K$16,2,FALSE))","v":"0887"},2000]
["K.V.RAVANAMMA ( 0807541 )","0807541","K.V.RAVANAMMA","SA (English)","15280-40510","MPUPS, Dasaripalli",21860,"State Bank Of India (SBI), Nellore",10555653,"K.V.Sai Sujith","VIII","2010-2011","Rathnam High School, Nelore",1000,"XXXXXXXXXX","Inter-I","2010-2011","Abdul Kalam Jr Coolege",1000,{"$f":"IF(ISNA(VLOOKUP(H42,Info!$J$2:$K$16,2,FALSE)),\"\",VLOOKUP(H42,Info!$J$2:$K$16,2,FALSE))","v":"0887"},2000]
["K.V.RAVANAMMA ( 0807541 )","0807541","K.V.RAVANAMMA","SA (English)","15280-40510","MPUPS, Dasaripalli",21860,"State Bank Of India (SBI), Nellore",10555653,"K.V.Sai Sujith","VIII","2010-2011","Rathnam High School, Nelore",1000,"XXXXXXXXXX","Inter-I","2010-2011","Abdul Kalam Jr Coolege",1000,{"$f":"IF(ISNA(VLOOKUP(H43,Info!$J$2:$K$16,2,FALSE)),\"\",VLOOKUP(H43,Info!$J$2:$K$16,2,FALSE))","v":"0887"},2000]
["K.V.RAVANAMMA ( 0807541 )","0807541","K.V.RAVANAMMA","SA (English)","15280-40510","MPUPS, Dasaripalli",21860,"State Bank Of India (SBI), Nellore",10555653,"K.V.Sai Sujith","VIII","2010-2011","Rathnam High School, Nelore",1000,"XXXXXXXXXX","Inter-I","2010-2011","Abdul Kalam Jr Coolege",1000,{"$f":"IF(ISNA(VLOOKUP(H44,Info!$J$2:$K$16,2,FALSE)),\"\",VLOOKUP(H44,Info!$J$2:$K$16,2,FALSE))","v":"0887"},2000]
["K.V.RAVANAMMA ( 0807541 )","0807541","K.V.RAVANAMMA","SA (English)","15280-40510","MPUPS, Dasaripalli",21860,"State Bank Of India (SBI), Nellore",10555653,"K.V.Sai Sujith","VIII","2010-2011","Rathnam High School, Nelore",1000,"XXXXXXXXXX","Inter-I","2010-2011","Abdul Kalam Jr Coolege",1000,{"$f":"IF(ISNA(VLOOKUP(H45,Info!$J$2:$K$16,2,FALSE)),\"\",VLOOKUP(H45,Info!$J$2:$K$16,2,FALSE))","v":"0887"},2000]
["K.V.RAVANAMMA ( 0807541 )","0807541","K.V.RAVANAMMA","SA (English)","15280-40510","MPUPS, Dasaripalli",21860,"State Bank Of India (SBI), Nellore",10555653,"K.V.Sai Sujith","VIII","2010-2011","Rathnam High School, Nelore",1000,"XXXXXXXXXX","Inter-I","2010-2011","Abdul Kalam Jr Coolege",1000,{"$f":"IF(ISNA(VLOOKUP(H46,Info!$J$2:$K$16,2,FALSE)),\"\",VLOOKUP(H46,Info!$J$2:$K$16,2,FALSE))","v":"0887"},2000]
["K.V.RAVANAMMA ( 0807541 )","0807541","K.V.RAVANAMMA","SA (English)","15280-40510","MPUPS, Dasaripalli",21860,"State Bank Of India (SBI), Nellore",10555653,"K.V.Sai Sujith","VIII","2010-2011","Rathnam High School, Nelore",1000,"XXXXXXXXXX","Inter-I","2010-2011","Abdul Kalam Jr Coolege",1000,{"$f":"IF(ISNA(VLOOKUP(H47,Info!$J$2:$K$16,2,FALSE)),\"\",VLOOKUP(H47,Info!$J$2:$K$16,2,FALSE))","v":"0887"},2000]
["K.V.RAVANAMMA ( 0807541 )","0807541","K.V.RAVANAMMA","SA (English)","15280-40510","MPUPS, Dasaripalli",21860,"State Bank Of India (SBI), Nellore",10555653,"K.V.Sai Sujith","VIII","2010-2011","Rathnam High School, Nelore",1000,"XXXXXXXXXX","Inter-I","2010-2011","Abdul Kalam Jr Coolege",1000,{"$f":"IF(ISNA(VLOOKUP(H48,Info!$J$2:$K$16,2,FALSE)),\"\",VLOOKUP(H48,Info!$J$2:$K$16,2,FALSE))","v":"0887"},2000]
["K.V.RAVANAMMA ( 0807541 )","0807541","K.V.RAVANAMMA","SA (English)","15280-40510","MPUPS, Dasaripalli",21860,"State Bank Of India (SBI), Nellore",10555653,"K.V.Sai Sujith","VIII","2010-2011","Rathnam High School, Nelore",1000,"XXXXXXXXXX","Inter-I","2010-2011","Abdul Kalam Jr Coolege",1000,{"$f":"IF(ISNA(VLOOKUP(H49,Info!$J$2:$K$16,2,FALSE)),\"\",VLOOKUP(H49,Info!$J$2:$K$16,2,FALSE))","v":"0887"},2000]
["K.V.RAVANAMMA ( 0807541 )","0807541","K.V.RAVANAMMA","SA (English)","15280-40510","MPUPS, Dasaripalli",21860,"State Bank Of India (SBI), Nellore",10555653,"K.V.Sai Sujith","VIII","2010-2011","Rathnam High School, Nelore",1000,"XXXXXXXXXX","Inter-I","2010-2011","Abdul Kalam Jr Coolege",1000,{"$f":"IF(ISNA(VLOOKUP(H50,Info!$J$2:$K$16,2,FALSE)),\"\",VLOOKUP(H50,Info!$J$2:$K$16,2,FALSE))","v":"0887"},2000]
["K.V.RAVANAMMA ( 0807541 )","0807541","K.V.RAVANAMMA","SA (English)","15280-40510","MPUPS, Dasaripalli",21860,"State Bank Of India (SBI), Nellore",10555653,"K.V.Sai Sujith","VIII","2010-2011","Rathnam High School, Nelore",1000,"XXXXXXXXXX","Inter-I","2010-2011","Abdul Kalam Jr Coolege",1000,{"$f":"IF(ISNA(VLOOKUP(H51,Info!$J$2:$K$16,2,FALSE)),\"\",VLOOKUP(H51,Info!$J$2:$K$16,2,FALSE))","v":"0887"},2000]
["K.V.RAVANAMMA ( 0807541 )","0807541","K.V.RAVANAMMA","SA (English)","15280-40510","MPUPS, Dasaripalli",21860,"State Bank Of India (SBI), Nellore",10555653,"K.V.Sai Sujith","VIII","2010-2011","Rathnam High School, Nelore",1000,"XXXXXXXXXX","Inter-I","2010-2011","Abdul Kalam Jr Coolege",1000,{"$f":"IF(ISNA(VLOOKUP(H52,Info!$J$2:$K$16,2,FALSE)),\"\",VLOOKUP(H52,Info!$J$2:$K$16,2,FALSE))","v":"0887"},2000]
["K.V.RAVANAMMA ( 0807541 )","0807541","K.V.RAVANAMMA","SA (English)","15280-40510","MPUPS, Dasaripalli",21860,"State Bank Of India (SBI), Nellore",10555653,"K.V.Sai Sujith","VIII","2010-2011","Rathnam High School, Nelore",1000,"XXXXXXXXXX","Inter-I","2010-2011","Abdul Kalam Jr Coolege",1000,{"$f":"IF(ISNA(VLOOKUP(H53,Info!$J$2:$K$16,2,FALSE)),\"\",VLOOKUP(H53,Info!$J$2:$K$16,2,FALSE))","v":"0887"},2000]
["K.V.RAVANAMMA ( 0807541 )","0807541","K.V.RAVANAMMA","SA (English)","15280-40510","MPUPS, Dasaripalli",21860,"State Bank Of India (SBI), Nellore",10555653,"K.V.Sai Sujith","VIII","2010-2011","Rathnam High School, Nelore",1000,"XXXXXXXXXX","Inter-I","2010-2011","Abdul Kalam Jr Coolege",1000,{"$f":"IF(ISNA(VLOOKUP(H54,Info!$J$2:$K$16,2,FALSE)),\"\",VLOOKUP(H54,Info!$J$2:$K$16,2,FALSE))","v":"0887"},2000]
["K.V.RAVANAMMA ( 0807541 )","0807541","K.V.RAVANAMMA","SA (English)","15280-40510","MPUPS, Dasaripalli",21860,"State Bank Of India (SBI), Nellore",10555653,"K.V.Sai Sujith","VIII","2010-2011","Rathnam High School, Nelore",1000,"XXXXXXXXXX","Inter-I","2010-2011","Abdul Kalam Jr Coolege",1000,{"$f":"IF(ISNA(VLOOKUP(H55,Info!$J$2:$K$16,2,FALSE)),\"\",VLOOKUP(H55,Info!$J$2:$K$16,2,FALSE))","v":"0887"},2000]
["K.V.RAVANAMMA ( 0807541 )","0807541","K.V.RAVANAMMA","SA (English)","15280-40510","MPUPS, Dasaripalli",21860,"State Bank Of India (SBI), Nellore",10555653,"K.V.Sai Sujith","VIII","2010-2011","Rathnam High School, Nelore",1000,"XXXXXXXXXX","Inter-I","2010-2011","Abdul Kalam Jr Coolege",1000,{"$f":"IF(ISNA(VLOOKUP(H56,Info!$J$2:$K$16,2,FALSE)),\"\",VLOOKUP(H56,Info!$J$2:$K$16,2,FALSE))","v":"0887"},2000]
["K.V.RAVANAMMA ( 0807541 )","0807541","K.V.RAVANAMMA","SA (English)","15280-40510","MPUPS, Dasaripalli",21860,"State Bank Of India (SBI), Nellore",10555653,"K.V.Sai Sujith","VIII","2010-2011","Rathnam High School, Nelore",1000,"XXXXXXXXXX","Inter-I","2010-2011","Abdul Kalam Jr Coolege",1000,{"$f":"IF(ISNA(VLOOKUP(H57,Info!$J$2:$K$16,2,FALSE)),\"\",VLOOKUP(H57,Info!$J$2:$K$16,2,FALSE))","v":"0887"},2000]
["K.V.RAVANAMMA ( 0807541 )","0807541","K.V.RAVANAMMA","SA (English)","15280-40510","MPUPS, Dasaripalli",21860,"State Bank Of India (SBI), Nellore",10555653,"K.V.Sai Sujith","VIII","2010-2011","Rathnam High School, Nelore",1000,"XXXXXXXXXX","Inter-I","2010-2011","Abdul Kalam Jr Coolege",1000,{"$f":"IF(ISNA(VLOOKUP(H58,Info!$J$2:$K$16,2,FALSE)),\"\",VLOOKUP(H58,Info!$J$2:$K$16,2,FALSE))","v":"0887"},2000]
["K.V.RAVANAMMA ( 0807541 )","0807541","K.V.RAVANAMMA","SA (English)","15280-40510","MPUPS, Dasaripalli",21860,"State Bank Of India (SBI), Nellore",10555653,"K.V.Sai Sujith","VIII","2010-2011","Rathnam High School, Nelore",1000,"XXXXXXXXXX","Inter-I","2010-2011","Abdul Kalam Jr Coolege",1000,{"$f":"IF(ISNA(VLOOKUP(H59,Info!$J$2:$K$16,2,FALSE)),\"\",VLOOKUP(H59,Info!$J$2:$K$16,2,FALSE))","v":"0887"},2000]
["K.V.RAVANAMMA ( 0807541 )","0807541","K.V.RAVANAMMA","SA (English)","15280-40510","MPUPS, Dasaripalli",21860,"State Bank Of India (SBI), Nellore",10555653,"K.V.Sai Sujith","VIII","2010-2011","Rathnam High School, Nelore",1000,"XXXXXXXXXX","Inter-I","2010-2011","Abdul Kalam Jr Coolege",1000,{"$f":"IF(ISNA(VLOOKUP(H60,Info!$J$2:$K$16,2,FALSE)),\"\",VLOOKUP(H60,Info!$J$2:$K$16,2,FALSE))","v":"0887"},2000]
["K.V.RAVANAMMA ( 0807541 )","0807541","K.V.RAVANAMMA","SA (English)","15280-40510","MPUPS, Dasaripalli",21860,"State Bank Of India (SBI), Nellore",10555653,"K.V.Sai Sujith","VIII","2010-2011","Rathnam High School, Nelore",1000,"XXXXXXXXXX","Inter-I","2010-2011","Abdul Kalam Jr Coolege",1000,{"$f":"IF(ISNA(VLOOKUP(H61,Info!$J$2:$K$16,2,FALSE)),\"\",VLOOKUP(H61,Info!$J$2:$K$16,2,FALSE))","v":"0887"},2000]
["K.V.RAVANAMMA ( 0807541 )","0807541","K.V.RAVANAMMA","SA (English)","15280-40510","MPUPS, Dasaripalli",21860,"State Bank Of India (SBI), Nellore",10555653,"K.V.Sai Sujith","VIII","2010-2011","Rathnam High School, Nelore",1000,"XXXXXXXXXX","Inter-I","2010-2011","Abdul Kalam Jr Coolege",1000,{"$f":"IF(ISNA(VLOOKUP(H62,Info!$J$2:$K$16,2,FALSE)),\"\",VLOOKUP(H62,Info!$J$2:$K$16,2,FALSE))","v":"0887"},2000]
["K.V.RAVANAMMA ( 0807541 )","0807541","K.V.RAVANAMMA","SA (English)","15280-40510","MPUPS, Dasaripalli",21860,"State Bank Of India (SBI), Nellore",10555653,"K.V.Sai Sujith","VIII","2010-2011","Rathnam High School, Nelore",1000,"XXXXXXXXXX","Inter-I","2010-2011","Abdul Kalam Jr Coolege",1000,{"$f":"IF(ISNA(VLOOKUP(H63,Info!$J$2:$K$16,2,FALSE)),\"\",VLOOKUP(H63,Info!$J$2:$K$16,2,FALSE))","v":"0887"},2000]
["K.V.RAVANAMMA ( 0807541 )","0807541","K.V.RAVANAMMA","SA (English)","15280-40510","MPUPS, Dasaripalli",21860,"State Bank Of India (SBI), Nellore",10555653,"K.V.Sai Sujith","VIII","2010-2011","Rathnam High School, Nelore",1000,"XXXXXXXXXX","Inter-I","2010-2011","Abdul Kalam Jr Coolege",1000,{"$f":"IF(ISNA(VLOOKUP(H64,Info!$J$2:$K$16,2,FALSE)),\"\",VLOOKUP(H64,Info!$J$2:$K$16,2,FALSE))","v":"0887"},2000]
["K.V.RAVANAMMA ( 0807541 )","0807541","K.V.RAVANAMMA","SA (English)","15280-40510","MPUPS, Dasaripalli",21860,"State Bank Of India (SBI), Nellore",10555653,"K.V.Sai Sujith","VIII","2010-2011","Rathnam High School, Nelore",1000,"XXXXXXXXXX","Inter-I","2010-2011","Abdul Kalam Jr Coolege",1000,{"$f":"IF(ISNA(VLOOKUP(H65,Info!$J$2:$K$16,2,FALSE)),\"\",VLOOKUP(H65,Info!$J$2:$K$16,2,FALSE))","v":"0887"},2000]
["K.V.RAVANAMMA ( 0807541 )","0807541","K.V.RAVANAMMA","SA (English)","15280-40510","MPUPS, Dasaripalli",21860,"State Bank Of India (SBI), Nellore",10555653,"K.V.Sai Sujith","VIII","2010-2011","Rathnam High School, Nelore",1000,"XXXXXXXXXX","Inter-I","2010-2011","Abdul Kalam Jr Coolege",1000,{"$f":"IF(ISNA(VLOOKUP(H66,Info!$J$2:$K$16,2,FALSE)),\"\",VLOOKUP(H66,Info!$J$2:$K$16,2,FALSE))","v":"0887"},2000]
["K.V.RAVANAMMA ( 0807541 )","0807541","K.V.RAVANAMMA","SA (English)","15280-40510","MPUPS, Dasaripalli",21860,"State Bank Of India (SBI), Nellore",10555653,"K.V.Sai Sujith","VIII","2010-2011","Rathnam High School, Nelore",1000,"XXXXXXXXXX","Inter-I","2010-2011","Abdul Kalam Jr Coolege",1000,{"$f":"IF(ISNA(VLOOKUP(H67,Info!$J$2:$K$16,2,FALSE)),\"\",VLOOKUP(H67,Info!$J$2:$K$16,2,FALSE))","v":"0887"},2000]
["K.V.RAVANAMMA ( 0807541 )","0807541","K.V.RAVANAMMA","SA (English)","15280-40510","MPUPS, Dasaripalli",21860,"State Bank Of India (SBI), Nellore",10555653,"K.V.Sai Sujith","VIII","2010-2011","Rathnam High School, Nelore",1000,"XXXXXXXXXX","Inter-I","2010-2011","Abdul Kalam Jr Coolege",1000,{"$f":"IF(ISNA(VLOOKUP(H68,Info!$J$2:$K$16,2,FALSE)),\"\",VLOOKUP(H68,Info!$J$2:$K$16,2,FALSE))","v":"0887"},2000]
[{"$f":"CONCATENATE(C69,\" ( \",B69,\" )\")","v":"K.V.RAVANAMMA ( 0807541 )"},"0807541","K.V.RAVANAMMA","SA (English)","15280-40510","MPUPS, Dasaripalli",21860,"State Bank Of India (SBI), Nellore",10555653,"K.V.Sai Sujith","VIII","2010-2011","Rathnam High School, Nelore",1000,"XXXXXXXXXX","Inter-I","2010-2011","Abdul Kalam Jr Coolege",1000,{"$f":"IF(ISNA(VLOOKUP(H69,Info!$J$2:$K$16,2,FALSE)),\"\",VLOOKUP(H69,Info!$J$2:$K$16,2,FALSE))","v":"0887"},{"$f":"SUM(N69,S69)","v":2000}]
["K.V.RAVANAMMA ( 0807541 )","0807541","K.V.RAVANAMMA","SA (English)","15280-40510","MPUPS, Dasaripalli",21860,"State Bank Of India (SBI), Nellore",10555653,"K.V.Sai Sujith","VIII","2010-2011","Rathnam High School, Nelore",1000,"XXXXXXXXXX","Inter-I","2010-2011","Abdul Kalam Jr Coolege",1000,{"$f":"IF(ISNA(VLOOKUP(H70,Info!$J$2:$K$16,2,FALSE)),\"\",VLOOKUP(H70,Info!$J$2:$K$16,2,FALSE))","v":"0887"},2000]
["K.V.RAVANAMMA ( 0807541 )","0807541","K.V.RAVANAMMA","SA (English)","15280-40510","MPUPS, Dasaripalli",21860,"State Bank Of India (SBI), Nellore",10555653,"K.V.Sai Sujith","VIII","2010-2011","Rathnam High School, Nelore",1000,"XXXXXXXXXX","Inter-I","2010-2011","Abdul Kalam Jr Coolege",1000,{"$f":"IF(ISNA(VLOOKUP(H71,Info!$J$2:$K$16,2,FALSE)),\"\",VLOOKUP(H71,Info!$J$2:$K$16,2,FALSE))","v":"0887"},2000]
["K.V.RAVANAMMA ( 0807541 )","0807541","K.V.RAVANAMMA","SA (English)","15280-40510","MPUPS, Dasaripalli",21860,"State Bank Of India (SBI), Nellore",10555653,"K.V.Sai Sujith","VIII","2010-2011","Rathnam High School, Nelore",1000,"XXXXXXXXXX","Inter-I","2010-2011","Abdul Kalam Jr Coolege",1000,{"$f":"IF(ISNA(VLOOKUP(H72,Info!$J$2:$K$16,2,FALSE)),\"\",VLOOKUP(H72,Info!$J$2:$K$16,2,FALSE))","v":"0887"},2000]
["K.V.RAVANAMMA ( 0807541 )","0807541","K.V.RAVANAMMA","SA (English)","15280-40510","MPUPS, Dasaripalli",21860,"State Bank Of India (SBI), Nellore",10555653,"K.V.Sai Sujith","VIII","2010-2011","Rathnam High School, Nelore",1000,"XXXXXXXXXX","Inter-I","2010-2011","Abdul Kalam Jr Coolege",1000,{"$f":"IF(ISNA(VLOOKUP(H73,Info!$J$2:$K$16,2,FALSE)),\"\",VLOOKUP(H73,Info!$J$2:$K$16,2,FALSE))","v":"0887"},2000]
["K.V.RAVANAMMA ( 0807541 )","0807541","K.V.RAVANAMMA","SA (English)","15280-40510","MPUPS, Dasaripalli",21860,"State Bank Of India (SBI), Nellore",10555653,"K.V.Sai Sujith","VIII","2010-2011","Rathnam High School, Nelore",1000,"XXXXXXXXXX","Inter-I","2010-2011","Abdul Kalam Jr Coolege",1000,{"$f":"IF(ISNA(VLOOKUP(H74,Info!$J$2:$K$16,2,FALSE)),\"\",VLOOKUP(H74,Info!$J$2:$K$16,2,FALSE))","v":"0887"},2000]
["K.V.RAVANAMMA ( 0807541 )","0807541","K.V.RAVANAMMA","SA (English)","15280-40510","MPUPS, Dasaripalli",21860,"State Bank Of India (SBI), Nellore",10555653,"K.V.Sai Sujith","VIII","2010-2011","Rathnam High School, Nelore",1000,"XXXXXXXXXX","Inter-I","2010-2011","Abdul Kalam Jr Coolege",1000,{"$f":"IF(ISNA(VLOOKUP(H75,Info!$J$2:$K$16,2,FALSE)),\"\",VLOOKUP(H75,Info!$J$2:$K$16,2,FALSE))","v":"0887"},2000]
["K.V.RAVANAMMA ( 0807541 )","0807541","K.V.RAVANAMMA","SA (English)","15280-40510","MPUPS, Dasaripalli",21860,"State Bank Of India (SBI), Nellore",10555653,"K.V.Sai Sujith","VIII","2010-2011","Rathnam High School, Nelore",1000,"XXXXXXXXXX","Inter-I","2010-2011","Abdul Kalam Jr Coolege",1000,{"$f":"IF(ISNA(VLOOKUP(H76,Info!$J$2:$K$16,2,FALSE)),\"\",VLOOKUP(H76,Info!$J$2:$K$16,2,FALSE))","v":"0887"},2000]
["K.V.RAVANAMMA ( 0807541 )","0807541","K.V.RAVANAMMA","SA (English)","15280-40510","MPUPS, Dasaripalli",21860,"State Bank Of India (SBI), Nellore",10555653,"K.V.Sai Sujith","VIII","2010-2011","Rathnam High School, Nelore",1000,"XXXXXXXXXX","Inter-I","2010-2011","Abdul Kalam Jr Coolege",1000,{"$f":"IF(ISNA(VLOOKUP(H77,Info!$J$2:$K$16,2,FALSE)),\"\",VLOOKUP(H77,Info!$J$2:$K$16,2,FALSE))","v":"0887"},2000]
["K.V.RAVANAMMA ( 0807541 )","0807541","K.V.RAVANAMMA","SA (English)","15280-40510","MPUPS, Dasaripalli",21860,"State Bank Of India (SBI), Nellore",10555653,"K.V.Sai Sujith","VIII","2010-2011","Rathnam High School, Nelore",1000,"XXXXXXXXXX","Inter-I","2010-2011","Abdul Kalam Jr Coolege",1000,{"$f":"IF(ISNA(VLOOKUP(H78,Info!$J$2:$K$16,2,FALSE)),\"\",VLOOKUP(H78,Info!$J$2:$K$16,2,FALSE))","v":"0887"},2000]
["K.V.RAVANAMMA ( 0807541 )","0807541","K.V.RAVANAMMA","SA (English)","15280-40510","MPUPS, Dasaripalli",21860,"State Bank Of India (SBI), Nellore",10555653,"K.V.Sai Sujith","VIII","2010-2011","Rathnam High School, Nelore",1000,"XXXXXXXXXX","Inter-I","2010-2011","Abdul Kalam Jr Coolege",1000,{"$f":"IF(ISNA(VLOOKUP(H79,Info!$J$2:$K$16,2,FALSE)),\"\",VLOOKUP(H79,Info!$J$2:$K$16,2,FALSE))","v":"0887"},2000]
["K.V.RAVANAMMA ( 0807541 )","0807541","K.V.RAVANAMMA","SA (English)","15280-40510","MPUPS, Dasaripalli",21860,"State Bank Of India (SBI), Nellore",10555653,"K.V.Sai Sujith","VIII","2010-2011","Rathnam High School, Nelore",1000,"XXXXXXXXXX","Inter-I","2010-2011","Abdul Kalam Jr Coolege",1000,{"$f":"IF(ISNA(VLOOKUP(H80,Info!$J$2:$K$16,2,FALSE)),\"\",VLOOKUP(H80,Info!$J$2:$K$16,2,FALSE))","v":"0887"},2000]
["K.V.RAVANAMMA ( 0807541 )","0807541","K.V.RAVANAMMA","SA (English)","15280-40510","MPUPS, Dasaripalli",21860,"State Bank Of India (SBI), Nellore",10555653,"K.V.Sai Sujith","VIII","2010-2011","Rathnam High School, Nelore",1000,"XXXXXXXXXX","Inter-I","2010-2011","Abdul Kalam Jr Coolege",1000,{"$f":"IF(ISNA(VLOOKUP(H81,Info!$J$2:$K$16,2,FALSE)),\"\",VLOOKUP(H81,Info!$J$2:$K$16,2,FALSE))","v":"0887"},2000]
["K.V.RAVANAMMA ( 0807541 )","0807541","K.V.RAVANAMMA","SA (English)","15280-40510","MPUPS, Dasaripalli",21860,"State Bank Of India (SBI), Nellore",10555653,"K.V.Sai Sujith","VIII","2010-2011","Rathnam High School, Nelore",1000,"XXXXXXXXXX","Inter-I","2010-2011","Abdul Kalam Jr Coolege",1000,{"$f":"IF(ISNA(VLOOKUP(H82,Info!$J$2:$K$16,2,FALSE)),\"\",VLOOKUP(H82,Info!$J$2:$K$16,2,FALSE))","v":"0887"},2000]
["K.V.RAVANAMMA ( 0807541 )","0807541","K.V.RAVANAMMA","SA (English)","15280-40510","MPUPS, Dasaripalli",21860,"State Bank Of India (SBI), Nellore",10555653,"K.V.Sai Sujith","VIII","2010-2011","Rathnam High School, Nelore",1000,"XXXXXXXXXX","Inter-I","2010-2011","Abdul Kalam Jr Coolege",1000,{"$f":"IF(ISNA(VLOOKUP(H83,Info!$J$2:$K$16,2,FALSE)),\"\",VLOOKUP(H83,Info!$J$2:$K$16,2,FALSE))","v":"0887"},2000]
["K.V.RAVANAMMA ( 0807541 )","0807541","K.V.RAVANAMMA","SA (English)","15280-40510","MPUPS, Dasaripalli",21860,"State Bank Of India (SBI), Nellore",10555653,"K.V.Sai Sujith","VIII","2010-2011","Rathnam High School, Nelore",1000,"XXXXXXXXXX","Inter-I","2010-2011","Abdul Kalam Jr Coolege",1000,{"$f":"IF(ISNA(VLOOKUP(H84,Info!$J$2:$K$16,2,FALSE)),\"\",VLOOKUP(H84,Info!$J$2:$K$16,2,FALSE))","v":"0887"},2000]
["K.V.RAVANAMMA ( 0807541 )","0807541","K.V.RAVANAMMA","SA (English)","15280-40510","MPUPS, Dasaripalli",21860,"State Bank Of India (SBI), Nellore",10555653,"K.V.Sai Sujith","VIII","2010-2011","Rathnam High School, Nelore",1000,"XXXXXXXXXX","Inter-I","2010-2011","Abdul Kalam Jr Coolege",1000,{"$f":"IF(ISNA(VLOOKUP(H85,Info!$J$2:$K$16,2,FALSE)),\"\",VLOOKUP(H85,Info!$J$2:$K$16,2,FALSE))","v":"0887"},2000]
["K.V.RAVANAMMA ( 0807541 )","0807541","K.V.RAVANAMMA","SA (English)","15280-40510","MPUPS, Dasaripalli",21860,"State Bank Of India (SBI), Nellore",10555653,"K.V.Sai Sujith","VIII","2010-2011","Rathnam High School, Nelore",1000,"XXXXXXXXXX","Inter-I","2010-2011","Abdul Kalam Jr Coolege",1000,{"$f":"IF(ISNA(VLOOKUP(H86,Info!$J$2:$K$16,2,FALSE)),\"\",VLOOKUP(H86,Info!$J$2:$K$16,2,FALSE))","v":"0887"},2000]
["K.V.RAVANAMMA ( 0807541 )","0807541","K.V.RAVANAMMA","SA (English)","15280-40510","MPUPS, Dasaripalli",21860,"State Bank Of India (SBI), Nellore",10555653,"K.V.Sai Sujith","VIII","2010-2011","Rathnam High School, Nelore",1000,"XXXXXXXXXX","Inter-I","2010-2011","Abdul Kalam Jr Coolege",1000,{"$f":"IF(ISNA(VLOOKUP(H87,Info!$J$2:$K$16,2,FALSE)),\"\",VLOOKUP(H87,Info!$J$2:$K$16,2,FALSE))","v":"0887"},2000]
["K.V.RAVANAMMA ( 0807541 )","0807541","K.V.RAVANAMMA","SA (English)","15280-40510","MPUPS, Dasaripalli",21860,"State Bank Of India (SBI), Nellore",10555653,"K.V.Sai Sujith","VIII","2010-2011","Rathnam High School, Nelore",1000,"XXXXXXXXXX","Inter-I","2010-2011","Abdul Kalam Jr Coolege",1000,{"$f":"IF(ISNA(VLOOKUP(H88,Info!$J$2:$K$16,2,FALSE)),\"\",VLOOKUP(H88,Info!$J$2:$K$16,2,FALSE))","v":"0887"},2000]
["K.V.RAVANAMMA ( 0807541 )","0807541","K.V.RAVANAMMA","SA (English)","15280-40510","MPUPS, Dasaripalli",21860,"State Bank Of India (SBI), Nellore",10555653,"K.V.Sai Sujith","VIII","2010-2011","Rathnam High School, Nelore",1000,"XXXXXXXXXX","Inter-I","2010-2011","Abdul Kalam Jr Coolege",1000,{"$f":"IF(ISNA(VLOOKUP(H89,Info!$J$2:$K$16,2,FALSE)),\"\",VLOOKUP(H89,Info!$J$2:$K$16,2,FALSE))","v":"0887"},2000]
["K.V.RAVANAMMA ( 0807541 )","0807541","K.V.RAVANAMMA","SA (English)","15280-40510","MPUPS, Dasaripalli",21860,"State Bank Of India (SBI), Nellore",10555653,"K.V.Sai Sujith","VIII","2010-2011","Rathnam High School, Nelore",1000,"XXXXXXXXXX","Inter-I","2010-2011","Abdul Kalam Jr Coolege",1000,{"$f":"IF(ISNA(VLOOKUP(H90,Info!$J$2:$K$16,2,FALSE)),\"\",VLOOKUP(H90,Info!$J$2:$K$16,2,FALSE))","v":"0887"},2000]
["K.V.RAVANAMMA ( 0807541 )","0807541","K.V.RAVANAMMA","SA (English)","15280-40510","MPUPS, Dasaripalli",21860,"State Bank Of India (SBI), Nellore",10555653,"K.V.Sai Sujith","VIII","2010-2011","Rathnam High School, Nelore",1000,"XXXXXXXXXX","Inter-I","2010-2011","Abdul Kalam Jr Coolege",1000,{"$f":"IF(ISNA(VLOOKUP(H91,Info!$J$2:$K$16,2,FALSE)),\"\",VLOOKUP(H91,Info!$J$2:$K$16,2,FALSE))","v":"0887"},2000]
["K.V.RAVANAMMA ( 0807541 )","0807541","K.V.RAVANAMMA","SA (English)","15280-40510","MPUPS, Dasaripalli",21860,"State Bank Of India (SBI), Nellore",10555653,"K.V.Sai Sujith","VIII","2010-2011","Rathnam High School, Nelore",1000,"XXXXXXXXXX","Inter-I","2010-2011","Abdul Kalam Jr Coolege",1000,{"$f":"IF(ISNA(VLOOKUP(H92,Info!$J$2:$K$16,2,FALSE)),\"\",VLOOKUP(H92,Info!$J$2:$K$16,2,FALSE))","v":"0887"},2000]
["K.V.RAVANAMMA ( 0807541 )","0807541","K.V.RAVANAMMA","SA (English)","15280-40510","MPUPS, Dasaripalli",21860,"State Bank Of India (SBI), Nellore",10555653,"K.V.Sai Sujith","VIII","2010-2011","Rathnam High School, Nelore",1000,"XXXXXXXXXX","Inter-I","2010-2011","Abdul Kalam Jr Coolege",1000,{"$f":"IF(ISNA(VLOOKUP(H93,Info!$J$2:$K$16,2,FALSE)),\"\",VLOOKUP(H93,Info!$J$2:$K$16,2,FALSE))","v":"0887"},2000]
["K.V.RAVANAMMA ( 0807541 )","0807541","K.V.RAVANAMMA","SA (English)","15280-40510","MPUPS, Dasaripalli",21860,"State Bank Of India (SBI), Nellore",10555653,"K.V.Sai Sujith","VIII","2010-2011","Rathnam High School, Nelore",1000,"XXXXXXXXXX","Inter-I","2010-2011","Abdul Kalam Jr Coolege",1000,{"$f":"IF(ISNA(VLOOKUP(H94,Info!$J$2:$K$16,2,FALSE)),\"\",VLOOKUP(H94,Info!$J$2:$K$16,2,FALSE))","v":"0887"},2000]
["K.V.RAVANAMMA ( 0807541 )","0807541","K.V.RAVANAMMA","SA (English)","15280-40510","MPUPS, Dasaripalli",21860,"State Bank Of India (SBI), Nellore",10555653,"K.V.Sai Sujith","VIII","2010-2011","Rathnam High School, Nelore",1000,"XXXXXXXXXX","Inter-I","2010-2011","Abdul Kalam Jr Coolege",1000,{"$f":"IF(ISNA(VLOOKUP(H95,Info!$J$2:$K$16,2,FALSE)),\"\",VLOOKUP(H95,Info!$J$2:$K$16,2,FALSE))","v":"0887"},2000]
["K.V.RAVANAMMA ( 0807541 )","0807541","K.V.RAVANAMMA","SA (English)","15280-40510","MPUPS, Dasaripalli",21860,"State Bank Of India (SBI), Nellore",10555653,"K.V.Sai Sujith","VIII","2010-2011","Rathnam High School, Nelore",1000,"XXXXXXXXXX","Inter-I","2010-2011","Abdul Kalam Jr Coolege",1000,{"$f":"IF(ISNA(VLOOKUP(H96,Info!$J$2:$K$16,2,FALSE)),\"\",VLOOKUP(H96,Info!$J$2:$K$16,2,FALSE))","v":"0887"},2000]
["K.V.RAVANAMMA ( 0807541 )","0807541","K.V.RAVANAMMA","SA (English)","15280-40510","MPUPS, Dasaripalli",21860,"State Bank Of India (SBI), Nellore",10555653,"K.V.Sai Sujith","VIII","2010-2011","Rathnam High School, Nelore",1000,"XXXXXXXXXX","Inter-I","2010-2011","Abdul Kalam Jr Coolege",1000,{"$f":"IF(ISNA(VLOOKUP(H97,Info!$J$2:$K$16,2,FALSE)),\"\",VLOOKUP(H97,Info!$J$2:$K$16,2,FALSE))","v":"0887"},2000]
["K.V.RAVANAMMA ( 0807541 )","0807541","K.V.RAVANAMMA","SA (English)","15280-40510","MPUPS, Dasaripalli",21860,"State Bank Of India (SBI), Nellore",10555653,"K.V.Sai Sujith","VIII","2010-2011","Rathnam High School, Nelore",1000,"XXXXXXXXXX","Inter-I","2010-2011","Abdul Kalam Jr Coolege",1000,{"$f":"IF(ISNA(VLOOKUP(H98,Info!$J$2:$K$16,2,FALSE)),\"\",VLOOKUP(H98,Info!$J$2:$K$16,2,FALSE))","v":"0887"},2000]
["K.V.RAVANAMMA ( 0807541 )","0807541","K.V.RAVANAMMA","SA (English)","15280-40510","MPUPS, Dasaripalli",21860,"State Bank Of India (SBI), Nellore",10555653,"K.V.Sai Sujith","VIII","2010-2011","Rathnam High School, Nelore",1000,"XXXXXXXXXX","Inter-I","2010-2011","Abdul Kalam Jr Coolege",1000,{"$f":"IF(ISNA(VLOOKUP(H99,Info!$J$2:$K$16,2,FALSE)),\"\",VLOOKUP(H99,Info!$J$2:$K$16,2,FALSE))","v":"0887"},2000]
["K.V.RAVANAMMA ( 0807541 )","0807541","K.V.RAVANAMMA","SA (English)","15280-40510","MPUPS, Dasaripalli",21860,"State Bank Of India (SBI), Nellore",10555653,"K.V.Sai Sujith","VIII","2010-2011","Rathnam High School, Nelore",1000,"XXXXXXXXXX","Inter-I","2010-2011","Abdul Kalam Jr Coolege",1000,{"$f":"IF(ISNA(VLOOKUP(H100,Info!$J$2:$K$16,2,FALSE)),\"\",VLOOKUP(H100,Info!$J$2:$K$16,2,FALSE))","v":"0887"},2000]
["K.V.RAVANAMMA ( 0807541 )","0807541","K.V.RAVANAMMA","SA (English)","15280-40510","MPUPS, Dasaripalli",21860,"State Bank Of India (SBI), Nellore",10555653,"K.V.Sai Sujith","VIII","2010-2011","Rathnam High School, Nelore",1000,"XXXXXXXXXX","Inter-I","2010-2011","Abdul Kalam Jr Coolege",1000,{"$f":"IF(ISNA(VLOOKUP(H101,Info!$J$2:$K$16,2,FALSE)),\"\",VLOOKUP(H101,Info!$J$2:$K$16,2,FALSE))","v":"0887"},2000]
["K.V.RAVANAMMA ( 0807541 )","0807541","K.V.RAVANAMMA","SA (English)","15280-40510","MPUPS, Dasaripalli",21860,"State Bank Of India (SBI), Nellore",10555653,"K.V.Sai Sujith","VIII","2010-2011","Rathnam High School, Nelore",1000,"XXXXXXXXXX","Inter-I","2010-2011","Abdul Kalam Jr Coolege",1000,{"$f":"IF(ISNA(VLOOKUP(H102,Info!$J$2:$K$16,2,FALSE)),\"\",VLOOKUP(H102,Info!$J$2:$K$16,2,FALSE))","v":"0887"},2000]
["K.V.RAVANAMMA ( 0807541 )","0807541","K.V.RAVANAMMA","SA (English)","15280-40510","MPUPS, Dasaripalli",21860,"State Bank Of India (SBI), Nellore",10555653,"K.V.Sai Sujith","VIII","2010-2011","Rathnam High School, Nelore",1000,"XXXXXXXXXX","Inter-I","2010-2011","Abdul Kalam Jr Coolege",1000,{"$f":"IF(ISNA(VLOOKUP(H103,Info!$J$2:$K$16,2,FALSE)),\"\",VLOOKUP(H103,Info!$J$2:$K$16,2,FALSE))","v":"0887"},2000]
["K.V.RAVANAMMA ( 0807541 )","0807541","K.V.RAVANAMMA","SA (English)","15280-40510","MPUPS, Dasaripalli",21860,"State Bank Of India (SBI), Nellore",10555653,"K.V.Sai Sujith","VIII","2010-2011","Rathnam High School, Nelore",1000,"XXXXXXXXXX","Inter-I","2010-2011","Abdul Kalam Jr Coolege",1000,{"$f":"IF(ISNA(VLOOKUP(H104,Info!$J$2:$K$16,2,FALSE)),\"\",VLOOKUP(H104,Info!$J$2:$K$16,2,FALSE))","v":"0887"},2000]
["K.V.RAVANAMMA ( 0807541 )","0807541","K.V.RAVANAMMA","SA (English)","15280-40510","MPUPS, Dasaripalli",21860,"State Bank Of India (SBI), Nellore",10555653,"K.V.Sai Sujith","VIII","2010-2011","Rathnam High School, Nelore",1000,"XXXXXXXXXX","Inter-I","2010-2011","Abdul Kalam Jr Coolege",1000,{"$f":"IF(ISNA(VLOOKUP(H105,Info!$J$2:$K$16,2,FALSE)),\"\",VLOOKUP(H105,Info!$J$2:$K$16,2,FALSE))","v":"0887"},2000]
["K.V.RAVANAMMA ( 0807541 )","0807541","K.V.RAVANAMMA","SA (English)","15280-40510","MPUPS, Dasaripalli",21860,"State Bank Of India (SBI), Nellore",10555653,"K.V.Sai Sujith","VIII","2010-2011","Rathnam High School, Nelore",1000,"XXXXXXXXXX","Inter-I","2010-2011","Abdul Kalam Jr Coolege",1000,{"$f":"IF(ISNA(VLOOKUP(H106,Info!$J$2:$K$16,2,FALSE)),\"\",VLOOKUP(H106,Info!$J$2:$K$16,2,FALSE))","v":"0887"},2000]
["K.V.RAVANAMMA ( 0807541 )","0807541","K.V.RAVANAMMA","SA (English)","15280-40510","MPUPS, Dasaripalli",21860,"State Bank Of India (SBI), Nellore",10555653,"K.V.Sai Sujith","VIII","2010-2011","Rathnam High School, Nelore",1000,"XXXXXXXXXX","Inter-I","2010-2011","Abdul Kalam Jr Coolege",1000,{"$f":"IF(ISNA(VLOOKUP(H107,Info!$J$2:$K$16,2,FALSE)),\"\",VLOOKUP(H107,Info!$J$2:$K$16,2,FALSE))","v":"0887"},2000]
["K.V.RAVANAMMA ( 0807541 )","0807541","K.V.RAVANAMMA","SA (English)","15280-40510","MPUPS, Dasaripalli",21860,"State Bank Of India (SBI), Nellore",10555653,"K.V.Sai Sujith","VIII","2010-2011","Rathnam High School, Nelore",1000,"XXXXXXXXXX","Inter-I","2010-2011","Abdul Kalam Jr Coolege",1000,{"$f":"IF(ISNA(VLOOKUP(H108,Info!$J$2:$K$16,2,FALSE)),\"\",VLOOKUP(H108,Info!$J$2:$K$16,2,FALSE))","v":"0887"},2000]
["K.V.RAVANAMMA ( 0807541 )","0807541","K.V.RAVANAMMA","SA (English)","15280-40510","MPUPS, Dasaripalli",21860,"State Bank Of India (SBI), Nellore",10555653,"K.V.Sai Sujith","VIII","2010-2011","Rathnam High School, Nelore",1000,"XXXXXXXXXX","Inter-I","2010-2011","Abdul Kalam Jr Coolege",1000,{"$f":"IF(ISNA(VLOOKUP(H109,Info!$J$2:$K$16,2,FALSE)),\"\",VLOOKUP(H109,Info!$J$2:$K$16,2,FALSE))","v":"0887"},2000]
["K.V.RAVANAMMA ( 0807541 )","0807541","K.V.RAVANAMMA","SA (English)","15280-40510","MPUPS, Dasaripalli",21860,"State Bank Of India (SBI), Nellore",10555653,"K.V.Sai Sujith","VIII","2010-2011","Rathnam High School, Nelore",1000,"XXXXXXXXXX","Inter-I","2010-2011","Abdul Kalam Jr Coolege",1000,{"$f":"IF(ISNA(VLOOKUP(H110,Info!$J$2:$K$16,2,FALSE)),\"\",VLOOKUP(H110,Info!$J$2:$K$16,2,FALSE))","v":"0887"},2000]
["K.V.RAVANAMMA ( 0807541 )","0807541","K.V.RAVANAMMA","SA (English)","15280-40510","MPUPS, Dasaripalli",21860,"State Bank Of India (SBI), Nellore",10555653,"K.V.Sai Sujith","VIII","2010-2011","Rathnam High School, Nelore",1000,"XXXXXXXXXX","Inter-I","2010-2011","Abdul Kalam Jr Coolege",1000,{"$f":"IF(ISNA(VLOOKUP(H111,Info!$J$2:$K$16,2,FALSE)),\"\",VLOOKUP(H111,Info!$J$2:$K$16,2,FALSE))","v":"0887"},2000]
["K.V.RAVANAMMA ( 0807541 )","0807541","K.V.RAVANAMMA","SA (English)","15280-40510","MPUPS, Dasaripalli",21860,"State Bank Of India (SBI), Nellore",10555653,"K.V.Sai Sujith","VIII","2010-2011","Rathnam High School, Nelore",1000,"XXXXXXXXXX","Inter-I","2010-2011","Abdul Kalam Jr Coolege",1000,{"$f":"IF(ISNA(VLOOKUP(H112,Info!$J$2:$K$16,2,FALSE)),\"\",VLOOKUP(H112,Info!$J$2:$K$16,2,FALSE))","v":"0887"},2000]
["K.V.RAVANAMMA ( 0807541 )","0807541","K.V.RAVANAMMA","SA (English)","15280-40510","MPUPS, Dasaripalli",21860,"State Bank Of India (SBI), Nellore",10555653,"K.V.Sai Sujith","VIII","2010-2011","Rathnam High School, Nelore",1000,"XXXXXXXXXX","Inter-I","2010-2011","Abdul Kalam Jr Coolege",1000,{"$f":"IF(ISNA(VLOOKUP(H113,Info!$J$2:$K$16,2,FALSE)),\"\",VLOOKUP(H113,Info!$J$2:$K$16,2,FALSE))","v":"0887"},2000]
["K.V.RAVANAMMA ( 0807541 )","0807541","K.V.RAVANAMMA","SA (English)","15280-40510","MPUPS, Dasaripalli",21860,"State Bank Of India (SBI), Nellore",10555653,"K.V.Sai Sujith","VIII","2010-2011","Rathnam High School, Nelore",1000,"XXXXXXXXXX","Inter-I","2010-2011","Abdul Kalam Jr Coolege",1000,{"$f":"IF(ISNA(VLOOKUP(H114,Info!$J$2:$K$16,2,FALSE)),\"\",VLOOKUP(H114,Info!$J$2:$K$16,2,FALSE))","v":"0887"},2000]
["K.V.RAVANAMMA ( 0807541 )","0807541","K.V.RAVANAMMA","SA (English)","15280-40510","MPUPS, Dasaripalli",21860,"State Bank Of India (SBI), Nellore",10555653,"K.V.Sai Sujith","VIII","2010-2011","Rathnam High School, Nelore",1000,"XXXXXXXXXX","Inter-I","2010-2011","Abdul Kalam Jr Coolege",1000,{"$f":"IF(ISNA(VLOOKUP(H115,Info!$J$2:$K$16,2,FALSE)),\"\",VLOOKUP(H115,Info!$J$2:$K$16,2,FALSE))","v":"0887"},2000]
["K.V.RAVANAMMA ( 0807541 )","0807541","K.V.RAVANAMMA","SA (English)","15280-40510","MPUPS, Dasaripalli",21860,"State Bank Of India (SBI), Nellore",10555653,"K.V.Sai Sujith","VIII","2010-2011","Rathnam High School, Nelore",1000,"XXXXXXXXXX","Inter-I","2010-2011","Abdul Kalam Jr Coolege",1000,{"$f":"IF(ISNA(VLOOKUP(H116,Info!$J$2:$K$16,2,FALSE)),\"\",VLOOKUP(H116,Info!$J$2:$K$16,2,FALSE))","v":"0887"},2000]
["K.V.RAVANAMMA ( 0807541 )","0807541","K.V.RAVANAMMA","SA (English)","15280-40510","MPUPS, Dasaripalli",21860,"State Bank Of India (SBI), Nellore",10555653,"K.V.Sai Sujith","VIII","2010-2011","Rathnam High School, Nelore",1000,"XXXXXXXXXX","Inter-I","2010-2011","Abdul Kalam Jr Coolege",1000,{"$f":"IF(ISNA(VLOOKUP(H117,Info!$J$2:$K$16,2,FALSE)),\"\",VLOOKUP(H117,Info!$J$2:$K$16,2,FALSE))","v":"0887"},2000]
["K.V.RAVANAMMA ( 0807541 )","0807541","K.V.RAVANAMMA","SA (English)","15280-40510","MPUPS, Dasaripalli",21860,"State Bank Of India (SBI), Nellore",10555653,"K.V.Sai Sujith","VIII","2010-2011","Rathnam High School, Nelore",1000,"XXXXXXXXXX","Inter-I","2010-2011","Abdul Kalam Jr Coolege",1000,{"$f":"IF(ISNA(VLOOKUP(H118,Info!$J$2:$K$16,2,FALSE)),\"\",VLOOKUP(H118,Info!$J$2:$K$16,2,FALSE))","v":"0887"},2000]
["K.V.RAVANAMMA ( 0807541 )","0807541","K.V.RAVANAMMA","SA (English)","15280-40510","MPUPS, Dasaripalli",21860,"State Bank Of India (SBI), Nellore",10555653,"K.V.Sai Sujith","VIII","2010-2011","Rathnam High School, Nelore",1000,"XXXXXXXXXX","Inter-I","2010-2011","Abdul Kalam Jr Coolege",1000,{"$f":"IF(ISNA(VLOOKUP(H119,Info!$J$2:$K$16,2,FALSE)),\"\",VLOOKUP(H119,Info!$J$2:$K$16,2,FALSE))","v":"0887"},2000]
["K.V.RAVANAMMA ( 0807541 )","0807541","K.V.RAVANAMMA","SA (English)","15280-40510","MPUPS, Dasaripalli",21860,"State Bank Of India (SBI), Nellore",10555653,"K.V.Sai Sujith","VIII","2010-2011","Rathnam High School, Nelore",1000,"XXXXXXXXXX","Inter-I","2010-2011","Abdul Kalam Jr Coolege",1000,{"$f":"IF(ISNA(VLOOKUP(H120,Info!$J$2:$K$16,2,FALSE)),\"\",VLOOKUP(H120,Info!$J$2:$K$16,2,FALSE))","v":"0887"},2000]
["K.V.RAVANAMMA ( 0807541 )","0807541","K.V.RAVANAMMA","SA (English)","15280-40510","MPUPS, Dasaripalli",21860,"State Bank Of India (SBI), Nellore",10555653,"K.V.Sai Sujith","VIII","2010-2011","Rathnam High School, Nelore",1000,"XXXXXXXXXX","Inter-I","2010-2011","Abdul Kalam Jr Coolege",1000,{"$f":"IF(ISNA(VLOOKUP(H121,Info!$J$2:$K$16,2,FALSE)),\"\",VLOOKUP(H121,Info!$J$2:$K$16,2,FALSE))","v":"0887"},2000]
["K.V.RAVANAMMA ( 0807541 )","0807541","K.V.RAVANAMMA","SA (English)","15280-40510","MPUPS, Dasaripalli",21860,"State Bank Of India (SBI), Nellore",10555653,"K.V.Sai Sujith","VIII","2010-2011","Rathnam High School, Nelore",1000,"XXXXXXXXXX","Inter-I","2010-2011","Abdul Kalam Jr Coolege",1000,{"$f":"IF(ISNA(VLOOKUP(H122,Info!$J$2:$K$16,2,FALSE)),\"\",VLOOKUP(H122,Info!$J$2:$K$16,2,FALSE))","v":"0887"},2000]
["K.V.RAVANAMMA ( 0807541 )","0807541","K.V.RAVANAMMA","SA (English)","15280-40510","MPUPS, Dasaripalli",21860,"State Bank Of India (SBI), Nellore",10555653,"K.V.Sai Sujith","VIII","2010-2011","Rathnam High School, Nelore",1000,"XXXXXXXXXX","Inter-I","2010-2011","Abdul Kalam Jr Coolege",1000,{"$f":"IF(ISNA(VLOOKUP(H123,Info!$J$2:$K$16,2,FALSE)),\"\",VLOOKUP(H123,Info!$J$2:$K$16,2,FALSE))","v":"0887"},2000]
["K.V.RAVANAMMA ( 0807541 )","0807541","K.V.RAVANAMMA","SA (English)","15280-40510","MPUPS, Dasaripalli",21860,"State Bank Of India (SBI), Nellore",10555653,"K.V.Sai Sujith","VIII","2010-2011","Rathnam High School, Nelore",1000,"XXXXXXXXXX","Inter-I","2010-2011","Abdul Kalam Jr Coolege",1000,{"$f":"IF(ISNA(VLOOKUP(H124,Info!$J$2:$K$16,2,FALSE)),\"\",VLOOKUP(H124,Info!$J$2:$K$16,2,FALSE))","v":"0887"},2000]
["K.V.RAVANAMMA ( 0807541 )","0807541","K.V.RAVANAMMA","SA (English)","15280-40510","MPUPS, Dasaripalli",21860,"State Bank Of India (SBI), Nellore",10555653,"K.V.Sai Sujith","VIII","2010-2011","Rathnam High School, Nelore",1000,"XXXXXXXXXX","Inter-I","2010-2011","Abdul Kalam Jr Coolege",1000,{"$f":"IF(ISNA(VLOOKUP(H125,Info!$J$2:$K$16,2,FALSE)),\"\",VLOOKUP(H125,Info!$J$2:$K$16,2,FALSE))","v":"0887"},2000]
["K.V.RAVANAMMA ( 0807541 )","0807541","K.V.RAVANAMMA","SA (English)","15280-40510","MPUPS, Dasaripalli",21860,"State Bank Of India (SBI), Nellore",10555653,"K.V.Sai Sujith","VIII","2010-2011","Rathnam High School, Nelore",1000,"XXXXXXXXXX","Inter-I","2010-2011","Abdul Kalam Jr Coolege",1000,{"$f":"IF(ISNA(VLOOKUP(H126,Info!$J$2:$K$16,2,FALSE)),\"\",VLOOKUP(H126,Info!$J$2:$K$16,2,FALSE))","v":"0887"},2000]
["K.V.RAVANAMMA ( 0807541 )","0807541","K.V.RAVANAMMA","SA (English)","15280-40510","MPUPS, Dasaripalli",21860,"State Bank Of India (SBI), Nellore",10555653,"K.V.Sai Sujith","VIII","2010-2011","Rathnam High School, Nelore",1000,"XXXXXXXXXX","Inter-I","2010-2011","Abdul Kalam Jr Coolege",1000,{"$f":"IF(ISNA(VLOOKUP(H127,Info!$J$2:$K$16,2,FALSE)),\"\",VLOOKUP(H127,Info!$J$2:$K$16,2,FALSE))","v":"0887"},2000]
["K.V.RAVANAMMA ( 0807541 )","0807541","K.V.RAVANAMMA","SA (English)","15280-40510","MPUPS, Dasaripalli",21860,"State Bank Of India (SBI), Nellore",10555653,"K.V.Sai Sujith","VIII","2010-2011","Rathnam High School, Nelore",1000,"XXXXXXXXXX","Inter-I","2010-2011","Abdul Kalam Jr Coolege",1000,{"$f":"IF(ISNA(VLOOKUP(H128,Info!$J$2:$K$16,2,FALSE)),\"\",VLOOKUP(H128,Info!$J$2:$K$16,2,FALSE))","v":"0887"},2000]
["K.V.RAVANAMMA ( 0807541 )","0807541","K.V.RAVANAMMA","SA (English)","15280-40510","MPUPS, Dasaripalli",21860,"State Bank Of India (SBI), Nellore",10555653,"K.V.Sai Sujith","VIII","2010-2011","Rathnam High School, Nelore",1000,"XXXXXXXXXX","Inter-I","2010-2011","Abdul Kalam Jr Coolege",1000,{"$f":"IF(ISNA(VLOOKUP(H129,Info!$J$2:$K$16,2,FALSE)),\"\",VLOOKUP(H129,Info!$J$2:$K$16,2,FALSE))","v":"0887"},2000]
["K.V.RAVANAMMA ( 0807541 )","0807541","K.V.RAVANAMMA","SA (English)","15280-40510","MPUPS, Dasaripalli",21860,"State Bank Of India (SBI), Nellore",10555653,"K.V.Sai Sujith","VIII","2010-2011","Rathnam High School, Nelore",1000,"XXXXXXXXXX","Inter-I","2010-2011","Abdul Kalam Jr Coolege",1000,{"$f":"IF(ISNA(VLOOKUP(H130,Info!$J$2:$K$16,2,FALSE)),\"\",VLOOKUP(H130,Info!$J$2:$K$16,2,FALSE))","v":"0887"},2000]
["K.V.RAVANAMMA ( 0807541 )","0807541","K.V.RAVANAMMA","SA (English)","15280-40510","MPUPS, Dasaripalli",21860,"State Bank Of India (SBI), Nellore",10555653,"K.V.Sai Sujith","VIII","2010-2011","Rathnam High School, Nelore",1000,"XXXXXXXXXX","Inter-I","2010-2011","Abdul Kalam Jr Coolege",1000,{"$f":"IF(ISNA(VLOOKUP(H131,Info!$J$2:$K$16,2,FALSE)),\"\",VLOOKUP(H131,Info!$J$2:$K$16,2,FALSE))","v":"0887"},2000]
["K.V.RAVANAMMA ( 0807541 )","0807541","K.V.RAVANAMMA","SA (English)","15280-40510","MPUPS, Dasaripalli",21860,"State Bank Of India (SBI), Nellore",10555653,"K.V.Sai Sujith","VIII","2010-2011","Rathnam High School, Nelore",1000,"XXXXXXXXXX","Inter-I","2010-2011","Abdul Kalam Jr Coolege",1000,{"$f":"IF(ISNA(VLOOKUP(H132,Info!$J$2:$K$16,2,FALSE)),\"\",VLOOKUP(H132,Info!$J$2:$K$16,2,FALSE))","v":"0887"},2000]
[{"$f":"CONCATENATE(C133,\" ( \",B133,\" )\")","v":"K.V.RAVANAMMA ( 0807541 )"},"0807541","K.V.RAVANAMMA","SA (English)","15280-40510","MPUPS, Dasaripalli",21860,"State Bank Of India (SBI), Nellore",10555653,"K.V.Sai Sujith","VIII","2010-2011","Rathnam High School, Nelore",1000,"XXXXXXXXXX","Inter-I","2010-2011","Abdul Kalam Jr Coolege",1000,{"$f":"IF(ISNA(VLOOKUP(H133,Info!$J$2:$K$16,2,FALSE)),\"\",VLOOKUP(H133,Info!$J$2:$K$16,2,FALSE))","v":"0887"},{"$f":"SUM(N133,S133)","v":2000}]
["K.V.RAVANAMMA ( 0807541 )","0807541","K.V.RAVANAMMA","SA (English)","15280-40510","MPUPS, Dasaripalli",21860,"State Bank Of India (SBI), Nellore",10555653,"K.V.Sai Sujith","VIII","2010-2011","Rathnam High School, Nelore",1000,"XXXXXXXXXX","Inter-I","2010-2011","Abdul Kalam Jr Coolege",1000,{"$f":"IF(ISNA(VLOOKUP(H134,Info!$J$2:$K$16,2,FALSE)),\"\",VLOOKUP(H134,Info!$J$2:$K$16,2,FALSE))","v":"0887"},2000]
["K.V.RAVANAMMA ( 0807541 )","0807541","K.V.RAVANAMMA","SA (English)","15280-40510","MPUPS, Dasaripalli",21860,"State Bank Of India (SBI), Nellore",10555653,"K.V.Sai Sujith","VIII","2010-2011","Rathnam High School, Nelore",1000,"XXXXXXXXXX","Inter-I","2010-2011","Abdul Kalam Jr Coolege",1000,{"$f":"IF(ISNA(VLOOKUP(H135,Info!$J$2:$K$16,2,FALSE)),\"\",VLOOKUP(H135,Info!$J$2:$K$16,2,FALSE))","v":"0887"},2000]
["K.V.RAVANAMMA ( 0807541 )","0807541","K.V.RAVANAMMA","SA (English)","15280-40510","MPUPS, Dasaripalli",21860,"State Bank Of India (SBI), Nellore",10555653,"K.V.Sai Sujith","VIII","2010-2011","Rathnam High School, Nelore",1000,"XXXXXXXXXX","Inter-I","2010-2011","Abdul Kalam Jr Coolege",1000,{"$f":"IF(ISNA(VLOOKUP(H136,Info!$J$2:$K$16,2,FALSE)),\"\",VLOOKUP(H136,Info!$J$2:$K$16,2,FALSE))","v":"0887"},2000]
["K.V.RAVANAMMA ( 0807541 )","0807541","K.V.RAVANAMMA","SA (English)","15280-40510","MPUPS, Dasaripalli",21860,"State Bank Of India (SBI), Nellore",10555653,"K.V.Sai Sujith","VIII","2010-2011","Rathnam High School, Nelore",1000,"XXXXXXXXXX","Inter-I","2010-2011","Abdul Kalam Jr Coolege",1000,{"$f":"IF(ISNA(VLOOKUP(H137,Info!$J$2:$K$16,2,FALSE)),\"\",VLOOKUP(H137,Info!$J$2:$K$16,2,FALSE))","v":"0887"},2000]
["K.V.RAVANAMMA ( 0807541 )","0807541","K.V.RAVANAMMA","SA (English)","15280-40510","MPUPS, Dasaripalli",21860,"State Bank Of India (SBI), Nellore",10555653,"K.V.Sai Sujith","VIII","2010-2011","Rathnam High School, Nelore",1000,"XXXXXXXXXX","Inter-I","2010-2011","Abdul Kalam Jr Coolege",1000,{"$f":"IF(ISNA(VLOOKUP(H138,Info!$J$2:$K$16,2,FALSE)),\"\",VLOOKUP(H138,Info!$J$2:$K$16,2,FALSE))","v":"0887"},2000]
["K.V.RAVANAMMA ( 0807541 )","0807541","K.V.RAVANAMMA","SA (English)","15280-40510","MPUPS, Dasaripalli",21860,"State Bank Of India (SBI), Nellore",10555653,"K.V.Sai Sujith","VIII","2010-2011","Rathnam High School, Nelore",1000,"XXXXXXXXXX","Inter-I","2010-2011","Abdul Kalam Jr Coolege",1000,{"$f":"IF(ISNA(VLOOKUP(H139,Info!$J$2:$K$16,2,FALSE)),\"\",VLOOKUP(H139,Info!$J$2:$K$16,2,FALSE))","v":"0887"},2000]
["K.V.RAVANAMMA ( 0807541 )","0807541","K.V.RAVANAMMA","SA (English)","15280-40510","MPUPS, Dasaripalli",21860,"State Bank Of India (SBI), Nellore",10555653,"K.V.Sai Sujith","VIII","2010-2011","Rathnam High School, Nelore",1000,"XXXXXXXXXX","Inter-I","2010-2011","Abdul Kalam Jr Coolege",1000,{"$f":"IF(ISNA(VLOOKUP(H140,Info!$J$2:$K$16,2,FALSE)),\"\",VLOOKUP(H140,Info!$J$2:$K$16,2,FALSE))","v":"0887"},2000]
["K.V.RAVANAMMA ( 0807541 )","0807541","K.V.RAVANAMMA","SA (English)","15280-40510","MPUPS, Dasaripalli",21860,"State Bank Of India (SBI), Nellore",10555653,"K.V.Sai Sujith","VIII","2010-2011","Rathnam High School, Nelore",1000,"XXXXXXXXXX","Inter-I","2010-2011","Abdul Kalam Jr Coolege",1000,{"$f":"IF(ISNA(VLOOKUP(H141,Info!$J$2:$K$16,2,FALSE)),\"\",VLOOKUP(H141,Info!$J$2:$K$16,2,FALSE))","v":"0887"},2000]
["K.V.RAVANAMMA ( 0807541 )","0807541","K.V.RAVANAMMA","SA (English)","15280-40510","MPUPS, Dasaripalli",21860,"State Bank Of India (SBI), Nellore",10555653,"K.V.Sai Sujith","VIII","2010-2011","Rathnam High School, Nelore",1000,"XXXXXXXXXX","Inter-I","2010-2011","Abdul Kalam Jr Coolege",1000,{"$f":"IF(ISNA(VLOOKUP(H142,Info!$J$2:$K$16,2,FALSE)),\"\",VLOOKUP(H142,Info!$J$2:$K$16,2,FALSE))","v":"0887"},2000]
["K.V.RAVANAMMA ( 0807541 )","0807541","K.V.RAVANAMMA","SA (English)","15280-40510","MPUPS, Dasaripalli",21860,"State Bank Of India (SBI), Nellore",10555653,"K.V.Sai Sujith","VIII","2010-2011","Rathnam High School, Nelore",1000,"XXXXXXXXXX","Inter-I","2010-2011","Abdul Kalam Jr Coolege",1000,{"$f":"IF(ISNA(VLOOKUP(H143,Info!$J$2:$K$16,2,FALSE)),\"\",VLOOKUP(H143,Info!$J$2:$K$16,2,FALSE))","v":"0887"},2000]
["K.V.RAVANAMMA ( 0807541 )","0807541","K.V.RAVANAMMA","SA (English)","15280-40510","MPUPS, Dasaripalli",21860,"State Bank Of India (SBI), Nellore",10555653,"K.V.Sai Sujith","VIII","2010-2011","Rathnam High School, Nelore",1000,"XXXXXXXXXX","Inter-I","2010-2011","Abdul Kalam Jr Coolege",1000,{"$f":"IF(ISNA(VLOOKUP(H144,Info!$J$2:$K$16,2,FALSE)),\"\",VLOOKUP(H144,Info!$J$2:$K$16,2,FALSE))","v":"0887"},2000]
["K.V.RAVANAMMA ( 0807541 )","0807541","K.V.RAVANAMMA","SA (English)","15280-40510","MPUPS, Dasaripalli",21860,"State Bank Of India (SBI), Nellore",10555653,"K.V.Sai Sujith","VIII","2010-2011","Rathnam High School, Nelore",1000,"XXXXXXXXXX","Inter-I","2010-2011","Abdul Kalam Jr Coolege",1000,{"$f":"IF(ISNA(VLOOKUP(H145,Info!$J$2:$K$16,2,FALSE)),\"\",VLOOKUP(H145,Info!$J$2:$K$16,2,FALSE))","v":"0887"},2000]
["K.V.RAVANAMMA ( 0807541 )","0807541","K.V.RAVANAMMA","SA (English)","15280-40510","MPUPS, Dasaripalli",21860,"State Bank Of India (SBI), Nellore",10555653,"K.V.Sai Sujith","VIII","2010-2011","Rathnam High School, Nelore",1000,"XXXXXXXXXX","Inter-I","2010-2011","Abdul Kalam Jr Coolege",1000,{"$f":"IF(ISNA(VLOOKUP(H146,Info!$J$2:$K$16,2,FALSE)),\"\",VLOOKUP(H146,Info!$J$2:$K$16,2,FALSE))","v":"0887"},2000]
["K.V.RAVANAMMA ( 0807541 )","0807541","K.V.RAVANAMMA","SA (English)","15280-40510","MPUPS, Dasaripalli",21860,"State Bank Of India (SBI), Nellore",10555653,"K.V.Sai Sujith","VIII","2010-2011","Rathnam High School, Nelore",1000,"XXXXXXXXXX","Inter-I","2010-2011","Abdul Kalam Jr Coolege",1000,{"$f":"IF(ISNA(VLOOKUP(H147,Info!$J$2:$K$16,2,FALSE)),\"\",VLOOKUP(H147,Info!$J$2:$K$16,2,FALSE))","v":"0887"},2000]
["K.V.RAVANAMMA ( 0807541 )","0807541","K.V.RAVANAMMA","SA (English)","15280-40510","MPUPS, Dasaripalli",21860,"State Bank Of India (SBI), Nellore",10555653,"K.V.Sai Sujith","VIII","2010-2011","Rathnam High School, Nelore",1000,"XXXXXXXXXX","Inter-I","2010-2011","Abdul Kalam Jr Coolege",1000,{"$f":"IF(ISNA(VLOOKUP(H148,Info!$J$2:$K$16,2,FALSE)),\"\",VLOOKUP(H148,Info!$J$2:$K$16,2,FALSE))","v":"0887"},2000]
["K.V.RAVANAMMA ( 0807541 )","0807541","K.V.RAVANAMMA","SA (English)","15280-40510","MPUPS, Dasaripalli",21860,"State Bank Of India (SBI), Nellore",10555653,"K.V.Sai Sujith","VIII","2010-2011","Rathnam High School, Nelore",1000,"XXXXXXXXXX","Inter-I","2010-2011","Abdul Kalam Jr Coolege",1000,{"$f":"IF(ISNA(VLOOKUP(H149,Info!$J$2:$K$16,2,FALSE)),\"\",VLOOKUP(H149,Info!$J$2:$K$16,2,FALSE))","v":"0887"},2000]
["K.V.RAVANAMMA ( 0807541 )","0807541","K.V.RAVANAMMA","SA (English)","15280-40510","MPUPS, Dasaripalli",21860,"State Bank Of India (SBI), Nellore",10555653,"K.V.Sai Sujith","VIII","2010-2011","Rathnam High School, Nelore",1000,"XXXXXXXXXX","Inter-I","2010-2011","Abdul Kalam Jr Coolege",1000,{"$f":"IF(ISNA(VLOOKUP(H150,Info!$J$2:$K$16,2,FALSE)),\"\",VLOOKUP(H150,Info!$J$2:$K$16,2,FALSE))","v":"0887"},2000]
["K.V.RAVANAMMA ( 0807541 )","0807541","K.V.RAVANAMMA","SA (English)","15280-40510","MPUPS, Dasaripalli",21860,"State Bank Of India (SBI), Nellore",10555653,"K.V.Sai Sujith","VIII","2010-2011","Rathnam High School, Nelore",1000,"XXXXXXXXXX","Inter-I","2010-2011","Abdul Kalam Jr Coolege",1000,{"$f":"IF(ISNA(VLOOKUP(H151,Info!$J$2:$K$16,2,FALSE)),\"\",VLOOKUP(H151,Info!$J$2:$K$16,2,FALSE))","v":"0887"},2000]
["K.V.RAVANAMMA ( 0807541 )","0807541","K.V.RAVANAMMA","SA (English)","15280-40510","MPUPS, Dasaripalli",21860,"State Bank Of India (SBI), Nellore",10555653,"K.V.Sai Sujith","VIII","2010-2011","Rathnam High School, Nelore",1000,"XXXXXXXXXX","Inter-I","2010-2011","Abdul Kalam Jr Coolege",1000,{"$f":"IF(ISNA(VLOOKUP(H152,Info!$J$2:$K$16,2,FALSE)),\"\",VLOOKUP(H152,Info!$J$2:$K$16,2,FALSE))","v":"0887"},2000]
["K.V.RAVANAMMA ( 0807541 )","0807541","K.V.RAVANAMMA","SA (English)","15280-40510","MPUPS, Dasaripalli",21860,"State Bank Of India (SBI), Nellore",10555653,"K.V.Sai Sujith","VIII","2010-2011","Rathnam High School, Nelore",1000,"XXXXXXXXXX","Inter-I","2010-2011","Abdul Kalam Jr Coolege",1000,{"$f":"IF(ISNA(VLOOKUP(H153,Info!$J$2:$K$16,2,FALSE)),\"\",VLOOKUP(H153,Info!$J$2:$K$16,2,FALSE))","v":"0887"},2000]
["K.V.RAVANAMMA ( 0807541 )","0807541","K.V.RAVANAMMA","SA (English)","15280-40510","MPUPS, Dasaripalli",21860,"State Bank Of India (SBI), Nellore",10555653,"K.V.Sai Sujith","VIII","2010-2011","Rathnam High School, Nelore",1000,"XXXXXXXXXX","Inter-I","2010-2011","Abdul Kalam Jr Coolege",1000,{"$f":"IF(ISNA(VLOOKUP(H154,Info!$J$2:$K$16,2,FALSE)),\"\",VLOOKUP(H154,Info!$J$2:$K$16,2,FALSE))","v":"0887"},2000]
["K.V.RAVANAMMA ( 0807541 )","0807541","K.V.RAVANAMMA","SA (English)","15280-40510","MPUPS, Dasaripalli",21860,"State Bank Of India (SBI), Nellore",10555653,"K.V.Sai Sujith","VIII","2010-2011","Rathnam High School, Nelore",1000,"XXXXXXXXXX","Inter-I","2010-2011","Abdul Kalam Jr Coolege",1000,{"$f":"IF(ISNA(VLOOKUP(H155,Info!$J$2:$K$16,2,FALSE)),\"\",VLOOKUP(H155,Info!$J$2:$K$16,2,FALSE))","v":"0887"},2000]
["K.V.RAVANAMMA ( 0807541 )","0807541","K.V.RAVANAMMA","SA (English)","15280-40510","MPUPS, Dasaripalli",21860,"State Bank Of India (SBI), Nellore",10555653,"K.V.Sai Sujith","VIII","2010-2011","Rathnam High School, Nelore",1000,"XXXXXXXXXX","Inter-I","2010-2011","Abdul Kalam Jr Coolege",1000,{"$f":"IF(ISNA(VLOOKUP(H156,Info!$J$2:$K$16,2,FALSE)),\"\",VLOOKUP(H156,Info!$J$2:$K$16,2,FALSE))","v":"0887"},2000]
["K.V.RAVANAMMA ( 0807541 )","0807541","K.V.RAVANAMMA","SA (English)","15280-40510","MPUPS, Dasaripalli",21860,"State Bank Of India (SBI), Nellore",10555653,"K.V.Sai Sujith","VIII","2010-2011","Rathnam High School, Nelore",1000,"XXXXXXXXXX","Inter-I","2010-2011","Abdul Kalam Jr Coolege",1000,{"$f":"IF(ISNA(VLOOKUP(H157,Info!$J$2:$K$16,2,FALSE)),\"\",VLOOKUP(H157,Info!$J$2:$K$16,2,FALSE))","v":"0887"},2000]
["K.V.RAVANAMMA ( 0807541 )","0807541","K.V.RAVANAMMA","SA (English)","15280-40510","MPUPS, Dasaripalli",21860,"State Bank Of India (SBI), Nellore",10555653,"K.V.Sai Sujith","VIII","2010-2011","Rathnam High School, Nelore",1000,"XXXXXXXXXX","Inter-I","2010-2011","Abdul Kalam Jr Coolege",1000,{"$f":"IF(ISNA(VLOOKUP(H158,Info!$J$2:$K$16,2,FALSE)),\"\",VLOOKUP(H158,Info!$J$2:$K$16,2,FALSE))","v":"0887"},2000]
["K.V.RAVANAMMA ( 0807541 )","0807541","K.V.RAVANAMMA","SA (English)","15280-40510","MPUPS, Dasaripalli",21860,"State Bank Of India (SBI), Nellore",10555653,"K.V.Sai Sujith","VIII","2010-2011","Rathnam High School, Nelore",1000,"XXXXXXXXXX","Inter-I","2010-2011","Abdul Kalam Jr Coolege",1000,{"$f":"IF(ISNA(VLOOKUP(H159,Info!$J$2:$K$16,2,FALSE)),\"\",VLOOKUP(H159,Info!$J$2:$K$16,2,FALSE))","v":"0887"},2000]
["K.V.RAVANAMMA ( 0807541 )","0807541","K.V.RAVANAMMA","SA (English)","15280-40510","MPUPS, Dasaripalli",21860,"State Bank Of India (SBI), Nellore",10555653,"K.V.Sai Sujith","VIII","2010-2011","Rathnam High School, Nelore",1000,"XXXXXXXXXX","Inter-I","2010-2011","Abdul Kalam Jr Coolege",1000,{"$f":"IF(ISNA(VLOOKUP(H160,Info!$J$2:$K$16,2,FALSE)),\"\",VLOOKUP(H160,Info!$J$2:$K$16,2,FALSE))","v":"0887"},2000]
["K.V.RAVANAMMA ( 0807541 )","0807541","K.V.RAVANAMMA","SA (English)","15280-40510","MPUPS, Dasaripalli",21860,"State Bank Of India (SBI), Nellore",10555653,"K.V.Sai Sujith","VIII","2010-2011","Rathnam High School, Nelore",1000,"XXXXXXXXXX","Inter-I","2010-2011","Abdul Kalam Jr Coolege",1000,{"$f":"IF(ISNA(VLOOKUP(H161,Info!$J$2:$K$16,2,FALSE)),\"\",VLOOKUP(H161,Info!$J$2:$K$16,2,FALSE))","v":"0887"},2000]
["K.V.RAVANAMMA ( 0807541 )","0807541","K.V.RAVANAMMA","SA (English)","15280-40510","MPUPS, Dasaripalli",21860,"State Bank Of India (SBI), Nellore",10555653,"K.V.Sai Sujith","VIII","2010-2011","Rathnam High School, Nelore",1000,"XXXXXXXXXX","Inter-I","2010-2011","Abdul Kalam Jr Coolege",1000,{"$f":"IF(ISNA(VLOOKUP(H162,Info!$J$2:$K$16,2,FALSE)),\"\",VLOOKUP(H162,Info!$J$2:$K$16,2,FALSE))","v":"0887"},2000]
["K.V.RAVANAMMA ( 0807541 )","0807541","K.V.RAVANAMMA","SA (English)","15280-40510","MPUPS, Dasaripalli",21860,"State Bank Of India (SBI), Nellore",10555653,"K.V.Sai Sujith","VIII","2010-2011","Rathnam High School, Nelore",1000,"XXXXXXXXXX","Inter-I","2010-2011","Abdul Kalam Jr Coolege",1000,{"$f":"IF(ISNA(VLOOKUP(H163,Info!$J$2:$K$16,2,FALSE)),\"\",VLOOKUP(H163,Info!$J$2:$K$16,2,FALSE))","v":"0887"},2000]
["K.V.RAVANAMMA ( 0807541 )","0807541","K.V.RAVANAMMA","SA (English)","15280-40510","MPUPS, Dasaripalli",21860,"State Bank Of India (SBI), Nellore",10555653,"K.V.Sai Sujith","VIII","2010-2011","Rathnam High School, Nelore",1000,"XXXXXXXXXX","Inter-I","2010-2011","Abdul Kalam Jr Coolege",1000,{"$f":"IF(ISNA(VLOOKUP(H164,Info!$J$2:$K$16,2,FALSE)),\"\",VLOOKUP(H164,Info!$J$2:$K$16,2,FALSE))","v":"0887"},2000]
["K.V.RAVANAMMA ( 0807541 )","0807541","K.V.RAVANAMMA","SA (English)","15280-40510","MPUPS, Dasaripalli",21860,"State Bank Of India (SBI), Nellore",10555653,"K.V.Sai Sujith","VIII","2010-2011","Rathnam High School, Nelore",1000,"XXXXXXXXXX","Inter-I","2010-2011","Abdul Kalam Jr Coolege",1000,{"$f":"IF(ISNA(VLOOKUP(H165,Info!$J$2:$K$16,2,FALSE)),\"\",VLOOKUP(H165,Info!$J$2:$K$16,2,FALSE))","v":"0887"},2000]
["K.V.RAVANAMMA ( 0807541 )","0807541","K.V.RAVANAMMA","SA (English)","15280-40510","MPUPS, Dasaripalli",21860,"State Bank Of India (SBI), Nellore",10555653,"K.V.Sai Sujith","VIII","2010-2011","Rathnam High School, Nelore",1000,"XXXXXXXXXX","Inter-I","2010-2011","Abdul Kalam Jr Coolege",1000,{"$f":"IF(ISNA(VLOOKUP(H166,Info!$J$2:$K$16,2,FALSE)),\"\",VLOOKUP(H166,Info!$J$2:$K$16,2,FALSE))","v":"0887"},2000]
["K.V.RAVANAMMA ( 0807541 )","0807541","K.V.RAVANAMMA","SA (English)","15280-40510","MPUPS, Dasaripalli",21860,"State Bank Of India (SBI), Nellore",10555653,"K.V.Sai Sujith","VIII","2010-2011","Rathnam High School, Nelore",1000,"XXXXXXXXXX","Inter-I","2010-2011","Abdul Kalam Jr Coolege",1000,{"$f":"IF(ISNA(VLOOKUP(H167,Info!$J$2:$K$16,2,FALSE)),\"\",VLOOKUP(H167,Info!$J$2:$K$16,2,FALSE))","v":"0887"},2000]
["K.V.RAVANAMMA ( 0807541 )","0807541","K.V.RAVANAMMA","SA (English)","15280-40510","MPUPS, Dasaripalli",21860,"State Bank Of India (SBI), Nellore",10555653,"K.V.Sai Sujith","VIII","2010-2011","Rathnam High School, Nelore",1000,"XXXXXXXXXX","Inter-I","2010-2011","Abdul Kalam Jr Coolege",1000,{"$f":"IF(ISNA(VLOOKUP(H168,Info!$J$2:$K$16,2,FALSE)),\"\",VLOOKUP(H168,Info!$J$2:$K$16,2,FALSE))","v":"0887"},2000]
["K.V.RAVANAMMA ( 0807541 )","0807541","K.V.RAVANAMMA","SA (English)","15280-40510","MPUPS, Dasaripalli",21860,"State Bank Of India (SBI), Nellore",10555653,"K.V.Sai Sujith","VIII","2010-2011","Rathnam High School, Nelore",1000,"XXXXXXXXXX","Inter-I","2010-2011","Abdul Kalam Jr Coolege",1000,{"$f":"IF(ISNA(VLOOKUP(H169,Info!$J$2:$K$16,2,FALSE)),\"\",VLOOKUP(H169,Info!$J$2:$K$16,2,FALSE))","v":"0887"},2000]
["K.V.RAVANAMMA ( 0807541 )","0807541","K.V.RAVANAMMA","SA (English)","15280-40510","MPUPS, Dasaripalli",21860,"State Bank Of India (SBI), Nellore",10555653,"K.V.Sai Sujith","VIII","2010-2011","Rathnam High School, Nelore",1000,"XXXXXXXXXX","Inter-I","2010-2011","Abdul Kalam Jr Coolege",1000,{"$f":"IF(ISNA(VLOOKUP(H170,Info!$J$2:$K$16,2,FALSE)),\"\",VLOOKUP(H170,Info!$J$2:$K$16,2,FALSE))","v":"0887"},2000]
["K.V.RAVANAMMA ( 0807541 )","0807541","K.V.RAVANAMMA","SA (English)","15280-40510","MPUPS, Dasaripalli",21860,"State Bank Of India (SBI), Nellore",10555653,"K.V.Sai Sujith","VIII","2010-2011","Rathnam High School, Nelore",1000,"XXXXXXXXXX","Inter-I","2010-2011","Abdul Kalam Jr Coolege",1000,{"$f":"IF(ISNA(VLOOKUP(H171,Info!$J$2:$K$16,2,FALSE)),\"\",VLOOKUP(H171,Info!$J$2:$K$16,2,FALSE))","v":"0887"},2000]
["K.V.RAVANAMMA ( 0807541 )","0807541","K.V.RAVANAMMA","SA (English)","15280-40510","MPUPS, Dasaripalli",21860,"State Bank Of India (SBI), Nellore",10555653,"K.V.Sai Sujith","VIII","2010-2011","Rathnam High School, Nelore",1000,"XXXXXXXXXX","Inter-I","2010-2011","Abdul Kalam Jr Coolege",1000,{"$f":"IF(ISNA(VLOOKUP(H172,Info!$J$2:$K$16,2,FALSE)),\"\",VLOOKUP(H172,Info!$J$2:$K$16,2,FALSE))","v":"0887"},2000]
["K.V.RAVANAMMA ( 0807541 )","0807541","K.V.RAVANAMMA","SA (English)","15280-40510","MPUPS, Dasaripalli",21860,"State Bank Of India (SBI), Nellore",10555653,"K.V.Sai Sujith","VIII","2010-2011","Rathnam High School, Nelore",1000,"XXXXXXXXXX","Inter-I","2010-2011","Abdul Kalam Jr Coolege",1000,{"$f":"IF(ISNA(VLOOKUP(H173,Info!$J$2:$K$16,2,FALSE)),\"\",VLOOKUP(H173,Info!$J$2:$K$16,2,FALSE))","v":"0887"},2000]
["K.V.RAVANAMMA ( 0807541 )","0807541","K.V.RAVANAMMA","SA (English)","15280-40510","MPUPS, Dasaripalli",21860,"State Bank Of India (SBI), Nellore",10555653,"K.V.Sai Sujith","VIII","2010-2011","Rathnam High School, Nelore",1000,"XXXXXXXXXX","Inter-I","2010-2011","Abdul Kalam Jr Coolege",1000,{"$f":"IF(ISNA(VLOOKUP(H174,Info!$J$2:$K$16,2,FALSE)),\"\",VLOOKUP(H174,Info!$J$2:$K$16,2,FALSE))","v":"0887"},2000]
["K.V.RAVANAMMA ( 0807541 )","0807541","K.V.RAVANAMMA","SA (English)","15280-40510","MPUPS, Dasaripalli",21860,"State Bank Of India (SBI), Nellore",10555653,"K.V.Sai Sujith","VIII","2010-2011","Rathnam High School, Nelore",1000,"XXXXXXXXXX","Inter-I","2010-2011","Abdul Kalam Jr Coolege",1000,{"$f":"IF(ISNA(VLOOKUP(H175,Info!$J$2:$K$16,2,FALSE)),\"\",VLOOKUP(H175,Info!$J$2:$K$16,2,FALSE))","v":"0887"},2000]
["K.V.RAVANAMMA ( 0807541 )","0807541","K.V.RAVANAMMA","SA (English)","15280-40510","MPUPS, Dasaripalli",21860,"State Bank Of India (SBI), Nellore",10555653,"K.V.Sai Sujith","VIII","2010-2011","Rathnam High School, Nelore",1000,"XXXXXXXXXX","Inter-I","2010-2011","Abdul Kalam Jr Coolege",1000,{"$f":"IF(ISNA(VLOOKUP(H176,Info!$J$2:$K$16,2,FALSE)),\"\",VLOOKUP(H176,Info!$J$2:$K$16,2,FALSE))","v":"0887"},2000]
["K.V.RAVANAMMA ( 0807541 )","0807541","K.V.RAVANAMMA","SA (English)","15280-40510","MPUPS, Dasaripalli",21860,"State Bank Of India (SBI), Nellore",10555653,"K.V.Sai Sujith","VIII","2010-2011","Rathnam High School, Nelore",1000,"XXXXXXXXXX","Inter-I","2010-2011","Abdul Kalam Jr Coolege",1000,{"$f":"IF(ISNA(VLOOKUP(H177,Info!$J$2:$K$16,2,FALSE)),\"\",VLOOKUP(H177,Info!$J$2:$K$16,2,FALSE))","v":"0887"},2000]
["K.V.RAVANAMMA ( 0807541 )","0807541","K.V.RAVANAMMA","SA (English)","15280-40510","MPUPS, Dasaripalli",21860,"State Bank Of India (SBI), Nellore",10555653,"K.V.Sai Sujith","VIII","2010-2011","Rathnam High School, Nelore",1000,"XXXXXXXXXX","Inter-I","2010-2011","Abdul Kalam Jr Coolege",1000,{"$f":"IF(ISNA(VLOOKUP(H178,Info!$J$2:$K$16,2,FALSE)),\"\",VLOOKUP(H178,Info!$J$2:$K$16,2,FALSE))","v":"0887"},2000]
["K.V.RAVANAMMA ( 0807541 )","0807541","K.V.RAVANAMMA","SA (English)","15280-40510","MPUPS, Dasaripalli",21860,"State Bank Of India (SBI), Nellore",10555653,"K.V.Sai Sujith","VIII","2010-2011","Rathnam High School, Nelore",1000,"XXXXXXXXXX","Inter-I","2010-2011","Abdul Kalam Jr Coolege",1000,{"$f":"IF(ISNA(VLOOKUP(H179,Info!$J$2:$K$16,2,FALSE)),\"\",VLOOKUP(H179,Info!$J$2:$K$16,2,FALSE))","v":"0887"},2000]
["K.V.RAVANAMMA ( 0807541 )","0807541","K.V.RAVANAMMA","SA (English)","15280-40510","MPUPS, Dasaripalli",21860,"State Bank Of India (SBI), Nellore",10555653,"K.V.Sai Sujith","VIII","2010-2011","Rathnam High School, Nelore",1000,"XXXXXXXXXX","Inter-I","2010-2011","Abdul Kalam Jr Coolege",1000,{"$f":"IF(ISNA(VLOOKUP(H180,Info!$J$2:$K$16,2,FALSE)),\"\",VLOOKUP(H180,Info!$J$2:$K$16,2,FALSE))","v":"0887"},2000]
["K.V.RAVANAMMA ( 0807541 )","0807541","K.V.RAVANAMMA","SA (English)","15280-40510","MPUPS, Dasaripalli",21860,"State Bank Of India (SBI), Nellore",10555653,"K.V.Sai Sujith","VIII","2010-2011","Rathnam High School, Nelore",1000,"XXXXXXXXXX","Inter-I","2010-2011","Abdul Kalam Jr Coolege",1000,{"$f":"IF(ISNA(VLOOKUP(H181,Info!$J$2:$K$16,2,FALSE)),\"\",VLOOKUP(H181,Info!$J$2:$K$16,2,FALSE))","v":"0887"},2000]
["K.V.RAVANAMMA ( 0807541 )","0807541","K.V.RAVANAMMA","SA (English)","15280-40510","MPUPS, Dasaripalli",21860,"State Bank Of India (SBI), Nellore",10555653,"K.V.Sai Sujith","VIII","2010-2011","Rathnam High School, Nelore",1000,"XXXXXXXXXX","Inter-I","2010-2011","Abdul Kalam Jr Coolege",1000,{"$f":"IF(ISNA(VLOOKUP(H182,Info!$J$2:$K$16,2,FALSE)),\"\",VLOOKUP(H182,Info!$J$2:$K$16,2,FALSE))","v":"0887"},2000]
["K.V.RAVANAMMA ( 0807541 )","0807541","K.V.RAVANAMMA","SA (English)","15280-40510","MPUPS, Dasaripalli",21860,"State Bank Of India (SBI), Nellore",10555653,"K.V.Sai Sujith","VIII","2010-2011","Rathnam High School, Nelore",1000,"XXXXXXXXXX","Inter-I","2010-2011","Abdul Kalam Jr Coolege",1000,{"$f":"IF(ISNA(VLOOKUP(H183,Info!$J$2:$K$16,2,FALSE)),\"\",VLOOKUP(H183,Info!$J$2:$K$16,2,FALSE))","v":"0887"},2000]
["K.V.RAVANAMMA ( 0807541 )","0807541","K.V.RAVANAMMA","SA (English)","15280-40510","MPUPS, Dasaripalli",21860,"State Bank Of India (SBI), Nellore",10555653,"K.V.Sai Sujith","VIII","2010-2011","Rathnam High School, Nelore",1000,"XXXXXXXXXX","Inter-I","2010-2011","Abdul Kalam Jr Coolege",1000,{"$f":"IF(ISNA(VLOOKUP(H184,Info!$J$2:$K$16,2,FALSE)),\"\",VLOOKUP(H184,Info!$J$2:$K$16,2,FALSE))","v":"0887"},2000]
["K.V.RAVANAMMA ( 0807541 )","0807541","K.V.RAVANAMMA","SA (English)","15280-40510","MPUPS, Dasaripalli",21860,"State Bank Of India (SBI), Nellore",10555653,"K.V.Sai Sujith","VIII","2010-2011","Rathnam High School, Nelore",1000,"XXXXXXXXXX","Inter-I","2010-2011","Abdul Kalam Jr Coolege",1000,{"$f":"IF(ISNA(VLOOKUP(H185,Info!$J$2:$K$16,2,FALSE)),\"\",VLOOKUP(H185,Info!$J$2:$K$16,2,FALSE))","v":"0887"},2000]
["K.V.RAVANAMMA ( 0807541 )","0807541","K.V.RAVANAMMA","SA (English)","15280-40510","MPUPS, Dasaripalli",21860,"State Bank Of India (SBI), Nellore",10555653,"K.V.Sai Sujith","VIII","2010-2011","Rathnam High School, Nelore",1000,"XXXXXXXXXX","Inter-I","2010-2011","Abdul Kalam Jr Coolege",1000,{"$f":"IF(ISNA(VLOOKUP(H186,Info!$J$2:$K$16,2,FALSE)),\"\",VLOOKUP(H186,Info!$J$2:$K$16,2,FALSE))","v":"0887"},2000]
["K.V.RAVANAMMA ( 0807541 )","0807541","K.V.RAVANAMMA","SA (English)","15280-40510","MPUPS, Dasaripalli",21860,"State Bank Of India (SBI), Nellore",10555653,"K.V.Sai Sujith","VIII","2010-2011","Rathnam High School, Nelore",1000,"XXXXXXXXXX","Inter-I","2010-2011","Abdul Kalam Jr Coolege",1000,{"$f":"IF(ISNA(VLOOKUP(H187,Info!$J$2:$K$16,2,FALSE)),\"\",VLOOKUP(H187,Info!$J$2:$K$16,2,FALSE))","v":"0887"},2000]
["K.V.RAVANAMMA ( 0807541 )","0807541","K.V.RAVANAMMA","SA (English)","15280-40510","MPUPS, Dasaripalli",21860,"State Bank Of India (SBI), Nellore",10555653,"K.V.Sai Sujith","VIII","2010-2011","Rathnam High School, Nelore",1000,"XXXXXXXXXX","Inter-I","2010-2011","Abdul Kalam Jr Coolege",1000,{"$f":"IF(ISNA(VLOOKUP(H188,Info!$J$2:$K$16,2,FALSE)),\"\",VLOOKUP(H188,Info!$J$2:$K$16,2,FALSE))","v":"0887"},2000]
["K.V.RAVANAMMA ( 0807541 )","0807541","K.V.RAVANAMMA","SA (English)","15280-40510","MPUPS, Dasaripalli",21860,"State Bank Of India (SBI), Nellore",10555653,"K.V.Sai Sujith","VIII","2010-2011","Rathnam High School, Nelore",1000,"XXXXXXXXXX","Inter-I","2010-2011","Abdul Kalam Jr Coolege",1000,{"$f":"IF(ISNA(VLOOKUP(H189,Info!$J$2:$K$16,2,FALSE)),\"\",VLOOKUP(H189,Info!$J$2:$K$16,2,FALSE))","v":"0887"},2000]
["K.V.RAVANAMMA ( 0807541 )","0807541","K.V.RAVANAMMA","SA (English)","15280-40510","MPUPS, Dasaripalli",21860,"State Bank Of India (SBI), Nellore",10555653,"K.V.Sai Sujith","VIII","2010-2011","Rathnam High School, Nelore",1000,"XXXXXXXXXX","Inter-I","2010-2011","Abdul Kalam Jr Coolege",1000,{"$f":"IF(ISNA(VLOOKUP(H190,Info!$J$2:$K$16,2,FALSE)),\"\",VLOOKUP(H190,Info!$J$2:$K$16,2,FALSE))","v":"0887"},2000]
["K.V.RAVANAMMA ( 0807541 )","0807541","K.V.RAVANAMMA","SA (English)","15280-40510","MPUPS, Dasaripalli",21860,"State Bank Of India (SBI), Nellore",10555653,"K.V.Sai Sujith","VIII","2010-2011","Rathnam High School, Nelore",1000,"XXXXXXXXXX","Inter-I","2010-2011","Abdul Kalam Jr Coolege",1000,{"$f":"IF(ISNA(VLOOKUP(H191,Info!$J$2:$K$16,2,FALSE)),\"\",VLOOKUP(H191,Info!$J$2:$K$16,2,FALSE))","v":"0887"},2000]
["K.V.RAVANAMMA ( 0807541 )","0807541","K.V.RAVANAMMA","SA (English)","15280-40510","MPUPS, Dasaripalli",21860,"State Bank Of India (SBI), Nellore",10555653,"K.V.Sai Sujith","VIII","2010-2011","Rathnam High School, Nelore",1000,"XXXXXXXXXX","Inter-I","2010-2011","Abdul Kalam Jr Coolege",1000,{"$f":"IF(ISNA(VLOOKUP(H192,Info!$J$2:$K$16,2,FALSE)),\"\",VLOOKUP(H192,Info!$J$2:$K$16,2,FALSE))","v":"0887"},2000]
["K.V.RAVANAMMA ( 0807541 )","0807541","K.V.RAVANAMMA","SA (English)","15280-40510","MPUPS, Dasaripalli",21860,"State Bank Of India (SBI), Nellore",10555653,"K.V.Sai Sujith","VIII","2010-2011","Rathnam High School, Nelore",1000,"XXXXXXXXXX","Inter-I","2010-2011","Abdul Kalam Jr Coolege",1000,{"$f":"IF(ISNA(VLOOKUP(H193,Info!$J$2:$K$16,2,FALSE)),\"\",VLOOKUP(H193,Info!$J$2:$K$16,2,FALSE))","v":"0887"},2000]
[" (  )",null,null,null,null,null,null,null,null,null,null,null,null,null,null,null,null,null,null,{"$f":"IF(ISNA(VLOOKUP(H194,Info!$J$2:$K$16,2,FALSE)),\"\",VLOOKUP(H194,Info!$J$2:$K$16,2,FALSE))","v":""},0]
[" (  )",null,null,null,null,null,null,null,null,null,null,null,null,null,null,null,null,null,null,{"$f":"IF(ISNA(VLOOKUP(H195,Info!$J$2:$K$16,2,FALSE)),\"\",VLOOKUP(H195,Info!$J$2:$K$16,2,FALSE))","v":""},0]
[" (  )",null,null,null,null,null,null,null,null,null,null,null,null,null,null,null,null,null,null,{"$f":"IF(ISNA(VLOOKUP(H196,Info!$J$2:$K$16,2,FALSE)),\"\",VLOOKUP(H196,Info!$J$2:$K$16,2,FALSE))","v":""},0]
[{"$f":"CONCATENATE(C197,\" ( \",B197,\" )\")","v":" (  )"},null,null,null,null,null,null,null,null,null,null,null,null,null,null,null,null,null,null,{"$f":"IF(ISNA(VLOOKUP(H197,Info!$J$2:$K$16,2,FALSE)),\"\",VLOOKUP(H197,Info!$J$2:$K$16,2,FALSE))","v":""},{"$f":"SUM(N197,S197)","v":0}]
[" (  )",null,null,null,null,null,null,null,null,null,null,null,null,null,null,null,null,null,null,{"$f":"IF(ISNA(VLOOKUP(H198,Info!$J$2:$K$16,2,FALSE)),\"\",VLOOKUP(H198,Info!$J$2:$K$16,2,FALSE))","v":""},0]
[" (  )",null,null,null,null,null,null,null,null,null,null,null,null,null,null,null,null,null,null,{"$f":"IF(ISNA(VLOOKUP(H199,Info!$J$2:$K$16,2,FALSE)),\"\",VLOOKUP(H199,Info!$J$2:$K$16,2,FALSE))","v":""},0]
[" (  )",null,null,null,null,null,null,null,null,null,null,null,null,null,null,null,null,null,null,{"$f":"IF(ISNA(VLOOKUP(H200,Info!$J$2:$K$16,2,FALSE)),\"\",VLOOKUP(H200,Info!$J$2:$K$16,2,FALSE))","v":""},0]
[" (  )",null,null,null,null,null,null,null,null,null,null,null,null,null,null,null,null,null,null,{"$f":"IF(ISNA(VLOOKUP(H201,Info!$J$2:$K$16,2,FALSE)),\"\",VLOOKUP(H201,Info!$J$2:$K$16,2,FALSE))","v":""},0]
[" (  )",null,null,null,null,null,null,null,null,null,null,null,null,null,null,null,null,null,null,{"$f":"IF(ISNA(VLOOKUP(H202,Info!$J$2:$K$16,2,FALSE)),\"\",VLOOKUP(H202,Info!$J$2:$K$16,2,FALSE))","v":""},0]
[" (  )",null,null,null,null,null,null,null,null,null,null,null,null,null,null,null,null,null,null,{"$f":"IF(ISNA(VLOOKUP(H203,Info!$J$2:$K$16,2,FALSE)),\"\",VLOOKUP(H203,Info!$J$2:$K$16,2,FALSE))","v":""},0]
[" (  )",null,null,null,null,null,null,null,null,null,null,null,null,null,null,null,null,null,null,{"$f":"IF(ISNA(VLOOKUP(H204,Info!$J$2:$K$16,2,FALSE)),\"\",VLOOKUP(H204,Info!$J$2:$K$16,2,FALSE))","v":""},0]
[" (  )",null,null,null,null,null,null,null,null,null,null,null,null,null,null,null,null,null,null,{"$f":"IF(ISNA(VLOOKUP(H205,Info!$J$2:$K$16,2,FALSE)),\"\",VLOOKUP(H205,Info!$J$2:$K$16,2,FALSE))","v":""},0]
[" (  )",null,null,null,null,null,null,null,null,null,null,null,null,null,null,null,null,null,null,{"$f":"IF(ISNA(VLOOKUP(H206,Info!$J$2:$K$16,2,FALSE)),\"\",VLOOKUP(H206,Info!$J$2:$K$16,2,FALSE))","v":""},0]
[" (  )",null,null,null,null,null,null,null,null,null,null,null,null,null,null,null,null,null,null,{"$f":"IF(ISNA(VLOOKUP(H207,Info!$J$2:$K$16,2,FALSE)),\"\",VLOOKUP(H207,Info!$J$2:$K$16,2,FALSE))","v":""},0]
[" (  )",null,null,null,null,null,null,null,null,null,null,null,null,null,null,null,null,null,null,{"$f":"IF(ISNA(VLOOKUP(H208,Info!$J$2:$K$16,2,FALSE)),\"\",VLOOKUP(H208,Info!$J$2:$K$16,2,FALSE))","v":""},0]
[" (  )",null,null,null,null,null,null,null,null,null,null,null,null,null,null,null,null,null,null,{"$f":"IF(ISNA(VLOOKUP(H209,Info!$J$2:$K$16,2,FALSE)),\"\",VLOOKUP(H209,Info!$J$2:$K$16,2,FALSE))","v":""},0]
[" (  )",null,null,null,null,null,null,null,null,null,null,null,null,null,null,null,null,null,null,{"$f":"IF(ISNA(VLOOKUP(H210,Info!$J$2:$K$16,2,FALSE)),\"\",VLOOKUP(H210,Info!$J$2:$K$16,2,FALSE))","v":""},0]
[" (  )",null,null,null,null,null,null,null,null,null,null,null,null,null,null,null,null,null,null,{"$f":"IF(ISNA(VLOOKUP(H211,Info!$J$2:$K$16,2,FALSE)),\"\",VLOOKUP(H211,Info!$J$2:$K$16,2,FALSE))","v":""},0]
[" (  )",null,null,null,null,null,null,null,null,null,null,null,null,null,null,null,null,null,null,{"$f":"IF(ISNA(VLOOKUP(H212,Info!$J$2:$K$16,2,FALSE)),\"\",VLOOKUP(H212,Info!$J$2:$K$16,2,FALSE))","v":""},0]
[" (  )",null,null,null,null,null,null,null,null,null,null,null,null,null,null,null,null,null,null,{"$f":"IF(ISNA(VLOOKUP(H213,Info!$J$2:$K$16,2,FALSE)),\"\",VLOOKUP(H213,Info!$J$2:$K$16,2,FALSE))","v":""},0]
[" (  )",null,null,null,null,null,null,null,null,null,null,null,null,null,null,null,null,null,null,{"$f":"IF(ISNA(VLOOKUP(H214,Info!$J$2:$K$16,2,FALSE)),\"\",VLOOKUP(H214,Info!$J$2:$K$16,2,FALSE))","v":""},0]
[" (  )",null,null,null,null,null,null,null,null,null,null,null,null,null,null,null,null,null,null,{"$f":"IF(ISNA(VLOOKUP(H215,Info!$J$2:$K$16,2,FALSE)),\"\",VLOOKUP(H215,Info!$J$2:$K$16,2,FALSE))","v":""},0]
[" (  )",null,null,null,null,null,null,null,null,null,null,null,null,null,null,null,null,null,null,{"$f":"IF(ISNA(VLOOKUP(H216,Info!$J$2:$K$16,2,FALSE)),\"\",VLOOKUP(H216,Info!$J$2:$K$16,2,FALSE))","v":""},0]
[" (  )",null,null,null,null,null,null,null,null,null,null,null,null,null,null,null,null,null,null,{"$f":"IF(ISNA(VLOOKUP(H217,Info!$J$2:$K$16,2,FALSE)),\"\",VLOOKUP(H217,Info!$J$2:$K$16,2,FALSE))","v":""},0]
[" (  )",null,null,null,null,null,null,null,null,null,null,null,null,null,null,null,null,null,null,{"$f":"IF(ISNA(VLOOKUP(H218,Info!$J$2:$K$16,2,FALSE)),\"\",VLOOKUP(H218,Info!$J$2:$K$16,2,FALSE))","v":""},0]
[" (  )",null,null,null,null,null,null,null,null,null,null,null,null,null,null,null,null,null,null,{"$f":"IF(ISNA(VLOOKUP(H219,Info!$J$2:$K$16,2,FALSE)),\"\",VLOOKUP(H219,Info!$J$2:$K$16,2,FALSE))","v":""},0]
[" (  )",null,null,null,null,null,null,null,null,null,null,null,null,null,null,null,null,null,null,{"$f":"IF(ISNA(VLOOKUP(H220,Info!$J$2:$K$16,2,FALSE)),\"\",VLOOKUP(H220,Info!$J$2:$K$16,2,FALSE))","v":""},0]
[" (  )",null,null,null,null,null,null,null,null,null,null,null,null,null,null,null,null,null,null,{"$f":"IF(ISNA(VLOOKUP(H221,Info!$J$2:$K$16,2,FALSE)),\"\",VLOOKUP(H221,Info!$J$2:$K$16,2,FALSE))","v":""},0]
[" (  )",null,null,null,null,null,null,null,null,null,null,null,null,null,null,null,null,null,null,{"$f":"IF(ISNA(VLOOKUP(H222,Info!$J$2:$K$16,2,FALSE)),\"\",VLOOKUP(H222,Info!$J$2:$K$16,2,FALSE))","v":""},0]
[" (  )",null,null,null,null,null,null,null,null,null,null,null,null,null,null,null,null,null,null,{"$f":"IF(ISNA(VLOOKUP(H223,Info!$J$2:$K$16,2,FALSE)),\"\",VLOOKUP(H223,Info!$J$2:$K$16,2,FALSE))","v":""},0]
[" (  )",null,null,null,null,null,null,null,null,null,null,null,null,null,null,null,null,null,null,{"$f":"IF(ISNA(VLOOKUP(H224,Info!$J$2:$K$16,2,FALSE)),\"\",VLOOKUP(H224,Info!$J$2:$K$16,2,FALSE))","v":""},0]
[" (  )",null,null,null,null,null,null,null,null,null,null,null,null,null,null,null,null,null,null,{"$f":"IF(ISNA(VLOOKUP(H225,Info!$J$2:$K$16,2,FALSE)),\"\",VLOOKUP(H225,Info!$J$2:$K$16,2,FALSE))","v":""},0]
[" (  )",null,null,null,null,null,null,null,null,null,null,null,null,null,null,null,null,null,null,{"$f":"IF(ISNA(VLOOKUP(H226,Info!$J$2:$K$16,2,FALSE)),\"\",VLOOKUP(H226,Info!$J$2:$K$16,2,FALSE))","v":""},0]
[" (  )",null,null,null,null,null,null,null,null,null,null,null,null,null,null,null,null,null,null,{"$f":"IF(ISNA(VLOOKUP(H227,Info!$J$2:$K$16,2,FALSE)),\"\",VLOOKUP(H227,Info!$J$2:$K$16,2,FALSE))","v":""},0]
[" (  )",null,null,null,null,null,null,null,null,null,null,null,null,null,null,null,null,null,null,{"$f":"IF(ISNA(VLOOKUP(H228,Info!$J$2:$K$16,2,FALSE)),\"\",VLOOKUP(H228,Info!$J$2:$K$16,2,FALSE))","v":""},0]
[" (  )",null,null,null,null,null,null,null,null,null,null,null,null,null,null,null,null,null,null,{"$f":"IF(ISNA(VLOOKUP(H229,Info!$J$2:$K$16,2,FALSE)),\"\",VLOOKUP(H229,Info!$J$2:$K$16,2,FALSE))","v":""},0]
[" (  )",null,null,null,null,null,null,null,null,null,null,null,null,null,null,null,null,null,null,{"$f":"IF(ISNA(VLOOKUP(H230,Info!$J$2:$K$16,2,FALSE)),\"\",VLOOKUP(H230,Info!$J$2:$K$16,2,FALSE))","v":""},0]
[" (  )",null,null,null,null,null,null,null,null,null,null,null,null,null,null,null,null,null,null,{"$f":"IF(ISNA(VLOOKUP(H231,Info!$J$2:$K$16,2,FALSE)),\"\",VLOOKUP(H231,Info!$J$2:$K$16,2,FALSE))","v":""},0]
[" (  )",null,null,null,null,null,null,null,null,null,null,null,null,null,null,null,null,null,null,{"$f":"IF(ISNA(VLOOKUP(H232,Info!$J$2:$K$16,2,FALSE)),\"\",VLOOKUP(H232,Info!$J$2:$K$16,2,FALSE))","v":""},0]
[" (  )",null,null,null,null,null,null,null,null,null,null,null,null,null,null,null,null,null,null,{"$f":"IF(ISNA(VLOOKUP(H233,Info!$J$2:$K$16,2,FALSE)),\"\",VLOOKUP(H233,Info!$J$2:$K$16,2,FALSE))","v":""},0]
[" (  )",null,null,null,null,null,null,null,null,null,null,null,null,null,null,null,null,null,null,{"$f":"IF(ISNA(VLOOKUP(H234,Info!$J$2:$K$16,2,FALSE)),\"\",VLOOKUP(H234,Info!$J$2:$K$16,2,FALSE))","v":""},0]
[" (  )",null,null,null,null,null,null,null,null,null,null,null,null,null,null,null,null,null,null,{"$f":"IF(ISNA(VLOOKUP(H235,Info!$J$2:$K$16,2,FALSE)),\"\",VLOOKUP(H235,Info!$J$2:$K$16,2,FALSE))","v":""},0]
[" (  )",null,null,null,null,null,null,null,null,null,null,null,null,null,null,null,null,null,null,{"$f":"IF(ISNA(VLOOKUP(H236,Info!$J$2:$K$16,2,FALSE)),\"\",VLOOKUP(H236,Info!$J$2:$K$16,2,FALSE))","v":""},0]
[" (  )",null,null,null,null,null,null,null,null,null,null,null,null,null,null,null,null,null,null,{"$f":"IF(ISNA(VLOOKUP(H237,Info!$J$2:$K$16,2,FALSE)),\"\",VLOOKUP(H237,Info!$J$2:$K$16,2,FALSE))","v":""},0]
[" (  )",null,null,null,null,null,null,null,null,null,null,null,null,null,null,null,null,null,null,{"$f":"IF(ISNA(VLOOKUP(H238,Info!$J$2:$K$16,2,FALSE)),\"\",VLOOKUP(H238,Info!$J$2:$K$16,2,FALSE))","v":""},0]
[" (  )",null,null,null,null,null,null,null,null,null,null,null,null,null,null,null,null,null,null,{"$f":"IF(ISNA(VLOOKUP(H239,Info!$J$2:$K$16,2,FALSE)),\"\",VLOOKUP(H239,Info!$J$2:$K$16,2,FALSE))","v":""},0]
[" (  )",null,null,null,null,null,null,null,null,null,null,null,null,null,null,null,null,null,null,{"$f":"IF(ISNA(VLOOKUP(H240,Info!$J$2:$K$16,2,FALSE)),\"\",VLOOKUP(H240,Info!$J$2:$K$16,2,FALSE))","v":""},0]
[" (  )",null,null,null,null,null,null,null,null,null,null,null,null,null,null,null,null,null,null,{"$f":"IF(ISNA(VLOOKUP(H241,Info!$J$2:$K$16,2,FALSE)),\"\",VLOOKUP(H241,Info!$J$2:$K$16,2,FALSE))","v":""},0]
[" (  )",null,null,null,null,null,null,null,null,null,null,null,null,null,null,null,null,null,null,{"$f":"IF(ISNA(VLOOKUP(H242,Info!$J$2:$K$16,2,FALSE)),\"\",VLOOKUP(H242,Info!$J$2:$K$16,2,FALSE))","v":""},0]
[" (  )",null,null,null,null,null,null,null,null,null,null,null,null,null,null,null,null,null,null,{"$f":"IF(ISNA(VLOOKUP(H243,Info!$J$2:$K$16,2,FALSE)),\"\",VLOOKUP(H243,Info!$J$2:$K$16,2,FALSE))","v":""},0]
[" (  )",null,null,null,null,null,null,null,null,null,null,null,null,null,null,null,null,null,null,{"$f":"IF(ISNA(VLOOKUP(H244,Info!$J$2:$K$16,2,FALSE)),\"\",VLOOKUP(H244,Info!$J$2:$K$16,2,FALSE))","v":""},0]
[" (  )",null,null,null,null,null,null,null,null,null,null,null,null,null,null,null,null,null,null,{"$f":"IF(ISNA(VLOOKUP(H245,Info!$J$2:$K$16,2,FALSE)),\"\",VLOOKUP(H245,Info!$J$2:$K$16,2,FALSE))","v":""},0]
[" (  )",null,null,null,null,null,null,null,null,null,null,null,null,null,null,null,null,null,null,{"$f":"IF(ISNA(VLOOKUP(H246,Info!$J$2:$K$16,2,FALSE)),\"\",VLOOKUP(H246,Info!$J$2:$K$16,2,FALSE))","v":""},0]
[" (  )",null,null,null,null,null,null,null,null,null,null,null,null,null,null,null,null,null,null,{"$f":"IF(ISNA(VLOOKUP(H247,Info!$J$2:$K$16,2,FALSE)),\"\",VLOOKUP(H247,Info!$J$2:$K$16,2,FALSE))","v":""},0]
[" (  )",null,null,null,null,null,null,null,null,null,null,null,null,null,null,null,null,null,null,{"$f":"IF(ISNA(VLOOKUP(H248,Info!$J$2:$K$16,2,FALSE)),\"\",VLOOKUP(H248,Info!$J$2:$K$16,2,FALSE))","v":""},0]
[" (  )",null,null,null,null,null,null,null,null,null,null,null,null,null,null,null,null,null,null,{"$f":"IF(ISNA(VLOOKUP(H249,Info!$J$2:$K$16,2,FALSE)),\"\",VLOOKUP(H249,Info!$J$2:$K$16,2,FALSE))","v":""},0]
[" (  )",null,null,null,null,null,null,null,null,null,null,null,null,null,null,null,null,null,null,{"$f":"IF(ISNA(VLOOKUP(H250,Info!$J$2:$K$16,2,FALSE)),\"\",VLOOKUP(H250,Info!$J$2:$K$16,2,FALSE))","v":""},0]
[" (  )",null,null,null,null,null,null,null,null,null,null,null,null,null,null,null,null,null,null,{"$f":"IF(ISNA(VLOOKUP(H251,Info!$J$2:$K$16,2,FALSE)),\"\",VLOOKUP(H251,Info!$J$2:$K$16,2,FALSE))","v":""},0]
[" (  )",null,null,null,null,null,null,null,null,null,null,null,null,null,null,null,null,null,null,{"$f":"IF(ISNA(VLOOKUP(H252,Info!$J$2:$K$16,2,FALSE)),\"\",VLOOKUP(H252,Info!$J$2:$K$16,2,FALSE))","v":""},0]
[" (  )",null,null,null,null,null,null,null,null,null,null,null,null,null,null,null,null,null,null,{"$f":"IF(ISNA(VLOOKUP(H253,Info!$J$2:$K$16,2,FALSE)),\"\",VLOOKUP(H253,Info!$J$2:$K$16,2,FALSE))","v":""},0]
[" (  )",null,null,null,null,null,null,null,null,null,null,null,null,null,null,null,null,null,null,{"$f":"IF(ISNA(VLOOKUP(H254,Info!$J$2:$K$16,2,FALSE)),\"\",VLOOKUP(H254,Info!$J$2:$K$16,2,FALSE))","v":""},0]
[" (  )",null,null,null,null,null,null,null,null,null,null,null,null,null,null,null,null,null,null,{"$f":"IF(ISNA(VLOOKUP(H255,Info!$J$2:$K$16,2,FALSE)),\"\",VLOOKUP(H255,Info!$J$2:$K$16,2,FALSE))","v":""},0]
[" (  )",null,null,null,null,null,null,null,null,null,null,null,null,null,null,null,null,null,null,{"$f":"IF(ISNA(VLOOKUP(H256,Info!$J$2:$K$16,2,FALSE)),\"\",VLOOKUP(H256,Info!$J$2:$K$16,2,FALSE))","v":""},0]
[" (  )",null,null,null,null,null,null,null,null,null,null,null,null,null,null,null,null,null,null,{"$f":"IF(ISNA(VLOOKUP(H257,Info!$J$2:$K$16,2,FALSE)),\"\",VLOOKUP(H257,Info!$J$2:$K$16,2,FALSE))","v":""},0]
[" (  )",null,null,null,null,null,null,null,null,null,null,null,null,null,null,null,null,null,null,{"$f":"IF(ISNA(VLOOKUP(H258,Info!$J$2:$K$16,2,FALSE)),\"\",VLOOKUP(H258,Info!$J$2:$K$16,2,FALSE))","v":""},0]
[" (  )",null,null,null,null,null,null,null,null,null,null,null,null,null,null,null,null,null,null,{"$f":"IF(ISNA(VLOOKUP(H259,Info!$J$2:$K$16,2,FALSE)),\"\",VLOOKUP(H259,Info!$J$2:$K$16,2,FALSE))","v":""},0]
[" (  )",null,null,null,null,null,null,null,null,null,null,null,null,null,null,null,null,null,null,{"$f":"IF(ISNA(VLOOKUP(H260,Info!$J$2:$K$16,2,FALSE)),\"\",VLOOKUP(H260,Info!$J$2:$K$16,2,FALSE))","v":""},0]
[{"$f":"CONCATENATE(C261,\" ( \",B261,\" )\")","v":" (  )"},null,null,null,null,null,null,null,null,null,null,null,null,null,null,null,null,null,null,{"$f":"IF(ISNA(VLOOKUP(H261,Info!$J$2:$K$16,2,FALSE)),\"\",VLOOKUP(H261,Info!$J$2:$K$16,2,FALSE))","v":""},{"$f":"SUM(N261,S261)","v":0}]
[" (  )",null,null,null,null,null,null,null,null,null,null,null,null,null,null,null,null,null,null,{"$f":"IF(ISNA(VLOOKUP(H262,Info!$J$2:$K$16,2,FALSE)),\"\",VLOOKUP(H262,Info!$J$2:$K$16,2,FALSE))","v":""},0]
[" (  )",null,null,null,null,null,null,null,null,null,null,null,null,null,null,null,null,null,null,{"$f":"IF(ISNA(VLOOKUP(H263,Info!$J$2:$K$16,2,FALSE)),\"\",VLOOKUP(H263,Info!$J$2:$K$16,2,FALSE))","v":""},0]
[" (  )",null,null,null,null,null,null,null,null,null,null,null,null,null,null,null,null,null,null,{"$f":"IF(ISNA(VLOOKUP(H264,Info!$J$2:$K$16,2,FALSE)),\"\",VLOOKUP(H264,Info!$J$2:$K$16,2,FALSE))","v":""},0]
[" (  )",null,null,null,null,null,null,null,null,null,null,null,null,null,null,null,null,null,null,{"$f":"IF(ISNA(VLOOKUP(H265,Info!$J$2:$K$16,2,FALSE)),\"\",VLOOKUP(H265,Info!$J$2:$K$16,2,FALSE))","v":""},0]
[" (  )",null,null,null,null,null,null,null,null,null,null,null,null,null,null,null,null,null,null,{"$f":"IF(ISNA(VLOOKUP(H266,Info!$J$2:$K$16,2,FALSE)),\"\",VLOOKUP(H266,Info!$J$2:$K$16,2,FALSE))","v":""},0]
[" (  )",null,null,null,null,null,null,null,null,null,null,null,null,null,null,null,null,null,null,{"$f":"IF(ISNA(VLOOKUP(H267,Info!$J$2:$K$16,2,FALSE)),\"\",VLOOKUP(H267,Info!$J$2:$K$16,2,FALSE))","v":""},0]
[" (  )",null,null,null,null,null,null,null,null,null,null,null,null,null,null,null,null,null,null,{"$f":"IF(ISNA(VLOOKUP(H268,Info!$J$2:$K$16,2,FALSE)),\"\",VLOOKUP(H268,Info!$J$2:$K$16,2,FALSE))","v":""},0]
[" (  )",null,null,null,null,null,null,null,null,null,null,null,null,null,null,null,null,null,null,{"$f":"IF(ISNA(VLOOKUP(H269,Info!$J$2:$K$16,2,FALSE)),\"\",VLOOKUP(H269,Info!$J$2:$K$16,2,FALSE))","v":""},0]
[" (  )",null,null,null,null,null,null,null,null,null,null,null,null,null,null,null,null,null,null,{"$f":"IF(ISNA(VLOOKUP(H270,Info!$J$2:$K$16,2,FALSE)),\"\",VLOOKUP(H270,Info!$J$2:$K$16,2,FALSE))","v":""},0]
[" (  )",null,null,null,null,null,null,null,null,null,null,null,null,null,null,null,null,null,null,{"$f":"IF(ISNA(VLOOKUP(H271,Info!$J$2:$K$16,2,FALSE)),\"\",VLOOKUP(H271,Info!$J$2:$K$16,2,FALSE))","v":""},0]
[" (  )",null,null,null,null,null,null,null,null,null,null,null,null,null,null,null,null,null,null,{"$f":"IF(ISNA(VLOOKUP(H272,Info!$J$2:$K$16,2,FALSE)),\"\",VLOOKUP(H272,Info!$J$2:$K$16,2,FALSE))","v":""},0]
[" (  )",null,null,null,null,null,null,null,null,null,null,null,null,null,null,null,null,null,null,{"$f":"IF(ISNA(VLOOKUP(H273,Info!$J$2:$K$16,2,FALSE)),\"\",VLOOKUP(H273,Info!$J$2:$K$16,2,FALSE))","v":""},0]
[" (  )",null,null,null,null,null,null,null,null,null,null,null,null,null,null,null,null,null,null,{"$f":"IF(ISNA(VLOOKUP(H274,Info!$J$2:$K$16,2,FALSE)),\"\",VLOOKUP(H274,Info!$J$2:$K$16,2,FALSE))","v":""},0]
[" (  )",null,null,null,null,null,null,null,null,null,null,null,null,null,null,null,null,null,null,{"$f":"IF(ISNA(VLOOKUP(H275,Info!$J$2:$K$16,2,FALSE)),\"\",VLOOKUP(H275,Info!$J$2:$K$16,2,FALSE))","v":""},0]
[" (  )",null,null,null,null,null,null,null,null,null,null,null,null,null,null,null,null,null,null,{"$f":"IF(ISNA(VLOOKUP(H276,Info!$J$2:$K$16,2,FALSE)),\"\",VLOOKUP(H276,Info!$J$2:$K$16,2,FALSE))","v":""},0]
[" (  )",null,null,null,null,null,null,null,null,null,null,null,null,null,null,null,null,null,null,{"$f":"IF(ISNA(VLOOKUP(H277,Info!$J$2:$K$16,2,FALSE)),\"\",VLOOKUP(H277,Info!$J$2:$K$16,2,FALSE))","v":""},0]
[" (  )",null,null,null,null,null,null,null,null,null,null,null,null,null,null,null,null,null,null,{"$f":"IF(ISNA(VLOOKUP(H278,Info!$J$2:$K$16,2,FALSE)),\"\",VLOOKUP(H278,Info!$J$2:$K$16,2,FALSE))","v":""},0]
[" (  )",null,null,null,null,null,null,null,null,null,null,null,null,null,null,null,null,null,null,{"$f":"IF(ISNA(VLOOKUP(H279,Info!$J$2:$K$16,2,FALSE)),\"\",VLOOKUP(H279,Info!$J$2:$K$16,2,FALSE))","v":""},0]
[" (  )",null,null,null,null,null,null,null,null,null,null,null,null,null,null,null,null,null,null,{"$f":"IF(ISNA(VLOOKUP(H280,Info!$J$2:$K$16,2,FALSE)),\"\",VLOOKUP(H280,Info!$J$2:$K$16,2,FALSE))","v":""},0]
[" (  )",null,null,null,null,null,null,null,null,null,null,null,null,null,null,null,null,null,null,{"$f":"IF(ISNA(VLOOKUP(H281,Info!$J$2:$K$16,2,FALSE)),\"\",VLOOKUP(H281,Info!$J$2:$K$16,2,FALSE))","v":""},0]
[" (  )",null,null,null,null,null,null,null,null,null,null,null,null,null,null,null,null,null,null,{"$f":"IF(ISNA(VLOOKUP(H282,Info!$J$2:$K$16,2,FALSE)),\"\",VLOOKUP(H282,Info!$J$2:$K$16,2,FALSE))","v":""},0]
[" (  )",null,null,null,null,null,null,null,null,null,null,null,null,null,null,null,null,null,null,{"$f":"IF(ISNA(VLOOKUP(H283,Info!$J$2:$K$16,2,FALSE)),\"\",VLOOKUP(H283,Info!$J$2:$K$16,2,FALSE))","v":""},0]
[" (  )",null,null,null,null,null,null,null,null,null,null,null,null,null,null,null,null,null,null,{"$f":"IF(ISNA(VLOOKUP(H284,Info!$J$2:$K$16,2,FALSE)),\"\",VLOOKUP(H284,Info!$J$2:$K$16,2,FALSE))","v":""},0]
[" (  )",null,null,null,null,null,null,null,null,null,null,null,null,null,null,null,null,null,null,{"$f":"IF(ISNA(VLOOKUP(H285,Info!$J$2:$K$16,2,FALSE)),\"\",VLOOKUP(H285,Info!$J$2:$K$16,2,FALSE))","v":""},0]
[" (  )",null,null,null,null,null,null,null,null,null,null,null,null,null,null,null,null,null,null,{"$f":"IF(ISNA(VLOOKUP(H286,Info!$J$2:$K$16,2,FALSE)),\"\",VLOOKUP(H286,Info!$J$2:$K$16,2,FALSE))","v":""},0]
[" (  )",null,null,null,null,null,null,null,null,null,null,null,null,null,null,null,null,null,null,{"$f":"IF(ISNA(VLOOKUP(H287,Info!$J$2:$K$16,2,FALSE)),\"\",VLOOKUP(H287,Info!$J$2:$K$16,2,FALSE))","v":""},0]
[" (  )",null,null,null,null,null,null,null,null,null,null,null,null,null,null,null,null,null,null,{"$f":"IF(ISNA(VLOOKUP(H288,Info!$J$2:$K$16,2,FALSE)),\"\",VLOOKUP(H288,Info!$J$2:$K$16,2,FALSE))","v":""},0]
[" (  )",null,null,null,null,null,null,null,null,null,null,null,null,null,null,null,null,null,null,{"$f":"IF(ISNA(VLOOKUP(H289,Info!$J$2:$K$16,2,FALSE)),\"\",VLOOKUP(H289,Info!$J$2:$K$16,2,FALSE))","v":""},0]
[" (  )",null,null,null,null,null,null,null,null,null,null,null,null,null,null,null,null,null,null,{"$f":"IF(ISNA(VLOOKUP(H290,Info!$J$2:$K$16,2,FALSE)),\"\",VLOOKUP(H290,Info!$J$2:$K$16,2,FALSE))","v":""},0]
[" (  )",null,null,null,null,null,null,null,null,null,null,null,null,null,null,null,null,null,null,{"$f":"IF(ISNA(VLOOKUP(H291,Info!$J$2:$K$16,2,FALSE)),\"\",VLOOKUP(H291,Info!$J$2:$K$16,2,FALSE))","v":""},0]
[" (  )",null,null,null,null,null,null,null,null,null,null,null,null,null,null,null,null,null,null,{"$f":"IF(ISNA(VLOOKUP(H292,Info!$J$2:$K$16,2,FALSE)),\"\",VLOOKUP(H292,Info!$J$2:$K$16,2,FALSE))","v":""},0]
[" (  )",null,null,null,null,null,null,null,null,null,null,null,null,null,null,null,null,null,null,{"$f":"IF(ISNA(VLOOKUP(H293,Info!$J$2:$K$16,2,FALSE)),\"\",VLOOKUP(H293,Info!$J$2:$K$16,2,FALSE))","v":""},0]
[" (  )",null,null,null,null,null,null,null,null,null,null,null,null,null,null,null,null,null,null,{"$f":"IF(ISNA(VLOOKUP(H294,Info!$J$2:$K$16,2,FALSE)),\"\",VLOOKUP(H294,Info!$J$2:$K$16,2,FALSE))","v":""},0]
[" (  )",null,null,null,null,null,null,null,null,null,null,null,null,null,null,null,null,null,null,{"$f":"IF(ISNA(VLOOKUP(H295,Info!$J$2:$K$16,2,FALSE)),\"\",VLOOKUP(H295,Info!$J$2:$K$16,2,FALSE))","v":""},0]
[" (  )",null,null,null,null,null,null,null,null,null,null,null,null,null,null,null,null,null,null,{"$f":"IF(ISNA(VLOOKUP(H296,Info!$J$2:$K$16,2,FALSE)),\"\",VLOOKUP(H296,Info!$J$2:$K$16,2,FALSE))","v":""},0]
[" (  )",null,null,null,null,null,null,null,null,null,null,null,null,null,null,null,null,null,null,{"$f":"IF(ISNA(VLOOKUP(H297,Info!$J$2:$K$16,2,FALSE)),\"\",VLOOKUP(H297,Info!$J$2:$K$16,2,FALSE))","v":""},0]
[" (  )",null,null,null,null,null,null,null,null,null,null,null,null,null,null,null,null,null,null,{"$f":"IF(ISNA(VLOOKUP(H298,Info!$J$2:$K$16,2,FALSE)),\"\",VLOOKUP(H298,Info!$J$2:$K$16,2,FALSE))","v":""},0]
[" (  )",null,null,null,null,null,null,null,null,null,null,null,null,null,null,null,null,null,null,{"$f":"IF(ISNA(VLOOKUP(H299,Info!$J$2:$K$16,2,FALSE)),\"\",VLOOKUP(H299,Info!$J$2:$K$16,2,FALSE))","v":""},0]
[" (  )",null,null,null,null,null,null,null,null,null,null,null,null,null,null,null,null,null,null,{"$f":"IF(ISNA(VLOOKUP(H300,Info!$J$2:$K$16,2,FALSE)),\"\",VLOOKUP(H300,Info!$J$2:$K$16,2,FALSE))","v":""},0]
[" (  )",null,null,null,null,null,null,null,null,null,null,null,null,null,null,null,null,null,null,{"$f":"IF(ISNA(VLOOKUP(H301,Info!$J$2:$K$16,2,FALSE)),\"\",VLOOKUP(H301,Info!$J$2:$K$16,2,FALSE))","v":""},0]
[" (  )",null,null,null,null,null,null,null,null,null,null,null,null,null,null,null,null,null,null,{"$f":"IF(ISNA(VLOOKUP(H302,Info!$J$2:$K$16,2,FALSE)),\"\",VLOOKUP(H302,Info!$J$2:$K$16,2,FALSE))","v":""},0]
[" (  )",null,null,null,null,null,null,null,null,null,null,null,null,null,null,null,null,null,null,{"$f":"IF(ISNA(VLOOKUP(H303,Info!$J$2:$K$16,2,FALSE)),\"\",VLOOKUP(H303,Info!$J$2:$K$16,2,FALSE))","v":""},0]
[" (  )",null,null,null,null,null,null,null,null,null,null,null,null,null,null,null,null,null,null,{"$f":"IF(ISNA(VLOOKUP(H304,Info!$J$2:$K$16,2,FALSE)),\"\",VLOOKUP(H304,Info!$J$2:$K$16,2,FALSE))","v":""},0]
[" (  )",null,null,null,null,null,null,null,null,null,null,null,null,null,null,null,null,null,null,{"$f":"IF(ISNA(VLOOKUP(H305,Info!$J$2:$K$16,2,FALSE)),\"\",VLOOKUP(H305,Info!$J$2:$K$16,2,FALSE))","v":""},0]
[" (  )",null,null,null,null,null,null,null,null,null,null,null,null,null,null,null,null,null,null,{"$f":"IF(ISNA(VLOOKUP(H306,Info!$J$2:$K$16,2,FALSE)),\"\",VLOOKUP(H306,Info!$J$2:$K$16,2,FALSE))","v":""},0]
[" (  )",null,null,null,null,null,null,null,null,null,null,null,null,null,null,null,null,null,null,{"$f":"IF(ISNA(VLOOKUP(H307,Info!$J$2:$K$16,2,FALSE)),\"\",VLOOKUP(H307,Info!$J$2:$K$16,2,FALSE))","v":""},0]
[" (  )",null,null,null,null,null,null,null,null,null,null,null,null,null,null,null,null,null,null,{"$f":"IF(ISNA(VLOOKUP(H308,Info!$J$2:$K$16,2,FALSE)),\"\",VLOOKUP(H308,Info!$J$2:$K$16,2,FALSE))","v":""},0]
[" (  )",null,null,null,null,null,null,null,null,null,null,null,null,null,null,null,null,null,null,{"$f":"IF(ISNA(VLOOKUP(H309,Info!$J$2:$K$16,2,FALSE)),\"\",VLOOKUP(H309,Info!$J$2:$K$16,2,FALSE))","v":""},0]
[" (  )",null,null,null,null,null,null,null,null,null,null,null,null,null,null,null,null,null,null,{"$f":"IF(ISNA(VLOOKUP(H310,Info!$J$2:$K$16,2,FALSE)),\"\",VLOOKUP(H310,Info!$J$2:$K$16,2,FALSE))","v":""},0]
[" (  )",null,null,null,null,null,null,null,null,null,null,null,null,null,null,null,null,null,null,{"$f":"IF(ISNA(VLOOKUP(H311,Info!$J$2:$K$16,2,FALSE)),\"\",VLOOKUP(H311,Info!$J$2:$K$16,2,FALSE))","v":""},0]
[" (  )",null,null,null,null,null,null,null,null,null,null,null,null,null,null,null,null,null,null,{"$f":"IF(ISNA(VLOOKUP(H312,Info!$J$2:$K$16,2,FALSE)),\"\",VLOOKUP(H312,Info!$J$2:$K$16,2,FALSE))","v":""},0]
[" (  )",null,null,null,null,null,null,null,null,null,null,null,null,null,null,null,null,null,null,{"$f":"IF(ISNA(VLOOKUP(H313,Info!$J$2:$K$16,2,FALSE)),\"\",VLOOKUP(H313,Info!$J$2:$K$16,2,FALSE))","v":""},0]
[" (  )",null,null,null,null,null,null,null,null,null,null,null,null,null,null,null,null,null,null,{"$f":"IF(ISNA(VLOOKUP(H314,Info!$J$2:$K$16,2,FALSE)),\"\",VLOOKUP(H314,Info!$J$2:$K$16,2,FALSE))","v":""},0]
[" (  )",null,null,null,null,null,null,null,null,null,null,null,null,null,null,null,null,null,null,{"$f":"IF(ISNA(VLOOKUP(H315,Info!$J$2:$K$16,2,FALSE)),\"\",VLOOKUP(H315,Info!$J$2:$K$16,2,FALSE))","v":""},0]
[" (  )",null,null,null,null,null,null,null,null,null,null,null,null,null,null,null,null,null,null,{"$f":"IF(ISNA(VLOOKUP(H316,Info!$J$2:$K$16,2,FALSE)),\"\",VLOOKUP(H316,Info!$J$2:$K$16,2,FALSE))","v":""},0]
[" (  )",null,null,null,null,null,null,null,null,null,null,null,null,null,null,null,null,null,null,{"$f":"IF(ISNA(VLOOKUP(H317,Info!$J$2:$K$16,2,FALSE)),\"\",VLOOKUP(H317,Info!$J$2:$K$16,2,FALSE))","v":""},0]
[" (  )",null,null,null,null,null,null,null,null,null,null,null,null,null,null,null,null,null,null,{"$f":"IF(ISNA(VLOOKUP(H318,Info!$J$2:$K$16,2,FALSE)),\"\",VLOOKUP(H318,Info!$J$2:$K$16,2,FALSE))","v":""},0]
[" (  )",null,null,null,null,null,null,null,null,null,null,null,null,null,null,null,null,null,null,{"$f":"IF(ISNA(VLOOKUP(H319,Info!$J$2:$K$16,2,FALSE)),\"\",VLOOKUP(H319,Info!$J$2:$K$16,2,FALSE))","v":""},0]
[" (  )",null,null,null,null,null,null,null,null,null,null,null,null,null,null,null,null,null,null,{"$f":"IF(ISNA(VLOOKUP(H320,Info!$J$2:$K$16,2,FALSE)),\"\",VLOOKUP(H320,Info!$J$2:$K$16,2,FALSE))","v":""},0]
[" (  )",null,null,null,null,null,null,null,null,null,null,null,null,null,null,null,null,null,null,{"$f":"IF(ISNA(VLOOKUP(H321,Info!$J$2:$K$16,2,FALSE)),\"\",VLOOKUP(H321,Info!$J$2:$K$16,2,FALSE))","v":""},0]
[" (  )",null,null,null,null,null,null,null,null,null,null,null,null,null,null,null,null,null,null,{"$f":"IF(ISNA(VLOOKUP(H322,Info!$J$2:$K$16,2,FALSE)),\"\",VLOOKUP(H322,Info!$J$2:$K$16,2,FALSE))","v":""},0]
[" (  )",null,null,null,null,null,null,null,null,null,null,null,null,null,null,null,null,null,null,{"$f":"IF(ISNA(VLOOKUP(H323,Info!$J$2:$K$16,2,FALSE)),\"\",VLOOKUP(H323,Info!$J$2:$K$16,2,FALSE))","v":""},0]
[" (  )",null,null,null,null,null,null,null,null,null,null,null,null,null,null,null,null,null,null,{"$f":"IF(ISNA(VLOOKUP(H324,Info!$J$2:$K$16,2,FALSE)),\"\",VLOOKUP(H324,Info!$J$2:$K$16,2,FALSE))","v":""},0]
[{"$f":"CONCATENATE(C325,\" ( \",B325,\" )\")","v":" (  )"},null,null,null,null,null,null,null,null,null,null,null,null,null,null,null,null,null,null,{"$f":"IF(ISNA(VLOOKUP(H325,Info!$J$2:$K$16,2,FALSE)),\"\",VLOOKUP(H325,Info!$J$2:$K$16,2,FALSE))","v":""},{"$f":"SUM(N325,S325)","v":0}]
[" (  )",null,null,null,null,null,null,null,null,null,null,null,null,null,null,null,null,null,null,{"$f":"IF(ISNA(VLOOKUP(H326,Info!$J$2:$K$16,2,FALSE)),\"\",VLOOKUP(H326,Info!$J$2:$K$16,2,FALSE))","v":""},0]
[" (  )",null,null,null,null,null,null,null,null,null,null,null,null,null,null,null,null,null,null,{"$f":"IF(ISNA(VLOOKUP(H327,Info!$J$2:$K$16,2,FALSE)),\"\",VLOOKUP(H327,Info!$J$2:$K$16,2,FALSE))","v":""},0]
[" (  )",null,null,null,null,null,null,null,null,null,null,null,null,null,null,null,null,null,null,{"$f":"IF(ISNA(VLOOKUP(H328,Info!$J$2:$K$16,2,FALSE)),\"\",VLOOKUP(H328,Info!$J$2:$K$16,2,FALSE))","v":""},0]
[" (  )",null,null,null,null,null,null,null,null,null,null,null,null,null,null,null,null,null,null,{"$f":"IF(ISNA(VLOOKUP(H329,Info!$J$2:$K$16,2,FALSE)),\"\",VLOOKUP(H329,Info!$J$2:$K$16,2,FALSE))","v":""},0]
[" (  )",null,null,null,null,null,null,null,null,null,null,null,null,null,null,null,null,null,null,{"$f":"IF(ISNA(VLOOKUP(H330,Info!$J$2:$K$16,2,FALSE)),\"\",VLOOKUP(H330,Info!$J$2:$K$16,2,FALSE))","v":""},0]
[" (  )",null,null,null,null,null,null,null,null,null,null,null,null,null,null,null,null,null,null,{"$f":"IF(ISNA(VLOOKUP(H331,Info!$J$2:$K$16,2,FALSE)),\"\",VLOOKUP(H331,Info!$J$2:$K$16,2,FALSE))","v":""},0]
[" (  )",null,null,null,null,null,null,null,null,null,null,null,null,null,null,null,null,null,null,{"$f":"IF(ISNA(VLOOKUP(H332,Info!$J$2:$K$16,2,FALSE)),\"\",VLOOKUP(H332,Info!$J$2:$K$16,2,FALSE))","v":""},0]
[" (  )",null,null,null,null,null,null,null,null,null,null,null,null,null,null,null,null,null,null,{"$f":"IF(ISNA(VLOOKUP(H333,Info!$J$2:$K$16,2,FALSE)),\"\",VLOOKUP(H333,Info!$J$2:$K$16,2,FALSE))","v":""},0]
[" (  )",null,null,null,null,null,null,null,null,null,null,null,null,null,null,null,null,null,null,{"$f":"IF(ISNA(VLOOKUP(H334,Info!$J$2:$K$16,2,FALSE)),\"\",VLOOKUP(H334,Info!$J$2:$K$16,2,FALSE))","v":""},0]
[" (  )",null,null,null,null,null,null,null,null,null,null,null,null,null,null,null,null,null,null,{"$f":"IF(ISNA(VLOOKUP(H335,Info!$J$2:$K$16,2,FALSE)),\"\",VLOOKUP(H335,Info!$J$2:$K$16,2,FALSE))","v":""},0]
[" (  )",null,null,null,null,null,null,null,null,null,null,null,null,null,null,null,null,null,null,{"$f":"IF(ISNA(VLOOKUP(H336,Info!$J$2:$K$16,2,FALSE)),\"\",VLOOKUP(H336,Info!$J$2:$K$16,2,FALSE))","v":""},0]
[" (  )",null,null,null,null,null,null,null,null,null,null,null,null,null,null,null,null,null,null,{"$f":"IF(ISNA(VLOOKUP(H337,Info!$J$2:$K$16,2,FALSE)),\"\",VLOOKUP(H337,Info!$J$2:$K$16,2,FALSE))","v":""},0]
[" (  )",null,null,null,null,null,null,null,null,null,null,null,null,null,null,null,null,null,null,{"$f":"IF(ISNA(VLOOKUP(H338,Info!$J$2:$K$16,2,FALSE)),\"\",VLOOKUP(H338,Info!$J$2:$K$16,2,FALSE))","v":""},0]
[" (  )",null,null,null,null,null,null,null,null,null,null,null,null,null,null,null,null,null,null,{"$f":"IF(ISNA(VLOOKUP(H339,Info!$J$2:$K$16,2,FALSE)),\"\",VLOOKUP(H339,Info!$J$2:$K$16,2,FALSE))","v":""},0]
[" (  )",null,null,null,null,null,null,null,null,null,null,null,null,null,null,null,null,null,null,{"$f":"IF(ISNA(VLOOKUP(H340,Info!$J$2:$K$16,2,FALSE)),\"\",VLOOKUP(H340,Info!$J$2:$K$16,2,FALSE))","v":""},0]
[" (  )",null,null,null,null,null,null,null,null,null,null,null,null,null,null,null,null,null,null,{"$f":"IF(ISNA(VLOOKUP(H341,Info!$J$2:$K$16,2,FALSE)),\"\",VLOOKUP(H341,Info!$J$2:$K$16,2,FALSE))","v":""},0]
[" (  )",null,null,null,null,null,null,null,null,null,null,null,null,null,null,null,null,null,null,{"$f":"IF(ISNA(VLOOKUP(H342,Info!$J$2:$K$16,2,FALSE)),\"\",VLOOKUP(H342,Info!$J$2:$K$16,2,FALSE))","v":""},0]
[" (  )",null,null,null,null,null,null,null,null,null,null,null,null,null,null,null,null,null,null,{"$f":"IF(ISNA(VLOOKUP(H343,Info!$J$2:$K$16,2,FALSE)),\"\",VLOOKUP(H343,Info!$J$2:$K$16,2,FALSE))","v":""},0]
[" (  )",null,null,null,null,null,null,null,null,null,null,null,null,null,null,null,null,null,null,{"$f":"IF(ISNA(VLOOKUP(H344,Info!$J$2:$K$16,2,FALSE)),\"\",VLOOKUP(H344,Info!$J$2:$K$16,2,FALSE))","v":""},0]
[" (  )",null,null,null,null,null,null,null,null,null,null,null,null,null,null,null,null,null,null,{"$f":"IF(ISNA(VLOOKUP(H345,Info!$J$2:$K$16,2,FALSE)),\"\",VLOOKUP(H345,Info!$J$2:$K$16,2,FALSE))","v":""},0]
[" (  )",null,null,null,null,null,null,null,null,null,null,null,null,null,null,null,null,null,null,{"$f":"IF(ISNA(VLOOKUP(H346,Info!$J$2:$K$16,2,FALSE)),\"\",VLOOKUP(H346,Info!$J$2:$K$16,2,FALSE))","v":""},0]
[" (  )",null,null,null,null,null,null,null,null,null,null,null,null,null,null,null,null,null,null,{"$f":"IF(ISNA(VLOOKUP(H347,Info!$J$2:$K$16,2,FALSE)),\"\",VLOOKUP(H347,Info!$J$2:$K$16,2,FALSE))","v":""},0]
[" (  )",null,null,null,null,null,null,null,null,null,null,null,null,null,null,null,null,null,null,{"$f":"IF(ISNA(VLOOKUP(H348,Info!$J$2:$K$16,2,FALSE)),\"\",VLOOKUP(H348,Info!$J$2:$K$16,2,FALSE))","v":""},0]
[" (  )",null,null,null,null,null,null,null,null,null,null,null,null,null,null,null,null,null,null,{"$f":"IF(ISNA(VLOOKUP(H349,Info!$J$2:$K$16,2,FALSE)),\"\",VLOOKUP(H349,Info!$J$2:$K$16,2,FALSE))","v":""},0]
[" (  )",null,null,null,null,null,null,null,null,null,null,null,null,null,null,null,null,null,null,{"$f":"IF(ISNA(VLOOKUP(H350,Info!$J$2:$K$16,2,FALSE)),\"\",VLOOKUP(H350,Info!$J$2:$K$16,2,FALSE))","v":""},0]
[" (  )",null,null,null,null,null,null,null,null,null,null,null,null,null,null,null,null,null,null,{"$f":"IF(ISNA(VLOOKUP(H351,Info!$J$2:$K$16,2,FALSE)),\"\",VLOOKUP(H351,Info!$J$2:$K$16,2,FALSE))","v":""},0]
[" (  )",null,null,null,null,null,null,null,null,null,null,null,null,null,null,null,null,null,null,{"$f":"IF(ISNA(VLOOKUP(H352,Info!$J$2:$K$16,2,FALSE)),\"\",VLOOKUP(H352,Info!$J$2:$K$16,2,FALSE))","v":""},0]
[" (  )",null,null,null,null,null,null,null,null,null,null,null,null,null,null,null,null,null,null,{"$f":"IF(ISNA(VLOOKUP(H353,Info!$J$2:$K$16,2,FALSE)),\"\",VLOOKUP(H353,Info!$J$2:$K$16,2,FALSE))","v":""},0]
[" (  )",null,null,null,null,null,null,null,null,null,null,null,null,null,null,null,null,null,null,{"$f":"IF(ISNA(VLOOKUP(H354,Info!$J$2:$K$16,2,FALSE)),\"\",VLOOKUP(H354,Info!$J$2:$K$16,2,FALSE))","v":""},0]
[" (  )",null,null,null,null,null,null,null,null,null,null,null,null,null,null,null,null,null,null,{"$f":"IF(ISNA(VLOOKUP(H355,Info!$J$2:$K$16,2,FALSE)),\"\",VLOOKUP(H355,Info!$J$2:$K$16,2,FALSE))","v":""},0]
[" (  )",null,null,null,null,null,null,null,null,null,null,null,null,null,null,null,null,null,null,{"$f":"IF(ISNA(VLOOKUP(H356,Info!$J$2:$K$16,2,FALSE)),\"\",VLOOKUP(H356,Info!$J$2:$K$16,2,FALSE))","v":""},0]
[" (  )",null,null,null,null,null,null,null,null,null,null,null,null,null,null,null,null,null,null,{"$f":"IF(ISNA(VLOOKUP(H357,Info!$J$2:$K$16,2,FALSE)),\"\",VLOOKUP(H357,Info!$J$2:$K$16,2,FALSE))","v":""},0]
[" (  )",null,null,null,null,null,null,null,null,null,null,null,null,null,null,null,null,null,null,{"$f":"IF(ISNA(VLOOKUP(H358,Info!$J$2:$K$16,2,FALSE)),\"\",VLOOKUP(H358,Info!$J$2:$K$16,2,FALSE))","v":""},0]
[" (  )",null,null,null,null,null,null,null,null,null,null,null,null,null,null,null,null,null,null,{"$f":"IF(ISNA(VLOOKUP(H359,Info!$J$2:$K$16,2,FALSE)),\"\",VLOOKUP(H359,Info!$J$2:$K$16,2,FALSE))","v":""},0]
[" (  )",null,null,null,null,null,null,null,null,null,null,null,null,null,null,null,null,null,null,{"$f":"IF(ISNA(VLOOKUP(H360,Info!$J$2:$K$16,2,FALSE)),\"\",VLOOKUP(H360,Info!$J$2:$K$16,2,FALSE))","v":""},0]
[" (  )",null,null,null,null,null,null,null,null,null,null,null,null,null,null,null,null,null,null,{"$f":"IF(ISNA(VLOOKUP(H361,Info!$J$2:$K$16,2,FALSE)),\"\",VLOOKUP(H361,Info!$J$2:$K$16,2,FALSE))","v":""},0]
[" (  )",null,null,null,null,null,null,null,null,null,null,null,null,null,null,null,null,null,null,{"$f":"IF(ISNA(VLOOKUP(H362,Info!$J$2:$K$16,2,FALSE)),\"\",VLOOKUP(H362,Info!$J$2:$K$16,2,FALSE))","v":""},0]
[" (  )",null,null,null,null,null,null,null,null,null,null,null,null,null,null,null,null,null,null,{"$f":"IF(ISNA(VLOOKUP(H363,Info!$J$2:$K$16,2,FALSE)),\"\",VLOOKUP(H363,Info!$J$2:$K$16,2,FALSE))","v":""},0]
[" (  )",null,null,null,null,null,null,null,null,null,null,null,null,null,null,null,null,null,null,{"$f":"IF(ISNA(VLOOKUP(H364,Info!$J$2:$K$16,2,FALSE)),\"\",VLOOKUP(H364,Info!$J$2:$K$16,2,FALSE))","v":""},0]
[" (  )",null,null,null,null,null,null,null,null,null,null,null,null,null,null,null,null,null,null,{"$f":"IF(ISNA(VLOOKUP(H365,Info!$J$2:$K$16,2,FALSE)),\"\",VLOOKUP(H365,Info!$J$2:$K$16,2,FALSE))","v":""},0]
[" (  )",null,null,null,null,null,null,null,null,null,null,null,null,null,null,null,null,null,null,{"$f":"IF(ISNA(VLOOKUP(H366,Info!$J$2:$K$16,2,FALSE)),\"\",VLOOKUP(H366,Info!$J$2:$K$16,2,FALSE))","v":""},0]
[" (  )",null,null,null,null,null,null,null,null,null,null,null,null,null,null,null,null,null,null,{"$f":"IF(ISNA(VLOOKUP(H367,Info!$J$2:$K$16,2,FALSE)),\"\",VLOOKUP(H367,Info!$J$2:$K$16,2,FALSE))","v":""},0]
[" (  )",null,null,null,null,null,null,null,null,null,null,null,null,null,null,null,null,null,null,{"$f":"IF(ISNA(VLOOKUP(H368,Info!$J$2:$K$16,2,FALSE)),\"\",VLOOKUP(H368,Info!$J$2:$K$16,2,FALSE))","v":""},0]
[" (  )",null,null,null,null,null,null,null,null,null,null,null,null,null,null,null,null,null,null,{"$f":"IF(ISNA(VLOOKUP(H369,Info!$J$2:$K$16,2,FALSE)),\"\",VLOOKUP(H369,Info!$J$2:$K$16,2,FALSE))","v":""},0]
[" (  )",null,null,null,null,null,null,null,null,null,null,null,null,null,null,null,null,null,null,{"$f":"IF(ISNA(VLOOKUP(H370,Info!$J$2:$K$16,2,FALSE)),\"\",VLOOKUP(H370,Info!$J$2:$K$16,2,FALSE))","v":""},0]
[" (  )",null,null,null,null,null,null,null,null,null,null,null,null,null,null,null,null,null,null,{"$f":"IF(ISNA(VLOOKUP(H371,Info!$J$2:$K$16,2,FALSE)),\"\",VLOOKUP(H371,Info!$J$2:$K$16,2,FALSE))","v":""},0]
[" (  )",null,null,null,null,null,null,null,null,null,null,null,null,null,null,null,null,null,null,{"$f":"IF(ISNA(VLOOKUP(H372,Info!$J$2:$K$16,2,FALSE)),\"\",VLOOKUP(H372,Info!$J$2:$K$16,2,FALSE))","v":""},0]
[" (  )",null,null,null,null,null,null,null,null,null,null,null,null,null,null,null,null,null,null,{"$f":"IF(ISNA(VLOOKUP(H373,Info!$J$2:$K$16,2,FALSE)),\"\",VLOOKUP(H373,Info!$J$2:$K$16,2,FALSE))","v":""},0]
[" (  )",null,null,null,null,null,null,null,null,null,null,null,null,null,null,null,null,null,null,{"$f":"IF(ISNA(VLOOKUP(H374,Info!$J$2:$K$16,2,FALSE)),\"\",VLOOKUP(H374,Info!$J$2:$K$16,2,FALSE))","v":""},0]
[" (  )",null,null,null,null,null,null,null,null,null,null,null,null,null,null,null,null,null,null,{"$f":"IF(ISNA(VLOOKUP(H375,Info!$J$2:$K$16,2,FALSE)),\"\",VLOOKUP(H375,Info!$J$2:$K$16,2,FALSE))","v":""},0]
[" (  )",null,null,null,null,null,null,null,null,null,null,null,null,null,null,null,null,null,null,{"$f":"IF(ISNA(VLOOKUP(H376,Info!$J$2:$K$16,2,FALSE)),\"\",VLOOKUP(H376,Info!$J$2:$K$16,2,FALSE))","v":""},0]
[" (  )",null,null,null,null,null,null,null,null,null,null,null,null,null,null,null,null,null,null,{"$f":"IF(ISNA(VLOOKUP(H377,Info!$J$2:$K$16,2,FALSE)),\"\",VLOOKUP(H377,Info!$J$2:$K$16,2,FALSE))","v":""},0]
[" (  )",null,null,null,null,null,null,null,null,null,null,null,null,null,null,null,null,null,null,{"$f":"IF(ISNA(VLOOKUP(H378,Info!$J$2:$K$16,2,FALSE)),\"\",VLOOKUP(H378,Info!$J$2:$K$16,2,FALSE))","v":""},0]
[" (  )",null,null,null,null,null,null,null,null,null,null,null,null,null,null,null,null,null,null,{"$f":"IF(ISNA(VLOOKUP(H379,Info!$J$2:$K$16,2,FALSE)),\"\",VLOOKUP(H379,Info!$J$2:$K$16,2,FALSE))","v":""},0]
[" (  )",null,null,null,null,null,null,null,null,null,null,null,null,null,null,null,null,null,null,{"$f":"IF(ISNA(VLOOKUP(H380,Info!$J$2:$K$16,2,FALSE)),\"\",VLOOKUP(H380,Info!$J$2:$K$16,2,FALSE))","v":""},0]
[" (  )",null,null,null,null,null,null,null,null,null,null,null,null,null,null,null,null,null,null,{"$f":"IF(ISNA(VLOOKUP(H381,Info!$J$2:$K$16,2,FALSE)),\"\",VLOOKUP(H381,Info!$J$2:$K$16,2,FALSE))","v":""},0]
[" (  )",null,null,null,null,null,null,null,null,null,null,null,null,null,null,null,null,null,null,{"$f":"IF(ISNA(VLOOKUP(H382,Info!$J$2:$K$16,2,FALSE)),\"\",VLOOKUP(H382,Info!$J$2:$K$16,2,FALSE))","v":""},0]
[" (  )",null,null,null,null,null,null,null,null,null,null,null,null,null,null,null,null,null,null,{"$f":"IF(ISNA(VLOOKUP(H383,Info!$J$2:$K$16,2,FALSE)),\"\",VLOOKUP(H383,Info!$J$2:$K$16,2,FALSE))","v":""},0]
[" (  )",null,null,null,null,null,null,null,null,null,null,null,null,null,null,null,null,null,null,{"$f":"IF(ISNA(VLOOKUP(H384,Info!$J$2:$K$16,2,FALSE)),\"\",VLOOKUP(H384,Info!$J$2:$K$16,2,FALSE))","v":""},0]
[" (  )",null,null,null,null,null,null,null,null,null,null,null,null,null,null,null,null,null,null,{"$f":"IF(ISNA(VLOOKUP(H385,Info!$J$2:$K$16,2,FALSE)),\"\",VLOOKUP(H385,Info!$J$2:$K$16,2,FALSE))","v":""},0]
[" (  )",null,null,null,null,null,null,null,null,null,null,null,null,null,null,null,null,null,null,{"$f":"IF(ISNA(VLOOKUP(H386,Info!$J$2:$K$16,2,FALSE)),\"\",VLOOKUP(H386,Info!$J$2:$K$16,2,FALSE))","v":""},0]
[" (  )",null,null,null,null,null,null,null,null,null,null,null,null,null,null,null,null,null,null,{"$f":"IF(ISNA(VLOOKUP(H387,Info!$J$2:$K$16,2,FALSE)),\"\",VLOOKUP(H387,Info!$J$2:$K$16,2,FALSE))","v":""},0]
[" (  )",null,null,null,null,null,null,null,null,null,null,null,null,null,null,null,null,null,null,{"$f":"IF(ISNA(VLOOKUP(H388,Info!$J$2:$K$16,2,FALSE)),\"\",VLOOKUP(H388,Info!$J$2:$K$16,2,FALSE))","v":""},0]
[{"$f":"CONCATENATE(C389,\" ( \",B389,\" )\")","v":" (  )"},null,null,null,null,null,null,null,null,null,null,null,null,null,null,null,null,null,null,{"$f":"IF(ISNA(VLOOKUP(H389,Info!$J$2:$K$16,2,FALSE)),\"\",VLOOKUP(H389,Info!$J$2:$K$16,2,FALSE))","v":""},{"$f":"SUM(N389,S389)","v":0}]
[" (  )",null,null,null,null,null,null,null,null,null,null,null,null,null,null,null,null,null,null,{"$f":"IF(ISNA(VLOOKUP(H390,Info!$J$2:$K$16,2,FALSE)),\"\",VLOOKUP(H390,Info!$J$2:$K$16,2,FALSE))","v":""},0]
[" (  )",null,null,null,null,null,null,null,null,null,null,null,null,null,null,null,null,null,null,{"$f":"IF(ISNA(VLOOKUP(H391,Info!$J$2:$K$16,2,FALSE)),\"\",VLOOKUP(H391,Info!$J$2:$K$16,2,FALSE))","v":""},0]
[" (  )",null,null,null,null,null,null,null,null,null,null,null,null,null,null,null,null,null,null,{"$f":"IF(ISNA(VLOOKUP(H392,Info!$J$2:$K$16,2,FALSE)),\"\",VLOOKUP(H392,Info!$J$2:$K$16,2,FALSE))","v":""},0]
[" (  )",null,null,null,null,null,null,null,null,null,null,null,null,null,null,null,null,null,null,{"$f":"IF(ISNA(VLOOKUP(H393,Info!$J$2:$K$16,2,FALSE)),\"\",VLOOKUP(H393,Info!$J$2:$K$16,2,FALSE))","v":""},0]
[" (  )",null,null,null,null,null,null,null,null,null,null,null,null,null,null,null,null,null,null,{"$f":"IF(ISNA(VLOOKUP(H394,Info!$J$2:$K$16,2,FALSE)),\"\",VLOOKUP(H394,Info!$J$2:$K$16,2,FALSE))","v":""},0]
[" (  )",null,null,null,null,null,null,null,null,null,null,null,null,null,null,null,null,null,null,{"$f":"IF(ISNA(VLOOKUP(H395,Info!$J$2:$K$16,2,FALSE)),\"\",VLOOKUP(H395,Info!$J$2:$K$16,2,FALSE))","v":""},0]
[" (  )",null,null,null,null,null,null,null,null,null,null,null,null,null,null,null,null,null,null,{"$f":"IF(ISNA(VLOOKUP(H396,Info!$J$2:$K$16,2,FALSE)),\"\",VLOOKUP(H396,Info!$J$2:$K$16,2,FALSE))","v":""},0]
[" (  )",null,null,null,null,null,null,null,null,null,null,null,null,null,null,null,null,null,null,{"$f":"IF(ISNA(VLOOKUP(H397,Info!$J$2:$K$16,2,FALSE)),\"\",VLOOKUP(H397,Info!$J$2:$K$16,2,FALSE))","v":""},0]
[" (  )",null,null,null,null,null,null,null,null,null,null,null,null,null,null,null,null,null,null,{"$f":"IF(ISNA(VLOOKUP(H398,Info!$J$2:$K$16,2,FALSE)),\"\",VLOOKUP(H398,Info!$J$2:$K$16,2,FALSE))","v":""},0]
[" (  )",null,null,null,null,null,null,null,null,null,null,null,null,null,null,null,null,null,null,{"$f":"IF(ISNA(VLOOKUP(H399,Info!$J$2:$K$16,2,FALSE)),\"\",VLOOKUP(H399,Info!$J$2:$K$16,2,FALSE))","v":""},0]
[" (  )",null,null,null,null,null,null,null,null,null,null,null,null,null,null,null,null,null,null,{"$f":"IF(ISNA(VLOOKUP(H400,Info!$J$2:$K$16,2,FALSE)),\"\",VLOOKUP(H400,Info!$J$2:$K$16,2,FALSE))","v":""},0]
[" (  )",null,null,null,null,null,null,null,null,null,null,null,null,null,null,null,null,null,null,{"$f":"IF(ISNA(VLOOKUP(H401,Info!$J$2:$K$16,2,FALSE)),\"\",VLOOKUP(H401,Info!$J$2:$K$16,2,FALSE))","v":""},0]
[" (  )",null,null,null,null,null,null,null,null,null,null,null,null,null,null,null,null,null,null,{"$f":"IF(ISNA(VLOOKUP(H402,Info!$J$2:$K$16,2,FALSE)),\"\",VLOOKUP(H402,Info!$J$2:$K$16,2,FALSE))","v":""},0]
[" (  )",null,null,null,null,null,null,null,null,null,null,null,null,null,null,null,null,null,null,{"$f":"IF(ISNA(VLOOKUP(H403,Info!$J$2:$K$16,2,FALSE)),\"\",VLOOKUP(H403,Info!$J$2:$K$16,2,FALSE))","v":""},0]
[" (  )",null,null,null,null,null,null,null,null,null,null,null,null,null,null,null,null,null,null,{"$f":"IF(ISNA(VLOOKUP(H404,Info!$J$2:$K$16,2,FALSE)),\"\",VLOOKUP(H404,Info!$J$2:$K$16,2,FALSE))","v":""},0]
[" (  )",null,null,null,null,null,null,null,null,null,null,null,null,null,null,null,null,null,null,{"$f":"IF(ISNA(VLOOKUP(H405,Info!$J$2:$K$16,2,FALSE)),\"\",VLOOKUP(H405,Info!$J$2:$K$16,2,FALSE))","v":""},0]
[" (  )",null,null,null,null,null,null,null,null,null,null,null,null,null,null,null,null,null,null,{"$f":"IF(ISNA(VLOOKUP(H406,Info!$J$2:$K$16,2,FALSE)),\"\",VLOOKUP(H406,Info!$J$2:$K$16,2,FALSE))","v":""},0]
[" (  )",null,null,null,null,null,null,null,null,null,null,null,null,null,null,null,null,null,null,{"$f":"IF(ISNA(VLOOKUP(H407,Info!$J$2:$K$16,2,FALSE)),\"\",VLOOKUP(H407,Info!$J$2:$K$16,2,FALSE))","v":""},0]
[" (  )",null,null,null,null,null,null,null,null,null,null,null,null,null,null,null,null,null,null,{"$f":"IF(ISNA(VLOOKUP(H408,Info!$J$2:$K$16,2,FALSE)),\"\",VLOOKUP(H408,Info!$J$2:$K$16,2,FALSE))","v":""},0]
[" (  )",null,null,null,null,null,null,null,null,null,null,null,null,null,null,null,null,null,null,{"$f":"IF(ISNA(VLOOKUP(H409,Info!$J$2:$K$16,2,FALSE)),\"\",VLOOKUP(H409,Info!$J$2:$K$16,2,FALSE))","v":""},0]
[" (  )",null,null,null,null,null,null,null,null,null,null,null,null,null,null,null,null,null,null,{"$f":"IF(ISNA(VLOOKUP(H410,Info!$J$2:$K$16,2,FALSE)),\"\",VLOOKUP(H410,Info!$J$2:$K$16,2,FALSE))","v":""},0]
[" (  )",null,null,null,null,null,null,null,null,null,null,null,null,null,null,null,null,null,null,{"$f":"IF(ISNA(VLOOKUP(H411,Info!$J$2:$K$16,2,FALSE)),\"\",VLOOKUP(H411,Info!$J$2:$K$16,2,FALSE))","v":""},0]
[" (  )",null,null,null,null,null,null,null,null,null,null,null,null,null,null,null,null,null,null,{"$f":"IF(ISNA(VLOOKUP(H412,Info!$J$2:$K$16,2,FALSE)),\"\",VLOOKUP(H412,Info!$J$2:$K$16,2,FALSE))","v":""},0]
[" (  )",null,null,null,null,null,null,null,null,null,null,null,null,null,null,null,null,null,null,{"$f":"IF(ISNA(VLOOKUP(H413,Info!$J$2:$K$16,2,FALSE)),\"\",VLOOKUP(H413,Info!$J$2:$K$16,2,FALSE))","v":""},0]
[" (  )",null,null,null,null,null,null,null,null,null,null,null,null,null,null,null,null,null,null,{"$f":"IF(ISNA(VLOOKUP(H414,Info!$J$2:$K$16,2,FALSE)),\"\",VLOOKUP(H414,Info!$J$2:$K$16,2,FALSE))","v":""},0]
[" (  )",null,null,null,null,null,null,null,null,null,null,null,null,null,null,null,null,null,null,{"$f":"IF(ISNA(VLOOKUP(H415,Info!$J$2:$K$16,2,FALSE)),\"\",VLOOKUP(H415,Info!$J$2:$K$16,2,FALSE))","v":""},0]
[" (  )",null,null,null,null,null,null,null,null,null,null,null,null,null,null,null,null,null,null,{"$f":"IF(ISNA(VLOOKUP(H416,Info!$J$2:$K$16,2,FALSE)),\"\",VLOOKUP(H416,Info!$J$2:$K$16,2,FALSE))","v":""},0]
[" (  )",null,null,null,null,null,null,null,null,null,null,null,null,null,null,null,null,null,null,{"$f":"IF(ISNA(VLOOKUP(H417,Info!$J$2:$K$16,2,FALSE)),\"\",VLOOKUP(H417,Info!$J$2:$K$16,2,FALSE))","v":""},0]
[" (  )",null,null,null,null,null,null,null,null,null,null,null,null,null,null,null,null,null,null,{"$f":"IF(ISNA(VLOOKUP(H418,Info!$J$2:$K$16,2,FALSE)),\"\",VLOOKUP(H418,Info!$J$2:$K$16,2,FALSE))","v":""},0]
[" (  )",null,null,null,null,null,null,null,null,null,null,null,null,null,null,null,null,null,null,{"$f":"IF(ISNA(VLOOKUP(H419,Info!$J$2:$K$16,2,FALSE)),\"\",VLOOKUP(H419,Info!$J$2:$K$16,2,FALSE))","v":""},0]
[" (  )",null,null,null,null,null,null,null,null,null,null,null,null,null,null,null,null,null,null,{"$f":"IF(ISNA(VLOOKUP(H420,Info!$J$2:$K$16,2,FALSE)),\"\",VLOOKUP(H420,Info!$J$2:$K$16,2,FALSE))","v":""},0]
[" (  )",null,null,null,null,null,null,null,null,null,null,null,null,null,null,null,null,null,null,{"$f":"IF(ISNA(VLOOKUP(H421,Info!$J$2:$K$16,2,FALSE)),\"\",VLOOKUP(H421,Info!$J$2:$K$16,2,FALSE))","v":""},0]
[" (  )",null,null,null,null,null,null,null,null,null,null,null,null,null,null,null,null,null,null,{"$f":"IF(ISNA(VLOOKUP(H422,Info!$J$2:$K$16,2,FALSE)),\"\",VLOOKUP(H422,Info!$J$2:$K$16,2,FALSE))","v":""},0]
[" (  )",null,null,null,null,null,null,null,null,null,null,null,null,null,null,null,null,null,null,{"$f":"IF(ISNA(VLOOKUP(H423,Info!$J$2:$K$16,2,FALSE)),\"\",VLOOKUP(H423,Info!$J$2:$K$16,2,FALSE))","v":""},0]
[" (  )",null,null,null,null,null,null,null,null,null,null,null,null,null,null,null,null,null,null,{"$f":"IF(ISNA(VLOOKUP(H424,Info!$J$2:$K$16,2,FALSE)),\"\",VLOOKUP(H424,Info!$J$2:$K$16,2,FALSE))","v":""},0]
[" (  )",null,null,null,null,null,null,null,null,null,null,null,null,null,null,null,null,null,null,{"$f":"IF(ISNA(VLOOKUP(H425,Info!$J$2:$K$16,2,FALSE)),\"\",VLOOKUP(H425,Info!$J$2:$K$16,2,FALSE))","v":""},0]
[" (  )",null,null,null,null,null,null,null,null,null,null,null,null,null,null,null,null,null,null,{"$f":"IF(ISNA(VLOOKUP(H426,Info!$J$2:$K$16,2,FALSE)),\"\",VLOOKUP(H426,Info!$J$2:$K$16,2,FALSE))","v":""},0]
[" (  )",null,null,null,null,null,null,null,null,null,null,null,null,null,null,null,null,null,null,{"$f":"IF(ISNA(VLOOKUP(H427,Info!$J$2:$K$16,2,FALSE)),\"\",VLOOKUP(H427,Info!$J$2:$K$16,2,FALSE))","v":""},0]
[" (  )",null,null,null,null,null,null,null,null,null,null,null,null,null,null,null,null,null,null,{"$f":"IF(ISNA(VLOOKUP(H428,Info!$J$2:$K$16,2,FALSE)),\"\",VLOOKUP(H428,Info!$J$2:$K$16,2,FALSE))","v":""},0]
[" (  )",null,null,null,null,null,null,null,null,null,null,null,null,null,null,null,null,null,null,{"$f":"IF(ISNA(VLOOKUP(H429,Info!$J$2:$K$16,2,FALSE)),\"\",VLOOKUP(H429,Info!$J$2:$K$16,2,FALSE))","v":""},0]
[" (  )",null,null,null,null,null,null,null,null,null,null,null,null,null,null,null,null,null,null,{"$f":"IF(ISNA(VLOOKUP(H430,Info!$J$2:$K$16,2,FALSE)),\"\",VLOOKUP(H430,Info!$J$2:$K$16,2,FALSE))","v":""},0]
[" (  )",null,null,null,null,null,null,null,null,null,null,null,null,null,null,null,null,null,null,{"$f":"IF(ISNA(VLOOKUP(H431,Info!$J$2:$K$16,2,FALSE)),\"\",VLOOKUP(H431,Info!$J$2:$K$16,2,FALSE))","v":""},0]
[" (  )",null,null,null,null,null,null,null,null,null,null,null,null,null,null,null,null,null,null,{"$f":"IF(ISNA(VLOOKUP(H432,Info!$J$2:$K$16,2,FALSE)),\"\",VLOOKUP(H432,Info!$J$2:$K$16,2,FALSE))","v":""},0]
[" (  )",null,null,null,null,null,null,null,null,null,null,null,null,null,null,null,null,null,null,{"$f":"IF(ISNA(VLOOKUP(H433,Info!$J$2:$K$16,2,FALSE)),\"\",VLOOKUP(H433,Info!$J$2:$K$16,2,FALSE))","v":""},0]
[" (  )",null,null,null,null,null,null,null,null,null,null,null,null,null,null,null,null,null,null,{"$f":"IF(ISNA(VLOOKUP(H434,Info!$J$2:$K$16,2,FALSE)),\"\",VLOOKUP(H434,Info!$J$2:$K$16,2,FALSE))","v":""},0]
[" (  )",null,null,null,null,null,null,null,null,null,null,null,null,null,null,null,null,null,null,{"$f":"IF(ISNA(VLOOKUP(H435,Info!$J$2:$K$16,2,FALSE)),\"\",VLOOKUP(H435,Info!$J$2:$K$16,2,FALSE))","v":""},0]
[" (  )",null,null,null,null,null,null,null,null,null,null,null,null,null,null,null,null,null,null,{"$f":"IF(ISNA(VLOOKUP(H436,Info!$J$2:$K$16,2,FALSE)),\"\",VLOOKUP(H436,Info!$J$2:$K$16,2,FALSE))","v":""},0]
[" (  )",null,null,null,null,null,null,null,null,null,null,null,null,null,null,null,null,null,null,{"$f":"IF(ISNA(VLOOKUP(H437,Info!$J$2:$K$16,2,FALSE)),\"\",VLOOKUP(H437,Info!$J$2:$K$16,2,FALSE))","v":""},0]
[" (  )",null,null,null,null,null,null,null,null,null,null,null,null,null,null,null,null,null,null,{"$f":"IF(ISNA(VLOOKUP(H438,Info!$J$2:$K$16,2,FALSE)),\"\",VLOOKUP(H438,Info!$J$2:$K$16,2,FALSE))","v":""},0]
[" (  )",null,null,null,null,null,null,null,null,null,null,null,null,null,null,null,null,null,null,{"$f":"IF(ISNA(VLOOKUP(H439,Info!$J$2:$K$16,2,FALSE)),\"\",VLOOKUP(H439,Info!$J$2:$K$16,2,FALSE))","v":""},0]
[" (  )",null,null,null,null,null,null,null,null,null,null,null,null,null,null,null,null,null,null,{"$f":"IF(ISNA(VLOOKUP(H440,Info!$J$2:$K$16,2,FALSE)),\"\",VLOOKUP(H440,Info!$J$2:$K$16,2,FALSE))","v":""},0]
[" (  )",null,null,null,null,null,null,null,null,null,null,null,null,null,null,null,null,null,null,{"$f":"IF(ISNA(VLOOKUP(H441,Info!$J$2:$K$16,2,FALSE)),\"\",VLOOKUP(H441,Info!$J$2:$K$16,2,FALSE))","v":""},0]
[" (  )",null,null,null,null,null,null,null,null,null,null,null,null,null,null,null,null,null,null,{"$f":"IF(ISNA(VLOOKUP(H442,Info!$J$2:$K$16,2,FALSE)),\"\",VLOOKUP(H442,Info!$J$2:$K$16,2,FALSE))","v":""},0]
[" (  )",null,null,null,null,null,null,null,null,null,null,null,null,null,null,null,null,null,null,{"$f":"IF(ISNA(VLOOKUP(H443,Info!$J$2:$K$16,2,FALSE)),\"\",VLOOKUP(H443,Info!$J$2:$K$16,2,FALSE))","v":""},0]
[" (  )",null,null,null,null,null,null,null,null,null,null,null,null,null,null,null,null,null,null,{"$f":"IF(ISNA(VLOOKUP(H444,Info!$J$2:$K$16,2,FALSE)),\"\",VLOOKUP(H444,Info!$J$2:$K$16,2,FALSE))","v":""},0]
[" (  )",null,null,null,null,null,null,null,null,null,null,null,null,null,null,null,null,null,null,{"$f":"IF(ISNA(VLOOKUP(H445,Info!$J$2:$K$16,2,FALSE)),\"\",VLOOKUP(H445,Info!$J$2:$K$16,2,FALSE))","v":""},0]
[" (  )",null,null,null,null,null,null,null,null,null,null,null,null,null,null,null,null,null,null,{"$f":"IF(ISNA(VLOOKUP(H446,Info!$J$2:$K$16,2,FALSE)),\"\",VLOOKUP(H446,Info!$J$2:$K$16,2,FALSE))","v":""},0]
[" (  )",null,null,null,null,null,null,null,null,null,null,null,null,null,null,null,null,null,null,{"$f":"IF(ISNA(VLOOKUP(H447,Info!$J$2:$K$16,2,FALSE)),\"\",VLOOKUP(H447,Info!$J$2:$K$16,2,FALSE))","v":""},0]
[" (  )",null,null,null,null,null,null,null,null,null,null,null,null,null,null,null,null,null,null,{"$f":"IF(ISNA(VLOOKUP(H448,Info!$J$2:$K$16,2,FALSE)),\"\",VLOOKUP(H448,Info!$J$2:$K$16,2,FALSE))","v":""},0]
[" (  )",null,null,null,null,null,null,null,null,null,null,null,null,null,null,null,null,null,null,{"$f":"IF(ISNA(VLOOKUP(H449,Info!$J$2:$K$16,2,FALSE)),\"\",VLOOKUP(H449,Info!$J$2:$K$16,2,FALSE))","v":""},0]
[" (  )",null,null,null,null,null,null,null,null,null,null,null,null,null,null,null,null,null,null,{"$f":"IF(ISNA(VLOOKUP(H450,Info!$J$2:$K$16,2,FALSE)),\"\",VLOOKUP(H450,Info!$J$2:$K$16,2,FALSE))","v":""},0]
[" (  )",null,null,null,null,null,null,null,null,null,null,null,null,null,null,null,null,null,null,{"$f":"IF(ISNA(VLOOKUP(H451,Info!$J$2:$K$16,2,FALSE)),\"\",VLOOKUP(H451,Info!$J$2:$K$16,2,FALSE))","v":""},0]
[" (  )",null,null,null,null,null,null,null,null,null,null,null,null,null,null,null,null,null,null,{"$f":"IF(ISNA(VLOOKUP(H452,Info!$J$2:$K$16,2,FALSE)),\"\",VLOOKUP(H452,Info!$J$2:$K$16,2,FALSE))","v":""},0]
[{"$f":"CONCATENATE(C453,\" ( \",B453,\" )\")","v":" (  )"},null,null,null,null,null,null,null,null,null,null,null,null,null,null,null,null,null,null,{"$f":"IF(ISNA(VLOOKUP(H453,Info!$J$2:$K$16,2,FALSE)),\"\",VLOOKUP(H453,Info!$J$2:$K$16,2,FALSE))","v":""},{"$f":"SUM(N453,S453)","v":0}]
[" (  )",null,null,null,null,null,null,null,null,null,null,null,null,null,null,null,null,null,null,{"$f":"IF(ISNA(VLOOKUP(H454,Info!$J$2:$K$16,2,FALSE)),\"\",VLOOKUP(H454,Info!$J$2:$K$16,2,FALSE))","v":""},0]
[" (  )",null,null,null,null,null,null,null,null,null,null,null,null,null,null,null,null,null,null,{"$f":"IF(ISNA(VLOOKUP(H455,Info!$J$2:$K$16,2,FALSE)),\"\",VLOOKUP(H455,Info!$J$2:$K$16,2,FALSE))","v":""},0]
[" (  )",null,null,null,null,null,null,null,null,null,null,null,null,null,null,null,null,null,null,{"$f":"IF(ISNA(VLOOKUP(H456,Info!$J$2:$K$16,2,FALSE)),\"\",VLOOKUP(H456,Info!$J$2:$K$16,2,FALSE))","v":""},0]
[" (  )",null,null,null,null,null,null,null,null,null,null,null,null,null,null,null,null,null,null,{"$f":"IF(ISNA(VLOOKUP(H457,Info!$J$2:$K$16,2,FALSE)),\"\",VLOOKUP(H457,Info!$J$2:$K$16,2,FALSE))","v":""},0]
[" (  )",null,null,null,null,null,null,null,null,null,null,null,null,null,null,null,null,null,null,{"$f":"IF(ISNA(VLOOKUP(H458,Info!$J$2:$K$16,2,FALSE)),\"\",VLOOKUP(H458,Info!$J$2:$K$16,2,FALSE))","v":""},0]
[" (  )",null,null,null,null,null,null,null,null,null,null,null,null,null,null,null,null,null,null,{"$f":"IF(ISNA(VLOOKUP(H459,Info!$J$2:$K$16,2,FALSE)),\"\",VLOOKUP(H459,Info!$J$2:$K$16,2,FALSE))","v":""},0]
[" (  )",null,null,null,null,null,null,null,null,null,null,null,null,null,null,null,null,null,null,{"$f":"IF(ISNA(VLOOKUP(H460,Info!$J$2:$K$16,2,FALSE)),\"\",VLOOKUP(H460,Info!$J$2:$K$16,2,FALSE))","v":""},0]
[" (  )",null,null,null,null,null,null,null,null,null,null,null,null,null,null,null,null,null,null,{"$f":"IF(ISNA(VLOOKUP(H461,Info!$J$2:$K$16,2,FALSE)),\"\",VLOOKUP(H461,Info!$J$2:$K$16,2,FALSE))","v":""},0]
[" (  )",null,null,null,null,null,null,null,null,null,null,null,null,null,null,null,null,null,null,{"$f":"IF(ISNA(VLOOKUP(H462,Info!$J$2:$K$16,2,FALSE)),\"\",VLOOKUP(H462,Info!$J$2:$K$16,2,FALSE))","v":""},0]
[" (  )",null,null,null,null,null,null,null,null,null,null,null,null,null,null,null,null,null,null,{"$f":"IF(ISNA(VLOOKUP(H463,Info!$J$2:$K$16,2,FALSE)),\"\",VLOOKUP(H463,Info!$J$2:$K$16,2,FALSE))","v":""},0]
[" (  )",null,null,null,null,null,null,null,null,null,null,null,null,null,null,null,null,null,null,{"$f":"IF(ISNA(VLOOKUP(H464,Info!$J$2:$K$16,2,FALSE)),\"\",VLOOKUP(H464,Info!$J$2:$K$16,2,FALSE))","v":""},0]
[" (  )",null,null,null,null,null,null,null,null,null,null,null,null,null,null,null,null,null,null,{"$f":"IF(ISNA(VLOOKUP(H465,Info!$J$2:$K$16,2,FALSE)),\"\",VLOOKUP(H465,Info!$J$2:$K$16,2,FALSE))","v":""},0]
[" (  )",null,null,null,null,null,null,null,null,null,null,null,null,null,null,null,null,null,null,{"$f":"IF(ISNA(VLOOKUP(H466,Info!$J$2:$K$16,2,FALSE)),\"\",VLOOKUP(H466,Info!$J$2:$K$16,2,FALSE))","v":""},0]
[" (  )",null,null,null,null,null,null,null,null,null,null,null,null,null,null,null,null,null,null,{"$f":"IF(ISNA(VLOOKUP(H467,Info!$J$2:$K$16,2,FALSE)),\"\",VLOOKUP(H467,Info!$J$2:$K$16,2,FALSE))","v":""},0]
[" (  )",null,null,null,null,null,null,null,null,null,null,null,null,null,null,null,null,null,null,{"$f":"IF(ISNA(VLOOKUP(H468,Info!$J$2:$K$16,2,FALSE)),\"\",VLOOKUP(H468,Info!$J$2:$K$16,2,FALSE))","v":""},0]
[" (  )",null,null,null,null,null,null,null,null,null,null,null,null,null,null,null,null,null,null,{"$f":"IF(ISNA(VLOOKUP(H469,Info!$J$2:$K$16,2,FALSE)),\"\",VLOOKUP(H469,Info!$J$2:$K$16,2,FALSE))","v":""},0]
[" (  )",null,null,null,null,null,null,null,null,null,null,null,null,null,null,null,null,null,null,{"$f":"IF(ISNA(VLOOKUP(H470,Info!$J$2:$K$16,2,FALSE)),\"\",VLOOKUP(H470,Info!$J$2:$K$16,2,FALSE))","v":""},0]
[" (  )",null,null,null,null,null,null,null,null,null,null,null,null,null,null,null,null,null,null,{"$f":"IF(ISNA(VLOOKUP(H471,Info!$J$2:$K$16,2,FALSE)),\"\",VLOOKUP(H471,Info!$J$2:$K$16,2,FALSE))","v":""},0]
[" (  )",null,null,null,null,null,null,null,null,null,null,null,null,null,null,null,null,null,null,{"$f":"IF(ISNA(VLOOKUP(H472,Info!$J$2:$K$16,2,FALSE)),\"\",VLOOKUP(H472,Info!$J$2:$K$16,2,FALSE))","v":""},0]
[" (  )",null,null,null,null,null,null,null,null,null,null,null,null,null,null,null,null,null,null,{"$f":"IF(ISNA(VLOOKUP(H473,Info!$J$2:$K$16,2,FALSE)),\"\",VLOOKUP(H473,Info!$J$2:$K$16,2,FALSE))","v":""},0]
[" (  )",null,null,null,null,null,null,null,null,null,null,null,null,null,null,null,null,null,null,{"$f":"IF(ISNA(VLOOKUP(H474,Info!$J$2:$K$16,2,FALSE)),\"\",VLOOKUP(H474,Info!$J$2:$K$16,2,FALSE))","v":""},0]
[" (  )",null,null,null,null,null,null,null,null,null,null,null,null,null,null,null,null,null,null,{"$f":"IF(ISNA(VLOOKUP(H475,Info!$J$2:$K$16,2,FALSE)),\"\",VLOOKUP(H475,Info!$J$2:$K$16,2,FALSE))","v":""},0]
[" (  )",null,null,null,null,null,null,null,null,null,null,null,null,null,null,null,null,null,null,{"$f":"IF(ISNA(VLOOKUP(H476,Info!$J$2:$K$16,2,FALSE)),\"\",VLOOKUP(H476,Info!$J$2:$K$16,2,FALSE))","v":""},0]
[" (  )",null,null,null,null,null,null,null,null,null,null,null,null,null,null,null,null,null,null,{"$f":"IF(ISNA(VLOOKUP(H477,Info!$J$2:$K$16,2,FALSE)),\"\",VLOOKUP(H477,Info!$J$2:$K$16,2,FALSE))","v":""},0]
[" (  )",null,null,null,null,null,null,null,null,null,null,null,null,null,null,null,null,null,null,{"$f":"IF(ISNA(VLOOKUP(H478,Info!$J$2:$K$16,2,FALSE)),\"\",VLOOKUP(H478,Info!$J$2:$K$16,2,FALSE))","v":""},0]
[" (  )",null,null,null,null,null,null,null,null,null,null,null,null,null,null,null,null,null,null,{"$f":"IF(ISNA(VLOOKUP(H479,Info!$J$2:$K$16,2,FALSE)),\"\",VLOOKUP(H479,Info!$J$2:$K$16,2,FALSE))","v":""},0]
[" (  )",null,null,null,null,null,null,null,null,null,null,null,null,null,null,null,null,null,null,{"$f":"IF(ISNA(VLOOKUP(H480,Info!$J$2:$K$16,2,FALSE)),\"\",VLOOKUP(H480,Info!$J$2:$K$16,2,FALSE))","v":""},0]
[" (  )",null,null,null,null,null,null,null,null,null,null,null,null,null,null,null,null,null,null,{"$f":"IF(ISNA(VLOOKUP(H481,Info!$J$2:$K$16,2,FALSE)),\"\",VLOOKUP(H481,Info!$J$2:$K$16,2,FALSE))","v":""},0]
[" (  )",null,null,null,null,null,null,null,null,null,null,null,null,null,null,null,null,null,null,{"$f":"IF(ISNA(VLOOKUP(H482,Info!$J$2:$K$16,2,FALSE)),\"\",VLOOKUP(H482,Info!$J$2:$K$16,2,FALSE))","v":""},0]
[" (  )",null,null,null,null,null,null,null,null,null,null,null,null,null,null,null,null,null,null,{"$f":"IF(ISNA(VLOOKUP(H483,Info!$J$2:$K$16,2,FALSE)),\"\",VLOOKUP(H483,Info!$J$2:$K$16,2,FALSE))","v":""},0]
[" (  )",null,null,null,null,null,null,null,null,null,null,null,null,null,null,null,null,null,null,{"$f":"IF(ISNA(VLOOKUP(H484,Info!$J$2:$K$16,2,FALSE)),\"\",VLOOKUP(H484,Info!$J$2:$K$16,2,FALSE))","v":""},0]
[" (  )",null,null,null,null,null,null,null,null,null,null,null,null,null,null,null,null,null,null,{"$f":"IF(ISNA(VLOOKUP(H485,Info!$J$2:$K$16,2,FALSE)),\"\",VLOOKUP(H485,Info!$J$2:$K$16,2,FALSE))","v":""},0]
[" (  )",null,null,null,null,null,null,null,null,null,null,null,null,null,null,null,null,null,null,{"$f":"IF(ISNA(VLOOKUP(H486,Info!$J$2:$K$16,2,FALSE)),\"\",VLOOKUP(H486,Info!$J$2:$K$16,2,FALSE))","v":""},0]
[" (  )",null,null,null,null,null,null,null,null,null,null,null,null,null,null,null,null,null,null,{"$f":"IF(ISNA(VLOOKUP(H487,Info!$J$2:$K$16,2,FALSE)),\"\",VLOOKUP(H487,Info!$J$2:$K$16,2,FALSE))","v":""},0]
[" (  )",null,null,null,null,null,null,null,null,null,null,null,null,null,null,null,null,null,null,{"$f":"IF(ISNA(VLOOKUP(H488,Info!$J$2:$K$16,2,FALSE)),\"\",VLOOKUP(H488,Info!$J$2:$K$16,2,FALSE))","v":""},0]
[" (  )",null,null,null,null,null,null,null,null,null,null,null,null,null,null,null,null,null,null,{"$f":"IF(ISNA(VLOOKUP(H489,Info!$J$2:$K$16,2,FALSE)),\"\",VLOOKUP(H489,Info!$J$2:$K$16,2,FALSE))","v":""},0]
[" (  )",null,null,null,null,null,null,null,null,null,null,null,null,null,null,null,null,null,null,{"$f":"IF(ISNA(VLOOKUP(H490,Info!$J$2:$K$16,2,FALSE)),\"\",VLOOKUP(H490,Info!$J$2:$K$16,2,FALSE))","v":""},0]
[" (  )",null,null,null,null,null,null,null,null,null,null,null,null,null,null,null,null,null,null,{"$f":"IF(ISNA(VLOOKUP(H491,Info!$J$2:$K$16,2,FALSE)),\"\",VLOOKUP(H491,Info!$J$2:$K$16,2,FALSE))","v":""},0]
[" (  )",null,null,null,null,null,null,null,null,null,null,null,null,null,null,null,null,null,null,{"$f":"IF(ISNA(VLOOKUP(H492,Info!$J$2:$K$16,2,FALSE)),\"\",VLOOKUP(H492,Info!$J$2:$K$16,2,FALSE))","v":""},0]
[" (  )",null,null,null,null,null,null,null,null,null,null,null,null,null,null,null,null,null,null,{"$f":"IF(ISNA(VLOOKUP(H493,Info!$J$2:$K$16,2,FALSE)),\"\",VLOOKUP(H493,Info!$J$2:$K$16,2,FALSE))","v":""},0]
[" (  )",null,null,null,null,null,null,null,null,null,null,null,null,null,null,null,null,null,null,{"$f":"IF(ISNA(VLOOKUP(H494,Info!$J$2:$K$16,2,FALSE)),\"\",VLOOKUP(H494,Info!$J$2:$K$16,2,FALSE))","v":""},0]
[" (  )",null,null,null,null,null,null,null,null,null,null,null,null,null,null,null,null,null,null,{"$f":"IF(ISNA(VLOOKUP(H495,Info!$J$2:$K$16,2,FALSE)),\"\",VLOOKUP(H495,Info!$J$2:$K$16,2,FALSE))","v":""},0]
[" (  )",null,null,null,null,null,null,null,null,null,null,null,null,null,null,null,null,null,null,{"$f":"IF(ISNA(VLOOKUP(H496,Info!$J$2:$K$16,2,FALSE)),\"\",VLOOKUP(H496,Info!$J$2:$K$16,2,FALSE))","v":""},0]
[" (  )",null,null,null,null,null,null,null,null,null,null,null,null,null,null,null,null,null,null,{"$f":"IF(ISNA(VLOOKUP(H497,Info!$J$2:$K$16,2,FALSE)),\"\",VLOOKUP(H497,Info!$J$2:$K$16,2,FALSE))","v":""},0]
[" (  )",null,null,null,null,null,null,null,null,null,null,null,null,null,null,null,null,null,null,{"$f":"IF(ISNA(VLOOKUP(H498,Info!$J$2:$K$16,2,FALSE)),\"\",VLOOKUP(H498,Info!$J$2:$K$16,2,FALSE))","v":""},0]
[" (  )",null,null,null,null,null,null,null,null,null,null,null,null,null,null,null,null,null,null,{"$f":"IF(ISNA(VLOOKUP(H499,Info!$J$2:$K$16,2,FALSE)),\"\",VLOOKUP(H499,Info!$J$2:$K$16,2,FALSE))","v":""},0]
[" (  )",null,null,null,null,null,null,null,null,null,null,null,null,null,null,null,null,null,null,{"$f":"IF(ISNA(VLOOKUP(H500,Info!$J$2:$K$16,2,FALSE)),\"\",VLOOKUP(H500,Info!$J$2:$K$16,2,FALSE))","v":""},0]
[" (  )",null,null,null,null,null,null,null,null,null,null,null,null,null,null,null,null,null,null,{"$f":"IF(ISNA(VLOOKUP(H501,Info!$J$2:$K$16,2,FALSE)),\"\",VLOOKUP(H501,Info!$J$2:$K$16,2,FALSE))","v":""},0]
[" (  )",null,null,null,null,null,null,null,null,null,null,null,null,null,null,null,null,null,null,{"$f":"IF(ISNA(VLOOKUP(H502,Info!$J$2:$K$16,2,FALSE)),\"\",VLOOKUP(H502,Info!$J$2:$K$16,2,FALSE))","v":""},0]
[" (  )",null,null,null,null,null,null,null,null,null,null,null,null,null,null,null,null,null,null,{"$f":"IF(ISNA(VLOOKUP(H503,Info!$J$2:$K$16,2,FALSE)),\"\",VLOOKUP(H503,Info!$J$2:$K$16,2,FALSE))","v":""},0]

{"sheet":"APPLICATION","index":4,"n_rows":68,"n_cols":9,"rows_kept":68,"cut":false,"hidden":false,"merged":[[56,0,56,5],[64,0,64,5],[65,0,65,5],[66,4,66,5],[2,7,4,7],[11,1,11,2],[9,4,9,5],[11,4,11,5],[19,4,19,5],[13,1,13,2],[18,2,18,5],[24,2,24,5],[29,2,29,5],[13,4,13,5],[34,1,34,5],[37,0,37,5],[0,0,0,5],[3,1,3,2],[9,1,9,2],[10,1,10,2],[12,1,12,2],[10,4,10,5],[12,4,12,5],[53,0,53,5],[54,0,54,5],[36,0,36,5],[39,0,39,5],[47,0,47,5],[49,4,49,5],[48,0,48,5]]}
["APPLICATION FOR THE GRANT OF THE CONCESSION TO CHILDREN OF N.G.O.s\n [G.O.Ms.No.2 Edn(SE..SER.I V) Dept, Dt:05/01/2011 ]"]
[]
[null,null,null,null,null,null,null,"Select The Name of the Employee"]
[1,"Particulars of Children",null,null,"Pupil- I","Pupil- II"]
[null,"a)","Name of the Pupil ",":",{"$f":"IF(ISNA($H$6),\"\",VLOOKUP($H$6,Main!$A$4:$W$503,10,FALSE))","v":"K.V.Sai Sujith"},{"$f":"IF(ISNA($H$6),\"\",VLOOKUP($H$6,Main!$A$4:$W$503,15,FALSE))","v":"XXXXXXXXXX"}]
[null,"b)","Class and Section in which the pupil is Studing.",":",{"$f":"IF(ISNA($H$6),\"\",VLOOKUP($H$6,Main!$A$4:$W$503,11,FALSE))","v":"VIII"},{"$f":"IF(ISNA($H$6),\"\",VLOOKUP($H$6,Main!$A$4:$W$503,16,FALSE))","v":"Inter-I"},null,"K.V.RAVANAMMA ( 0807541 )"]
[null,"c)","Acadamic Year",":",{"$f":"IF(ISNA($H$6),\"\",VLOOKUP($H$6,Main!$A$4:$W$503,12,FALSE))","v":"2010-2011"},{"$f":"IF(ISNA($H$6),\"\",VLOOKUP($H$6,Main!$A$4:$W$503,17,FALSE))","v":"2010-2011"}]
[null,"d)","Name of the School",":",{"$f":"IF(ISNA($H$6),\"\",VLOOKUP($H$6,Main!$A$4:$W$503,13,FALSE))","v":"Rathnam High School, Nelore"},{"$f":"IF(ISNA($H$6),\"\",VLOOKUP($H$6,Main!$A$4:$W$503,18,FALSE))","v":"Abdul Kalam Jr Coolege"}]
[null,"e)","Whether the pupils is promoted to to the class shown against Col. 1b  of detailes.",":",{"$f":"IF(E8=0,\"\",\"YES\")","v":"YES"},{"$f":"IF(F8=0,\"\",\"YES\")","v":"YES"}]
[2," Parents Name    ",null,":",{"$f":"UPPER(IF(ISNA($H$6),\"\",VLOOKUP($H$6,Main!$A$4:$W$503,3,FALSE)))","v":"K.V.RAVANAMMA"}]
[3," How employed ( Full particulars of  the post  held, Dept., etc.,should be stated here against  relevant head below )",null,":",{"$f":"UPPER(IF(IF(ISNA($H$6),\"\",VLOOKUP($H$6,Main!$A$4:$W$503,6,FALSE))>0,CONCATENATE(IF(ISNA($H$6),\"\",VLOOKUP($H$6,Main!$A$4:$W$503,4,FALSE)),\", \",IF(ISNA($H$6),\"\",VLOOKUP($H$6,Main!$A$4:$W$503,6,FALSE)),\",  \",Info!G12,\" Mandal,  \",Info!E12,\" District \"),CONCATENATE(IF(ISNA($H$6),\"\",VLOOKUP($H$6,Main!$A$4:$W$503,4,FALSE)),\", \",Info!E11,\",  \",Info!G12, \" Mandal, \",Info!E12,\" District \")))","v":"SA (ENGLISH), MPUPS, DASARIPALLI,  UDAYAGIRI MANDAL,  SRI POTTISREERAMULU NELLORE DISTRICT "}]
[null,"A) Non Gazetted Officer \nB) Dist Board Employee\nC) Muncipal Employee\nD) Teacher in Aided /M.P/ZP Schools"]
[4,"Salary of the Parent   ",null,":",{"$f":"IF(ISNA($H$6),\"\",CONCATENATE(\"Rs: \",VLOOKUP($H$6,Main!$A$4:$W$503,7,FALSE),\" / - \"))","v":"Rs: 21860 / - "}]
[5,"Concession claimed Full/ Half    ",null,":","FULL"]
[]
[]
[6," Description by the parent"]
[]
[null,null,"      I here by declare  that  shown against col.No: 1 of the application is My Son / Daughter and certify that My  Wife / Husband is not a govt. servant."]
[null,null,null,null,"Signature of the Parent  with date"]
[]
[]
[7,"Certified by Head of office"]
[]
[null,null,{"$f":"CONCATENATE(\"                             I here by certify that  the person shown against col No:2 of this office application is working as \",UPPER(E11),\"  and He / She is likely to be in service to the end of the school year \",E7,\".\")","v":"                             I here by certify that  the person shown against col No:2 of this office application is working as SA (ENGLISH), MPUPS, DASARIPALLI,  UDAYAGIRI MANDAL,  SRI POTTISREERAMULU NELLORE DISTRICT   and He / She is likely to be in service to the end of the school year 2010-2011."}]
[null,null,"Office Seal",null,null,"Signature of the DDO"]
[]
[]
[8,"Head of the Institutions Remarks :"]
[null,null,"                             Fees concession applied for is recommended for sanction"]
[null,null,{"$f":"C26","v":"Office Seal"},null,null,"Signature of the DDO"]
[]
[]
[9," Order of the Fee sanctioning authority"]
[null,{"$f":"CONCATENATE(\" Proc.\",Info!E8,\" \",Info!F8,\" \",Info!E9,\" \",Info!F9,\" of the \",Info!E3,\", \",Info!E4, \".\")","v":" Proc.R.C.No: ____________ Date: _______________ of the Mandal Educational Officer, Mandal Parishad Udayagiri."}]
[]
["STUDY CERTIFICATE",null,null,null,null,null,null,"R.C.No","255/15/2011-12"]
[{"$f":"CONCATENATE(\"                      Certified that  Master / Baby \",UPPER($E$5),\" S/o,D/o. \",UPPER($E$10),\" is studying Class   \",$E$6,\"   in \",UPPER($E$8),\"  for the Acadamic year \",$E$7,\". The School / College is Recognised by Govt. of A.P. vide \",H37,\" \",I37,\", \",H38,\" \",I38,\" of the \",I40,\".\")","v":"                      Certified that  Master / Baby K.V.SAI SUJITH S/o,D/o. K.V.RAVANAMMA is studying Class   VIII   in RATHNAM HIGH SCHOOL, NELORE  for the Acadamic year 2010-2011. The School / College is Recognised by Govt. of A.P. vide R.C.No 255/15/2011-12, Date: 07/11/2009 of the District Educational Officer, Nellore."},null,null,null,null,null,null,"Date:","07/11/2009"]
[]
[{"$f":"CONCATENATE(\"                    The following amount has been collected towards Tution Fee from \",$E$10,\", \",$E$11,\" during the said Acadamic year \",$E$7,\". As per Receipts \")","v":"                    The following amount has been collected towards Tution Fee from K.V.RAVANAMMA, SA (ENGLISH), MPUPS, DASARIPALLI,  UDAYAGIRI MANDAL,  SRI POTTISREERAMULU NELLORE DISTRICT  during the said Acadamic year 2010-2011. As per Receipts "},null,null,null,null,null,null,"School Recognition Authority","District Educational Officer, Nellore"]
[]
[null,"Tution Fee  Details"]
[null,null,"Q1",null,"Rs:   ",500]
[null,null,"Q2",null,"Rs:   ",1000]
[null,null,"Q3",null,"Rs:   "]
[null,null,"Q4",null,"Rs:   ",5000]
[null,null,"Total",null,"Rs:   ",{"$f":"SUM(F43:F46)","v":6500}]
[{"$f":"CONCATENATE(\" Total Amount Rs : \",F47,\" /- ( Rupees: \",Info!W71,\" Only )\")","v":" Total Amount Rs : 6500 /- ( Rupees: SIX THOUSAND AND FIVE HUNDRED   Only )"}]
["He is not granted N.G.O.s concession from the school during this year."]
[null,"Place:",null,null,"Signature of the Head of Institution"]
[null,"Date:"]
[]
[]
[{"$f":"IF(F5=0,\"\",\"STUDY CERTIFICATE\")","v":"STUDY CERTIFICATE"},null,null,null,null,null,null,"R.C.No","255/15/2011-12"]
[{"$f":"IF(F5=0,\"\",CONCATENATE(\"                      Certified that  Master / Baby \",UPPER($F$5),\" S/o,D/o. \",UPPER($F$10),\" is studying Class   \",$F$6,\"   in \",UPPER($F$8),\"  for the Acadamic year \",$F$7,\". The School / College is Recognised by Govt. of A.P. vide \",H54,\" \",I54,\", \",H55,\" \",I55,\" of the \",I57,\".\"))","v":"                      Certified that  Master / Baby XXXXXXXXXX S/o,D/o.  is studying Class   Inter-I   in ABDUL KALAM JR COOLEGE  for the Acadamic year 2010-2011. The School / College is Recognised by Govt. of A.P. vide R.C.No 255/15/2011-12, Date: 07/11/2009 of the District Educational Officer, Nellore."},null,null,null,null,null,null,"Date:","07/11/2009"]
[]
[{"$f":"IF(F5=0,\"\",CONCATENATE(\"                    The following amount has been collected towards Tution Fee from \",$E$10,\", \",$E$11,\" during the said Acadamic year \",$E$7,\". As per Receipts \"))","v":"                    The following amount has been collected towards Tution Fee from K.V.RAVANAMMA, SA (ENGLISH), MPUPS, DASARIPALLI,  UDAYAGIRI MANDAL,  SRI POTTISREERAMULU NELLORE DISTRICT  during the said Acadamic year 2010-2011. As per Receipts "},null,null,null,null,null,null,"School Recognition Authority","District Educational Officer, Nellore"]
[]
[null,{"$f":"IF(F5=0,\"\",\"Tution Fee  Details\")","v":"Tution Fee  Details"}]
[null,null,"Q1",null,"Rs:   ",500]
[null,null,"Q2",null,"Rs:   ",1000]
[null,null,"Q3",null,"Rs:   ",450]
[null,null,"Q4",null,"Rs:   ",4500]
[null,null,"Total",null,"Rs:   ",{"$f":"SUM(F60:F63)","v":6450}]
[{"$f":"IF(F5=0,\"\",CONCATENATE(\" Total Amount Rs : \",F64,\" /- ( Rupees: \",Info!W72,\" Only )\"))","v":" Total Amount Rs : 6450 /- ( Rupees: SIX THOUSAND FOUR HUNDRED AND FIFTY Only )"}]
[{"$f":"IF(F5=0,\"\",\"He is not granted N.G.O.s concession from the school during this year.\")","v":"He is not granted N.G.O.s concession from the school during this year."}]
[null,{"$f":"IF(F5=0,\"\",\"Place:\")","v":"Place:"},null,null,{"$f":"IF(F5=0,\"\",\"Signature of the Head of Institution\")","v":"Signature of the Head of Institution"}]
[null,{"$f":"IF(F5=0,\"\",\"Date:\")","v":"Date:"}]

{"sheet":"Pro","index":5,"n_rows":1035,"n_cols":12,"rows_kept":1035,"cut":false,"hidden":false,"merged":[[1017,0,1017,7],[1019,0,1019,8],[5,10,5,11],[1025,0,1025,8],[1021,0,1021,8],[1027,7,1027,8],[1028,7,1028,8],[1023,0,1023,8],[1033,0,1033,7],[1034,0,1034,7],[1032,0,1032,7],[1031,0,1031,7],[1015,0,1016,0],[1015,1,1016,3],[1009,0,1010,0],[1009,1,1010,3],[1011,0,1012,0],[1011,1,1012,3],[1013,0,1014,0],[1013,1,1014,3],[1003,0,1004,0],[1003,1,1004,3],[1005,0,1006,0],[1005,1,1006,3],[1007,0,1008,0],[1007,1,1008,3],[997,0,998,0],[997,1,998,3],[999,0,1000,0],[999,1,1000,3],[1001,0,1002,0],[1001,1,1002,3],[991,0,992,0],[991,1,992,3],[993,0,994,0],[993,1,994,3],[995,0,996,0],[995,1,996,3],[985,0,986,0],[985,1,986,3],[987,0,988,0],[987,1,988,3],[989,0,990,0],[989,1,990,3],[979,0,980,0],[979,1,980,3],[981,0,982,0],[981,1,982,3],[983,0,984,0],[983,1,984,3],[973,0,974,0],[973,1,974,3],[975,0,976,0],[975,1,976,3],[977,0,978,0],[977,1,978,3],[967,0,968,0],[967,1,968,3],[969,0,970,0],[969,1,970,3],[971,0,972,0],[971,1,972,3],[961,0,962,0],[961,1,962,3],[963,0,964,0],[963,1,964,3],[965,0,966,0],[965,1,966,3],[955,0,956,0],[955,1,956,3],[957,0,958,0],[957,1,958,3],[959,0,960,0],[959,1,960,3],[949,0,950,0],[949,1,950,3],[951,0,952,0],[951,1,952,3],[953,0,954,0],[953,1,954,3],[943,0,944,0],[943,1,944,3],[945,0,946,0],[945,1,946,3],[947,0,948,0],[947,1,948,3],[937,0,938,0],[937,1,938,3],[939,0,940,0],[939,1,940,3],[941,0,942,0],[941,1,942,3],[931,0,932,0],[931,1,932,3],[933,0,934,0],[933,1,934,3],[935,0,936,0],[935,1,936,3],[925,0,926,0],[925,1,926,3],[927,0,928,0],[927,1,928,3],[929,0,930,0],[929,1,930,3],[919,0,920,0],[919,1,920,3],[921,0,922,0],[921,1,922,3],[923,0,924,0],[923,1,924,3],[913,0,914,0],[913,1,914,3],[915,0,916,0],[915,1,916,3],[917,0,918,0],[917,1,918,3],[907,0,908,0],[907,1,908,3],[909,0,910,0],[909,1,910,3],[911,0,912,0],[911,1,912,3],[901,0,902,0],[901,1,902,3],[903,0,904,0],[903,1,904,3],[905,0,906,0],[905,1,906,3],[895,0,896,0],[895,1,896,3],[897,0,898,0],[897,1,898,3],[899,0,900,0],[899,1,900,3],[889,0,890,0],[889,1,890,3],[891,0,892,0],[891,1,892,3],[893,0,894,0],[893,1,894,3],[883,0,884,0],[883,1,884,3],[885,0,886,0],[885,1,886,3],[887,0,888,0],[887,1,888,3],[877,0,878,0],[877,1,878,3],[879,0,880,0],[879,1,880,3],[881,0,882,0],[881,1,882,3],[871,0,872,0],[871,1,872,3],[873,0,874,0],[873,1,874,3],[875,0,876,0],[875,1,876,3],[865,0,866,0],[865,1,866,3],[867,0,868,0],[867,1,868,3],[869,0,870,0],[869,1,870,3],[859,0,860,0],[859,1,860,3],[861,0,862,0],[861,1,862,3],[863,0,864,0],[863,1,864,3],[853,0,854,0],[853,1,854,3],[855,0,856,0],[855,1,856,3],[857,0,858,0],[857,1,858,3],[847,0,848,0],[847,1,848,3],[849,0,850,0],[849,1,850,3],[851,0,852,0],[851,1,852,3],[841,0,842,0],[841,1,842,3],[843,0,844,0],[843,1,844,3],[845,0,846,0],[845,1,846,3],[835,0,836,0],[835,1,836,3],[837,0,838,0],[837,1,838,3],[839,0,840,0],[839,1,840,3],[829,0,830,0],[829,1,830,3],[831,0,832,0],[831,1,832,3],[833,0,834,0],[833,1,834,3],[823,0,824,0],[823,1,824,3],[825,0,826,0],[825,1,826,3],[827,0,828,0],[827,1,828,3],[817,0,818,0],[817,1,818,3],[819,0,820,0],[819,1,820,3],[821,0,822,0],[821,1,822,3],[811,0,812,0],[811,1,812,3],[813,0,814,0],[813,1,814,3],[815,0,816,0],[815,1,816,3],[805,0,806,0],[805,1,806,3],[807,0,808,0],[807,1,808,3],[809,0,810,0],[809,1,810,3],[799,0,800,0],[799,1,800,3],[801,0,802,0],[801,1,802,3],[803,0,804,0],[803,1,804,3],[793,0,794,0],[793,1,794,3],[795,0,796,0],[795,1,796,3],[797,0,798,0],[797,1,798,3],[787,0,788,0],[787,1,788,3],[789,0,790,0],[789,1,790,3],[791,0,792,0],[791,1,792,3],[781,0,782,0],[781,1,782,3],[783,0,784,0],[783,1,784,3],[785,0,786,0],[785,1,786,3],[775,0,776,0],[775,1,776,3],[777,0,778,0],[777,1,778,3],[779,0,780,0],[779,1,780,3],[769,0,770,0],[769,1,770,3],[771,0,772,0],[771,1,772,3],[773,0,774,0],[773,1,774,3],[763,0,764,0],[763,1,764,3],[765,0,766,0],[765,1,766,3],[767,0,768,0],[767,1,768,3],[757,0,758,0],[757,1,758,3],[759,0,760,0],[759,1,760,3],[761,0,762,0],[761,1,762,3],[751,0,752,0],[751,1,752,3],[753,0,754,0],[753,1,754,3],[755,0,756,0],[755,1,756,3],[745,0,746,0],[745,1,746,3],[747,0,748,0],[747,1,748,3],[749,0,750,0],[749,1,750,3],[739,0,740,0],[739,1,740,3],[741,0,742,0],[741,1,742,3],[743,0,744,0],[743,1,744,3],[733,0,734,0],[733,1,734,3],[735,0,736,0],[735,1,736,3],[737,0,738,0],[737,1,738,3],[727,0,728,0],[727,1,728,3],[729,0,730,0],[729,1,730,3],[731,0,732,0],[731,1,732,3],[721,0,722,0],[721,1,722,3],[723,0,724,0],[723,1,724,3],[725,0,726,0],[725,1,726,3],[715,0,716,0],[715,1,716,3],[717,0,718,0],[717,1,718,3],[719,0,720,0],[719,1,720,3],[709,0,710,0],[709,1,710,3],[711,0,712,0],[711,1,712,3],[713,0,714,0],[713,1,714,3],[703,0,704,0],[703,1,704,3],[705,0,706,0],[705,1,706,3],[707,0,708,0],[707,1,708,3],[697,0,698,0],[697,1,698,3],[699,0,700,0],[699,1,700,3],[701,0,702,0],[701,1,702,3],[691,0,692,0],[691,1,692,3],[693,0,694,0],[693,1,694,3],[695,0,696,0],[695,1,696,3],[685,0,686,0],[685,1,686,3],[687,0,688,0],[687,1,688,3],[689,0,690,0],[689,1,690,3],[679,0,680,0],[679,1,680,3],[681,0,682,0],[681,1,682,3],[683,0,684,0],[683,1,684,3],[673,0,674,0],[673,1,674,3],[675,0,676,0],[675,1,676,3],[677,0,678,0],[677,1,678,3],[667,0,668,0],[667,1,668,3],[669,0,670,0],[669,1,670,3],[671,0,672,0],[671,1,672,3],[661,0,662,0],[661,1,662,3],[663,0,664,0],[663,1,664,3],[665,0,666,0],[665,1,666,3],[655,0,656,0],[655,1,656,3],[657,0,658,0],[657,1,658,3],[659,0,660,0],[659,1,660,3],[649,0,650,0],[649,1,650,3],[651,0,652,0],[651,1,652,3],[653,0,654,0],[653,1,654,3],[643,0,644,0],[643,1,644,3],[645,0,646,0],[645,1,646,3],[647,0,648,0],[647,1,648,3],[637,0,638,0],[637,1,638,3],[639,0,640,0],[639,1,640,3],[641,0,642,0],[641,1,642,3],[631,0,632,0],[631,1,632,3],[633,0,634,0],[633,1,634,3],[635,0,636,0],[635,1,636,3],[625,0,626,0],[625,1,626,3],[627,0,628,0],[627,1,628,3],[629,0,630,0],[629,1,630,3],[619,0,620,0],[619,1,620,3],[621,0,622,0],[621,1,622,3],[623,0,624,0],[623,1,624,3],[613,0,614,0],[613,1,614,3],[615,0,616,0],[615,1,616,3],[617,0,618,0],[617,1,618,3],[607,0,608,0],[607,1,608,3],[609,0,610,0],[609,1,610,3],[611,0,612,0],[611,1,612,3],[601,0,602,0],[601,1,602,3],[603,0,604,0],[603,1,604,3],[605,0,606,0],[605,1,606,3],[595,0,596,0],[595,1,596,3],[597,0,598,0],[597,1,598,3],[599,0,600,0],[599,1,600,3],[589,0,590,0],[589,1,590,3],[591,0,592,0],[591,1,592,3],[593,0,594,0],[593,1,594,3],[583,0,584,0],[583,1,584,3],[585,0,586,0],[585,1,586,3],[587,0,588,0],[587,1,588,3],[577,0,578,0],[577,1,578,3],[579,0,580,0],[579,1,580,3],[581,0,582,0],[581,1,582,3],[571,0,572,0],[571,1,572,3],[573,0,574,0],[573,1,574,3],[575,0,576,0],[575,1,576,3],[565,0,566,0],[565,1,566,3],[567,0,568,0],[567,1,568,3],[569,0,570,0],[569,1,570,3],[559,0,560,0],[559,1,560,3],[561,0,562,0],[561,1,562,3],[563,0,564,0],[563,1,564,3],[553,0,554,0],[553,1,554,3],[555,0,556,0],[555,1,556,3],[557,0,558,0],[557,1,558,3],[547,0,548,0],[547,1,548,3],[549,0,550,0],[549,1,550,3],[551,0,552,0],[551,1,552,3],[541,0,542,0],[541,1,542,3],[543,0,544,0],[543,1,544,3],[545,0,546,0],[545,1,546,3],[535,0,536,0],[535,1,536,3],[537,0,538,0],[537,1,538,3],[539,0,540,0],[539,1,540,3],[529,0,530,0],[529,1,530,3],[531,0,532,0],[531,1,532,3],[533,0,534,0],[533,1,534,3],[523,0,524,0],[523,1,524,3],[525,0,526,0],[525,1,526,3],[527,0,528,0],[527,1,528,3],[517,0,518,0],[517,1,518,3],[519,0,520,0],[519,1,520,3],[521,0,522,0],[521,1,522,3],[511,0,512,0],[511,1,512,3],[513,0,514,0],[513,1,514,3],[515,0,516,0],[515,1,516,3],[505,0,506,0],[505,1,506,3],[507,0,508,0],[507,1,508,3],[509,0,510,0],[509,1,510,3],[499,0,500,0],[499,1,500,3],[501,0,502,0],[501,1,502,3],[503,0,504,0],[503,1,504,3],[493,0,494,0],[493,1,494,3],[495,0,496,0],[495,1,496,3],[497,0,498,0],[497,1,498,3],[487,0,488,0],[487,1,488,3],[489,0,490,0],[489,1,490,3],[491,0,492,0],[491,1,492,3],[481,0,482,0],[481,1,482,3],[483,0,484,0],[483,1,484,3],[485,0,486,0],[485,1,486,3],[475,0,476,0],[475,1,476,3],[477,0,478,0],[477,1,478,3],[479,0,480,0],[479,1,480,3],[469,0,470,0],[469,1,470,3],[471,0,472,0],[471,1,472,3],[473,0,474,0],[473,1,474,3],[463,0,464,0],[463,1,464,3],[465,0,466,0],[465,1,466,3],[467,0,468,0],[467,1,468,3],[457,0,458,0],[457,1,458,3],[459,0,460,0],[459,1,460,3],[461,0,462,0],[461,1,462,3],[451,0,452,0],[451,1,452,3],[453,0,454,0],[453,1,454,3],[455,0,456,0],[455,1,456,3],[445,0,446,0],[445,1,446,3],[447,0,448,0],[447,1,448,3],[449,0,450,0],[449,1,450,3],[439,0,440,0],[439,1,440,3],[441,0,442,0],[441,1,442,3],[443,0,444,0],[443,1,444,3],[433,0,434,0],[433,1,434,3],[435,0,436,0],[435,1,436,3],[437,0,438,0],[437,1,438,3],[427,0,428,0],[427,1,428,3],[429,0,430,0],[429,1,430,3],[431,0,432,0],[431,1,432,3],[421,0,422,0],[421,1,422,3],[423,0,424,0],[423,1,424,3],[425,0,426,0],[425,1,426,3],[415,0,416,0],[415,1,416,3],[417,0,418,0],[417,1,418,3],[419,0,420,0],[419,1,420,3],[409,0,410,0],[409,1,410,3],[411,0,412,0],[411,1,412,3],[413,0,414,0],[413,1,414,3],[403,0,404,0],[403,1,404,3],[405,0,406,0],[405,1,406,3],[407,0,408,0],[407,1,408,3],[397,0,398,0],[397,1,398,3],[399,0,400,0],[399,1,400,3],[401,0,402,0],[401,1,402,3],[391,0,392,0],[391,1,392,3],[393,0,394,0],[393,1,394,3],[395,0,396,0],[395,1,396,3],[385,0,386,0],[385,1,386,3],[387,0,388,0],[387,1,388,3],[389,0,390,0],[389,1,390,3],[379,0,380,0],[379,1,380,3],[381,0,382,0],[381,1,382,3],[383,0,384,0],[383,1,384,3],[373,0,374,0],[373,1,374,3],[375,0,376,0],[375,1,376,3],[377,0,378,0],[377,1,378,3],[367,0,368,0],[367,1,368,3],[369,0,370,0],[369,1,370,3],[371,0,372,0],[371,1,372,3],[361,0,362,0],[361,1,362,3],[363,0,364,0],[363,1,364,3],[365,0,366,0],[365,1,366,3],[355,0,356,0],[355,1,356,3],[357,0,358,0],[357,1,358,3],[359,0,360,0],[359,1,360,3],[349,0,350,0],[349,1,350,3],[351,0,352,0],[351,1,352,3],[353,0,354,0],[353,1,354,3],[343,0,344,0],[343,1,344,3],[345,0,346,0],[345,1,346,3],[347,0,348,0],[347,1,348,3],[337,0,338,0],[337,1,338,3],[339,0,340,0],[339,1,340,3],[341,0,342,0],[341,1,342,3],[331,0,332,0],[331,1,332,3],[333,0,334,0],[333,1,334,3],[335,0,336,0],[335,1,336,3],[325,0,326,0],[325,1,326,3],[327,0,328,0],[327,1,328,3],[329,0,330,0],[329,1,330,3],[319,0,320,0],[319,1,320,3],[321,0,322,0],[321,1,322,3],[323,0,324,0],[323,1,324,3],[313,0,314,0],[313,1,314,3],[315,0,316,0],[315,1,316,3],[317,0,318,0],[317,1,318,3],[307,0,308,0],[307,1,308,3],[309,0,310,0],[309,1,310,3],[311,0,312,0],[311,1,312,3],[301,0,302,0],[301,1,302,3],[303,0,304,0],[303,1,304,3],[305,0,306,0],[305,1,306,3],[295,0,296,0],[295,1,296,3],[297,0,298,0],[297,1,298,3],[299,0,300,0],[299,1,300,3],[289,0,290,0],[289,1,290,3],[291,0,292,0],[291,1,292,3],[293,0,294,0],[293,1,294,3],[283,0,284,0],[283,1,284,3],[285,0,286,0],[285,1,286,3],[287,0,288,0],[287,1,288,3],[277,0,278,0],[277,1,278,3],[279,0,280,0],[279,1,280,3],[281,0,282,0],[281,1,282,3],[271,0,272,0],[271,1,272,3],[273,0,274,0],[273,1,274,3],[275,0,276,0],[275,1,276,3],[265,0,266,0],[265,1,266,3],[267,0,268,0],[267,1,268,3],[269,0,270,0],[269,1,270,3],[259,0,260,0],[259,1,260,3],[261,0,262,0],[261,1,262,3],[263,0,264,0],[263,1,264,3],[253,0,254,0],[253,1,254,3],[255,0,256,0],[255,1,256,3],[257,0,258,0],[257,1,258,3],[247,0,248,0],[247,1,248,3],[249,0,250,0],[249,1,250,3],[251,0,252,0],[251,1,252,3],[241,0,242,0],[241,1,242,3],[243,0,244,0],[243,1,244,3],[245,0,246,0],[245,1,246,3],[235,0,236,0],[235,1,236,3],[237,0,238,0],[237,1,238,3],[239,0,240,0],[239,1,240,3],[229,0,230,0],[229,1,230,3],[231,0,232,0],[231,1,232,3],[233,0,234,0],[233,1,234,3],[223,0,224,0],[223,1,224,3],[225,0,226,0],[225,1,226,3],[227,0,228,0],[227,1,228,3],[217,0,218,0],[217,1,218,3],[219,0,220,0],[219,1,220,3],[221,0,222,0],[221,1,222,3],[211,0,212,0],[211,1,212,3],[213,0,214,0],[213,1,214,3],[215,0,216,0],[215,1,216,3],[205,0,206,0],[205,1,206,3],[207,0,208,0],[207,1,208,3],[209,0,210,0],[209,1,210,3],[199,0,200,0],[199,1,200,3],[201,0,202,0],[201,1,202,3],[203,0,204,0],[203,1,204,3],[193,0,194,0],[193,1,194,3],[195,0,196,0],[195,1,196,3],[197,0,198,0],[197,1,198,3],[187,0,188,0],[187,1,188,3],[189,0,190,0],[189,1,190,3],[191,0,192,0],[191,1,192,3],[181,0,182,0],[181,1,182,3],[183,0,184,0],[183,1,184,3],[185,0,186,0],[185,1,186,3],[175,0,176,0],[175,1,176,3],[177,0,178,0],[177,1,178,3],[179,0,180,0],[179,1,180,3],[169,0,170,0],[169,1,170,3],[171,0,172,0],[171,1,172,3],[173,0,174,0],[173,1,174,3],[163,0,164,0],[163,1,164,3],[165,0,166,0],[165,1,166,3],[167,0,168,0],[167,1,168,3],[157,0,158,0],[157,1,158,3],[159,0,160,0],[159,1,160,3],[161,0,162,0],[161,1,162,3],[151,0,152,0],[151,1,152,3],[153,0,154,0],[153,1,154,3],[155,0,156,0],[155,1,156,3],[145,0,146,0],[145,1,146,3],[147,0,148,0],[147,1,148,3],[149,0,150,0],[149,1,150,3],[139,0,140,0],[139,1,140,3],[141,0,142,0],[141,1,142,3],[143,0,144,0],[143,1,144,3],[133,0,134,0],[133,1,134,3],[135,0,136,0],[135,1,136,3],[137,0,138,0],[137,1,138,3],[127,0,128,0],[127,1,128,3],[129,0,130,0],[129,1,130,3],[131,0,132,0],[131,1,132,3],[121,0,122,0],[121,1,122,3],[123,0,124,0],[123,1,124,3],[125,0,126,0],[125,1,126,3],[115,0,116,0],[115,1,116,3],[117,0,118,0],[117,1,118,3],[119,0,120,0],[119,1,120,3],[109,0,110,0],[109,1,110,3],[111,0,112,0],[111,1,112,3],[113,0,114,0],[113,1,114,3],[103,0,104,0],[103,1,104,3],[105,0,106,0],[105,1,106,3],[107,0,108,0],[107,1,108,3],[97,0,98,0],[97,1,98,3],[99,0,100,0],[99,1,100,3],[101,0,102,0],[101,1,102,3],[91,0,92,0],[91,1,92,3],[93,0,94,0],[93,1,94,3],[95,0,96,0],[95,1,96,3],[85,0,86,0],[85,1,86,3],[87,0,88,0],[87,1,88,3],[89,0,90,0],[89,1,90,3],[79,0,80,0],[79,1,80,3],[81,0,82,0],[81,1,82,3],[83,0,84,0],[83,1,84,3],[73,0,74,0],[73,1,74,3],[75,0,76,0],[75,1,76,3],[77,0,78,0],[77,1,78,3],[67,0,68,0],[67,1,68,3],[69,0,70,0],[69,1,70,3],[71,0,72,0],[71,1,72,3],[61,0,62,0],[61,1,62,3],[63,0,64,0],[63,1,64,3],[65,0,66,0],[65,1,66,3],[55,0,56,0],[55,1,56,3],[57,0,58,0],[57,1,58,3],[59,0,60,0],[59,1,60,3],[49,0,50,0],[49,1,50,3],[51,0,52,0],[51,1,52,3],[53,0,54,0],[53,1,54,3],[43,0,44,0],[43,1,44,3],[45,0,46,0],[45,1,46,3],[47,0,48,0],[47,1,48,3],[37,0,38,0],[37,1,38,3],[39,0,40,0],[39,1,40,3],[41,0,42,0],[41,1,42,3],[31,0,32,0],[31,1,32,3],[33,0,34,0],[33,1,34,3],[35,0,36,0],[35,1,36,3],[25,0,26,0],[25,1,26,3]],"merged_total":1025,"flags":["merged_cut"]}
[{"$f":"IF(Info!G3>0,CONCATENATE(\"Proceedings of the \",Info!E3,\", \",Info!E4,\", \",Info!E6,\" \",Info!C6,\", \",Info!E5,\" \",Info!C5,\".\"),CONCATENATE(\"Proceedings of the \",Info!E3,\", \",Info!E4,\".\"))","v":"Proceedings of the Mandal Educational Officer, Mandal Parishad Udayagiri, Udayagiri Mandal, Sri Pottisreeramulu Nellore District."}]
[{"$f":"CONCATENATE(\"Present: \",Info!E7)","v":"Present: Sri _____________"}]
[]
[{"$f":"CONCATENATE(Info!E8,\" \",Info!F8,\"                                                                                             \",Info!E9,\" \",Info!F9)","v":"R.C.No: ____________                                                                                             Date: _______________"}]
[]
[null,"     Sub:",{"$f":"CONCATENATE(\"Secondary Education - \",Info!E4,\", \",Info!E6,\" \",Info!C6,\", \",Info!E5,\" \",Info!C5,  \" - \",Info!J2,\" -  \",\" Reimbursement of education tution fees Rs. 1,000/- per annum, per pupil, to the children, not exceeding two, of Non-Gazetted Officers and Class-IV employees studying in all the classes from LKG to Intermediate / 12th Class -Sanctioned - Orders -  Issued.\")","v":"Secondary Education - Mandal Parishad Udayagiri, Udayagiri Mandal, Sri Pottisreeramulu Nellore District - State Bank Of India (SBI) ADB , Atmakur -   Reimbursement of education tution fees Rs. 1,000/- per annum, per pupil, to the children, not exceeding two, of Non-Gazetted Officers and Class-IV employees studying in all the classes from LKG to Intermediate / 12th Class -Sanctioned - Orders -  Issued."},null,null,null,null,null,null,null,{"$f":"EXACT(I1018,SUM(I18:I1017))","v":true}]
[]
[1,"Ref:","1.","G.O.Ms.NO:40 Edn (Ser-V) Dept; Dt :07/05/2002"]
[2,null,"2.","G.O.Ms. No. 2  Edn., S.E(Gen-I) Dept., Dated 05-01-2011"]
[3,null,{"$f":"IF(D10=\"\",\"\",\"3.\")","v":"3."},"Representation of the individuals.",null,null,null,null,null,null,1]
[null,null,null,null,null,null,null,null,null,null,1]
[" ORDER:",null,null,null,null,null,null,null,null,null,1]
[{"$f":"CONCATENATE(\"                          In pursuance of the reference 2nd cited above, The following Staff Working at \",Info!E4,\", \",Info!E6,\" \",Info!C6,\", \",Info!E5,\" \",Info!C5,\"  are here by Sanctioned Reimbursement of tution fees  Rs.1,000/-,  per annum, per pupil, to the children, not exceeding two, of  all the Class-IV employees \",\"and Non-Gazetted Officers  studying in all the classes from LKG to Intermediate / 12th Class, subject to the other usual conditions regarding the \",\" Submission of receipts, certificate, etc., as per existing Rules and Regulations.\",\" As Shown details are given below.\")","v":"                          In pursuance of the reference 2nd cited above, The following Staff Working at Mandal Parishad Udayagiri, Udayagiri Mandal, Sri Pottisreeramulu Nellore District  are here by Sanctioned Reimbursement of tution fees  Rs.1,000/-,  per annum, per pupil, to the children, not exceeding two, of  all the Class-IV employees and Non-Gazetted Officers  studying in all the classes from LKG to Intermediate / 12th Class, subject to the other usual conditions regarding the  Submission of receipts, certificate, etc., as per existing Rules and Regulations. As Shown details are given below."},null,null,null,null,null,null,null,null,null,1]
[null,null,null,null,null,null,null,null,null,null,1]
["SL No","Employee Name & Designation ",null,null,"Child information",null,null,null,null,null,1]
[null,null,null,null,"Name","Class","Academic year","Name of the school","Reimbursement of tuition fee Amount",null,1]
[1,2,null,null,3,4,5,6,7,null,1]
[{"$f":"IF(K19=\"\",\"\",SUM($L$18:L19))","v":1},{"$f":"IF(I19=\"\",\"\",CONCATENATE(Main!C4,\", \",Main!D4,IF(Main!F4>0,CONCATENATE(\", \",Main!F4),\"\")))","v":"K.V.RAVANAMMA, SA (English), MPUPS, Dasaripalli"},null,null,{"$f":"IF(I18=\"\",\"\",Main!O4)","v":"XXXXXXXXXX"},{"$f":"IF(I18=\"\",\"\",Main!P4)","v":"Inter-I"},{"$f":"IF(I18=\"\",\"\",Main!Q4)","v":"2010-2011"},{"$f":"IF(I18=\"\",\"\",Main!R4)","v":"Abdul Kalam Jr Coolege"},{"$f":"IF(Main!S4=\"\",\"\",Main!S4)","v":1000},null,{"$f":"IF(I18=\"\",\"\",1)","v":1}]
[null,null,null,null,{"$f":"IF(I19=\"\",\"\",Main!J4)","v":"K.V.Sai Sujith"},{"$f":"IF(I19=\"\",\"\",Main!K4)","v":"VIII"},{"$f":"IF(I19=\"\",\"\",Main!L4)","v":"2010-2011"},{"$f":"IF(I19=\"\",\"\",Main!M4)","v":"Rathnam High School, Nelore"},{"$f":"IF(Main!N4=\"\",\"\",Main!N4)","v":1000},null,1,{"$f":"K19","v":1}]
[{"$f":"IF(K21=\"\",\"\",SUM($L$18:L21))","v":2},{"$f":"IF(I21=\"\",\"\",CONCATENATE(Main!C5,\", \",Main!D5,IF(Main!F5>0,CONCATENATE(\", \",Main!F5),\"\")))","v":"K.V.RAVANAMMA, SA (English), MPUPS, Dasaripalli"},null,null,{"$f":"IF(I20=\"\",\"\",Main!O5)","v":""},{"$f":"IF(I20=\"\",\"\",Main!P5)","v":""},{"$f":"IF(I20=\"\",\"\",Main!Q5)","v":""},{"$f":"IF(I20=\"\",\"\",Main!R5)","v":""},{"$f":"IF(Main!S5=\"\",\"\",Main!S5)","v":""},null,""]
[null,null,null,null,{"$f":"IF(I21=\"\",\"\",Main!J5)","v":"K.V.Sai Sujith"},{"$f":"IF(I21=\"\",\"\",Main!K5)","v":"VIII"},{"$f":"IF(I21=\"\",\"\",Main!L5)","v":"2010-2011"},{"$f":"IF(I21=\"\",\"\",Main!M5)","v":"Rathnam High School, Nelore"},{"$f":"IF(Main!N5=\"\",\"\",Main!N5)","v":1000},null,1,{"$f":"K21","v":1}]
[{"$f":"IF(K23=\"\",\"\",SUM($L$18:L23))","v":3},{"$f":"IF(I23=\"\",\"\",CONCATENATE(Main!C6,\", \",Main!D6,IF(Main!F6>0,CONCATENATE(\", \",Main!F6),\"\")))","v":"K.V.RAVANAMMA, SA (English), MPUPS, Dasaripalli"},null,null,{"$f":"IF(I22=\"\",\"\",Main!O6)","v":""},{"$f":"IF(I22=\"\",\"\",Main!P6)","v":""},{"$f":"IF(I22=\"\",\"\",Main!Q6)","v":""},{"$f":"IF(I22=\"\",\"\",Main!R6)","v":""},{"$f":"IF(Main!S6=\"\",\"\",Main!S6)","v":""},null,""]
[null,null,null,null,{"$f":"IF(I23=\"\",\"\",Main!J6)","v":"K.V.Sai Sujith"},{"$f":"IF(I23=\"\",\"\",Main!K6)","v":"VIII"},{"$f":"IF(I23=\"\",\"\",Main!L6)","v":"2010-2011"},{"$f":"IF(I23=\"\",\"\",Main!M6)","v":"Rathnam High School, Nelore"},{"$f":"IF(Main!N6=\"\",\"\",Main!N6)","v":1000},null,1,{"$f":"K23","v":1}]
[{"$f":"IF(K25=\"\",\"\",SUM($L$18:L25))","v":4},{"$f":"IF(I25=\"\",\"\",CONCATENATE(Main!C7,\", \",Main!D7,IF(Main!F7>0,CONCATENATE(\", \",Main!F7),\"\")))","v":"K.V.RAVANAMMA, SA (English), MPUPS, Dasaripalli"},null,null,{"$f":"IF(I24=\"\",\"\",Main!O7)","v":""},{"$f":"IF(I24=\"\",\"\",Main!P7)","v":""},{"$f":"IF(I24=\"\",\"\",Main!Q7)","v":""},{"$f":"IF(I24=\"\",\"\",Main!R7)","v":""},{"$f":"IF(Main!S7=\"\",\"\",Main!S7)","v":""},null,""]
[null,null,null,null,{"$f":"IF(I25=\"\",\"\",Main!J7)","v":"K.V.Sai Sujith"},{"$f":"IF(I25=\"\",\"\",Main!K7)","v":"VIII"},{"$f":"IF(I25=\"\",\"\",Main!L7)","v":"2010-2011"},{"$f":"IF(I25=\"\",\"\",Main!M7)","v":"Rathnam High School, Nelore"},{"$f":"IF(Main!N7=\"\",\"\",Main!N7)","v":1000},null,1,{"$f":"K25","v":1}]
[{"$f":"IF(K27=\"\",\"\",SUM($L$18:L27))","v":5},{"$f":"IF(I27=\"\",\"\",CONCATENATE(Main!C8,\", \",Main!D8,IF(Main!F8>0,CONCATENATE(\", \",Main!F8),\"\")))","v":"K.V.RAVANAMMA, SA (English), MPUPS, Dasaripalli"},null,null,{"$f":"IF(I26=\"\",\"\",Main!O8)","v":""},{"$f":"IF(I26=\"\",\"\",Main!P8)","v":""},{"$f":"IF(I26=\"\",\"\",Main!Q8)","v":""},{"$f":"IF(I26=\"\",\"\",Main!R8)","v":""},{"$f":"IF(Main!S8=\"\",\"\",Main!S8)","v":""},null,""]
[null,null,null,null,{"$f":"IF(I27=\"\",\"\",Main!J8)","v":"K.V.Sai Sujith"},{"$f":"IF(I27=\"\",\"\",Main!K8)","v":"VIII"},{"$f":"IF(I27=\"\",\"\",Main!L8)","v":"2010-2011"},{"$f":"IF(I27=\"\",\"\",Main!M8)","v":"Rathnam High School, Nelore"},{"$f":"IF(Main!N8=\"\",\"\",Main!N8)","v":1000},null,1,{"$f":"K27","v":1}]
[{"$f":"IF(K29=\"\",\"\",SUM($L$18:L29))","v":6},{"$f":"IF(I29=\"\",\"\",CONCATENATE(Main!C9,\", \",Main!D9,IF(Main!F9>0,CONCATENATE(\", \",Main!F9),\"\")))","v":"K.V.RAVANAMMA, SA (English), MPUPS, Dasaripalli"},null,null,{"$f":"IF(I28=\"\",\"\",Main!O9)","v":""},{"$f":"IF(I28=\"\",\"\",Main!P9)","v":""},{"$f":"IF(I28=\"\",\"\",Main!Q9)","v":""},{"$f":"IF(I28=\"\",\"\",Main!R9)","v":""},{"$f":"IF(Main!S9=\"\",\"\",Main!S9)","v":""},null,""]
[null,null,null,null,{"$f":"IF(I29=\"\",\"\",Main!J9)","v":"K.V.Sai Sujith"},{"$f":"IF(I29=\"\",\"\",Main!K9)","v":"VIII"},{"$f":"IF(I29=\"\",\"\",Main!L9)","v":"2010-2011"},{"$f":"IF(I29=\"\",\"\",Main!M9)","v":"Rathnam High School, Nelore"},{"$f":"IF(Main!N9=\"\",\"\",Main!N9)","v":1000},null,1,{"$f":"K29","v":1}]
[{"$f":"IF(K31=\"\",\"\",SUM($L$18:L31))","v":7},{"$f":"IF(I31=\"\",\"\",CONCATENATE(Main!C10,\", \",Main!D10,IF(Main!F10>0,CONCATENATE(\", \",Main!F10),\"\")))","v":"K.V.RAVANAMMA, SA (English), MPUPS, Dasaripalli"},null,null,{"$f":"IF(I30=\"\",\"\",Main!O10)","v":""},{"$f":"IF(I30=\"\",\"\",Main!P10)","v":""},{"$f":"IF(I30=\"\",\"\",Main!Q10)","v":""},{"$f":"IF(I30=\"\",\"\",Main!R10)","v":""},{"$f":"IF(Main!S10=\"\",\"\",Main!S10)","v":""},null,""]
[null,null,null,null,{"$f":"IF(I31=\"\",\"\",Main!J10)","v":"K.V.Sai Sujith"},{"$f":"IF(I31=\"\",\"\",Main!K10)","v":"VIII"},{"$f":"IF(I31=\"\",\"\",Main!L10)","v":"2010-2011"},{"$f":"IF(I31=\"\",\"\",Main!M10)","v":"Rathnam High School, Nelore"},{"$f":"IF(Main!N10=\"\",\"\",Main!N10)","v":1000},null,1,{"$f":"K31","v":1}]
[{"$f":"IF(K33=\"\",\"\",SUM($L$18:L33))","v":8},{"$f":"IF(I33=\"\",\"\",CONCATENATE(Main!C11,\", \",Main!D11,IF(Main!F11>0,CONCATENATE(\", \",Main!F11),\"\")))","v":"K.V.RAVANAMMA, SA (English), MPUPS, Dasaripalli"},null,null,{"$f":"IF(I32=\"\",\"\",Main!O11)","v":""},{"$f":"IF(I32=\"\",\"\",Main!P11)","v":""},{"$f":"IF(I32=\"\",\"\",Main!Q11)","v":""},{"$f":"IF(I32=\"\",\"\",Main!R11)","v":""},{"$f":"IF(Main!S11=\"\",\"\",Main!S11)","v":""},null,""]
[null,null,null,null,{"$f":"IF(I33=\"\",\"\",Main!J11)","v":"K.V.Sai Sujith"},{"$f":"IF(I33=\"\",\"\",Main!K11)","v":"VIII"},{"$f":"IF(I33=\"\",\"\",Main!L11)","v":"2010-2011"},{"$f":"IF(I33=\"\",\"\",Main!M11)","v":"Rathnam High School, Nelore"},{"$f":"IF(Main!N11=\"\",\"\",Main!N11)","v":1000},null,1,{"$f":"K33","v":1}]
[{"$f":"IF(K35=\"\",\"\",SUM($L$18:L35))","v":9},{"$f":"IF(I35=\"\",\"\",CONCATENATE(Main!C12,\", \",Main!D12,IF(Main!F12>0,CONCATENATE(\", \",Main!F12),\"\")))","v":"K.V.RAVANAMMA, SA (English), MPUPS, Dasaripalli"},null,null,{"$f":"IF(I34=\"\",\"\",Main!O12)","v":""},{"$f":"IF(I34=\"\",\"\",Main!P12)","v":""},{"$f":"IF(I34=\"\",\"\",Main!Q12)","v":""},{"$f":"IF(I34=\"\",\"\",Main!R12)","v":""},{"$f":"IF(Main!S12=\"\",\"\",Main!S12)","v":""},null,""]
[null,null,null,null,{"$f":"IF(I35=\"\",\"\",Main!J12)","v":"K.V.Sai Sujith"},{"$f":"IF(I35=\"\",\"\",Main!K12)","v":"VIII"},{"$f":"IF(I35=\"\",\"\",Main!L12)","v":"2010-2011"},{"$f":"IF(I35=\"\",\"\",Main!M12)","v":"Rathnam High School, Nelore"},{"$f":"IF(Main!N12=\"\",\"\",Main!N12)","v":1000},null,1,{"$f":"K35","v":1}]
[{"$f":"IF(K37=\"\",\"\",SUM($L$18:L37))","v":10},{"$f":"IF(I37=\"\",\"\",CONCATENATE(Main!C13,\", \",Main!D13,IF(Main!F13>0,CONCATENATE(\", \",Main!F13),\"\")))","v":"K.V.RAVANAMMA, SA (English), MPUPS, Dasaripalli"},null,null,{"$f":"IF(I36=\"\",\"\",Main!O13)","v":""},{"$f":"IF(I36=\"\",\"\",Main!P13)","v":""},{"$f":"IF(I36=\"\",\"\",Main!Q13)","v":""},{"$f":"IF(I36=\"\",\"\",Main!R13)","v":""},{"$f":"IF(Main!S13=\"\",\"\",Main!S13)","v":""},null,""]
[null,null,null,null,{"$f":"IF(I37=\"\",\"\",Main!J13)","v":"K.V.Sai Sujith"},{"$f":"IF(I37=\"\",\"\",Main!K13)","v":"VIII"},{"$f":"IF(I37=\"\",\"\",Main!L13)","v":"2010-2011"},{"$f":"IF(I37=\"\",\"\",Main!M13)","v":"Rathnam High School, Nelore"},{"$f":"IF(Main!N13=\"\",\"\",Main!N13)","v":1000},null,1,{"$f":"K37","v":1}]
[{"$f":"IF(K39=\"\",\"\",SUM($L$18:L39))","v":11},{"$f":"IF(I39=\"\",\"\",CONCATENATE(Main!C14,\", \",Main!D14,IF(Main!F14>0,CONCATENATE(\", \",Main!F14),\"\")))","v":"K.V.RAVANAMMA, SA (English), MPUPS, Dasaripalli"},null,null,{"$f":"IF(I38=\"\",\"\",Main!O14)","v":"XXXXXXXXXX"},{"$f":"IF(I38=\"\",\"\",Main!P14)","v":"Inter-I"},{"$f":"IF(I38=\"\",\"\",Main!Q14)","v":"2010-2011"},{"$f":"IF(I38=\"\",\"\",Main!R14)","v":"Abdul Kalam Jr Coolege"},{"$f":"IF(Main!S14=\"\",\"\",Main!S14)","v":1000},null,1]
[null,null,null,null,{"$f":"IF(I39=\"\",\"\",Main!J14)","v":"K.V.Sai Sujith"},{"$f":"IF(I39=\"\",\"\",Main!K14)","v":"VIII"},{"$f":"IF(I39=\"\",\"\",Main!L14)","v":"2010-2011"},{"$f":"IF(I39=\"\",\"\",Main!M14)","v":"Rathnam High School, Nelore"},{"$f":"IF(Main!N14=\"\",\"\",Main!N14)","v":1000},null,1,{"$f":"K39","v":1}]
[{"$f":"IF(K41=\"\",\"\",SUM($L$18:L41))","v":12},{"$f":"IF(I41=\"\",\"\",CONCATENATE(Main!C15,\", \",Main!D15,IF(Main!F15>0,CONCATENATE(\", \",Main!F15),\"\")))","v":"K.V.RAVANAMMA, SA (English), MPUPS, Dasaripalli"},null,null,{"$f":"IF(I40=\"\",\"\",Main!O15)","v":"XXXXXXXXXX"},{"$f":"IF(I40=\"\",\"\",Main!P15)","v":"Inter-I"},{"$f":"IF(I40=\"\",\"\",Main!Q15)","v":"2010-2011"},{"$f":"IF(I40=\"\",\"\",Main!R15)","v":"Abdul Kalam Jr Coolege"},{"$f":"IF(Main!S15=\"\",\"\",Main!S15)","v":1000},null,1]
[null,null,null,null,{"$f":"IF(I41=\"\",\"\",Main!J15)","v":"K.V.Sai Sujith"},{"$f":"IF(I41=\"\",\"\",Main!K15)","v":"VIII"},{"$f":"IF(I41=\"\",\"\",Main!L15)","v":"2010-2011"},{"$f":"IF(I41=\"\",\"\",Main!M15)","v":"Rathnam High School, Nelore"},{"$f":"IF(Main!N15=\"\",\"\",Main!N15)","v":1000},null,1,{"$f":"K41","v":1}]
[{"$f":"IF(K43=\"\",\"\",SUM($L$18:L43))","v":13},{"$f":"IF(I43=\"\",\"\",CONCATENATE(Main!C16,\", \",Main!D16,IF(Main!F16>0,CONCATENATE(\", \",Main!F16),\"\")))","v":"K.V.RAVANAMMA, SA (English), MPUPS, Dasaripalli"},null,null,{"$f":"IF(I42=\"\",\"\",Main!O16)","v":"XXXXXXXXXX"},{"$f":"IF(I42=\"\",\"\",Main!P16)","v":"Inter-I"},{"$f":"IF(I42=\"\",\"\",Main!Q16)","v":"2010-2011"},{"$f":"IF(I42=\"\",\"\",Main!R16)","v":"Abdul Kalam Jr Coolege"},{"$f":"IF(Main!S16=\"\",\"\",Main!S16)","v":1000},null,1]
[null,null,null,null,{"$f":"IF(I43=\"\",\"\",Main!J16)","v":"K.V.Sai Sujith"},{"$f":"IF(I43=\"\",\"\",Main!K16)","v":"VIII"},{"$f":"IF(I43=\"\",\"\",Main!L16)","v":"2010-2011"},{"$f":"IF(I43=\"\",\"\",Main!M16)","v":"Rathnam High School, Nelore"},{"$f":"IF(Main!N16=\"\",\"\",Main!N16)","v":1000},null,1,{"$f":"K43","v":1}]
[{"$f":"IF(K45=\"\",\"\",SUM($L$18:L45))","v":14},{"$f":"IF(I45=\"\",\"\",CONCATENATE(Main!C17,\", \",Main!D17,IF(Main!F17>0,CONCATENATE(\", \",Main!F17),\"\")))","v":"K.V.RAVANAMMA, SA (English), MPUPS, Dasaripalli"},null,null,{"$f":"IF(I44=\"\",\"\",Main!O17)","v":"XXXXXXXXXX"},{"$f":"IF(I44=\"\",\"\",Main!P17)","v":"Inter-I"},{"$f":"IF(I44=\"\",\"\",Main!Q17)","v":"2010-2011"},{"$f":"IF(I44=\"\",\"\",Main!R17)","v":"Abdul Kalam Jr Coolege"},{"$f":"IF(Main!S17=\"\",\"\",Main!S17)","v":1000},null,1]
[null,null,null,null,{"$f":"IF(I45=\"\",\"\",Main!J17)","v":"K.V.Sai Sujith"},{"$f":"IF(I45=\"\",\"\",Main!K17)","v":"VIII"},{"$f":"IF(I45=\"\",\"\",Main!L17)","v":"2010-2011"},{"$f":"IF(I45=\"\",\"\",Main!M17)","v":"Rathnam High School, Nelore"},{"$f":"IF(Main!N17=\"\",\"\",Main!N17)","v":1000},null,1,{"$f":"K45","v":1}]
[{"$f":"IF(K47=\"\",\"\",SUM($L$18:L47))","v":15},{"$f":"IF(I47=\"\",\"\",CONCATENATE(Main!C18,\", \",Main!D18,IF(Main!F18>0,CONCATENATE(\", \",Main!F18),\"\")))","v":"K.V.RAVANAMMA, SA (English), MPUPS, Dasaripalli"},null,null,{"$f":"IF(I46=\"\",\"\",Main!O18)","v":"XXXXXXXXXX"},{"$f":"IF(I46=\"\",\"\",Main!P18)","v":"Inter-I"},{"$f":"IF(I46=\"\",\"\",Main!Q18)","v":"2010-2011"},{"$f":"IF(I46=\"\",\"\",Main!R18)","v":"Abdul Kalam Jr Coolege"},{"$f":"IF(Main!S18=\"\",\"\",Main!S18)","v":1000},null,1]
[null,null,null,null,{"$f":"IF(I47=\"\",\"\",Main!J18)","v":"K.V.Sai Sujith"},{"$f":"IF(I47=\"\",\"\",Main!K18)","v":"VIII"},{"$f":"IF(I47=\"\",\"\",Main!L18)","v":"2010-2011"},{"$f":"IF(I47=\"\",\"\",Main!M18)","v":"Rathnam High School, Nelore"},{"$f":"IF(Main!N18=\"\",\"\",Main!N18)","v":1000},null,1,{"$f":"K47","v":1}]
[{"$f":"IF(K49=\"\",\"\",SUM($L$18:L49))","v":16},{"$f":"IF(I49=\"\",\"\",CONCATENATE(Main!C19,\", \",Main!D19,IF(Main!F19>0,CONCATENATE(\", \",Main!F19),\"\")))","v":"K.V.RAVANAMMA, SA (English), MPUPS, Dasaripalli"},null,null,{"$f":"IF(I48=\"\",\"\",Main!O19)","v":"XXXXXXXXXX"},{"$f":"IF(I48=\"\",\"\",Main!P19)","v":"Inter-I"},{"$f":"IF(I48=\"\",\"\",Main!Q19)","v":"2010-2011"},{"$f":"IF(I48=\"\",\"\",Main!R19)","v":"Abdul Kalam Jr Coolege"},{"$f":"IF(Main!S19=\"\",\"\",Main!S19)","v":1000},null,1]
[null,null,null,null,{"$f":"IF(I49=\"\",\"\",Main!J19)","v":"K.V.Sai Sujith"},{"$f":"IF(I49=\"\",\"\",Main!K19)","v":"VIII"},{"$f":"IF(I49=\"\",\"\",Main!L19)","v":"2010-2011"},{"$f":"IF(I49=\"\",\"\",Main!M19)","v":"Rathnam High School, Nelore"},{"$f":"IF(Main!N19=\"\",\"\",Main!N19)","v":1000},null,1,{"$f":"K49","v":1}]
[{"$f":"IF(K51=\"\",\"\",SUM($L$18:L51))","v":17},{"$f":"IF(I51=\"\",\"\",CONCATENATE(Main!C20,\", \",Main!D20,IF(Main!F20>0,CONCATENATE(\", \",Main!F20),\"\")))","v":"K.V.RAVANAMMA, SA (English), MPUPS, Dasaripalli"},null,null,{"$f":"IF(I50=\"\",\"\",Main!O20)","v":"XXXXXXXXXX"},{"$f":"IF(I50=\"\",\"\",Main!P20)","v":"Inter-I"},{"$f":"IF(I50=\"\",\"\",Main!Q20)","v":"2010-2011"},{"$f":"IF(I50=\"\",\"\",Main!R20)","v":"Abdul Kalam Jr Coolege"},{"$f":"IF(Main!S20=\"\",\"\",Main!S20)","v":1000},null,1]
[null,null,null,null,{"$f":"IF(I51=\"\",\"\",Main!J20)","v":"K.V.Sai Sujith"},{"$f":"IF(I51=\"\",\"\",Main!K20)","v":"VIII"},{"$f":"IF(I51=\"\",\"\",Main!L20)","v":"2010-2011"},{"$f":"IF(I51=\"\",\"\",Main!M20)","v":"Rathnam High School, Nelore"},{"$f":"IF(Main!N20=\"\",\"\",Main!N20)","v":1000},null,1,{"$f":"K51","v":1}]
[{"$f":"IF(K53=\"\",\"\",SUM($L$18:L53))","v":18},{"$f":"IF(I53=\"\",\"\",CONCATENATE(Main!C21,\", \",Main!D21,IF(Main!F21>0,CONCATENATE(\", \",Main!F21),\"\")))","v":"K.V.RAVANAMMA, SA (English), MPUPS, Dasaripalli"},null,null,{"$f":"IF(I52=\"\",\"\",Main!O21)","v":"XXXXXXXXXX"},{"$f":"IF(I52=\"\",\"\",Main!P21)","v":"Inter-I"},{"$f":"IF(I52=\"\",\"\",Main!Q21)","v":"2010-2011"},{"$f":"IF(I52=\"\",\"\",Main!R21)","v":"Abdul Kalam Jr Coolege"},{"$f":"IF(Main!S21=\"\",\"\",Main!S21)","v":1000},null,1]
[null,null,null,null,{"$f":"IF(I53=\"\",\"\",Main!J21)","v":"K.V.Sai Sujith"},{"$f":"IF(I53=\"\",\"\",Main!K21)","v":"VIII"},{"$f":"IF(I53=\"\",\"\",Main!L21)","v":"2010-2011"},{"$f":"IF(I53=\"\",\"\",Main!M21)","v":"Rathnam High School, Nelore"},{"$f":"IF(Main!N21=\"\",\"\",Main!N21)","v":1000},null,1,{"$f":"K53","v":1}]
[{"$f":"IF(K55=\"\",\"\",SUM($L$18:L55))","v":19},{"$f":"IF(I55=\"\",\"\",CONCATENATE(Main!C22,\", \",Main!D22,IF(Main!F22>0,CONCATENATE(\", \",Main!F22),\"\")))","v":"K.V.RAVANAMMA, SA (English), MPUPS, Dasaripalli"},null,null,{"$f":"IF(I54=\"\",\"\",Main!O22)","v":"XXXXXXXXXX"},{"$f":"IF(I54=\"\",\"\",Main!P22)","v":"Inter-I"},{"$f":"IF(I54=\"\",\"\",Main!Q22)","v":"2010-2011"},{"$f":"IF(I54=\"\",\"\",Main!R22)","v":"Abdul Kalam Jr Coolege"},{"$f":"IF(Main!S22=\"\",\"\",Main!S22)","v":1000},null,1]
[null,null,null,null,{"$f":"IF(I55=\"\",\"\",Main!J22)","v":"K.V.Sai Sujith"},{"$f":"IF(I55=\"\",\"\",Main!K22)","v":"VIII"},{"$f":"IF(I55=\"\",\"\",Main!L22)","v":"2010-2011"},{"$f":"IF(I55=\"\",\"\",Main!M22)","v":"Rathnam High School, Nelore"},{"$f":"IF(Main!N22=\"\",\"\",Main!N22)","v":1000},null,1,{"$f":"K55","v":1}]
[{"$f":"IF(K57=\"\",\"\",SUM($L$18:L57))","v":20},{"$f":"IF(I57=\"\",\"\",CONCATENATE(Main!C23,\", \",Main!D23,IF(Main!F23>0,CONCATENATE(\", \",Main!F23),\"\")))","v":"K.V.RAVANAMMA, SA (English), MPUPS, Dasaripalli"},null,null,{"$f":"IF(I56=\"\",\"\",Main!O23)","v":"XXXXXXXXXX"},{"$f":"IF(I56=\"\",\"\",Main!P23)","v":"Inter-I"},{"$f":"IF(I56=\"\",\"\",Main!Q23)","v":"2010-2011"},{"$f":"IF(I56=\"\",\"\",Main!R23)","v":"Abdul Kalam Jr Coolege"},{"$f":"IF(Main!S23=\"\",\"\",Main!S23)","v":1000},null,1]
[null,null,null,null,{"$f":"IF(I57=\"\",\"\",Main!J23)","v":"K.V.Sai Sujith"},{"$f":"IF(I57=\"\",\"\",Main!K23)","v":"VIII"},{"$f":"IF(I57=\"\",\"\",Main!L23)","v":"2010-2011"},{"$f":"IF(I57=\"\",\"\",Main!M23)","v":"Rathnam High School, Nelore"},{"$f":"IF(Main!N23=\"\",\"\",Main!N23)","v":1000},null,1,{"$f":"K57","v":1}]
[{"$f":"IF(K59=\"\",\"\",SUM($L$18:L59))","v":21},{"$f":"IF(I59=\"\",\"\",CONCATENATE(Main!C24,\", \",Main!D24,IF(Main!F24>0,CONCATENATE(\", \",Main!F24),\"\")))","v":"K.V.RAVANAMMA, SA (English), MPUPS, Dasaripalli"},null,null,{"$f":"IF(I58=\"\",\"\",Main!O24)","v":"XXXXXXXXXX"},{"$f":"IF(I58=\"\",\"\",Main!P24)","v":"Inter-I"},{"$f":"IF(I58=\"\",\"\",Main!Q24)","v":"2010-2011"},{"$f":"IF(I58=\"\",\"\",Main!R24)","v":"Abdul Kalam Jr Coolege"},{"$f":"IF(Main!S24=\"\",\"\",Main!S24)","v":1000},null,1]
[null,null,null,null,{"$f":"IF(I59=\"\",\"\",Main!J24)","v":"K.V.Sai Sujith"},{"$f":"IF(I59=\"\",\"\",Main!K24)","v":"VIII"},{"$f":"IF(I59=\"\",\"\",Main!L24)","v":"2010-2011"},{"$f":"IF(I59=\"\",\"\",Main!M24)","v":"Rathnam High School, Nelore"},{"$f":"IF(Main!N24=\"\",\"\",Main!N24)","v":1000},null,1,{"$f":"K59","v":1}]
[{"$f":"IF(K61=\"\",\"\",SUM($L$18:L61))","v":22},{"$f":"IF(I61=\"\",\"\",CONCATENATE(Main!C25,\", \",Main!D25,IF(Main!F25>0,CONCATENATE(\", \",Main!F25),\"\")))","v":"K.V.RAVANAMMA, SA (English), MPUPS, Dasaripalli"},null,null,{"$f":"IF(I60=\"\",\"\",Main!O25)","v":"XXXXXXXXXX"},{"$f":"IF(I60=\"\",\"\",Main!P25)","v":"Inter-I"},{"$f":"IF(I60=\"\",\"\",Main!Q25)","v":"2010-2011"},{"$f":"IF(I60=\"\",\"\",Main!R25)","v":"Abdul Kalam Jr Coolege"},{"$f":"IF(Main!S25=\"\",\"\",Main!S25)","v":1000},null,1]
[null,null,null,null,{"$f":"IF(I61=\"\",\"\",Main!J25)","v":"K.V.Sai Sujith"},{"$f":"IF(I61=\"\",\"\",Main!K25)","v":"VIII"},{"$f":"IF(I61=\"\",\"\",Main!L25)","v":"2010-2011"},{"$f":"IF(I61=\"\",\"\",Main!M25)","v":"Rathnam High School, Nelore"},{"$f":"IF(Main!N25=\"\",\"\",Main!N25)","v":1000},null,1,{"$f":"K61","v":1}]
[{"$f":"IF(K63=\"\",\"\",SUM($L$18:L63))","v":23},{"$f":"IF(I63=\"\",\"\",CONCATENATE(Main!C26,\", \",Main!D26,IF(Main!F26>0,CONCATENATE(\", \",Main!F26),\"\")))","v":"K.V.RAVANAMMA, SA (English), MPUPS, Dasaripalli"},null,null,{"$f":"IF(I62=\"\",\"\",Main!O26)","v":"XXXXXXXXXX"},{"$f":"IF(I62=\"\",\"\",Main!P26)","v":"Inter-I"},{"$f":"IF(I62=\"\",\"\",Main!Q26)","v":"2010-2011"},{"$f":"IF(I62=\"\",\"\",Main!R26)","v":"Abdul Kalam Jr Coolege"},{"$f":"IF(Main!S26=\"\",\"\",Main!S26)","v":1000},null,1]
[null,null,null,null,{"$f":"IF(I63=\"\",\"\",Main!J26)","v":"K.V.Sai Sujith"},{"$f":"IF(I63=\"\",\"\",Main!K26)","v":"VIII"},{"$f":"IF(I63=\"\",\"\",Main!L26)","v":"2010-2011"},{"$f":"IF(I63=\"\",\"\",Main!M26)","v":"Rathnam High School, Nelore"},{"$f":"IF(Main!N26=\"\",\"\",Main!N26)","v":1000},null,1,{"$f":"K63","v":1}]
[{"$f":"IF(K65=\"\",\"\",SUM($L$18:L65))","v":24},{"$f":"IF(I65=\"\",\"\",CONCATENATE(Main!C27,\", \",Main!D27,IF(Main!F27>0,CONCATENATE(\", \",Main!F27),\"\")))","v":"K.V.RAVANAMMA, SA (English), MPUPS, Dasaripalli"},null,null,{"$f":"IF(I64=\"\",\"\",Main!O27)","v":"XXXXXXXXXX"},{"$f":"IF(I64=\"\",\"\",Main!P27)","v":"Inter-I"},{"$f":"IF(I64=\"\",\"\",Main!Q27)","v":"2010-2011"},{"$f":"IF(I64=\"\",\"\",Main!R27)","v":"Abdul Kalam Jr Coolege"},{"$f":"IF(Main!S27=\"\",\"\",Main!S27)","v":1000},null,1]
[null,null,null,null,{"$f":"IF(I65=\"\",\"\",Main!J27)","v":"K.V.Sai Sujith"},{"$f":"IF(I65=\"\",\"\",Main!K27)","v":"VIII"},{"$f":"IF(I65=\"\",\"\",Main!L27)","v":"2010-2011"},{"$f":"IF(I65=\"\",\"\",Main!M27)","v":"Rathnam High School, Nelore"},{"$f":"IF(Main!N27=\"\",\"\",Main!N27)","v":1000},null,1,{"$f":"K65","v":1}]
[{"$f":"IF(K67=\"\",\"\",SUM($L$18:L67))","v":25},{"$f":"IF(I67=\"\",\"\",CONCATENATE(Main!C28,\", \",Main!D28,IF(Main!F28>0,CONCATENATE(\", \",Main!F28),\"\")))","v":"K.V.RAVANAMMA, SA (English), MPUPS, Dasaripalli"},null,null,{"$f":"IF(I66=\"\",\"\",Main!O28)","v":"XXXXXXXXXX"},{"$f":"IF(I66=\"\",\"\",Main!P28)","v":"Inter-I"},{"$f":"IF(I66=\"\",\"\",Main!Q28)","v":"2010-2011"},{"$f":"IF(I66=\"\",\"\",Main!R28)","v":"Abdul Kalam Jr Coolege"},{"$f":"IF(Main!S28=\"\",\"\",Main!S28)","v":1000},null,1]
[null,null,null,null,{"$f":"IF(I67=\"\",\"\",Main!J28)","v":"K.V.Sai Sujith"},{"$f":"IF(I67=\"\",\"\",Main!K28)","v":"VIII"},{"$f":"IF(I67=\"\",\"\",Main!L28)","v":"2010-2011"},{"$f":"IF(I67=\"\",\"\",Main!M28)","v":"Rathnam High School, Nelore"},{"$f":"IF(Main!N28=\"\",\"\",Main!N28)","v":1000},null,1,{"$f":"K67","v":1}]
[{"$f":"IF(K69=\"\",\"\",SUM($L$18:L69))","v":26},{"$f":"IF(I69=\"\",\"\",CONCATENATE(Main!C29,\", \",Main!D29,IF(Main!F29>0,CONCATENATE(\", \",Main!F29),\"\")))","v":"K.V.RAVANAMMA, SA (English), MPUPS, Dasaripalli"},null,null,{"$f":"IF(I68=\"\",\"\",Main!O29)","v":"XXXXXXXXXX"},{"$f":"IF(I68=\"\",\"\",Main!P29)","v":"Inter-I"},{"$f":"IF(I68=\"\",\"\",Main!Q29)","v":"2010-2011"},{"$f":"IF(I68=\"\",\"\",Main!R29)","v":"Abdul Kalam Jr Coolege"},{"$f":"IF(Main!S29=\"\",\"\",Main!S29)","v":1000},null,1]
[null,null,null,null,{"$f":"IF(I69=\"\",\"\",Main!J29)","v":"K.V.Sai Sujith"},{"$f":"IF(I69=\"\",\"\",Main!K29)","v":"VIII"},{"$f":"IF(I69=\"\",\"\",Main!L29)","v":"2010-2011"},{"$f":"IF(I69=\"\",\"\",Main!M29)","v":"Rathnam High School, Nelore"},{"$f":"IF(Main!N29=\"\",\"\",Main!N29)","v":1000},null,1,{"$f":"K69","v":1}]
[{"$f":"IF(K71=\"\",\"\",SUM($L$18:L71))","v":27},{"$f":"IF(I71=\"\",\"\",CONCATENATE(Main!C30,\", \",Main!D30,IF(Main!F30>0,CONCATENATE(\", \",Main!F30),\"\")))","v":"K.V.RAVANAMMA, SA (English), MPUPS, Dasaripalli"},null,null,{"$f":"IF(I70=\"\",\"\",Main!O30)","v":"XXXXXXXXXX"},{"$f":"IF(I70=\"\",\"\",Main!P30)","v":"Inter-I"},{"$f":"IF(I70=\"\",\"\",Main!Q30)","v":"2010-2011"},{"$f":"IF(I70=\"\",\"\",Main!R30)","v":"Abdul Kalam Jr Coolege"},{"$f":"IF(Main!S30=\"\",\"\",Main!S30)","v":1000},null,1]
[null,null,null,null,{"$f":"IF(I71=\"\",\"\",Main!J30)","v":"K.V.Sai Sujith"},{"$f":"IF(I71=\"\",\"\",Main!K30)","v":"VIII"},{"$f":"IF(I71=\"\",\"\",Main!L30)","v":"2010-2011"},{"$f":"IF(I71=\"\",\"\",Main!M30)","v":"Rathnam High School, Nelore"},{"$f":"IF(Main!N30=\"\",\"\",Main!N30)","v":1000},null,1,{"$f":"K71","v":1}]
[{"$f":"IF(K73=\"\",\"\",SUM($L$18:L73))","v":28},{"$f":"IF(I73=\"\",\"\",CONCATENATE(Main!C31,\", \",Main!D31,IF(Main!F31>0,CONCATENATE(\", \",Main!F31),\"\")))","v":"K.V.RAVANAMMA, SA (English), MPUPS, Dasaripalli"},null,null,{"$f":"IF(I72=\"\",\"\",Main!O31)","v":"XXXXXXXXXX"},{"$f":"IF(I72=\"\",\"\",Main!P31)","v":"Inter-I"},{"$f":"IF(I72=\"\",\"\",Main!Q31)","v":"2010-2011"},{"$f":"IF(I72=\"\",\"\",Main!R31)","v":"Abdul Kalam Jr Coolege"},{"$f":"IF(Main!S31=\"\",\"\",Main!S31)","v":1000},null,1]
[null,null,null,null,{"$f":"IF(I73=\"\",\"\",Main!J31)","v":"K.V.Sai Sujith"},{"$f":"IF(I73=\"\",\"\",Main!K31)","v":"VIII"},{"$f":"IF(I73=\"\",\"\",Main!L31)","v":"2010-2011"},{"$f":"IF(I73=\"\",\"\",Main!M31)","v":"Rathnam High School, Nelore"},{"$f":"IF(Main!N31=\"\",\"\",Main!N31)","v":1000},null,1,{"$f":"K73","v":1}]
[{"$f":"IF(K75=\"\",\"\",SUM($L$18:L75))","v":29},{"$f":"IF(I75=\"\",\"\",CONCATENATE(Main!C32,\", \",Main!D32,IF(Main!F32>0,CONCATENATE(\", \",Main!F32),\"\")))","v":"K.V.RAVANAMMA, SA (English), MPUPS, Dasaripalli"},null,null,{"$f":"IF(I74=\"\",\"\",Main!O32)","v":"XXXXXXXXXX"},{"$f":"IF(I74=\"\",\"\",Main!P32)","v":"Inter-I"},{"$f":"IF(I74=\"\",\"\",Main!Q32)","v":"2010-2011"},{"$f":"IF(I74=\"\",\"\",Main!R32)","v":"Abdul Kalam Jr Coolege"},{"$f":"IF(Main!S32=\"\",\"\",Main!S32)","v":1000},null,1]
[null,null,null,null,{"$f":"IF(I75=\"\",\"\",Main!J32)","v":"K.V.Sai Sujith"},{"$f":"IF(I75=\"\",\"\",Main!K32)","v":"VIII"},{"$f":"IF(I75=\"\",\"\",Main!L32)","v":"2010-2011"},{"$f":"IF(I75=\"\",\"\",Main!M32)","v":"Rathnam High School, Nelore"},{"$f":"IF(Main!N32=\"\",\"\",Main!N32)","v":1000},null,1,{"$f":"K75","v":1}]
[{"$f":"IF(K77=\"\",\"\",SUM($L$18:L77))","v":30},{"$f":"IF(I77=\"\",\"\",CONCATENATE(Main!C33,\", \",Main!D33,IF(Main!F33>0,CONCATENATE(\", \",Main!F33),\"\")))","v":"K.V.RAVANAMMA, SA (English), MPUPS, Dasaripalli"},null,null,{"$f":"IF(I76=\"\",\"\",Main!O33)","v":"XXXXXXXXXX"},{"$f":"IF(I76=\"\",\"\",Main!P33)","v":"Inter-I"},{"$f":"IF(I76=\"\",\"\",Main!Q33)","v":"2010-2011"},{"$f":"IF(I76=\"\",\"\",Main!R33)","v":"Abdul Kalam Jr Coolege"},{"$f":"IF(Main!S33=\"\",\"\",Main!S33)","v":1000},null,1]
[null,null,null,null,{"$f":"IF(I77=\"\",\"\",Main!J33)","v":"K.V.Sai Sujith"},{"$f":"IF(I77=\"\",\"\",Main!K33)","v":"VIII"},{"$f":"IF(I77=\"\",\"\",Main!L33)","v":"2010-2011"},{"$f":"IF(I77=\"\",\"\",Main!M33)","v":"Rathnam High School, Nelore"},{"$f":"IF(Main!N33=\"\",\"\",Main!N33)","v":1000},null,1,{"$f":"K77","v":1}]
[{"$f":"IF(K79=\"\",\"\",SUM($L$18:L79))","v":31},{"$f":"IF(I79=\"\",\"\",CONCATENATE(Main!C34,\", \",Main!D34,IF(Main!F34>0,CONCATENATE(\", \",Main!F34),\"\")))","v":"K.V.RAVANAMMA, SA (English), MPUPS, Dasaripalli"},null,null,{"$f":"IF(I78=\"\",\"\",Main!O34)","v":"XXXXXXXXXX"},{"$f":"IF(I78=\"\",\"\",Main!P34)","v":"Inter-I"},{"$f":"IF(I78=\"\",\"\",Main!Q34)","v":"2010-2011"},{"$f":"IF(I78=\"\",\"\",Main!R34)","v":"Abdul Kalam Jr Coolege"},{"$f":"IF(Main!S34=\"\",\"\",Main!S34)","v":1000},null,1]
[null,null,null,null,{"$f":"IF(I79=\"\",\"\",Main!J34)","v":"K.V.Sai Sujith"},{"$f":"IF(I79=\"\",\"\",Main!K34)","v":"VIII"},{"$f":"IF(I79=\"\",\"\",Main!L34)","v":"2010-2011"},{"$f":"IF(I79=\"\",\"\",Main!M34)","v":"Rathnam High School, Nelore"},{"$f":"IF(Main!N34=\"\",\"\",Main!N34)","v":1000},null,1,{"$f":"K79","v":1}]
[{"$f":"IF(K81=\"\",\"\",SUM($L$18:L81))","v":32},{"$f":"IF(I81=\"\",\"\",CONCATENATE(Main!C35,\", \",Main!D35,IF(Main!F35>0,CONCATENATE(\", \",Main!F35),\"\")))","v":"K.V.RAVANAMMA, SA (English), MPUPS, Dasaripalli"},null,null,{"$f":"IF(I80=\"\",\"\",Main!O35)","v":"XXXXXXXXXX"},{"$f":"IF(I80=\"\",\"\",Main!P35)","v":"Inter-I"},{"$f":"IF(I80=\"\",\"\",Main!Q35)","v":"2010-2011"},{"$f":"IF(I80=\"\",\"\",Main!R35)","v":"Abdul Kalam Jr Coolege"},{"$f":"IF(Main!S35=\"\",\"\",Main!S35)","v":1000},null,1]
[null,null,null,null,{"$f":"IF(I81=\"\",\"\",Main!J35)","v":"K.V.Sai Sujith"},{"$f":"IF(I81=\"\",\"\",Main!K35)","v":"VIII"},{"$f":"IF(I81=\"\",\"\",Main!L35)","v":"2010-2011"},{"$f":"IF(I81=\"\",\"\",Main!M35)","v":"Rathnam High School, Nelore"},{"$f":"IF(Main!N35=\"\",\"\",Main!N35)","v":1000},null,1,{"$f":"K81","v":1}]
[{"$f":"IF(K83=\"\",\"\",SUM($L$18:L83))","v":33},{"$f":"IF(I83=\"\",\"\",CONCATENATE(Main!C36,\", \",Main!D36,IF(Main!F36>0,CONCATENATE(\", \",Main!F36),\"\")))","v":"K.V.RAVANAMMA, SA (English), MPUPS, Dasaripalli"},null,null,{"$f":"IF(I82=\"\",\"\",Main!O36)","v":"XXXXXXXXXX"},{"$f":"IF(I82=\"\",\"\",Main!P36)","v":"Inter-I"},{"$f":"IF(I82=\"\",\"\",Main!Q36)","v":"2010-2011"},{"$f":"IF(I82=\"\",\"\",Main!R36)","v":"Abdul Kalam Jr Coolege"},{"$f":"IF(Main!S36=\"\",\"\",Main!S36)","v":1000},null,1]
[null,null,null,null,{"$f":"IF(I83=\"\",\"\",Main!J36)","v":"K.V.Sai Sujith"},{"$f":"IF(I83=\"\",\"\",Main!K36)","v":"VIII"},{"$f":"IF(I83=\"\",\"\",Main!L36)","v":"2010-2011"},{"$f":"IF(I83=\"\",\"\",Main!M36)","v":"Rathnam High School, Nelore"},{"$f":"IF(Main!N36=\"\",\"\",Main!N36)","v":1000},null,{"$f":"IF(I83=\"\",\"\",1)","v":1},{"$f":"K83","v":1}]
[{"$f":"IF(K85=\"\",\"\",SUM($L$18:L85))","v":34},{"$f":"IF(I85=\"\",\"\",CONCATENATE(Main!C37,\", \",Main!D37,IF(Main!F37>0,CONCATENATE(\", \",Main!F37),\"\")))","v":"K.V.RAVANAMMA, SA (English), MPUPS, Dasaripalli"},null,null,{"$f":"IF(I84=\"\",\"\",Main!O37)","v":"XXXXXXXXXX"},{"$f":"IF(I84=\"\",\"\",Main!P37)","v":"Inter-I"},{"$f":"IF(I84=\"\",\"\",Main!Q37)","v":"2010-2011"},{"$f":"IF(I84=\"\",\"\",Main!R37)","v":"Abdul Kalam Jr Coolege"},{"$f":"IF(Main!S37=\"\",\"\",Main!S37)","v":1000},null,1]
[null,null,null,null,{"$f":"IF(I85=\"\",\"\",Main!J37)","v":"K.V.Sai Sujith"},{"$f":"IF(I85=\"\",\"\",Main!K37)","v":"VIII"},{"$f":"IF(I85=\"\",\"\",Main!L37)","v":"2010-2011"},{"$f":"IF(I85=\"\",\"\",Main!M37)","v":"Rathnam High School, Nelore"},{"$f":"IF(Main!N37=\"\",\"\",Main!N37)","v":1000},null,1,{"$f":"K85","v":1}]
[{"$f":"IF(K87=\"\",\"\",SUM($L$18:L87))","v":35},{"$f":"IF(I87=\"\",\"\",CONCATENATE(Main!C38,\", \",Main!D38,IF(Main!F38>0,CONCATENATE(\", \",Main!F38),\"\")))","v":"K.V.RAVANAMMA, SA (English), MPUPS, Dasaripalli"},null,null,{"$f":"IF(I86=\"\",\"\",Main!O38)","v":"XXXXXXXXXX"},{"$f":"IF(I86=\"\",\"\",Main!P38)","v":"Inter-I"},{"$f":"IF(I86=\"\",\"\",Main!Q38)","v":"2010-2011"},{"$f":"IF(I86=\"\",\"\",Main!R38)","v":"Abdul Kalam Jr Coolege"},{"$f":"IF(Main!S38=\"\",\"\",Main!S38)","v":1000},null,1]
[null,null,null,null,{"$f":"IF(I87=\"\",\"\",Main!J38)","v":"K.V.Sai Sujith"},{"$f":"IF(I87=\"\",\"\",Main!K38)","v":"VIII"},{"$f":"IF(I87=\"\",\"\",Main!L38)","v":"2010-2011"},{"$f":"IF(I87=\"\",\"\",Main!M38)","v":"Rathnam High School, Nelore"},{"$f":"IF(Main!N38=\"\",\"\",Main!N38)","v":1000},null,1,{"$f":"K87","v":1}]
[{"$f":"IF(K89=\"\",\"\",SUM($L$18:L89))","v":36},{"$f":"IF(I89=\"\",\"\",CONCATENATE(Main!C39,\", \",Main!D39,IF(Main!F39>0,CONCATENATE(\", \",Main!F39),\"\")))","v":"K.V.RAVANAMMA, SA (English), MPUPS, Dasaripalli"},null,null,{"$f":"IF(I88=\"\",\"\",Main!O39)","v":"XXXXXXXXXX"},{"$f":"IF(I88=\"\",\"\",Main!P39)","v":"Inter-I"},{"$f":"IF(I88=\"\",\"\",Main!Q39)","v":"2010-2011"},{"$f":"IF(I88=\"\",\"\",Main!R39)","v":"Abdul Kalam Jr Coolege"},{"$f":"IF(Main!S39=\"\",\"\",Main!S39)","v":1000},null,1]
[null,null,null,null,{"$f":"IF(I89=\"\",\"\",Main!J39)","v":"K.V.Sai Sujith"},{"$f":"IF(I89=\"\",\"\",Main!K39)","v":"VIII"},{"$f":"IF(I89=\"\",\"\",Main!L39)","v":"2010-2011"},{"$f":"IF(I89=\"\",\"\",Main!M39)","v":"Rathnam High School, Nelore"},{"$f":"IF(Main!N39=\"\",\"\",Main!N39)","v":1000},null,1,{"$f":"K89","v":1}]
[{"$f":"IF(K91=\"\",\"\",SUM($L$18:L91))","v":37},{"$f":"IF(I91=\"\",\"\",CONCATENATE(Main!C40,\", \",Main!D40,IF(Main!F40>0,CONCATENATE(\", \",Main!F40),\"\")))","v":"K.V.RAVANAMMA, SA (English), MPUPS, Dasaripalli"},null,null,{"$f":"IF(I90=\"\",\"\",Main!O40)","v":"XXXXXXXXXX"},{"$f":"IF(I90=\"\",\"\",Main!P40)","v":"Inter-I"},{"$f":"IF(I90=\"\",\"\",Main!Q40)","v":"2010-2011"},{"$f":"IF(I90=\"\",\"\",Main!R40)","v":"Abdul Kalam Jr Coolege"},{"$f":"IF(Main!S40=\"\",\"\",Main!S40)","v":1000},null,1]
[null,null,null,null,{"$f":"IF(I91=\"\",\"\",Main!J40)","v":"K.V.Sai Sujith"},{"$f":"IF(I91=\"\",\"\",Main!K40)","v":"VIII"},{"$f":"IF(I91=\"\",\"\",Main!L40)","v":"2010-2011"},{"$f":"IF(I91=\"\",\"\",Main!M40)","v":"Rathnam High School, Nelore"},{"$f":"IF(Main!N40=\"\",\"\",Main!N40)","v":1000},null,1,{"$f":"K91","v":1}]
[{"$f":"IF(K93=\"\",\"\",SUM($L$18:L93))","v":38},{"$f":"IF(I93=\"\",\"\",CONCATENATE(Main!C41,\", \",Main!D41,IF(Main!F41>0,CONCATENATE(\", \",Main!F41),\"\")))","v":"K.V.RAVANAMMA, SA (English), MPUPS, Dasaripalli"},null,null,{"$f":"IF(I92=\"\",\"\",Main!O41)","v":"XXXXXXXXXX"},{"$f":"IF(I92=\"\",\"\",Main!P41)","v":"Inter-I"},{"$f":"IF(I92=\"\",\"\",Main!Q41)","v":"2010-2011"},{"$f":"IF(I92=\"\",\"\",Main!R41)","v":"Abdul Kalam Jr Coolege"},{"$f":"IF(Main!S41=\"\",\"\",Main!S41)","v":1000},null,1]
[null,null,null,null,{"$f":"IF(I93=\"\",\"\",Main!J41)","v":"K.V.Sai Sujith"},{"$f":"IF(I93=\"\",\"\",Main!K41)","v":"VIII"},{"$f":"IF(I93=\"\",\"\",Main!L41)","v":"2010-2011"},{"$f":"IF(I93=\"\",\"\",Main!M41)","v":"Rathnam High School, Nelore"},{"$f":"IF(Main!N41=\"\",\"\",Main!N41)","v":1000},null,1,{"$f":"K93","v":1}]
[{"$f":"IF(K95=\"\",\"\",SUM($L$18:L95))","v":39},{"$f":"IF(I95=\"\",\"\",CONCATENATE(Main!C42,\", \",Main!D42,IF(Main!F42>0,CONCATENATE(\", \",Main!F42),\"\")))","v":"K.V.RAVANAMMA, SA (English), MPUPS, Dasaripalli"},null,null,{"$f":"IF(I94=\"\",\"\",Main!O42)","v":"XXXXXXXXXX"},{"$f":"IF(I94=\"\",\"\",Main!P42)","v":"Inter-I"},{"$f":"IF(I94=\"\",\"\",Main!Q42)","v":"2010-2011"},{"$f":"IF(I94=\"\",\"\",Main!R42)","v":"Abdul Kalam Jr Coolege"},{"$f":"IF(Main!S42=\"\",\"\",Main!S42)","v":1000},null,1]
[null,null,null,null,{"$f":"IF(I95=\"\",\"\",Main!J42)","v":"K.V.Sai Sujith"},{"$f":"IF(I95=\"\",\"\",Main!K42)","v":"VIII"},{"$f":"IF(I95=\"\",\"\",Main!L42)","v":"2010-2011"},{"$f":"IF(I95=\"\",\"\",Main!M42)","v":"Rathnam High School, Nelore"},{"$f":"IF(Main!N42=\"\",\"\",Main!N42)","v":1000},null,1,{"$f":"K95","v":1}]
[{"$f":"IF(K97=\"\",\"\",SUM($L$18:L97))","v":40},{"$f":"IF(I97=\"\",\"\",CONCATENATE(Main!C43,\", \",Main!D43,IF(Main!F43>0,CONCATENATE(\", \",Main!F43),\"\")))","v":"K.V.RAVANAMMA, SA (English), MPUPS, Dasaripalli"},null,null,{"$f":"IF(I96=\"\",\"\",Main!O43)","v":"XXXXXXXXXX"},{"$f":"IF(I96=\"\",\"\",Main!P43)","v":"Inter-I"},{"$f":"IF(I96=\"\",\"\",Main!Q43)","v":"2010-2011"},{"$f":"IF(I96=\"\",\"\",Main!R43)","v":"Abdul Kalam Jr Coolege"},{"$f":"IF(Main!S43=\"\",\"\",Main!S43)","v":1000},null,1]
[null,null,null,null,{"$f":"IF(I97=\"\",\"\",Main!J43)","v":"K.V.Sai Sujith"},{"$f":"IF(I97=\"\",\"\",Main!K43)","v":"VIII"},{"$f":"IF(I97=\"\",\"\",Main!L43)","v":"2010-2011"},{"$f":"IF(I97=\"\",\"\",Main!M43)","v":"Rathnam High School, Nelore"},{"$f":"IF(Main!N43=\"\",\"\",Main!N43)","v":1000},null,1,{"$f":"K97","v":1}]
[{"$f":"IF(K99=\"\",\"\",SUM($L$18:L99))","v":41},{"$f":"IF(I99=\"\",\"\",CONCATENATE(Main!C44,\", \",Main!D44,IF(Main!F44>0,CONCATENATE(\", \",Main!F44),\"\")))","v":"K.V.RAVANAMMA, SA (English), MPUPS, Dasaripalli"},null,null,{"$f":"IF(I98=\"\",\"\",Main!O44)","v":"XXXXXXXXXX"},{"$f":"IF(I98=\"\",\"\",Main!P44)","v":"Inter-I"},{"$f":"IF(I98=\"\",\"\",Main!Q44)","v":"2010-2011"},{"$f":"IF(I98=\"\",\"\",Main!R44)","v":"Abdul Kalam Jr Coolege"},{"$f":"IF(Main!S44=\"\",\"\",Main!S44)","v":1000},null,1]
[null,null,null,null,{"$f":"IF(I99=\"\",\"\",Main!J44)","v":"K.V.Sai Sujith"},{"$f":"IF(I99=\"\",\"\",Main!K44)","v":"VIII"},{"$f":"IF(I99=\"\",\"\",Main!L44)","v":"2010-2011"},{"$f":"IF(I99=\"\",\"\",Main!M44)","v":"Rathnam High School, Nelore"},{"$f":"IF(Main!N44=\"\",\"\",Main!N44)","v":1000},null,1,{"$f":"K99","v":1}]
[{"$f":"IF(K101=\"\",\"\",SUM($L$18:L101))","v":42},{"$f":"IF(I101=\"\",\"\",CONCATENATE(Main!C45,\", \",Main!D45,IF(Main!F45>0,CONCATENATE(\", \",Main!F45),\"\")))","v":"K.V.RAVANAMMA, SA (English), MPUPS, Dasaripalli"},null,null,{"$f":"IF(I100=\"\",\"\",Main!O45)","v":"XXXXXXXXXX"},{"$f":"IF(I100=\"\",\"\",Main!P45)","v":"Inter-I"},{"$f":"IF(I100=\"\",\"\",Main!Q45)","v":"2010-2011"},{"$f":"IF(I100=\"\",\"\",Main!R45)","v":"Abdul Kalam Jr Coolege"},{"$f":"IF(Main!S45=\"\",\"\",Main!S45)","v":1000},null,1]
[null,null,null,null,{"$f":"IF(I101=\"\",\"\",Main!J45)","v":"K.V.Sai Sujith"},{"$f":"IF(I101=\"\",\"\",Main!K45)","v":"VIII"},{"$f":"IF(I101=\"\",\"\",Main!L45)","v":"2010-2011"},{"$f":"IF(I101=\"\",\"\",Main!M45)","v":"Rathnam High School, Nelore"},{"$f":"IF(Main!N45=\"\",\"\",Main!N45)","v":1000},null,1,{"$f":"K101","v":1}]
[{"$f":"IF(K103=\"\",\"\",SUM($L$18:L103))","v":43},{"$f":"IF(I103=\"\",\"\",CONCATENATE(Main!C46,\", \",Main!D46,IF(Main!F46>0,CONCATENATE(\", \",Main!F46),\"\")))","v":"K.V.RAVANAMMA, SA (English), MPUPS, Dasaripalli"},null,null,{"$f":"IF(I102=\"\",\"\",Main!O46)","v":"XXXXXXXXXX"},{"$f":"IF(I102=\"\",\"\",Main!P46)","v":"Inter-I"},{"$f":"IF(I102=\"\",\"\",Main!Q46)","v":"2010-2011"},{"$f":"IF(I102=\"\",\"\",Main!R46)","v":"Abdul Kalam Jr Coolege"},{"$f":"IF(Main!S46=\"\",\"\",Main!S46)","v":1000},null,1]
[null,null,null,null,{"$f":"IF(I103=\"\",\"\",Main!J46)","v":"K.V.Sai Sujith"},{"$f":"IF(I103=\"\",\"\",Main!K46)","v":"VIII"},{"$f":"IF(I103=\"\",\"\",Main!L46)","v":"2010-2011"},{"$f":"IF(I103=\"\",\"\",Main!M46)","v":"Rathnam High School, Nelore"},{"$f":"IF(Main!N46=\"\",\"\",Main!N46)","v":1000},null,1,{"$f":"K103","v":1}]
[{"$f":"IF(K105=\"\",\"\",SUM($L$18:L105))","v":44},{"$f":"IF(I105=\"\",\"\",CONCATENATE(Main!C47,\", \",Main!D47,IF(Main!F47>0,CONCATENATE(\", \",Main!F47),\"\")))","v":"K.V.RAVANAMMA, SA (English), MPUPS, Dasaripalli"},null,null,{"$f":"IF(I104=\"\",\"\",Main!O47)","v":"XXXXXXXXXX"},{"$f":"IF(I104=\"\",\"\",Main!P47)","v":"Inter-I"},{"$f":"IF(I104=\"\",\"\",Main!Q47)","v":"2010-2011"},{"$f":"IF(I104=\"\",\"\",Main!R47)","v":"Abdul Kalam Jr Coolege"},{"$f":"IF(Main!S47=\"\",\"\",Main!S47)","v":1000},null,1]
[null,null,null,null,{"$f":"IF(I105=\"\",\"\",Main!J47)","v":"K.V.Sai Sujith"},{"$f":"IF(I105=\"\",\"\",Main!K47)","v":"VIII"},{"$f":"IF(I105=\"\",\"\",Main!L47)","v":"2010-2011"},{"$f":"IF(I105=\"\",\"\",Main!M47)","v":"Rathnam High School, Nelore"},{"$f":"IF(Main!N47=\"\",\"\",Main!N47)","v":1000},null,1,{"$f":"K105","v":1}]
[{"$f":"IF(K107=\"\",\"\",SUM($L$18:L107))","v":45},{"$f":"IF(I107=\"\",\"\",CONCATENATE(Main!C48,\", \",Main!D48,IF(Main!F48>0,CONCATENATE(\", \",Main!F48),\"\")))","v":"K.V.RAVANAMMA, SA (English), MPUPS, Dasaripalli"},null,null,{"$f":"IF(I106=\"\",\"\",Main!O48)","v":"XXXXXXXXXX"},{"$f":"IF(I106=\"\",\"\",Main!P48)","v":"Inter-I"},{"$f":"IF(I106=\"\",\"\",Main!Q48)","v":"2010-2011"},{"$f":"IF(I106=\"\",\"\",Main!R48)","v":"Abdul Kalam Jr Coolege"},{"$f":"IF(Main!S48=\"\",\"\",Main!S48)","v":1000},null,1]
[null,null,null,null,{"$f":"IF(I107=\"\",\"\",Main!J48)","v":"K.V.Sai Sujith"},{"$f":"IF(I107=\"\",\"\",Main!K48)","v":"VIII"},{"$f":"IF(I107=\"\",\"\",Main!L48)","v":"2010-2011"},{"$f":"IF(I107=\"\",\"\",Main!M48)","v":"Rathnam High School, Nelore"},{"$f":"IF(Main!N48=\"\",\"\",Main!N48)","v":1000},null,1,{"$f":"K107","v":1}]
[{"$f":"IF(K109=\"\",\"\",SUM($L$18:L109))","v":46},{"$f":"IF(I109=\"\",\"\",CONCATENATE(Main!C49,\", \",Main!D49,IF(Main!F49>0,CONCATENATE(\", \",Main!F49),\"\")))","v":"K.V.RAVANAMMA, SA (English), MPUPS, Dasaripalli"},null,null,{"$f":"IF(I108=\"\",\"\",Main!O49)","v":"XXXXXXXXXX"},{"$f":"IF(I108=\"\",\"\",Main!P49)","v":"Inter-I"},{"$f":"IF(I108=\"\",\"\",Main!Q49)","v":"2010-2011"},{"$f":"IF(I108=\"\",\"\",Main!R49)","v":"Abdul Kalam Jr Coolege"},{"$f":"IF(Main!S49=\"\",\"\",Main!S49)","v":1000},null,1]
[null,null,null,null,{"$f":"IF(I109=\"\",\"\",Main!J49)","v":"K.V.Sai Sujith"},{"$f":"IF(I109=\"\",\"\",Main!K49)","v":"VIII"},{"$f":"IF(I109=\"\",\"\",Main!L49)","v":"2010-2011"},{"$f":"IF(I109=\"\",\"\",Main!M49)","v":"Rathnam High School, Nelore"},{"$f":"IF(Main!N49=\"\",\"\",Main!N49)","v":1000},null,1,{"$f":"K109","v":1}]
[{"$f":"IF(K111=\"\",\"\",SUM($L$18:L111))","v":47},{"$f":"IF(I111=\"\",\"\",CONCATENATE(Main!C50,\", \",Main!D50,IF(Main!F50>0,CONCATENATE(\", \",Main!F50),\"\")))","v":"K.V.RAVANAMMA, SA (English), MPUPS, Dasaripalli"},null,null,{"$f":"IF(I110=\"\",\"\",Main!O50)","v":"XXXXXXXXXX"},{"$f":"IF(I110=\"\",\"\",Main!P50)","v":"Inter-I"},{"$f":"IF(I110=\"\",\"\",Main!Q50)","v":"2010-2011"},{"$f":"IF(I110=\"\",\"\",Main!R50)","v":"Abdul Kalam Jr Coolege"},{"$f":"IF(Main!S50=\"\",\"\",Main!S50)","v":1000},null,1]
[null,null,null,null,{"$f":"IF(I111=\"\",\"\",Main!J50)","v":"K.V.Sai Sujith"},{"$f":"IF(I111=\"\",\"\",Main!K50)","v":"VIII"},{"$f":"IF(I111=\"\",\"\",Main!L50)","v":"2010-2011"},{"$f":"IF(I111=\"\",\"\",Main!M50)","v":"Rathnam High School, Nelore"},{"$f":"IF(Main!N50=\"\",\"\",Main!N50)","v":1000},null,1,{"$f":"K111","v":1}]
[{"$f":"IF(K113=\"\",\"\",SUM($L$18:L113))","v":48},{"$f":"IF(I113=\"\",\"\",CONCATENATE(Main!C51,\", \",Main!D51,IF(Main!F51>0,CONCATENATE(\", \",Main!F51),\"\")))","v":"K.V.RAVANAMMA, SA (English), MPUPS, Dasaripalli"},null,null,{"$f":"IF(I112=\"\",\"\",Main!O51)","v":"XXXXXXXXXX"},{"$f":"IF(I112=\"\",\"\",Main!P51)","v":"Inter-I"},{"$f":"IF(I112=\"\",\"\",Main!Q51)","v":"2010-2011"},{"$f":"IF(I112=\"\",\"\",Main!R51)","v":"Abdul Kalam Jr Coolege"},{"$f":"IF(Main!S51=\"\",\"\",Main!S51)","v":1000},null,1]
[null,null,null,null,{"$f":"IF(I113=\"\",\"\",Main!J51)","v":"K.V.Sai Sujith"},{"$f":"IF(I113=\"\",\"\",Main!K51)","v":"VIII"},{"$f":"IF(I113=\"\",\"\",Main!L51)","v":"2010-2011"},{"$f":"IF(I113=\"\",\"\",Main!M51)","v":"Rathnam High School, Nelore"},{"$f":"IF(Main!N51=\"\",\"\",Main!N51)","v":1000},null,1,{"$f":"K113","v":1}]
[{"$f":"IF(K115=\"\",\"\",SUM($L$18:L115))","v":49},{"$f":"IF(I115=\"\",\"\",CONCATENATE(Main!C52,\", \",Main!D52,IF(Main!F52>0,CONCATENATE(\", \",Main!F52),\"\")))","v":"K.V.RAVANAMMA, SA (English), MPUPS, Dasaripalli"},null,null,{"$f":"IF(I114=\"\",\"\",Main!O52)","v":"XXXXXXXXXX"},{"$f":"IF(I114=\"\",\"\",Main!P52)","v":"Inter-I"},{"$f":"IF(I114=\"\",\"\",Main!Q52)","v":"2010-2011"},{"$f":"IF(I114=\"\",\"\",Main!R52)","v":"Abdul Kalam Jr Coolege"},{"$f":"IF(Main!S52=\"\",\"\",Main!S52)","v":1000},null,1]
[null,null,null,null,{"$f":"IF(I115=\"\",\"\",Main!J52)","v":"K.V.Sai Sujith"},{"$f":"IF(I115=\"\",\"\",Main!K52)","v":"VIII"},{"$f":"IF(I115=\"\",\"\",Main!L52)","v":"2010-2011"},{"$f":"IF(I115=\"\",\"\",Main!M52)","v":"Rathnam High School, Nelore"},{"$f":"IF(Main!N52=\"\",\"\",Main!N52)","v":1000},null,1,{"$f":"K115","v":1}]
[{"$f":"IF(K117=\"\",\"\",SUM($L$18:L117))","v":50},{"$f":"IF(I117=\"\",\"\",CONCATENATE(Main!C53,\", \",Main!D53,IF(Main!F53>0,CONCATENATE(\", \",Main!F53),\"\")))","v":"K.V.RAVANAMMA, SA (English), MPUPS, Dasaripalli"},null,null,{"$f":"IF(I116=\"\",\"\",Main!O53)","v":"XXXXXXXXXX"},{"$f":"IF(I116=\"\",\"\",Main!P53)","v":"Inter-I"},{"$f":"IF(I116=\"\",\"\",Main!Q53)","v":"2010-2011"},{"$f":"IF(I116=\"\",\"\",Main!R53)","v":"Abdul Kalam Jr Coolege"},{"$f":"IF(Main!S53=\"\",\"\",Main!S53)","v":1000},null,1]
[null,null,null,null,{"$f":"IF(I117=\"\",\"\",Main!J53)","v":"K.V.Sai Sujith"},{"$f":"IF(I117=\"\",\"\",Main!K53)","v":"VIII"},{"$f":"IF(I117=\"\",\"\",Main!L53)","v":"2010-2011"},{"$f":"IF(I117=\"\",\"\",Main!M53)","v":"Rathnam High School, Nelore"},{"$f":"IF(Main!N53=\"\",\"\",Main!N53)","v":1000},null,1,{"$f":"K117","v":1}]
[{"$f":"IF(K119=\"\",\"\",SUM($L$18:L119))","v":51},{"$f":"IF(I119=\"\",\"\",CONCATENATE(Main!C54,\", \",Main!D54,IF(Main!F54>0,CONCATENATE(\", \",Main!F54),\"\")))","v":"K.V.RAVANAMMA, SA (English), MPUPS, Dasaripalli"},null,null,{"$f":"IF(I118=\"\",\"\",Main!O54)","v":"XXXXXXXXXX"},{"$f":"IF(I118=\"\",\"\",Main!P54)","v":"Inter-I"},{"$f":"IF(I118=\"\",\"\",Main!Q54)","v":"2010-2011"},{"$f":"IF(I118=\"\",\"\",Main!R54)","v":"Abdul Kalam Jr Coolege"},{"$f":"IF(Main!S54=\"\",\"\",Main!S54)","v":1000},null,1]
[null,null,null,null,{"$f":"IF(I119=\"\",\"\",Main!J54)","v":"K.V.Sai Sujith"},{"$f":"IF(I119=\"\",\"\",Main!K54)","v":"VIII"},{"$f":"IF(I119=\"\",\"\",Main!L54)","v":"2010-2011"},{"$f":"IF(I119=\"\",\"\",Main!M54)","v":"Rathnam High School, Nelore"},{"$f":"IF(Main!N54=\"\",\"\",Main!N54)","v":1000},null,1,{"$f":"K119","v":1}]
[{"$f":"IF(K121=\"\",\"\",SUM($L$18:L121))","v":52},{"$f":"IF(I121=\"\",\"\",CONCATENATE(Main!C55,\", \",Main!D55,IF(Main!F55>0,CONCATENATE(\", \",Main!F55),\"\")))","v":"K.V.RAVANAMMA, SA (English), MPUPS, Dasaripalli"},null,null,{"$f":"IF(I120=\"\",\"\",Main!O55)","v":"XXXXXXXXXX"},{"$f":"IF(I120=\"\",\"\",Main!P55)","v":"Inter-I"},{"$f":"IF(I120=\"\",\"\",Main!Q55)","v":"2010-2011"},{"$f":"IF(I120=\"\",\"\",Main!R55)","v":"Abdul Kalam Jr Coolege"},{"$f":"IF(Main!S55=\"\",\"\",Main!S55)","v":1000},null,1]
[null,null,null,null,{"$f":"IF(I121=\"\",\"\",Main!J55)","v":"K.V.Sai Sujith"},{"$f":"IF(I121=\"\",\"\",Main!K55)","v":"VIII"},{"$f":"IF(I121=\"\",\"\",Main!L55)","v":"2010-2011"},{"$f":"IF(I121=\"\",\"\",Main!M55)","v":"Rathnam High School, Nelore"},{"$f":"IF(Main!N55=\"\",\"\",Main!N55)","v":1000},null,1,{"$f":"K121","v":1}]
[{"$f":"IF(K123=\"\",\"\",SUM($L$18:L123))","v":53},{"$f":"IF(I123=\"\",\"\",CONCATENATE(Main!C56,\", \",Main!D56,IF(Main!F56>0,CONCATENATE(\", \",Main!F56),\"\")))","v":"K.V.RAVANAMMA, SA (English), MPUPS, Dasaripalli"},null,null,{"$f":"IF(I122=\"\",\"\",Main!O56)","v":"XXXXXXXXXX"},{"$f":"IF(I122=\"\",\"\",Main!P56)","v":"Inter-I"},{"$f":"IF(I122=\"\",\"\",Main!Q56)","v":"2010-2011"},{"$f":"IF(I122=\"\",\"\",Main!R56)","v":"Abdul Kalam Jr Coolege"},{"$f":"IF(Main!S56=\"\",\"\",Main!S56)","v":1000},null,1]
[null,null,null,null,{"$f":"IF(I123=\"\",\"\",Main!J56)","v":"K.V.Sai Sujith"},{"$f":"IF(I123=\"\",\"\",Main!K56)","v":"VIII"},{"$f":"IF(I123=\"\",\"\",Main!L56)","v":"2010-2011"},{"$f":"IF(I123=\"\",\"\",Main!M56)","v":"Rathnam High School, Nelore"},{"$f":"IF(Main!N56=\"\",\"\",Main!N56)","v":1000},null,1,{"$f":"K123","v":1}]
[{"$f":"IF(K125=\"\",\"\",SUM($L$18:L125))","v":54},{"$f":"IF(I125=\"\",\"\",CONCATENATE(Main!C57,\", \",Main!D57,IF(Main!F57>0,CONCATENATE(\", \",Main!F57),\"\")))","v":"K.V.RAVANAMMA, SA (English), MPUPS, Dasaripalli"},null,null,{"$f":"IF(I124=\"\",\"\",Main!O57)","v":"XXXXXXXXXX"},{"$f":"IF(I124=\"\",\"\",Main!P57)","v":"Inter-I"},{"$f":"IF(I124=\"\",\"\",Main!Q57)","v":"2010-2011"},{"$f":"IF(I124=\"\",\"\",Main!R57)","v":"Abdul Kalam Jr Coolege"},{"$f":"IF(Main!S57=\"\",\"\",Main!S57)","v":1000},null,1]
[null,null,null,null,{"$f":"IF(I125=\"\",\"\",Main!J57)","v":"K.V.Sai Sujith"},{"$f":"IF(I125=\"\",\"\",Main!K57)","v":"VIII"},{"$f":"IF(I125=\"\",\"\",Main!L57)","v":"2010-2011"},{"$f":"IF(I125=\"\",\"\",Main!M57)","v":"Rathnam High School, Nelore"},{"$f":"IF(Main!N57=\"\",\"\",Main!N57)","v":1000},null,1,{"$f":"K125","v":1}]
[{"$f":"IF(K127=\"\",\"\",SUM($L$18:L127))","v":55},{"$f":"IF(I127=\"\",\"\",CONCATENATE(Main!C58,\", \",Main!D58,IF(Main!F58>0,CONCATENATE(\", \",Main!F58),\"\")))","v":"K.V.RAVANAMMA, SA (English), MPUPS, Dasaripalli"},null,null,{"$f":"IF(I126=\"\",\"\",Main!O58)","v":"XXXXXXXXXX"},{"$f":"IF(I126=\"\",\"\",Main!P58)","v":"Inter-I"},{"$f":"IF(I126=\"\",\"\",Main!Q58)","v":"2010-2011"},{"$f":"IF(I126=\"\",\"\",Main!R58)","v":"Abdul Kalam Jr Coolege"},{"$f":"IF(Main!S58=\"\",\"\",Main!S58)","v":1000},null,1]
[null,null,null,null,{"$f":"IF(I127=\"\",\"\",Main!J58)","v":"K.V.Sai Sujith"},{"$f":"IF(I127=\"\",\"\",Main!K58)","v":"VIII"},{"$f":"IF(I127=\"\",\"\",Main!L58)","v":"2010-2011"},{"$f":"IF(I127=\"\",\"\",Main!M58)","v":"Rathnam High School, Nelore"},{"$f":"IF(Main!N58=\"\",\"\",Main!N58)","v":1000},null,1,{"$f":"K127","v":1}]
[{"$f":"IF(K129=\"\",\"\",SUM($L$18:L129))","v":56},{"$f":"IF(I129=\"\",\"\",CONCATENATE(Main!C59,\", \",Main!D59,IF(Main!F59>0,CONCATENATE(\", \",Main!F59),\"\")))","v":"K.V.RAVANAMMA, SA (English), MPUPS, Dasaripalli"},null,null,{"$f":"IF(I128=\"\",\"\",Main!O59)","v":"XXXXXXXXXX"},{"$f":"IF(I128=\"\",\"\",Main!P59)","v":"Inter-I"},{"$f":"IF(I128=\"\",\"\",Main!Q59)","v":"2010-2011"},{"$f":"IF(I128=\"\",\"\",Main!R59)","v":"Abdul Kalam Jr Coolege"},{"$f":"IF(Main!S59=\"\",\"\",Main!S59)","v":1000},null,1]
[null,null,null,null,{"$f":"IF(I129=\"\",\"\",Main!J59)","v":"K.V.Sai Sujith"},{"$f":"IF(I129=\"\",\"\",Main!K59)","v":"VIII"},{"$f":"IF(I129=\"\",\"\",Main!L59)","v":"2010-2011"},{"$f":"IF(I129=\"\",\"\",Main!M59)","v":"Rathnam High School, Nelore"},{"$f":"IF(Main!N59=\"\",\"\",Main!N59)","v":1000},null,1,{"$f":"K129","v":1}]
[{"$f":"IF(K131=\"\",\"\",SUM($L$18:L131))","v":57},{"$f":"IF(I131=\"\",\"\",CONCATENATE(Main!C60,\", \",Main!D60,IF(Main!F60>0,CONCATENATE(\", \",Main!F60),\"\")))","v":"K.V.RAVANAMMA, SA (English), MPUPS, Dasaripalli"},null,null,{"$f":"IF(I130=\"\",\"\",Main!O60)","v":"XXXXXXXXXX"},{"$f":"IF(I130=\"\",\"\",Main!P60)","v":"Inter-I"},{"$f":"IF(I130=\"\",\"\",Main!Q60)","v":"2010-2011"},{"$f":"IF(I130=\"\",\"\",Main!R60)","v":"Abdul Kalam Jr Coolege"},{"$f":"IF(Main!S60=\"\",\"\",Main!S60)","v":1000},null,1]
[null,null,null,null,{"$f":"IF(I131=\"\",\"\",Main!J60)","v":"K.V.Sai Sujith"},{"$f":"IF(I131=\"\",\"\",Main!K60)","v":"VIII"},{"$f":"IF(I131=\"\",\"\",Main!L60)","v":"2010-2011"},{"$f":"IF(I131=\"\",\"\",Main!M60)","v":"Rathnam High School, Nelore"},{"$f":"IF(Main!N60=\"\",\"\",Main!N60)","v":1000},null,1,{"$f":"K131","v":1}]
[{"$f":"IF(K133=\"\",\"\",SUM($L$18:L133))","v":58},{"$f":"IF(I133=\"\",\"\",CONCATENATE(Main!C61,\", \",Main!D61,IF(Main!F61>0,CONCATENATE(\", \",Main!F61),\"\")))","v":"K.V.RAVANAMMA, SA (English), MPUPS, Dasaripalli"},null,null,{"$f":"IF(I132=\"\",\"\",Main!O61)","v":"XXXXXXXXXX"},{"$f":"IF(I132=\"\",\"\",Main!P61)","v":"Inter-I"},{"$f":"IF(I132=\"\",\"\",Main!Q61)","v":"2010-2011"},{"$f":"IF(I132=\"\",\"\",Main!R61)","v":"Abdul Kalam Jr Coolege"},{"$f":"IF(Main!S61=\"\",\"\",Main!S61)","v":1000},null,1]
[null,null,null,null,{"$f":"IF(I133=\"\",\"\",Main!J61)","v":"K.V.Sai Sujith"},{"$f":"IF(I133=\"\",\"\",Main!K61)","v":"VIII"},{"$f":"IF(I133=\"\",\"\",Main!L61)","v":"2010-2011"},{"$f":"IF(I133=\"\",\"\",Main!M61)","v":"Rathnam High School, Nelore"},{"$f":"IF(Main!N61=\"\",\"\",Main!N61)","v":1000},null,1,{"$f":"K133","v":1}]
[{"$f":"IF(K135=\"\",\"\",SUM($L$18:L135))","v":59},{"$f":"IF(I135=\"\",\"\",CONCATENATE(Main!C62,\", \",Main!D62,IF(Main!F62>0,CONCATENATE(\", \",Main!F62),\"\")))","v":"K.V.RAVANAMMA, SA (English), MPUPS, Dasaripalli"},null,null,{"$f":"IF(I134=\"\",\"\",Main!O62)","v":"XXXXXXXXXX"},{"$f":"IF(I134=\"\",\"\",Main!P62)","v":"Inter-I"},{"$f":"IF(I134=\"\",\"\",Main!Q62)","v":"2010-2011"},{"$f":"IF(I134=\"\",\"\",Main!R62)","v":"Abdul Kalam Jr Coolege"},{"$f":"IF(Main!S62=\"\",\"\",Main!S62)","v":1000},null,1]
[null,null,null,null,{"$f":"IF(I135=\"\",\"\",Main!J62)","v":"K.V.Sai Sujith"},{"$f":"IF(I135=\"\",\"\",Main!K62)","v":"VIII"},{"$f":"IF(I135=\"\",\"\",Main!L62)","v":"2010-2011"},{"$f":"IF(I135=\"\",\"\",Main!M62)","v":"Rathnam High School, Nelore"},{"$f":"IF(Main!N62=\"\",\"\",Main!N62)","v":1000},null,1,{"$f":"K135","v":1}]
[{"$f":"IF(K137=\"\",\"\",SUM($L$18:L137))","v":60},{"$f":"IF(I137=\"\",\"\",CONCATENATE(Main!C63,\", \",Main!D63,IF(Main!F63>0,CONCATENATE(\", \",Main!F63),\"\")))","v":"K.V.RAVANAMMA, SA (English), MPUPS, Dasaripalli"},null,null,{"$f":"IF(I136=\"\",\"\",Main!O63)","v":"XXXXXXXXXX"},{"$f":"IF(I136=\"\",\"\",Main!P63)","v":"Inter-I"},{"$f":"IF(I136=\"\",\"\",Main!Q63)","v":"2010-2011"},{"$f":"IF(I136=\"\",\"\",Main!R63)","v":"Abdul Kalam Jr Coolege"},{"$f":"IF(Main!S63=\"\",\"\",Main!S63)","v":1000},null,1]
[null,null,null,null,{"$f":"IF(I137=\"\",\"\",Main!J63)","v":"K.V.Sai Sujith"},{"$f":"IF(I137=\"\",\"\",Main!K63)","v":"VIII"},{"$f":"IF(I137=\"\",\"\",Main!L63)","v":"2010-2011"},{"$f":"IF(I137=\"\",\"\",Main!M63)","v":"Rathnam High School, Nelore"},{"$f":"IF(Main!N63=\"\",\"\",Main!N63)","v":1000},null,1,{"$f":"K137","v":1}]
[{"$f":"IF(K139=\"\",\"\",SUM($L$18:L139))","v":61},{"$f":"IF(I139=\"\",\"\",CONCATENATE(Main!C64,\", \",Main!D64,IF(Main!F64>0,CONCATENATE(\", \",Main!F64),\"\")))","v":"K.V.RAVANAMMA, SA (English), MPUPS, Dasaripalli"},null,null,{"$f":"IF(I138=\"\",\"\",Main!O64)","v":"XXXXXXXXXX"},{"$f":"IF(I138=\"\",\"\",Main!P64)","v":"Inter-I"},{"$f":"IF(I138=\"\",\"\",Main!Q64)","v":"2010-2011"},{"$f":"IF(I138=\"\",\"\",Main!R64)","v":"Abdul Kalam Jr Coolege"},{"$f":"IF(Main!S64=\"\",\"\",Main!S64)","v":1000},null,1]
[null,null,null,null,{"$f":"IF(I139=\"\",\"\",Main!J64)","v":"K.V.Sai Sujith"},{"$f":"IF(I139=\"\",\"\",Main!K64)","v":"VIII"},{"$f":"IF(I139=\"\",\"\",Main!L64)","v":"2010-2011"},{"$f":"IF(I139=\"\",\"\",Main!M64)","v":"Rathnam High School, Nelore"},{"$f":"IF(Main!N64=\"\",\"\",Main!N64)","v":1000},null,1,{"$f":"K139","v":1}]
[{"$f":"IF(K141=\"\",\"\",SUM($L$18:L141))","v":62},{"$f":"IF(I141=\"\",\"\",CONCATENATE(Main!C65,\", \",Main!D65,IF(Main!F65>0,CONCATENATE(\", \",Main!F65),\"\")))","v":"K.V.RAVANAMMA, SA (English), MPUPS, Dasaripalli"},null,null,{"$f":"IF(I140=\"\",\"\",Main!O65)","v":"XXXXXXXXXX"},{"$f":"IF(I140=\"\",\"\",Main!P65)","v":"Inter-I"},{"$f":"IF(I140=\"\",\"\",Main!Q65)","v":"2010-2011"},{"$f":"IF(I140=\"\",\"\",Main!R65)","v":"Abdul Kalam Jr Coolege"},{"$f":"IF(Main!S65=\"\",\"\",Main!S65)","v":1000},null,1]
[null,null,null,null,{"$f":"IF(I141=\"\",\"\",Main!J65)","v":"K.V.Sai Sujith"},{"$f":"IF(I141=\"\",\"\",Main!K65)","v":"VIII"},{"$f":"IF(I141=\"\",\"\",Main!L65)","v":"2010-2011"},{"$f":"IF(I141=\"\",\"\",Main!M65)","v":"Rathnam High School, Nelore"},{"$f":"IF(Main!N65=\"\",\"\",Main!N65)","v":1000},null,1,{"$f":"K141","v":1}]
[{"$f":"IF(K143=\"\",\"\",SUM($L$18:L143))","v":63},{"$f":"IF(I143=\"\",\"\",CONCATENATE(Main!C66,\", \",Main!D66,IF(Main!F66>0,CONCATENATE(\", \",Main!F66),\"\")))","v":"K.V.RAVANAMMA, SA (English), MPUPS, Dasaripalli"},null,null,{"$f":"IF(I142=\"\",\"\",Main!O66)","v":"XXXXXXXXXX"},{"$f":"IF(I142=\"\",\"\",Main!P66)","v":"Inter-I"},{"$f":"IF(I142=\"\",\"\",Main!Q66)","v":"2010-2011"},{"$f":"IF(I142=\"\",\"\",Main!R66)","v":"Abdul Kalam Jr Coolege"},{"$f":"IF(Main!S66=\"\",\"\",Main!S66)","v":1000},null,1]
[null,null,null,null,{"$f":"IF(I143=\"\",\"\",Main!J66)","v":"K.V.Sai Sujith"},{"$f":"IF(I143=\"\",\"\",Main!K66)","v":"VIII"},{"$f":"IF(I143=\"\",\"\",Main!L66)","v":"2010-2011"},{"$f":"IF(I143=\"\",\"\",Main!M66)","v":"Rathnam High School, Nelore"},{"$f":"IF(Main!N66=\"\",\"\",Main!N66)","v":1000},null,1,{"$f":"K143","v":1}]
[{"$f":"IF(K145=\"\",\"\",SUM($L$18:L145))","v":64},{"$f":"IF(I145=\"\",\"\",CONCATENATE(Main!C67,\", \",Main!D67,IF(Main!F67>0,CONCATENATE(\", \",Main!F67),\"\")))","v":"K.V.RAVANAMMA, SA (English), MPUPS, Dasaripalli"},null,null,{"$f":"IF(I144=\"\",\"\",Main!O67)","v":"XXXXXXXXXX"},{"$f":"IF(I144=\"\",\"\",Main!P67)","v":"Inter-I"},{"$f":"IF(I144=\"\",\"\",Main!Q67)","v":"2010-2011"},{"$f":"IF(I144=\"\",\"\",Main!R67)","v":"Abdul Kalam Jr Coolege"},{"$f":"IF(Main!S67=\"\",\"\",Main!S67)","v":1000},null,1]
[null,null,null,null,{"$f":"IF(I145=\"\",\"\",Main!J67)","v":"K.V.Sai Sujith"},{"$f":"IF(I145=\"\",\"\",Main!K67)","v":"VIII"},{"$f":"IF(I145=\"\",\"\",Main!L67)","v":"2010-2011"},{"$f":"IF(I145=\"\",\"\",Main!M67)","v":"Rathnam High School, Nelore"},{"$f":"IF(Main!N67=\"\",\"\",Main!N67)","v":1000},null,1,{"$f":"K145","v":1}]
[{"$f":"IF(K147=\"\",\"\",SUM($L$18:L147))","v":65},{"$f":"IF(I147=\"\",\"\",CONCATENATE(Main!C68,\", \",Main!D68,IF(Main!F68>0,CONCATENATE(\", \",Main!F68),\"\")))","v":"K.V.RAVANAMMA, SA (English), MPUPS, Dasaripalli"},null,null,{"$f":"IF(I146=\"\",\"\",Main!O68)","v":"XXXXXXXXXX"},{"$f":"IF(I146=\"\",\"\",Main!P68)","v":"Inter-I"},{"$f":"IF(I146=\"\",\"\",Main!Q68)","v":"2010-2011"},{"$f":"IF(I146=\"\",\"\",Main!R68)","v":"Abdul Kalam Jr Coolege"},{"$f":"IF(Main!S68=\"\",\"\",Main!S68)","v":1000},null,1]
[null,null,null,null,{"$f":"IF(I147=\"\",\"\",Main!J68)","v":"K.V.Sai Sujith"},{"$f":"IF(I147=\"\",\"\",Main!K68)","v":"VIII"},{"$f":"IF(I147=\"\",\"\",Main!L68)","v":"2010-2011"},{"$f":"IF(I147=\"\",\"\",Main!M68)","v":"Rathnam High School, Nelore"},{"$f":"IF(Main!N68=\"\",\"\",Main!N68)","v":1000},null,{"$f":"IF(I147=\"\",\"\",1)","v":1},{"$f":"K147","v":1}]
[{"$f":"IF(K149=\"\",\"\",SUM($L$18:L149))","v":66},{"$f":"IF(I149=\"\",\"\",CONCATENATE(Main!C69,\", \",Main!D69,IF(Main!F69>0,CONCATENATE(\", \",Main!F69),\"\")))","v":"K.V.RAVANAMMA, SA (English), MPUPS, Dasaripalli"},null,null,{"$f":"IF(I148=\"\",\"\",Main!O69)","v":"XXXXXXXXXX"},{"$f":"IF(I148=\"\",\"\",Main!P69)","v":"Inter-I"},{"$f":"IF(I148=\"\",\"\",Main!Q69)","v":"2010-2011"},{"$f":"IF(I148=\"\",\"\",Main!R69)","v":"Abdul Kalam Jr Coolege"},{"$f":"IF(Main!S69=\"\",\"\",Main!S69)","v":1000},null,1]
[null,null,null,null,{"$f":"IF(I149=\"\",\"\",Main!J69)","v":"K.V.Sai Sujith"},{"$f":"IF(I149=\"\",\"\",Main!K69)","v":"VIII"},{"$f":"IF(I149=\"\",\"\",Main!L69)","v":"2010-2011"},{"$f":"IF(I149=\"\",\"\",Main!M69)","v":"Rathnam High School, Nelore"},{"$f":"IF(Main!N69=\"\",\"\",Main!N69)","v":1000},null,1,{"$f":"K149","v":1}]
[{"$f":"IF(K151=\"\",\"\",SUM($L$18:L151))","v":67},{"$f":"IF(I151=\"\",\"\",CONCATENATE(Main!C70,\", \",Main!D70,IF(Main!F70>0,CONCATENATE(\", \",Main!F70),\"\")))","v":"K.V.RAVANAMMA, SA (English), MPUPS, Dasaripalli"},null,null,{"$f":"IF(I150=\"\",\"\",Main!O70)","v":"XXXXXXXXXX"},{"$f":"IF(I150=\"\",\"\",Main!P70)","v":"Inter-I"},{"$f":"IF(I150=\"\",\"\",Main!Q70)","v":"2010-2011"},{"$f":"IF(I150=\"\",\"\",Main!R70)","v":"Abdul Kalam Jr Coolege"},{"$f":"IF(Main!S70=\"\",\"\",Main!S70)","v":1000},null,1]
[null,null,null,null,{"$f":"IF(I151=\"\",\"\",Main!J70)","v":"K.V.Sai Sujith"},{"$f":"IF(I151=\"\",\"\",Main!K70)","v":"VIII"},{"$f":"IF(I151=\"\",\"\",Main!L70)","v":"2010-2011"},{"$f":"IF(I151=\"\",\"\",Main!M70)","v":"Rathnam High School, Nelore"},{"$f":"IF(Main!N70=\"\",\"\",Main!N70)","v":1000},null,1,{"$f":"K151","v":1}]
[{"$f":"IF(K153=\"\",\"\",SUM($L$18:L153))","v":68},{"$f":"IF(I153=\"\",\"\",CONCATENATE(Main!C71,\", \",Main!D71,IF(Main!F71>0,CONCATENATE(\", \",Main!F71),\"\")))","v":"K.V.RAVANAMMA, SA (English), MPUPS, Dasaripalli"},null,null,{"$f":"IF(I152=\"\",\"\",Main!O71)","v":"XXXXXXXXXX"},{"$f":"IF(I152=\"\",\"\",Main!P71)","v":"Inter-I"},{"$f":"IF(I152=\"\",\"\",Main!Q71)","v":"2010-2011"},{"$f":"IF(I152=\"\",\"\",Main!R71)","v":"Abdul Kalam Jr Coolege"},{"$f":"IF(Main!S71=\"\",\"\",Main!S71)","v":1000},null,1]
[null,null,null,null,{"$f":"IF(I153=\"\",\"\",Main!J71)","v":"K.V.Sai Sujith"},{"$f":"IF(I153=\"\",\"\",Main!K71)","v":"VIII"},{"$f":"IF(I153=\"\",\"\",Main!L71)","v":"2010-2011"},{"$f":"IF(I153=\"\",\"\",Main!M71)","v":"Rathnam High School, Nelore"},{"$f":"IF(Main!N71=\"\",\"\",Main!N71)","v":1000},null,1,{"$f":"K153","v":1}]
[{"$f":"IF(K155=\"\",\"\",SUM($L$18:L155))","v":69},{"$f":"IF(I155=\"\",\"\",CONCATENATE(Main!C72,\", \",Main!D72,IF(Main!F72>0,CONCATENATE(\", \",Main!F72),\"\")))","v":"K.V.RAVANAMMA, SA (English), MPUPS, Dasaripalli"},null,null,{"$f":"IF(I154=\"\",\"\",Main!O72)","v":"XXXXXXXXXX"},{"$f":"IF(I154=\"\",\"\",Main!P72)","v":"Inter-I"},{"$f":"IF(I154=\"\",\"\",Main!Q72)","v":"2010-2011"},{"$f":"IF(I154=\"\",\"\",Main!R72)","v":"Abdul Kalam Jr Coolege"},{"$f":"IF(Main!S72=\"\",\"\",Main!S72)","v":1000},null,1]
[null,null,null,null,{"$f":"IF(I155=\"\",\"\",Main!J72)","v":"K.V.Sai Sujith"},{"$f":"IF(I155=\"\",\"\",Main!K72)","v":"VIII"},{"$f":"IF(I155=\"\",\"\",Main!L72)","v":"2010-2011"},{"$f":"IF(I155=\"\",\"\",Main!M72)","v":"Rathnam High School, Nelore"},{"$f":"IF(Main!N72=\"\",\"\",Main!N72)","v":1000},null,1,{"$f":"K155","v":1}]
[{"$f":"IF(K157=\"\",\"\",SUM($L$18:L157))","v":70},{"$f":"IF(I157=\"\",\"\",CONCATENATE(Main!C73,\", \",Main!D73,IF(Main!F73>0,CONCATENATE(\", \",Main!F73),\"\")))","v":"K.V.RAVANAMMA, SA (English), MPUPS, Dasaripalli"},null,null,{"$f":"IF(I156=\"\",\"\",Main!O73)","v":"XXXXXXXXXX"},{"$f":"IF(I156=\"\",\"\",Main!P73)","v":"Inter-I"},{"$f":"IF(I156=\"\",\"\",Main!Q73)","v":"2010-2011"},{"$f":"IF(I156=\"\",\"\",Main!R73)","v":"Abdul Kalam Jr Coolege"},{"$f":"IF(Main!S73=\"\",\"\",Main!S73)","v":1000},null,1]
[null,null,null,null,{"$f":"IF(I157=\"\",\"\",Main!J73)","v":"K.V.Sai Sujith"},{"$f":"IF(I157=\"\",\"\",Main!K73)","v":"VIII"},{"$f":"IF(I157=\"\",\"\",Main!L73)","v":"2010-2011"},{"$f":"IF(I157=\"\",\"\",Main!M73)","v":"Rathnam High School, Nelore"},{"$f":"IF(Main!N73=\"\",\"\",Main!N73)","v":1000},null,1,{"$f":"K157","v":1}]
[{"$f":"IF(K159=\"\",\"\",SUM($L$18:L159))","v":71},{"$f":"IF(I159=\"\",\"\",CONCATENATE(Main!C74,\", \",Main!D74,IF(Main!F74>0,CONCATENATE(\", \",Main!F74),\"\")))","v":"K.V.RAVANAMMA, SA (English), MPUPS, Dasaripalli"},null,null,{"$f":"IF(I158=\"\",\"\",Main!O74)","v":"XXXXXXXXXX"},{"$f":"IF(I158=\"\",\"\",Main!P74)","v":"Inter-I"},{"$f":"IF(I158=\"\",\"\",Main!Q74)","v":"2010-2011"},{"$f":"IF(I158=\"\",\"\",Main!R74)","v":"Abdul Kalam Jr Coolege"},{"$f":"IF(Main!S74=\"\",\"\",Main!S74)","v":1000},null,1]
[null,null,null,null,{"$f":"IF(I159=\"\",\"\",Main!J74)","v":"K.V.Sai Sujith"},{"$f":"IF(I159=\"\",\"\",Main!K74)","v":"VIII"},{"$f":"IF(I159=\"\",\"\",Main!L74)","v":"2010-2011"},{"$f":"IF(I159=\"\",\"\",Main!M74)","v":"Rathnam High School, Nelore"},{"$f":"IF(Main!N74=\"\",\"\",Main!N74)","v":1000},null,1,{"$f":"K159","v":1}]
[{"$f":"IF(K161=\"\",\"\",SUM($L$18:L161))","v":72},{"$f":"IF(I161=\"\",\"\",CONCATENATE(Main!C75,\", \",Main!D75,IF(Main!F75>0,CONCATENATE(\", \",Main!F75),\"\")))","v":"K.V.RAVANAMMA, SA (English), MPUPS, Dasaripalli"},null,null,{"$f":"IF(I160=\"\",\"\",Main!O75)","v":"XXXXXXXXXX"},{"$f":"IF(I160=\"\",\"\",Main!P75)","v":"Inter-I"},{"$f":"IF(I160=\"\",\"\",Main!Q75)","v":"2010-2011"},{"$f":"IF(I160=\"\",\"\",Main!R75)","v":"Abdul Kalam Jr Coolege"},{"$f":"IF(Main!S75=\"\",\"\",Main!S75)","v":1000},null,1]
[null,null,null,null,{"$f":"IF(I161=\"\",\"\",Main!J75)","v":"K.V.Sai Sujith"},{"$f":"IF(I161=\"\",\"\",Main!K75)","v":"VIII"},{"$f":"IF(I161=\"\",\"\",Main!L75)","v":"2010-2011"},{"$f":"IF(I161=\"\",\"\",Main!M75)","v":"Rathnam High School, Nelore"},{"$f":"IF(Main!N75=\"\",\"\",Main!N75)","v":1000},null,1,{"$f":"K161","v":1}]
[{"$f":"IF(K163=\"\",\"\",SUM($L$18:L163))","v":73},{"$f":"IF(I163=\"\",\"\",CONCATENATE(Main!C76,\", \",Main!D76,IF(Main!F76>0,CONCATENATE(\", \",Main!F76),\"\")))","v":"K.V.RAVANAMMA, SA (English), MPUPS, Dasaripalli"},null,null,{"$f":"IF(I162=\"\",\"\",Main!O76)","v":"XXXXXXXXXX"},{"$f":"IF(I162=\"\",\"\",Main!P76)","v":"Inter-I"},{"$f":"IF(I162=\"\",\"\",Main!Q76)","v":"2010-2011"},{"$f":"IF(I162=\"\",\"\",Main!R76)","v":"Abdul Kalam Jr Coolege"},{"$f":"IF(Main!S76=\"\",\"\",Main!S76)","v":1000},null,1]
[null,null,null,null,{"$f":"IF(I163=\"\",\"\",Main!J76)","v":"K.V.Sai Sujith"},{"$f":"IF(I163=\"\",\"\",Main!K76)","v":"VIII"},{"$f":"IF(I163=\"\",\"\",Main!L76)","v":"2010-2011"},{"$f":"IF(I163=\"\",\"\",Main!M76)","v":"Rathnam High School, Nelore"},{"$f":"IF(Main!N76=\"\",\"\",Main!N76)","v":1000},null,1,{"$f":"K163","v":1}]
[{"$f":"IF(K165=\"\",\"\",SUM($L$18:L165))","v":74},{"$f":"IF(I165=\"\",\"\",CONCATENATE(Main!C77,\", \",Main!D77,IF(Main!F77>0,CONCATENATE(\", \",Main!F77),\"\")))","v":"K.V.RAVANAMMA, SA (English), MPUPS, Dasaripalli"},null,null,{"$f":"IF(I164=\"\",\"\",Main!O77)","v":"XXXXXXXXXX"},{"$f":"IF(I164=\"\",\"\",Main!P77)","v":"Inter-I"},{"$f":"IF(I164=\"\",\"\",Main!Q77)","v":"2010-2011"},{"$f":"IF(I164=\"\",\"\",Main!R77)","v":"Abdul Kalam Jr Coolege"},{"$f":"IF(Main!S77=\"\",\"\",Main!S77)","v":1000},null,1]
[null,null,null,null,{"$f":"IF(I165=\"\",\"\",Main!J77)","v":"K.V.Sai Sujith"},{"$f":"IF(I165=\"\",\"\",Main!K77)","v":"VIII"},{"$f":"IF(I165=\"\",\"\",Main!L77)","v":"2010-2011"},{"$f":"IF(I165=\"\",\"\",Main!M77)","v":"Rathnam High School, Nelore"},{"$f":"IF(Main!N77=\"\",\"\",Main!N77)","v":1000},null,1,{"$f":"K165","v":1}]
[{"$f":"IF(K167=\"\",\"\",SUM($L$18:L167))","v":75},{"$f":"IF(I167=\"\",\"\",CONCATENATE(Main!C78,\", \",Main!D78,IF(Main!F78>0,CONCATENATE(\", \",Main!F78),\"\")))","v":"K.V.RAVANAMMA, SA (English), MPUPS, Dasaripalli"},null,null,{"$f":"IF(I166=\"\",\"\",Main!O78)","v":"XXXXXXXXXX"},{"$f":"IF(I166=\"\",\"\",Main!P78)","v":"Inter-I"},{"$f":"IF(I166=\"\",\"\",Main!Q78)","v":"2010-2011"},{"$f":"IF(I166=\"\",\"\",Main!R78)","v":"Abdul Kalam Jr Coolege"},{"$f":"IF(Main!S78=\"\",\"\",Main!S78)","v":1000},null,1]
[null,null,null,null,{"$f":"IF(I167=\"\",\"\",Main!J78)","v":"K.V.Sai Sujith"},{"$f":"IF(I167=\"\",\"\",Main!K78)","v":"VIII"},{"$f":"IF(I167=\"\",\"\",Main!L78)","v":"2010-2011"},{"$f":"IF(I167=\"\",\"\",Main!M78)","v":"Rathnam High School, Nelore"},{"$f":"IF(Main!N78=\"\",\"\",Main!N78)","v":1000},null,1,{"$f":"K167","v":1}]
[{"$f":"IF(K169=\"\",\"\",SUM($L$18:L169))","v":76},{"$f":"IF(I169=\"\",\"\",CONCATENATE(Main!C79,\", \",Main!D79,IF(Main!F79>0,CONCATENATE(\", \",Main!F79),\"\")))","v":"K.V.RAVANAMMA, SA (English), MPUPS, Dasaripalli"},null,null,{"$f":"IF(I168=\"\",\"\",Main!O79)","v":"XXXXXXXXXX"},{"$f":"IF(I168=\"\",\"\",Main!P79)","v":"Inter-I"},{"$f":"IF(I168=\"\",\"\",Main!Q79)","v":"2010-2011"},{"$f":"IF(I168=\"\",\"\",Main!R79)","v":"Abdul Kalam Jr Coolege"},{"$f":"IF(Main!S79=\"\",\"\",Main!S79)","v":1000},null,1]
[null,null,null,null,{"$f":"IF(I169=\"\",\"\",Main!J79)","v":"K.V.Sai Sujith"},{"$f":"IF(I169=\"\",\"\",Main!K79)","v":"VIII"},{"$f":"IF(I169=\"\",\"\",Main!L79)","v":"2010-2011"},{"$f":"IF(I169=\"\",\"\",Main!M79)","v":"Rathnam High School, Nelore"},{"$f":"IF(Main!N79=\"\",\"\",Main!N79)","v":1000},null,1,{"$f":"K169","v":1}]
[{"$f":"IF(K171=\"\",\"\",SUM($L$18:L171))","v":77},{"$f":"IF(I171=\"\",\"\",CONCATENATE(Main!C80,\", \",Main!D80,IF(Main!F80>0,CONCATENATE(\", \",Main!F80),\"\")))","v":"K.V.RAVANAMMA, SA (English), MPUPS, Dasaripalli"},null,null,{"$f":"IF(I170=\"\",\"\",Main!O80)","v":"XXXXXXXXXX"},{"$f":"IF(I170=\"\",\"\",Main!P80)","v":"Inter-I"},{"$f":"IF(I170=\"\",\"\",Main!Q80)","v":"2010-2011"},{"$f":"IF(I170=\"\",\"\",Main!R80)","v":"Abdul Kalam Jr Coolege"},{"$f":"IF(Main!S80=\"\",\"\",Main!S80)","v":1000},null,1]
[null,null,null,null,{"$f":"IF(I171=\"\",\"\",Main!J80)","v":"K.V.Sai Sujith"},{"$f":"IF(I171=\"\",\"\",Main!K80)","v":"VIII"},{"$f":"IF(I171=\"\",\"\",Main!L80)","v":"2010-2011"},{"$f":"IF(I171=\"\",\"\",Main!M80)","v":"Rathnam High School, Nelore"},{"$f":"IF(Main!N80=\"\",\"\",Main!N80)","v":1000},null,1,{"$f":"K171","v":1}]
[{"$f":"IF(K173=\"\",\"\",SUM($L$18:L173))","v":78},{"$f":"IF(I173=\"\",\"\",CONCATENATE(Main!C81,\", \",Main!D81,IF(Main!F81>0,CONCATENATE(\", \",Main!F81),\"\")))","v":"K.V.RAVANAMMA, SA (English), MPUPS, Dasaripalli"},null,null,{"$f":"IF(I172=\"\",\"\",Main!O81)","v":"XXXXXXXXXX"},{"$f":"IF(I172=\"\",\"\",Main!P81)","v":"Inter-I"},{"$f":"IF(I172=\"\",\"\",Main!Q81)","v":"2010-2011"},{"$f":"IF(I172=\"\",\"\",Main!R81)","v":"Abdul Kalam Jr Coolege"},{"$f":"IF(Main!S81=\"\",\"\",Main!S81)","v":1000},null,1]
[null,null,null,null,{"$f":"IF(I173=\"\",\"\",Main!J81)","v":"K.V.Sai Sujith"},{"$f":"IF(I173=\"\",\"\",Main!K81)","v":"VIII"},{"$f":"IF(I173=\"\",\"\",Main!L81)","v":"2010-2011"},{"$f":"IF(I173=\"\",\"\",Main!M81)","v":"Rathnam High School, Nelore"},{"$f":"IF(Main!N81=\"\",\"\",Main!N81)","v":1000},null,1,{"$f":"K173","v":1}]
[{"$f":"IF(K175=\"\",\"\",SUM($L$18:L175))","v":79},{"$f":"IF(I175=\"\",\"\",CONCATENATE(Main!C82,\", \",Main!D82,IF(Main!F82>0,CONCATENATE(\", \",Main!F82),\"\")))","v":"K.V.RAVANAMMA, SA (English), MPUPS, Dasaripalli"},null,null,{"$f":"IF(I174=\"\",\"\",Main!O82)","v":"XXXXXXXXXX"},{"$f":"IF(I174=\"\",\"\",Main!P82)","v":"Inter-I"},{"$f":"IF(I174=\"\",\"\",Main!Q82)","v":"2010-2011"},{"$f":"IF(I174=\"\",\"\",Main!R82)","v":"Abdul Kalam Jr Coolege"},{"$f":"IF(Main!S82=\"\",\"\",Main!S82)","v":1000},null,1]
[null,null,null,null,{"$f":"IF(I175=\"\",\"\",Main!J82)","v":"K.V.Sai Sujith"},{"$f":"IF(I175=\"\",\"\",Main!K82)","v":"VIII"},{"$f":"IF(I175=\"\",\"\",Main!L82)","v":"2010-2011"},{"$f":"IF(I175=\"\",\"\",Main!M82)","v":"Rathnam High School, Nelore"},{"$f":"IF(Main!N82=\"\",\"\",Main!N82)","v":1000},null,1,{"$f":"K175","v":1}]
[{"$f":"IF(K177=\"\",\"\",SUM($L$18:L177))","v":80},{"$f":"IF(I177=\"\",\"\",CONCATENATE(Main!C83,\", \",Main!D83,IF(Main!F83>0,CONCATENATE(\", \",Main!F83),\"\")))","v":"K.V.RAVANAMMA, SA (English), MPUPS, Dasaripalli"},null,null,{"$f":"IF(I176=\"\",\"\",Main!O83)","v":"XXXXXXXXXX"},{"$f":"IF(I176=\"\",\"\",Main!P83)","v":"Inter-I"},{"$f":"IF(I176=\"\",\"\",Main!Q83)","v":"2010-2011"},{"$f":"IF(I176=\"\",\"\",Main!R83)","v":"Abdul Kalam Jr Coolege"},{"$f":"IF(Main!S83=\"\",\"\",Main!S83)","v":1000},null,1]
[null,null,null,null,{"$f":"IF(I177=\"\",\"\",Main!J83)","v":"K.V.Sai Sujith"},{"$f":"IF(I177=\"\",\"\",Main!K83)","v":"VIII"},{"$f":"IF(I177=\"\",\"\",Main!L83)","v":"2010-2011"},{"$f":"IF(I177=\"\",\"\",Main!M83)","v":"Rathnam High School, Nelore"},{"$f":"IF(Main!N83=\"\",\"\",Main!N83)","v":1000},null,1,{"$f":"K177","v":1}]
[{"$f":"IF(K179=\"\",\"\",SUM($L$18:L179))","v":81},{"$f":"IF(I179=\"\",\"\",CONCATENATE(Main!C84,\", \",Main!D84,IF(Main!F84>0,CONCATENATE(\", \",Main!F84),\"\")))","v":"K.V.RAVANAMMA, SA (English), MPUPS, Dasaripalli"},null,null,{"$f":"IF(I178=\"\",\"\",Main!O84)","v":"XXXXXXXXXX"},{"$f":"IF(I178=\"\",\"\",Main!P84)","v":"Inter-I"},{"$f":"IF(I178=\"\",\"\",Main!Q84)","v":"2010-2011"},{"$f":"IF(I178=\"\",\"\",Main!R84)","v":"Abdul Kalam Jr Coolege"},{"$f":"IF(Main!S84=\"\",\"\",Main!S84)","v":1000},null,1]
[null,null,null,null,{"$f":"IF(I179=\"\",\"\",Main!J84)","v":"K.V.Sai Sujith"},{"$f":"IF(I179=\"\",\"\",Main!K84)","v":"VIII"},{"$f":"IF(I179=\"\",\"\",Main!L84)","v":"2010-2011"},{"$f":"IF(I179=\"\",\"\",Main!M84)","v":"Rathnam High School, Nelore"},{"$f":"IF(Main!N84=\"\",\"\",Main!N84)","v":1000},null,1,{"$f":"K179","v":1}]
[{"$f":"IF(K181=\"\",\"\",SUM($L$18:L181))","v":82},{"$f":"IF(I181=\"\",\"\",CONCATENATE(Main!C85,\", \",Main!D85,IF(Main!F85>0,CONCATENATE(\", \",Main!F85),\"\")))","v":"K.V.RAVANAMMA, SA (English), MPUPS, Dasaripalli"},null,null,{"$f":"IF(I180=\"\",\"\",Main!O85)","v":"XXXXXXXXXX"},{"$f":"IF(I180=\"\",\"\",Main!P85)","v":"Inter-I"},{"$f":"IF(I180=\"\",\"\",Main!Q85)","v":"2010-2011"},{"$f":"IF(I180=\"\",\"\",Main!R85)","v":"Abdul Kalam Jr Coolege"},{"$f":"IF(Main!S85=\"\",\"\",Main!S85)","v":1000},null,1]
[null,null,null,null,{"$f":"IF(I181=\"\",\"\",Main!J85)","v":"K.V.Sai Sujith"},{"$f":"IF(I181=\"\",\"\",Main!K85)","v":"VIII"},{"$f":"IF(I181=\"\",\"\",Main!L85)","v":"2010-2011"},{"$f":"IF(I181=\"\",\"\",Main!M85)","v":"Rathnam High School, Nelore"},{"$f":"IF(Main!N85=\"\",\"\",Main!N85)","v":1000},null,1,{"$f":"K181","v":1}]
[{"$f":"IF(K183=\"\",\"\",SUM($L$18:L183))","v":83},{"$f":"IF(I183=\"\",\"\",CONCATENATE(Main!C86,\", \",Main!D86,IF(Main!F86>0,CONCATENATE(\", \",Main!F86),\"\")))","v":"K.V.RAVANAMMA, SA (English), MPUPS, Dasaripalli"},null,null,{"$f":"IF(I182=\"\",\"\",Main!O86)","v":"XXXXXXXXXX"},{"$f":"IF(I182=\"\",\"\",Main!P86)","v":"Inter-I"},{"$f":"IF(I182=\"\",\"\",Main!Q86)","v":"2010-2011"},{"$f":"IF(I182=\"\",\"\",Main!R86)","v":"Abdul Kalam Jr Coolege"},{"$f":"IF(Main!S86=\"\",\"\",Main!S86)","v":1000},null,1]
[null,null,null,null,{"$f":"IF(I183=\"\",\"\",Main!J86)","v":"K.V.Sai Sujith"},{"$f":"IF(I183=\"\",\"\",Main!K86)","v":"VIII"},{"$f":"IF(I183=\"\",\"\",Main!L86)","v":"2010-2011"},{"$f":"IF(I183=\"\",\"\",Main!M86)","v":"Rathnam High School, Nelore"},{"$f":"IF(Main!N86=\"\",\"\",Main!N86)","v":1000},null,1,{"$f":"K183","v":1}]
[{"$f":"IF(K185=\"\",\"\",SUM($L$18:L185))","v":84},{"$f":"IF(I185=\"\",\"\",CONCATENATE(Main!C87,\", \",Main!D87,IF(Main!F87>0,CONCATENATE(\", \",Main!F87),\"\")))","v":"K.V.RAVANAMMA, SA (English), MPUPS, Dasaripalli"},null,null,{"$f":"IF(I184=\"\",\"\",Main!O87)","v":"XXXXXXXXXX"},{"$f":"IF(I184=\"\",\"\",Main!P87)","v":"Inter-I"},{"$f":"IF(I184=\"\",\"\",Main!Q87)","v":"2010-2011"},{"$f":"IF(I184=\"\",\"\",Main!R87)","v":"Abdul Kalam Jr Coolege"},{"$f":"IF(Main!S87=\"\",\"\",Main!S87)","v":1000},null,1]
[null,null,null,null,{"$f":"IF(I185=\"\",\"\",Main!J87)","v":"K.V.Sai Sujith"},{"$f":"IF(I185=\"\",\"\",Main!K87)","v":"VIII"},{"$f":"IF(I185=\"\",\"\",Main!L87)","v":"2010-2011"},{"$f":"IF(I185=\"\",\"\",Main!M87)","v":"Rathnam High School, Nelore"},{"$f":"IF(Main!N87=\"\",\"\",Main!N87)","v":1000},null,1,{"$f":"K185","v":1}]
[{"$f":"IF(K187=\"\",\"\",SUM($L$18:L187))","v":85},{"$f":"IF(I187=\"\",\"\",CONCATENATE(Main!C88,\", \",Main!D88,IF(Main!F88>0,CONCATENATE(\", \",Main!F88),\"\")))","v":"K.V.RAVANAMMA, SA (English), MPUPS, Dasaripalli"},null,null,{"$f":"IF(I186=\"\",\"\",Main!O88)","v":"XXXXXXXXXX"},{"$f":"IF(I186=\"\",\"\",Main!P88)","v":"Inter-I"},{"$f":"IF(I186=\"\",\"\",Main!Q88)","v":"2010-2011"},{"$f":"IF(I186=\"\",\"\",Main!R88)","v":"Abdul Kalam Jr Coolege"},{"$f":"IF(Main!S88=\"\",\"\",Main!S88)","v":1000},null,1]
[null,null,null,null,{"$f":"IF(I187=\"\",\"\",Main!J88)","v":"K.V.Sai Sujith"},{"$f":"IF(I187=\"\",\"\",Main!K88)","v":"VIII"},{"$f":"IF(I187=\"\",\"\",Main!L88)","v":"2010-2011"},{"$f":"IF(I187=\"\",\"\",Main!M88)","v":"Rathnam High School, Nelore"},{"$f":"IF(Main!N88=\"\",\"\",Main!N88)","v":1000},null,1,{"$f":"K187","v":1}]
[{"$f":"IF(K189=\"\",\"\",SUM($L$18:L189))","v":86},{"$f":"IF(I189=\"\",\"\",CONCATENATE(Main!C89,\", \",Main!D89,IF(Main!F89>0,CONCATENATE(\", \",Main!F89),\"\")))","v":"K.V.RAVANAMMA, SA (English), MPUPS, Dasaripalli"},null,null,{"$f":"IF(I188=\"\",\"\",Main!O89)","v":"XXXXXXXXXX"},{"$f":"IF(I188=\"\",\"\",Main!P89)","v":"Inter-I"},{"$f":"IF(I188=\"\",\"\",Main!Q89)","v":"2010-2011"},{"$f":"IF(I188=\"\",\"\",Main!R89)","v":"Abdul Kalam Jr Coolege"},{"$f":"IF(Main!S89=\"\",\"\",Main!S89)","v":1000},null,1]
[null,null,null,null,{"$f":"IF(I189=\"\",\"\",Main!J89)","v":"K.V.Sai Sujith"},{"$f":"IF(I189=\"\",\"\",Main!K89)","v":"VIII"},{"$f":"IF(I189=\"\",\"\",Main!L89)","v":"2010-2011"},{"$f":"IF(I189=\"\",\"\",Main!M89)","v":"Rathnam High School, Nelore"},{"$f":"IF(Main!N89=\"\",\"\",Main!N89)","v":1000},null,1,{"$f":"K189","v":1}]
[{"$f":"IF(K191=\"\",\"\",SUM($L$18:L191))","v":87},{"$f":"IF(I191=\"\",\"\",CONCATENATE(Main!C90,\", \",Main!D90,IF(Main!F90>0,CONCATENATE(\", \",Main!F90),\"\")))","v":"K.V.RAVANAMMA, SA (English), MPUPS, Dasaripalli"},null,null,{"$f":"IF(I190=\"\",\"\",Main!O90)","v":"XXXXXXXXXX"},{"$f":"IF(I190=\"\",\"\",Main!P90)","v":"Inter-I"},{"$f":"IF(I190=\"\",\"\",Main!Q90)","v":"2010-2011"},{"$f":"IF(I190=\"\",\"\",Main!R90)","v":"Abdul Kalam Jr Coolege"},{"$f":"IF(Main!S90=\"\",\"\",Main!S90)","v":1000},null,1]
[null,null,null,null,{"$f":"IF(I191=\"\",\"\",Main!J90)","v":"K.V.Sai Sujith"},{"$f":"IF(I191=\"\",\"\",Main!K90)","v":"VIII"},{"$f":"IF(I191=\"\",\"\",Main!L90)","v":"2010-2011"},{"$f":"IF(I191=\"\",\"\",Main!M90)","v":"Rathnam High School, Nelore"},{"$f":"IF(Main!N90=\"\",\"\",Main!N90)","v":1000},null,1,{"$f":"K191","v":1}]
[{"$f":"IF(K193=\"\",\"\",SUM($L$18:L193))","v":88},{"$f":"IF(I193=\"\",\"\",CONCATENATE(Main!C91,\", \",Main!D91,IF(Main!F91>0,CONCATENATE(\", \",Main!F91),\"\")))","v":"K.V.RAVANAMMA, SA (English), MPUPS, Dasaripalli"},null,null,{"$f":"IF(I192=\"\",\"\",Main!O91)","v":"XXXXXXXXXX"},{"$f":"IF(I192=\"\",\"\",Main!P91)","v":"Inter-I"},{"$f":"IF(I192=\"\",\"\",Main!Q91)","v":"2010-2011"},{"$f":"IF(I192=\"\",\"\",Main!R91)","v":"Abdul Kalam Jr Coolege"},{"$f":"IF(Main!S91=\"\",\"\",Main!S91)","v":1000},null,1]
[null,null,null,null,{"$f":"IF(I193=\"\",\"\",Main!J91)","v":"K.V.Sai Sujith"},{"$f":"IF(I193=\"\",\"\",Main!K91)","v":"VIII"},{"$f":"IF(I193=\"\",\"\",Main!L91)","v":"2010-2011"},{"$f":"IF(I193=\"\",\"\",Main!M91)","v":"Rathnam High School, Nelore"},{"$f":"IF(Main!N91=\"\",\"\",Main!N91)","v":1000},null,1,{"$f":"K193","v":1}]
[{"$f":"IF(K195=\"\",\"\",SUM($L$18:L195))","v":89},{"$f":"IF(I195=\"\",\"\",CONCATENATE(Main!C92,\", \",Main!D92,IF(Main!F92>0,CONCATENATE(\", \",Main!F92),\"\")))","v":"K.V.RAVANAMMA, SA (English), MPUPS, Dasaripalli"},null,null,{"$f":"IF(I194=\"\",\"\",Main!O92)","v":"XXXXXXXXXX"},{"$f":"IF(I194=\"\",\"\",Main!P92)","v":"Inter-I"},{"$f":"IF(I194=\"\",\"\",Main!Q92)","v":"2010-2011"},{"$f":"IF(I194=\"\",\"\",Main!R92)","v":"Abdul Kalam Jr Coolege"},{"$f":"IF(Main!S92=\"\",\"\",Main!S92)","v":1000},null,1]
[null,null,null,null,{"$f":"IF(I195=\"\",\"\",Main!J92)","v":"K.V.Sai Sujith"},{"$f":"IF(I195=\"\",\"\",Main!K92)","v":"VIII"},{"$f":"IF(I195=\"\",\"\",Main!L92)","v":"2010-2011"},{"$f":"IF(I195=\"\",\"\",Main!M92)","v":"Rathnam High School, Nelore"},{"$f":"IF(Main!N92=\"\",\"\",Main!N92)","v":1000},null,1,{"$f":"K195","v":1}]
[{"$f":"IF(K197=\"\",\"\",SUM($L$18:L197))","v":90},{"$f":"IF(I197=\"\",\"\",CONCATENATE(Main!C93,\", \",Main!D93,IF(Main!F93>0,CONCATENATE(\", \",Main!F93),\"\")))","v":"K.V.RAVANAMMA, SA (English), MPUPS, Dasaripalli"},null,null,{"$f":"IF(I196=\"\",\"\",Main!O93)","v":"XXXXXXXXXX"},{"$f":"IF(I196=\"\",\"\",Main!P93)","v":"Inter-I"},{"$f":"IF(I196=\"\",\"\",Main!Q93)","v":"2010-2011"},{"$f":"IF(I196=\"\",\"\",Main!R93)","v":"Abdul Kalam Jr Coolege"},{"$f":"IF(Main!S93=\"\",\"\",Main!S93)","v":1000},null,1]
[null,null,null,null,{"$f":"IF(I197=\"\",\"\",Main!J93)","v":"K.V.Sai Sujith"},{"$f":"IF(I197=\"\",\"\",Main!K93)","v":"VIII"},{"$f":"IF(I197=\"\",\"\",Main!L93)","v":"2010-2011"},{"$f":"IF(I197=\"\",\"\",Main!M93)","v":"Rathnam High School, Nelore"},{"$f":"IF(Main!N93=\"\",\"\",Main!N93)","v":1000},null,1,{"$f":"K197","v":1}]
[{"$f":"IF(K199=\"\",\"\",SUM($L$18:L199))","v":91},{"$f":"IF(I199=\"\",\"\",CONCATENATE(Main!C94,\", \",Main!D94,IF(Main!F94>0,CONCATENATE(\", \",Main!F94),\"\")))","v":"K.V.RAVANAMMA, SA (English), MPUPS, Dasaripalli"},null,null,{"$f":"IF(I198=\"\",\"\",Main!O94)","v":"XXXXXXXXXX"},{"$f":"IF(I198=\"\",\"\",Main!P94)","v":"Inter-I"},{"$f":"IF(I198=\"\",\"\",Main!Q94)","v":"2010-2011"},{"$f":"IF(I198=\"\",\"\",Main!R94)","v":"Abdul Kalam Jr Coolege"},{"$f":"IF(Main!S94=\"\",\"\",Main!S94)","v":1000},null,1]
[null,null,null,null,{"$f":"IF(I199=\"\",\"\",Main!J94)","v":"K.V.Sai Sujith"},{"$f":"IF(I199=\"\",\"\",Main!K94)","v":"VIII"},{"$f":"IF(I199=\"\",\"\",Main!L94)","v":"2010-2011"},{"$f":"IF(I199=\"\",\"\",Main!M94)","v":"Rathnam High School, Nelore"},{"$f":"IF(Main!N94=\"\",\"\",Main!N94)","v":1000},null,1,{"$f":"K199","v":1}]
[{"$f":"IF(K201=\"\",\"\",SUM($L$18:L201))","v":92},{"$f":"IF(I201=\"\",\"\",CONCATENATE(Main!C95,\", \",Main!D95,IF(Main!F95>0,CONCATENATE(\", \",Main!F95),\"\")))","v":"K.V.RAVANAMMA, SA (English), MPUPS, Dasaripalli"},null,null,{"$f":"IF(I200=\"\",\"\",Main!O95)","v":"XXXXXXXXXX"},{"$f":"IF(I200=\"\",\"\",Main!P95)","v":"Inter-I"},{"$f":"IF(I200=\"\",\"\",Main!Q95)","v":"2010-2011"},{"$f":"IF(I200=\"\",\"\",Main!R95)","v":"Abdul Kalam Jr Coolege"},{"$f":"IF(Main!S95=\"\",\"\",Main!S95)","v":1000},null,1]
[null,null,null,null,{"$f":"IF(I201=\"\",\"\",Main!J95)","v":"K.V.Sai Sujith"},{"$f":"IF(I201=\"\",\"\",Main!K95)","v":"VIII"},{"$f":"IF(I201=\"\",\"\",Main!L95)","v":"2010-2011"},{"$f":"IF(I201=\"\",\"\",Main!M95)","v":"Rathnam High School, Nelore"},{"$f":"IF(Main!N95=\"\",\"\",Main!N95)","v":1000},null,1,{"$f":"K201","v":1}]
[{"$f":"IF(K203=\"\",\"\",SUM($L$18:L203))","v":93},{"$f":"IF(I203=\"\",\"\",CONCATENATE(Main!C96,\", \",Main!D96,IF(Main!F96>0,CONCATENATE(\", \",Main!F96),\"\")))","v":"K.V.RAVANAMMA, SA (English), MPUPS, Dasaripalli"},null,null,{"$f":"IF(I202=\"\",\"\",Main!O96)","v":"XXXXXXXXXX"},{"$f":"IF(I202=\"\",\"\",Main!P96)","v":"Inter-I"},{"$f":"IF(I202=\"\",\"\",Main!Q96)","v":"2010-2011"},{"$f":"IF(I202=\"\",\"\",Main!R96)","v":"Abdul Kalam Jr Coolege"},{"$f":"IF(Main!S96=\"\",\"\",Main!S96)","v":1000},null,1]
[null,null,null,null,{"$f":"IF(I203=\"\",\"\",Main!J96)","v":"K.V.Sai Sujith"},{"$f":"IF(I203=\"\",\"\",Main!K96)","v":"VIII"},{"$f":"IF(I203=\"\",\"\",Main!L96)","v":"2010-2011"},{"$f":"IF(I203=\"\",\"\",Main!M96)","v":"Rathnam High School, Nelore"},{"$f":"IF(Main!N96=\"\",\"\",Main!N96)","v":1000},null,1,{"$f":"K203","v":1}]
[{"$f":"IF(K205=\"\",\"\",SUM($L$18:L205))","v":94},{"$f":"IF(I205=\"\",\"\",CONCATENATE(Main!C97,\", \",Main!D97,IF(Main!F97>0,CONCATENATE(\", \",Main!F97),\"\")))","v":"K.V.RAVANAMMA, SA (English), MPUPS, Dasaripalli"},null,null,{"$f":"IF(I204=\"\",\"\",Main!O97)","v":"XXXXXXXXXX"},{"$f":"IF(I204=\"\",\"\",Main!P97)","v":"Inter-I"},{"$f":"IF(I204=\"\",\"\",Main!Q97)","v":"2010-2011"},{"$f":"IF(I204=\"\",\"\",Main!R97)","v":"Abdul Kalam Jr Coolege"},{"$f":"IF(Main!S97=\"\",\"\",Main!S97)","v":1000},null,1]
[null,null,null,null,{"$f":"IF(I205=\"\",\"\",Main!J97)","v":"K.V.Sai Sujith"},{"$f":"IF(I205=\"\",\"\",Main!K97)","v":"VIII"},{"$f":"IF(I205=\"\",\"\",Main!L97)","v":"2010-2011"},{"$f":"IF(I205=\"\",\"\",Main!M97)","v":"Rathnam High School, Nelore"},{"$f":"IF(Main!N97=\"\",\"\",Main!N97)","v":1000},null,1,{"$f":"K205","v":1}]
[{"$f":"IF(K207=\"\",\"\",SUM($L$18:L207))","v":95},{"$f":"IF(I207=\"\",\"\",CONCATENATE(Main!C98,\", \",Main!D98,IF(Main!F98>0,CONCATENATE(\", \",Main!F98),\"\")))","v":"K.V.RAVANAMMA, SA (English), MPUPS, Dasaripalli"},null,null,{"$f":"IF(I206=\"\",\"\",Main!O98)","v":"XXXXXXXXXX"},{"$f":"IF(I206=\"\",\"\",Main!P98)","v":"Inter-I"},{"$f":"IF(I206=\"\",\"\",Main!Q98)","v":"2010-2011"},{"$f":"IF(I206=\"\",\"\",Main!R98)","v":"Abdul Kalam Jr Coolege"},{"$f":"IF(Main!S98=\"\",\"\",Main!S98)","v":1000},null,1]
[null,null,null,null,{"$f":"IF(I207=\"\",\"\",Main!J98)","v":"K.V.Sai Sujith"},{"$f":"IF(I207=\"\",\"\",Main!K98)","v":"VIII"},{"$f":"IF(I207=\"\",\"\",Main!L98)","v":"2010-2011"},{"$f":"IF(I207=\"\",\"\",Main!M98)","v":"Rathnam High School, Nelore"},{"$f":"IF(Main!N98=\"\",\"\",Main!N98)","v":1000},null,1,{"$f":"K207","v":1}]
[{"$f":"IF(K209=\"\",\"\",SUM($L$18:L209))","v":96},{"$f":"IF(I209=\"\",\"\",CONCATENATE(Main!C99,\", \",Main!D99,IF(Main!F99>0,CONCATENATE(\", \",Main!F99),\"\")))","v":"K.V.RAVANAMMA, SA (English), MPUPS, Dasaripalli"},null,null,{"$f":"IF(I208=\"\",\"\",Main!O99)","v":"XXXXXXXXXX"},{"$f":"IF(I208=\"\",\"\",Main!P99)","v":"Inter-I"},{"$f":"IF(I208=\"\",\"\",Main!Q99)","v":"2010-2011"},{"$f":"IF(I208=\"\",\"\",Main!R99)","v":"Abdul Kalam Jr Coolege"},{"$f":"IF(Main!S99=\"\",\"\",Main!S99)","v":1000},null,1]
[null,null,null,null,{"$f":"IF(I209=\"\",\"\",Main!J99)","v":"K.V.Sai Sujith"},{"$f":"IF(I209=\"\",\"\",Main!K99)","v":"VIII"},{"$f":"IF(I209=\"\",\"\",Main!L99)","v":"2010-2011"},{"$f":"IF(I209=\"\",\"\",Main!M99)","v":"Rathnam High School, Nelore"},{"$f":"IF(Main!N99=\"\",\"\",Main!N99)","v":1000},null,1,{"$f":"K209","v":1}]
[{"$f":"IF(K211=\"\",\"\",SUM($L$18:L211))","v":97},{"$f":"IF(I211=\"\",\"\",CONCATENATE(Main!C100,\", \",Main!D100,IF(Main!F100>0,CONCATENATE(\", \",Main!F100),\"\")))","v":"K.V.RAVANAMMA, SA (English), MPUPS, Dasaripalli"},null,null,{"$f":"IF(I210=\"\",\"\",Main!O100)","v":"XXXXXXXXXX"},{"$f":"IF(I210=\"\",\"\",Main!P100)","v":"Inter-I"},{"$f":"IF(I210=\"\",\"\",Main!Q100)","v":"2010-2011"},{"$f":"IF(I210=\"\",\"\",Main!R100)","v":"Abdul Kalam Jr Coolege"},{"$f":"IF(Main!S100=\"\",\"\",Main!S100)","v":1000},null,1]
[null,null,null,null,{"$f":"IF(I211=\"\",\"\",Main!J100)","v":"K.V.Sai Sujith"},{"$f":"IF(I211=\"\",\"\",Main!K100)","v":"VIII"},{"$f":"IF(I211=\"\",\"\",Main!L100)","v":"2010-2011"},{"$f":"IF(I211=\"\",\"\",Main!M100)","v":"Rathnam High School, Nelore"},{"$f":"IF(Main!N100=\"\",\"\",Main!N100)","v":1000},null,{"$f":"IF(I211=\"\",\"\",1)","v":1},{"$f":"K211","v":1}]
[{"$f":"IF(K213=\"\",\"\",SUM($L$18:L213))","v":98},{"$f":"IF(I213=\"\",\"\",CONCATENATE(Main!C101,\", \",Main!D101,IF(Main!F101>0,CONCATENATE(\", \",Main!F101),\"\")))","v":"K.V.RAVANAMMA, SA (English), MPUPS, Dasaripalli"},null,null,{"$f":"IF(I212=\"\",\"\",Main!O101)","v":"XXXXXXXXXX"},{"$f":"IF(I212=\"\",\"\",Main!P101)","v":"Inter-I"},{"$f":"IF(I212=\"\",\"\",Main!Q101)","v":"2010-2011"},{"$f":"IF(I212=\"\",\"\",Main!R101)","v":"Abdul Kalam Jr Coolege"},{"$f":"IF(Main!S101=\"\",\"\",Main!S101)","v":1000},null,1]
[null,null,null,null,{"$f":"IF(I213=\"\",\"\",Main!J101)","v":"K.V.Sai Sujith"},{"$f":"IF(I213=\"\",\"\",Main!K101)","v":"VIII"},{"$f":"IF(I213=\"\",\"\",Main!L101)","v":"2010-2011"},{"$f":"IF(I213=\"\",\"\",Main!M101)","v":"Rathnam High School, Nelore"},{"$f":"IF(Main!N101=\"\",\"\",Main!N101)","v":1000},null,1,{"$f":"K213","v":1}]
[{"$f":"IF(K215=\"\",\"\",SUM($L$18:L215))","v":99},{"$f":"IF(I215=\"\",\"\",CONCATENATE(Main!C102,\", \",Main!D102,IF(Main!F102>0,CONCATENATE(\", \",Main!F102),\"\")))","v":"K.V.RAVANAMMA, SA (English), MPUPS, Dasaripalli"},null,null,{"$f":"IF(I214=\"\",\"\",Main!O102)","v":"XXXXXXXXXX"},{"$f":"IF(I214=\"\",\"\",Main!P102)","v":"Inter-I"},{"$f":"IF(I214=\"\",\"\",Main!Q102)","v":"2010-2011"},{"$f":"IF(I214=\"\",\"\",Main!R102)","v":"Abdul Kalam Jr Coolege"},{"$f":"IF(Main!S102=\"\",\"\",Main!S102)","v":1000},null,1]
[null,null,null,null,{"$f":"IF(I215=\"\",\"\",Main!J102)","v":"K.V.Sai Sujith"},{"$f":"IF(I215=\"\",\"\",Main!K102)","v":"VIII"},{"$f":"IF(I215=\"\",\"\",Main!L102)","v":"2010-2011"},{"$f":"IF(I215=\"\",\"\",Main!M102)","v":"Rathnam High School, Nelore"},{"$f":"IF(Main!N102=\"\",\"\",Main!N102)","v":1000},null,1,{"$f":"K215","v":1}]
[{"$f":"IF(K217=\"\",\"\",SUM($L$18:L217))","v":100},{"$f":"IF(I217=\"\",\"\",CONCATENATE(Main!C103,\", \",Main!D103,IF(Main!F103>0,CONCATENATE(\", \",Main!F103),\"\")))","v":"K.V.RAVANAMMA, SA (English), MPUPS, Dasaripalli"},null,null,{"$f":"IF(I216=\"\",\"\",Main!O103)","v":"XXXXXXXXXX"},{"$f":"IF(I216=\"\",\"\",Main!P103)","v":"Inter-I"},{"$f":"IF(I216=\"\",\"\",Main!Q103)","v":"2010-2011"},{"$f":"IF(I216=\"\",\"\",Main!R103)","v":"Abdul Kalam Jr Coolege"},{"$f":"IF(Main!S103=\"\",\"\",Main!S103)","v":1000},null,1]
[null,null,null,null,{"$f":"IF(I217=\"\",\"\",Main!J103)","v":"K.V.Sai Sujith"},{"$f":"IF(I217=\"\",\"\",Main!K103)","v":"VIII"},{"$f":"IF(I217=\"\",\"\",Main!L103)","v":"2010-2011"},{"$f":"IF(I217=\"\",\"\",Main!M103)","v":"Rathnam High School, Nelore"},{"$f":"IF(Main!N103=\"\",\"\",Main!N103)","v":1000},null,1,{"$f":"K217","v":1}]
[{"$f":"IF(K219=\"\",\"\",SUM($L$18:L219))","v":101},{"$f":"IF(I219=\"\",\"\",CONCATENATE(Main!C104,\", \",Main!D104,IF(Main!F104>0,CONCATENATE(\", \",Main!F104),\"\")))","v":"K.V.RAVANAMMA, SA (English), MPUPS, Dasaripalli"},null,null,{"$f":"IF(I218=\"\",\"\",Main!O104)","v":"XXXXXXXXXX"},{"$f":"IF(I218=\"\",\"\",Main!P104)","v":"Inter-I"},{"$f":"IF(I218=\"\",\"\",Main!Q104)","v":"2010-2011"},{"$f":"IF(I218=\"\",\"\",Main!R104)","v":"Abdul Kalam Jr Coolege"},{"$f":"IF(Main!S104=\"\",\"\",Main!S104)","v":1000},null,1]
[null,null,null,null,{"$f":"IF(I219=\"\",\"\",Main!J104)","v":"K.V.Sai Sujith"},{"$f":"IF(I219=\"\",\"\",Main!K104)","v":"VIII"},{"$f":"IF(I219=\"\",\"\",Main!L104)","v":"2010-2011"},{"$f":"IF(I219=\"\",\"\",Main!M104)","v":"Rathnam High School, Nelore"},{"$f":"IF(Main!N104=\"\",\"\",Main!N104)","v":1000},null,1,{"$f":"K219","v":1}]
[{"$f":"IF(K221=\"\",\"\",SUM($L$18:L221))","v":102},{"$f":"IF(I221=\"\",\"\",CONCATENATE(Main!C105,\", \",Main!D105,IF(Main!F105>0,CONCATENATE(\", \",Main!F105),\"\")))","v":"K.V.RAVANAMMA, SA (English), MPUPS, Dasaripalli"},null,null,{"$f":"IF(I220=\"\",\"\",Main!O105)","v":"XXXXXXXXXX"},{"$f":"IF(I220=\"\",\"\",Main!P105)","v":"Inter-I"},{"$f":"IF(I220=\"\",\"\",Main!Q105)","v":"2010-2011"},{"$f":"IF(I220=\"\",\"\",Main!R105)","v":"Abdul Kalam Jr Coolege"},{"$f":"IF(Main!S105=\"\",\"\",Main!S105)","v":1000},null,1]
[null,null,null,null,{"$f":"IF(I221=\"\",\"\",Main!J105)","v":"K.V.Sai Sujith"},{"$f":"IF(I221=\"\",\"\",Main!K105)","v":"VIII"},{"$f":"IF(I221=\"\",\"\",Main!L105)","v":"2010-2011"},{"$f":"IF(I221=\"\",\"\",Main!M105)","v":"Rathnam High School, Nelore"},{"$f":"IF(Main!N105=\"\",\"\",Main!N105)","v":1000},null,1,{"$f":"K221","v":1}]
[{"$f":"IF(K223=\"\",\"\",SUM($L$18:L223))","v":103},{"$f":"IF(I223=\"\",\"\",CONCATENATE(Main!C106,\", \",Main!D106,IF(Main!F106>0,CONCATENATE(\", \",Main!F106),\"\")))","v":"K.V.RAVANAMMA, SA (English), MPUPS, Dasaripalli"},null,null,{"$f":"IF(I222=\"\",\"\",Main!O106)","v":"XXXXXXXXXX"},{"$f":"IF(I222=\"\",\"\",Main!P106)","v":"Inter-I"},{"$f":"IF(I222=\"\",\"\",Main!Q106)","v":"2010-2011"},{"$f":"IF(I222=\"\",\"\",Main!R106)","v":"Abdul Kalam Jr Coolege"},{"$f":"IF(Main!S106=\"\",\"\",Main!S106)","v":1000},null,1]
[null,null,null,null,{"$f":"IF(I223=\"\",\"\",Main!J106)","v":"K.V.Sai Sujith"},{"$f":"IF(I223=\"\",\"\",Main!K106)","v":"VIII"},{"$f":"IF(I223=\"\",\"\",Main!L106)","v":"2010-2011"},{"$f":"IF(I223=\"\",\"\",Main!M106)","v":"Rathnam High School, Nelore"},{"$f":"IF(Main!N106=\"\",\"\",Main!N106)","v":1000},null,1,{"$f":"K223","v":1}]
[{"$f":"IF(K225=\"\",\"\",SUM($L$18:L225))","v":104},{"$f":"IF(I225=\"\",\"\",CONCATENATE(Main!C107,\", \",Main!D107,IF(Main!F107>0,CONCATENATE(\", \",Main!F107),\"\")))","v":"K.V.RAVANAMMA, SA (English), MPUPS, Dasaripalli"},null,null,{"$f":"IF(I224=\"\",\"\",Main!O107)","v":"XXXXXXXXXX"},{"$f":"IF(I224=\"\",\"\",Main!P107)","v":"Inter-I"},{"$f":"IF(I224=\"\",\"\",Main!Q107)","v":"2010-2011"},{"$f":"IF(I224=\"\",\"\",Main!R107)","v":"Abdul Kalam Jr Coolege"},{"$f":"IF(Main!S107=\"\",\"\",Main!S107)","v":1000},null,1]
[null,null,null,null,{"$f":"IF(I225=\"\",\"\",Main!J107)","v":"K.V.Sai Sujith"},{"$f":"IF(I225=\"\",\"\",Main!K107)","v":"VIII"},{"$f":"IF(I225=\"\",\"\",Main!L107)","v":"2010-2011"},{"$f":"IF(I225=\"\",\"\",Main!M107)","v":"Rathnam High School, Nelore"},{"$f":"IF(Main!N107=\"\",\"\",Main!N107)","v":1000},null,1,{"$f":"K225","v":1}]
[{"$f":"IF(K227=\"\",\"\",SUM($L$18:L227))","v":105},{"$f":"IF(I227=\"\",\"\",CONCATENATE(Main!C108,\", \",Main!D108,IF(Main!F108>0,CONCATENATE(\", \",Main!F108),\"\")))","v":"K.V.RAVANAMMA, SA (English), MPUPS, Dasaripalli"},null,null,{"$f":"IF(I226=\"\",\"\",Main!O108)","v":"XXXXXXXXXX"},{"$f":"IF(I226=\"\",\"\",Main!P108)","v":"Inter-I"},{"$f":"IF(I226=\"\",\"\",Main!Q108)","v":"2010-2011"},{"$f":"IF(I226=\"\",\"\",Main!R108)","v":"Abdul Kalam Jr Coolege"},{"$f":"IF(Main!S108=\"\",\"\",Main!S108)","v":1000},null,1]
[null,null,null,null,{"$f":"IF(I227=\"\",\"\",Main!J108)","v":"K.V.Sai Sujith"},{"$f":"IF(I227=\"\",\"\",Main!K108)","v":"VIII"},{"$f":"IF(I227=\"\",\"\",Main!L108)","v":"2010-2011"},{"$f":"IF(I227=\"\",\"\",Main!M108)","v":"Rathnam High School, Nelore"},{"$f":"IF(Main!N108=\"\",\"\",Main!N108)","v":1000},null,1,{"$f":"K227","v":1}]
[{"$f":"IF(K229=\"\",\"\",SUM($L$18:L229))","v":106},{"$f":"IF(I229=\"\",\"\",CONCATENATE(Main!C109,\", \",Main!D109,IF(Main!F109>0,CONCATENATE(\", \",Main!F109),\"\")))","v":"K.V.RAVANAMMA, SA (English), MPUPS, Dasaripalli"},null,null,{"$f":"IF(I228=\"\",\"\",Main!O109)","v":"XXXXXXXXXX"},{"$f":"IF(I228=\"\",\"\",Main!P109)","v":"Inter-I"},{"$f":"IF(I228=\"\",\"\",Main!Q109)","v":"2010-2011"},{"$f":"IF(I228=\"\",\"\",Main!R109)","v":"Abdul Kalam Jr Coolege"},{"$f":"IF(Main!S109=\"\",\"\",Main!S109)","v":1000},null,1]
[null,null,null,null,{"$f":"IF(I229=\"\",\"\",Main!J109)","v":"K.V.Sai Sujith"},{"$f":"IF(I229=\"\",\"\",Main!K109)","v":"VIII"},{"$f":"IF(I229=\"\",\"\",Main!L109)","v":"2010-2011"},{"$f":"IF(I229=\"\",\"\",Main!M109)","v":"Rathnam High School, Nelore"},{"$f":"IF(Main!N109=\"\",\"\",Main!N109)","v":1000},null,1,{"$f":"K229","v":1}]
[{"$f":"IF(K231=\"\",\"\",SUM($L$18:L231))","v":107},{"$f":"IF(I231=\"\",\"\",CONCATENATE(Main!C110,\", \",Main!D110,IF(Main!F110>0,CONCATENATE(\", \",Main!F110),\"\")))","v":"K.V.RAVANAMMA, SA (English), MPUPS, Dasaripalli"},null,null,{"$f":"IF(I230=\"\",\"\",Main!O110)","v":"XXXXXXXXXX"},{"$f":"IF(I230=\"\",\"\",Main!P110)","v":"Inter-I"},{"$f":"IF(I230=\"\",\"\",Main!Q110)","v":"2010-2011"},{"$f":"IF(I230=\"\",\"\",Main!R110)","v":"Abdul Kalam Jr Coolege"},{"$f":"IF(Main!S110=\"\",\"\",Main!S110)","v":1000},null,1]
[null,null,null,null,{"$f":"IF(I231=\"\",\"\",Main!J110)","v":"K.V.Sai Sujith"},{"$f":"IF(I231=\"\",\"\",Main!K110)","v":"VIII"},{"$f":"IF(I231=\"\",\"\",Main!L110)","v":"2010-2011"},{"$f":"IF(I231=\"\",\"\",Main!M110)","v":"Rathnam High School, Nelore"},{"$f":"IF(Main!N110=\"\",\"\",Main!N110)","v":1000},null,1,{"$f":"K231","v":1}]
[{"$f":"IF(K233=\"\",\"\",SUM($L$18:L233))","v":108},{"$f":"IF(I233=\"\",\"\",CONCATENATE(Main!C111,\", \",Main!D111,IF(Main!F111>0,CONCATENATE(\", \",Main!F111),\"\")))","v":"K.V.RAVANAMMA, SA (English), MPUPS, Dasaripalli"},null,null,{"$f":"IF(I232=\"\",\"\",Main!O111)","v":"XXXXXXXXXX"},{"$f":"IF(I232=\"\",\"\",Main!P111)","v":"Inter-I"},{"$f":"IF(I232=\"\",\"\",Main!Q111)","v":"2010-2011"},{"$f":"IF(I232=\"\",\"\",Main!R111)","v":"Abdul Kalam Jr Coolege"},{"$f":"IF(Main!S111=\"\",\"\",Main!S111)","v":1000},null,1]
[null,null,null,null,{"$f":"IF(I233=\"\",\"\",Main!J111)","v":"K.V.Sai Sujith"},{"$f":"IF(I233=\"\",\"\",Main!K111)","v":"VIII"},{"$f":"IF(I233=\"\",\"\",Main!L111)","v":"2010-2011"},{"$f":"IF(I233=\"\",\"\",Main!M111)","v":"Rathnam High School, Nelore"},{"$f":"IF(Main!N111=\"\",\"\",Main!N111)","v":1000},null,1,{"$f":"K233","v":1}]
[{"$f":"IF(K235=\"\",\"\",SUM($L$18:L235))","v":109},{"$f":"IF(I235=\"\",\"\",CONCATENATE(Main!C112,\", \",Main!D112,IF(Main!F112>0,CONCATENATE(\", \",Main!F112),\"\")))","v":"K.V.RAVANAMMA, SA (English), MPUPS, Dasaripalli"},null,null,{"$f":"IF(I234=\"\",\"\",Main!O112)","v":"XXXXXXXXXX"},{"$f":"IF(I234=\"\",\"\",Main!P112)","v":"Inter-I"},{"$f":"IF(I234=\"\",\"\",Main!Q112)","v":"2010-2011"},{"$f":"IF(I234=\"\",\"\",Main!R112)","v":"Abdul Kalam Jr Coolege"},{"$f":"IF(Main!S112=\"\",\"\",Main!S112)","v":1000},null,1]
[null,null,null,null,{"$f":"IF(I235=\"\",\"\",Main!J112)","v":"K.V.Sai Sujith"},{"$f":"IF(I235=\"\",\"\",Main!K112)","v":"VIII"},{"$f":"IF(I235=\"\",\"\",Main!L112)","v":"2010-2011"},{"$f":"IF(I235=\"\",\"\",Main!M112)","v":"Rathnam High School, Nelore"},{"$f":"IF(Main!N112=\"\",\"\",Main!N112)","v":1000},null,1,{"$f":"K235","v":1}]
[{"$f":"IF(K237=\"\",\"\",SUM($L$18:L237))","v":110},{"$f":"IF(I237=\"\",\"\",CONCATENATE(Main!C113,\", \",Main!D113,IF(Main!F113>0,CONCATENATE(\", \",Main!F113),\"\")))","v":"K.V.RAVANAMMA, SA (English), MPUPS, Dasaripalli"},null,null,{"$f":"IF(I236=\"\",\"\",Main!O113)","v":"XXXXXXXXXX"},{"$f":"IF(I236=\"\",\"\",Main!P113)","v":"Inter-I"},{"$f":"IF(I236=\"\",\"\",Main!Q113)","v":"2010-2011"},{"$f":"IF(I236=\"\",\"\",Main!R113)","v":"Abdul Kalam Jr Coolege"},{"$f":"IF(Main!S113=\"\",\"\",Main!S113)","v":1000},null,1]
[null,null,null,null,{"$f":"IF(I237=\"\",\"\",Main!J113)","v":"K.V.Sai Sujith"},{"$f":"IF(I237=\"\",\"\",Main!K113)","v":"VIII"},{"$f":"IF(I237=\"\",\"\",Main!L113)","v":"2010-2011"},{"$f":"IF(I237=\"\",\"\",Main!M113)","v":"Rathnam High School, Nelore"},{"$f":"IF(Main!N113=\"\",\"\",Main!N113)","v":1000},null,1,{"$f":"K237","v":1}]
[{"$f":"IF(K239=\"\",\"\",SUM($L$18:L239))","v":111},{"$f":"IF(I239=\"\",\"\",CONCATENATE(Main!C114,\", \",Main!D114,IF(Main!F114>0,CONCATENATE(\", \",Main!F114),\"\")))","v":"K.V.RAVANAMMA, SA (English), MPUPS, Dasaripalli"},null,null,{"$f":"IF(I238=\"\",\"\",Main!O114)","v":"XXXXXXXXXX"},{"$f":"IF(I238=\"\",\"\",Main!P114)","v":"Inter-I"},{"$f":"IF(I238=\"\",\"\",Main!Q114)","v":"2010-2011"},{"$f":"IF(I238=\"\",\"\",Main!R114)","v":"Abdul Kalam Jr Coolege"},{"$f":"IF(Main!S114=\"\",\"\",Main!S114)","v":1000},null,1]
[null,null,null,null,{"$f":"IF(I239=\"\",\"\",Main!J114)","v":"K.V.Sai Sujith"},{"$f":"IF(I239=\"\",\"\",Main!K114)","v":"VIII"},{"$f":"IF(I239=\"\",\"\",Main!L114)","v":"2010-2011"},{"$f":"IF(I239=\"\",\"\",Main!M114)","v":"Rathnam High School, Nelore"},{"$f":"IF(Main!N114=\"\",\"\",Main!N114)","v":1000},null,1,{"$f":"K239","v":1}]
[{"$f":"IF(K241=\"\",\"\",SUM($L$18:L241))","v":112},{"$f":"IF(I241=\"\",\"\",CONCATENATE(Main!C115,\", \",Main!D115,IF(Main!F115>0,CONCATENATE(\", \",Main!F115),\"\")))","v":"K.V.RAVANAMMA, SA (English), MPUPS, Dasaripalli"},null,null,{"$f":"IF(I240=\"\",\"\",Main!O115)","v":"XXXXXXXXXX"},{"$f":"IF(I240=\"\",\"\",Main!P115)","v":"Inter-I"},{"$f":"IF(I240=\"\",\"\",Main!Q115)","v":"2010-2011"},{"$f":"IF(I240=\"\",\"\",Main!R115)","v":"Abdul Kalam Jr Coolege"},{"$f":"IF(Main!S115=\"\",\"\",Main!S115)","v":1000},null,1]
[null,null,null,null,{"$f":"IF(I241=\"\",\"\",Main!J115)","v":"K.V.Sai Sujith"},{"$f":"IF(I241=\"\",\"\",Main!K115)","v":"VIII"},{"$f":"IF(I241=\"\",\"\",Main!L115)","v":"2010-2011"},{"$f":"IF(I241=\"\",\"\",Main!M115)","v":"Rathnam High School, Nelore"},{"$f":"IF(Main!N115=\"\",\"\",Main!N115)","v":1000},null,1,{"$f":"K241","v":1}]
[{"$f":"IF(K243=\"\",\"\",SUM($L$18:L243))","v":113},{"$f":"IF(I243=\"\",\"\",CONCATENATE(Main!C116,\", \",Main!D116,IF(Main!F116>0,CONCATENATE(\", \",Main!F116),\"\")))","v":"K.V.RAVANAMMA, SA (English), MPUPS, Dasaripalli"},null,null,{"$f":"IF(I242=\"\",\"\",Main!O116)","v":"XXXXXXXXXX"},{"$f":"IF(I242=\"\",\"\",Main!P116)","v":"Inter-I"},{"$f":"IF(I242=\"\",\"\",Main!Q116)","v":"2010-2011"},{"$f":"IF(I242=\"\",\"\",Main!R116)","v":"Abdul Kalam Jr Coolege"},{"$f":"IF(Main!S116=\"\",\"\",Main!S116)","v":1000},null,1]
[null,null,null,null,{"$f":"IF(I243=\"\",\"\",Main!J116)","v":"K.V.Sai Sujith"},{"$f":"IF(I243=\"\",\"\",Main!K116)","v":"VIII"},{"$f":"IF(I243=\"\",\"\",Main!L116)","v":"2010-2011"},{"$f":"IF(I243=\"\",\"\",Main!M116)","v":"Rathnam High School, Nelore"},{"$f":"IF(Main!N116=\"\",\"\",Main!N116)","v":1000},null,1,{"$f":"K243","v":1}]
[{"$f":"IF(K245=\"\",\"\",SUM($L$18:L245))","v":114},{"$f":"IF(I245=\"\",\"\",CONCATENATE(Main!C117,\", \",Main!D117,IF(Main!F117>0,CONCATENATE(\", \",Main!F117),\"\")))","v":"K.V.RAVANAMMA, SA (English), MPUPS, Dasaripalli"},null,null,{"$f":"IF(I244=\"\",\"\",Main!O117)","v":"XXXXXXXXXX"},{"$f":"IF(I244=\"\",\"\",Main!P117)","v":"Inter-I"},{"$f":"IF(I244=\"\",\"\",Main!Q117)","v":"2010-2011"},{"$f":"IF(I244=\"\",\"\",Main!R117)","v":"Abdul Kalam Jr Coolege"},{"$f":"IF(Main!S117=\"\",\"\",Main!S117)","v":1000},null,1]
[null,null,null,null,{"$f":"IF(I245=\"\",\"\",Main!J117)","v":"K.V.Sai Sujith"},{"$f":"IF(I245=\"\",\"\",Main!K117)","v":"VIII"},{"$f":"IF(I245=\"\",\"\",Main!L117)","v":"2010-2011"},{"$f":"IF(I245=\"\",\"\",Main!M117)","v":"Rathnam High School, Nelore"},{"$f":"IF(Main!N117=\"\",\"\",Main!N117)","v":1000},null,1,{"$f":"K245","v":1}]
[{"$f":"IF(K247=\"\",\"\",SUM($L$18:L247))","v":115},{"$f":"IF(I247=\"\",\"\",CONCATENATE(Main!C118,\", \",Main!D118,IF(Main!F118>0,CONCATENATE(\", \",Main!F118),\"\")))","v":"K.V.RAVANAMMA, SA (English), MPUPS, Dasaripalli"},null,null,{"$f":"IF(I246=\"\",\"\",Main!O118)","v":"XXXXXXXXXX"},{"$f":"IF(I246=\"\",\"\",Main!P118)","v":"Inter-I"},{"$f":"IF(I246=\"\",\"\",Main!Q118)","v":"2010-2011"},{"$f":"IF(I246=\"\",\"\",Main!R118)","v":"Abdul Kalam Jr Coolege"},{"$f":"IF(Main!S118=\"\",\"\",Main!S118)","v":1000},null,1]
[null,null,null,null,{"$f":"IF(I247=\"\",\"\",Main!J118)","v":"K.V.Sai Sujith"},{"$f":"IF(I247=\"\",\"\",Main!K118)","v":"VIII"},{"$f":"IF(I247=\"\",\"\",Main!L118)","v":"2010-2011"},{"$f":"IF(I247=\"\",\"\",Main!M118)","v":"Rathnam High School, Nelore"},{"$f":"IF(Main!N118=\"\",\"\",Main!N118)","v":1000},null,1,{"$f":"K247","v":1}]
[{"$f":"IF(K249=\"\",\"\",SUM($L$18:L249))","v":116},{"$f":"IF(I249=\"\",\"\",CONCATENATE(Main!C119,\", \",Main!D119,IF(Main!F119>0,CONCATENATE(\", \",Main!F119),\"\")))","v":"K.V.RAVANAMMA, SA (English), MPUPS, Dasaripalli"},null,null,{"$f":"IF(I248=\"\",\"\",Main!O119)","v":"XXXXXXXXXX"},{"$f":"IF(I248=\"\",\"\",Main!P119)","v":"Inter-I"},{"$f":"IF(I248=\"\",\"\",Main!Q119)","v":"2010-2011"},{"$f":"IF(I248=\"\",\"\",Main!R119)","v":"Abdul Kalam Jr Coolege"},{"$f":"IF(Main!S119=\"\",\"\",Main!S119)","v":1000},null,1]
[null,null,null,null,{"$f":"IF(I249=\"\",\"\",Main!J119)","v":"K.V.Sai Sujith"},{"$f":"IF(I249=\"\",\"\",Main!K119)","v":"VIII"},{"$f":"IF(I249=\"\",\"\",Main!L119)","v":"2010-2011"},{"$f":"IF(I249=\"\",\"\",Main!M119)","v":"Rathnam High School, Nelore"},{"$f":"IF(Main!N119=\"\",\"\",Main!N119)","v":1000},null,1,{"$f":"K249","v":1}]
[{"$f":"IF(K251=\"\",\"\",SUM($L$18:L251))","v":117},{"$f":"IF(I251=\"\",\"\",CONCATENATE(Main!C120,\", \",Main!D120,IF(Main!F120>0,CONCATENATE(\", \",Main!F120),\"\")))","v":"K.V.RAVANAMMA, SA (English), MPUPS, Dasaripalli"},null,null,{"$f":"IF(I250=\"\",\"\",Main!O120)","v":"XXXXXXXXXX"},{"$f":"IF(I250=\"\",\"\",Main!P120)","v":"Inter-I"},{"$f":"IF(I250=\"\",\"\",Main!Q120)","v":"2010-2011"},{"$f":"IF(I250=\"\",\"\",Main!R120)","v":"Abdul Kalam Jr Coolege"},{"$f":"IF(Main!S120=\"\",\"\",Main!S120)","v":1000},null,1]
[null,null,null,null,{"$f":"IF(I251=\"\",\"\",Main!J120)","v":"K.V.Sai Sujith"},{"$f":"IF(I251=\"\",\"\",Main!K120)","v":"VIII"},{"$f":"IF(I251=\"\",\"\",Main!L120)","v":"2010-2011"},{"$f":"IF(I251=\"\",\"\",Main!M120)","v":"Rathnam High School, Nelore"},{"$f":"IF(Main!N120=\"\",\"\",Main!N120)","v":1000},null,1,{"$f":"K251","v":1}]
[{"$f":"IF(K253=\"\",\"\",SUM($L$18:L253))","v":118},{"$f":"IF(I253=\"\",\"\",CONCATENATE(Main!C121,\", \",Main!D121,IF(Main!F121>0,CONCATENATE(\", \",Main!F121),\"\")))","v":"K.V.RAVANAMMA, SA (English), MPUPS, Dasaripalli"},null,null,{"$f":"IF(I252=\"\",\"\",Main!O121)","v":"XXXXXXXXXX"},{"$f":"IF(I252=\"\",\"\",Main!P121)","v":"Inter-I"},{"$f":"IF(I252=\"\",\"\",Main!Q121)","v":"2010-2011"},{"$f":"IF(I252=\"\",\"\",Main!R121)","v":"Abdul Kalam Jr Coolege"},{"$f":"IF(Main!S121=\"\",\"\",Main!S121)","v":1000},null,1]
[null,null,null,null,{"$f":"IF(I253=\"\",\"\",Main!J121)","v":"K.V.Sai Sujith"},{"$f":"IF(I253=\"\",\"\",Main!K121)","v":"VIII"},{"$f":"IF(I253=\"\",\"\",Main!L121)","v":"2010-2011"},{"$f":"IF(I253=\"\",\"\",Main!M121)","v":"Rathnam High School, Nelore"},{"$f":"IF(Main!N121=\"\",\"\",Main!N121)","v":1000},null,1,{"$f":"K253","v":1}]
[{"$f":"IF(K255=\"\",\"\",SUM($L$18:L255))","v":119},{"$f":"IF(I255=\"\",\"\",CONCATENATE(Main!C122,\", \",Main!D122,IF(Main!F122>0,CONCATENATE(\", \",Main!F122),\"\")))","v":"K.V.RAVANAMMA, SA (English), MPUPS, Dasaripalli"},null,null,{"$f":"IF(I254=\"\",\"\",Main!O122)","v":"XXXXXXXXXX"},{"$f":"IF(I254=\"\",\"\",Main!P122)","v":"Inter-I"},{"$f":"IF(I254=\"\",\"\",Main!Q122)","v":"2010-2011"},{"$f":"IF(I254=\"\",\"\",Main!R122)","v":"Abdul Kalam Jr Coolege"},{"$f":"IF(Main!S122=\"\",\"\",Main!S122)","v":1000},null,1]
[null,null,null,null,{"$f":"IF(I255=\"\",\"\",Main!J122)","v":"K.V.Sai Sujith"},{"$f":"IF(I255=\"\",\"\",Main!K122)","v":"VIII"},{"$f":"IF(I255=\"\",\"\",Main!L122)","v":"2010-2011"},{"$f":"IF(I255=\"\",\"\",Main!M122)","v":"Rathnam High School, Nelore"},{"$f":"IF(Main!N122=\"\",\"\",Main!N122)","v":1000},null,1,{"$f":"K255","v":1}]
[{"$f":"IF(K257=\"\",\"\",SUM($L$18:L257))","v":120},{"$f":"IF(I257=\"\",\"\",CONCATENATE(Main!C123,\", \",Main!D123,IF(Main!F123>0,CONCATENATE(\", \",Main!F123),\"\")))","v":"K.V.RAVANAMMA, SA (English), MPUPS, Dasaripalli"},null,null,{"$f":"IF(I256=\"\",\"\",Main!O123)","v":"XXXXXXXXXX"},{"$f":"IF(I256=\"\",\"\",Main!P123)","v":"Inter-I"},{"$f":"IF(I256=\"\",\"\",Main!Q123)","v":"2010-2011"},{"$f":"IF(I256=\"\",\"\",Main!R123)","v":"Abdul Kalam Jr Coolege"},{"$f":"IF(Main!S123=\"\",\"\",Main!S123)","v":1000},null,1]
[null,null,null,null,{"$f":"IF(I257=\"\",\"\",Main!J123)","v":"K.V.Sai Sujith"},{"$f":"IF(I257=\"\",\"\",Main!K123)","v":"VIII"},{"$f":"IF(I257=\"\",\"\",Main!L123)","v":"2010-2011"},{"$f":"IF(I257=\"\",\"\",Main!M123)","v":"Rathnam High School, Nelore"},{"$f":"IF(Main!N123=\"\",\"\",Main!N123)","v":1000},null,1,{"$f":"K257","v":1}]
[{"$f":"IF(K259=\"\",\"\",SUM($L$18:L259))","v":121},{"$f":"IF(I259=\"\",\"\",CONCATENATE(Main!C124,\", \",Main!D124,IF(Main!F124>0,CONCATENATE(\", \",Main!F124),\"\")))","v":"K.V.RAVANAMMA, SA (English), MPUPS, Dasaripalli"},null,null,{"$f":"IF(I258=\"\",\"\",Main!O124)","v":"XXXXXXXXXX"},{"$f":"IF(I258=\"\",\"\",Main!P124)","v":"Inter-I"},{"$f":"IF(I258=\"\",\"\",Main!Q124)","v":"2010-2011"},{"$f":"IF(I258=\"\",\"\",Main!R124)","v":"Abdul Kalam Jr Coolege"},{"$f":"IF(Main!S124=\"\",\"\",Main!S124)","v":1000},null,1]
[null,null,null,null,{"$f":"IF(I259=\"\",\"\",Main!J124)","v":"K.V.Sai Sujith"},{"$f":"IF(I259=\"\",\"\",Main!K124)","v":"VIII"},{"$f":"IF(I259=\"\",\"\",Main!L124)","v":"2010-2011"},{"$f":"IF(I259=\"\",\"\",Main!M124)","v":"Rathnam High School, Nelore"},{"$f":"IF(Main!N124=\"\",\"\",Main!N124)","v":1000},null,1,{"$f":"K259","v":1}]
[{"$f":"IF(K261=\"\",\"\",SUM($L$18:L261))","v":122},{"$f":"IF(I261=\"\",\"\",CONCATENATE(Main!C125,\", \",Main!D125,IF(Main!F125>0,CONCATENATE(\", \",Main!F125),\"\")))","v":"K.V.RAVANAMMA, SA (English), MPUPS, Dasaripalli"},null,null,{"$f":"IF(I260=\"\",\"\",Main!O125)","v":"XXXXXXXXXX"},{"$f":"IF(I260=\"\",\"\",Main!P125)","v":"Inter-I"},{"$f":"IF(I260=\"\",\"\",Main!Q125)","v":"2010-2011"},{"$f":"IF(I260=\"\",\"\",Main!R125)","v":"Abdul Kalam Jr Coolege"},{"$f":"IF(Main!S125=\"\",\"\",Main!S125)","v":1000},null,1]
[null,null,null,null,{"$f":"IF(I261=\"\",\"\",Main!J125)","v":"K.V.Sai Sujith"},{"$f":"IF(I261=\"\",\"\",Main!K125)","v":"VIII"},{"$f":"IF(I261=\"\",\"\",Main!L125)","v":"2010-2011"},{"$f":"IF(I261=\"\",\"\",Main!M125)","v":"Rathnam High School, Nelore"},{"$f":"IF(Main!N125=\"\",\"\",Main!N125)","v":1000},null,1,{"$f":"K261","v":1}]
[{"$f":"IF(K263=\"\",\"\",SUM($L$18:L263))","v":123},{"$f":"IF(I263=\"\",\"\",CONCATENATE(Main!C126,\", \",Main!D126,IF(Main!F126>0,CONCATENATE(\", \",Main!F126),\"\")))","v":"K.V.RAVANAMMA, SA (English), MPUPS, Dasaripalli"},null,null,{"$f":"IF(I262=\"\",\"\",Main!O126)","v":"XXXXXXXXXX"},{"$f":"IF(I262=\"\",\"\",Main!P126)","v":"Inter-I"},{"$f":"IF(I262=\"\",\"\",Main!Q126)","v":"2010-2011"},{"$f":"IF(I262=\"\",\"\",Main!R126)","v":"Abdul Kalam Jr Coolege"},{"$f":"IF(Main!S126=\"\",\"\",Main!S126)","v":1000},null,1]
[null,null,null,null,{"$f":"IF(I263=\"\",\"\",Main!J126)","v":"K.V.Sai Sujith"},{"$f":"IF(I263=\"\",\"\",Main!K126)","v":"VIII"},{"$f":"IF(I263=\"\",\"\",Main!L126)","v":"2010-2011"},{"$f":"IF(I263=\"\",\"\",Main!M126)","v":"Rathnam High School, Nelore"},{"$f":"IF(Main!N126=\"\",\"\",Main!N126)","v":1000},null,1,{"$f":"K263","v":1}]
[{"$f":"IF(K265=\"\",\"\",SUM($L$18:L265))","v":124},{"$f":"IF(I265=\"\",\"\",CONCATENATE(Main!C127,\", \",Main!D127,IF(Main!F127>0,CONCATENATE(\", \",Main!F127),\"\")))","v":"K.V.RAVANAMMA, SA (English), MPUPS, Dasaripalli"},null,null,{"$f":"IF(I264=\"\",\"\",Main!O127)","v":"XXXXXXXXXX"},{"$f":"IF(I264=\"\",\"\",Main!P127)","v":"Inter-I"},{"$f":"IF(I264=\"\",\"\",Main!Q127)","v":"2010-2011"},{"$f":"IF(I264=\"\",\"\",Main!R127)","v":"Abdul Kalam Jr Coolege"},{"$f":"IF(Main!S127=\"\",\"\",Main!S127)","v":1000},null,1]
[null,null,null,null,{"$f":"IF(I265=\"\",\"\",Main!J127)","v":"K.V.Sai Sujith"},{"$f":"IF(I265=\"\",\"\",Main!K127)","v":"VIII"},{"$f":"IF(I265=\"\",\"\",Main!L127)","v":"2010-2011"},{"$f":"IF(I265=\"\",\"\",Main!M127)","v":"Rathnam High School, Nelore"},{"$f":"IF(Main!N127=\"\",\"\",Main!N127)","v":1000},null,1,{"$f":"K265","v":1}]
[{"$f":"IF(K267=\"\",\"\",SUM($L$18:L267))","v":125},{"$f":"IF(I267=\"\",\"\",CONCATENATE(Main!C128,\", \",Main!D128,IF(Main!F128>0,CONCATENATE(\", \",Main!F128),\"\")))","v":"K.V.RAVANAMMA, SA (English), MPUPS, Dasaripalli"},null,null,{"$f":"IF(I266=\"\",\"\",Main!O128)","v":"XXXXXXXXXX"},{"$f":"IF(I266=\"\",\"\",Main!P128)","v":"Inter-I"},{"$f":"IF(I266=\"\",\"\",Main!Q128)","v":"2010-2011"},{"$f":"IF(I266=\"\",\"\",Main!R128)","v":"Abdul Kalam Jr Coolege"},{"$f":"IF(Main!S128=\"\",\"\",Main!S128)","v":1000},null,1]
[null,null,null,null,{"$f":"IF(I267=\"\",\"\",Main!J128)","v":"K.V.Sai Sujith"},{"$f":"IF(I267=\"\",\"\",Main!K128)","v":"VIII"},{"$f":"IF(I267=\"\",\"\",Main!L128)","v":"2010-2011"},{"$f":"IF(I267=\"\",\"\",Main!M128)","v":"Rathnam High School, Nelore"},{"$f":"IF(Main!N128=\"\",\"\",Main!N128)","v":1000},null,1,{"$f":"K267","v":1}]
[{"$f":"IF(K269=\"\",\"\",SUM($L$18:L269))","v":126},{"$f":"IF(I269=\"\",\"\",CONCATENATE(Main!C129,\", \",Main!D129,IF(Main!F129>0,CONCATENATE(\", \",Main!F129),\"\")))","v":"K.V.RAVANAMMA, SA (English), MPUPS, Dasaripalli"},null,null,{"$f":"IF(I268=\"\",\"\",Main!O129)","v":"XXXXXXXXXX"},{"$f":"IF(I268=\"\",\"\",Main!P129)","v":"Inter-I"},{"$f":"IF(I268=\"\",\"\",Main!Q129)","v":"2010-2011"},{"$f":"IF(I268=\"\",\"\",Main!R129)","v":"Abdul Kalam Jr Coolege"},{"$f":"IF(Main!S129=\"\",\"\",Main!S129)","v":1000},null,1]
[null,null,null,null,{"$f":"IF(I269=\"\",\"\",Main!J129)","v":"K.V.Sai Sujith"},{"$f":"IF(I269=\"\",\"\",Main!K129)","v":"VIII"},{"$f":"IF(I269=\"\",\"\",Main!L129)","v":"2010-2011"},{"$f":"IF(I269=\"\",\"\",Main!M129)","v":"Rathnam High School, Nelore"},{"$f":"IF(Main!N129=\"\",\"\",Main!N129)","v":1000},null,1,{"$f":"K269","v":1}]
[{"$f":"IF(K271=\"\",\"\",SUM($L$18:L271))","v":127},{"$f":"IF(I271=\"\",\"\",CONCATENATE(Main!C130,\", \",Main!D130,IF(Main!F130>0,CONCATENATE(\", \",Main!F130),\"\")))","v":"K.V.RAVANAMMA, SA (English), MPUPS, Dasaripalli"},null,null,{"$f":"IF(I270=\"\",\"\",Main!O130)","v":"XXXXXXXXXX"},{"$f":"IF(I270=\"\",\"\",Main!P130)","v":"Inter-I"},{"$f":"IF(I270=\"\",\"\",Main!Q130)","v":"2010-2011"},{"$f":"IF(I270=\"\",\"\",Main!R130)","v":"Abdul Kalam Jr Coolege"},{"$f":"IF(Main!S130=\"\",\"\",Main!S130)","v":1000},null,1]
[null,null,null,null,{"$f":"IF(I271=\"\",\"\",Main!J130)","v":"K.V.Sai Sujith"},{"$f":"IF(I271=\"\",\"\",Main!K130)","v":"VIII"},{"$f":"IF(I271=\"\",\"\",Main!L130)","v":"2010-2011"},{"$f":"IF(I271=\"\",\"\",Main!M130)","v":"Rathnam High School, Nelore"},{"$f":"IF(Main!N130=\"\",\"\",Main!N130)","v":1000},null,1,{"$f":"K271","v":1}]
[{"$f":"IF(K273=\"\",\"\",SUM($L$18:L273))","v":128},{"$f":"IF(I273=\"\",\"\",CONCATENATE(Main!C131,\", \",Main!D131,IF(Main!F131>0,CONCATENATE(\", \",Main!F131),\"\")))","v":"K.V.RAVANAMMA, SA (English), MPUPS, Dasaripalli"},null,null,{"$f":"IF(I272=\"\",\"\",Main!O131)","v":"XXXXXXXXXX"},{"$f":"IF(I272=\"\",\"\",Main!P131)","v":"Inter-I"},{"$f":"IF(I272=\"\",\"\",Main!Q131)","v":"2010-2011"},{"$f":"IF(I272=\"\",\"\",Main!R131)","v":"Abdul Kalam Jr Coolege"},{"$f":"IF(Main!S131=\"\",\"\",Main!S131)","v":1000},null,1]
[null,null,null,null,{"$f":"IF(I273=\"\",\"\",Main!J131)","v":"K.V.Sai Sujith"},{"$f":"IF(I273=\"\",\"\",Main!K131)","v":"VIII"},{"$f":"IF(I273=\"\",\"\",Main!L131)","v":"2010-2011"},{"$f":"IF(I273=\"\",\"\",Main!M131)","v":"Rathnam High School, Nelore"},{"$f":"IF(Main!N131=\"\",\"\",Main!N131)","v":1000},null,1,{"$f":"K273","v":1}]
[{"$f":"IF(K275=\"\",\"\",SUM($L$18:L275))","v":129},{"$f":"IF(I275=\"\",\"\",CONCATENATE(Main!C132,\", \",Main!D132,IF(Main!F132>0,CONCATENATE(\", \",Main!F132),\"\")))","v":"K.V.RAVANAMMA, SA (English), MPUPS, Dasaripalli"},null,null,{"$f":"IF(I274=\"\",\"\",Main!O132)","v":"XXXXXXXXXX"},{"$f":"IF(I274=\"\",\"\",Main!P132)","v":"Inter-I"},{"$f":"IF(I274=\"\",\"\",Main!Q132)","v":"2010-2011"},{"$f":"IF(I274=\"\",\"\",Main!R132)","v":"Abdul Kalam Jr Coolege"},{"$f":"IF(Main!S132=\"\",\"\",Main!S132)","v":1000},null,1]
[null,null,null,null,{"$f":"IF(I275=\"\",\"\",Main!J132)","v":"K.V.Sai Sujith"},{"$f":"IF(I275=\"\",\"\",Main!K132)","v":"VIII"},{"$f":"IF(I275=\"\",\"\",Main!L132)","v":"2010-2011"},{"$f":"IF(I275=\"\",\"\",Main!M132)","v":"Rathnam High School, Nelore"},{"$f":"IF(Main!N132=\"\",\"\",Main!N132)","v":1000},null,{"$f":"IF(I275=\"\",\"\",1)","v":1},{"$f":"K275","v":1}]
[{"$f":"IF(K277=\"\",\"\",SUM($L$18:L277))","v":130},{"$f":"IF(I277=\"\",\"\",CONCATENATE(Main!C133,\", \",Main!D133,IF(Main!F133>0,CONCATENATE(\", \",Main!F133),\"\")))","v":"K.V.RAVANAMMA, SA (English), MPUPS, Dasaripalli"},null,null,{"$f":"IF(I276=\"\",\"\",Main!O133)","v":"XXXXXXXXXX"},{"$f":"IF(I276=\"\",\"\",Main!P133)","v":"Inter-I"},{"$f":"IF(I276=\"\",\"\",Main!Q133)","v":"2010-2011"},{"$f":"IF(I276=\"\",\"\",Main!R133)","v":"Abdul Kalam Jr Coolege"},{"$f":"IF(Main!S133=\"\",\"\",Main!S133)","v":1000},null,1]
[null,null,null,null,{"$f":"IF(I277=\"\",\"\",Main!J133)","v":"K.V.Sai Sujith"},{"$f":"IF(I277=\"\",\"\",Main!K133)","v":"VIII"},{"$f":"IF(I277=\"\",\"\",Main!L133)","v":"2010-2011"},{"$f":"IF(I277=\"\",\"\",Main!M133)","v":"Rathnam High School, Nelore"},{"$f":"IF(Main!N133=\"\",\"\",Main!N133)","v":1000},null,1,{"$f":"K277","v":1}]
[{"$f":"IF(K279=\"\",\"\",SUM($L$18:L279))","v":131},{"$f":"IF(I279=\"\",\"\",CONCATENATE(Main!C134,\", \",Main!D134,IF(Main!F134>0,CONCATENATE(\", \",Main!F134),\"\")))","v":"K.V.RAVANAMMA, SA (English), MPUPS, Dasaripalli"},null,null,{"$f":"IF(I278=\"\",\"\",Main!O134)","v":"XXXXXXXXXX"},{"$f":"IF(I278=\"\",\"\",Main!P134)","v":"Inter-I"},{"$f":"IF(I278=\"\",\"\",Main!Q134)","v":"2010-2011"},{"$f":"IF(I278=\"\",\"\",Main!R134)","v":"Abdul Kalam Jr Coolege"},{"$f":"IF(Main!S134=\"\",\"\",Main!S134)","v":1000},null,1]
[null,null,null,null,{"$f":"IF(I279=\"\",\"\",Main!J134)","v":"K.V.Sai Sujith"},{"$f":"IF(I279=\"\",\"\",Main!K134)","v":"VIII"},{"$f":"IF(I279=\"\",\"\",Main!L134)","v":"2010-2011"},{"$f":"IF(I279=\"\",\"\",Main!M134)","v":"Rathnam High School, Nelore"},{"$f":"IF(Main!N134=\"\",\"\",Main!N134)","v":1000},null,1,{"$f":"K279","v":1}]
[{"$f":"IF(K281=\"\",\"\",SUM($L$18:L281))","v":132},{"$f":"IF(I281=\"\",\"\",CONCATENATE(Main!C135,\", \",Main!D135,IF(Main!F135>0,CONCATENATE(\", \",Main!F135),\"\")))","v":"K.V.RAVANAMMA, SA (English), MPUPS, Dasaripalli"},null,null,{"$f":"IF(I280=\"\",\"\",Main!O135)","v":"XXXXXXXXXX"},{"$f":"IF(I280=\"\",\"\",Main!P135)","v":"Inter-I"},{"$f":"IF(I280=\"\",\"\",Main!Q135)","v":"2010-2011"},{"$f":"IF(I280=\"\",\"\",Main!R135)","v":"Abdul Kalam Jr Coolege"},{"$f":"IF(Main!S135=\"\",\"\",Main!S135)","v":1000},null,1]
[null,null,null,null,{"$f":"IF(I281=\"\",\"\",Main!J135)","v":"K.V.Sai Sujith"},{"$f":"IF(I281=\"\",\"\",Main!K135)","v":"VIII"},{"$f":"IF(I281=\"\",\"\",Main!L135)","v":"2010-2011"},{"$f":"IF(I281=\"\",\"\",Main!M135)","v":"Rathnam High School, Nelore"},{"$f":"IF(Main!N135=\"\",\"\",Main!N135)","v":1000},null,1,{"$f":"K281","v":1}]
[{"$f":"IF(K283=\"\",\"\",SUM($L$18:L283))","v":133},{"$f":"IF(I283=\"\",\"\",CONCATENATE(Main!C136,\", \",Main!D136,IF(Main!F136>0,CONCATENATE(\", \",Main!F136),\"\")))","v":"K.V.RAVANAMMA, SA (English), MPUPS, Dasaripalli"},null,null,{"$f":"IF(I282=\"\",\"\",Main!O136)","v":"XXXXXXXXXX"},{"$f":"IF(I282=\"\",\"\",Main!P136)","v":"Inter-I"},{"$f":"IF(I282=\"\",\"\",Main!Q136)","v":"2010-2011"},{"$f":"IF(I282=\"\",\"\",Main!R136)","v":"Abdul Kalam Jr Coolege"},{"$f":"IF(Main!S136=\"\",\"\",Main!S136)","v":1000},null,1]
[null,null,null,null,{"$f":"IF(I283=\"\",\"\",Main!J136)","v":"K.V.Sai Sujith"},{"$f":"IF(I283=\"\",\"\",Main!K136)","v":"VIII"},{"$f":"IF(I283=\"\",\"\",Main!L136)","v":"2010-2011"},{"$f":"IF(I283=\"\",\"\",Main!M136)","v":"Rathnam High School, Nelore"},{"$f":"IF(Main!N136=\"\",\"\",Main!N136)","v":1000},null,1,{"$f":"K283","v":1}]
[{"$f":"IF(K285=\"\",\"\",SUM($L$18:L285))","v":134},{"$f":"IF(I285=\"\",\"\",CONCATENATE(Main!C137,\", \",Main!D137,IF(Main!F137>0,CONCATENATE(\", \",Main!F137),\"\")))","v":"K.V.RAVANAMMA, SA (English), MPUPS, Dasaripalli"},null,null,{"$f":"IF(I284=\"\",\"\",Main!O137)","v":"XXXXXXXXXX"},{"$f":"IF(I284=\"\",\"\",Main!P137)","v":"Inter-I"},{"$f":"IF(I284=\"\",\"\",Main!Q137)","v":"2010-2011"},{"$f":"IF(I284=\"\",\"\",Main!R137)","v":"Abdul Kalam Jr Coolege"},{"$f":"IF(Main!S137=\"\",\"\",Main!S137)","v":1000},null,1]
[null,null,null,null,{"$f":"IF(I285=\"\",\"\",Main!J137)","v":"K.V.Sai Sujith"},{"$f":"IF(I285=\"\",\"\",Main!K137)","v":"VIII"},{"$f":"IF(I285=\"\",\"\",Main!L137)","v":"2010-2011"},{"$f":"IF(I285=\"\",\"\",Main!M137)","v":"Rathnam High School, Nelore"},{"$f":"IF(Main!N137=\"\",\"\",Main!N137)","v":1000},null,1,{"$f":"K285","v":1}]
[{"$f":"IF(K287=\"\",\"\",SUM($L$18:L287))","v":135},{"$f":"IF(I287=\"\",\"\",CONCATENATE(Main!C138,\", \",Main!D138,IF(Main!F138>0,CONCATENATE(\", \",Main!F138),\"\")))","v":"K.V.RAVANAMMA, SA (English), MPUPS, Dasaripalli"},null,null,{"$f":"IF(I286=\"\",\"\",Main!O138)","v":"XXXXXXXXXX"},{"$f":"IF(I286=\"\",\"\",Main!P138)","v":"Inter-I"},{"$f":"IF(I286=\"\",\"\",Main!Q138)","v":"2010-2011"},{"$f":"IF(I286=\"\",\"\",Main!R138)","v":"Abdul Kalam Jr Coolege"},{"$f":"IF(Main!S138=\"\",\"\",Main!S138)","v":1000},null,1]
[null,null,null,null,{"$f":"IF(I287=\"\",\"\",Main!J138)","v":"K.V.Sai Sujith"},{"$f":"IF(I287=\"\",\"\",Main!K138)","v":"VIII"},{"$f":"IF(I287=\"\",\"\",Main!L138)","v":"2010-2011"},{"$f":"IF(I287=\"\",\"\",Main!M138)","v":"Rathnam High School, Nelore"},{"$f":"IF(Main!N138=\"\",\"\",Main!N138)","v":1000},null,1,{"$f":"K287","v":1}]
[{"$f":"IF(K289=\"\",\"\",SUM($L$18:L289))","v":136},{"$f":"IF(I289=\"\",\"\",CONCATENATE(Main!C139,\", \",Main!D139,IF(Main!F139>0,CONCATENATE(\", \",Main!F139),\"\")))","v":"K.V.RAVANAMMA, SA (English), MPUPS, Dasaripalli"},null,null,{"$f":"IF(I288=\"\",\"\",Main!O139)","v":"XXXXXXXXXX"},{"$f":"IF(I288=\"\",\"\",Main!P139)","v":"Inter-I"},{"$f":"IF(I288=\"\",\"\",Main!Q139)","v":"2010-2011"},{"$f":"IF(I288=\"\",\"\",Main!R139)","v":"Abdul Kalam Jr Coolege"},{"$f":"IF(Main!S139=\"\",\"\",Main!S139)","v":1000},null,1]
[null,null,null,null,{"$f":"IF(I289=\"\",\"\",Main!J139)","v":"K.V.Sai Sujith"},{"$f":"IF(I289=\"\",\"\",Main!K139)","v":"VIII"},{"$f":"IF(I289=\"\",\"\",Main!L139)","v":"2010-2011"},{"$f":"IF(I289=\"\",\"\",Main!M139)","v":"Rathnam High School, Nelore"},{"$f":"IF(Main!N139=\"\",\"\",Main!N139)","v":1000},null,1,{"$f":"K289","v":1}]
[{"$f":"IF(K291=\"\",\"\",SUM($L$18:L291))","v":137},{"$f":"IF(I291=\"\",\"\",CONCATENATE(Main!C140,\", \",Main!D140,IF(Main!F140>0,CONCATENATE(\", \",Main!F140),\"\")))","v":"K.V.RAVANAMMA, SA (English), MPUPS, Dasaripalli"},null,null,{"$f":"IF(I290=\"\",\"\",Main!O140)","v":"XXXXXXXXXX"},{"$f":"IF(I290=\"\",\"\",Main!P140)","v":"Inter-I"},{"$f":"IF(I290=\"\",\"\",Main!Q140)","v":"2010-2011"},{"$f":"IF(I290=\"\",\"\",Main!R140)","v":"Abdul Kalam Jr Coolege"},{"$f":"IF(Main!S140=\"\",\"\",Main!S140)","v":1000},null,1]
[null,null,null,null,{"$f":"IF(I291=\"\",\"\",Main!J140)","v":"K.V.Sai Sujith"},{"$f":"IF(I291=\"\",\"\",Main!K140)","v":"VIII"},{"$f":"IF(I291=\"\",\"\",Main!L140)","v":"2010-2011"},{"$f":"IF(I291=\"\",\"\",Main!M140)","v":"Rathnam High School, Nelore"},{"$f":"IF(Main!N140=\"\",\"\",Main!N140)","v":1000},null,1,{"$f":"K291","v":1}]
[{"$f":"IF(K293=\"\",\"\",SUM($L$18:L293))","v":138},{"$f":"IF(I293=\"\",\"\",CONCATENATE(Main!C141,\", \",Main!D141,IF(Main!F141>0,CONCATENATE(\", \",Main!F141),\"\")))","v":"K.V.RAVANAMMA, SA (English), MPUPS, Dasaripalli"},null,null,{"$f":"IF(I292=\"\",\"\",Main!O141)","v":"XXXXXXXXXX"},{"$f":"IF(I292=\"\",\"\",Main!P141)","v":"Inter-I"},{"$f":"IF(I292=\"\",\"\",Main!Q141)","v":"2010-2011"},{"$f":"IF(I292=\"\",\"\",Main!R141)","v":"Abdul Kalam Jr Coolege"},{"$f":"IF(Main!S141=\"\",\"\",Main!S141)","v":1000},null,1]
[null,null,null,null,{"$f":"IF(I293=\"\",\"\",Main!J141)","v":"K.V.Sai Sujith"},{"$f":"IF(I293=\"\",\"\",Main!K141)","v":"VIII"},{"$f":"IF(I293=\"\",\"\",Main!L141)","v":"2010-2011"},{"$f":"IF(I293=\"\",\"\",Main!M141)","v":"Rathnam High School, Nelore"},{"$f":"IF(Main!N141=\"\",\"\",Main!N141)","v":1000},null,1,{"$f":"K293","v":1}]
[{"$f":"IF(K295=\"\",\"\",SUM($L$18:L295))","v":139},{"$f":"IF(I295=\"\",\"\",CONCATENATE(Main!C142,\", \",Main!D142,IF(Main!F142>0,CONCATENATE(\", \",Main!F142),\"\")))","v":"K.V.RAVANAMMA, SA (English), MPUPS, Dasaripalli"},null,null,{"$f":"IF(I294=\"\",\"\",Main!O142)","v":"XXXXXXXXXX"},{"$f":"IF(I294=\"\",\"\",Main!P142)","v":"Inter-I"},{"$f":"IF(I294=\"\",\"\",Main!Q142)","v":"2010-2011"},{"$f":"IF(I294=\"\",\"\",Main!R142)","v":"Abdul Kalam Jr Coolege"},{"$f":"IF(Main!S142=\"\",\"\",Main!S142)","v":1000},null,1]
[null,null,null,null,{"$f":"IF(I295=\"\",\"\",Main!J142)","v":"K.V.Sai Sujith"},{"$f":"IF(I295=\"\",\"\",Main!K142)","v":"VIII"},{"$f":"IF(I295=\"\",\"\",Main!L142)","v":"2010-2011"},{"$f":"IF(I295=\"\",\"\",Main!M142)","v":"Rathnam High School, Nelore"},{"$f":"IF(Main!N142=\"\",\"\",Main!N142)","v":1000},null,1,{"$f":"K295","v":1}]
[{"$f":"IF(K297=\"\",\"\",SUM($L$18:L297))","v":140},{"$f":"IF(I297=\"\",\"\",CONCATENATE(Main!C143,\", \",Main!D143,IF(Main!F143>0,CONCATENATE(\", \",Main!F143),\"\")))","v":"K.V.RAVANAMMA, SA (English), MPUPS, Dasaripalli"},null,null,{"$f":"IF(I296=\"\",\"\",Main!O143)","v":"XXXXXXXXXX"},{"$f":"IF(I296=\"\",\"\",Main!P143)","v":"Inter-I"},{"$f":"IF(I296=\"\",\"\",Main!Q143)","v":"2010-2011"},{"$f":"IF(I296=\"\",\"\",Main!R143)","v":"Abdul Kalam Jr Coolege"},{"$f":"IF(Main!S143=\"\",\"\",Main!S143)","v":1000},null,1]
[null,null,null,null,{"$f":"IF(I297=\"\",\"\",Main!J143)","v":"K.V.Sai Sujith"},{"$f":"IF(I297=\"\",\"\",Main!K143)","v":"VIII"},{"$f":"IF(I297=\"\",\"\",Main!L143)","v":"2010-2011"},{"$f":"IF(I297=\"\",\"\",Main!M143)","v":"Rathnam High School, Nelore"},{"$f":"IF(Main!N143=\"\",\"\",Main!N143)","v":1000},null,1,{"$f":"K297","v":1}]
[{"$f":"IF(K299=\"\",\"\",SUM($L$18:L299))","v":141},{"$f":"IF(I299=\"\",\"\",CONCATENATE(Main!C144,\", \",Main!D144,IF(Main!F144>0,CONCATENATE(\", \",Main!F144),\"\")))","v":"K.V.RAVANAMMA, SA (English), MPUPS, Dasaripalli"},null,null,{"$f":"IF(I298=\"\",\"\",Main!O144)","v":"XXXXXXXXXX"},{"$f":"IF(I298=\"\",\"\",Main!P144)","v":"Inter-I"},{"$f":"IF(I298=\"\",\"\",Main!Q144)","v":"2010-2011"},{"$f":"IF(I298=\"\",\"\",Main!R144)","v":"Abdul Kalam Jr Coolege"},{"$f":"IF(Main!S144=\"\",\"\",Main!S144)","v":1000},null,1]
[null,null,null,null,{"$f":"IF(I299=\"\",\"\",Main!J144)","v":"K.V.Sai Sujith"},{"$f":"IF(I299=\"\",\"\",Main!K144)","v":"VIII"},{"$f":"IF(I299=\"\",\"\",Main!L144)","v":"2010-2011"},{"$f":"IF(I299=\"\",\"\",Main!M144)","v":"Rathnam High School, Nelore"},{"$f":"IF(Main!N144=\"\",\"\",Main!N144)","v":1000},null,1,{"$f":"K299","v":1}]
[{"$f":"IF(K301=\"\",\"\",SUM($L$18:L301))","v":142},{"$f":"IF(I301=\"\",\"\",CONCATENATE(Main!C145,\", \",Main!D145,IF(Main!F145>0,CONCATENATE(\", \",Main!F145),\"\")))","v":"K.V.RAVANAMMA, SA (English), MPUPS, Dasaripalli"},null,null,{"$f":"IF(I300=\"\",\"\",Main!O145)","v":"XXXXXXXXXX"},{"$f":"IF(I300=\"\",\"\",Main!P145)","v":"Inter-I"},{"$f":"IF(I300=\"\",\"\",Main!Q145)","v":"2010-2011"},{"$f":"IF(I300=\"\",\"\",Main!R145)","v":"Abdul Kalam Jr Coolege"},{"$f":"IF(Main!S145=\"\",\"\",Main!S145)","v":1000},null,1]
[null,null,null,null,{"$f":"IF(I301=\"\",\"\",Main!J145)","v":"K.V.Sai Sujith"},{"$f":"IF(I301=\"\",\"\",Main!K145)","v":"VIII"},{"$f":"IF(I301=\"\",\"\",Main!L145)","v":"2010-2011"},{"$f":"IF(I301=\"\",\"\",Main!M145)","v":"Rathnam High School, Nelore"},{"$f":"IF(Main!N145=\"\",\"\",Main!N145)","v":1000},null,1,{"$f":"K301","v":1}]
[{"$f":"IF(K303=\"\",\"\",SUM($L$18:L303))","v":143},{"$f":"IF(I303=\"\",\"\",CONCATENATE(Main!C146,\", \",Main!D146,IF(Main!F146>0,CONCATENATE(\", \",Main!F146),\"\")))","v":"K.V.RAVANAMMA, SA (English), MPUPS, Dasaripalli"},null,null,{"$f":"IF(I302=\"\",\"\",Main!O146)","v":"XXXXXXXXXX"},{"$f":"IF(I302=\"\",\"\",Main!P146)","v":"Inter-I"},{"$f":"IF(I302=\"\",\"\",Main!Q146)","v":"2010-2011"},{"$f":"IF(I302=\"\",\"\",Main!R146)","v":"Abdul Kalam Jr Coolege"},{"$f":"IF(Main!S146=\"\",\"\",Main!S146)","v":1000},null,1]
[null,null,null,null,{"$f":"IF(I303=\"\",\"\",Main!J146)","v":"K.V.Sai Sujith"},{"$f":"IF(I303=\"\",\"\",Main!K146)","v":"VIII"},{"$f":"IF(I303=\"\",\"\",Main!L146)","v":"2010-2011"},{"$f":"IF(I303=\"\",\"\",Main!M146)","v":"Rathnam High School, Nelore"},{"$f":"IF(Main!N146=\"\",\"\",Main!N146)","v":1000},null,1,{"$f":"K303","v":1}]
[{"$f":"IF(K305=\"\",\"\",SUM($L$18:L305))","v":144},{"$f":"IF(I305=\"\",\"\",CONCATENATE(Main!C147,\", \",Main!D147,IF(Main!F147>0,CONCATENATE(\", \",Main!F147),\"\")))","v":"K.V.RAVANAMMA, SA (English), MPUPS, Dasaripalli"},null,null,{"$f":"IF(I304=\"\",\"\",Main!O147)","v":"XXXXXXXXXX"},{"$f":"IF(I304=\"\",\"\",Main!P147)","v":"Inter-I"},{"$f":"IF(I304=\"\",\"\",Main!Q147)","v":"2010-2011"},{"$f":"IF(I304=\"\",\"\",Main!R147)","v":"Abdul Kalam Jr Coolege"},{"$f":"IF(Main!S147=\"\",\"\",Main!S147)","v":1000},null,1]
[null,null,null,null,{"$f":"IF(I305=\"\",\"\",Main!J147)","v":"K.V.Sai Sujith"},{"$f":"IF(I305=\"\",\"\",Main!K147)","v":"VIII"},{"$f":"IF(I305=\"\",\"\",Main!L147)","v":"2010-2011"},{"$f":"IF(I305=\"\",\"\",Main!M147)","v":"Rathnam High School, Nelore"},{"$f":"IF(Main!N147=\"\",\"\",Main!N147)","v":1000},null,1,{"$f":"K305","v":1}]
[{"$f":"IF(K307=\"\",\"\",SUM($L$18:L307))","v":145},{"$f":"IF(I307=\"\",\"\",CONCATENATE(Main!C148,\", \",Main!D148,IF(Main!F148>0,CONCATENATE(\", \",Main!F148),\"\")))","v":"K.V.RAVANAMMA, SA (English), MPUPS, Dasaripalli"},null,null,{"$f":"IF(I306=\"\",\"\",Main!O148)","v":"XXXXXXXXXX"},{"$f":"IF(I306=\"\",\"\",Main!P148)","v":"Inter-I"},{"$f":"IF(I306=\"\",\"\",Main!Q148)","v":"2010-2011"},{"$f":"IF(I306=\"\",\"\",Main!R148)","v":"Abdul Kalam Jr Coolege"},{"$f":"IF(Main!S148=\"\",\"\",Main!S148)","v":1000},null,1]
[null,null,null,null,{"$f":"IF(I307=\"\",\"\",Main!J148)","v":"K.V.Sai Sujith"},{"$f":"IF(I307=\"\",\"\",Main!K148)","v":"VIII"},{"$f":"IF(I307=\"\",\"\",Main!L148)","v":"2010-2011"},{"$f":"IF(I307=\"\",\"\",Main!M148)","v":"Rathnam High School, Nelore"},{"$f":"IF(Main!N148=\"\",\"\",Main!N148)","v":1000},null,1,{"$f":"K307","v":1}]
[{"$f":"IF(K309=\"\",\"\",SUM($L$18:L309))","v":146},{"$f":"IF(I309=\"\",\"\",CONCATENATE(Main!C149,\", \",Main!D149,IF(Main!F149>0,CONCATENATE(\", \",Main!F149),\"\")))","v":"K.V.RAVANAMMA, SA (English), MPUPS, Dasaripalli"},null,null,{"$f":"IF(I308=\"\",\"\",Main!O149)","v":"XXXXXXXXXX"},{"$f":"IF(I308=\"\",\"\",Main!P149)","v":"Inter-I"},{"$f":"IF(I308=\"\",\"\",Main!Q149)","v":"2010-2011"},{"$f":"IF(I308=\"\",\"\",Main!R149)","v":"Abdul Kalam Jr Coolege"},{"$f":"IF(Main!S149=\"\",\"\",Main!S149)","v":1000},null,1]
[null,null,null,null,{"$f":"IF(I309=\"\",\"\",Main!J149)","v":"K.V.Sai Sujith"},{"$f":"IF(I309=\"\",\"\",Main!K149)","v":"VIII"},{"$f":"IF(I309=\"\",\"\",Main!L149)","v":"2010-2011"},{"$f":"IF(I309=\"\",\"\",Main!M149)","v":"Rathnam High School, Nelore"},{"$f":"IF(Main!N149=\"\",\"\",Main!N149)","v":1000},null,1,{"$f":"K309","v":1}]
[{"$f":"IF(K311=\"\",\"\",SUM($L$18:L311))","v":147},{"$f":"IF(I311=\"\",\"\",CONCATENATE(Main!C150,\", \",Main!D150,IF(Main!F150>0,CONCATENATE(\", \",Main!F150),\"\")))","v":"K.V.RAVANAMMA, SA (English), MPUPS, Dasaripalli"},null,null,{"$f":"IF(I310=\"\",\"\",Main!O150)","v":"XXXXXXXXXX"},{"$f":"IF(I310=\"\",\"\",Main!P150)","v":"Inter-I"},{"$f":"IF(I310=\"\",\"\",Main!Q150)","v":"2010-2011"},{"$f":"IF(I310=\"\",\"\",Main!R150)","v":"Abdul Kalam Jr Coolege"},{"$f":"IF(Main!S150=\"\",\"\",Main!S150)","v":1000},null,1]
[null,null,null,null,{"$f":"IF(I311=\"\",\"\",Main!J150)","v":"K.V.Sai Sujith"},{"$f":"IF(I311=\"\",\"\",Main!K150)","v":"VIII"},{"$f":"IF(I311=\"\",\"\",Main!L150)","v":"2010-2011"},{"$f":"IF(I311=\"\",\"\",Main!M150)","v":"Rathnam High School, Nelore"},{"$f":"IF(Main!N150=\"\",\"\",Main!N150)","v":1000},null,1,{"$f":"K311","v":1}]
[{"$f":"IF(K313=\"\",\"\",SUM($L$18:L313))","v":148},{"$f":"IF(I313=\"\",\"\",CONCATENATE(Main!C151,\", \",Main!D151,IF(Main!F151>0,CONCATENATE(\", \",Main!F151),\"\")))","v":"K.V.RAVANAMMA, SA (English), MPUPS, Dasaripalli"},null,null,{"$f":"IF(I312=\"\",\"\",Main!O151)","v":"XXXXXXXXXX"},{"$f":"IF(I312=\"\",\"\",Main!P151)","v":"Inter-I"},{"$f":"IF(I312=\"\",\"\",Main!Q151)","v":"2010-2011"},{"$f":"IF(I312=\"\",\"\",Main!R151)","v":"Abdul Kalam Jr Coolege"},{"$f":"IF(Main!S151=\"\",\"\",Main!S151)","v":1000},null,1]
[null,null,null,null,{"$f":"IF(I313=\"\",\"\",Main!J151)","v":"K.V.Sai Sujith"},{"$f":"IF(I313=\"\",\"\",Main!K151)","v":"VIII"},{"$f":"IF(I313=\"\",\"\",Main!L151)","v":"2010-2011"},{"$f":"IF(I313=\"\",\"\",Main!M151)","v":"Rathnam High School, Nelore"},{"$f":"IF(Main!N151=\"\",\"\",Main!N151)","v":1000},null,1,{"$f":"K313","v":1}]
[{"$f":"IF(K315=\"\",\"\",SUM($L$18:L315))","v":149},{"$f":"IF(I315=\"\",\"\",CONCATENATE(Main!C152,\", \",Main!D152,IF(Main!F152>0,CONCATENATE(\", \",Main!F152),\"\")))","v":"K.V.RAVANAMMA, SA (English), MPUPS, Dasaripalli"},null,null,{"$f":"IF(I314=\"\",\"\",Main!O152)","v":"XXXXXXXXXX"},{"$f":"IF(I314=\"\",\"\",Main!P152)","v":"Inter-I"},{"$f":"IF(I314=\"\",\"\",Main!Q152)","v":"2010-2011"},{"$f":"IF(I314=\"\",\"\",Main!R152)","v":"Abdul Kalam Jr Coolege"},{"$f":"IF(Main!S152=\"\",\"\",Main!S152)","v":1000},null,1]
[null,null,null,null,{"$f":"IF(I315=\"\",\"\",Main!J152)","v":"K.V.Sai Sujith"},{"$f":"IF(I315=\"\",\"\",Main!K152)","v":"VIII"},{"$f":"IF(I315=\"\",\"\",Main!L152)","v":"2010-2011"},{"$f":"IF(I315=\"\",\"\",Main!M152)","v":"Rathnam High School, Nelore"},{"$f":"IF(Main!N152=\"\",\"\",Main!N152)","v":1000},null,1,{"$f":"K315","v":1}]
[{"$f":"IF(K317=\"\",\"\",SUM($L$18:L317))","v":150},{"$f":"IF(I317=\"\",\"\",CONCATENATE(Main!C153,\", \",Main!D153,IF(Main!F153>0,CONCATENATE(\", \",Main!F153),\"\")))","v":"K.V.RAVANAMMA, SA (English), MPUPS, Dasaripalli"},null,null,{"$f":"IF(I316=\"\",\"\",Main!O153)","v":"XXXXXXXXXX"},{"$f":"IF(I316=\"\",\"\",Main!P153)","v":"Inter-I"},{"$f":"IF(I316=\"\",\"\",Main!Q153)","v":"2010-2011"},{"$f":"IF(I316=\"\",\"\",Main!R153)","v":"Abdul Kalam Jr Coolege"},{"$f":"IF(Main!S153=\"\",\"\",Main!S153)","v":1000},null,1]
[null,null,null,null,{"$f":"IF(I317=\"\",\"\",Main!J153)","v":"K.V.Sai Sujith"},{"$f":"IF(I317=\"\",\"\",Main!K153)","v":"VIII"},{"$f":"IF(I317=\"\",\"\",Main!L153)","v":"2010-2011"},{"$f":"IF(I317=\"\",\"\",Main!M153)","v":"Rathnam High School, Nelore"},{"$f":"IF(Main!N153=\"\",\"\",Main!N153)","v":1000},null,1,{"$f":"K317","v":1}]
[{"$f":"IF(K319=\"\",\"\",SUM($L$18:L319))","v":151},{"$f":"IF(I319=\"\",\"\",CONCATENATE(Main!C154,\", \",Main!D154,IF(Main!F154>0,CONCATENATE(\", \",Main!F154),\"\")))","v":"K.V.RAVANAMMA, SA (English), MPUPS, Dasaripalli"},null,null,{"$f":"IF(I318=\"\",\"\",Main!O154)","v":"XXXXXXXXXX"},{"$f":"IF(I318=\"\",\"\",Main!P154)","v":"Inter-I"},{"$f":"IF(I318=\"\",\"\",Main!Q154)","v":"2010-2011"},{"$f":"IF(I318=\"\",\"\",Main!R154)","v":"Abdul Kalam Jr Coolege"},{"$f":"IF(Main!S154=\"\",\"\",Main!S154)","v":1000},null,1]
[null,null,null,null,{"$f":"IF(I319=\"\",\"\",Main!J154)","v":"K.V.Sai Sujith"},{"$f":"IF(I319=\"\",\"\",Main!K154)","v":"VIII"},{"$f":"IF(I319=\"\",\"\",Main!L154)","v":"2010-2011"},{"$f":"IF(I319=\"\",\"\",Main!M154)","v":"Rathnam High School, Nelore"},{"$f":"IF(Main!N154=\"\",\"\",Main!N154)","v":1000},null,1,{"$f":"K319","v":1}]
[{"$f":"IF(K321=\"\",\"\",SUM($L$18:L321))","v":152},{"$f":"IF(I321=\"\",\"\",CONCATENATE(Main!C155,\", \",Main!D155,IF(Main!F155>0,CONCATENATE(\", \",Main!F155),\"\")))","v":"K.V.RAVANAMMA, SA (English), MPUPS, Dasaripalli"},null,null,{"$f":"IF(I320=\"\",\"\",Main!O155)","v":"XXXXXXXXXX"},{"$f":"IF(I320=\"\",\"\",Main!P155)","v":"Inter-I"},{"$f":"IF(I320=\"\",\"\",Main!Q155)","v":"2010-2011"},{"$f":"IF(I320=\"\",\"\",Main!R155)","v":"Abdul Kalam Jr Coolege"},{"$f":"IF(Main!S155=\"\",\"\",Main!S155)","v":1000},null,1]
[null,null,null,null,{"$f":"IF(I321=\"\",\"\",Main!J155)","v":"K.V.Sai Sujith"},{"$f":"IF(I321=\"\",\"\",Main!K155)","v":"VIII"},{"$f":"IF(I321=\"\",\"\",Main!L155)","v":"2010-2011"},{"$f":"IF(I321=\"\",\"\",Main!M155)","v":"Rathnam High School, Nelore"},{"$f":"IF(Main!N155=\"\",\"\",Main!N155)","v":1000},null,1,{"$f":"K321","v":1}]
[{"$f":"IF(K323=\"\",\"\",SUM($L$18:L323))","v":153},{"$f":"IF(I323=\"\",\"\",CONCATENATE(Main!C156,\", \",Main!D156,IF(Main!F156>0,CONCATENATE(\", \",Main!F156),\"\")))","v":"K.V.RAVANAMMA, SA (English), MPUPS, Dasaripalli"},null,null,{"$f":"IF(I322=\"\",\"\",Main!O156)","v":"XXXXXXXXXX"},{"$f":"IF(I322=\"\",\"\",Main!P156)","v":"Inter-I"},{"$f":"IF(I322=\"\",\"\",Main!Q156)","v":"2010-2011"},{"$f":"IF(I322=\"\",\"\",Main!R156)","v":"Abdul Kalam Jr Coolege"},{"$f":"IF(Main!S156=\"\",\"\",Main!S156)","v":1000},null,1]
[null,null,null,null,{"$f":"IF(I323=\"\",\"\",Main!J156)","v":"K.V.Sai Sujith"},{"$f":"IF(I323=\"\",\"\",Main!K156)","v":"VIII"},{"$f":"IF(I323=\"\",\"\",Main!L156)","v":"2010-2011"},{"$f":"IF(I323=\"\",\"\",Main!M156)","v":"Rathnam High School, Nelore"},{"$f":"IF(Main!N156=\"\",\"\",Main!N156)","v":1000},null,1,{"$f":"K323","v":1}]
[{"$f":"IF(K325=\"\",\"\",SUM($L$18:L325))","v":154},{"$f":"IF(I325=\"\",\"\",CONCATENATE(Main!C157,\", \",Main!D157,IF(Main!F157>0,CONCATENATE(\", \",Main!F157),\"\")))","v":"K.V.RAVANAMMA, SA (English), MPUPS, Dasaripalli"},null,null,{"$f":"IF(I324=\"\",\"\",Main!O157)","v":"XXXXXXXXXX"},{"$f":"IF(I324=\"\",\"\",Main!P157)","v":"Inter-I"},{"$f":"IF(I324=\"\",\"\",Main!Q157)","v":"2010-2011"},{"$f":"IF(I324=\"\",\"\",Main!R157)","v":"Abdul Kalam Jr Coolege"},{"$f":"IF(Main!S157=\"\",\"\",Main!S157)","v":1000},null,1]
[null,null,null,null,{"$f":"IF(I325=\"\",\"\",Main!J157)","v":"K.V.Sai Sujith"},{"$f":"IF(I325=\"\",\"\",Main!K157)","v":"VIII"},{"$f":"IF(I325=\"\",\"\",Main!L157)","v":"2010-2011"},{"$f":"IF(I325=\"\",\"\",Main!M157)","v":"Rathnam High School, Nelore"},{"$f":"IF(Main!N157=\"\",\"\",Main!N157)","v":1000},null,1,{"$f":"K325","v":1}]
[{"$f":"IF(K327=\"\",\"\",SUM($L$18:L327))","v":155},{"$f":"IF(I327=\"\",\"\",CONCATENATE(Main!C158,\", \",Main!D158,IF(Main!F158>0,CONCATENATE(\", \",Main!F158),\"\")))","v":"K.V.RAVANAMMA, SA (English), MPUPS, Dasaripalli"},null,null,{"$f":"IF(I326=\"\",\"\",Main!O158)","v":"XXXXXXXXXX"},{"$f":"IF(I326=\"\",\"\",Main!P158)","v":"Inter-I"},{"$f":"IF(I326=\"\",\"\",Main!Q158)","v":"2010-2011"},{"$f":"IF(I326=\"\",\"\",Main!R158)","v":"Abdul Kalam Jr Coolege"},{"$f":"IF(Main!S158=\"\",\"\",Main!S158)","v":1000},null,1]
[null,null,null,null,{"$f":"IF(I327=\"\",\"\",Main!J158)","v":"K.V.Sai Sujith"},{"$f":"IF(I327=\"\",\"\",Main!K158)","v":"VIII"},{"$f":"IF(I327=\"\",\"\",Main!L158)","v":"2010-2011"},{"$f":"IF(I327=\"\",\"\",Main!M158)","v":"Rathnam High School, Nelore"},{"$f":"IF(Main!N158=\"\",\"\",Main!N158)","v":1000},null,1,{"$f":"K327","v":1}]
[{"$f":"IF(K329=\"\",\"\",SUM($L$18:L329))","v":156},{"$f":"IF(I329=\"\",\"\",CONCATENATE(Main!C159,\", \",Main!D159,IF(Main!F159>0,CONCATENATE(\", \",Main!F159),\"\")))","v":"K.V.RAVANAMMA, SA (English), MPUPS, Dasaripalli"},null,null,{"$f":"IF(I328=\"\",\"\",Main!O159)","v":"XXXXXXXXXX"},{"$f":"IF(I328=\"\",\"\",Main!P159)","v":"Inter-I"},{"$f":"IF(I328=\"\",\"\",Main!Q159)","v":"2010-2011"},{"$f":"IF(I328=\"\",\"\",Main!R159)","v":"Abdul Kalam Jr Coolege"},{"$f":"IF(Main!S159=\"\",\"\",Main!S159)","v":1000},null,1]
[null,null,null,null,{"$f":"IF(I329=\"\",\"\",Main!J159)","v":"K.V.Sai Sujith"},{"$f":"IF(I329=\"\",\"\",Main!K159)","v":"VIII"},{"$f":"IF(I329=\"\",\"\",Main!L159)","v":"2010-2011"},{"$f":"IF(I329=\"\",\"\",Main!M159)","v":"Rathnam High School, Nelore"},{"$f":"IF(Main!N159=\"\",\"\",Main!N159)","v":1000},null,1,{"$f":"K329","v":1}]
[{"$f":"IF(K331=\"\",\"\",SUM($L$18:L331))","v":157},{"$f":"IF(I331=\"\",\"\",CONCATENATE(Main!C160,\", \",Main!D160,IF(Main!F160>0,CONCATENATE(\", \",Main!F160),\"\")))","v":"K.V.RAVANAMMA, SA (English), MPUPS, Dasaripalli"},null,null,{"$f":"IF(I330=\"\",\"\",Main!O160)","v":"XXXXXXXXXX"},{"$f":"IF(I330=\"\",\"\",Main!P160)","v":"Inter-I"},{"$f":"IF(I330=\"\",\"\",Main!Q160)","v":"2010-2011"},{"$f":"IF(I330=\"\",\"\",Main!R160)","v":"Abdul Kalam Jr Coolege"},{"$f":"IF(Main!S160=\"\",\"\",Main!S160)","v":1000},null,1]
[null,null,null,null,{"$f":"IF(I331=\"\",\"\",Main!J160)","v":"K.V.Sai Sujith"},{"$f":"IF(I331=\"\",\"\",Main!K160)","v":"VIII"},{"$f":"IF(I331=\"\",\"\",Main!L160)","v":"2010-2011"},{"$f":"IF(I331=\"\",\"\",Main!M160)","v":"Rathnam High School, Nelore"},{"$f":"IF(Main!N160=\"\",\"\",Main!N160)","v":1000},null,1,{"$f":"K331","v":1}]
[{"$f":"IF(K333=\"\",\"\",SUM($L$18:L333))","v":158},{"$f":"IF(I333=\"\",\"\",CONCATENATE(Main!C161,\", \",Main!D161,IF(Main!F161>0,CONCATENATE(\", \",Main!F161),\"\")))","v":"K.V.RAVANAMMA, SA (English), MPUPS, Dasaripalli"},null,null,{"$f":"IF(I332=\"\",\"\",Main!O161)","v":"XXXXXXXXXX"},{"$f":"IF(I332=\"\",\"\",Main!P161)","v":"Inter-I"},{"$f":"IF(I332=\"\",\"\",Main!Q161)","v":"2010-2011"},{"$f":"IF(I332=\"\",\"\",Main!R161)","v":"Abdul Kalam Jr Coolege"},{"$f":"IF(Main!S161=\"\",\"\",Main!S161)","v":1000},null,1]
[null,null,null,null,{"$f":"IF(I333=\"\",\"\",Main!J161)","v":"K.V.Sai Sujith"},{"$f":"IF(I333=\"\",\"\",Main!K161)","v":"VIII"},{"$f":"IF(I333=\"\",\"\",Main!L161)","v":"2010-2011"},{"$f":"IF(I333=\"\",\"\",Main!M161)","v":"Rathnam High School, Nelore"},{"$f":"IF(Main!N161=\"\",\"\",Main!N161)","v":1000},null,1,{"$f":"K333","v":1}]
[{"$f":"IF(K335=\"\",\"\",SUM($L$18:L335))","v":159},{"$f":"IF(I335=\"\",\"\",CONCATENATE(Main!C162,\", \",Main!D162,IF(Main!F162>0,CONCATENATE(\", \",Main!F162),\"\")))","v":"K.V.RAVANAMMA, SA (English), MPUPS, Dasaripalli"},null,null,{"$f":"IF(I334=\"\",\"\",Main!O162)","v":"XXXXXXXXXX"},{"$f":"IF(I334=\"\",\"\",Main!P162)","v":"Inter-I"},{"$f":"IF(I334=\"\",\"\",Main!Q162)","v":"2010-2011"},{"$f":"IF(I334=\"\",\"\",Main!R162)","v":"Abdul Kalam Jr Coolege"},{"$f":"IF(Main!S162=\"\",\"\",Main!S162)","v":1000},null,1]
[null,null,null,null,{"$f":"IF(I335=\"\",\"\",Main!J162)","v":"K.V.Sai Sujith"},{"$f":"IF(I335=\"\",\"\",Main!K162)","v":"VIII"},{"$f":"IF(I335=\"\",\"\",Main!L162)","v":"2010-2011"},{"$f":"IF(I335=\"\",\"\",Main!M162)","v":"Rathnam High School, Nelore"},{"$f":"IF(Main!N162=\"\",\"\",Main!N162)","v":1000},null,1,{"$f":"K335","v":1}]
[{"$f":"IF(K337=\"\",\"\",SUM($L$18:L337))","v":160},{"$f":"IF(I337=\"\",\"\",CONCATENATE(Main!C163,\", \",Main!D163,IF(Main!F163>0,CONCATENATE(\", \",Main!F163),\"\")))","v":"K.V.RAVANAMMA, SA (English), MPUPS, Dasaripalli"},null,null,{"$f":"IF(I336=\"\",\"\",Main!O163)","v":"XXXXXXXXXX"},{"$f":"IF(I336=\"\",\"\",Main!P163)","v":"Inter-I"},{"$f":"IF(I336=\"\",\"\",Main!Q163)","v":"2010-2011"},{"$f":"IF(I336=\"\",\"\",Main!R163)","v":"Abdul Kalam Jr Coolege"},{"$f":"IF(Main!S163=\"\",\"\",Main!S163)","v":1000},null,1]
[null,null,null,null,{"$f":"IF(I337=\"\",\"\",Main!J163)","v":"K.V.Sai Sujith"},{"$f":"IF(I337=\"\",\"\",Main!K163)","v":"VIII"},{"$f":"IF(I337=\"\",\"\",Main!L163)","v":"2010-2011"},{"$f":"IF(I337=\"\",\"\",Main!M163)","v":"Rathnam High School, Nelore"},{"$f":"IF(Main!N163=\"\",\"\",Main!N163)","v":1000},null,1,{"$f":"K337","v":1}]
[{"$f":"IF(K339=\"\",\"\",SUM($L$18:L339))","v":161},{"$f":"IF(I339=\"\",\"\",CONCATENATE(Main!C164,\", \",Main!D164,IF(Main!F164>0,CONCATENATE(\", \",Main!F164),\"\")))","v":"K.V.RAVANAMMA, SA (English), MPUPS, Dasaripalli"},null,null,{"$f":"IF(I338=\"\",\"\",Main!O164)","v":"XXXXXXXXXX"},{"$f":"IF(I338=\"\",\"\",Main!P164)","v":"Inter-I"},{"$f":"IF(I338=\"\",\"\",Main!Q164)","v":"2010-2011"},{"$f":"IF(I338=\"\",\"\",Main!R164)","v":"Abdul Kalam Jr Coolege"},{"$f":"IF(Main!S164=\"\",\"\",Main!S164)","v":1000},null,1]
[null,null,null,null,{"$f":"IF(I339=\"\",\"\",Main!J164)","v":"K.V.Sai Sujith"},{"$f":"IF(I339=\"\",\"\",Main!K164)","v":"VIII"},{"$f":"IF(I339=\"\",\"\",Main!L164)","v":"2010-2011"},{"$f":"IF(I339=\"\",\"\",Main!M164)","v":"Rathnam High School, Nelore"},{"$f":"IF(Main!N164=\"\",\"\",Main!N164)","v":1000},null,{"$f":"IF(I339=\"\",\"\",1)","v":1},{"$f":"K339","v":1}]
[{"$f":"IF(K341=\"\",\"\",SUM($L$18:L341))","v":162},{"$f":"IF(I341=\"\",\"\",CONCATENATE(Main!C165,\", \",Main!D165,IF(Main!F165>0,CONCATENATE(\", \",Main!F165),\"\")))","v":"K.V.RAVANAMMA, SA (English), MPUPS, Dasaripalli"},null,null,{"$f":"IF(I340=\"\",\"\",Main!O165)","v":"XXXXXXXXXX"},{"$f":"IF(I340=\"\",\"\",Main!P165)","v":"Inter-I"},{"$f":"IF(I340=\"\",\"\",Main!Q165)","v":"2010-2011"},{"$f":"IF(I340=\"\",\"\",Main!R165)","v":"Abdul Kalam Jr Coolege"},{"$f":"IF(Main!S165=\"\",\"\",Main!S165)","v":1000},null,1]
[null,null,null,null,{"$f":"IF(I341=\"\",\"\",Main!J165)","v":"K.V.Sai Sujith"},{"$f":"IF(I341=\"\",\"\",Main!K165)","v":"VIII"},{"$f":"IF(I341=\"\",\"\",Main!L165)","v":"2010-2011"},{"$f":"IF(I341=\"\",\"\",Main!M165)","v":"Rathnam High School, Nelore"},{"$f":"IF(Main!N165=\"\",\"\",Main!N165)","v":1000},null,1,{"$f":"K341","v":1}]
[{"$f":"IF(K343=\"\",\"\",SUM($L$18:L343))","v":163},{"$f":"IF(I343=\"\",\"\",CONCATENATE(Main!C166,\", \",Main!D166,IF(Main!F166>0,CONCATENATE(\", \",Main!F166),\"\")))","v":"K.V.RAVANAMMA, SA (English), MPUPS, Dasaripalli"},null,null,{"$f":"IF(I342=\"\",\"\",Main!O166)","v":"XXXXXXXXXX"},{"$f":"IF(I342=\"\",\"\",Main!P166)","v":"Inter-I"},{"$f":"IF(I342=\"\",\"\",Main!Q166)","v":"2010-2011"},{"$f":"IF(I342=\"\",\"\",Main!R166)","v":"Abdul Kalam Jr Coolege"},{"$f":"IF(Main!S166=\"\",\"\",Main!S166)","v":1000},null,1]
[null,null,null,null,{"$f":"IF(I343=\"\",\"\",Main!J166)","v":"K.V.Sai Sujith"},{"$f":"IF(I343=\"\",\"\",Main!K166)","v":"VIII"},{"$f":"IF(I343=\"\",\"\",Main!L166)","v":"2010-2011"},{"$f":"IF(I343=\"\",\"\",Main!M166)","v":"Rathnam High School, Nelore"},{"$f":"IF(Main!N166=\"\",\"\",Main!N166)","v":1000},null,1,{"$f":"K343","v":1}]
[{"$f":"IF(K345=\"\",\"\",SUM($L$18:L345))","v":164},{"$f":"IF(I345=\"\",\"\",CONCATENATE(Main!C167,\", \",Main!D167,IF(Main!F167>0,CONCATENATE(\", \",Main!F167),\"\")))","v":"K.V.RAVANAMMA, SA (English), MPUPS, Dasaripalli"},null,null,{"$f":"IF(I344=\"\",\"\",Main!O167)","v":"XXXXXXXXXX"},{"$f":"IF(I344=\"\",\"\",Main!P167)","v":"Inter-I"},{"$f":"IF(I344=\"\",\"\",Main!Q167)","v":"2010-2011"},{"$f":"IF(I344=\"\",\"\",Main!R167)","v":"Abdul Kalam Jr Coolege"},{"$f":"IF(Main!S167=\"\",\"\",Main!S167)","v":1000},null,1]
[null,null,null,null,{"$f":"IF(I345=\"\",\"\",Main!J167)","v":"K.V.Sai Sujith"},{"$f":"IF(I345=\"\",\"\",Main!K167)","v":"VIII"},{"$f":"IF(I345=\"\",\"\",Main!L167)","v":"2010-2011"},{"$f":"IF(I345=\"\",\"\",Main!M167)","v":"Rathnam High School, Nelore"},{"$f":"IF(Main!N167=\"\",\"\",Main!N167)","v":1000},null,1,{"$f":"K345","v":1}]
[{"$f":"IF(K347=\"\",\"\",SUM($L$18:L347))","v":165},{"$f":"IF(I347=\"\",\"\",CONCATENATE(Main!C168,\", \",Main!D168,IF(Main!F168>0,CONCATENATE(\", \",Main!F168),\"\")))","v":"K.V.RAVANAMMA, SA (English), MPUPS, Dasaripalli"},null,null,{"$f":"IF(I346=\"\",\"\",Main!O168)","v":"XXXXXXXXXX"},{"$f":"IF(I346=\"\",\"\",Main!P168)","v":"Inter-I"},{"$f":"IF(I346=\"\",\"\",Main!Q168)","v":"2010-2011"},{"$f":"IF(I346=\"\",\"\",Main!R168)","v":"Abdul Kalam Jr Coolege"},{"$f":"IF(Main!S168=\"\",\"\",Main!S168)","v":1000},null,1]
[null,null,null,null,{"$f":"IF(I347=\"\",\"\",Main!J168)","v":"K.V.Sai Sujith"},{"$f":"IF(I347=\"\",\"\",Main!K168)","v":"VIII"},{"$f":"IF(I347=\"\",\"\",Main!L168)","v":"2010-2011"},{"$f":"IF(I347=\"\",\"\",Main!M168)","v":"Rathnam High School, Nelore"},{"$f":"IF(Main!N168=\"\",\"\",Main!N168)","v":1000},null,1,{"$f":"K347","v":1}]
[{"$f":"IF(K349=\"\",\"\",SUM($L$18:L349))","v":166},{"$f":"IF(I349=\"\",\"\",CONCATENATE(Main!C169,\", \",Main!D169,IF(Main!F169>0,CONCATENATE(\", \",Main!F169),\"\")))","v":"K.V.RAVANAMMA, SA (English), MPUPS, Dasaripalli"},null,null,{"$f":"IF(I348=\"\",\"\",Main!O169)","v":"XXXXXXXXXX"},{"$f":"IF(I348=\"\",\"\",Main!P169)","v":"Inter-I"},{"$f":"IF(I348=\"\",\"\",Main!Q169)","v":"2010-2011"},{"$f":"IF(I348=\"\",\"\",Main!R169)","v":"Abdul Kalam Jr Coolege"},{"$f":"IF(Main!S169=\"\",\"\",Main!S169)","v":1000},null,1]
[null,null,null,null,{"$f":"IF(I349=\"\",\"\",Main!J169)","v":"K.V.Sai Sujith"},{"$f":"IF(I349=\"\",\"\",Main!K169)","v":"VIII"},{"$f":"IF(I349=\"\",\"\",Main!L169)","v":"2010-2011"},{"$f":"IF(I349=\"\",\"\",Main!M169)","v":"Rathnam High School, Nelore"},{"$f":"IF(Main!N169=\"\",\"\",Main!N169)","v":1000},null,1,{"$f":"K349","v":1}]
[{"$f":"IF(K351=\"\",\"\",SUM($L$18:L351))","v":167},{"$f":"IF(I351=\"\",\"\",CONCATENATE(Main!C170,\", \",Main!D170,IF(Main!F170>0,CONCATENATE(\", \",Main!F170),\"\")))","v":"K.V.RAVANAMMA, SA (English), MPUPS, Dasaripalli"},null,null,{"$f":"IF(I350=\"\",\"\",Main!O170)","v":"XXXXXXXXXX"},{"$f":"IF(I350=\"\",\"\",Main!P170)","v":"Inter-I"},{"$f":"IF(I350=\"\",\"\",Main!Q170)","v":"2010-2011"},{"$f":"IF(I350=\"\",\"\",Main!R170)","v":"Abdul Kalam Jr Coolege"},{"$f":"IF(Main!S170=\"\",\"\",Main!S170)","v":1000},null,1]
[null,null,null,null,{"$f":"IF(I351=\"\",\"\",Main!J170)","v":"K.V.Sai Sujith"},{"$f":"IF(I351=\"\",\"\",Main!K170)","v":"VIII"},{"$f":"IF(I351=\"\",\"\",Main!L170)","v":"2010-2011"},{"$f":"IF(I351=\"\",\"\",Main!M170)","v":"Rathnam High School, Nelore"},{"$f":"IF(Main!N170=\"\",\"\",Main!N170)","v":1000},null,1,{"$f":"K351","v":1}]
[{"$f":"IF(K353=\"\",\"\",SUM($L$18:L353))","v":168},{"$f":"IF(I353=\"\",\"\",CONCATENATE(Main!C171,\", \",Main!D171,IF(Main!F171>0,CONCATENATE(\", \",Main!F171),\"\")))","v":"K.V.RAVANAMMA, SA (English), MPUPS, Dasaripalli"},null,null,{"$f":"IF(I352=\"\",\"\",Main!O171)","v":"XXXXXXXXXX"},{"$f":"IF(I352=\"\",\"\",Main!P171)","v":"Inter-I"},{"$f":"IF(I352=\"\",\"\",Main!Q171)","v":"2010-2011"},{"$f":"IF(I352=\"\",\"\",Main!R171)","v":"Abdul Kalam Jr Coolege"},{"$f":"IF(Main!S171=\"\",\"\",Main!S171)","v":1000},null,1]
[null,null,null,null,{"$f":"IF(I353=\"\",\"\",Main!J171)","v":"K.V.Sai Sujith"},{"$f":"IF(I353=\"\",\"\",Main!K171)","v":"VIII"},{"$f":"IF(I353=\"\",\"\",Main!L171)","v":"2010-2011"},{"$f":"IF(I353=\"\",\"\",Main!M171)","v":"Rathnam High School, Nelore"},{"$f":"IF(Main!N171=\"\",\"\",Main!N171)","v":1000},null,1,{"$f":"K353","v":1}]
[{"$f":"IF(K355=\"\",\"\",SUM($L$18:L355))","v":169},{"$f":"IF(I355=\"\",\"\",CONCATENATE(Main!C172,\", \",Main!D172,IF(Main!F172>0,CONCATENATE(\", \",Main!F172),\"\")))","v":"K.V.RAVANAMMA, SA (English), MPUPS, Dasaripalli"},null,null,{"$f":"IF(I354=\"\",\"\",Main!O172)","v":"XXXXXXXXXX"},{"$f":"IF(I354=\"\",\"\",Main!P172)","v":"Inter-I"},{"$f":"IF(I354=\"\",\"\",Main!Q172)","v":"2010-2011"},{"$f":"IF(I354=\"\",\"\",Main!R172)","v":"Abdul Kalam Jr Coolege"},{"$f":"IF(Main!S172=\"\",\"\",Main!S172)","v":1000},null,1]
[null,null,null,null,{"$f":"IF(I355=\"\",\"\",Main!J172)","v":"K.V.Sai Sujith"},{"$f":"IF(I355=\"\",\"\",Main!K172)","v":"VIII"},{"$f":"IF(I355=\"\",\"\",Main!L172)","v":"2010-2011"},{"$f":"IF(I355=\"\",\"\",Main!M172)","v":"Rathnam High School, Nelore"},{"$f":"IF(Main!N172=\"\",\"\",Main!N172)","v":1000},null,1,{"$f":"K355","v":1}]
[{"$f":"IF(K357=\"\",\"\",SUM($L$18:L357))","v":170},{"$f":"IF(I357=\"\",\"\",CONCATENATE(Main!C173,\", \",Main!D173,IF(Main!F173>0,CONCATENATE(\", \",Main!F173),\"\")))","v":"K.V.RAVANAMMA, SA (English), MPUPS, Dasaripalli"},null,null,{"$f":"IF(I356=\"\",\"\",Main!O173)","v":"XXXXXXXXXX"},{"$f":"IF(I356=\"\",\"\",Main!P173)","v":"Inter-I"},{"$f":"IF(I356=\"\",\"\",Main!Q173)","v":"2010-2011"},{"$f":"IF(I356=\"\",\"\",Main!R173)","v":"Abdul Kalam Jr Coolege"},{"$f":"IF(Main!S173=\"\",\"\",Main!S173)","v":1000},null,1]
[null,null,null,null,{"$f":"IF(I357=\"\",\"\",Main!J173)","v":"K.V.Sai Sujith"},{"$f":"IF(I357=\"\",\"\",Main!K173)","v":"VIII"},{"$f":"IF(I357=\"\",\"\",Main!L173)","v":"2010-2011"},{"$f":"IF(I357=\"\",\"\",Main!M173)","v":"Rathnam High School, Nelore"},{"$f":"IF(Main!N173=\"\",\"\",Main!N173)","v":1000},null,1,{"$f":"K357","v":1}]
[{"$f":"IF(K359=\"\",\"\",SUM($L$18:L359))","v":171},{"$f":"IF(I359=\"\",\"\",CONCATENATE(Main!C174,\", \",Main!D174,IF(Main!F174>0,CONCATENATE(\", \",Main!F174),\"\")))","v":"K.V.RAVANAMMA, SA (English), MPUPS, Dasaripalli"},null,null,{"$f":"IF(I358=\"\",\"\",Main!O174)","v":"XXXXXXXXXX"},{"$f":"IF(I358=\"\",\"\",Main!P174)","v":"Inter-I"},{"$f":"IF(I358=\"\",\"\",Main!Q174)","v":"2010-2011"},{"$f":"IF(I358=\"\",\"\",Main!R174)","v":"Abdul Kalam Jr Coolege"},{"$f":"IF(Main!S174=\"\",\"\",Main!S174)","v":1000},null,1]
[null,null,null,null,{"$f":"IF(I359=\"\",\"\",Main!J174)","v":"K.V.Sai Sujith"},{"$f":"IF(I359=\"\",\"\",Main!K174)","v":"VIII"},{"$f":"IF(I359=\"\",\"\",Main!L174)","v":"2010-2011"},{"$f":"IF(I359=\"\",\"\",Main!M174)","v":"Rathnam High School, Nelore"},{"$f":"IF(Main!N174=\"\",\"\",Main!N174)","v":1000},null,1,{"$f":"K359","v":1}]
[{"$f":"IF(K361=\"\",\"\",SUM($L$18:L361))","v":172},{"$f":"IF(I361=\"\",\"\",CONCATENATE(Main!C175,\", \",Main!D175,IF(Main!F175>0,CONCATENATE(\", \",Main!F175),\"\")))","v":"K.V.RAVANAMMA, SA (English), MPUPS, Dasaripalli"},null,null,{"$f":"IF(I360=\"\",\"\",Main!O175)","v":"XXXXXXXXXX"},{"$f":"IF(I360=\"\",\"\",Main!P175)","v":"Inter-I"},{"$f":"IF(I360=\"\",\"\",Main!Q175)","v":"2010-2011"},{"$f":"IF(I360=\"\",\"\",Main!R175)","v":"Abdul Kalam Jr Coolege"},{"$f":"IF(Main!S175=\"\",\"\",Main!S175)","v":1000},null,1]
[null,null,null,null,{"$f":"IF(I361=\"\",\"\",Main!J175)","v":"K.V.Sai Sujith"},{"$f":"IF(I361=\"\",\"\",Main!K175)","v":"VIII"},{"$f":"IF(I361=\"\",\"\",Main!L175)","v":"2010-2011"},{"$f":"IF(I361=\"\",\"\",Main!M175)","v":"Rathnam High School, Nelore"},{"$f":"IF(Main!N175=\"\",\"\",Main!N175)","v":1000},null,1,{"$f":"K361","v":1}]
[{"$f":"IF(K363=\"\",\"\",SUM($L$18:L363))","v":173},{"$f":"IF(I363=\"\",\"\",CONCATENATE(Main!C176,\", \",Main!D176,IF(Main!F176>0,CONCATENATE(\", \",Main!F176),\"\")))","v":"K.V.RAVANAMMA, SA (English), MPUPS, Dasaripalli"},null,null,{"$f":"IF(I362=\"\",\"\",Main!O176)","v":"XXXXXXXXXX"},{"$f":"IF(I362=\"\",\"\",Main!P176)","v":"Inter-I"},{"$f":"IF(I362=\"\",\"\",Main!Q176)","v":"2010-2011"},{"$f":"IF(I362=\"\",\"\",Main!R176)","v":"Abdul Kalam Jr Coolege"},{"$f":"IF(Main!S176=\"\",\"\",Main!S176)","v":1000},null,1]
[null,null,null,null,{"$f":"IF(I363=\"\",\"\",Main!J176)","v":"K.V.Sai Sujith"},{"$f":"IF(I363=\"\",\"\",Main!K176)","v":"VIII"},{"$f":"IF(I363=\"\",\"\",Main!L176)","v":"2010-2011"},{"$f":"IF(I363=\"\",\"\",Main!M176)","v":"Rathnam High School, Nelore"},{"$f":"IF(Main!N176=\"\",\"\",Main!N176)","v":1000},null,1,{"$f":"K363","v":1}]
[{"$f":"IF(K365=\"\",\"\",SUM($L$18:L365))","v":174},{"$f":"IF(I365=\"\",\"\",CONCATENATE(Main!C177,\", \",Main!D177,IF(Main!F177>0,CONCATENATE(\", \",Main!F177),\"\")))","v":"K.V.RAVANAMMA, SA (English), MPUPS, Dasaripalli"},null,null,{"$f":"IF(I364=\"\",\"\",Main!O177)","v":"XXXXXXXXXX"},{"$f":"IF(I364=\"\",\"\",Main!P177)","v":"Inter-I"},{"$f":"IF(I364=\"\",\"\",Main!Q177)","v":"2010-2011"},{"$f":"IF(I364=\"\",\"\",Main!R177)","v":"Abdul Kalam Jr Coolege"},{"$f":"IF(Main!S177=\"\",\"\",Main!S177)","v":1000},null,1]
[null,null,null,null,{"$f":"IF(I365=\"\",\"\",Main!J177)","v":"K.V.Sai Sujith"},{"$f":"IF(I365=\"\",\"\",Main!K177)","v":"VIII"},{"$f":"IF(I365=\"\",\"\",Main!L177)","v":"2010-2011"},{"$f":"IF(I365=\"\",\"\",Main!M177)","v":"Rathnam High School, Nelore"},{"$f":"IF(Main!N177=\"\",\"\",Main!N177)","v":1000},null,1,{"$f":"K365","v":1}]
[{"$f":"IF(K367=\"\",\"\",SUM($L$18:L367))","v":175},{"$f":"IF(I367=\"\",\"\",CONCATENATE(Main!C178,\", \",Main!D178,IF(Main!F178>0,CONCATENATE(\", \",Main!F178),\"\")))","v":"K.V.RAVANAMMA, SA (English), MPUPS, Dasaripalli"},null,null,{"$f":"IF(I366=\"\",\"\",Main!O178)","v":"XXXXXXXXXX"},{"$f":"IF(I366=\"\",\"\",Main!P178)","v":"Inter-I"},{"$f":"IF(I366=\"\",\"\",Main!Q178)","v":"2010-2011"},{"$f":"IF(I366=\"\",\"\",Main!R178)","v":"Abdul Kalam Jr Coolege"},{"$f":"IF(Main!S178=\"\",\"\",Main!S178)","v":1000},null,1]
[null,null,null,null,{"$f":"IF(I367=\"\",\"\",Main!J178)","v":"K.V.Sai Sujith"},{"$f":"IF(I367=\"\",\"\",Main!K178)","v":"VIII"},{"$f":"IF(I367=\"\",\"\",Main!L178)","v":"2010-2011"},{"$f":"IF(I367=\"\",\"\",Main!M178)","v":"Rathnam High School, Nelore"},{"$f":"IF(Main!N178=\"\",\"\",Main!N178)","v":1000},null,1,{"$f":"K367","v":1}]
[{"$f":"IF(K369=\"\",\"\",SUM($L$18:L369))","v":176},{"$f":"IF(I369=\"\",\"\",CONCATENATE(Main!C179,\", \",Main!D179,IF(Main!F179>0,CONCATENATE(\", \",Main!F179),\"\")))","v":"K.V.RAVANAMMA, SA (English), MPUPS, Dasaripalli"},null,null,{"$f":"IF(I368=\"\",\"\",Main!O179)","v":"XXXXXXXXXX"},{"$f":"IF(I368=\"\",\"\",Main!P179)","v":"Inter-I"},{"$f":"IF(I368=\"\",\"\",Main!Q179)","v":"2010-2011"},{"$f":"IF(I368=\"\",\"\",Main!R179)","v":"Abdul Kalam Jr Coolege"},{"$f":"IF(Main!S179=\"\",\"\",Main!S179)","v":1000},null,1]
[null,null,null,null,{"$f":"IF(I369=\"\",\"\",Main!J179)","v":"K.V.Sai Sujith"},{"$f":"IF(I369=\"\",\"\",Main!K179)","v":"VIII"},{"$f":"IF(I369=\"\",\"\",Main!L179)","v":"2010-2011"},{"$f":"IF(I369=\"\",\"\",Main!M179)","v":"Rathnam High School, Nelore"},{"$f":"IF(Main!N179=\"\",\"\",Main!N179)","v":1000},null,1,{"$f":"K369","v":1}]
[{"$f":"IF(K371=\"\",\"\",SUM($L$18:L371))","v":177},{"$f":"IF(I371=\"\",\"\",CONCATENATE(Main!C180,\", \",Main!D180,IF(Main!F180>0,CONCATENATE(\", \",Main!F180),\"\")))","v":"K.V.RAVANAMMA, SA (English), MPUPS, Dasaripalli"},null,null,{"$f":"IF(I370=\"\",\"\",Main!O180)","v":"XXXXXXXXXX"},{"$f":"IF(I370=\"\",\"\",Main!P180)","v":"Inter-I"},{"$f":"IF(I370=\"\",\"\",Main!Q180)","v":"2010-2011"},{"$f":"IF(I370=\"\",\"\",Main!R180)","v":"Abdul Kalam Jr Coolege"},{"$f":"IF(Main!S180=\"\",\"\",Main!S180)","v":1000},null,1]
[null,null,null,null,{"$f":"IF(I371=\"\",\"\",Main!J180)","v":"K.V.Sai Sujith"},{"$f":"IF(I371=\"\",\"\",Main!K180)","v":"VIII"},{"$f":"IF(I371=\"\",\"\",Main!L180)","v":"2010-2011"},{"$f":"IF(I371=\"\",\"\",Main!M180)","v":"Rathnam High School, Nelore"},{"$f":"IF(Main!N180=\"\",\"\",Main!N180)","v":1000},null,1,{"$f":"K371","v":1}]
[{"$f":"IF(K373=\"\",\"\",SUM($L$18:L373))","v":178},{"$f":"IF(I373=\"\",\"\",CONCATENATE(Main!C181,\", \",Main!D181,IF(Main!F181>0,CONCATENATE(\", \",Main!F181),\"\")))","v":"K.V.RAVANAMMA, SA (English), MPUPS, Dasaripalli"},null,null,{"$f":"IF(I372=\"\",\"\",Main!O181)","v":"XXXXXXXXXX"},{"$f":"IF(I372=\"\",\"\",Main!P181)","v":"Inter-I"},{"$f":"IF(I372=\"\",\"\",Main!Q181)","v":"2010-2011"},{"$f":"IF(I372=\"\",\"\",Main!R181)","v":"Abdul Kalam Jr Coolege"},{"$f":"IF(Main!S181=\"\",\"\",Main!S181)","v":1000},null,1]
[null,null,null,null,{"$f":"IF(I373=\"\",\"\",Main!J181)","v":"K.V.Sai Sujith"},{"$f":"IF(I373=\"\",\"\",Main!K181)","v":"VIII"},{"$f":"IF(I373=\"\",\"\",Main!L181)","v":"2010-2011"},{"$f":"IF(I373=\"\",\"\",Main!M181)","v":"Rathnam High School, Nelore"},{"$f":"IF(Main!N181=\"\",\"\",Main!N181)","v":1000},null,1,{"$f":"K373","v":1}]
[{"$f":"IF(K375=\"\",\"\",SUM($L$18:L375))","v":179},{"$f":"IF(I375=\"\",\"\",CONCATENATE(Main!C182,\", \",Main!D182,IF(Main!F182>0,CONCATENATE(\", \",Main!F182),\"\")))","v":"K.V.RAVANAMMA, SA (English), MPUPS, Dasaripalli"},null,null,{"$f":"IF(I374=\"\",\"\",Main!O182)","v":"XXXXXXXXXX"},{"$f":"IF(I374=\"\",\"\",Main!P182)","v":"Inter-I"},{"$f":"IF(I374=\"\",\"\",Main!Q182)","v":"2010-2011"},{"$f":"IF(I374=\"\",\"\",Main!R182)","v":"Abdul Kalam Jr Coolege"},{"$f":"IF(Main!S182=\"\",\"\",Main!S182)","v":1000},null,1]
[null,null,null,null,{"$f":"IF(I375=\"\",\"\",Main!J182)","v":"K.V.Sai Sujith"},{"$f":"IF(I375=\"\",\"\",Main!K182)","v":"VIII"},{"$f":"IF(I375=\"\",\"\",Main!L182)","v":"2010-2011"},{"$f":"IF(I375=\"\",\"\",Main!M182)","v":"Rathnam High School, Nelore"},{"$f":"IF(Main!N182=\"\",\"\",Main!N182)","v":1000},null,1,{"$f":"K375","v":1}]
[{"$f":"IF(K377=\"\",\"\",SUM($L$18:L377))","v":180},{"$f":"IF(I377=\"\",\"\",CONCATENATE(Main!C183,\", \",Main!D183,IF(Main!F183>0,CONCATENATE(\", \",Main!F183),\"\")))","v":"K.V.RAVANAMMA, SA (English), MPUPS, Dasaripalli"},null,null,{"$f":"IF(I376=\"\",\"\",Main!O183)","v":"XXXXXXXXXX"},{"$f":"IF(I376=\"\",\"\",Main!P183)","v":"Inter-I"},{"$f":"IF(I376=\"\",\"\",Main!Q183)","v":"2010-2011"},{"$f":"IF(I376=\"\",\"\",Main!R183)","v":"Abdul Kalam Jr Coolege"},{"$f":"IF(Main!S183=\"\",\"\",Main!S183)","v":1000},null,1]
[null,null,null,null,{"$f":"IF(I377=\"\",\"\",Main!J183)","v":"K.V.Sai Sujith"},{"$f":"IF(I377=\"\",\"\",Main!K183)","v":"VIII"},{"$f":"IF(I377=\"\",\"\",Main!L183)","v":"2010-2011"},{"$f":"IF(I377=\"\",\"\",Main!M183)","v":"Rathnam High School, Nelore"},{"$f":"IF(Main!N183=\"\",\"\",Main!N183)","v":1000},null,1,{"$f":"K377","v":1}]
[{"$f":"IF(K379=\"\",\"\",SUM($L$18:L379))","v":181},{"$f":"IF(I379=\"\",\"\",CONCATENATE(Main!C184,\", \",Main!D184,IF(Main!F184>0,CONCATENATE(\", \",Main!F184),\"\")))","v":"K.V.RAVANAMMA, SA (English), MPUPS, Dasaripalli"},null,null,{"$f":"IF(I378=\"\",\"\",Main!O184)","v":"XXXXXXXXXX"},{"$f":"IF(I378=\"\",\"\",Main!P184)","v":"Inter-I"},{"$f":"IF(I378=\"\",\"\",Main!Q184)","v":"2010-2011"},{"$f":"IF(I378=\"\",\"\",Main!R184)","v":"Abdul Kalam Jr Coolege"},{"$f":"IF(Main!S184=\"\",\"\",Main!S184)","v":1000},null,1]
[null,null,null,null,{"$f":"IF(I379=\"\",\"\",Main!J184)","v":"K.V.Sai Sujith"},{"$f":"IF(I379=\"\",\"\",Main!K184)","v":"VIII"},{"$f":"IF(I379=\"\",\"\",Main!L184)","v":"2010-2011"},{"$f":"IF(I379=\"\",\"\",Main!M184)","v":"Rathnam High School, Nelore"},{"$f":"IF(Main!N184=\"\",\"\",Main!N184)","v":1000},null,1,{"$f":"K379","v":1}]
[{"$f":"IF(K381=\"\",\"\",SUM($L$18:L381))","v":182},{"$f":"IF(I381=\"\",\"\",CONCATENATE(Main!C185,\", \",Main!D185,IF(Main!F185>0,CONCATENATE(\", \",Main!F185),\"\")))","v":"K.V.RAVANAMMA, SA (English), MPUPS, Dasaripalli"},null,null,{"$f":"IF(I380=\"\",\"\",Main!O185)","v":"XXXXXXXXXX"},{"$f":"IF(I380=\"\",\"\",Main!P185)","v":"Inter-I"},{"$f":"IF(I380=\"\",\"\",Main!Q185)","v":"2010-2011"},{"$f":"IF(I380=\"\",\"\",Main!R185)","v":"Abdul Kalam Jr Coolege"},{"$f":"IF(Main!S185=\"\",\"\",Main!S185)","v":1000},null,1]
[null,null,null,null,{"$f":"IF(I381=\"\",\"\",Main!J185)","v":"K.V.Sai Sujith"},{"$f":"IF(I381=\"\",\"\",Main!K185)","v":"VIII"},{"$f":"IF(I381=\"\",\"\",Main!L185)","v":"2010-2011"},{"$f":"IF(I381=\"\",\"\",Main!M185)","v":"Rathnam High School, Nelore"},{"$f":"IF(Main!N185=\"\",\"\",Main!N185)","v":1000},null,1,{"$f":"K381","v":1}]
[{"$f":"IF(K383=\"\",\"\",SUM($L$18:L383))","v":183},{"$f":"IF(I383=\"\",\"\",CONCATENATE(Main!C186,\", \",Main!D186,IF(Main!F186>0,CONCATENATE(\", \",Main!F186),\"\")))","v":"K.V.RAVANAMMA, SA (English), MPUPS, Dasaripalli"},null,null,{"$f":"IF(I382=\"\",\"\",Main!O186)","v":"XXXXXXXXXX"},{"$f":"IF(I382=\"\",\"\",Main!P186)","v":"Inter-I"},{"$f":"IF(I382=\"\",\"\",Main!Q186)","v":"2010-2011"},{"$f":"IF(I382=\"\",\"\",Main!R186)","v":"Abdul Kalam Jr Coolege"},{"$f":"IF(Main!S186=\"\",\"\",Main!S186)","v":1000},null,1]
[null,null,null,null,{"$f":"IF(I383=\"\",\"\",Main!J186)","v":"K.V.Sai Sujith"},{"$f":"IF(I383=\"\",\"\",Main!K186)","v":"VIII"},{"$f":"IF(I383=\"\",\"\",Main!L186)","v":"2010-2011"},{"$f":"IF(I383=\"\",\"\",Main!M186)","v":"Rathnam High School, Nelore"},{"$f":"IF(Main!N186=\"\",\"\",Main!N186)","v":1000},null,1,{"$f":"K383","v":1}]
[{"$f":"IF(K385=\"\",\"\",SUM($L$18:L385))","v":184},{"$f":"IF(I385=\"\",\"\",CONCATENATE(Main!C187,\", \",Main!D187,IF(Main!F187>0,CONCATENATE(\", \",Main!F187),\"\")))","v":"K.V.RAVANAMMA, SA (English), MPUPS, Dasaripalli"},null,null,{"$f":"IF(I384=\"\",\"\",Main!O187)","v":"XXXXXXXXXX"},{"$f":"IF(I384=\"\",\"\",Main!P187)","v":"Inter-I"},{"$f":"IF(I384=\"\",\"\",Main!Q187)","v":"2010-2011"},{"$f":"IF(I384=\"\",\"\",Main!R187)","v":"Abdul Kalam Jr Coolege"},{"$f":"IF(Main!S187=\"\",\"\",Main!S187)","v":1000},null,1]
[null,null,null,null,{"$f":"IF(I385=\"\",\"\",Main!J187)","v":"K.V.Sai Sujith"},{"$f":"IF(I385=\"\",\"\",Main!K187)","v":"VIII"},{"$f":"IF(I385=\"\",\"\",Main!L187)","v":"2010-2011"},{"$f":"IF(I385=\"\",\"\",Main!M187)","v":"Rathnam High School, Nelore"},{"$f":"IF(Main!N187=\"\",\"\",Main!N187)","v":1000},null,1,{"$f":"K385","v":1}]
[{"$f":"IF(K387=\"\",\"\",SUM($L$18:L387))","v":185},{"$f":"IF(I387=\"\",\"\",CONCATENATE(Main!C188,\", \",Main!D188,IF(Main!F188>0,CONCATENATE(\", \",Main!F188),\"\")))","v":"K.V.RAVANAMMA, SA (English), MPUPS, Dasaripalli"},null,null,{"$f":"IF(I386=\"\",\"\",Main!O188)","v":"XXXXXXXXXX"},{"$f":"IF(I386=\"\",\"\",Main!P188)","v":"Inter-I"},{"$f":"IF(I386=\"\",\"\",Main!Q188)","v":"2010-2011"},{"$f":"IF(I386=\"\",\"\",Main!R188)","v":"Abdul Kalam Jr Coolege"},{"$f":"IF(Main!S188=\"\",\"\",Main!S188)","v":1000},null,1]
[null,null,null,null,{"$f":"IF(I387=\"\",\"\",Main!J188)","v":"K.V.Sai Sujith"},{"$f":"IF(I387=\"\",\"\",Main!K188)","v":"VIII"},{"$f":"IF(I387=\"\",\"\",Main!L188)","v":"2010-2011"},{"$f":"IF(I387=\"\",\"\",Main!M188)","v":"Rathnam High School, Nelore"},{"$f":"IF(Main!N188=\"\",\"\",Main!N188)","v":1000},null,1,{"$f":"K387","v":1}]
[{"$f":"IF(K389=\"\",\"\",SUM($L$18:L389))","v":186},{"$f":"IF(I389=\"\",\"\",CONCATENATE(Main!C189,\", \",Main!D189,IF(Main!F189>0,CONCATENATE(\", \",Main!F189),\"\")))","v":"K.V.RAVANAMMA, SA (English), MPUPS, Dasaripalli"},null,null,{"$f":"IF(I388=\"\",\"\",Main!O189)","v":"XXXXXXXXXX"},{"$f":"IF(I388=\"\",\"\",Main!P189)","v":"Inter-I"},{"$f":"IF(I388=\"\",\"\",Main!Q189)","v":"2010-2011"},{"$f":"IF(I388=\"\",\"\",Main!R189)","v":"Abdul Kalam Jr Coolege"},{"$f":"IF(Main!S189=\"\",\"\",Main!S189)","v":1000},null,1]
[null,null,null,null,{"$f":"IF(I389=\"\",\"\",Main!J189)","v":"K.V.Sai Sujith"},{"$f":"IF(I389=\"\",\"\",Main!K189)","v":"VIII"},{"$f":"IF(I389=\"\",\"\",Main!L189)","v":"2010-2011"},{"$f":"IF(I389=\"\",\"\",Main!M189)","v":"Rathnam High School, Nelore"},{"$f":"IF(Main!N189=\"\",\"\",Main!N189)","v":1000},null,1,{"$f":"K389","v":1}]
[{"$f":"IF(K391=\"\",\"\",SUM($L$18:L391))","v":187},{"$f":"IF(I391=\"\",\"\",CONCATENATE(Main!C190,\", \",Main!D190,IF(Main!F190>0,CONCATENATE(\", \",Main!F190),\"\")))","v":"K.V.RAVANAMMA, SA (English), MPUPS, Dasaripalli"},null,null,{"$f":"IF(I390=\"\",\"\",Main!O190)","v":"XXXXXXXXXX"},{"$f":"IF(I390=\"\",\"\",Main!P190)","v":"Inter-I"},{"$f":"IF(I390=\"\",\"\",Main!Q190)","v":"2010-2011"},{"$f":"IF(I390=\"\",\"\",Main!R190)","v":"Abdul Kalam Jr Coolege"},{"$f":"IF(Main!S190=\"\",\"\",Main!S190)","v":1000},null,1]
[null,null,null,null,{"$f":"IF(I391=\"\",\"\",Main!J190)","v":"K.V.Sai Sujith"},{"$f":"IF(I391=\"\",\"\",Main!K190)","v":"VIII"},{"$f":"IF(I391=\"\",\"\",Main!L190)","v":"2010-2011"},{"$f":"IF(I391=\"\",\"\",Main!M190)","v":"Rathnam High School, Nelore"},{"$f":"IF(Main!N190=\"\",\"\",Main!N190)","v":1000},null,1,{"$f":"K391","v":1}]
[{"$f":"IF(K393=\"\",\"\",SUM($L$18:L393))","v":188},{"$f":"IF(I393=\"\",\"\",CONCATENATE(Main!C191,\", \",Main!D191,IF(Main!F191>0,CONCATENATE(\", \",Main!F191),\"\")))","v":"K.V.RAVANAMMA, SA (English), MPUPS, Dasaripalli"},null,null,{"$f":"IF(I392=\"\",\"\",Main!O191)","v":"XXXXXXXXXX"},{"$f":"IF(I392=\"\",\"\",Main!P191)","v":"Inter-I"},{"$f":"IF(I392=\"\",\"\",Main!Q191)","v":"2010-2011"},{"$f":"IF(I392=\"\",\"\",Main!R191)","v":"Abdul Kalam Jr Coolege"},{"$f":"IF(Main!S191=\"\",\"\",Main!S191)","v":1000},null,1]
[null,null,null,null,{"$f":"IF(I393=\"\",\"\",Main!J191)","v":"K.V.Sai Sujith"},{"$f":"IF(I393=\"\",\"\",Main!K191)","v":"VIII"},{"$f":"IF(I393=\"\",\"\",Main!L191)","v":"2010-2011"},{"$f":"IF(I393=\"\",\"\",Main!M191)","v":"Rathnam High School, Nelore"},{"$f":"IF(Main!N191=\"\",\"\",Main!N191)","v":1000},null,1,{"$f":"K393","v":1}]
[{"$f":"IF(K395=\"\",\"\",SUM($L$18:L395))","v":189},{"$f":"IF(I395=\"\",\"\",CONCATENATE(Main!C192,\", \",Main!D192,IF(Main!F192>0,CONCATENATE(\", \",Main!F192),\"\")))","v":"K.V.RAVANAMMA, SA (English), MPUPS, Dasaripalli"},null,null,{"$f":"IF(I394=\"\",\"\",Main!O192)","v":"XXXXXXXXXX"},{"$f":"IF(I394=\"\",\"\",Main!P192)","v":"Inter-I"},{"$f":"IF(I394=\"\",\"\",Main!Q192)","v":"2010-2011"},{"$f":"IF(I394=\"\",\"\",Main!R192)","v":"Abdul Kalam Jr Coolege"},{"$f":"IF(Main!S192=\"\",\"\",Main!S192)","v":1000},null,1]
[null,null,null,null,{"$f":"IF(I395=\"\",\"\",Main!J192)","v":"K.V.Sai Sujith"},{"$f":"IF(I395=\"\",\"\",Main!K192)","v":"VIII"},{"$f":"IF(I395=\"\",\"\",Main!L192)","v":"2010-2011"},{"$f":"IF(I395=\"\",\"\",Main!M192)","v":"Rathnam High School, Nelore"},{"$f":"IF(Main!N192=\"\",\"\",Main!N192)","v":1000},null,1,{"$f":"K395","v":1}]
[{"$f":"IF(K397=\"\",\"\",SUM($L$18:L397))","v":190},{"$f":"IF(I397=\"\",\"\",CONCATENATE(Main!C193,\", \",Main!D193,IF(Main!F193>0,CONCATENATE(\", \",Main!F193),\"\")))","v":"K.V.RAVANAMMA, SA (English), MPUPS, Dasaripalli"},null,null,{"$f":"IF(I396=\"\",\"\",Main!O193)","v":"XXXXXXXXXX"},{"$f":"IF(I396=\"\",\"\",Main!P193)","v":"Inter-I"},{"$f":"IF(I396=\"\",\"\",Main!Q193)","v":"2010-2011"},{"$f":"IF(I396=\"\",\"\",Main!R193)","v":"Abdul Kalam Jr Coolege"},{"$f":"IF(Main!S193=\"\",\"\",Main!S193)","v":1000},null,1]
[null,null,null,null,{"$f":"IF(I397=\"\",\"\",Main!J193)","v":"K.V.Sai Sujith"},{"$f":"IF(I397=\"\",\"\",Main!K193)","v":"VIII"},{"$f":"IF(I397=\"\",\"\",Main!L193)","v":"2010-2011"},{"$f":"IF(I397=\"\",\"\",Main!M193)","v":"Rathnam High School, Nelore"},{"$f":"IF(Main!N193=\"\",\"\",Main!N193)","v":1000},null,1,{"$f":"K397","v":1}]
[{"$f":"IF(K399=\"\",\"\",SUM($L$18:L399))","v":""},{"$f":"IF(I399=\"\",\"\",CONCATENATE(Main!C194,\", \",Main!D194,IF(Main!F194>0,CONCATENATE(\", \",Main!F194),\"\")))","v":""},null,null,{"$f":"IF(I398=\"\",\"\",Main!O194)","v":""},{"$f":"IF(I398=\"\",\"\",Main!P194)","v":""},{"$f":"IF(I398=\"\",\"\",Main!Q194)","v":""},{"$f":"IF(I398=\"\",\"\",Main!R194)","v":""},{"$f":"IF(Main!S194=\"\",\"\",Main!S194)","v":""},null,""]
[null,null,null,null,{"$f":"IF(I399=\"\",\"\",Main!J194)","v":""},{"$f":"IF(I399=\"\",\"\",Main!K194)","v":""},{"$f":"IF(I399=\"\",\"\",Main!L194)","v":""},{"$f":"IF(I399=\"\",\"\",Main!M194)","v":""},{"$f":"IF(Main!N194=\"\",\"\",Main!N194)","v":""},null,"",{"$f":"K399","v":""}]
[{"$f":"IF(K401=\"\",\"\",SUM($L$18:L401))","v":""},{"$f":"IF(I401=\"\",\"\",CONCATENATE(Main!C195,\", \",Main!D195,IF(Main!F195>0,CONCATENATE(\", \",Main!F195),\"\")))","v":""},null,null,{"$f":"IF(I400=\"\",\"\",Main!O195)","v":""},{"$f":"IF(I400=\"\",\"\",Main!P195)","v":""},{"$f":"IF(I400=\"\",\"\",Main!Q195)","v":""},{"$f":"IF(I400=\"\",\"\",Main!R195)","v":""},{"$f":"IF(Main!S195=\"\",\"\",Main!S195)","v":""},null,""]
[null,null,null,null,{"$f":"IF(I401=\"\",\"\",Main!J195)","v":""},{"$f":"IF(I401=\"\",\"\",Main!K195)","v":""},{"$f":"IF(I401=\"\",\"\",Main!L195)","v":""},{"$f":"IF(I401=\"\",\"\",Main!M195)","v":""},{"$f":"IF(Main!N195=\"\",\"\",Main!N195)","v":""},null,"",{"$f":"K401","v":""}]
[{"$f":"IF(K403=\"\",\"\",SUM($L$18:L403))","v":""},{"$f":"IF(I403=\"\",\"\",CONCATENATE(Main!C196,\", \",Main!D196,IF(Main!F196>0,CONCATENATE(\", \",Main!F196),\"\")))","v":""},null,null,{"$f":"IF(I402=\"\",\"\",Main!O196)","v":""},{"$f":"IF(I402=\"\",\"\",Main!P196)","v":""},{"$f":"IF(I402=\"\",\"\",Main!Q196)","v":""},{"$f":"IF(I402=\"\",\"\",Main!R196)","v":""},{"$f":"IF(Main!S196=\"\",\"\",Main!S196)","v":""},null,""]
[null,null,null,null,{"$f":"IF(I403=\"\",\"\",Main!J196)","v":""},{"$f":"IF(I403=\"\",\"\",Main!K196)","v":""},{"$f":"IF(I403=\"\",\"\",Main!L196)","v":""},{"$f":"IF(I403=\"\",\"\",Main!M196)","v":""},{"$f":"IF(Main!N196=\"\",\"\",Main!N196)","v":""},null,{"$f":"IF(I403=\"\",\"\",1)","v":""},{"$f":"K403","v":""}]
[{"$f":"IF(K405=\"\",\"\",SUM($L$18:L405))","v":""},{"$f":"IF(I405=\"\",\"\",CONCATENATE(Main!C197,\", \",Main!D197,IF(Main!F197>0,CONCATENATE(\", \",Main!F197),\"\")))","v":""},null,null,{"$f":"IF(I404=\"\",\"\",Main!O197)","v":""},{"$f":"IF(I404=\"\",\"\",Main!P197)","v":""},{"$f":"IF(I404=\"\",\"\",Main!Q197)","v":""},{"$f":"IF(I404=\"\",\"\",Main!R197)","v":""},{"$f":"IF(Main!S197=\"\",\"\",Main!S197)","v":""},null,""]
[null,null,null,null,{"$f":"IF(I405=\"\",\"\",Main!J197)","v":""},{"$f":"IF(I405=\"\",\"\",Main!K197)","v":""},{"$f":"IF(I405=\"\",\"\",Main!L197)","v":""},{"$f":"IF(I405=\"\",\"\",Main!M197)","v":""},{"$f":"IF(Main!N197=\"\",\"\",Main!N197)","v":""},null,"",{"$f":"K405","v":""}]
[{"$f":"IF(K407=\"\",\"\",SUM($L$18:L407))","v":""},{"$f":"IF(I407=\"\",\"\",CONCATENATE(Main!C198,\", \",Main!D198,IF(Main!F198>0,CONCATENATE(\", \",Main!F198),\"\")))","v":""},null,null,{"$f":"IF(I406=\"\",\"\",Main!O198)","v":""},{"$f":"IF(I406=\"\",\"\",Main!P198)","v":""},{"$f":"IF(I406=\"\",\"\",Main!Q198)","v":""},{"$f":"IF(I406=\"\",\"\",Main!R198)","v":""},{"$f":"IF(Main!S198=\"\",\"\",Main!S198)","v":""},null,""]
[null,null,null,null,{"$f":"IF(I407=\"\",\"\",Main!J198)","v":""},{"$f":"IF(I407=\"\",\"\",Main!K198)","v":""},{"$f":"IF(I407=\"\",\"\",Main!L198)","v":""},{"$f":"IF(I407=\"\",\"\",Main!M198)","v":""},{"$f":"IF(Main!N198=\"\",\"\",Main!N198)","v":""},null,"",{"$f":"K407","v":""}]
[{"$f":"IF(K409=\"\",\"\",SUM($L$18:L409))","v":""},{"$f":"IF(I409=\"\",\"\",CONCATENATE(Main!C199,\", \",Main!D199,IF(Main!F199>0,CONCATENATE(\", \",Main!F199),\"\")))","v":""},null,null,{"$f":"IF(I408=\"\",\"\",Main!O199)","v":""},{"$f":"IF(I408=\"\",\"\",Main!P199)","v":""},{"$f":"IF(I408=\"\",\"\",Main!Q199)","v":""},{"$f":"IF(I408=\"\",\"\",Main!R199)","v":""},{"$f":"IF(Main!S199=\"\",\"\",Main!S199)","v":""},null,""]
[null,null,null,null,{"$f":"IF(I409=\"\",\"\",Main!J199)","v":""},{"$f":"IF(I409=\"\",\"\",Main!K199)","v":""},{"$f":"IF(I409=\"\",\"\",Main!L199)","v":""},{"$f":"IF(I409=\"\",\"\",Main!M199)","v":""},{"$f":"IF(Main!N199=\"\",\"\",Main!N199)","v":""},null,"",{"$f":"K409","v":""}]
[{"$f":"IF(K411=\"\",\"\",SUM($L$18:L411))","v":""},{"$f":"IF(I411=\"\",\"\",CONCATENATE(Main!C200,\", \",Main!D200,IF(Main!F200>0,CONCATENATE(\", \",Main!F200),\"\")))","v":""},null,null,{"$f":"IF(I410=\"\",\"\",Main!O200)","v":""},{"$f":"IF(I410=\"\",\"\",Main!P200)","v":""},{"$f":"IF(I410=\"\",\"\",Main!Q200)","v":""},{"$f":"IF(I410=\"\",\"\",Main!R200)","v":""},{"$f":"IF(Main!S200=\"\",\"\",Main!S200)","v":""},null,""]
[null,null,null,null,{"$f":"IF(I411=\"\",\"\",Main!J200)","v":""},{"$f":"IF(I411=\"\",\"\",Main!K200)","v":""},{"$f":"IF(I411=\"\",\"\",Main!L200)","v":""},{"$f":"IF(I411=\"\",\"\",Main!M200)","v":""},{"$f":"IF(Main!N200=\"\",\"\",Main!N200)","v":""},null,"",{"$f":"K411","v":""}]
[{"$f":"IF(K413=\"\",\"\",SUM($L$18:L413))","v":""},{"$f":"IF(I413=\"\",\"\",CONCATENATE(Main!C201,\", \",Main!D201,IF(Main!F201>0,CONCATENATE(\", \",Main!F201),\"\")))","v":""},null,null,{"$f":"IF(I412=\"\",\"\",Main!O201)","v":""},{"$f":"IF(I412=\"\",\"\",Main!P201)","v":""},{"$f":"IF(I412=\"\",\"\",Main!Q201)","v":""},{"$f":"IF(I412=\"\",\"\",Main!R201)","v":""},{"$f":"IF(Main!S201=\"\",\"\",Main!S201)","v":""},null,""]
[null,null,null,null,{"$f":"IF(I413=\"\",\"\",Main!J201)","v":""},{"$f":"IF(I413=\"\",\"\",Main!K201)","v":""},{"$f":"IF(I413=\"\",\"\",Main!L201)","v":""},{"$f":"IF(I413=\"\",\"\",Main!M201)","v":""},{"$f":"IF(Main!N201=\"\",\"\",Main!N201)","v":""},null,"",{"$f":"K413","v":""}]
[{"$f":"IF(K415=\"\",\"\",SUM($L$18:L415))","v":""},{"$f":"IF(I415=\"\",\"\",CONCATENATE(Main!C202,\", \",Main!D202,IF(Main!F202>0,CONCATENATE(\", \",Main!F202),\"\")))","v":""},null,null,{"$f":"IF(I414=\"\",\"\",Main!O202)","v":""},{"$f":"IF(I414=\"\",\"\",Main!P202)","v":""},{"$f":"IF(I414=\"\",\"\",Main!Q202)","v":""},{"$f":"IF(I414=\"\",\"\",Main!R202)","v":""},{"$f":"IF(Main!S202=\"\",\"\",Main!S202)","v":""},null,""]
[null,null,null,null,{"$f":"IF(I415=\"\",\"\",Main!J202)","v":""},{"$f":"IF(I415=\"\",\"\",Main!K202)","v":""},{"$f":"IF(I415=\"\",\"\",Main!L202)","v":""},{"$f":"IF(I415=\"\",\"\",Main!M202)","v":""},{"$f":"IF(Main!N202=\"\",\"\",Main!N202)","v":""},null,"",{"$f":"K415","v":""}]
[{"$f":"IF(K417=\"\",\"\",SUM($L$18:L417))","v":""},{"$f":"IF(I417=\"\",\"\",CONCATENATE(Main!C203,\", \",Main!D203,IF(Main!F203>0,CONCATENATE(\", \",Main!F203),\"\")))","v":""},null,null,{"$f":"IF(I416=\"\",\"\",Main!O203)","v":""},{"$f":"IF(I416=\"\",\"\",Main!P203)","v":""},{"$f":"IF(I416=\"\",\"\",Main!Q203)","v":""},{"$f":"IF(I416=\"\",\"\",Main!R203)","v":""},{"$f":"IF(Main!S203=\"\",\"\",Main!S203)","v":""},null,""]
[null,null,null,null,{"$f":"IF(I417=\"\",\"\",Main!J203)","v":""},{"$f":"IF(I417=\"\",\"\",Main!K203)","v":""},{"$f":"IF(I417=\"\",\"\",Main!L203)","v":""},{"$f":"IF(I417=\"\",\"\",Main!M203)","v":""},{"$f":"IF(Main!N203=\"\",\"\",Main!N203)","v":""},null,"",{"$f":"K417","v":""}]
[{"$f":"IF(K419=\"\",\"\",SUM($L$18:L419))","v":""},{"$f":"IF(I419=\"\",\"\",CONCATENATE(Main!C204,\", \",Main!D204,IF(Main!F204>0,CONCATENATE(\", \",Main!F204),\"\")))","v":""},null,null,{"$f":"IF(I418=\"\",\"\",Main!O204)","v":""},{"$f":"IF(I418=\"\",\"\",Main!P204)","v":""},{"$f":"IF(I418=\"\",\"\",Main!Q204)","v":""},{"$f":"IF(I418=\"\",\"\",Main!R204)","v":""},{"$f":"IF(Main!S204=\"\",\"\",Main!S204)","v":""},null,""]
[null,null,null,null,{"$f":"IF(I419=\"\",\"\",Main!J204)","v":""},{"$f":"IF(I419=\"\",\"\",Main!K204)","v":""},{"$f":"IF(I419=\"\",\"\",Main!L204)","v":""},{"$f":"IF(I419=\"\",\"\",Main!M204)","v":""},{"$f":"IF(Main!N204=\"\",\"\",Main!N204)","v":""},null,"",{"$f":"K419","v":""}]
[{"$f":"IF(K421=\"\",\"\",SUM($L$18:L421))","v":""},{"$f":"IF(I421=\"\",\"\",CONCATENATE(Main!C205,\", \",Main!D205,IF(Main!F205>0,CONCATENATE(\", \",Main!F205),\"\")))","v":""},null,null,{"$f":"IF(I420=\"\",\"\",Main!O205)","v":""},{"$f":"IF(I420=\"\",\"\",Main!P205)","v":""},{"$f":"IF(I420=\"\",\"\",Main!Q205)","v":""},{"$f":"IF(I420=\"\",\"\",Main!R205)","v":""},{"$f":"IF(Main!S205=\"\",\"\",Main!S205)","v":""},null,""]
[null,null,null,null,{"$f":"IF(I421=\"\",\"\",Main!J205)","v":""},{"$f":"IF(I421=\"\",\"\",Main!K205)","v":""},{"$f":"IF(I421=\"\",\"\",Main!L205)","v":""},{"$f":"IF(I421=\"\",\"\",Main!M205)","v":""},{"$f":"IF(Main!N205=\"\",\"\",Main!N205)","v":""},null,"",{"$f":"K421","v":""}]
[{"$f":"IF(K423=\"\",\"\",SUM($L$18:L423))","v":""},{"$f":"IF(I423=\"\",\"\",CONCATENATE(Main!C206,\", \",Main!D206,IF(Main!F206>0,CONCATENATE(\", \",Main!F206),\"\")))","v":""},null,null,{"$f":"IF(I422=\"\",\"\",Main!O206)","v":""},{"$f":"IF(I422=\"\",\"\",Main!P206)","v":""},{"$f":"IF(I422=\"\",\"\",Main!Q206)","v":""},{"$f":"IF(I422=\"\",\"\",Main!R206)","v":""},{"$f":"IF(Main!S206=\"\",\"\",Main!S206)","v":""},null,""]
[null,null,null,null,{"$f":"IF(I423=\"\",\"\",Main!J206)","v":""},{"$f":"IF(I423=\"\",\"\",Main!K206)","v":""},{"$f":"IF(I423=\"\",\"\",Main!L206)","v":""},{"$f":"IF(I423=\"\",\"\",Main!M206)","v":""},{"$f":"IF(Main!N206=\"\",\"\",Main!N206)","v":""},null,"",{"$f":"K423","v":""}]
[{"$f":"IF(K425=\"\",\"\",SUM($L$18:L425))","v":""},{"$f":"IF(I425=\"\",\"\",CONCATENATE(Main!C207,\", \",Main!D207,IF(Main!F207>0,CONCATENATE(\", \",Main!F207),\"\")))","v":""},null,null,{"$f":"IF(I424=\"\",\"\",Main!O207)","v":""},{"$f":"IF(I424=\"\",\"\",Main!P207)","v":""},{"$f":"IF(I424=\"\",\"\",Main!Q207)","v":""},{"$f":"IF(I424=\"\",\"\",Main!R207)","v":""},{"$f":"IF(Main!S207=\"\",\"\",Main!S207)","v":""},null,""]
[null,null,null,null,{"$f":"IF(I425=\"\",\"\",Main!J207)","v":""},{"$f":"IF(I425=\"\",\"\",Main!K207)","v":""},{"$f":"IF(I425=\"\",\"\",Main!L207)","v":""},{"$f":"IF(I425=\"\",\"\",Main!M207)","v":""},{"$f":"IF(Main!N207=\"\",\"\",Main!N207)","v":""},null,"",{"$f":"K425","v":""}]
[{"$f":"IF(K427=\"\",\"\",SUM($L$18:L427))","v":""},{"$f":"IF(I427=\"\",\"\",CONCATENATE(Main!C208,\", \",Main!D208,IF(Main!F208>0,CONCATENATE(\", \",Main!F208),\"\")))","v":""},null,null,{"$f":"IF(I426=\"\",\"\",Main!O208)","v":""},{"$f":"IF(I426=\"\",\"\",Main!P208)","v":""},{"$f":"IF(I426=\"\",\"\",Main!Q208)","v":""},{"$f":"IF(I426=\"\",\"\",Main!R208)","v":""},{"$f":"IF(Main!S208=\"\",\"\",Main!S208)","v":""},null,""]
[null,null,null,null,{"$f":"IF(I427=\"\",\"\",Main!J208)","v":""},{"$f":"IF(I427=\"\",\"\",Main!K208)","v":""},{"$f":"IF(I427=\"\",\"\",Main!L208)","v":""},{"$f":"IF(I427=\"\",\"\",Main!M208)","v":""},{"$f":"IF(Main!N208=\"\",\"\",Main!N208)","v":""},null,"",{"$f":"K427","v":""}]
[{"$f":"IF(K429=\"\",\"\",SUM($L$18:L429))","v":""},{"$f":"IF(I429=\"\",\"\",CONCATENATE(Main!C209,\", \",Main!D209,IF(Main!F209>0,CONCATENATE(\", \",Main!F209),\"\")))","v":""},null,null,{"$f":"IF(I428=\"\",\"\",Main!O209)","v":""},{"$f":"IF(I428=\"\",\"\",Main!P209)","v":""},{"$f":"IF(I428=\"\",\"\",Main!Q209)","v":""},{"$f":"IF(I428=\"\",\"\",Main!R209)","v":""},{"$f":"IF(Main!S209=\"\",\"\",Main!S209)","v":""},null,""]
[null,null,null,null,{"$f":"IF(I429=\"\",\"\",Main!J209)","v":""},{"$f":"IF(I429=\"\",\"\",Main!K209)","v":""},{"$f":"IF(I429=\"\",\"\",Main!L209)","v":""},{"$f":"IF(I429=\"\",\"\",Main!M209)","v":""},{"$f":"IF(Main!N209=\"\",\"\",Main!N209)","v":""},null,"",{"$f":"K429","v":""}]
[{"$f":"IF(K431=\"\",\"\",SUM($L$18:L431))","v":""},{"$f":"IF(I431=\"\",\"\",CONCATENATE(Main!C210,\", \",Main!D210,IF(Main!F210>0,CONCATENATE(\", \",Main!F210),\"\")))","v":""},null,null,{"$f":"IF(I430=\"\",\"\",Main!O210)","v":""},{"$f":"IF(I430=\"\",\"\",Main!P210)","v":""},{"$f":"IF(I430=\"\",\"\",Main!Q210)","v":""},{"$f":"IF(I430=\"\",\"\",Main!R210)","v":""},{"$f":"IF(Main!S210=\"\",\"\",Main!S210)","v":""},null,""]
[null,null,null,null,{"$f":"IF(I431=\"\",\"\",Main!J210)","v":""},{"$f":"IF(I431=\"\",\"\",Main!K210)","v":""},{"$f":"IF(I431=\"\",\"\",Main!L210)","v":""},{"$f":"IF(I431=\"\",\"\",Main!M210)","v":""},{"$f":"IF(Main!N210=\"\",\"\",Main!N210)","v":""},null,"",{"$f":"K431","v":""}]
[{"$f":"IF(K433=\"\",\"\",SUM($L$18:L433))","v":""},{"$f":"IF(I433=\"\",\"\",CONCATENATE(Main!C211,\", \",Main!D211,IF(Main!F211>0,CONCATENATE(\", \",Main!F211),\"\")))","v":""},null,null,{"$f":"IF(I432=\"\",\"\",Main!O211)","v":""},{"$f":"IF(I432=\"\",\"\",Main!P211)","v":""},{"$f":"IF(I432=\"\",\"\",Main!Q211)","v":""},{"$f":"IF(I432=\"\",\"\",Main!R211)","v":""},{"$f":"IF(Main!S211=\"\",\"\",Main!S211)","v":""},null,""]
[null,null,null,null,{"$f":"IF(I433=\"\",\"\",Main!J211)","v":""},{"$f":"IF(I433=\"\",\"\",Main!K211)","v":""},{"$f":"IF(I433=\"\",\"\",Main!L211)","v":""},{"$f":"IF(I433=\"\",\"\",Main!M211)","v":""},{"$f":"IF(Main!N211=\"\",\"\",Main!N211)","v":""},null,"",{"$f":"K433","v":""}]
[{"$f":"IF(K435=\"\",\"\",SUM($L$18:L435))","v":""},{"$f":"IF(I435=\"\",\"\",CONCATENATE(Main!C212,\", \",Main!D212,IF(Main!F212>0,CONCATENATE(\", \",Main!F212),\"\")))","v":""},null,null,{"$f":"IF(I434=\"\",\"\",Main!O212)","v":""},{"$f":"IF(I434=\"\",\"\",Main!P212)","v":""},{"$f":"IF(I434=\"\",\"\",Main!Q212)","v":""},{"$f":"IF(I434=\"\",\"\",Main!R212)","v":""},{"$f":"IF(Main!S212=\"\",\"\",Main!S212)","v":""},null,""]
[null,null,null,null,{"$f":"IF(I435=\"\",\"\",Main!J212)","v":""},{"$f":"IF(I435=\"\",\"\",Main!K212)","v":""},{"$f":"IF(I435=\"\",\"\",Main!L212)","v":""},{"$f":"IF(I435=\"\",\"\",Main!M212)","v":""},{"$f":"IF(Main!N212=\"\",\"\",Main!N212)","v":""},null,"",{"$f":"K435","v":""}]
[{"$f":"IF(K437=\"\",\"\",SUM($L$18:L437))","v":""},{"$f":"IF(I437=\"\",\"\",CONCATENATE(Main!C213,\", \",Main!D213,IF(Main!F213>0,CONCATENATE(\", \",Main!F213),\"\")))","v":""},null,null,{"$f":"IF(I436=\"\",\"\",Main!O213)","v":""},{"$f":"IF(I436=\"\",\"\",Main!P213)","v":""},{"$f":"IF(I436=\"\",\"\",Main!Q213)","v":""},{"$f":"IF(I436=\"\",\"\",Main!R213)","v":""},{"$f":"IF(Main!S213=\"\",\"\",Main!S213)","v":""},null,""]
[null,null,null,null,{"$f":"IF(I437=\"\",\"\",Main!J213)","v":""},{"$f":"IF(I437=\"\",\"\",Main!K213)","v":""},{"$f":"IF(I437=\"\",\"\",Main!L213)","v":""},{"$f":"IF(I437=\"\",\"\",Main!M213)","v":""},{"$f":"IF(Main!N213=\"\",\"\",Main!N213)","v":""},null,"",{"$f":"K437","v":""}]
[{"$f":"IF(K439=\"\",\"\",SUM($L$18:L439))","v":""},{"$f":"IF(I439=\"\",\"\",CONCATENATE(Main!C214,\", \",Main!D214,IF(Main!F214>0,CONCATENATE(\", \",Main!F214),\"\")))","v":""},null,null,{"$f":"IF(I438=\"\",\"\",Main!O214)","v":""},{"$f":"IF(I438=\"\",\"\",Main!P214)","v":""},{"$f":"IF(I438=\"\",\"\",Main!Q214)","v":""},{"$f":"IF(I438=\"\",\"\",Main!R214)","v":""},{"$f":"IF(Main!S214=\"\",\"\",Main!S214)","v":""},null,""]
[null,null,null,null,{"$f":"IF(I439=\"\",\"\",Main!J214)","v":""},{"$f":"IF(I439=\"\",\"\",Main!K214)","v":""},{"$f":"IF(I439=\"\",\"\",Main!L214)","v":""},{"$f":"IF(I439=\"\",\"\",Main!M214)","v":""},{"$f":"IF(Main!N214=\"\",\"\",Main!N214)","v":""},null,"",{"$f":"K439","v":""}]
[{"$f":"IF(K441=\"\",\"\",SUM($L$18:L441))","v":""},{"$f":"IF(I441=\"\",\"\",CONCATENATE(Main!C215,\", \",Main!D215,IF(Main!F215>0,CONCATENATE(\", \",Main!F215),\"\")))","v":""},null,null,{"$f":"IF(I440=\"\",\"\",Main!O215)","v":""},{"$f":"IF(I440=\"\",\"\",Main!P215)","v":""},{"$f":"IF(I440=\"\",\"\",Main!Q215)","v":""},{"$f":"IF(I440=\"\",\"\",Main!R215)","v":""},{"$f":"IF(Main!S215=\"\",\"\",Main!S215)","v":""},null,""]
[null,null,null,null,{"$f":"IF(I441=\"\",\"\",Main!J215)","v":""},{"$f":"IF(I441=\"\",\"\",Main!K215)","v":""},{"$f":"IF(I441=\"\",\"\",Main!L215)","v":""},{"$f":"IF(I441=\"\",\"\",Main!M215)","v":""},{"$f":"IF(Main!N215=\"\",\"\",Main!N215)","v":""},null,"",{"$f":"K441","v":""}]
[{"$f":"IF(K443=\"\",\"\",SUM($L$18:L443))","v":""},{"$f":"IF(I443=\"\",\"\",CONCATENATE(Main!C216,\", \",Main!D216,IF(Main!F216>0,CONCATENATE(\", \",Main!F216),\"\")))","v":""},null,null,{"$f":"IF(I442=\"\",\"\",Main!O216)","v":""},{"$f":"IF(I442=\"\",\"\",Main!P216)","v":""},{"$f":"IF(I442=\"\",\"\",Main!Q216)","v":""},{"$f":"IF(I442=\"\",\"\",Main!R216)","v":""},{"$f":"IF(Main!S216=\"\",\"\",Main!S216)","v":""},null,""]
[null,null,null,null,{"$f":"IF(I443=\"\",\"\",Main!J216)","v":""},{"$f":"IF(I443=\"\",\"\",Main!K216)","v":""},{"$f":"IF(I443=\"\",\"\",Main!L216)","v":""},{"$f":"IF(I443=\"\",\"\",Main!M216)","v":""},{"$f":"IF(Main!N216=\"\",\"\",Main!N216)","v":""},null,"",{"$f":"K443","v":""}]
[{"$f":"IF(K445=\"\",\"\",SUM($L$18:L445))","v":""},{"$f":"IF(I445=\"\",\"\",CONCATENATE(Main!C217,\", \",Main!D217,IF(Main!F217>0,CONCATENATE(\", \",Main!F217),\"\")))","v":""},null,null,{"$f":"IF(I444=\"\",\"\",Main!O217)","v":""},{"$f":"IF(I444=\"\",\"\",Main!P217)","v":""},{"$f":"IF(I444=\"\",\"\",Main!Q217)","v":""},{"$f":"IF(I444=\"\",\"\",Main!R217)","v":""},{"$f":"IF(Main!S217=\"\",\"\",Main!S217)","v":""},null,""]
[null,null,null,null,{"$f":"IF(I445=\"\",\"\",Main!J217)","v":""},{"$f":"IF(I445=\"\",\"\",Main!K217)","v":""},{"$f":"IF(I445=\"\",\"\",Main!L217)","v":""},{"$f":"IF(I445=\"\",\"\",Main!M217)","v":""},{"$f":"IF(Main!N217=\"\",\"\",Main!N217)","v":""},null,"",{"$f":"K445","v":""}]
[{"$f":"IF(K447=\"\",\"\",SUM($L$18:L447))","v":""},{"$f":"IF(I447=\"\",\"\",CONCATENATE(Main!C218,\", \",Main!D218,IF(Main!F218>0,CONCATENATE(\", \",Main!F218),\"\")))","v":""},null,null,{"$f":"IF(I446=\"\",\"\",Main!O218)","v":""},{"$f":"IF(I446=\"\",\"\",Main!P218)","v":""},{"$f":"IF(I446=\"\",\"\",Main!Q218)","v":""},{"$f":"IF(I446=\"\",\"\",Main!R218)","v":""},{"$f":"IF(Main!S218=\"\",\"\",Main!S218)","v":""},null,""]
[null,null,null,null,{"$f":"IF(I447=\"\",\"\",Main!J218)","v":""},{"$f":"IF(I447=\"\",\"\",Main!K218)","v":""},{"$f":"IF(I447=\"\",\"\",Main!L218)","v":""},{"$f":"IF(I447=\"\",\"\",Main!M218)","v":""},{"$f":"IF(Main!N218=\"\",\"\",Main!N218)","v":""},null,"",{"$f":"K447","v":""}]
[{"$f":"IF(K449=\"\",\"\",SUM($L$18:L449))","v":""},{"$f":"IF(I449=\"\",\"\",CONCATENATE(Main!C219,\", \",Main!D219,IF(Main!F219>0,CONCATENATE(\", \",Main!F219),\"\")))","v":""},null,null,{"$f":"IF(I448=\"\",\"\",Main!O219)","v":""},{"$f":"IF(I448=\"\",\"\",Main!P219)","v":""},{"$f":"IF(I448=\"\",\"\",Main!Q219)","v":""},{"$f":"IF(I448=\"\",\"\",Main!R219)","v":""},{"$f":"IF(Main!S219=\"\",\"\",Main!S219)","v":""},null,""]
[null,null,null,null,{"$f":"IF(I449=\"\",\"\",Main!J219)","v":""},{"$f":"IF(I449=\"\",\"\",Main!K219)","v":""},{"$f":"IF(I449=\"\",\"\",Main!L219)","v":""},{"$f":"IF(I449=\"\",\"\",Main!M219)","v":""},{"$f":"IF(Main!N219=\"\",\"\",Main!N219)","v":""},null,"",{"$f":"K449","v":""}]
[{"$f":"IF(K451=\"\",\"\",SUM($L$18:L451))","v":""},{"$f":"IF(I451=\"\",\"\",CONCATENATE(Main!C220,\", \",Main!D220,IF(Main!F220>0,CONCATENATE(\", \",Main!F220),\"\")))","v":""},null,null,{"$f":"IF(I450=\"\",\"\",Main!O220)","v":""},{"$f":"IF(I450=\"\",\"\",Main!P220)","v":""},{"$f":"IF(I450=\"\",\"\",Main!Q220)","v":""},{"$f":"IF(I450=\"\",\"\",Main!R220)","v":""},{"$f":"IF(Main!S220=\"\",\"\",Main!S220)","v":""},null,""]
[null,null,null,null,{"$f":"IF(I451=\"\",\"\",Main!J220)","v":""},{"$f":"IF(I451=\"\",\"\",Main!K220)","v":""},{"$f":"IF(I451=\"\",\"\",Main!L220)","v":""},{"$f":"IF(I451=\"\",\"\",Main!M220)","v":""},{"$f":"IF(Main!N220=\"\",\"\",Main!N220)","v":""},null,"",{"$f":"K451","v":""}]
[{"$f":"IF(K453=\"\",\"\",SUM($L$18:L453))","v":""},{"$f":"IF(I453=\"\",\"\",CONCATENATE(Main!C221,\", \",Main!D221,IF(Main!F221>0,CONCATENATE(\", \",Main!F221),\"\")))","v":""},null,null,{"$f":"IF(I452=\"\",\"\",Main!O221)","v":""},{"$f":"IF(I452=\"\",\"\",Main!P221)","v":""},{"$f":"IF(I452=\"\",\"\",Main!Q221)","v":""},{"$f":"IF(I452=\"\",\"\",Main!R221)","v":""},{"$f":"IF(Main!S221=\"\",\"\",Main!S221)","v":""},null,""]
[null,null,null,null,{"$f":"IF(I453=\"\",\"\",Main!J221)","v":""},{"$f":"IF(I453=\"\",\"\",Main!K221)","v":""},{"$f":"IF(I453=\"\",\"\",Main!L221)","v":""},{"$f":"IF(I453=\"\",\"\",Main!M221)","v":""},{"$f":"IF(Main!N221=\"\",\"\",Main!N221)","v":""},null,"",{"$f":"K453","v":""}]
[{"$f":"IF(K455=\"\",\"\",SUM($L$18:L455))","v":""},{"$f":"IF(I455=\"\",\"\",CONCATENATE(Main!C222,\", \",Main!D222,IF(Main!F222>0,CONCATENATE(\", \",Main!F222),\"\")))","v":""},null,null,{"$f":"IF(I454=\"\",\"\",Main!O222)","v":""},{"$f":"IF(I454=\"\",\"\",Main!P222)","v":""},{"$f":"IF(I454=\"\",\"\",Main!Q222)","v":""},{"$f":"IF(I454=\"\",\"\",Main!R222)","v":""},{"$f":"IF(Main!S222=\"\",\"\",Main!S222)","v":""},null,""]
[null,null,null,null,{"$f":"IF(I455=\"\",\"\",Main!J222)","v":""},{"$f":"IF(I455=\"\",\"\",Main!K222)","v":""},{"$f":"IF(I455=\"\",\"\",Main!L222)","v":""},{"$f":"IF(I455=\"\",\"\",Main!M222)","v":""},{"$f":"IF(Main!N222=\"\",\"\",Main!N222)","v":""},null,"",{"$f":"K455","v":""}]
[{"$f":"IF(K457=\"\",\"\",SUM($L$18:L457))","v":""},{"$f":"IF(I457=\"\",\"\",CONCATENATE(Main!C223,\", \",Main!D223,IF(Main!F223>0,CONCATENATE(\", \",Main!F223),\"\")))","v":""},null,null,{"$f":"IF(I456=\"\",\"\",Main!O223)","v":""},{"$f":"IF(I456=\"\",\"\",Main!P223)","v":""},{"$f":"IF(I456=\"\",\"\",Main!Q223)","v":""},{"$f":"IF(I456=\"\",\"\",Main!R223)","v":""},{"$f":"IF(Main!S223=\"\",\"\",Main!S223)","v":""},null,""]
[null,null,null,null,{"$f":"IF(I457=\"\",\"\",Main!J223)","v":""},{"$f":"IF(I457=\"\",\"\",Main!K223)","v":""},{"$f":"IF(I457=\"\",\"\",Main!L223)","v":""},{"$f":"IF(I457=\"\",\"\",Main!M223)","v":""},{"$f":"IF(Main!N223=\"\",\"\",Main!N223)","v":""},null,"",{"$f":"K457","v":""}]
[{"$f":"IF(K459=\"\",\"\",SUM($L$18:L459))","v":""},{"$f":"IF(I459=\"\",\"\",CONCATENATE(Main!C224,\", \",Main!D224,IF(Main!F224>0,CONCATENATE(\", \",Main!F224),\"\")))","v":""},null,null,{"$f":"IF(I458=\"\",\"\",Main!O224)","v":""},{"$f":"IF(I458=\"\",\"\",Main!P224)","v":""},{"$f":"IF(I458=\"\",\"\",Main!Q224)","v":""},{"$f":"IF(I458=\"\",\"\",Main!R224)","v":""},{"$f":"IF(Main!S224=\"\",\"\",Main!S224)","v":""},null,""]
[null,null,null,null,{"$f":"IF(I459=\"\",\"\",Main!J224)","v":""},{"$f":"IF(I459=\"\",\"\",Main!K224)","v":""},{"$f":"IF(I459=\"\",\"\",Main!L224)","v":""},{"$f":"IF(I459=\"\",\"\",Main!M224)","v":""},{"$f":"IF(Main!N224=\"\",\"\",Main!N224)","v":""},null,"",{"$f":"K459","v":""}]
[{"$f":"IF(K461=\"\",\"\",SUM($L$18:L461))","v":""},{"$f":"IF(I461=\"\",\"\",CONCATENATE(Main!C225,\", \",Main!D225,IF(Main!F225>0,CONCATENATE(\", \",Main!F225),\"\")))","v":""},null,null,{"$f":"IF(I460=\"\",\"\",Main!O225)","v":""},{"$f":"IF(I460=\"\",\"\",Main!P225)","v":""},{"$f":"IF(I460=\"\",\"\",Main!Q225)","v":""},{"$f":"IF(I460=\"\",\"\",Main!R225)","v":""},{"$f":"IF(Main!S225=\"\",\"\",Main!S225)","v":""},null,""]
[null,null,null,null,{"$f":"IF(I461=\"\",\"\",Main!J225)","v":""},{"$f":"IF(I461=\"\",\"\",Main!K225)","v":""},{"$f":"IF(I461=\"\",\"\",Main!L225)","v":""},{"$f":"IF(I461=\"\",\"\",Main!M225)","v":""},{"$f":"IF(Main!N225=\"\",\"\",Main!N225)","v":""},null,"",{"$f":"K461","v":""}]
[{"$f":"IF(K463=\"\",\"\",SUM($L$18:L463))","v":""},{"$f":"IF(I463=\"\",\"\",CONCATENATE(Main!C226,\", \",Main!D226,IF(Main!F226>0,CONCATENATE(\", \",Main!F226),\"\")))","v":""},null,null,{"$f":"IF(I462=\"\",\"\",Main!O226)","v":""},{"$f":"IF(I462=\"\",\"\",Main!P226)","v":""},{"$f":"IF(I462=\"\",\"\",Main!Q226)","v":""},{"$f":"IF(I462=\"\",\"\",Main!R226)","v":""},{"$f":"IF(Main!S226=\"\",\"\",Main!S226)","v":""},null,""]
[null,null,null,null,{"$f":"IF(I463=\"\",\"\",Main!J226)","v":""},{"$f":"IF(I463=\"\",\"\",Main!K226)","v":""},{"$f":"IF(I463=\"\",\"\",Main!L226)","v":""},{"$f":"IF(I463=\"\",\"\",Main!M226)","v":""},{"$f":"IF(Main!N226=\"\",\"\",Main!N226)","v":""},null,"",{"$f":"K463","v":""}]
[{"$f":"IF(K465=\"\",\"\",SUM($L$18:L465))","v":""},{"$f":"IF(I465=\"\",\"\",CONCATENATE(Main!C227,\", \",Main!D227,IF(Main!F227>0,CONCATENATE(\", \",Main!F227),\"\")))","v":""},null,null,{"$f":"IF(I464=\"\",\"\",Main!O227)","v":""},{"$f":"IF(I464=\"\",\"\",Main!P227)","v":""},{"$f":"IF(I464=\"\",\"\",Main!Q227)","v":""},{"$f":"IF(I464=\"\",\"\",Main!R227)","v":""},{"$f":"IF(Main!S227=\"\",\"\",Main!S227)","v":""},null,""]
[null,null,null,null,{"$f":"IF(I465=\"\",\"\",Main!J227)","v":""},{"$f":"IF(I465=\"\",\"\",Main!K227)","v":""},{"$f":"IF(I465=\"\",\"\",Main!L227)","v":""},{"$f":"IF(I465=\"\",\"\",Main!M227)","v":""},{"$f":"IF(Main!N227=\"\",\"\",Main!N227)","v":""},null,"",{"$f":"K465","v":""}]
[{"$f":"IF(K467=\"\",\"\",SUM($L$18:L467))","v":""},{"$f":"IF(I467=\"\",\"\",CONCATENATE(Main!C228,\", \",Main!D228,IF(Main!F228>0,CONCATENATE(\", \",Main!F228),\"\")))","v":""},null,null,{"$f":"IF(I466=\"\",\"\",Main!O228)","v":""},{"$f":"IF(I466=\"\",\"\",Main!P228)","v":""},{"$f":"IF(I466=\"\",\"\",Main!Q228)","v":""},{"$f":"IF(I466=\"\",\"\",Main!R228)","v":""},{"$f":"IF(Main!S228=\"\",\"\",Main!S228)","v":""},null,""]
[null,null,null,null,{"$f":"IF(I467=\"\",\"\",Main!J228)","v":""},{"$f":"IF(I467=\"\",\"\",Main!K228)","v":""},{"$f":"IF(I467=\"\",\"\",Main!L228)","v":""},{"$f":"IF(I467=\"\",\"\",Main!M228)","v":""},{"$f":"IF(Main!N228=\"\",\"\",Main!N228)","v":""},null,{"$f":"IF(I467=\"\",\"\",1)","v":""},{"$f":"K467","v":""}]
[{"$f":"IF(K469=\"\",\"\",SUM($L$18:L469))","v":""},{"$f":"IF(I469=\"\",\"\",CONCATENATE(Main!C229,\", \",Main!D229,IF(Main!F229>0,CONCATENATE(\", \",Main!F229),\"\")))","v":""},null,null,{"$f":"IF(I468=\"\",\"\",Main!O229)","v":""},{"$f":"IF(I468=\"\",\"\",Main!P229)","v":""},{"$f":"IF(I468=\"\",\"\",Main!Q229)","v":""},{"$f":"IF(I468=\"\",\"\",Main!R229)","v":""},{"$f":"IF(Main!S229=\"\",\"\",Main!S229)","v":""},null,""]
[null,null,null,null,{"$f":"IF(I469=\"\",\"\",Main!J229)","v":""},{"$f":"IF(I469=\"\",\"\",Main!K229)","v":""},{"$f":"IF(I469=\"\",\"\",Main!L229)","v":""},{"$f":"IF(I469=\"\",\"\",Main!M229)","v":""},{"$f":"IF(Main!N229=\"\",\"\",Main!N229)","v":""},null,"",{"$f":"K469","v":""}]
[{"$f":"IF(K471=\"\",\"\",SUM($L$18:L471))","v":""},{"$f":"IF(I471=\"\",\"\",CONCATENATE(Main!C230,\", \",Main!D230,IF(Main!F230>0,CONCATENATE(\", \",Main!F230),\"\")))","v":""},null,null,{"$f":"IF(I470=\"\",\"\",Main!O230)","v":""},{"$f":"IF(I470=\"\",\"\",Main!P230)","v":""},{"$f":"IF(I470=\"\",\"\",Main!Q230)","v":""},{"$f":"IF(I470=\"\",\"\",Main!R230)","v":""},{"$f":"IF(Main!S230=\"\",\"\",Main!S230)","v":""},null,""]
[null,null,null,null,{"$f":"IF(I471=\"\",\"\",Main!J230)","v":""},{"$f":"IF(I471=\"\",\"\",Main!K230)","v":""},{"$f":"IF(I471=\"\",\"\",Main!L230)","v":""},{"$f":"IF(I471=\"\",\"\",Main!M230)","v":""},{"$f":"IF(Main!N230=\"\",\"\",Main!N230)","v":""},null,"",{"$f":"K471","v":""}]
[{"$f":"IF(K473=\"\",\"\",SUM($L$18:L473))","v":""},{"$f":"IF(I473=\"\",\"\",CONCATENATE(Main!C231,\", \",Main!D231,IF(Main!F231>0,CONCATENATE(\", \",Main!F231),\"\")))","v":""},null,null,{"$f":"IF(I472=\"\",\"\",Main!O231)","v":""},{"$f":"IF(I472=\"\",\"\",Main!P231)","v":""},{"$f":"IF(I472=\"\",\"\",Main!Q231)","v":""},{"$f":"IF(I472=\"\",\"\",Main!R231)","v":""},{"$f":"IF(Main!S231=\"\",\"\",Main!S231)","v":""},null,""]
[null,null,null,null,{"$f":"IF(I473=\"\",\"\",Main!J231)","v":""},{"$f":"IF(I473=\"\",\"\",Main!K231)","v":""},{"$f":"IF(I473=\"\",\"\",Main!L231)","v":""},{"$f":"IF(I473=\"\",\"\",Main!M231)","v":""},{"$f":"IF(Main!N231=\"\",\"\",Main!N231)","v":""},null,"",{"$f":"K473","v":""}]
[{"$f":"IF(K475=\"\",\"\",SUM($L$18:L475))","v":""},{"$f":"IF(I475=\"\",\"\",CONCATENATE(Main!C232,\", \",Main!D232,IF(Main!F232>0,CONCATENATE(\", \",Main!F232),\"\")))","v":""},null,null,{"$f":"IF(I474=\"\",\"\",Main!O232)","v":""},{"$f":"IF(I474=\"\",\"\",Main!P232)","v":""},{"$f":"IF(I474=\"\",\"\",Main!Q232)","v":""},{"$f":"IF(I474=\"\",\"\",Main!R232)","v":""},{"$f":"IF(Main!S232=\"\",\"\",Main!S232)","v":""},null,""]
[null,null,null,null,{"$f":"IF(I475=\"\",\"\",Main!J232)","v":""},{"$f":"IF(I475=\"\",\"\",Main!K232)","v":""},{"$f":"IF(I475=\"\",\"\",Main!L232)","v":""},{"$f":"IF(I475=\"\",\"\",Main!M232)","v":""},{"$f":"IF(Main!N232=\"\",\"\",Main!N232)","v":""},null,"",{"$f":"K475","v":""}]
[{"$f":"IF(K477=\"\",\"\",SUM($L$18:L477))","v":""},{"$f":"IF(I477=\"\",\"\",CONCATENATE(Main!C233,\", \",Main!D233,IF(Main!F233>0,CONCATENATE(\", \",Main!F233),\"\")))","v":""},null,null,{"$f":"IF(I476=\"\",\"\",Main!O233)","v":""},{"$f":"IF(I476=\"\",\"\",Main!P233)","v":""},{"$f":"IF(I476=\"\",\"\",Main!Q233)","v":""},{"$f":"IF(I476=\"\",\"\",Main!R233)","v":""},{"$f":"IF(Main!S233=\"\",\"\",Main!S233)","v":""},null,""]
[null,null,null,null,{"$f":"IF(I477=\"\",\"\",Main!J233)","v":""},{"$f":"IF(I477=\"\",\"\",Main!K233)","v":""},{"$f":"IF(I477=\"\",\"\",Main!L233)","v":""},{"$f":"IF(I477=\"\",\"\",Main!M233)","v":""},{"$f":"IF(Main!N233=\"\",\"\",Main!N233)","v":""},null,"",{"$f":"K477","v":""}]
[{"$f":"IF(K479=\"\",\"\",SUM($L$18:L479))","v":""},{"$f":"IF(I479=\"\",\"\",CONCATENATE(Main!C234,\", \",Main!D234,IF(Main!F234>0,CONCATENATE(\", \",Main!F234),\"\")))","v":""},null,null,{"$f":"IF(I478=\"\",\"\",Main!O234)","v":""},{"$f":"IF(I478=\"\",\"\",Main!P234)","v":""},{"$f":"IF(I478=\"\",\"\",Main!Q234)","v":""},{"$f":"IF(I478=\"\",\"\",Main!R234)","v":""},{"$f":"IF(Main!S234=\"\",\"\",Main!S234)","v":""},null,""]
[null,null,null,null,{"$f":"IF(I479=\"\",\"\",Main!J234)","v":""},{"$f":"IF(I479=\"\",\"\",Main!K234)","v":""},{"$f":"IF(I479=\"\",\"\",Main!L234)","v":""},{"$f":"IF(I479=\"\",\"\",Main!M234)","v":""},{"$f":"IF(Main!N234=\"\",\"\",Main!N234)","v":""},null,"",{"$f":"K479","v":""}]
[{"$f":"IF(K481=\"\",\"\",SUM($L$18:L481))","v":""},{"$f":"IF(I481=\"\",\"\",CONCATENATE(Main!C235,\", \",Main!D235,IF(Main!F235>0,CONCATENATE(\", \",Main!F235),\"\")))","v":""},null,null,{"$f":"IF(I480=\"\",\"\",Main!O235)","v":""},{"$f":"IF(I480=\"\",\"\",Main!P235)","v":""},{"$f":"IF(I480=\"\",\"\",Main!Q235)","v":""},{"$f":"IF(I480=\"\",\"\",Main!R235)","v":""},{"$f":"IF(Main!S235=\"\",\"\",Main!S235)","v":""},null,""]
[null,null,null,null,{"$f":"IF(I481=\"\",\"\",Main!J235)","v":""},{"$f":"IF(I481=\"\",\"\",Main!K235)","v":""},{"$f":"IF(I481=\"\",\"\",Main!L235)","v":""},{"$f":"IF(I481=\"\",\"\",Main!M235)","v":""},{"$f":"IF(Main!N235=\"\",\"\",Main!N235)","v":""},null,"",{"$f":"K481","v":""}]
[{"$f":"IF(K483=\"\",\"\",SUM($L$18:L483))","v":""},{"$f":"IF(I483=\"\",\"\",CONCATENATE(Main!C236,\", \",Main!D236,IF(Main!F236>0,CONCATENATE(\", \",Main!F236),\"\")))","v":""},null,null,{"$f":"IF(I482=\"\",\"\",Main!O236)","v":""},{"$f":"IF(I482=\"\",\"\",Main!P236)","v":""},{"$f":"IF(I482=\"\",\"\",Main!Q236)","v":""},{"$f":"IF(I482=\"\",\"\",Main!R236)","v":""},{"$f":"IF(Main!S236=\"\",\"\",Main!S236)","v":""},null,""]
[null,null,null,null,{"$f":"IF(I483=\"\",\"\",Main!J236)","v":""},{"$f":"IF(I483=\"\",\"\",Main!K236)","v":""},{"$f":"IF(I483=\"\",\"\",Main!L236)","v":""},{"$f":"IF(I483=\"\",\"\",Main!M236)","v":""},{"$f":"IF(Main!N236=\"\",\"\",Main!N236)","v":""},null,"",{"$f":"K483","v":""}]
[{"$f":"IF(K485=\"\",\"\",SUM($L$18:L485))","v":""},{"$f":"IF(I485=\"\",\"\",CONCATENATE(Main!C237,\", \",Main!D237,IF(Main!F237>0,CONCATENATE(\", \",Main!F237),\"\")))","v":""},null,null,{"$f":"IF(I484=\"\",\"\",Main!O237)","v":""},{"$f":"IF(I484=\"\",\"\",Main!P237)","v":""},{"$f":"IF(I484=\"\",\"\",Main!Q237)","v":""},{"$f":"IF(I484=\"\",\"\",Main!R237)","v":""},{"$f":"IF(Main!S237=\"\",\"\",Main!S237)","v":""},null,""]
[null,null,null,null,{"$f":"IF(I485=\"\",\"\",Main!J237)","v":""},{"$f":"IF(I485=\"\",\"\",Main!K237)","v":""},{"$f":"IF(I485=\"\",\"\",Main!L237)","v":""},{"$f":"IF(I485=\"\",\"\",Main!M237)","v":""},{"$f":"IF(Main!N237=\"\",\"\",Main!N237)","v":""},null,"",{"$f":"K485","v":""}]
[{"$f":"IF(K487=\"\",\"\",SUM($L$18:L487))","v":""},{"$f":"IF(I487=\"\",\"\",CONCATENATE(Main!C238,\", \",Main!D238,IF(Main!F238>0,CONCATENATE(\", \",Main!F238),\"\")))","v":""},null,null,{"$f":"IF(I486=\"\",\"\",Main!O238)","v":""},{"$f":"IF(I486=\"\",\"\",Main!P238)","v":""},{"$f":"IF(I486=\"\",\"\",Main!Q238)","v":""},{"$f":"IF(I486=\"\",\"\",Main!R238)","v":""},{"$f":"IF(Main!S238=\"\",\"\",Main!S238)","v":""},null,""]
[null,null,null,null,{"$f":"IF(I487=\"\",\"\",Main!J238)","v":""},{"$f":"IF(I487=\"\",\"\",Main!K238)","v":""},{"$f":"IF(I487=\"\",\"\",Main!L238)","v":""},{"$f":"IF(I487=\"\",\"\",Main!M238)","v":""},{"$f":"IF(Main!N238=\"\",\"\",Main!N238)","v":""},null,"",{"$f":"K487","v":""}]
[{"$f":"IF(K489=\"\",\"\",SUM($L$18:L489))","v":""},{"$f":"IF(I489=\"\",\"\",CONCATENATE(Main!C239,\", \",Main!D239,IF(Main!F239>0,CONCATENATE(\", \",Main!F239),\"\")))","v":""},null,null,{"$f":"IF(I488=\"\",\"\",Main!O239)","v":""},{"$f":"IF(I488=\"\",\"\",Main!P239)","v":""},{"$f":"IF(I488=\"\",\"\",Main!Q239)","v":""},{"$f":"IF(I488=\"\",\"\",Main!R239)","v":""},{"$f":"IF(Main!S239=\"\",\"\",Main!S239)","v":""},null,""]
[null,null,null,null,{"$f":"IF(I489=\"\",\"\",Main!J239)","v":""},{"$f":"IF(I489=\"\",\"\",Main!K239)","v":""},{"$f":"IF(I489=\"\",\"\",Main!L239)","v":""},{"$f":"IF(I489=\"\",\"\",Main!M239)","v":""},{"$f":"IF(Main!N239=\"\",\"\",Main!N239)","v":""},null,"",{"$f":"K489","v":""}]
[{"$f":"IF(K491=\"\",\"\",SUM($L$18:L491))","v":""},{"$f":"IF(I491=\"\",\"\",CONCATENATE(Main!C240,\", \",Main!D240,IF(Main!F240>0,CONCATENATE(\", \",Main!F240),\"\")))","v":""},null,null,{"$f":"IF(I490=\"\",\"\",Main!O240)","v":""},{"$f":"IF(I490=\"\",\"\",Main!P240)","v":""},{"$f":"IF(I490=\"\",\"\",Main!Q240)","v":""},{"$f":"IF(I490=\"\",\"\",Main!R240)","v":""},{"$f":"IF(Main!S240=\"\",\"\",Main!S240)","v":""},null,""]
[null,null,null,null,{"$f":"IF(I491=\"\",\"\",Main!J240)","v":""},{"$f":"IF(I491=\"\",\"\",Main!K240)","v":""},{"$f":"IF(I491=\"\",\"\",Main!L240)","v":""},{"$f":"IF(I491=\"\",\"\",Main!M240)","v":""},{"$f":"IF(Main!N240=\"\",\"\",Main!N240)","v":""},null,"",{"$f":"K491","v":""}]
[{"$f":"IF(K493=\"\",\"\",SUM($L$18:L493))","v":""},{"$f":"IF(I493=\"\",\"\",CONCATENATE(Main!C241,\", \",Main!D241,IF(Main!F241>0,CONCATENATE(\", \",Main!F241),\"\")))","v":""},null,null,{"$f":"IF(I492=\"\",\"\",Main!O241)","v":""},{"$f":"IF(I492=\"\",\"\",Main!P241)","v":""},{"$f":"IF(I492=\"\",\"\",Main!Q241)","v":""},{"$f":"IF(I492=\"\",\"\",Main!R241)","v":""},{"$f":"IF(Main!S241=\"\",\"\",Main!S241)","v":""},null,""]
[null,null,null,null,{"$f":"IF(I493=\"\",\"\",Main!J241)","v":""},{"$f":"IF(I493=\"\",\"\",Main!K241)","v":""},{"$f":"IF(I493=\"\",\"\",Main!L241)","v":""},{"$f":"IF(I493=\"\",\"\",Main!M241)","v":""},{"$f":"IF(Main!N241=\"\",\"\",Main!N241)","v":""},null,"",{"$f":"K493","v":""}]
[{"$f":"IF(K495=\"\",\"\",SUM($L$18:L495))","v":""},{"$f":"IF(I495=\"\",\"\",CONCATENATE(Main!C242,\", \",Main!D242,IF(Main!F242>0,CONCATENATE(\", \",Main!F242),\"\")))","v":""},null,null,{"$f":"IF(I494=\"\",\"\",Main!O242)","v":""},{"$f":"IF(I494=\"\",\"\",Main!P242)","v":""},{"$f":"IF(I494=\"\",\"\",Main!Q242)","v":""},{"$f":"IF(I494=\"\",\"\",Main!R242)","v":""},{"$f":"IF(Main!S242=\"\",\"\",Main!S242)","v":""},null,""]
[null,null,null,null,{"$f":"IF(I495=\"\",\"\",Main!J242)","v":""},{"$f":"IF(I495=\"\",\"\",Main!K242)","v":""},{"$f":"IF(I495=\"\",\"\",Main!L242)","v":""},{"$f":"IF(I495=\"\",\"\",Main!M242)","v":""},{"$f":"IF(Main!N242=\"\",\"\",Main!N242)","v":""},null,"",{"$f":"K495","v":""}]
[{"$f":"IF(K497=\"\",\"\",SUM($L$18:L497))","v":""},{"$f":"IF(I497=\"\",\"\",CONCATENATE(Main!C243,\", \",Main!D243,IF(Main!F243>0,CONCATENATE(\", \",Main!F243),\"\")))","v":""},null,null,{"$f":"IF(I496=\"\",\"\",Main!O243)","v":""},{"$f":"IF(I496=\"\",\"\",Main!P243)","v":""},{"$f":"IF(I496=\"\",\"\",Main!Q243)","v":""},{"$f":"IF(I496=\"\",\"\",Main!R243)","v":""},{"$f":"IF(Main!S243=\"\",\"\",Main!S243)","v":""},null,""]
[null,null,null,null,{"$f":"IF(I497=\"\",\"\",Main!J243)","v":""},{"$f":"IF(I497=\"\",\"\",Main!K243)","v":""},{"$f":"IF(I497=\"\",\"\",Main!L243)","v":""},{"$f":"IF(I497=\"\",\"\",Main!M243)","v":""},{"$f":"IF(Main!N243=\"\",\"\",Main!N243)","v":""},null,"",{"$f":"K497","v":""}]
[{"$f":"IF(K499=\"\",\"\",SUM($L$18:L499))","v":""},{"$f":"IF(I499=\"\",\"\",CONCATENATE(Main!C244,\", \",Main!D244,IF(Main!F244>0,CONCATENATE(\", \",Main!F244),\"\")))","v":""},null,null,{"$f":"IF(I498=\"\",\"\",Main!O244)","v":""},{"$f":"IF(I498=\"\",\"\",Main!P244)","v":""},{"$f":"IF(I498=\"\",\"\",Main!Q244)","v":""},{"$f":"IF(I498=\"\",\"\",Main!R244)","v":""},{"$f":"IF(Main!S244=\"\",\"\",Main!S244)","v":""},null,""]
[null,null,null,null,{"$f":"IF(I499=\"\",\"\",Main!J244)","v":""},{"$f":"IF(I499=\"\",\"\",Main!K244)","v":""},{"$f":"IF(I499=\"\",\"\",Main!L244)","v":""},{"$f":"IF(I499=\"\",\"\",Main!M244)","v":""},{"$f":"IF(Main!N244=\"\",\"\",Main!N244)","v":""},null,"",{"$f":"K499","v":""}]
[{"$f":"IF(K501=\"\",\"\",SUM($L$18:L501))","v":""},{"$f":"IF(I501=\"\",\"\",CONCATENATE(Main!C245,\", \",Main!D245,IF(Main!F245>0,CONCATENATE(\", \",Main!F245),\"\")))","v":""},null,null,{"$f":"IF(I500=\"\",\"\",Main!O245)","v":""},{"$f":"IF(I500=\"\",\"\",Main!P245)","v":""},{"$f":"IF(I500=\"\",\"\",Main!Q245)","v":""},{"$f":"IF(I500=\"\",\"\",Main!R245)","v":""},{"$f":"IF(Main!S245=\"\",\"\",Main!S245)","v":""},null,""]
[null,null,null,null,{"$f":"IF(I501=\"\",\"\",Main!J245)","v":""},{"$f":"IF(I501=\"\",\"\",Main!K245)","v":""},{"$f":"IF(I501=\"\",\"\",Main!L245)","v":""},{"$f":"IF(I501=\"\",\"\",Main!M245)","v":""},{"$f":"IF(Main!N245=\"\",\"\",Main!N245)","v":""},null,"",{"$f":"K501","v":""}]
[{"$f":"IF(K503=\"\",\"\",SUM($L$18:L503))","v":""},{"$f":"IF(I503=\"\",\"\",CONCATENATE(Main!C246,\", \",Main!D246,IF(Main!F246>0,CONCATENATE(\", \",Main!F246),\"\")))","v":""},null,null,{"$f":"IF(I502=\"\",\"\",Main!O246)","v":""},{"$f":"IF(I502=\"\",\"\",Main!P246)","v":""},{"$f":"IF(I502=\"\",\"\",Main!Q246)","v":""},{"$f":"IF(I502=\"\",\"\",Main!R246)","v":""},{"$f":"IF(Main!S246=\"\",\"\",Main!S246)","v":""},null,""]
[null,null,null,null,{"$f":"IF(I503=\"\",\"\",Main!J246)","v":""},{"$f":"IF(I503=\"\",\"\",Main!K246)","v":""},{"$f":"IF(I503=\"\",\"\",Main!L246)","v":""},{"$f":"IF(I503=\"\",\"\",Main!M246)","v":""},{"$f":"IF(Main!N246=\"\",\"\",Main!N246)","v":""},null,"",{"$f":"K503","v":""}]
[{"$f":"IF(K505=\"\",\"\",SUM($L$18:L505))","v":""},{"$f":"IF(I505=\"\",\"\",CONCATENATE(Main!C247,\", \",Main!D247,IF(Main!F247>0,CONCATENATE(\", \",Main!F247),\"\")))","v":""},null,null,{"$f":"IF(I504=\"\",\"\",Main!O247)","v":""},{"$f":"IF(I504=\"\",\"\",Main!P247)","v":""},{"$f":"IF(I504=\"\",\"\",Main!Q247)","v":""},{"$f":"IF(I504=\"\",\"\",Main!R247)","v":""},{"$f":"IF(Main!S247=\"\",\"\",Main!S247)","v":""},null,""]
[null,null,null,null,{"$f":"IF(I505=\"\",\"\",Main!J247)","v":""},{"$f":"IF(I505=\"\",\"\",Main!K247)","v":""},{"$f":"IF(I505=\"\",\"\",Main!L247)","v":""},{"$f":"IF(I505=\"\",\"\",Main!M247)","v":""},{"$f":"IF(Main!N247=\"\",\"\",Main!N247)","v":""},null,"",{"$f":"K505","v":""}]
[{"$f":"IF(K507=\"\",\"\",SUM($L$18:L507))","v":""},{"$f":"IF(I507=\"\",\"\",CONCATENATE(Main!C248,\", \",Main!D248,IF(Main!F248>0,CONCATENATE(\", \",Main!F248),\"\")))","v":""},null,null,{"$f":"IF(I506=\"\",\"\",Main!O248)","v":""},{"$f":"IF(I506=\"\",\"\",Main!P248)","v":""},{"$f":"IF(I506=\"\",\"\",Main!Q248)","v":""},{"$f":"IF(I506=\"\",\"\",Main!R248)","v":""},{"$f":"IF(Main!S248=\"\",\"\",Main!S248)","v":""},null,""]
[null,null,null,null,{"$f":"IF(I507=\"\",\"\",Main!J248)","v":""},{"$f":"IF(I507=\"\",\"\",Main!K248)","v":""},{"$f":"IF(I507=\"\",\"\",Main!L248)","v":""},{"$f":"IF(I507=\"\",\"\",Main!M248)","v":""},{"$f":"IF(Main!N248=\"\",\"\",Main!N248)","v":""},null,"",{"$f":"K507","v":""}]
[{"$f":"IF(K509=\"\",\"\",SUM($L$18:L509))","v":""},{"$f":"IF(I509=\"\",\"\",CONCATENATE(Main!C249,\", \",Main!D249,IF(Main!F249>0,CONCATENATE(\", \",Main!F249),\"\")))","v":""},null,null,{"$f":"IF(I508=\"\",\"\",Main!O249)","v":""},{"$f":"IF(I508=\"\",\"\",Main!P249)","v":""},{"$f":"IF(I508=\"\",\"\",Main!Q249)","v":""},{"$f":"IF(I508=\"\",\"\",Main!R249)","v":""},{"$f":"IF(Main!S249=\"\",\"\",Main!S249)","v":""},null,""]
[null,null,null,null,{"$f":"IF(I509=\"\",\"\",Main!J249)","v":""},{"$f":"IF(I509=\"\",\"\",Main!K249)","v":""},{"$f":"IF(I509=\"\",\"\",Main!L249)","v":""},{"$f":"IF(I509=\"\",\"\",Main!M249)","v":""},{"$f":"IF(Main!N249=\"\",\"\",Main!N249)","v":""},null,"",{"$f":"K509","v":""}]
[{"$f":"IF(K511=\"\",\"\",SUM($L$18:L511))","v":""},{"$f":"IF(I511=\"\",\"\",CONCATENATE(Main!C250,\", \",Main!D250,IF(Main!F250>0,CONCATENATE(\", \",Main!F250),\"\")))","v":""},null,null,{"$f":"IF(I510=\"\",\"\",Main!O250)","v":""},{"$f":"IF(I510=\"\",\"\",Main!P250)","v":""},{"$f":"IF(I510=\"\",\"\",Main!Q250)","v":""},{"$f":"IF(I510=\"\",\"\",Main!R250)","v":""},{"$f":"IF(Main!S250=\"\",\"\",Main!S250)","v":""},null,""]
[null,null,null,null,{"$f":"IF(I511=\"\",\"\",Main!J250)","v":""},{"$f":"IF(I511=\"\",\"\",Main!K250)","v":""},{"$f":"IF(I511=\"\",\"\",Main!L250)","v":""},{"$f":"IF(I511=\"\",\"\",Main!M250)","v":""},{"$f":"IF(Main!N250=\"\",\"\",Main!N250)","v":""},null,"",{"$f":"K511","v":""}]
[{"$f":"IF(K513=\"\",\"\",SUM($L$18:L513))","v":""},{"$f":"IF(I513=\"\",\"\",CONCATENATE(Main!C251,\", \",Main!D251,IF(Main!F251>0,CONCATENATE(\", \",Main!F251),\"\")))","v":""},null,null,{"$f":"IF(I512=\"\",\"\",Main!O251)","v":""},{"$f":"IF(I512=\"\",\"\",Main!P251)","v":""},{"$f":"IF(I512=\"\",\"\",Main!Q251)","v":""},{"$f":"IF(I512=\"\",\"\",Main!R251)","v":""},{"$f":"IF(Main!S251=\"\",\"\",Main!S251)","v":""},null,""]
[null,null,null,null,{"$f":"IF(I513=\"\",\"\",Main!J251)","v":""},{"$f":"IF(I513=\"\",\"\",Main!K251)","v":""},{"$f":"IF(I513=\"\",\"\",Main!L251)","v":""},{"$f":"IF(I513=\"\",\"\",Main!M251)","v":""},{"$f":"IF(Main!N251=\"\",\"\",Main!N251)","v":""},null,"",{"$f":"K513","v":""}]
[{"$f":"IF(K515=\"\",\"\",SUM($L$18:L515))","v":""},{"$f":"IF(I515=\"\",\"\",CONCATENATE(Main!C252,\", \",Main!D252,IF(Main!F252>0,CONCATENATE(\", \",Main!F252),\"\")))","v":""},null,null,{"$f":"IF(I514=\"\",\"\",Main!O252)","v":""},{"$f":"IF(I514=\"\",\"\",Main!P252)","v":""},{"$f":"IF(I514=\"\",\"\",Main!Q252)","v":""},{"$f":"IF(I514=\"\",\"\",Main!R252)","v":""},{"$f":"IF(Main!S252=\"\",\"\",Main!S252)","v":""},null,""]
[null,null,null,null,{"$f":"IF(I515=\"\",\"\",Main!J252)","v":""},{"$f":"IF(I515=\"\",\"\",Main!K252)","v":""},{"$f":"IF(I515=\"\",\"\",Main!L252)","v":""},{"$f":"IF(I515=\"\",\"\",Main!M252)","v":""},{"$f":"IF(Main!N252=\"\",\"\",Main!N252)","v":""},null,"",{"$f":"K515","v":""}]
[{"$f":"IF(K517=\"\",\"\",SUM($L$18:L517))","v":""},{"$f":"IF(I517=\"\",\"\",CONCATENATE(Main!C253,\", \",Main!D253,IF(Main!F253>0,CONCATENATE(\", \",Main!F253),\"\")))","v":""},null,null,{"$f":"IF(I516=\"\",\"\",Main!O253)","v":""},{"$f":"IF(I516=\"\",\"\",Main!P253)","v":""},{"$f":"IF(I516=\"\",\"\",Main!Q253)","v":""},{"$f":"IF(I516=\"\",\"\",Main!R253)","v":""},{"$f":"IF(Main!S253=\"\",\"\",Main!S253)","v":""},null,""]
[null,null,null,null,{"$f":"IF(I517=\"\",\"\",Main!J253)","v":""},{"$f":"IF(I517=\"\",\"\",Main!K253)","v":""},{"$f":"IF(I517=\"\",\"\",Main!L253)","v":""},{"$f":"IF(I517=\"\",\"\",Main!M253)","v":""},{"$f":"IF(Main!N253=\"\",\"\",Main!N253)","v":""},null,"",{"$f":"K517","v":""}]
[{"$f":"IF(K519=\"\",\"\",SUM($L$18:L519))","v":""},{"$f":"IF(I519=\"\",\"\",CONCATENATE(Main!C254,\", \",Main!D254,IF(Main!F254>0,CONCATENATE(\", \",Main!F254),\"\")))","v":""},null,null,{"$f":"IF(I518=\"\",\"\",Main!O254)","v":""},{"$f":"IF(I518=\"\",\"\",Main!P254)","v":""},{"$f":"IF(I518=\"\",\"\",Main!Q254)","v":""},{"$f":"IF(I518=\"\",\"\",Main!R254)","v":""},{"$f":"IF(Main!S254=\"\",\"\",Main!S254)","v":""},null,""]
[null,null,null,null,{"$f":"IF(I519=\"\",\"\",Main!J254)","v":""},{"$f":"IF(I519=\"\",\"\",Main!K254)","v":""},{"$f":"IF(I519=\"\",\"\",Main!L254)","v":""},{"$f":"IF(I519=\"\",\"\",Main!M254)","v":""},{"$f":"IF(Main!N254=\"\",\"\",Main!N254)","v":""},null,"",{"$f":"K519","v":""}]
[{"$f":"IF(K521=\"\",\"\",SUM($L$18:L521))","v":""},{"$f":"IF(I521=\"\",\"\",CONCATENATE(Main!C255,\", \",Main!D255,IF(Main!F255>0,CONCATENATE(\", \",Main!F255),\"\")))","v":""},null,null,{"$f":"IF(I520=\"\",\"\",Main!O255)","v":""},{"$f":"IF(I520=\"\",\"\",Main!P255)","v":""},{"$f":"IF(I520=\"\",\"\",Main!Q255)","v":""},{"$f":"IF(I520=\"\",\"\",Main!R255)","v":""},{"$f":"IF(Main!S255=\"\",\"\",Main!S255)","v":""},null,""]
[null,null,null,null,{"$f":"IF(I521=\"\",\"\",Main!J255)","v":""},{"$f":"IF(I521=\"\",\"\",Main!K255)","v":""},{"$f":"IF(I521=\"\",\"\",Main!L255)","v":""},{"$f":"IF(I521=\"\",\"\",Main!M255)","v":""},{"$f":"IF(Main!N255=\"\",\"\",Main!N255)","v":""},null,"",{"$f":"K521","v":""}]
[{"$f":"IF(K523=\"\",\"\",SUM($L$18:L523))","v":""},{"$f":"IF(I523=\"\",\"\",CONCATENATE(Main!C256,\", \",Main!D256,IF(Main!F256>0,CONCATENATE(\", \",Main!F256),\"\")))","v":""},null,null,{"$f":"IF(I522=\"\",\"\",Main!O256)","v":""},{"$f":"IF(I522=\"\",\"\",Main!P256)","v":""},{"$f":"IF(I522=\"\",\"\",Main!Q256)","v":""},{"$f":"IF(I522=\"\",\"\",Main!R256)","v":""},{"$f":"IF(Main!S256=\"\",\"\",Main!S256)","v":""},null,""]
[null,null,null,null,{"$f":"IF(I523=\"\",\"\",Main!J256)","v":""},{"$f":"IF(I523=\"\",\"\",Main!K256)","v":""},{"$f":"IF(I523=\"\",\"\",Main!L256)","v":""},{"$f":"IF(I523=\"\",\"\",Main!M256)","v":""},{"$f":"IF(Main!N256=\"\",\"\",Main!N256)","v":""},null,"",{"$f":"K523","v":""}]
[{"$f":"IF(K525=\"\",\"\",SUM($L$18:L525))","v":""},{"$f":"IF(I525=\"\",\"\",CONCATENATE(Main!C257,\", \",Main!D257,IF(Main!F257>0,CONCATENATE(\", \",Main!F257),\"\")))","v":""},null,null,{"$f":"IF(I524=\"\",\"\",Main!O257)","v":""},{"$f":"IF(I524=\"\",\"\",Main!P257)","v":""},{"$f":"IF(I524=\"\",\"\",Main!Q257)","v":""},{"$f":"IF(I524=\"\",\"\",Main!R257)","v":""},{"$f":"IF(Main!S257=\"\",\"\",Main!S257)","v":""},null,""]
[null,null,null,null,{"$f":"IF(I525=\"\",\"\",Main!J257)","v":""},{"$f":"IF(I525=\"\",\"\",Main!K257)","v":""},{"$f":"IF(I525=\"\",\"\",Main!L257)","v":""},{"$f":"IF(I525=\"\",\"\",Main!M257)","v":""},{"$f":"IF(Main!N257=\"\",\"\",Main!N257)","v":""},null,"",{"$f":"K525","v":""}]
[{"$f":"IF(K527=\"\",\"\",SUM($L$18:L527))","v":""},{"$f":"IF(I527=\"\",\"\",CONCATENATE(Main!C258,\", \",Main!D258,IF(Main!F258>0,CONCATENATE(\", \",Main!F258),\"\")))","v":""},null,null,{"$f":"IF(I526=\"\",\"\",Main!O258)","v":""},{"$f":"IF(I526=\"\",\"\",Main!P258)","v":""},{"$f":"IF(I526=\"\",\"\",Main!Q258)","v":""},{"$f":"IF(I526=\"\",\"\",Main!R258)","v":""},{"$f":"IF(Main!S258=\"\",\"\",Main!S258)","v":""},null,""]
[null,null,null,null,{"$f":"IF(I527=\"\",\"\",Main!J258)","v":""},{"$f":"IF(I527=\"\",\"\",Main!K258)","v":""},{"$f":"IF(I527=\"\",\"\",Main!L258)","v":""},{"$f":"IF(I527=\"\",\"\",Main!M258)","v":""},{"$f":"IF(Main!N258=\"\",\"\",Main!N258)","v":""},null,"",{"$f":"K527","v":""}]
[{"$f":"IF(K529=\"\",\"\",SUM($L$18:L529))","v":""},{"$f":"IF(I529=\"\",\"\",CONCATENATE(Main!C259,\", \",Main!D259,IF(Main!F259>0,CONCATENATE(\", \",Main!F259),\"\")))","v":""},null,null,{"$f":"IF(I528=\"\",\"\",Main!O259)","v":""},{"$f":"IF(I528=\"\",\"\",Main!P259)","v":""},{"$f":"IF(I528=\"\",\"\",Main!Q259)","v":""},{"$f":"IF(I528=\"\",\"\",Main!R259)","v":""},{"$f":"IF(Main!S259=\"\",\"\",Main!S259)","v":""},null,""]
[null,null,null,null,{"$f":"IF(I529=\"\",\"\",Main!J259)","v":""},{"$f":"IF(I529=\"\",\"\",Main!K259)","v":""},{"$f":"IF(I529=\"\",\"\",Main!L259)","v":""},{"$f":"IF(I529=\"\",\"\",Main!M259)","v":""},{"$f":"IF(Main!N259=\"\",\"\",Main!N259)","v":""},null,"",{"$f":"K529","v":""}]
[{"$f":"IF(K531=\"\",\"\",SUM($L$18:L531))","v":""},{"$f":"IF(I531=\"\",\"\",CONCATENATE(Main!C260,\", \",Main!D260,IF(Main!F260>0,CONCATENATE(\", \",Main!F260),\"\")))","v":""},null,null,{"$f":"IF(I530=\"\",\"\",Main!O260)","v":""},{"$f":"IF(I530=\"\",\"\",Main!P260)","v":""},{"$f":"IF(I530=\"\",\"\",Main!Q260)","v":""},{"$f":"IF(I530=\"\",\"\",Main!R260)","v":""},{"$f":"IF(Main!S260=\"\",\"\",Main!S260)","v":""},null,""]
[null,null,null,null,{"$f":"IF(I531=\"\",\"\",Main!J260)","v":""},{"$f":"IF(I531=\"\",\"\",Main!K260)","v":""},{"$f":"IF(I531=\"\",\"\",Main!L260)","v":""},{"$f":"IF(I531=\"\",\"\",Main!M260)","v":""},{"$f":"IF(Main!N260=\"\",\"\",Main!N260)","v":""},null,{"$f":"IF(I531=\"\",\"\",1)","v":""},{"$f":"K531","v":""}]
[{"$f":"IF(K533=\"\",\"\",SUM($L$18:L533))","v":""},{"$f":"IF(I533=\"\",\"\",CONCATENATE(Main!C261,\", \",Main!D261,IF(Main!F261>0,CONCATENATE(\", \",Main!F261),\"\")))","v":""},null,null,{"$f":"IF(I532=\"\",\"\",Main!O261)","v":""},{"$f":"IF(I532=\"\",\"\",Main!P261)","v":""},{"$f":"IF(I532=\"\",\"\",Main!Q261)","v":""},{"$f":"IF(I532=\"\",\"\",Main!R261)","v":""},{"$f":"IF(Main!S261=\"\",\"\",Main!S261)","v":""},null,""]
[null,null,null,null,{"$f":"IF(I533=\"\",\"\",Main!J261)","v":""},{"$f":"IF(I533=\"\",\"\",Main!K261)","v":""},{"$f":"IF(I533=\"\",\"\",Main!L261)","v":""},{"$f":"IF(I533=\"\",\"\",Main!M261)","v":""},{"$f":"IF(Main!N261=\"\",\"\",Main!N261)","v":""},null,"",{"$f":"K533","v":""}]
[{"$f":"IF(K535=\"\",\"\",SUM($L$18:L535))","v":""},{"$f":"IF(I535=\"\",\"\",CONCATENATE(Main!C262,\", \",Main!D262,IF(Main!F262>0,CONCATENATE(\", \",Main!F262),\"\")))","v":""},null,null,{"$f":"IF(I534=\"\",\"\",Main!O262)","v":""},{"$f":"IF(I534=\"\",\"\",Main!P262)","v":""},{"$f":"IF(I534=\"\",\"\",Main!Q262)","v":""},{"$f":"IF(I534=\"\",\"\",Main!R262)","v":""},{"$f":"IF(Main!S262=\"\",\"\",Main!S262)","v":""},null,""]
[null,null,null,null,{"$f":"IF(I535=\"\",\"\",Main!J262)","v":""},{"$f":"IF(I535=\"\",\"\",Main!K262)","v":""},{"$f":"IF(I535=\"\",\"\",Main!L262)","v":""},{"$f":"IF(I535=\"\",\"\",Main!M262)","v":""},{"$f":"IF(Main!N262=\"\",\"\",Main!N262)","v":""},null,"",{"$f":"K535","v":""}]
[{"$f":"IF(K537=\"\",\"\",SUM($L$18:L537))","v":""},{"$f":"IF(I537=\"\",\"\",CONCATENATE(Main!C263,\", \",Main!D263,IF(Main!F263>0,CONCATENATE(\", \",Main!F263),\"\")))","v":""},null,null,{"$f":"IF(I536=\"\",\"\",Main!O263)","v":""},{"$f":"IF(I536=\"\",\"\",Main!P263)","v":""},{"$f":"IF(I536=\"\",\"\",Main!Q263)","v":""},{"$f":"IF(I536=\"\",\"\",Main!R263)","v":""},{"$f":"IF(Main!S263=\"\",\"\",Main!S263)","v":""},null,""]
[null,null,null,null,{"$f":"IF(I537=\"\",\"\",Main!J263)","v":""},{"$f":"IF(I537=\"\",\"\",Main!K263)","v":""},{"$f":"IF(I537=\"\",\"\",Main!L263)","v":""},{"$f":"IF(I537=\"\",\"\",Main!M263)","v":""},{"$f":"IF(Main!N263=\"\",\"\",Main!N263)","v":""},null,"",{"$f":"K537","v":""}]
[{"$f":"IF(K539=\"\",\"\",SUM($L$18:L539))","v":""},{"$f":"IF(I539=\"\",\"\",CONCATENATE(Main!C264,\", \",Main!D264,IF(Main!F264>0,CONCATENATE(\", \",Main!F264),\"\")))","v":""},null,null,{"$f":"IF(I538=\"\",\"\",Main!O264)","v":""},{"$f":"IF(I538=\"\",\"\",Main!P264)","v":""},{"$f":"IF(I538=\"\",\"\",Main!Q264)","v":""},{"$f":"IF(I538=\"\",\"\",Main!R264)","v":""},{"$f":"IF(Main!S264=\"\",\"\",Main!S264)","v":""},null,""]
[null,null,null,null,{"$f":"IF(I539=\"\",\"\",Main!J264)","v":""},{"$f":"IF(I539=\"\",\"\",Main!K264)","v":""},{"$f":"IF(I539=\"\",\"\",Main!L264)","v":""},{"$f":"IF(I539=\"\",\"\",Main!M264)","v":""},{"$f":"IF(Main!N264=\"\",\"\",Main!N264)","v":""},null,"",{"$f":"K539","v":""}]
[{"$f":"IF(K541=\"\",\"\",SUM($L$18:L541))","v":""},{"$f":"IF(I541=\"\",\"\",CONCATENATE(Main!C265,\", \",Main!D265,IF(Main!F265>0,CONCATENATE(\", \",Main!F265),\"\")))","v":""},null,null,{"$f":"IF(I540=\"\",\"\",Main!O265)","v":""},{"$f":"IF(I540=\"\",\"\",Main!P265)","v":""},{"$f":"IF(I540=\"\",\"\",Main!Q265)","v":""},{"$f":"IF(I540=\"\",\"\",Main!R265)","v":""},{"$f":"IF(Main!S265=\"\",\"\",Main!S265)","v":""},null,""]
[null,null,null,null,{"$f":"IF(I541=\"\",\"\",Main!J265)","v":""},{"$f":"IF(I541=\"\",\"\",Main!K265)","v":""},{"$f":"IF(I541=\"\",\"\",Main!L265)","v":""},{"$f":"IF(I541=\"\",\"\",Main!M265)","v":""},{"$f":"IF(Main!N265=\"\",\"\",Main!N265)","v":""},null,"",{"$f":"K541","v":""}]
[{"$f":"IF(K543=\"\",\"\",SUM($L$18:L543))","v":""},{"$f":"IF(I543=\"\",\"\",CONCATENATE(Main!C266,\", \",Main!D266,IF(Main!F266>0,CONCATENATE(\", \",Main!F266),\"\")))","v":""},null,null,{"$f":"IF(I542=\"\",\"\",Main!O266)","v":""},{"$f":"IF(I542=\"\",\"\",Main!P266)","v":""},{"$f":"IF(I542=\"\",\"\",Main!Q266)","v":""},{"$f":"IF(I542=\"\",\"\",Main!R266)","v":""},{"$f":"IF(Main!S266=\"\",\"\",Main!S266)","v":""},null,""]
[null,null,null,null,{"$f":"IF(I543=\"\",\"\",Main!J266)","v":""},{"$f":"IF(I543=\"\",\"\",Main!K266)","v":""},{"$f":"IF(I543=\"\",\"\",Main!L266)","v":""},{"$f":"IF(I543=\"\",\"\",Main!M266)","v":""},{"$f":"IF(Main!N266=\"\",\"\",Main!N266)","v":""},null,"",{"$f":"K543","v":""}]
[{"$f":"IF(K545=\"\",\"\",SUM($L$18:L545))","v":""},{"$f":"IF(I545=\"\",\"\",CONCATENATE(Main!C267,\", \",Main!D267,IF(Main!F267>0,CONCATENATE(\", \",Main!F267),\"\")))","v":""},null,null,{"$f":"IF(I544=\"\",\"\",Main!O267)","v":""},{"$f":"IF(I544=\"\",\"\",Main!P267)","v":""},{"$f":"IF(I544=\"\",\"\",Main!Q267)","v":""},{"$f":"IF(I544=\"\",\"\",Main!R267)","v":""},{"$f":"IF(Main!S267=\"\",\"\",Main!S267)","v":""},null,""]
[null,null,null,null,{"$f":"IF(I545=\"\",\"\",Main!J267)","v":""},{"$f":"IF(I545=\"\",\"\",Main!K267)","v":""},{"$f":"IF(I545=\"\",\"\",Main!L267)","v":""},{"$f":"IF(I545=\"\",\"\",Main!M267)","v":""},{"$f":"IF(Main!N267=\"\",\"\",Main!N267)","v":""},null,"",{"$f":"K545","v":""}]
[{"$f":"IF(K547=\"\",\"\",SUM($L$18:L547))","v":""},{"$f":"IF(I547=\"\",\"\",CONCATENATE(Main!C268,\", \",Main!D268,IF(Main!F268>0,CONCATENATE(\", \",Main!F268),\"\")))","v":""},null,null,{"$f":"IF(I546=\"\",\"\",Main!O268)","v":""},{"$f":"IF(I546=\"\",\"\",Main!P268)","v":""},{"$f":"IF(I546=\"\",\"\",Main!Q268)","v":""},{"$f":"IF(I546=\"\",\"\",Main!R268)","v":""},{"$f":"IF(Main!S268=\"\",\"\",Main!S268)","v":""},null,""]
[null,null,null,null,{"$f":"IF(I547=\"\",\"\",Main!J268)","v":""},{"$f":"IF(I547=\"\",\"\",Main!K268)","v":""},{"$f":"IF(I547=\"\",\"\",Main!L268)","v":""},{"$f":"IF(I547=\"\",\"\",Main!M268)","v":""},{"$f":"IF(Main!N268=\"\",\"\",Main!N268)","v":""},null,"",{"$f":"K547","v":""}]
[{"$f":"IF(K549=\"\",\"\",SUM($L$18:L549))","v":""},{"$f":"IF(I549=\"\",\"\",CONCATENATE(Main!C269,\", \",Main!D269,IF(Main!F269>0,CONCATENATE(\", \",Main!F269),\"\")))","v":""},null,null,{"$f":"IF(I548=\"\",\"\",Main!O269)","v":""},{"$f":"IF(I548=\"\",\"\",Main!P269)","v":""},{"$f":"IF(I548=\"\",\"\",Main!Q269)","v":""},{"$f":"IF(I548=\"\",\"\",Main!R269)","v":""},{"$f":"IF(Main!S269=\"\",\"\",Main!S269)","v":""},null,""]
[null,null,null,null,{"$f":"IF(I549=\"\",\"\",Main!J269)","v":""},{"$f":"IF(I549=\"\",\"\",Main!K269)","v":""},{"$f":"IF(I549=\"\",\"\",Main!L269)","v":""},{"$f":"IF(I549=\"\",\"\",Main!M269)","v":""},{"$f":"IF(Main!N269=\"\",\"\",Main!N269)","v":""},null,"",{"$f":"K549","v":""}]
[{"$f":"IF(K551=\"\",\"\",SUM($L$18:L551))","v":""},{"$f":"IF(I551=\"\",\"\",CONCATENATE(Main!C270,\", \",Main!D270,IF(Main!F270>0,CONCATENATE(\", \",Main!F270),\"\")))","v":""},null,null,{"$f":"IF(I550=\"\",\"\",Main!O270)","v":""},{"$f":"IF(I550=\"\",\"\",Main!P270)","v":""},{"$f":"IF(I550=\"\",\"\",Main!Q270)","v":""},{"$f":"IF(I550=\"\",\"\",Main!R270)","v":""},{"$f":"IF(Main!S270=\"\",\"\",Main!S270)","v":""},null,""]
[null,null,null,null,{"$f":"IF(I551=\"\",\"\",Main!J270)","v":""},{"$f":"IF(I551=\"\",\"\",Main!K270)","v":""},{"$f":"IF(I551=\"\",\"\",Main!L270)","v":""},{"$f":"IF(I551=\"\",\"\",Main!M270)","v":""},{"$f":"IF(Main!N270=\"\",\"\",Main!N270)","v":""},null,"",{"$f":"K551","v":""}]
[{"$f":"IF(K553=\"\",\"\",SUM($L$18:L553))","v":""},{"$f":"IF(I553=\"\",\"\",CONCATENATE(Main!C271,\", \",Main!D271,IF(Main!F271>0,CONCATENATE(\", \",Main!F271),\"\")))","v":""},null,null,{"$f":"IF(I552=\"\",\"\",Main!O271)","v":""},{"$f":"IF(I552=\"\",\"\",Main!P271)","v":""},{"$f":"IF(I552=\"\",\"\",Main!Q271)","v":""},{"$f":"IF(I552=\"\",\"\",Main!R271)","v":""},{"$f":"IF(Main!S271=\"\",\"\",Main!S271)","v":""},null,""]
[null,null,null,null,{"$f":"IF(I553=\"\",\"\",Main!J271)","v":""},{"$f":"IF(I553=\"\",\"\",Main!K271)","v":""},{"$f":"IF(I553=\"\",\"\",Main!L271)","v":""},{"$f":"IF(I553=\"\",\"\",Main!M271)","v":""},{"$f":"IF(Main!N271=\"\",\"\",Main!N271)","v":""},null,"",{"$f":"K553","v":""}]
[{"$f":"IF(K555=\"\",\"\",SUM($L$18:L555))","v":""},{"$f":"IF(I555=\"\",\"\",CONCATENATE(Main!C272,\", \",Main!D272,IF(Main!F272>0,CONCATENATE(\", \",Main!F272),\"\")))","v":""},null,null,{"$f":"IF(I554=\"\",\"\",Main!O272)","v":""},{"$f":"IF(I554=\"\",\"\",Main!P272)","v":""},{"$f":"IF(I554=\"\",\"\",Main!Q272)","v":""},{"$f":"IF(I554=\"\",\"\",Main!R272)","v":""},{"$f":"IF(Main!S272=\"\",\"\",Main!S272)","v":""},null,""]
[null,null,null,null,{"$f":"IF(I555=\"\",\"\",Main!J272)","v":""},{"$f":"IF(I555=\"\",\"\",Main!K272)","v":""},{"$f":"IF(I555=\"\",\"\",Main!L272)","v":""},{"$f":"IF(I555=\"\",\"\",Main!M272)","v":""},{"$f":"IF(Main!N272=\"\",\"\",Main!N272)","v":""},null,"",{"$f":"K555","v":""}]
[{"$f":"IF(K557=\"\",\"\",SUM($L$18:L557))","v":""},{"$f":"IF(I557=\"\",\"\",CONCATENATE(Main!C273,\", \",Main!D273,IF(Main!F273>0,CONCATENATE(\", \",Main!F273),\"\")))","v":""},null,null,{"$f":"IF(I556=\"\",\"\",Main!O273)","v":""},{"$f":"IF(I556=\"\",\"\",Main!P273)","v":""},{"$f":"IF(I556=\"\",\"\",Main!Q273)","v":""},{"$f":"IF(I556=\"\",\"\",Main!R273)","v":""},{"$f":"IF(Main!S273=\"\",\"\",Main!S273)","v":""},null,""]
[null,null,null,null,{"$f":"IF(I557=\"\",\"\",Main!J273)","v":""},{"$f":"IF(I557=\"\",\"\",Main!K273)","v":""},{"$f":"IF(I557=\"\",\"\",Main!L273)","v":""},{"$f":"IF(I557=\"\",\"\",Main!M273)","v":""},{"$f":"IF(Main!N273=\"\",\"\",Main!N273)","v":""},null,"",{"$f":"K557","v":""}]
[{"$f":"IF(K559=\"\",\"\",SUM($L$18:L559))","v":""},{"$f":"IF(I559=\"\",\"\",CONCATENATE(Main!C274,\", \",Main!D274,IF(Main!F274>0,CONCATENATE(\", \",Main!F274),\"\")))","v":""},null,null,{"$f":"IF(I558=\"\",\"\",Main!O274)","v":""},{"$f":"IF(I558=\"\",\"\",Main!P274)","v":""},{"$f":"IF(I558=\"\",\"\",Main!Q274)","v":""},{"$f":"IF(I558=\"\",\"\",Main!R274)","v":""},{"$f":"IF(Main!S274=\"\",\"\",Main!S274)","v":""},null,""]
[null,null,null,null,{"$f":"IF(I559=\"\",\"\",Main!J274)","v":""},{"$f":"IF(I559=\"\",\"\",Main!K274)","v":""},{"$f":"IF(I559=\"\",\"\",Main!L274)","v":""},{"$f":"IF(I559=\"\",\"\",Main!M274)","v":""},{"$f":"IF(Main!N274=\"\",\"\",Main!N274)","v":""},null,"",{"$f":"K559","v":""}]
[{"$f":"IF(K561=\"\",\"\",SUM($L$18:L561))","v":""},{"$f":"IF(I561=\"\",\"\",CONCATENATE(Main!C275,\", \",Main!D275,IF(Main!F275>0,CONCATENATE(\", \",Main!F275),\"\")))","v":""},null,null,{"$f":"IF(I560=\"\",\"\",Main!O275)","v":""},{"$f":"IF(I560=\"\",\"\",Main!P275)","v":""},{"$f":"IF(I560=\"\",\"\",Main!Q275)","v":""},{"$f":"IF(I560=\"\",\"\",Main!R275)","v":""},{"$f":"IF(Main!S275=\"\",\"\",Main!S275)","v":""},null,""]
[null,null,null,null,{"$f":"IF(I561=\"\",\"\",Main!J275)","v":""},{"$f":"IF(I561=\"\",\"\",Main!K275)","v":""},{"$f":"IF(I561=\"\",\"\",Main!L275)","v":""},{"$f":"IF(I561=\"\",\"\",Main!M275)","v":""},{"$f":"IF(Main!N275=\"\",\"\",Main!N275)","v":""},null,"",{"$f":"K561","v":""}]
[{"$f":"IF(K563=\"\",\"\",SUM($L$18:L563))","v":""},{"$f":"IF(I563=\"\",\"\",CONCATENATE(Main!C276,\", \",Main!D276,IF(Main!F276>0,CONCATENATE(\", \",Main!F276),\"\")))","v":""},null,null,{"$f":"IF(I562=\"\",\"\",Main!O276)","v":""},{"$f":"IF(I562=\"\",\"\",Main!P276)","v":""},{"$f":"IF(I562=\"\",\"\",Main!Q276)","v":""},{"$f":"IF(I562=\"\",\"\",Main!R276)","v":""},{"$f":"IF(Main!S276=\"\",\"\",Main!S276)","v":""},null,""]
[null,null,null,null,{"$f":"IF(I563=\"\",\"\",Main!J276)","v":""},{"$f":"IF(I563=\"\",\"\",Main!K276)","v":""},{"$f":"IF(I563=\"\",\"\",Main!L276)","v":""},{"$f":"IF(I563=\"\",\"\",Main!M276)","v":""},{"$f":"IF(Main!N276=\"\",\"\",Main!N276)","v":""},null,"",{"$f":"K563","v":""}]
[{"$f":"IF(K565=\"\",\"\",SUM($L$18:L565))","v":""},{"$f":"IF(I565=\"\",\"\",CONCATENATE(Main!C277,\", \",Main!D277,IF(Main!F277>0,CONCATENATE(\", \",Main!F277),\"\")))","v":""},null,null,{"$f":"IF(I564=\"\",\"\",Main!O277)","v":""},{"$f":"IF(I564=\"\",\"\",Main!P277)","v":""},{"$f":"IF(I564=\"\",\"\",Main!Q277)","v":""},{"$f":"IF(I564=\"\",\"\",Main!R277)","v":""},{"$f":"IF(Main!S277=\"\",\"\",Main!S277)","v":""},null,""]
[null,null,null,null,{"$f":"IF(I565=\"\",\"\",Main!J277)","v":""},{"$f":"IF(I565=\"\",\"\",Main!K277)","v":""},{"$f":"IF(I565=\"\",\"\",Main!L277)","v":""},{"$f":"IF(I565=\"\",\"\",Main!M277)","v":""},{"$f":"IF(Main!N277=\"\",\"\",Main!N277)","v":""},null,"",{"$f":"K565","v":""}]
[{"$f":"IF(K567=\"\",\"\",SUM($L$18:L567))","v":""},{"$f":"IF(I567=\"\",\"\",CONCATENATE(Main!C278,\", \",Main!D278,IF(Main!F278>0,CONCATENATE(\", \",Main!F278),\"\")))","v":""},null,null,{"$f":"IF(I566=\"\",\"\",Main!O278)","v":""},{"$f":"IF(I566=\"\",\"\",Main!P278)","v":""},{"$f":"IF(I566=\"\",\"\",Main!Q278)","v":""},{"$f":"IF(I566=\"\",\"\",Main!R278)","v":""},{"$f":"IF(Main!S278=\"\",\"\",Main!S278)","v":""},null,""]
[null,null,null,null,{"$f":"IF(I567=\"\",\"\",Main!J278)","v":""},{"$f":"IF(I567=\"\",\"\",Main!K278)","v":""},{"$f":"IF(I567=\"\",\"\",Main!L278)","v":""},{"$f":"IF(I567=\"\",\"\",Main!M278)","v":""},{"$f":"IF(Main!N278=\"\",\"\",Main!N278)","v":""},null,"",{"$f":"K567","v":""}]
[{"$f":"IF(K569=\"\",\"\",SUM($L$18:L569))","v":""},{"$f":"IF(I569=\"\",\"\",CONCATENATE(Main!C279,\", \",Main!D279,IF(Main!F279>0,CONCATENATE(\", \",Main!F279),\"\")))","v":""},null,null,{"$f":"IF(I568=\"\",\"\",Main!O279)","v":""},{"$f":"IF(I568=\"\",\"\",Main!P279)","v":""},{"$f":"IF(I568=\"\",\"\",Main!Q279)","v":""},{"$f":"IF(I568=\"\",\"\",Main!R279)","v":""},{"$f":"IF(Main!S279=\"\",\"\",Main!S279)","v":""},null,""]
[null,null,null,null,{"$f":"IF(I569=\"\",\"\",Main!J279)","v":""},{"$f":"IF(I569=\"\",\"\",Main!K279)","v":""},{"$f":"IF(I569=\"\",\"\",Main!L279)","v":""},{"$f":"IF(I569=\"\",\"\",Main!M279)","v":""},{"$f":"IF(Main!N279=\"\",\"\",Main!N279)","v":""},null,"",{"$f":"K569","v":""}]
[{"$f":"IF(K571=\"\",\"\",SUM($L$18:L571))","v":""},{"$f":"IF(I571=\"\",\"\",CONCATENATE(Main!C280,\", \",Main!D280,IF(Main!F280>0,CONCATENATE(\", \",Main!F280),\"\")))","v":""},null,null,{"$f":"IF(I570=\"\",\"\",Main!O280)","v":""},{"$f":"IF(I570=\"\",\"\",Main!P280)","v":""},{"$f":"IF(I570=\"\",\"\",Main!Q280)","v":""},{"$f":"IF(I570=\"\",\"\",Main!R280)","v":""},{"$f":"IF(Main!S280=\"\",\"\",Main!S280)","v":""},null,""]
[null,null,null,null,{"$f":"IF(I571=\"\",\"\",Main!J280)","v":""},{"$f":"IF(I571=\"\",\"\",Main!K280)","v":""},{"$f":"IF(I571=\"\",\"\",Main!L280)","v":""},{"$f":"IF(I571=\"\",\"\",Main!M280)","v":""},{"$f":"IF(Main!N280=\"\",\"\",Main!N280)","v":""},null,"",{"$f":"K571","v":""}]
[{"$f":"IF(K573=\"\",\"\",SUM($L$18:L573))","v":""},{"$f":"IF(I573=\"\",\"\",CONCATENATE(Main!C281,\", \",Main!D281,IF(Main!F281>0,CONCATENATE(\", \",Main!F281),\"\")))","v":""},null,null,{"$f":"IF(I572=\"\",\"\",Main!O281)","v":""},{"$f":"IF(I572=\"\",\"\",Main!P281)","v":""},{"$f":"IF(I572=\"\",\"\",Main!Q281)","v":""},{"$f":"IF(I572=\"\",\"\",Main!R281)","v":""},{"$f":"IF(Main!S281=\"\",\"\",Main!S281)","v":""},null,""]
[null,null,null,null,{"$f":"IF(I573=\"\",\"\",Main!J281)","v":""},{"$f":"IF(I573=\"\",\"\",Main!K281)","v":""},{"$f":"IF(I573=\"\",\"\",Main!L281)","v":""},{"$f":"IF(I573=\"\",\"\",Main!M281)","v":""},{"$f":"IF(Main!N281=\"\",\"\",Main!N281)","v":""},null,"",{"$f":"K573","v":""}]
[{"$f":"IF(K575=\"\",\"\",SUM($L$18:L575))","v":""},{"$f":"IF(I575=\"\",\"\",CONCATENATE(Main!C282,\", \",Main!D282,IF(Main!F282>0,CONCATENATE(\", \",Main!F282),\"\")))","v":""},null,null,{"$f":"IF(I574=\"\",\"\",Main!O282)","v":""},{"$f":"IF(I574=\"\",\"\",Main!P282)","v":""},{"$f":"IF(I574=\"\",\"\",Main!Q282)","v":""},{"$f":"IF(I574=\"\",\"\",Main!R282)","v":""},{"$f":"IF(Main!S282=\"\",\"\",Main!S282)","v":""},null,""]
[null,null,null,null,{"$f":"IF(I575=\"\",\"\",Main!J282)","v":""},{"$f":"IF(I575=\"\",\"\",Main!K282)","v":""},{"$f":"IF(I575=\"\",\"\",Main!L282)","v":""},{"$f":"IF(I575=\"\",\"\",Main!M282)","v":""},{"$f":"IF(Main!N282=\"\",\"\",Main!N282)","v":""},null,"",{"$f":"K575","v":""}]
[{"$f":"IF(K577=\"\",\"\",SUM($L$18:L577))","v":""},{"$f":"IF(I577=\"\",\"\",CONCATENATE(Main!C283,\", \",Main!D283,IF(Main!F283>0,CONCATENATE(\", \",Main!F283),\"\")))","v":""},null,null,{"$f":"IF(I576=\"\",\"\",Main!O283)","v":""},{"$f":"IF(I576=\"\",\"\",Main!P283)","v":""},{"$f":"IF(I576=\"\",\"\",Main!Q283)","v":""},{"$f":"IF(I576=\"\",\"\",Main!R283)","v":""},{"$f":"IF(Main!S283=\"\",\"\",Main!S283)","v":""},null,""]
[null,null,null,null,{"$f":"IF(I577=\"\",\"\",Main!J283)","v":""},{"$f":"IF(I577=\"\",\"\",Main!K283)","v":""},{"$f":"IF(I577=\"\",\"\",Main!L283)","v":""},{"$f":"IF(I577=\"\",\"\",Main!M283)","v":""},{"$f":"IF(Main!N283=\"\",\"\",Main!N283)","v":""},null,"",{"$f":"K577","v":""}]
[{"$f":"IF(K579=\"\",\"\",SUM($L$18:L579))","v":""},{"$f":"IF(I579=\"\",\"\",CONCATENATE(Main!C284,\", \",Main!D284,IF(Main!F284>0,CONCATENATE(\", \",Main!F284),\"\")))","v":""},null,null,{"$f":"IF(I578=\"\",\"\",Main!O284)","v":""},{"$f":"IF(I578=\"\",\"\",Main!P284)","v":""},{"$f":"IF(I578=\"\",\"\",Main!Q284)","v":""},{"$f":"IF(I578=\"\",\"\",Main!R284)","v":""},{"$f":"IF(Main!S284=\"\",\"\",Main!S284)","v":""},null,""]
[null,null,null,null,{"$f":"IF(I579=\"\",\"\",Main!J284)","v":""},{"$f":"IF(I579=\"\",\"\",Main!K284)","v":""},{"$f":"IF(I579=\"\",\"\",Main!L284)","v":""},{"$f":"IF(I579=\"\",\"\",Main!M284)","v":""},{"$f":"IF(Main!N284=\"\",\"\",Main!N284)","v":""},null,"",{"$f":"K579","v":""}]
[{"$f":"IF(K581=\"\",\"\",SUM($L$18:L581))","v":""},{"$f":"IF(I581=\"\",\"\",CONCATENATE(Main!C285,\", \",Main!D285,IF(Main!F285>0,CONCATENATE(\", \",Main!F285),\"\")))","v":""},null,null,{"$f":"IF(I580=\"\",\"\",Main!O285)","v":""},{"$f":"IF(I580=\"\",\"\",Main!P285)","v":""},{"$f":"IF(I580=\"\",\"\",Main!Q285)","v":""},{"$f":"IF(I580=\"\",\"\",Main!R285)","v":""},{"$f":"IF(Main!S285=\"\",\"\",Main!S285)","v":""},null,""]
[null,null,null,null,{"$f":"IF(I581=\"\",\"\",Main!J285)","v":""},{"$f":"IF(I581=\"\",\"\",Main!K285)","v":""},{"$f":"IF(I581=\"\",\"\",Main!L285)","v":""},{"$f":"IF(I581=\"\",\"\",Main!M285)","v":""},{"$f":"IF(Main!N285=\"\",\"\",Main!N285)","v":""},null,"",{"$f":"K581","v":""}]
[{"$f":"IF(K583=\"\",\"\",SUM($L$18:L583))","v":""},{"$f":"IF(I583=\"\",\"\",CONCATENATE(Main!C286,\", \",Main!D286,IF(Main!F286>0,CONCATENATE(\", \",Main!F286),\"\")))","v":""},null,null,{"$f":"IF(I582=\"\",\"\",Main!O286)","v":""},{"$f":"IF(I582=\"\",\"\",Main!P286)","v":""},{"$f":"IF(I582=\"\",\"\",Main!Q286)","v":""},{"$f":"IF(I582=\"\",\"\",Main!R286)","v":""},{"$f":"IF(Main!S286=\"\",\"\",Main!S286)","v":""},null,""]
[null,null,null,null,{"$f":"IF(I583=\"\",\"\",Main!J286)","v":""},{"$f":"IF(I583=\"\",\"\",Main!K286)","v":""},{"$f":"IF(I583=\"\",\"\",Main!L286)","v":""},{"$f":"IF(I583=\"\",\"\",Main!M286)","v":""},{"$f":"IF(Main!N286=\"\",\"\",Main!N286)","v":""},null,"",{"$f":"K583","v":""}]
[{"$f":"IF(K585=\"\",\"\",SUM($L$18:L585))","v":""},{"$f":"IF(I585=\"\",\"\",CONCATENATE(Main!C287,\", \",Main!D287,IF(Main!F287>0,CONCATENATE(\", \",Main!F287),\"\")))","v":""},null,null,{"$f":"IF(I584=\"\",\"\",Main!O287)","v":""},{"$f":"IF(I584=\"\",\"\",Main!P287)","v":""},{"$f":"IF(I584=\"\",\"\",Main!Q287)","v":""},{"$f":"IF(I584=\"\",\"\",Main!R287)","v":""},{"$f":"IF(Main!S287=\"\",\"\",Main!S287)","v":""},null,""]
[null,null,null,null,{"$f":"IF(I585=\"\",\"\",Main!J287)","v":""},{"$f":"IF(I585=\"\",\"\",Main!K287)","v":""},{"$f":"IF(I585=\"\",\"\",Main!L287)","v":""},{"$f":"IF(I585=\"\",\"\",Main!M287)","v":""},{"$f":"IF(Main!N287=\"\",\"\",Main!N287)","v":""},null,"",{"$f":"K585","v":""}]
[{"$f":"IF(K587=\"\",\"\",SUM($L$18:L587))","v":""},{"$f":"IF(I587=\"\",\"\",CONCATENATE(Main!C288,\", \",Main!D288,IF(Main!F288>0,CONCATENATE(\", \",Main!F288),\"\")))","v":""},null,null,{"$f":"IF(I586=\"\",\"\",Main!O288)","v":""},{"$f":"IF(I586=\"\",\"\",Main!P288)","v":""},{"$f":"IF(I586=\"\",\"\",Main!Q288)","v":""},{"$f":"IF(I586=\"\",\"\",Main!R288)","v":""},{"$f":"IF(Main!S288=\"\",\"\",Main!S288)","v":""},null,""]
[null,null,null,null,{"$f":"IF(I587=\"\",\"\",Main!J288)","v":""},{"$f":"IF(I587=\"\",\"\",Main!K288)","v":""},{"$f":"IF(I587=\"\",\"\",Main!L288)","v":""},{"$f":"IF(I587=\"\",\"\",Main!M288)","v":""},{"$f":"IF(Main!N288=\"\",\"\",Main!N288)","v":""},null,"",{"$f":"K587","v":""}]
[{"$f":"IF(K589=\"\",\"\",SUM($L$18:L589))","v":""},{"$f":"IF(I589=\"\",\"\",CONCATENATE(Main!C289,\", \",Main!D289,IF(Main!F289>0,CONCATENATE(\", \",Main!F289),\"\")))","v":""},null,null,{"$f":"IF(I588=\"\",\"\",Main!O289)","v":""},{"$f":"IF(I588=\"\",\"\",Main!P289)","v":""},{"$f":"IF(I588=\"\",\"\",Main!Q289)","v":""},{"$f":"IF(I588=\"\",\"\",Main!R289)","v":""},{"$f":"IF(Main!S289=\"\",\"\",Main!S289)","v":""},null,""]
[null,null,null,null,{"$f":"IF(I589=\"\",\"\",Main!J289)","v":""},{"$f":"IF(I589=\"\",\"\",Main!K289)","v":""},{"$f":"IF(I589=\"\",\"\",Main!L289)","v":""},{"$f":"IF(I589=\"\",\"\",Main!M289)","v":""},{"$f":"IF(Main!N289=\"\",\"\",Main!N289)","v":""},null,"",{"$f":"K589","v":""}]
[{"$f":"IF(K591=\"\",\"\",SUM($L$18:L591))","v":""},{"$f":"IF(I591=\"\",\"\",CONCATENATE(Main!C290,\", \",Main!D290,IF(Main!F290>0,CONCATENATE(\", \",Main!F290),\"\")))","v":""},null,null,{"$f":"IF(I590=\"\",\"\",Main!O290)","v":""},{"$f":"IF(I590=\"\",\"\",Main!P290)","v":""},{"$f":"IF(I590=\"\",\"\",Main!Q290)","v":""},{"$f":"IF(I590=\"\",\"\",Main!R290)","v":""},{"$f":"IF(Main!S290=\"\",\"\",Main!S290)","v":""},null,""]
[null,null,null,null,{"$f":"IF(I591=\"\",\"\",Main!J290)","v":""},{"$f":"IF(I591=\"\",\"\",Main!K290)","v":""},{"$f":"IF(I591=\"\",\"\",Main!L290)","v":""},{"$f":"IF(I591=\"\",\"\",Main!M290)","v":""},{"$f":"IF(Main!N290=\"\",\"\",Main!N290)","v":""},null,"",{"$f":"K591","v":""}]
[{"$f":"IF(K593=\"\",\"\",SUM($L$18:L593))","v":""},{"$f":"IF(I593=\"\",\"\",CONCATENATE(Main!C291,\", \",Main!D291,IF(Main!F291>0,CONCATENATE(\", \",Main!F291),\"\")))","v":""},null,null,{"$f":"IF(I592=\"\",\"\",Main!O291)","v":""},{"$f":"IF(I592=\"\",\"\",Main!P291)","v":""},{"$f":"IF(I592=\"\",\"\",Main!Q291)","v":""},{"$f":"IF(I592=\"\",\"\",Main!R291)","v":""},{"$f":"IF(Main!S291=\"\",\"\",Main!S291)","v":""},null,""]
[null,null,null,null,{"$f":"IF(I593=\"\",\"\",Main!J291)","v":""},{"$f":"IF(I593=\"\",\"\",Main!K291)","v":""},{"$f":"IF(I593=\"\",\"\",Main!L291)","v":""},{"$f":"IF(I593=\"\",\"\",Main!M291)","v":""},{"$f":"IF(Main!N291=\"\",\"\",Main!N291)","v":""},null,"",{"$f":"K593","v":""}]
[{"$f":"IF(K595=\"\",\"\",SUM($L$18:L595))","v":""},{"$f":"IF(I595=\"\",\"\",CONCATENATE(Main!C292,\", \",Main!D292,IF(Main!F292>0,CONCATENATE(\", \",Main!F292),\"\")))","v":""},null,null,{"$f":"IF(I594=\"\",\"\",Main!O292)","v":""},{"$f":"IF(I594=\"\",\"\",Main!P292)","v":""},{"$f":"IF(I594=\"\",\"\",Main!Q292)","v":""},{"$f":"IF(I594=\"\",\"\",Main!R292)","v":""},{"$f":"IF(Main!S292=\"\",\"\",Main!S292)","v":""},null,""]
[null,null,null,null,{"$f":"IF(I595=\"\",\"\",Main!J292)","v":""},{"$f":"IF(I595=\"\",\"\",Main!K292)","v":""},{"$f":"IF(I595=\"\",\"\",Main!L292)","v":""},{"$f":"IF(I595=\"\",\"\",Main!M292)","v":""},{"$f":"IF(Main!N292=\"\",\"\",Main!N292)","v":""},null,{"$f":"IF(I595=\"\",\"\",1)","v":""},{"$f":"K595","v":""}]
[{"$f":"IF(K597=\"\",\"\",SUM($L$18:L597))","v":""},{"$f":"IF(I597=\"\",\"\",CONCATENATE(Main!C293,\", \",Main!D293,IF(Main!F293>0,CONCATENATE(\", \",Main!F293),\"\")))","v":""},null,null,{"$f":"IF(I596=\"\",\"\",Main!O293)","v":""},{"$f":"IF(I596=\"\",\"\",Main!P293)","v":""},{"$f":"IF(I596=\"\",\"\",Main!Q293)","v":""},{"$f":"IF(I596=\"\",\"\",Main!R293)","v":""},{"$f":"IF(Main!S293=\"\",\"\",Main!S293)","v":""},null,""]
[null,null,null,null,{"$f":"IF(I597=\"\",\"\",Main!J293)","v":""},{"$f":"IF(I597=\"\",\"\",Main!K293)","v":""},{"$f":"IF(I597=\"\",\"\",Main!L293)","v":""},{"$f":"IF(I597=\"\",\"\",Main!M293)","v":""},{"$f":"IF(Main!N293=\"\",\"\",Main!N293)","v":""},null,"",{"$f":"K597","v":""}]
[{"$f":"IF(K599=\"\",\"\",SUM($L$18:L599))","v":""},{"$f":"IF(I599=\"\",\"\",CONCATENATE(Main!C294,\", \",Main!D294,IF(Main!F294>0,CONCATENATE(\", \",Main!F294),\"\")))","v":""},null,null,{"$f":"IF(I598=\"\",\"\",Main!O294)","v":""},{"$f":"IF(I598=\"\",\"\",Main!P294)","v":""},{"$f":"IF(I598=\"\",\"\",Main!Q294)","v":""},{"$f":"IF(I598=\"\",\"\",Main!R294)","v":""},{"$f":"IF(Main!S294=\"\",\"\",Main!S294)","v":""},null,""]
[null,null,null,null,{"$f":"IF(I599=\"\",\"\",Main!J294)","v":""},{"$f":"IF(I599=\"\",\"\",Main!K294)","v":""},{"$f":"IF(I599=\"\",\"\",Main!L294)","v":""},{"$f":"IF(I599=\"\",\"\",Main!M294)","v":""},{"$f":"IF(Main!N294=\"\",\"\",Main!N294)","v":""},null,"",{"$f":"K599","v":""}]
[{"$f":"IF(K601=\"\",\"\",SUM($L$18:L601))","v":""},{"$f":"IF(I601=\"\",\"\",CONCATENATE(Main!C295,\", \",Main!D295,IF(Main!F295>0,CONCATENATE(\", \",Main!F295),\"\")))","v":""},null,null,{"$f":"IF(I600=\"\",\"\",Main!O295)","v":""},{"$f":"IF(I600=\"\",\"\",Main!P295)","v":""},{"$f":"IF(I600=\"\",\"\",Main!Q295)","v":""},{"$f":"IF(I600=\"\",\"\",Main!R295)","v":""},{"$f":"IF(Main!S295=\"\",\"\",Main!S295)","v":""},null,""]
[null,null,null,null,{"$f":"IF(I601=\"\",\"\",Main!J295)","v":""},{"$f":"IF(I601=\"\",\"\",Main!K295)","v":""},{"$f":"IF(I601=\"\",\"\",Main!L295)","v":""},{"$f":"IF(I601=\"\",\"\",Main!M295)","v":""},{"$f":"IF(Main!N295=\"\",\"\",Main!N295)","v":""},null,"",{"$f":"K601","v":""}]
[{"$f":"IF(K603=\"\",\"\",SUM($L$18:L603))","v":""},{"$f":"IF(I603=\"\",\"\",CONCATENATE(Main!C296,\", \",Main!D296,IF(Main!F296>0,CONCATENATE(\", \",Main!F296),\"\")))","v":""},null,null,{"$f":"IF(I602=\"\",\"\",Main!O296)","v":""},{"$f":"IF(I602=\"\",\"\",Main!P296)","v":""},{"$f":"IF(I602=\"\",\"\",Main!Q296)","v":""},{"$f":"IF(I602=\"\",\"\",Main!R296)","v":""},{"$f":"IF(Main!S296=\"\",\"\",Main!S296)","v":""},null,""]
[null,null,null,null,{"$f":"IF(I603=\"\",\"\",Main!J296)","v":""},{"$f":"IF(I603=\"\",\"\",Main!K296)","v":""},{"$f":"IF(I603=\"\",\"\",Main!L296)","v":""},{"$f":"IF(I603=\"\",\"\",Main!M296)","v":""},{"$f":"IF(Main!N296=\"\",\"\",Main!N296)","v":""},null,"",{"$f":"K603","v":""}]
[{"$f":"IF(K605=\"\",\"\",SUM($L$18:L605))","v":""},{"$f":"IF(I605=\"\",\"\",CONCATENATE(Main!C297,\", \",Main!D297,IF(Main!F297>0,CONCATENATE(\", \",Main!F297),\"\")))","v":""},null,null,{"$f":"IF(I604=\"\",\"\",Main!O297)","v":""},{"$f":"IF(I604=\"\",\"\",Main!P297)","v":""},{"$f":"IF(I604=\"\",\"\",Main!Q297)","v":""},{"$f":"IF(I604=\"\",\"\",Main!R297)","v":""},{"$f":"IF(Main!S297=\"\",\"\",Main!S297)","v":""},null,""]
[null,null,null,null,{"$f":"IF(I605=\"\",\"\",Main!J297)","v":""},{"$f":"IF(I605=\"\",\"\",Main!K297)","v":""},{"$f":"IF(I605=\"\",\"\",Main!L297)","v":""},{"$f":"IF(I605=\"\",\"\",Main!M297)","v":""},{"$f":"IF(Main!N297=\"\",\"\",Main!N297)","v":""},null,"",{"$f":"K605","v":""}]
[{"$f":"IF(K607=\"\",\"\",SUM($L$18:L607))","v":""},{"$f":"IF(I607=\"\",\"\",CONCATENATE(Main!C298,\", \",Main!D298,IF(Main!F298>0,CONCATENATE(\", \",Main!F298),\"\")))","v":""},null,null,{"$f":"IF(I606=\"\",\"\",Main!O298)","v":""},{"$f":"IF(I606=\"\",\"\",Main!P298)","v":""},{"$f":"IF(I606=\"\",\"\",Main!Q298)","v":""},{"$f":"IF(I606=\"\",\"\",Main!R298)","v":""},{"$f":"IF(Main!S298=\"\",\"\",Main!S298)","v":""},null,""]
[null,null,null,null,{"$f":"IF(I607=\"\",\"\",Main!J298)","v":""},{"$f":"IF(I607=\"\",\"\",Main!K298)","v":""},{"$f":"IF(I607=\"\",\"\",Main!L298)","v":""},{"$f":"IF(I607=\"\",\"\",Main!M298)","v":""},{"$f":"IF(Main!N298=\"\",\"\",Main!N298)","v":""},null,"",{"$f":"K607","v":""}]
[{"$f":"IF(K609=\"\",\"\",SUM($L$18:L609))","v":""},{"$f":"IF(I609=\"\",\"\",CONCATENATE(Main!C299,\", \",Main!D299,IF(Main!F299>0,CONCATENATE(\", \",Main!F299),\"\")))","v":""},null,null,{"$f":"IF(I608=\"\",\"\",Main!O299)","v":""},{"$f":"IF(I608=\"\",\"\",Main!P299)","v":""},{"$f":"IF(I608=\"\",\"\",Main!Q299)","v":""},{"$f":"IF(I608=\"\",\"\",Main!R299)","v":""},{"$f":"IF(Main!S299=\"\",\"\",Main!S299)","v":""},null,""]
[null,null,null,null,{"$f":"IF(I609=\"\",\"\",Main!J299)","v":""},{"$f":"IF(I609=\"\",\"\",Main!K299)","v":""},{"$f":"IF(I609=\"\",\"\",Main!L299)","v":""},{"$f":"IF(I609=\"\",\"\",Main!M299)","v":""},{"$f":"IF(Main!N299=\"\",\"\",Main!N299)","v":""},null,"",{"$f":"K609","v":""}]
[{"$f":"IF(K611=\"\",\"\",SUM($L$18:L611))","v":""},{"$f":"IF(I611=\"\",\"\",CONCATENATE(Main!C300,\", \",Main!D300,IF(Main!F300>0,CONCATENATE(\", \",Main!F300),\"\")))","v":""},null,null,{"$f":"IF(I610=\"\",\"\",Main!O300)","v":""},{"$f":"IF(I610=\"\",\"\",Main!P300)","v":""},{"$f":"IF(I610=\"\",\"\",Main!Q300)","v":""},{"$f":"IF(I610=\"\",\"\",Main!R300)","v":""},{"$f":"IF(Main!S300=\"\",\"\",Main!S300)","v":""},null,""]
[null,null,null,null,{"$f":"IF(I611=\"\",\"\",Main!J300)","v":""},{"$f":"IF(I611=\"\",\"\",Main!K300)","v":""},{"$f":"IF(I611=\"\",\"\",Main!L300)","v":""},{"$f":"IF(I611=\"\",\"\",Main!M300)","v":""},{"$f":"IF(Main!N300=\"\",\"\",Main!N300)","v":""},null,"",{"$f":"K611","v":""}]
[{"$f":"IF(K613=\"\",\"\",SUM($L$18:L613))","v":""},{"$f":"IF(I613=\"\",\"\",CONCATENATE(Main!C301,\", \",Main!D301,IF(Main!F301>0,CONCATENATE(\", \",Main!F301),\"\")))","v":""},null,null,{"$f":"IF(I612=\"\",\"\",Main!O301)","v":""},{"$f":"IF(I612=\"\",\"\",Main!P301)","v":""},{"$f":"IF(I612=\"\",\"\",Main!Q301)","v":""},{"$f":"IF(I612=\"\",\"\",Main!R301)","v":""},{"$f":"IF(Main!S301=\"\",\"\",Main!S301)","v":""},null,""]
[null,null,null,null,{"$f":"IF(I613=\"\",\"\",Main!J301)","v":""},{"$f":"IF(I613=\"\",\"\",Main!K301)","v":""},{"$f":"IF(I613=\"\",\"\",Main!L301)","v":""},{"$f":"IF(I613=\"\",\"\",Main!M301)","v":""},{"$f":"IF(Main!N301=\"\",\"\",Main!N301)","v":""},null,"",{"$f":"K613","v":""}]
[{"$f":"IF(K615=\"\",\"\",SUM($L$18:L615))","v":""},{"$f":"IF(I615=\"\",\"\",CONCATENATE(Main!C302,\", \",Main!D302,IF(Main!F302>0,CONCATENATE(\", \",Main!F302),\"\")))","v":""},null,null,{"$f":"IF(I614=\"\",\"\",Main!O302)","v":""},{"$f":"IF(I614=\"\",\"\",Main!P302)","v":""},{"$f":"IF(I614=\"\",\"\",Main!Q302)","v":""},{"$f":"IF(I614=\"\",\"\",Main!R302)","v":""},{"$f":"IF(Main!S302=\"\",\"\",Main!S302)","v":""},null,""]
[null,null,null,null,{"$f":"IF(I615=\"\",\"\",Main!J302)","v":""},{"$f":"IF(I615=\"\",\"\",Main!K302)","v":""},{"$f":"IF(I615=\"\",\"\",Main!L302)","v":""},{"$f":"IF(I615=\"\",\"\",Main!M302)","v":""},{"$f":"IF(Main!N302=\"\",\"\",Main!N302)","v":""},null,"",{"$f":"K615","v":""}]
[{"$f":"IF(K617=\"\",\"\",SUM($L$18:L617))","v":""},{"$f":"IF(I617=\"\",\"\",CONCATENATE(Main!C303,\", \",Main!D303,IF(Main!F303>0,CONCATENATE(\", \",Main!F303),\"\")))","v":""},null,null,{"$f":"IF(I616=\"\",\"\",Main!O303)","v":""},{"$f":"IF(I616=\"\",\"\",Main!P303)","v":""},{"$f":"IF(I616=\"\",\"\",Main!Q303)","v":""},{"$f":"IF(I616=\"\",\"\",Main!R303)","v":""},{"$f":"IF(Main!S303=\"\",\"\",Main!S303)","v":""},null,""]
[null,null,null,null,{"$f":"IF(I617=\"\",\"\",Main!J303)","v":""},{"$f":"IF(I617=\"\",\"\",Main!K303)","v":""},{"$f":"IF(I617=\"\",\"\",Main!L303)","v":""},{"$f":"IF(I617=\"\",\"\",Main!M303)","v":""},{"$f":"IF(Main!N303=\"\",\"\",Main!N303)","v":""},null,"",{"$f":"K617","v":""}]
[{"$f":"IF(K619=\"\",\"\",SUM($L$18:L619))","v":""},{"$f":"IF(I619=\"\",\"\",CONCATENATE(Main!C304,\", \",Main!D304,IF(Main!F304>0,CONCATENATE(\", \",Main!F304),\"\")))","v":""},null,null,{"$f":"IF(I618=\"\",\"\",Main!O304)","v":""},{"$f":"IF(I618=\"\",\"\",Main!P304)","v":""},{"$f":"IF(I618=\"\",\"\",Main!Q304)","v":""},{"$f":"IF(I618=\"\",\"\",Main!R304)","v":""},{"$f":"IF(Main!S304=\"\",\"\",Main!S304)","v":""},null,""]
[null,null,null,null,{"$f":"IF(I619=\"\",\"\",Main!J304)","v":""},{"$f":"IF(I619=\"\",\"\",Main!K304)","v":""},{"$f":"IF(I619=\"\",\"\",Main!L304)","v":""},{"$f":"IF(I619=\"\",\"\",Main!M304)","v":""},{"$f":"IF(Main!N304=\"\",\"\",Main!N304)","v":""},null,"",{"$f":"K619","v":""}]
[{"$f":"IF(K621=\"\",\"\",SUM($L$18:L621))","v":""},{"$f":"IF(I621=\"\",\"\",CONCATENATE(Main!C305,\", \",Main!D305,IF(Main!F305>0,CONCATENATE(\", \",Main!F305),\"\")))","v":""},null,null,{"$f":"IF(I620=\"\",\"\",Main!O305)","v":""},{"$f":"IF(I620=\"\",\"\",Main!P305)","v":""},{"$f":"IF(I620=\"\",\"\",Main!Q305)","v":""},{"$f":"IF(I620=\"\",\"\",Main!R305)","v":""},{"$f":"IF(Main!S305=\"\",\"\",Main!S305)","v":""},null,""]
[null,null,null,null,{"$f":"IF(I621=\"\",\"\",Main!J305)","v":""},{"$f":"IF(I621=\"\",\"\",Main!K305)","v":""},{"$f":"IF(I621=\"\",\"\",Main!L305)","v":""},{"$f":"IF(I621=\"\",\"\",Main!M305)","v":""},{"$f":"IF(Main!N305=\"\",\"\",Main!N305)","v":""},null,"",{"$f":"K621","v":""}]
[{"$f":"IF(K623=\"\",\"\",SUM($L$18:L623))","v":""},{"$f":"IF(I623=\"\",\"\",CONCATENATE(Main!C306,\", \",Main!D306,IF(Main!F306>0,CONCATENATE(\", \",Main!F306),\"\")))","v":""},null,null,{"$f":"IF(I622=\"\",\"\",Main!O306)","v":""},{"$f":"IF(I622=\"\",\"\",Main!P306)","v":""},{"$f":"IF(I622=\"\",\"\",Main!Q306)","v":""},{"$f":"IF(I622=\"\",\"\",Main!R306)","v":""},{"$f":"IF(Main!S306=\"\",\"\",Main!S306)","v":""},null,""]
[null,null,null,null,{"$f":"IF(I623=\"\",\"\",Main!J306)","v":""},{"$f":"IF(I623=\"\",\"\",Main!K306)","v":""},{"$f":"IF(I623=\"\",\"\",Main!L306)","v":""},{"$f":"IF(I623=\"\",\"\",Main!M306)","v":""},{"$f":"IF(Main!N306=\"\",\"\",Main!N306)","v":""},null,"",{"$f":"K623","v":""}]
[{"$f":"IF(K625=\"\",\"\",SUM($L$18:L625))","v":""},{"$f":"IF(I625=\"\",\"\",CONCATENATE(Main!C307,\", \",Main!D307,IF(Main!F307>0,CONCATENATE(\", \",Main!F307),\"\")))","v":""},null,null,{"$f":"IF(I624=\"\",\"\",Main!O307)","v":""},{"$f":"IF(I624=\"\",\"\",Main!P307)","v":""},{"$f":"IF(I624=\"\",\"\",Main!Q307)","v":""},{"$f":"IF(I624=\"\",\"\",Main!R307)","v":""},{"$f":"IF(Main!S307=\"\",\"\",Main!S307)","v":""},null,""]
[null,null,null,null,{"$f":"IF(I625=\"\",\"\",Main!J307)","v":""},{"$f":"IF(I625=\"\",\"\",Main!K307)","v":""},{"$f":"IF(I625=\"\",\"\",Main!L307)","v":""},{"$f":"IF(I625=\"\",\"\",Main!M307)","v":""},{"$f":"IF(Main!N307=\"\",\"\",Main!N307)","v":""},null,"",{"$f":"K625","v":""}]
[{"$f":"IF(K627=\"\",\"\",SUM($L$18:L627))","v":""},{"$f":"IF(I627=\"\",\"\",CONCATENATE(Main!C308,\", \",Main!D308,IF(Main!F308>0,CONCATENATE(\", \",Main!F308),\"\")))","v":""},null,null,{"$f":"IF(I626=\"\",\"\",Main!O308)","v":""},{"$f":"IF(I626=\"\",\"\",Main!P308)","v":""},{"$f":"IF(I626=\"\",\"\",Main!Q308)","v":""},{"$f":"IF(I626=\"\",\"\",Main!R308)","v":""},{"$f":"IF(Main!S308=\"\",\"\",Main!S308)","v":""},null,""]
[null,null,null,null,{"$f":"IF(I627=\"\",\"\",Main!J308)","v":""},{"$f":"IF(I627=\"\",\"\",Main!K308)","v":""},{"$f":"IF(I627=\"\",\"\",Main!L308)","v":""},{"$f":"IF(I627=\"\",\"\",Main!M308)","v":""},{"$f":"IF(Main!N308=\"\",\"\",Main!N308)","v":""},null,"",{"$f":"K627","v":""}]
[{"$f":"IF(K629=\"\",\"\",SUM($L$18:L629))","v":""},{"$f":"IF(I629=\"\",\"\",CONCATENATE(Main!C309,\", \",Main!D309,IF(Main!F309>0,CONCATENATE(\", \",Main!F309),\"\")))","v":""},null,null,{"$f":"IF(I628=\"\",\"\",Main!O309)","v":""},{"$f":"IF(I628=\"\",\"\",Main!P309)","v":""},{"$f":"IF(I628=\"\",\"\",Main!Q309)","v":""},{"$f":"IF(I628=\"\",\"\",Main!R309)","v":""},{"$f":"IF(Main!S309=\"\",\"\",Main!S309)","v":""},null,""]
[null,null,null,null,{"$f":"IF(I629=\"\",\"\",Main!J309)","v":""},{"$f":"IF(I629=\"\",\"\",Main!K309)","v":""},{"$f":"IF(I629=\"\",\"\",Main!L309)","v":""},{"$f":"IF(I629=\"\",\"\",Main!M309)","v":""},{"$f":"IF(Main!N309=\"\",\"\",Main!N309)","v":""},null,"",{"$f":"K629","v":""}]
[{"$f":"IF(K631=\"\",\"\",SUM($L$18:L631))","v":""},{"$f":"IF(I631=\"\",\"\",CONCATENATE(Main!C310,\", \",Main!D310,IF(Main!F310>0,CONCATENATE(\", \",Main!F310),\"\")))","v":""},null,null,{"$f":"IF(I630=\"\",\"\",Main!O310)","v":""},{"$f":"IF(I630=\"\",\"\",Main!P310)","v":""},{"$f":"IF(I630=\"\",\"\",Main!Q310)","v":""},{"$f":"IF(I630=\"\",\"\",Main!R310)","v":""},{"$f":"IF(Main!S310=\"\",\"\",Main!S310)","v":""},null,""]
[null,null,null,null,{"$f":"IF(I631=\"\",\"\",Main!J310)","v":""},{"$f":"IF(I631=\"\",\"\",Main!K310)","v":""},{"$f":"IF(I631=\"\",\"\",Main!L310)","v":""},{"$f":"IF(I631=\"\",\"\",Main!M310)","v":""},{"$f":"IF(Main!N310=\"\",\"\",Main!N310)","v":""},null,"",{"$f":"K631","v":""}]
[{"$f":"IF(K633=\"\",\"\",SUM($L$18:L633))","v":""},{"$f":"IF(I633=\"\",\"\",CONCATENATE(Main!C311,\", \",Main!D311,IF(Main!F311>0,CONCATENATE(\", \",Main!F311),\"\")))","v":""},null,null,{"$f":"IF(I632=\"\",\"\",Main!O311)","v":""},{"$f":"IF(I632=\"\",\"\",Main!P311)","v":""},{"$f":"IF(I632=\"\",\"\",Main!Q311)","v":""},{"$f":"IF(I632=\"\",\"\",Main!R311)","v":""},{"$f":"IF(Main!S311=\"\",\"\",Main!S311)","v":""},null,""]
[null,null,null,null,{"$f":"IF(I633=\"\",\"\",Main!J311)","v":""},{"$f":"IF(I633=\"\",\"\",Main!K311)","v":""},{"$f":"IF(I633=\"\",\"\",Main!L311)","v":""},{"$f":"IF(I633=\"\",\"\",Main!M311)","v":""},{"$f":"IF(Main!N311=\"\",\"\",Main!N311)","v":""},null,"",{"$f":"K633","v":""}]
[{"$f":"IF(K635=\"\",\"\",SUM($L$18:L635))","v":""},{"$f":"IF(I635=\"\",\"\",CONCATENATE(Main!C312,\", \",Main!D312,IF(Main!F312>0,CONCATENATE(\", \",Main!F312),\"\")))","v":""},null,null,{"$f":"IF(I634=\"\",\"\",Main!O312)","v":""},{"$f":"IF(I634=\"\",\"\",Main!P312)","v":""},{"$f":"IF(I634=\"\",\"\",Main!Q312)","v":""},{"$f":"IF(I634=\"\",\"\",Main!R312)","v":""},{"$f":"IF(Main!S312=\"\",\"\",Main!S312)","v":""},null,""]
[null,null,null,null,{"$f":"IF(I635=\"\",\"\",Main!J312)","v":""},{"$f":"IF(I635=\"\",\"\",Main!K312)","v":""},{"$f":"IF(I635=\"\",\"\",Main!L312)","v":""},{"$f":"IF(I635=\"\",\"\",Main!M312)","v":""},{"$f":"IF(Main!N312=\"\",\"\",Main!N312)","v":""},null,"",{"$f":"K635","v":""}]
[{"$f":"IF(K637=\"\",\"\",SUM($L$18:L637))","v":""},{"$f":"IF(I637=\"\",\"\",CONCATENATE(Main!C313,\", \",Main!D313,IF(Main!F313>0,CONCATENATE(\", \",Main!F313),\"\")))","v":""},null,null,{"$f":"IF(I636=\"\",\"\",Main!O313)","v":""},{"$f":"IF(I636=\"\",\"\",Main!P313)","v":""},{"$f":"IF(I636=\"\",\"\",Main!Q313)","v":""},{"$f":"IF(I636=\"\",\"\",Main!R313)","v":""},{"$f":"IF(Main!S313=\"\",\"\",Main!S313)","v":""},null,""]
[null,null,null,null,{"$f":"IF(I637=\"\",\"\",Main!J313)","v":""},{"$f":"IF(I637=\"\",\"\",Main!K313)","v":""},{"$f":"IF(I637=\"\",\"\",Main!L313)","v":""},{"$f":"IF(I637=\"\",\"\",Main!M313)","v":""},{"$f":"IF(Main!N313=\"\",\"\",Main!N313)","v":""},null,"",{"$f":"K637","v":""}]
[{"$f":"IF(K639=\"\",\"\",SUM($L$18:L639))","v":""},{"$f":"IF(I639=\"\",\"\",CONCATENATE(Main!C314,\", \",Main!D314,IF(Main!F314>0,CONCATENATE(\", \",Main!F314),\"\")))","v":""},null,null,{"$f":"IF(I638=\"\",\"\",Main!O314)","v":""},{"$f":"IF(I638=\"\",\"\",Main!P314)","v":""},{"$f":"IF(I638=\"\",\"\",Main!Q314)","v":""},{"$f":"IF(I638=\"\",\"\",Main!R314)","v":""},{"$f":"IF(Main!S314=\"\",\"\",Main!S314)","v":""},null,""]
[null,null,null,null,{"$f":"IF(I639=\"\",\"\",Main!J314)","v":""},{"$f":"IF(I639=\"\",\"\",Main!K314)","v":""},{"$f":"IF(I639=\"\",\"\",Main!L314)","v":""},{"$f":"IF(I639=\"\",\"\",Main!M314)","v":""},{"$f":"IF(Main!N314=\"\",\"\",Main!N314)","v":""},null,"",{"$f":"K639","v":""}]
[{"$f":"IF(K641=\"\",\"\",SUM($L$18:L641))","v":""},{"$f":"IF(I641=\"\",\"\",CONCATENATE(Main!C315,\", \",Main!D315,IF(Main!F315>0,CONCATENATE(\", \",Main!F315),\"\")))","v":""},null,null,{"$f":"IF(I640=\"\",\"\",Main!O315)","v":""},{"$f":"IF(I640=\"\",\"\",Main!P315)","v":""},{"$f":"IF(I640=\"\",\"\",Main!Q315)","v":""},{"$f":"IF(I640=\"\",\"\",Main!R315)","v":""},{"$f":"IF(Main!S315=\"\",\"\",Main!S315)","v":""},null,""]
[null,null,null,null,{"$f":"IF(I641=\"\",\"\",Main!J315)","v":""},{"$f":"IF(I641=\"\",\"\",Main!K315)","v":""},{"$f":"IF(I641=\"\",\"\",Main!L315)","v":""},{"$f":"IF(I641=\"\",\"\",Main!M315)","v":""},{"$f":"IF(Main!N315=\"\",\"\",Main!N315)","v":""},null,"",{"$f":"K641","v":""}]
[{"$f":"IF(K643=\"\",\"\",SUM($L$18:L643))","v":""},{"$f":"IF(I643=\"\",\"\",CONCATENATE(Main!C316,\", \",Main!D316,IF(Main!F316>0,CONCATENATE(\", \",Main!F316),\"\")))","v":""},null,null,{"$f":"IF(I642=\"\",\"\",Main!O316)","v":""},{"$f":"IF(I642=\"\",\"\",Main!P316)","v":""},{"$f":"IF(I642=\"\",\"\",Main!Q316)","v":""},{"$f":"IF(I642=\"\",\"\",Main!R316)","v":""},{"$f":"IF(Main!S316=\"\",\"\",Main!S316)","v":""},null,""]
[null,null,null,null,{"$f":"IF(I643=\"\",\"\",Main!J316)","v":""},{"$f":"IF(I643=\"\",\"\",Main!K316)","v":""},{"$f":"IF(I643=\"\",\"\",Main!L316)","v":""},{"$f":"IF(I643=\"\",\"\",Main!M316)","v":""},{"$f":"IF(Main!N316=\"\",\"\",Main!N316)","v":""},null,"",{"$f":"K643","v":""}]
[{"$f":"IF(K645=\"\",\"\",SUM($L$18:L645))","v":""},{"$f":"IF(I645=\"\",\"\",CONCATENATE(Main!C317,\", \",Main!D317,IF(Main!F317>0,CONCATENATE(\", \",Main!F317),\"\")))","v":""},null,null,{"$f":"IF(I644=\"\",\"\",Main!O317)","v":""},{"$f":"IF(I644=\"\",\"\",Main!P317)","v":""},{"$f":"IF(I644=\"\",\"\",Main!Q317)","v":""},{"$f":"IF(I644=\"\",\"\",Main!R317)","v":""},{"$f":"IF(Main!S317=\"\",\"\",Main!S317)","v":""},null,""]
[null,null,null,null,{"$f":"IF(I645=\"\",\"\",Main!J317)","v":""},{"$f":"IF(I645=\"\",\"\",Main!K317)","v":""},{"$f":"IF(I645=\"\",\"\",Main!L317)","v":""},{"$f":"IF(I645=\"\",\"\",Main!M317)","v":""},{"$f":"IF(Main!N317=\"\",\"\",Main!N317)","v":""},null,"",{"$f":"K645","v":""}]
[{"$f":"IF(K647=\"\",\"\",SUM($L$18:L647))","v":""},{"$f":"IF(I647=\"\",\"\",CONCATENATE(Main!C318,\", \",Main!D318,IF(Main!F318>0,CONCATENATE(\", \",Main!F318),\"\")))","v":""},null,null,{"$f":"IF(I646=\"\",\"\",Main!O318)","v":""},{"$f":"IF(I646=\"\",\"\",Main!P318)","v":""},{"$f":"IF(I646=\"\",\"\",Main!Q318)","v":""},{"$f":"IF(I646=\"\",\"\",Main!R318)","v":""},{"$f":"IF(Main!S318=\"\",\"\",Main!S318)","v":""},null,""]
[null,null,null,null,{"$f":"IF(I647=\"\",\"\",Main!J318)","v":""},{"$f":"IF(I647=\"\",\"\",Main!K318)","v":""},{"$f":"IF(I647=\"\",\"\",Main!L318)","v":""},{"$f":"IF(I647=\"\",\"\",Main!M318)","v":""},{"$f":"IF(Main!N318=\"\",\"\",Main!N318)","v":""},null,"",{"$f":"K647","v":""}]
[{"$f":"IF(K649=\"\",\"\",SUM($L$18:L649))","v":""},{"$f":"IF(I649=\"\",\"\",CONCATENATE(Main!C319,\", \",Main!D319,IF(Main!F319>0,CONCATENATE(\", \",Main!F319),\"\")))","v":""},null,null,{"$f":"IF(I648=\"\",\"\",Main!O319)","v":""},{"$f":"IF(I648=\"\",\"\",Main!P319)","v":""},{"$f":"IF(I648=\"\",\"\",Main!Q319)","v":""},{"$f":"IF(I648=\"\",\"\",Main!R319)","v":""},{"$f":"IF(Main!S319=\"\",\"\",Main!S319)","v":""},null,""]
[null,null,null,null,{"$f":"IF(I649=\"\",\"\",Main!J319)","v":""},{"$f":"IF(I649=\"\",\"\",Main!K319)","v":""},{"$f":"IF(I649=\"\",\"\",Main!L319)","v":""},{"$f":"IF(I649=\"\",\"\",Main!M319)","v":""},{"$f":"IF(Main!N319=\"\",\"\",Main!N319)","v":""},null,"",{"$f":"K649","v":""}]
[{"$f":"IF(K651=\"\",\"\",SUM($L$18:L651))","v":""},{"$f":"IF(I651=\"\",\"\",CONCATENATE(Main!C320,\", \",Main!D320,IF(Main!F320>0,CONCATENATE(\", \",Main!F320),\"\")))","v":""},null,null,{"$f":"IF(I650=\"\",\"\",Main!O320)","v":""},{"$f":"IF(I650=\"\",\"\",Main!P320)","v":""},{"$f":"IF(I650=\"\",\"\",Main!Q320)","v":""},{"$f":"IF(I650=\"\",\"\",Main!R320)","v":""},{"$f":"IF(Main!S320=\"\",\"\",Main!S320)","v":""},null,""]
[null,null,null,null,{"$f":"IF(I651=\"\",\"\",Main!J320)","v":""},{"$f":"IF(I651=\"\",\"\",Main!K320)","v":""},{"$f":"IF(I651=\"\",\"\",Main!L320)","v":""},{"$f":"IF(I651=\"\",\"\",Main!M320)","v":""},{"$f":"IF(Main!N320=\"\",\"\",Main!N320)","v":""},null,"",{"$f":"K651","v":""}]
[{"$f":"IF(K653=\"\",\"\",SUM($L$18:L653))","v":""},{"$f":"IF(I653=\"\",\"\",CONCATENATE(Main!C321,\", \",Main!D321,IF(Main!F321>0,CONCATENATE(\", \",Main!F321),\"\")))","v":""},null,null,{"$f":"IF(I652=\"\",\"\",Main!O321)","v":""},{"$f":"IF(I652=\"\",\"\",Main!P321)","v":""},{"$f":"IF(I652=\"\",\"\",Main!Q321)","v":""},{"$f":"IF(I652=\"\",\"\",Main!R321)","v":""},{"$f":"IF(Main!S321=\"\",\"\",Main!S321)","v":""},null,""]
[null,null,null,null,{"$f":"IF(I653=\"\",\"\",Main!J321)","v":""},{"$f":"IF(I653=\"\",\"\",Main!K321)","v":""},{"$f":"IF(I653=\"\",\"\",Main!L321)","v":""},{"$f":"IF(I653=\"\",\"\",Main!M321)","v":""},{"$f":"IF(Main!N321=\"\",\"\",Main!N321)","v":""},null,"",{"$f":"K653","v":""}]
[{"$f":"IF(K655=\"\",\"\",SUM($L$18:L655))","v":""},{"$f":"IF(I655=\"\",\"\",CONCATENATE(Main!C322,\", \",Main!D322,IF(Main!F322>0,CONCATENATE(\", \",Main!F322),\"\")))","v":""},null,null,{"$f":"IF(I654=\"\",\"\",Main!O322)","v":""},{"$f":"IF(I654=\"\",\"\",Main!P322)","v":""},{"$f":"IF(I654=\"\",\"\",Main!Q322)","v":""},{"$f":"IF(I654=\"\",\"\",Main!R322)","v":""},{"$f":"IF(Main!S322=\"\",\"\",Main!S322)","v":""},null,""]
[null,null,null,null,{"$f":"IF(I655=\"\",\"\",Main!J322)","v":""},{"$f":"IF(I655=\"\",\"\",Main!K322)","v":""},{"$f":"IF(I655=\"\",\"\",Main!L322)","v":""},{"$f":"IF(I655=\"\",\"\",Main!M322)","v":""},{"$f":"IF(Main!N322=\"\",\"\",Main!N322)","v":""},null,"",{"$f":"K655","v":""}]
[{"$f":"IF(K657=\"\",\"\",SUM($L$18:L657))","v":""},{"$f":"IF(I657=\"\",\"\",CONCATENATE(Main!C323,\", \",Main!D323,IF(Main!F323>0,CONCATENATE(\", \",Main!F323),\"\")))","v":""},null,null,{"$f":"IF(I656=\"\",\"\",Main!O323)","v":""},{"$f":"IF(I656=\"\",\"\",Main!P323)","v":""},{"$f":"IF(I656=\"\",\"\",Main!Q323)","v":""},{"$f":"IF(I656=\"\",\"\",Main!R323)","v":""},{"$f":"IF(Main!S323=\"\",\"\",Main!S323)","v":""},null,""]
[null,null,null,null,{"$f":"IF(I657=\"\",\"\",Main!J323)","v":""},{"$f":"IF(I657=\"\",\"\",Main!K323)","v":""},{"$f":"IF(I657=\"\",\"\",Main!L323)","v":""},{"$f":"IF(I657=\"\",\"\",Main!M323)","v":""},{"$f":"IF(Main!N323=\"\",\"\",Main!N323)","v":""},null,"",{"$f":"K657","v":""}]
[{"$f":"IF(K659=\"\",\"\",SUM($L$18:L659))","v":""},{"$f":"IF(I659=\"\",\"\",CONCATENATE(Main!C324,\", \",Main!D324,IF(Main!F324>0,CONCATENATE(\", \",Main!F324),\"\")))","v":""},null,null,{"$f":"IF(I658=\"\",\"\",Main!O324)","v":""},{"$f":"IF(I658=\"\",\"\",Main!P324)","v":""},{"$f":"IF(I658=\"\",\"\",Main!Q324)","v":""},{"$f":"IF(I658=\"\",\"\",Main!R324)","v":""},{"$f":"IF(Main!S324=\"\",\"\",Main!S324)","v":""},null,""]
[null,null,null,null,{"$f":"IF(I659=\"\",\"\",Main!J324)","v":""},{"$f":"IF(I659=\"\",\"\",Main!K324)","v":""},{"$f":"IF(I659=\"\",\"\",Main!L324)","v":""},{"$f":"IF(I659=\"\",\"\",Main!M324)","v":""},{"$f":"IF(Main!N324=\"\",\"\",Main!N324)","v":""},null,{"$f":"IF(I659=\"\",\"\",1)","v":""},{"$f":"K659","v":""}]
[{"$f":"IF(K661=\"\",\"\",SUM($L$18:L661))","v":""},{"$f":"IF(I661=\"\",\"\",CONCATENATE(Main!C325,\", \",Main!D325,IF(Main!F325>0,CONCATENATE(\", \",Main!F325),\"\")))","v":""},null,null,{"$f":"IF(I660=\"\",\"\",Main!O325)","v":""},{"$f":"IF(I660=\"\",\"\",Main!P325)","v":""},{"$f":"IF(I660=\"\",\"\",Main!Q325)","v":""},{"$f":"IF(I660=\"\",\"\",Main!R325)","v":""},{"$f":"IF(Main!S325=\"\",\"\",Main!S325)","v":""},null,""]
[null,null,null,null,{"$f":"IF(I661=\"\",\"\",Main!J325)","v":""},{"$f":"IF(I661=\"\",\"\",Main!K325)","v":""},{"$f":"IF(I661=\"\",\"\",Main!L325)","v":""},{"$f":"IF(I661=\"\",\"\",Main!M325)","v":""},{"$f":"IF(Main!N325=\"\",\"\",Main!N325)","v":""},null,"",{"$f":"K661","v":""}]
[{"$f":"IF(K663=\"\",\"\",SUM($L$18:L663))","v":""},{"$f":"IF(I663=\"\",\"\",CONCATENATE(Main!C326,\", \",Main!D326,IF(Main!F326>0,CONCATENATE(\", \",Main!F326),\"\")))","v":""},null,null,{"$f":"IF(I662=\"\",\"\",Main!O326)","v":""},{"$f":"IF(I662=\"\",\"\",Main!P326)","v":""},{"$f":"IF(I662=\"\",\"\",Main!Q326)","v":""},{"$f":"IF(I662=\"\",\"\",Main!R326)","v":""},{"$f":"IF(Main!S326=\"\",\"\",Main!S326)","v":""},null,""]
[null,null,null,null,{"$f":"IF(I663=\"\",\"\",Main!J326)","v":""},{"$f":"IF(I663=\"\",\"\",Main!K326)","v":""},{"$f":"IF(I663=\"\",\"\",Main!L326)","v":""},{"$f":"IF(I663=\"\",\"\",Main!M326)","v":""},{"$f":"IF(Main!N326=\"\",\"\",Main!N326)","v":""},null,"",{"$f":"K663","v":""}]
[{"$f":"IF(K665=\"\",\"\",SUM($L$18:L665))","v":""},{"$f":"IF(I665=\"\",\"\",CONCATENATE(Main!C327,\", \",Main!D327,IF(Main!F327>0,CONCATENATE(\", \",Main!F327),\"\")))","v":""},null,null,{"$f":"IF(I664=\"\",\"\",Main!O327)","v":""},{"$f":"IF(I664=\"\",\"\",Main!P327)","v":""},{"$f":"IF(I664=\"\",\"\",Main!Q327)","v":""},{"$f":"IF(I664=\"\",\"\",Main!R327)","v":""},{"$f":"IF(Main!S327=\"\",\"\",Main!S327)","v":""},null,""]
[null,null,null,null,{"$f":"IF(I665=\"\",\"\",Main!J327)","v":""},{"$f":"IF(I665=\"\",\"\",Main!K327)","v":""},{"$f":"IF(I665=\"\",\"\",Main!L327)","v":""},{"$f":"IF(I665=\"\",\"\",Main!M327)","v":""},{"$f":"IF(Main!N327=\"\",\"\",Main!N327)","v":""},null,"",{"$f":"K665","v":""}]
[{"$f":"IF(K667=\"\",\"\",SUM($L$18:L667))","v":""},{"$f":"IF(I667=\"\",\"\",CONCATENATE(Main!C328,\", \",Main!D328,IF(Main!F328>0,CONCATENATE(\", \",Main!F328),\"\")))","v":""},null,null,{"$f":"IF(I666=\"\",\"\",Main!O328)","v":""},{"$f":"IF(I666=\"\",\"\",Main!P328)","v":""},{"$f":"IF(I666=\"\",\"\",Main!Q328)","v":""},{"$f":"IF(I666=\"\",\"\",Main!R328)","v":""},{"$f":"IF(Main!S328=\"\",\"\",Main!S328)","v":""},null,""]
[null,null,null,null,{"$f":"IF(I667=\"\",\"\",Main!J328)","v":""},{"$f":"IF(I667=\"\",\"\",Main!K328)","v":""},{"$f":"IF(I667=\"\",\"\",Main!L328)","v":""},{"$f":"IF(I667=\"\",\"\",Main!M328)","v":""},{"$f":"IF(Main!N328=\"\",\"\",Main!N328)","v":""},null,"",{"$f":"K667","v":""}]
[{"$f":"IF(K669=\"\",\"\",SUM($L$18:L669))","v":""},{"$f":"IF(I669=\"\",\"\",CONCATENATE(Main!C329,\", \",Main!D329,IF(Main!F329>0,CONCATENATE(\", \",Main!F329),\"\")))","v":""},null,null,{"$f":"IF(I668=\"\",\"\",Main!O329)","v":""},{"$f":"IF(I668=\"\",\"\",Main!P329)","v":""},{"$f":"IF(I668=\"\",\"\",Main!Q329)","v":""},{"$f":"IF(I668=\"\",\"\",Main!R329)","v":""},{"$f":"IF(Main!S329=\"\",\"\",Main!S329)","v":""},null,""]
[null,null,null,null,{"$f":"IF(I669=\"\",\"\",Main!J329)","v":""},{"$f":"IF(I669=\"\",\"\",Main!K329)","v":""},{"$f":"IF(I669=\"\",\"\",Main!L329)","v":""},{"$f":"IF(I669=\"\",\"\",Main!M329)","v":""},{"$f":"IF(Main!N329=\"\",\"\",Main!N329)","v":""},null,"",{"$f":"K669","v":""}]
[{"$f":"IF(K671=\"\",\"\",SUM($L$18:L671))","v":""},{"$f":"IF(I671=\"\",\"\",CONCATENATE(Main!C330,\", \",Main!D330,IF(Main!F330>0,CONCATENATE(\", \",Main!F330),\"\")))","v":""},null,null,{"$f":"IF(I670=\"\",\"\",Main!O330)","v":""},{"$f":"IF(I670=\"\",\"\",Main!P330)","v":""},{"$f":"IF(I670=\"\",\"\",Main!Q330)","v":""},{"$f":"IF(I670=\"\",\"\",Main!R330)","v":""},{"$f":"IF(Main!S330=\"\",\"\",Main!S330)","v":""},null,""]
[null,null,null,null,{"$f":"IF(I671=\"\",\"\",Main!J330)","v":""},{"$f":"IF(I671=\"\",\"\",Main!K330)","v":""},{"$f":"IF(I671=\"\",\"\",Main!L330)","v":""},{"$f":"IF(I671=\"\",\"\",Main!M330)","v":""},{"$f":"IF(Main!N330=\"\",\"\",Main!N330)","v":""},null,"",{"$f":"K671","v":""}]
[{"$f":"IF(K673=\"\",\"\",SUM($L$18:L673))","v":""},{"$f":"IF(I673=\"\",\"\",CONCATENATE(Main!C331,\", \",Main!D331,IF(Main!F331>0,CONCATENATE(\", \",Main!F331),\"\")))","v":""},null,null,{"$f":"IF(I672=\"\",\"\",Main!O331)","v":""},{"$f":"IF(I672=\"\",\"\",Main!P331)","v":""},{"$f":"IF(I672=\"\",\"\",Main!Q331)","v":""},{"$f":"IF(I672=\"\",\"\",Main!R331)","v":""},{"$f":"IF(Main!S331=\"\",\"\",Main!S331)","v":""},null,""]
[null,null,null,null,{"$f":"IF(I673=\"\",\"\",Main!J331)","v":""},{"$f":"IF(I673=\"\",\"\",Main!K331)","v":""},{"$f":"IF(I673=\"\",\"\",Main!L331)","v":""},{"$f":"IF(I673=\"\",\"\",Main!M331)","v":""},{"$f":"IF(Main!N331=\"\",\"\",Main!N331)","v":""},null,"",{"$f":"K673","v":""}]
[{"$f":"IF(K675=\"\",\"\",SUM($L$18:L675))","v":""},{"$f":"IF(I675=\"\",\"\",CONCATENATE(Main!C332,\", \",Main!D332,IF(Main!F332>0,CONCATENATE(\", \",Main!F332),\"\")))","v":""},null,null,{"$f":"IF(I674=\"\",\"\",Main!O332)","v":""},{"$f":"IF(I674=\"\",\"\",Main!P332)","v":""},{"$f":"IF(I674=\"\",\"\",Main!Q332)","v":""},{"$f":"IF(I674=\"\",\"\",Main!R332)","v":""},{"$f":"IF(Main!S332=\"\",\"\",Main!S332)","v":""},null,""]
[null,null,null,null,{"$f":"IF(I675=\"\",\"\",Main!J332)","v":""},{"$f":"IF(I675=\"\",\"\",Main!K332)","v":""},{"$f":"IF(I675=\"\",\"\",Main!L332)","v":""},{"$f":"IF(I675=\"\",\"\",Main!M332)","v":""},{"$f":"IF(Main!N332=\"\",\"\",Main!N332)","v":""},null,"",{"$f":"K675","v":""}]
[{"$f":"IF(K677=\"\",\"\",SUM($L$18:L677))","v":""},{"$f":"IF(I677=\"\",\"\",CONCATENATE(Main!C333,\", \",Main!D333,IF(Main!F333>0,CONCATENATE(\", \",Main!F333),\"\")))","v":""},null,null,{"$f":"IF(I676=\"\",\"\",Main!O333)","v":""},{"$f":"IF(I676=\"\",\"\",Main!P333)","v":""},{"$f":"IF(I676=\"\",\"\",Main!Q333)","v":""},{"$f":"IF(I676=\"\",\"\",Main!R333)","v":""},{"$f":"IF(Main!S333=\"\",\"\",Main!S333)","v":""},null,""]
[null,null,null,null,{"$f":"IF(I677=\"\",\"\",Main!J333)","v":""},{"$f":"IF(I677=\"\",\"\",Main!K333)","v":""},{"$f":"IF(I677=\"\",\"\",Main!L333)","v":""},{"$f":"IF(I677=\"\",\"\",Main!M333)","v":""},{"$f":"IF(Main!N333=\"\",\"\",Main!N333)","v":""},null,"",{"$f":"K677","v":""}]
[{"$f":"IF(K679=\"\",\"\",SUM($L$18:L679))","v":""},{"$f":"IF(I679=\"\",\"\",CONCATENATE(Main!C334,\", \",Main!D334,IF(Main!F334>0,CONCATENATE(\", \",Main!F334),\"\")))","v":""},null,null,{"$f":"IF(I678=\"\",\"\",Main!O334)","v":""},{"$f":"IF(I678=\"\",\"\",Main!P334)","v":""},{"$f":"IF(I678=\"\",\"\",Main!Q334)","v":""},{"$f":"IF(I678=\"\",\"\",Main!R334)","v":""},{"$f":"IF(Main!S334=\"\",\"\",Main!S334)","v":""},null,""]
[null,null,null,null,{"$f":"IF(I679=\"\",\"\",Main!J334)","v":""},{"$f":"IF(I679=\"\",\"\",Main!K334)","v":""},{"$f":"IF(I679=\"\",\"\",Main!L334)","v":""},{"$f":"IF(I679=\"\",\"\",Main!M334)","v":""},{"$f":"IF(Main!N334=\"\",\"\",Main!N334)","v":""},null,"",{"$f":"K679","v":""}]
[{"$f":"IF(K681=\"\",\"\",SUM($L$18:L681))","v":""},{"$f":"IF(I681=\"\",\"\",CONCATENATE(Main!C335,\", \",Main!D335,IF(Main!F335>0,CONCATENATE(\", \",Main!F335),\"\")))","v":""},null,null,{"$f":"IF(I680=\"\",\"\",Main!O335)","v":""},{"$f":"IF(I680=\"\",\"\",Main!P335)","v":""},{"$f":"IF(I680=\"\",\"\",Main!Q335)","v":""},{"$f":"IF(I680=\"\",\"\",Main!R335)","v":""},{"$f":"IF(Main!S335=\"\",\"\",Main!S335)","v":""},null,""]
[null,null,null,null,{"$f":"IF(I681=\"\",\"\",Main!J335)","v":""},{"$f":"IF(I681=\"\",\"\",Main!K335)","v":""},{"$f":"IF(I681=\"\",\"\",Main!L335)","v":""},{"$f":"IF(I681=\"\",\"\",Main!M335)","v":""},{"$f":"IF(Main!N335=\"\",\"\",Main!N335)","v":""},null,"",{"$f":"K681","v":""}]
[{"$f":"IF(K683=\"\",\"\",SUM($L$18:L683))","v":""},{"$f":"IF(I683=\"\",\"\",CONCATENATE(Main!C336,\", \",Main!D336,IF(Main!F336>0,CONCATENATE(\", \",Main!F336),\"\")))","v":""},null,null,{"$f":"IF(I682=\"\",\"\",Main!O336)","v":""},{"$f":"IF(I682=\"\",\"\",Main!P336)","v":""},{"$f":"IF(I682=\"\",\"\",Main!Q336)","v":""},{"$f":"IF(I682=\"\",\"\",Main!R336)","v":""},{"$f":"IF(Main!S336=\"\",\"\",Main!S336)","v":""},null,""]
[null,null,null,null,{"$f":"IF(I683=\"\",\"\",Main!J336)","v":""},{"$f":"IF(I683=\"\",\"\",Main!K336)","v":""},{"$f":"IF(I683=\"\",\"\",Main!L336)","v":""},{"$f":"IF(I683=\"\",\"\",Main!M336)","v":""},{"$f":"IF(Main!N336=\"\",\"\",Main!N336)","v":""},null,"",{"$f":"K683","v":""}]
[{"$f":"IF(K685=\"\",\"\",SUM($L$18:L685))","v":""},{"$f":"IF(I685=\"\",\"\",CONCATENATE(Main!C337,\", \",Main!D337,IF(Main!F337>0,CONCATENATE(\", \",Main!F337),\"\")))","v":""},null,null,{"$f":"IF(I684=\"\",\"\",Main!O337)","v":""},{"$f":"IF(I684=\"\",\"\",Main!P337)","v":""},{"$f":"IF(I684=\"\",\"\",Main!Q337)","v":""},{"$f":"IF(I684=\"\",\"\",Main!R337)","v":""},{"$f":"IF(Main!S337=\"\",\"\",Main!S337)","v":""},null,""]
[null,null,null,null,{"$f":"IF(I685=\"\",\"\",Main!J337)","v":""},{"$f":"IF(I685=\"\",\"\",Main!K337)","v":""},{"$f":"IF(I685=\"\",\"\",Main!L337)","v":""},{"$f":"IF(I685=\"\",\"\",Main!M337)","v":""},{"$f":"IF(Main!N337=\"\",\"\",Main!N337)","v":""},null,"",{"$f":"K685","v":""}]
[{"$f":"IF(K687=\"\",\"\",SUM($L$18:L687))","v":""},{"$f":"IF(I687=\"\",\"\",CONCATENATE(Main!C338,\", \",Main!D338,IF(Main!F338>0,CONCATENATE(\", \",Main!F338),\"\")))","v":""},null,null,{"$f":"IF(I686=\"\",\"\",Main!O338)","v":""},{"$f":"IF(I686=\"\",\"\",Main!P338)","v":""},{"$f":"IF(I686=\"\",\"\",Main!Q338)","v":""},{"$f":"IF(I686=\"\",\"\",Main!R338)","v":""},{"$f":"IF(Main!S338=\"\",\"\",Main!S338)","v":""},null,""]
[null,null,null,null,{"$f":"IF(I687=\"\",\"\",Main!J338)","v":""},{"$f":"IF(I687=\"\",\"\",Main!K338)","v":""},{"$f":"IF(I687=\"\",\"\",Main!L338)","v":""},{"$f":"IF(I687=\"\",\"\",Main!M338)","v":""},{"$f":"IF(Main!N338=\"\",\"\",Main!N338)","v":""},null,"",{"$f":"K687","v":""}]
[{"$f":"IF(K689=\"\",\"\",SUM($L$18:L689))","v":""},{"$f":"IF(I689=\"\",\"\",CONCATENATE(Main!C339,\", \",Main!D339,IF(Main!F339>0,CONCATENATE(\", \",Main!F339),\"\")))","v":""},null,null,{"$f":"IF(I688=\"\",\"\",Main!O339)","v":""},{"$f":"IF(I688=\"\",\"\",Main!P339)","v":""},{"$f":"IF(I688=\"\",\"\",Main!Q339)","v":""},{"$f":"IF(I688=\"\",\"\",Main!R339)","v":""},{"$f":"IF(Main!S339=\"\",\"\",Main!S339)","v":""},null,""]
[null,null,null,null,{"$f":"IF(I689=\"\",\"\",Main!J339)","v":""},{"$f":"IF(I689=\"\",\"\",Main!K339)","v":""},{"$f":"IF(I689=\"\",\"\",Main!L339)","v":""},{"$f":"IF(I689=\"\",\"\",Main!M339)","v":""},{"$f":"IF(Main!N339=\"\",\"\",Main!N339)","v":""},null,"",{"$f":"K689","v":""}]
[{"$f":"IF(K691=\"\",\"\",SUM($L$18:L691))","v":""},{"$f":"IF(I691=\"\",\"\",CONCATENATE(Main!C340,\", \",Main!D340,IF(Main!F340>0,CONCATENATE(\", \",Main!F340),\"\")))","v":""},null,null,{"$f":"IF(I690=\"\",\"\",Main!O340)","v":""},{"$f":"IF(I690=\"\",\"\",Main!P340)","v":""},{"$f":"IF(I690=\"\",\"\",Main!Q340)","v":""},{"$f":"IF(I690=\"\",\"\",Main!R340)","v":""},{"$f":"IF(Main!S340=\"\",\"\",Main!S340)","v":""},null,""]
[null,null,null,null,{"$f":"IF(I691=\"\",\"\",Main!J340)","v":""},{"$f":"IF(I691=\"\",\"\",Main!K340)","v":""},{"$f":"IF(I691=\"\",\"\",Main!L340)","v":""},{"$f":"IF(I691=\"\",\"\",Main!M340)","v":""},{"$f":"IF(Main!N340=\"\",\"\",Main!N340)","v":""},null,"",{"$f":"K691","v":""}]
[{"$f":"IF(K693=\"\",\"\",SUM($L$18:L693))","v":""},{"$f":"IF(I693=\"\",\"\",CONCATENATE(Main!C341,\", \",Main!D341,IF(Main!F341>0,CONCATENATE(\", \",Main!F341),\"\")))","v":""},null,null,{"$f":"IF(I692=\"\",\"\",Main!O341)","v":""},{"$f":"IF(I692=\"\",\"\",Main!P341)","v":""},{"$f":"IF(I692=\"\",\"\",Main!Q341)","v":""},{"$f":"IF(I692=\"\",\"\",Main!R341)","v":""},{"$f":"IF(Main!S341=\"\",\"\",Main!S341)","v":""},null,""]
[null,null,null,null,{"$f":"IF(I693=\"\",\"\",Main!J341)","v":""},{"$f":"IF(I693=\"\",\"\",Main!K341)","v":""},{"$f":"IF(I693=\"\",\"\",Main!L341)","v":""},{"$f":"IF(I693=\"\",\"\",Main!M341)","v":""},{"$f":"IF(Main!N341=\"\",\"\",Main!N341)","v":""},null,"",{"$f":"K693","v":""}]
[{"$f":"IF(K695=\"\",\"\",SUM($L$18:L695))","v":""},{"$f":"IF(I695=\"\",\"\",CONCATENATE(Main!C342,\", \",Main!D342,IF(Main!F342>0,CONCATENATE(\", \",Main!F342),\"\")))","v":""},null,null,{"$f":"IF(I694=\"\",\"\",Main!O342)","v":""},{"$f":"IF(I694=\"\",\"\",Main!P342)","v":""},{"$f":"IF(I694=\"\",\"\",Main!Q342)","v":""},{"$f":"IF(I694=\"\",\"\",Main!R342)","v":""},{"$f":"IF(Main!S342=\"\",\"\",Main!S342)","v":""},null,""]
[null,null,null,null,{"$f":"IF(I695=\"\",\"\",Main!J342)","v":""},{"$f":"IF(I695=\"\",\"\",Main!K342)","v":""},{"$f":"IF(I695=\"\",\"\",Main!L342)","v":""},{"$f":"IF(I695=\"\",\"\",Main!M342)","v":""},{"$f":"IF(Main!N342=\"\",\"\",Main!N342)","v":""},null,"",{"$f":"K695","v":""}]
[{"$f":"IF(K697=\"\",\"\",SUM($L$18:L697))","v":""},{"$f":"IF(I697=\"\",\"\",CONCATENATE(Main!C343,\", \",Main!D343,IF(Main!F343>0,CONCATENATE(\", \",Main!F343),\"\")))","v":""},null,null,{"$f":"IF(I696=\"\",\"\",Main!O343)","v":""},{"$f":"IF(I696=\"\",\"\",Main!P343)","v":""},{"$f":"IF(I696=\"\",\"\",Main!Q343)","v":""},{"$f":"IF(I696=\"\",\"\",Main!R343)","v":""},{"$f":"IF(Main!S343=\"\",\"\",Main!S343)","v":""},null,""]
[null,null,null,null,{"$f":"IF(I697=\"\",\"\",Main!J343)","v":""},{"$f":"IF(I697=\"\",\"\",Main!K343)","v":""},{"$f":"IF(I697=\"\",\"\",Main!L343)","v":""},{"$f":"IF(I697=\"\",\"\",Main!M343)","v":""},{"$f":"IF(Main!N343=\"\",\"\",Main!N343)","v":""},null,"",{"$f":"K697","v":""}]
[{"$f":"IF(K699=\"\",\"\",SUM($L$18:L699))","v":""},{"$f":"IF(I699=\"\",\"\",CONCATENATE(Main!C344,\", \",Main!D344,IF(Main!F344>0,CONCATENATE(\", \",Main!F344),\"\")))","v":""},null,null,{"$f":"IF(I698=\"\",\"\",Main!O344)","v":""},{"$f":"IF(I698=\"\",\"\",Main!P344)","v":""},{"$f":"IF(I698=\"\",\"\",Main!Q344)","v":""},{"$f":"IF(I698=\"\",\"\",Main!R344)","v":""},{"$f":"IF(Main!S344=\"\",\"\",Main!S344)","v":""},null,""]
[null,null,null,null,{"$f":"IF(I699=\"\",\"\",Main!J344)","v":""},{"$f":"IF(I699=\"\",\"\",Main!K344)","v":""},{"$f":"IF(I699=\"\",\"\",Main!L344)","v":""},{"$f":"IF(I699=\"\",\"\",Main!M344)","v":""},{"$f":"IF(Main!N344=\"\",\"\",Main!N344)","v":""},null,"",{"$f":"K699","v":""}]
[{"$f":"IF(K701=\"\",\"\",SUM($L$18:L701))","v":""},{"$f":"IF(I701=\"\",\"\",CONCATENATE(Main!C345,\", \",Main!D345,IF(Main!F345>0,CONCATENATE(\", \",Main!F345),\"\")))","v":""},null,null,{"$f":"IF(I700=\"\",\"\",Main!O345)","v":""},{"$f":"IF(I700=\"\",\"\",Main!P345)","v":""},{"$f":"IF(I700=\"\",\"\",Main!Q345)","v":""},{"$f":"IF(I700=\"\",\"\",Main!R345)","v":""},{"$f":"IF(Main!S345=\"\",\"\",Main!S345)","v":""},null,""]
[null,null,null,null,{"$f":"IF(I701=\"\",\"\",Main!J345)","v":""},{"$f":"IF(I701=\"\",\"\",Main!K345)","v":""},{"$f":"IF(I701=\"\",\"\",Main!L345)","v":""},{"$f":"IF(I701=\"\",\"\",Main!M345)","v":""},{"$f":"IF(Main!N345=\"\",\"\",Main!N345)","v":""},null,"",{"$f":"K701","v":""}]
[{"$f":"IF(K703=\"\",\"\",SUM($L$18:L703))","v":""},{"$f":"IF(I703=\"\",\"\",CONCATENATE(Main!C346,\", \",Main!D346,IF(Main!F346>0,CONCATENATE(\", \",Main!F346),\"\")))","v":""},null,null,{"$f":"IF(I702=\"\",\"\",Main!O346)","v":""},{"$f":"IF(I702=\"\",\"\",Main!P346)","v":""},{"$f":"IF(I702=\"\",\"\",Main!Q346)","v":""},{"$f":"IF(I702=\"\",\"\",Main!R346)","v":""},{"$f":"IF(Main!S346=\"\",\"\",Main!S346)","v":""},null,""]
[null,null,null,null,{"$f":"IF(I703=\"\",\"\",Main!J346)","v":""},{"$f":"IF(I703=\"\",\"\",Main!K346)","v":""},{"$f":"IF(I703=\"\",\"\",Main!L346)","v":""},{"$f":"IF(I703=\"\",\"\",Main!M346)","v":""},{"$f":"IF(Main!N346=\"\",\"\",Main!N346)","v":""},null,"",{"$f":"K703","v":""}]
[{"$f":"IF(K705=\"\",\"\",SUM($L$18:L705))","v":""},{"$f":"IF(I705=\"\",\"\",CONCATENATE(Main!C347,\", \",Main!D347,IF(Main!F347>0,CONCATENATE(\", \",Main!F347),\"\")))","v":""},null,null,{"$f":"IF(I704=\"\",\"\",Main!O347)","v":""},{"$f":"IF(I704=\"\",\"\",Main!P347)","v":""},{"$f":"IF(I704=\"\",\"\",Main!Q347)","v":""},{"$f":"IF(I704=\"\",\"\",Main!R347)","v":""},{"$f":"IF(Main!S347=\"\",\"\",Main!S347)","v":""},null,""]
[null,null,null,null,{"$f":"IF(I705=\"\",\"\",Main!J347)","v":""},{"$f":"IF(I705=\"\",\"\",Main!K347)","v":""},{"$f":"IF(I705=\"\",\"\",Main!L347)","v":""},{"$f":"IF(I705=\"\",\"\",Main!M347)","v":""},{"$f":"IF(Main!N347=\"\",\"\",Main!N347)","v":""},null,"",{"$f":"K705","v":""}]
[{"$f":"IF(K707=\"\",\"\",SUM($L$18:L707))","v":""},{"$f":"IF(I707=\"\",\"\",CONCATENATE(Main!C348,\", \",Main!D348,IF(Main!F348>0,CONCATENATE(\", \",Main!F348),\"\")))","v":""},null,null,{"$f":"IF(I706=\"\",\"\",Main!O348)","v":""},{"$f":"IF(I706=\"\",\"\",Main!P348)","v":""},{"$f":"IF(I706=\"\",\"\",Main!Q348)","v":""},{"$f":"IF(I706=\"\",\"\",Main!R348)","v":""},{"$f":"IF(Main!S348=\"\",\"\",Main!S348)","v":""},null,""]
[null,null,null,null,{"$f":"IF(I707=\"\",\"\",Main!J348)","v":""},{"$f":"IF(I707=\"\",\"\",Main!K348)","v":""},{"$f":"IF(I707=\"\",\"\",Main!L348)","v":""},{"$f":"IF(I707=\"\",\"\",Main!M348)","v":""},{"$f":"IF(Main!N348=\"\",\"\",Main!N348)","v":""},null,"",{"$f":"K707","v":""}]
[{"$f":"IF(K709=\"\",\"\",SUM($L$18:L709))","v":""},{"$f":"IF(I709=\"\",\"\",CONCATENATE(Main!C349,\", \",Main!D349,IF(Main!F349>0,CONCATENATE(\", \",Main!F349),\"\")))","v":""},null,null,{"$f":"IF(I708=\"\",\"\",Main!O349)","v":""},{"$f":"IF(I708=\"\",\"\",Main!P349)","v":""},{"$f":"IF(I708=\"\",\"\",Main!Q349)","v":""},{"$f":"IF(I708=\"\",\"\",Main!R349)","v":""},{"$f":"IF(Main!S349=\"\",\"\",Main!S349)","v":""},null,""]
[null,null,null,null,{"$f":"IF(I709=\"\",\"\",Main!J349)","v":""},{"$f":"IF(I709=\"\",\"\",Main!K349)","v":""},{"$f":"IF(I709=\"\",\"\",Main!L349)","v":""},{"$f":"IF(I709=\"\",\"\",Main!M349)","v":""},{"$f":"IF(Main!N349=\"\",\"\",Main!N349)","v":""},null,"",{"$f":"K709","v":""}]
[{"$f":"IF(K711=\"\",\"\",SUM($L$18:L711))","v":""},{"$f":"IF(I711=\"\",\"\",CONCATENATE(Main!C350,\", \",Main!D350,IF(Main!F350>0,CONCATENATE(\", \",Main!F350),\"\")))","v":""},null,null,{"$f":"IF(I710=\"\",\"\",Main!O350)","v":""},{"$f":"IF(I710=\"\",\"\",Main!P350)","v":""},{"$f":"IF(I710=\"\",\"\",Main!Q350)","v":""},{"$f":"IF(I710=\"\",\"\",Main!R350)","v":""},{"$f":"IF(Main!S350=\"\",\"\",Main!S350)","v":""},null,""]
[null,null,null,null,{"$f":"IF(I711=\"\",\"\",Main!J350)","v":""},{"$f":"IF(I711=\"\",\"\",Main!K350)","v":""},{"$f":"IF(I711=\"\",\"\",Main!L350)","v":""},{"$f":"IF(I711=\"\",\"\",Main!M350)","v":""},{"$f":"IF(Main!N350=\"\",\"\",Main!N350)","v":""},null,"",{"$f":"K711","v":""}]
[{"$f":"IF(K713=\"\",\"\",SUM($L$18:L713))","v":""},{"$f":"IF(I713=\"\",\"\",CONCATENATE(Main!C351,\", \",Main!D351,IF(Main!F351>0,CONCATENATE(\", \",Main!F351),\"\")))","v":""},null,null,{"$f":"IF(I712=\"\",\"\",Main!O351)","v":""},{"$f":"IF(I712=\"\",\"\",Main!P351)","v":""},{"$f":"IF(I712=\"\",\"\",Main!Q351)","v":""},{"$f":"IF(I712=\"\",\"\",Main!R351)","v":""},{"$f":"IF(Main!S351=\"\",\"\",Main!S351)","v":""},null,""]
[null,null,null,null,{"$f":"IF(I713=\"\",\"\",Main!J351)","v":""},{"$f":"IF(I713=\"\",\"\",Main!K351)","v":""},{"$f":"IF(I713=\"\",\"\",Main!L351)","v":""},{"$f":"IF(I713=\"\",\"\",Main!M351)","v":""},{"$f":"IF(Main!N351=\"\",\"\",Main!N351)","v":""},null,"",{"$f":"K713","v":""}]
[{"$f":"IF(K715=\"\",\"\",SUM($L$18:L715))","v":""},{"$f":"IF(I715=\"\",\"\",CONCATENATE(Main!C352,\", \",Main!D352,IF(Main!F352>0,CONCATENATE(\", \",Main!F352),\"\")))","v":""},null,null,{"$f":"IF(I714=\"\",\"\",Main!O352)","v":""},{"$f":"IF(I714=\"\",\"\",Main!P352)","v":""},{"$f":"IF(I714=\"\",\"\",Main!Q352)","v":""},{"$f":"IF(I714=\"\",\"\",Main!R352)","v":""},{"$f":"IF(Main!S352=\"\",\"\",Main!S352)","v":""},null,""]
[null,null,null,null,{"$f":"IF(I715=\"\",\"\",Main!J352)","v":""},{"$f":"IF(I715=\"\",\"\",Main!K352)","v":""},{"$f":"IF(I715=\"\",\"\",Main!L352)","v":""},{"$f":"IF(I715=\"\",\"\",Main!M352)","v":""},{"$f":"IF(Main!N352=\"\",\"\",Main!N352)","v":""},null,"",{"$f":"K715","v":""}]
[{"$f":"IF(K717=\"\",\"\",SUM($L$18:L717))","v":""},{"$f":"IF(I717=\"\",\"\",CONCATENATE(Main!C353,\", \",Main!D353,IF(Main!F353>0,CONCATENATE(\", \",Main!F353),\"\")))","v":""},null,null,{"$f":"IF(I716=\"\",\"\",Main!O353)","v":""},{"$f":"IF(I716=\"\",\"\",Main!P353)","v":""},{"$f":"IF(I716=\"\",\"\",Main!Q353)","v":""},{"$f":"IF(I716=\"\",\"\",Main!R353)","v":""},{"$f":"IF(Main!S353=\"\",\"\",Main!S353)","v":""},null,""]
[null,null,null,null,{"$f":"IF(I717=\"\",\"\",Main!J353)","v":""},{"$f":"IF(I717=\"\",\"\",Main!K353)","v":""},{"$f":"IF(I717=\"\",\"\",Main!L353)","v":""},{"$f":"IF(I717=\"\",\"\",Main!M353)","v":""},{"$f":"IF(Main!N353=\"\",\"\",Main!N353)","v":""},null,"",{"$f":"K717","v":""}]
[{"$f":"IF(K719=\"\",\"\",SUM($L$18:L719))","v":""},{"$f":"IF(I719=\"\",\"\",CONCATENATE(Main!C354,\", \",Main!D354,IF(Main!F354>0,CONCATENATE(\", \",Main!F354),\"\")))","v":""},null,null,{"$f":"IF(I718=\"\",\"\",Main!O354)","v":""},{"$f":"IF(I718=\"\",\"\",Main!P354)","v":""},{"$f":"IF(I718=\"\",\"\",Main!Q354)","v":""},{"$f":"IF(I718=\"\",\"\",Main!R354)","v":""},{"$f":"IF(Main!S354=\"\",\"\",Main!S354)","v":""},null,""]
[null,null,null,null,{"$f":"IF(I719=\"\",\"\",Main!J354)","v":""},{"$f":"IF(I719=\"\",\"\",Main!K354)","v":""},{"$f":"IF(I719=\"\",\"\",Main!L354)","v":""},{"$f":"IF(I719=\"\",\"\",Main!M354)","v":""},{"$f":"IF(Main!N354=\"\",\"\",Main!N354)","v":""},null,"",{"$f":"K719","v":""}]
[{"$f":"IF(K721=\"\",\"\",SUM($L$18:L721))","v":""},{"$f":"IF(I721=\"\",\"\",CONCATENATE(Main!C355,\", \",Main!D355,IF(Main!F355>0,CONCATENATE(\", \",Main!F355),\"\")))","v":""},null,null,{"$f":"IF(I720=\"\",\"\",Main!O355)","v":""},{"$f":"IF(I720=\"\",\"\",Main!P355)","v":""},{"$f":"IF(I720=\"\",\"\",Main!Q355)","v":""},{"$f":"IF(I720=\"\",\"\",Main!R355)","v":""},{"$f":"IF(Main!S355=\"\",\"\",Main!S355)","v":""},null,""]
[null,null,null,null,{"$f":"IF(I721=\"\",\"\",Main!J355)","v":""},{"$f":"IF(I721=\"\",\"\",Main!K355)","v":""},{"$f":"IF(I721=\"\",\"\",Main!L355)","v":""},{"$f":"IF(I721=\"\",\"\",Main!M355)","v":""},{"$f":"IF(Main!N355=\"\",\"\",Main!N355)","v":""},null,"",{"$f":"K721","v":""}]
[{"$f":"IF(K723=\"\",\"\",SUM($L$18:L723))","v":""},{"$f":"IF(I723=\"\",\"\",CONCATENATE(Main!C356,\", \",Main!D356,IF(Main!F356>0,CONCATENATE(\", \",Main!F356),\"\")))","v":""},null,null,{"$f":"IF(I722=\"\",\"\",Main!O356)","v":""},{"$f":"IF(I722=\"\",\"\",Main!P356)","v":""},{"$f":"IF(I722=\"\",\"\",Main!Q356)","v":""},{"$f":"IF(I722=\"\",\"\",Main!R356)","v":""},{"$f":"IF(Main!S356=\"\",\"\",Main!S356)","v":""},null,""]
[null,null,null,null,{"$f":"IF(I723=\"\",\"\",Main!J356)","v":""},{"$f":"IF(I723=\"\",\"\",Main!K356)","v":""},{"$f":"IF(I723=\"\",\"\",Main!L356)","v":""},{"$f":"IF(I723=\"\",\"\",Main!M356)","v":""},{"$f":"IF(Main!N356=\"\",\"\",Main!N356)","v":""},null,{"$f":"IF(I723=\"\",\"\",1)","v":""},{"$f":"K723","v":""}]
[{"$f":"IF(K725=\"\",\"\",SUM($L$18:L725))","v":""},{"$f":"IF(I725=\"\",\"\",CONCATENATE(Main!C357,\", \",Main!D357,IF(Main!F357>0,CONCATENATE(\", \",Main!F357),\"\")))","v":""},null,null,{"$f":"IF(I724=\"\",\"\",Main!O357)","v":""},{"$f":"IF(I724=\"\",\"\",Main!P357)","v":""},{"$f":"IF(I724=\"\",\"\",Main!Q357)","v":""},{"$f":"IF(I724=\"\",\"\",Main!R357)","v":""},{"$f":"IF(Main!S357=\"\",\"\",Main!S357)","v":""},null,""]
[null,null,null,null,{"$f":"IF(I725=\"\",\"\",Main!J357)","v":""},{"$f":"IF(I725=\"\",\"\",Main!K357)","v":""},{"$f":"IF(I725=\"\",\"\",Main!L357)","v":""},{"$f":"IF(I725=\"\",\"\",Main!M357)","v":""},{"$f":"IF(Main!N357=\"\",\"\",Main!N357)","v":""},null,"",{"$f":"K725","v":""}]
[{"$f":"IF(K727=\"\",\"\",SUM($L$18:L727))","v":""},{"$f":"IF(I727=\"\",\"\",CONCATENATE(Main!C358,\", \",Main!D358,IF(Main!F358>0,CONCATENATE(\", \",Main!F358),\"\")))","v":""},null,null,{"$f":"IF(I726=\"\",\"\",Main!O358)","v":""},{"$f":"IF(I726=\"\",\"\",Main!P358)","v":""},{"$f":"IF(I726=\"\",\"\",Main!Q358)","v":""},{"$f":"IF(I726=\"\",\"\",Main!R358)","v":""},{"$f":"IF(Main!S358=\"\",\"\",Main!S358)","v":""},null,""]
[null,null,null,null,{"$f":"IF(I727=\"\",\"\",Main!J358)","v":""},{"$f":"IF(I727=\"\",\"\",Main!K358)","v":""},{"$f":"IF(I727=\"\",\"\",Main!L358)","v":""},{"$f":"IF(I727=\"\",\"\",Main!M358)","v":""},{"$f":"IF(Main!N358=\"\",\"\",Main!N358)","v":""},null,"",{"$f":"K727","v":""}]
[{"$f":"IF(K729=\"\",\"\",SUM($L$18:L729))","v":""},{"$f":"IF(I729=\"\",\"\",CONCATENATE(Main!C359,\", \",Main!D359,IF(Main!F359>0,CONCATENATE(\", \",Main!F359),\"\")))","v":""},null,null,{"$f":"IF(I728=\"\",\"\",Main!O359)","v":""},{"$f":"IF(I728=\"\",\"\",Main!P359)","v":""},{"$f":"IF(I728=\"\",\"\",Main!Q359)","v":""},{"$f":"IF(I728=\"\",\"\",Main!R359)","v":""},{"$f":"IF(Main!S359=\"\",\"\",Main!S359)","v":""},null,""]
[null,null,null,null,{"$f":"IF(I729=\"\",\"\",Main!J359)","v":""},{"$f":"IF(I729=\"\",\"\",Main!K359)","v":""},{"$f":"IF(I729=\"\",\"\",Main!L359)","v":""},{"$f":"IF(I729=\"\",\"\",Main!M359)","v":""},{"$f":"IF(Main!N359=\"\",\"\",Main!N359)","v":""},null,"",{"$f":"K729","v":""}]
[{"$f":"IF(K731=\"\",\"\",SUM($L$18:L731))","v":""},{"$f":"IF(I731=\"\",\"\",CONCATENATE(Main!C360,\", \",Main!D360,IF(Main!F360>0,CONCATENATE(\", \",Main!F360),\"\")))","v":""},null,null,{"$f":"IF(I730=\"\",\"\",Main!O360)","v":""},{"$f":"IF(I730=\"\",\"\",Main!P360)","v":""},{"$f":"IF(I730=\"\",\"\",Main!Q360)","v":""},{"$f":"IF(I730=\"\",\"\",Main!R360)","v":""},{"$f":"IF(Main!S360=\"\",\"\",Main!S360)","v":""},null,""]
[null,null,null,null,{"$f":"IF(I731=\"\",\"\",Main!J360)","v":""},{"$f":"IF(I731=\"\",\"\",Main!K360)","v":""},{"$f":"IF(I731=\"\",\"\",Main!L360)","v":""},{"$f":"IF(I731=\"\",\"\",Main!M360)","v":""},{"$f":"IF(Main!N360=\"\",\"\",Main!N360)","v":""},null,"",{"$f":"K731","v":""}]
[{"$f":"IF(K733=\"\",\"\",SUM($L$18:L733))","v":""},{"$f":"IF(I733=\"\",\"\",CONCATENATE(Main!C361,\", \",Main!D361,IF(Main!F361>0,CONCATENATE(\", \",Main!F361),\"\")))","v":""},null,null,{"$f":"IF(I732=\"\",\"\",Main!O361)","v":""},{"$f":"IF(I732=\"\",\"\",Main!P361)","v":""},{"$f":"IF(I732=\"\",\"\",Main!Q361)","v":""},{"$f":"IF(I732=\"\",\"\",Main!R361)","v":""},{"$f":"IF(Main!S361=\"\",\"\",Main!S361)","v":""},null,""]
[null,null,null,null,{"$f":"IF(I733=\"\",\"\",Main!J361)","v":""},{"$f":"IF(I733=\"\",\"\",Main!K361)","v":""},{"$f":"IF(I733=\"\",\"\",Main!L361)","v":""},{"$f":"IF(I733=\"\",\"\",Main!M361)","v":""},{"$f":"IF(Main!N361=\"\",\"\",Main!N361)","v":""},null,"",{"$f":"K733","v":""}]
[{"$f":"IF(K735=\"\",\"\",SUM($L$18:L735))","v":""},{"$f":"IF(I735=\"\",\"\",CONCATENATE(Main!C362,\", \",Main!D362,IF(Main!F362>0,CONCATENATE(\", \",Main!F362),\"\")))","v":""},null,null,{"$f":"IF(I734=\"\",\"\",Main!O362)","v":""},{"$f":"IF(I734=\"\",\"\",Main!P362)","v":""},{"$f":"IF(I734=\"\",\"\",Main!Q362)","v":""},{"$f":"IF(I734=\"\",\"\",Main!R362)","v":""},{"$f":"IF(Main!S362=\"\",\"\",Main!S362)","v":""},null,""]
[null,null,null,null,{"$f":"IF(I735=\"\",\"\",Main!J362)","v":""},{"$f":"IF(I735=\"\",\"\",Main!K362)","v":""},{"$f":"IF(I735=\"\",\"\",Main!L362)","v":""},{"$f":"IF(I735=\"\",\"\",Main!M362)","v":""},{"$f":"IF(Main!N362=\"\",\"\",Main!N362)","v":""},null,"",{"$f":"K735","v":""}]
[{"$f":"IF(K737=\"\",\"\",SUM($L$18:L737))","v":""},{"$f":"IF(I737=\"\",\"\",CONCATENATE(Main!C363,\", \",Main!D363,IF(Main!F363>0,CONCATENATE(\", \",Main!F363),\"\")))","v":""},null,null,{"$f":"IF(I736=\"\",\"\",Main!O363)","v":""},{"$f":"IF(I736=\"\",\"\",Main!P363)","v":""},{"$f":"IF(I736=\"\",\"\",Main!Q363)","v":""},{"$f":"IF(I736=\"\",\"\",Main!R363)","v":""},{"$f":"IF(Main!S363=\"\",\"\",Main!S363)","v":""},null,""]
[null,null,null,null,{"$f":"IF(I737=\"\",\"\",Main!J363)","v":""},{"$f":"IF(I737=\"\",\"\",Main!K363)","v":""},{"$f":"IF(I737=\"\",\"\",Main!L363)","v":""},{"$f":"IF(I737=\"\",\"\",Main!M363)","v":""},{"$f":"IF(Main!N363=\"\",\"\",Main!N363)","v":""},null,"",{"$f":"K737","v":""}]
[{"$f":"IF(K739=\"\",\"\",SUM($L$18:L739))","v":""},{"$f":"IF(I739=\"\",\"\",CONCATENATE(Main!C364,\", \",Main!D364,IF(Main!F364>0,CONCATENATE(\", \",Main!F364),\"\")))","v":""},null,null,{"$f":"IF(I738=\"\",\"\",Main!O364)","v":""},{"$f":"IF(I738=\"\",\"\",Main!P364)","v":""},{"$f":"IF(I738=\"\",\"\",Main!Q364)","v":""},{"$f":"IF(I738=\"\",\"\",Main!R364)","v":""},{"$f":"IF(Main!S364=\"\",\"\",Main!S364)","v":""},null,""]
[null,null,null,null,{"$f":"IF(I739=\"\",\"\",Main!J364)","v":""},{"$f":"IF(I739=\"\",\"\",Main!K364)","v":""},{"$f":"IF(I739=\"\",\"\",Main!L364)","v":""},{"$f":"IF(I739=\"\",\"\",Main!M364)","v":""},{"$f":"IF(Main!N364=\"\",\"\",Main!N364)","v":""},null,"",{"$f":"K739","v":""}]
[{"$f":"IF(K741=\"\",\"\",SUM($L$18:L741))","v":""},{"$f":"IF(I741=\"\",\"\",CONCATENATE(Main!C365,\", \",Main!D365,IF(Main!F365>0,CONCATENATE(\", \",Main!F365),\"\")))","v":""},null,null,{"$f":"IF(I740=\"\",\"\",Main!O365)","v":""},{"$f":"IF(I740=\"\",\"\",Main!P365)","v":""},{"$f":"IF(I740=\"\",\"\",Main!Q365)","v":""},{"$f":"IF(I740=\"\",\"\",Main!R365)","v":""},{"$f":"IF(Main!S365=\"\",\"\",Main!S365)","v":""},null,""]
[null,null,null,null,{"$f":"IF(I741=\"\",\"\",Main!J365)","v":""},{"$f":"IF(I741=\"\",\"\",Main!K365)","v":""},{"$f":"IF(I741=\"\",\"\",Main!L365)","v":""},{"$f":"IF(I741=\"\",\"\",Main!M365)","v":""},{"$f":"IF(Main!N365=\"\",\"\",Main!N365)","v":""},null,"",{"$f":"K741","v":""}]
[{"$f":"IF(K743=\"\",\"\",SUM($L$18:L743))","v":""},{"$f":"IF(I743=\"\",\"\",CONCATENATE(Main!C366,\", \",Main!D366,IF(Main!F366>0,CONCATENATE(\", \",Main!F366),\"\")))","v":""},null,null,{"$f":"IF(I742=\"\",\"\",Main!O366)","v":""},{"$f":"IF(I742=\"\",\"\",Main!P366)","v":""},{"$f":"IF(I742=\"\",\"\",Main!Q366)","v":""},{"$f":"IF(I742=\"\",\"\",Main!R366)","v":""},{"$f":"IF(Main!S366=\"\",\"\",Main!S366)","v":""},null,""]
[null,null,null,null,{"$f":"IF(I743=\"\",\"\",Main!J366)","v":""},{"$f":"IF(I743=\"\",\"\",Main!K366)","v":""},{"$f":"IF(I743=\"\",\"\",Main!L366)","v":""},{"$f":"IF(I743=\"\",\"\",Main!M366)","v":""},{"$f":"IF(Main!N366=\"\",\"\",Main!N366)","v":""},null,"",{"$f":"K743","v":""}]
[{"$f":"IF(K745=\"\",\"\",SUM($L$18:L745))","v":""},{"$f":"IF(I745=\"\",\"\",CONCATENATE(Main!C367,\", \",Main!D367,IF(Main!F367>0,CONCATENATE(\", \",Main!F367),\"\")))","v":""},null,null,{"$f":"IF(I744=\"\",\"\",Main!O367)","v":""},{"$f":"IF(I744=\"\",\"\",Main!P367)","v":""},{"$f":"IF(I744=\"\",\"\",Main!Q367)","v":""},{"$f":"IF(I744=\"\",\"\",Main!R367)","v":""},{"$f":"IF(Main!S367=\"\",\"\",Main!S367)","v":""},null,""]
[null,null,null,null,{"$f":"IF(I745=\"\",\"\",Main!J367)","v":""},{"$f":"IF(I745=\"\",\"\",Main!K367)","v":""},{"$f":"IF(I745=\"\",\"\",Main!L367)","v":""},{"$f":"IF(I745=\"\",\"\",Main!M367)","v":""},{"$f":"IF(Main!N367=\"\",\"\",Main!N367)","v":""},null,"",{"$f":"K745","v":""}]
[{"$f":"IF(K747=\"\",\"\",SUM($L$18:L747))","v":""},{"$f":"IF(I747=\"\",\"\",CONCATENATE(Main!C368,\", \",Main!D368,IF(Main!F368>0,CONCATENATE(\", \",Main!F368),\"\")))","v":""},null,null,{"$f":"IF(I746=\"\",\"\",Main!O368)","v":""},{"$f":"IF(I746=\"\",\"\",Main!P368)","v":""},{"$f":"IF(I746=\"\",\"\",Main!Q368)","v":""},{"$f":"IF(I746=\"\",\"\",Main!R368)","v":""},{"$f":"IF(Main!S368=\"\",\"\",Main!S368)","v":""},null,""]
[null,null,null,null,{"$f":"IF(I747=\"\",\"\",Main!J368)","v":""},{"$f":"IF(I747=\"\",\"\",Main!K368)","v":""},{"$f":"IF(I747=\"\",\"\",Main!L368)","v":""},{"$f":"IF(I747=\"\",\"\",Main!M368)","v":""},{"$f":"IF(Main!N368=\"\",\"\",Main!N368)","v":""},null,"",{"$f":"K747","v":""}]
[{"$f":"IF(K749=\"\",\"\",SUM($L$18:L749))","v":""},{"$f":"IF(I749=\"\",\"\",CONCATENATE(Main!C369,\", \",Main!D369,IF(Main!F369>0,CONCATENATE(\", \",Main!F369),\"\")))","v":""},null,null,{"$f":"IF(I748=\"\",\"\",Main!O369)","v":""},{"$f":"IF(I748=\"\",\"\",Main!P369)","v":""},{"$f":"IF(I748=\"\",\"\",Main!Q369)","v":""},{"$f":"IF(I748=\"\",\"\",Main!R369)","v":""},{"$f":"IF(Main!S369=\"\",\"\",Main!S369)","v":""},null,""]
[null,null,null,null,{"$f":"IF(I749=\"\",\"\",Main!J369)","v":""},{"$f":"IF(I749=\"\",\"\",Main!K369)","v":""},{"$f":"IF(I749=\"\",\"\",Main!L369)","v":""},{"$f":"IF(I749=\"\",\"\",Main!M369)","v":""},{"$f":"IF(Main!N369=\"\",\"\",Main!N369)","v":""},null,"",{"$f":"K749","v":""}]
[{"$f":"IF(K751=\"\",\"\",SUM($L$18:L751))","v":""},{"$f":"IF(I751=\"\",\"\",CONCATENATE(Main!C370,\", \",Main!D370,IF(Main!F370>0,CONCATENATE(\", \",Main!F370),\"\")))","v":""},null,null,{"$f":"IF(I750=\"\",\"\",Main!O370)","v":""},{"$f":"IF(I750=\"\",\"\",Main!P370)","v":""},{"$f":"IF(I750=\"\",\"\",Main!Q370)","v":""},{"$f":"IF(I750=\"\",\"\",Main!R370)","v":""},{"$f":"IF(Main!S370=\"\",\"\",Main!S370)","v":""},null,""]
[null,null,null,null,{"$f":"IF(I751=\"\",\"\",Main!J370)","v":""},{"$f":"IF(I751=\"\",\"\",Main!K370)","v":""},{"$f":"IF(I751=\"\",\"\",Main!L370)","v":""},{"$f":"IF(I751=\"\",\"\",Main!M370)","v":""},{"$f":"IF(Main!N370=\"\",\"\",Main!N370)","v":""},null,"",{"$f":"K751","v":""}]
[{"$f":"IF(K753=\"\",\"\",SUM($L$18:L753))","v":""},{"$f":"IF(I753=\"\",\"\",CONCATENATE(Main!C371,\", \",Main!D371,IF(Main!F371>0,CONCATENATE(\", \",Main!F371),\"\")))","v":""},null,null,{"$f":"IF(I752=\"\",\"\",Main!O371)","v":""},{"$f":"IF(I752=\"\",\"\",Main!P371)","v":""},{"$f":"IF(I752=\"\",\"\",Main!Q371)","v":""},{"$f":"IF(I752=\"\",\"\",Main!R371)","v":""},{"$f":"IF(Main!S371=\"\",\"\",Main!S371)","v":""},null,""]
[null,null,null,null,{"$f":"IF(I753=\"\",\"\",Main!J371)","v":""},{"$f":"IF(I753=\"\",\"\",Main!K371)","v":""},{"$f":"IF(I753=\"\",\"\",Main!L371)","v":""},{"$f":"IF(I753=\"\",\"\",Main!M371)","v":""},{"$f":"IF(Main!N371=\"\",\"\",Main!N371)","v":""},null,"",{"$f":"K753","v":""}]
[{"$f":"IF(K755=\"\",\"\",SUM($L$18:L755))","v":""},{"$f":"IF(I755=\"\",\"\",CONCATENATE(Main!C372,\", \",Main!D372,IF(Main!F372>0,CONCATENATE(\", \",Main!F372),\"\")))","v":""},null,null,{"$f":"IF(I754=\"\",\"\",Main!O372)","v":""},{"$f":"IF(I754=\"\",\"\",Main!P372)","v":""},{"$f":"IF(I754=\"\",\"\",Main!Q372)","v":""},{"$f":"IF(I754=\"\",\"\",Main!R372)","v":""},{"$f":"IF(Main!S372=\"\",\"\",Main!S372)","v":""},null,""]
[null,null,null,null,{"$f":"IF(I755=\"\",\"\",Main!J372)","v":""},{"$f":"IF(I755=\"\",\"\",Main!K372)","v":""},{"$f":"IF(I755=\"\",\"\",Main!L372)","v":""},{"$f":"IF(I755=\"\",\"\",Main!M372)","v":""},{"$f":"IF(Main!N372=\"\",\"\",Main!N372)","v":""},null,"",{"$f":"K755","v":""}]
[{"$f":"IF(K757=\"\",\"\",SUM($L$18:L757))","v":""},{"$f":"IF(I757=\"\",\"\",CONCATENATE(Main!C373,\", \",Main!D373,IF(Main!F373>0,CONCATENATE(\", \",Main!F373),\"\")))","v":""},null,null,{"$f":"IF(I756=\"\",\"\",Main!O373)","v":""},{"$f":"IF(I756=\"\",\"\",Main!P373)","v":""},{"$f":"IF(I756=\"\",\"\",Main!Q373)","v":""},{"$f":"IF(I756=\"\",\"\",Main!R373)","v":""},{"$f":"IF(Main!S373=\"\",\"\",Main!S373)","v":""},null,""]
[null,null,null,null,{"$f":"IF(I757=\"\",\"\",Main!J373)","v":""},{"$f":"IF(I757=\"\",\"\",Main!K373)","v":""},{"$f":"IF(I757=\"\",\"\",Main!L373)","v":""},{"$f":"IF(I757=\"\",\"\",Main!M373)","v":""},{"$f":"IF(Main!N373=\"\",\"\",Main!N373)","v":""},null,"",{"$f":"K757","v":""}]
[{"$f":"IF(K759=\"\",\"\",SUM($L$18:L759))","v":""},{"$f":"IF(I759=\"\",\"\",CONCATENATE(Main!C374,\", \",Main!D374,IF(Main!F374>0,CONCATENATE(\", \",Main!F374),\"\")))","v":""},null,null,{"$f":"IF(I758=\"\",\"\",Main!O374)","v":""},{"$f":"IF(I758=\"\",\"\",Main!P374)","v":""},{"$f":"IF(I758=\"\",\"\",Main!Q374)","v":""},{"$f":"IF(I758=\"\",\"\",Main!R374)","v":""},{"$f":"IF(Main!S374=\"\",\"\",Main!S374)","v":""},null,""]
[null,null,null,null,{"$f":"IF(I759=\"\",\"\",Main!J374)","v":""},{"$f":"IF(I759=\"\",\"\",Main!K374)","v":""},{"$f":"IF(I759=\"\",\"\",Main!L374)","v":""},{"$f":"IF(I759=\"\",\"\",Main!M374)","v":""},{"$f":"IF(Main!N374=\"\",\"\",Main!N374)","v":""},null,"",{"$f":"K759","v":""}]
[{"$f":"IF(K761=\"\",\"\",SUM($L$18:L761))","v":""},{"$f":"IF(I761=\"\",\"\",CONCATENATE(Main!C375,\", \",Main!D375,IF(Main!F375>0,CONCATENATE(\", \",Main!F375),\"\")))","v":""},null,null,{"$f":"IF(I760=\"\",\"\",Main!O375)","v":""},{"$f":"IF(I760=\"\",\"\",Main!P375)","v":""},{"$f":"IF(I760=\"\",\"\",Main!Q375)","v":""},{"$f":"IF(I760=\"\",\"\",Main!R375)","v":""},{"$f":"IF(Main!S375=\"\",\"\",Main!S375)","v":""},null,""]
[null,null,null,null,{"$f":"IF(I761=\"\",\"\",Main!J375)","v":""},{"$f":"IF(I761=\"\",\"\",Main!K375)","v":""},{"$f":"IF(I761=\"\",\"\",Main!L375)","v":""},{"$f":"IF(I761=\"\",\"\",Main!M375)","v":""},{"$f":"IF(Main!N375=\"\",\"\",Main!N375)","v":""},null,"",{"$f":"K761","v":""}]
[{"$f":"IF(K763=\"\",\"\",SUM($L$18:L763))","v":""},{"$f":"IF(I763=\"\",\"\",CONCATENATE(Main!C376,\", \",Main!D376,IF(Main!F376>0,CONCATENATE(\", \",Main!F376),\"\")))","v":""},null,null,{"$f":"IF(I762=\"\",\"\",Main!O376)","v":""},{"$f":"IF(I762=\"\",\"\",Main!P376)","v":""},{"$f":"IF(I762=\"\",\"\",Main!Q376)","v":""},{"$f":"IF(I762=\"\",\"\",Main!R376)","v":""},{"$f":"IF(Main!S376=\"\",\"\",Main!S376)","v":""},null,""]
[null,null,null,null,{"$f":"IF(I763=\"\",\"\",Main!J376)","v":""},{"$f":"IF(I763=\"\",\"\",Main!K376)","v":""},{"$f":"IF(I763=\"\",\"\",Main!L376)","v":""},{"$f":"IF(I763=\"\",\"\",Main!M376)","v":""},{"$f":"IF(Main!N376=\"\",\"\",Main!N376)","v":""},null,"",{"$f":"K763","v":""}]
[{"$f":"IF(K765=\"\",\"\",SUM($L$18:L765))","v":""},{"$f":"IF(I765=\"\",\"\",CONCATENATE(Main!C377,\", \",Main!D377,IF(Main!F377>0,CONCATENATE(\", \",Main!F377),\"\")))","v":""},null,null,{"$f":"IF(I764=\"\",\"\",Main!O377)","v":""},{"$f":"IF(I764=\"\",\"\",Main!P377)","v":""},{"$f":"IF(I764=\"\",\"\",Main!Q377)","v":""},{"$f":"IF(I764=\"\",\"\",Main!R377)","v":""},{"$f":"IF(Main!S377=\"\",\"\",Main!S377)","v":""},null,""]
[null,null,null,null,{"$f":"IF(I765=\"\",\"\",Main!J377)","v":""},{"$f":"IF(I765=\"\",\"\",Main!K377)","v":""},{"$f":"IF(I765=\"\",\"\",Main!L377)","v":""},{"$f":"IF(I765=\"\",\"\",Main!M377)","v":""},{"$f":"IF(Main!N377=\"\",\"\",Main!N377)","v":""},null,"",{"$f":"K765","v":""}]
[{"$f":"IF(K767=\"\",\"\",SUM($L$18:L767))","v":""},{"$f":"IF(I767=\"\",\"\",CONCATENATE(Main!C378,\", \",Main!D378,IF(Main!F378>0,CONCATENATE(\", \",Main!F378),\"\")))","v":""},null,null,{"$f":"IF(I766=\"\",\"\",Main!O378)","v":""},{"$f":"IF(I766=\"\",\"\",Main!P378)","v":""},{"$f":"IF(I766=\"\",\"\",Main!Q378)","v":""},{"$f":"IF(I766=\"\",\"\",Main!R378)","v":""},{"$f":"IF(Main!S378=\"\",\"\",Main!S378)","v":""},null,""]
[null,null,null,null,{"$f":"IF(I767=\"\",\"\",Main!J378)","v":""},{"$f":"IF(I767=\"\",\"\",Main!K378)","v":""},{"$f":"IF(I767=\"\",\"\",Main!L378)","v":""},{"$f":"IF(I767=\"\",\"\",Main!M378)","v":""},{"$f":"IF(Main!N378=\"\",\"\",Main!N378)","v":""},null,"",{"$f":"K767","v":""}]
[{"$f":"IF(K769=\"\",\"\",SUM($L$18:L769))","v":""},{"$f":"IF(I769=\"\",\"\",CONCATENATE(Main!C379,\", \",Main!D379,IF(Main!F379>0,CONCATENATE(\", \",Main!F379),\"\")))","v":""},null,null,{"$f":"IF(I768=\"\",\"\",Main!O379)","v":""},{"$f":"IF(I768=\"\",\"\",Main!P379)","v":""},{"$f":"IF(I768=\"\",\"\",Main!Q379)","v":""},{"$f":"IF(I768=\"\",\"\",Main!R379)","v":""},{"$f":"IF(Main!S379=\"\",\"\",Main!S379)","v":""},null,""]
[null,null,null,null,{"$f":"IF(I769=\"\",\"\",Main!J379)","v":""},{"$f":"IF(I769=\"\",\"\",Main!K379)","v":""},{"$f":"IF(I769=\"\",\"\",Main!L379)","v":""},{"$f":"IF(I769=\"\",\"\",Main!M379)","v":""},{"$f":"IF(Main!N379=\"\",\"\",Main!N379)","v":""},null,"",{"$f":"K769","v":""}]
[{"$f":"IF(K771=\"\",\"\",SUM($L$18:L771))","v":""},{"$f":"IF(I771=\"\",\"\",CONCATENATE(Main!C380,\", \",Main!D380,IF(Main!F380>0,CONCATENATE(\", \",Main!F380),\"\")))","v":""},null,null,{"$f":"IF(I770=\"\",\"\",Main!O380)","v":""},{"$f":"IF(I770=\"\",\"\",Main!P380)","v":""},{"$f":"IF(I770=\"\",\"\",Main!Q380)","v":""},{"$f":"IF(I770=\"\",\"\",Main!R380)","v":""},{"$f":"IF(Main!S380=\"\",\"\",Main!S380)","v":""},null,""]
[null,null,null,null,{"$f":"IF(I771=\"\",\"\",Main!J380)","v":""},{"$f":"IF(I771=\"\",\"\",Main!K380)","v":""},{"$f":"IF(I771=\"\",\"\",Main!L380)","v":""},{"$f":"IF(I771=\"\",\"\",Main!M380)","v":""},{"$f":"IF(Main!N380=\"\",\"\",Main!N380)","v":""},null,"",{"$f":"K771","v":""}]
[{"$f":"IF(K773=\"\",\"\",SUM($L$18:L773))","v":""},{"$f":"IF(I773=\"\",\"\",CONCATENATE(Main!C381,\", \",Main!D381,IF(Main!F381>0,CONCATENATE(\", \",Main!F381),\"\")))","v":""},null,null,{"$f":"IF(I772=\"\",\"\",Main!O381)","v":""},{"$f":"IF(I772=\"\",\"\",Main!P381)","v":""},{"$f":"IF(I772=\"\",\"\",Main!Q381)","v":""},{"$f":"IF(I772=\"\",\"\",Main!R381)","v":""},{"$f":"IF(Main!S381=\"\",\"\",Main!S381)","v":""},null,""]
[null,null,null,null,{"$f":"IF(I773=\"\",\"\",Main!J381)","v":""},{"$f":"IF(I773=\"\",\"\",Main!K381)","v":""},{"$f":"IF(I773=\"\",\"\",Main!L381)","v":""},{"$f":"IF(I773=\"\",\"\",Main!M381)","v":""},{"$f":"IF(Main!N381=\"\",\"\",Main!N381)","v":""},null,"",{"$f":"K773","v":""}]
[{"$f":"IF(K775=\"\",\"\",SUM($L$18:L775))","v":""},{"$f":"IF(I775=\"\",\"\",CONCATENATE(Main!C382,\", \",Main!D382,IF(Main!F382>0,CONCATENATE(\", \",Main!F382),\"\")))","v":""},null,null,{"$f":"IF(I774=\"\",\"\",Main!O382)","v":""},{"$f":"IF(I774=\"\",\"\",Main!P382)","v":""},{"$f":"IF(I774=\"\",\"\",Main!Q382)","v":""},{"$f":"IF(I774=\"\",\"\",Main!R382)","v":""},{"$f":"IF(Main!S382=\"\",\"\",Main!S382)","v":""},null,""]
[null,null,null,null,{"$f":"IF(I775=\"\",\"\",Main!J382)","v":""},{"$f":"IF(I775=\"\",\"\",Main!K382)","v":""},{"$f":"IF(I775=\"\",\"\",Main!L382)","v":""},{"$f":"IF(I775=\"\",\"\",Main!M382)","v":""},{"$f":"IF(Main!N382=\"\",\"\",Main!N382)","v":""},null,"",{"$f":"K775","v":""}]
[{"$f":"IF(K777=\"\",\"\",SUM($L$18:L777))","v":""},{"$f":"IF(I777=\"\",\"\",CONCATENATE(Main!C383,\", \",Main!D383,IF(Main!F383>0,CONCATENATE(\", \",Main!F383),\"\")))","v":""},null,null,{"$f":"IF(I776=\"\",\"\",Main!O383)","v":""},{"$f":"IF(I776=\"\",\"\",Main!P383)","v":""},{"$f":"IF(I776=\"\",\"\",Main!Q383)","v":""},{"$f":"IF(I776=\"\",\"\",Main!R383)","v":""},{"$f":"IF(Main!S383=\"\",\"\",Main!S383)","v":""},null,""]
[null,null,null,null,{"$f":"IF(I777=\"\",\"\",Main!J383)","v":""},{"$f":"IF(I777=\"\",\"\",Main!K383)","v":""},{"$f":"IF(I777=\"\",\"\",Main!L383)","v":""},{"$f":"IF(I777=\"\",\"\",Main!M383)","v":""},{"$f":"IF(Main!N383=\"\",\"\",Main!N383)","v":""},null,"",{"$f":"K777","v":""}]
[{"$f":"IF(K779=\"\",\"\",SUM($L$18:L779))","v":""},{"$f":"IF(I779=\"\",\"\",CONCATENATE(Main!C384,\", \",Main!D384,IF(Main!F384>0,CONCATENATE(\", \",Main!F384),\"\")))","v":""},null,null,{"$f":"IF(I778=\"\",\"\",Main!O384)","v":""},{"$f":"IF(I778=\"\",\"\",Main!P384)","v":""},{"$f":"IF(I778=\"\",\"\",Main!Q384)","v":""},{"$f":"IF(I778=\"\",\"\",Main!R384)","v":""},{"$f":"IF(Main!S384=\"\",\"\",Main!S384)","v":""},null,""]
[null,null,null,null,{"$f":"IF(I779=\"\",\"\",Main!J384)","v":""},{"$f":"IF(I779=\"\",\"\",Main!K384)","v":""},{"$f":"IF(I779=\"\",\"\",Main!L384)","v":""},{"$f":"IF(I779=\"\",\"\",Main!M384)","v":""},{"$f":"IF(Main!N384=\"\",\"\",Main!N384)","v":""},null,"",{"$f":"K779","v":""}]
[{"$f":"IF(K781=\"\",\"\",SUM($L$18:L781))","v":""},{"$f":"IF(I781=\"\",\"\",CONCATENATE(Main!C385,\", \",Main!D385,IF(Main!F385>0,CONCATENATE(\", \",Main!F385),\"\")))","v":""},null,null,{"$f":"IF(I780=\"\",\"\",Main!O385)","v":""},{"$f":"IF(I780=\"\",\"\",Main!P385)","v":""},{"$f":"IF(I780=\"\",\"\",Main!Q385)","v":""},{"$f":"IF(I780=\"\",\"\",Main!R385)","v":""},{"$f":"IF(Main!S385=\"\",\"\",Main!S385)","v":""},null,""]
[null,null,null,null,{"$f":"IF(I781=\"\",\"\",Main!J385)","v":""},{"$f":"IF(I781=\"\",\"\",Main!K385)","v":""},{"$f":"IF(I781=\"\",\"\",Main!L385)","v":""},{"$f":"IF(I781=\"\",\"\",Main!M385)","v":""},{"$f":"IF(Main!N385=\"\",\"\",Main!N385)","v":""},null,"",{"$f":"K781","v":""}]
[{"$f":"IF(K783=\"\",\"\",SUM($L$18:L783))","v":""},{"$f":"IF(I783=\"\",\"\",CONCATENATE(Main!C386,\", \",Main!D386,IF(Main!F386>0,CONCATENATE(\", \",Main!F386),\"\")))","v":""},null,null,{"$f":"IF(I782=\"\",\"\",Main!O386)","v":""},{"$f":"IF(I782=\"\",\"\",Main!P386)","v":""},{"$f":"IF(I782=\"\",\"\",Main!Q386)","v":""},{"$f":"IF(I782=\"\",\"\",Main!R386)","v":""},{"$f":"IF(Main!S386=\"\",\"\",Main!S386)","v":""},null,""]
[null,null,null,null,{"$f":"IF(I783=\"\",\"\",Main!J386)","v":""},{"$f":"IF(I783=\"\",\"\",Main!K386)","v":""},{"$f":"IF(I783=\"\",\"\",Main!L386)","v":""},{"$f":"IF(I783=\"\",\"\",Main!M386)","v":""},{"$f":"IF(Main!N386=\"\",\"\",Main!N386)","v":""},null,"",{"$f":"K783","v":""}]
[{"$f":"IF(K785=\"\",\"\",SUM($L$18:L785))","v":""},{"$f":"IF(I785=\"\",\"\",CONCATENATE(Main!C387,\", \",Main!D387,IF(Main!F387>0,CONCATENATE(\", \",Main!F387),\"\")))","v":""},null,null,{"$f":"IF(I784=\"\",\"\",Main!O387)","v":""},{"$f":"IF(I784=\"\",\"\",Main!P387)","v":""},{"$f":"IF(I784=\"\",\"\",Main!Q387)","v":""},{"$f":"IF(I784=\"\",\"\",Main!R387)","v":""},{"$f":"IF(Main!S387=\"\",\"\",Main!S387)","v":""},null,""]
[null,null,null,null,{"$f":"IF(I785=\"\",\"\",Main!J387)","v":""},{"$f":"IF(I785=\"\",\"\",Main!K387)","v":""},{"$f":"IF(I785=\"\",\"\",Main!L387)","v":""},{"$f":"IF(I785=\"\",\"\",Main!M387)","v":""},{"$f":"IF(Main!N387=\"\",\"\",Main!N387)","v":""},null,"",{"$f":"K785","v":""}]
[{"$f":"IF(K787=\"\",\"\",SUM($L$18:L787))","v":""},{"$f":"IF(I787=\"\",\"\",CONCATENATE(Main!C388,\", \",Main!D388,IF(Main!F388>0,CONCATENATE(\", \",Main!F388),\"\")))","v":""},null,null,{"$f":"IF(I786=\"\",\"\",Main!O388)","v":""},{"$f":"IF(I786=\"\",\"\",Main!P388)","v":""},{"$f":"IF(I786=\"\",\"\",Main!Q388)","v":""},{"$f":"IF(I786=\"\",\"\",Main!R388)","v":""},{"$f":"IF(Main!S388=\"\",\"\",Main!S388)","v":""},null,""]
[null,null,null,null,{"$f":"IF(I787=\"\",\"\",Main!J388)","v":""},{"$f":"IF(I787=\"\",\"\",Main!K388)","v":""},{"$f":"IF(I787=\"\",\"\",Main!L388)","v":""},{"$f":"IF(I787=\"\",\"\",Main!M388)","v":""},{"$f":"IF(Main!N388=\"\",\"\",Main!N388)","v":""},null,{"$f":"IF(I787=\"\",\"\",1)","v":""},{"$f":"K787","v":""}]
[{"$f":"IF(K789=\"\",\"\",SUM($L$18:L789))","v":""},{"$f":"IF(I789=\"\",\"\",CONCATENATE(Main!C389,\", \",Main!D389,IF(Main!F389>0,CONCATENATE(\", \",Main!F389),\"\")))","v":""},null,null,{"$f":"IF(I788=\"\",\"\",Main!O389)","v":""},{"$f":"IF(I788=\"\",\"\",Main!P389)","v":""},{"$f":"IF(I788=\"\",\"\",Main!Q389)","v":""},{"$f":"IF(I788=\"\",\"\",Main!R389)","v":""},{"$f":"IF(Main!S389=\"\",\"\",Main!S389)","v":""},null,""]
[null,null,null,null,{"$f":"IF(I789=\"\",\"\",Main!J389)","v":""},{"$f":"IF(I789=\"\",\"\",Main!K389)","v":""},{"$f":"IF(I789=\"\",\"\",Main!L389)","v":""},{"$f":"IF(I789=\"\",\"\",Main!M389)","v":""},{"$f":"IF(Main!N389=\"\",\"\",Main!N389)","v":""},null,"",{"$f":"K789","v":""}]
[{"$f":"IF(K791=\"\",\"\",SUM($L$18:L791))","v":""},{"$f":"IF(I791=\"\",\"\",CONCATENATE(Main!C390,\", \",Main!D390,IF(Main!F390>0,CONCATENATE(\", \",Main!F390),\"\")))","v":""},null,null,{"$f":"IF(I790=\"\",\"\",Main!O390)","v":""},{"$f":"IF(I790=\"\",\"\",Main!P390)","v":""},{"$f":"IF(I790=\"\",\"\",Main!Q390)","v":""},{"$f":"IF(I790=\"\",\"\",Main!R390)","v":""},{"$f":"IF(Main!S390=\"\",\"\",Main!S390)","v":""},null,""]
[null,null,null,null,{"$f":"IF(I791=\"\",\"\",Main!J390)","v":""},{"$f":"IF(I791=\"\",\"\",Main!K390)","v":""},{"$f":"IF(I791=\"\",\"\",Main!L390)","v":""},{"$f":"IF(I791=\"\",\"\",Main!M390)","v":""},{"$f":"IF(Main!N390=\"\",\"\",Main!N390)","v":""},null,"",{"$f":"K791","v":""}]
[{"$f":"IF(K793=\"\",\"\",SUM($L$18:L793))","v":""},{"$f":"IF(I793=\"\",\"\",CONCATENATE(Main!C391,\", \",Main!D391,IF(Main!F391>0,CONCATENATE(\", \",Main!F391),\"\")))","v":""},null,null,{"$f":"IF(I792=\"\",\"\",Main!O391)","v":""},{"$f":"IF(I792=\"\",\"\",Main!P391)","v":""},{"$f":"IF(I792=\"\",\"\",Main!Q391)","v":""},{"$f":"IF(I792=\"\",\"\",Main!R391)","v":""},{"$f":"IF(Main!S391=\"\",\"\",Main!S391)","v":""},null,""]
[null,null,null,null,{"$f":"IF(I793=\"\",\"\",Main!J391)","v":""},{"$f":"IF(I793=\"\",\"\",Main!K391)","v":""},{"$f":"IF(I793=\"\",\"\",Main!L391)","v":""},{"$f":"IF(I793=\"\",\"\",Main!M391)","v":""},{"$f":"IF(Main!N391=\"\",\"\",Main!N391)","v":""},null,"",{"$f":"K793","v":""}]
[{"$f":"IF(K795=\"\",\"\",SUM($L$18:L795))","v":""},{"$f":"IF(I795=\"\",\"\",CONCATENATE(Main!C392,\", \",Main!D392,IF(Main!F392>0,CONCATENATE(\", \",Main!F392),\"\")))","v":""},null,null,{"$f":"IF(I794=\"\",\"\",Main!O392)","v":""},{"$f":"IF(I794=\"\",\"\",Main!P392)","v":""},{"$f":"IF(I794=\"\",\"\",Main!Q392)","v":""},{"$f":"IF(I794=\"\",\"\",Main!R392)","v":""},{"$f":"IF(Main!S392=\"\",\"\",Main!S392)","v":""},null,""]
[null,null,null,null,{"$f":"IF(I795=\"\",\"\",Main!J392)","v":""},{"$f":"IF(I795=\"\",\"\",Main!K392)","v":""},{"$f":"IF(I795=\"\",\"\",Main!L392)","v":""},{"$f":"IF(I795=\"\",\"\",Main!M392)","v":""},{"$f":"IF(Main!N392=\"\",\"\",Main!N392)","v":""},null,"",{"$f":"K795","v":""}]
[{"$f":"IF(K797=\"\",\"\",SUM($L$18:L797))","v":""},{"$f":"IF(I797=\"\",\"\",CONCATENATE(Main!C393,\", \",Main!D393,IF(Main!F393>0,CONCATENATE(\", \",Main!F393),\"\")))","v":""},null,null,{"$f":"IF(I796=\"\",\"\",Main!O393)","v":""},{"$f":"IF(I796=\"\",\"\",Main!P393)","v":""},{"$f":"IF(I796=\"\",\"\",Main!Q393)","v":""},{"$f":"IF(I796=\"\",\"\",Main!R393)","v":""},{"$f":"IF(Main!S393=\"\",\"\",Main!S393)","v":""},null,""]
[null,null,null,null,{"$f":"IF(I797=\"\",\"\",Main!J393)","v":""},{"$f":"IF(I797=\"\",\"\",Main!K393)","v":""},{"$f":"IF(I797=\"\",\"\",Main!L393)","v":""},{"$f":"IF(I797=\"\",\"\",Main!M393)","v":""},{"$f":"IF(Main!N393=\"\",\"\",Main!N393)","v":""},null,"",{"$f":"K797","v":""}]
[{"$f":"IF(K799=\"\",\"\",SUM($L$18:L799))","v":""},{"$f":"IF(I799=\"\",\"\",CONCATENATE(Main!C394,\", \",Main!D394,IF(Main!F394>0,CONCATENATE(\", \",Main!F394),\"\")))","v":""},null,null,{"$f":"IF(I798=\"\",\"\",Main!O394)","v":""},{"$f":"IF(I798=\"\",\"\",Main!P394)","v":""},{"$f":"IF(I798=\"\",\"\",Main!Q394)","v":""},{"$f":"IF(I798=\"\",\"\",Main!R394)","v":""},{"$f":"IF(Main!S394=\"\",\"\",Main!S394)","v":""},null,""]
[null,null,null,null,{"$f":"IF(I799=\"\",\"\",Main!J394)","v":""},{"$f":"IF(I799=\"\",\"\",Main!K394)","v":""},{"$f":"IF(I799=\"\",\"\",Main!L394)","v":""},{"$f":"IF(I799=\"\",\"\",Main!M394)","v":""},{"$f":"IF(Main!N394=\"\",\"\",Main!N394)","v":""},null,"",{"$f":"K799","v":""}]
[{"$f":"IF(K801=\"\",\"\",SUM($L$18:L801))","v":""},{"$f":"IF(I801=\"\",\"\",CONCATENATE(Main!C395,\", \",Main!D395,IF(Main!F395>0,CONCATENATE(\", \",Main!F395),\"\")))","v":""},null,null,{"$f":"IF(I800=\"\",\"\",Main!O395)","v":""},{"$f":"IF(I800=\"\",\"\",Main!P395)","v":""},{"$f":"IF(I800=\"\",\"\",Main!Q395)","v":""},{"$f":"IF(I800=\"\",\"\",Main!R395)","v":""},{"$f":"IF(Main!S395=\"\",\"\",Main!S395)","v":""},null,""]
[null,null,null,null,{"$f":"IF(I801=\"\",\"\",Main!J395)","v":""},{"$f":"IF(I801=\"\",\"\",Main!K395)","v":""},{"$f":"IF(I801=\"\",\"\",Main!L395)","v":""},{"$f":"IF(I801=\"\",\"\",Main!M395)","v":""},{"$f":"IF(Main!N395=\"\",\"\",Main!N395)","v":""},null,"",{"$f":"K801","v":""}]
[{"$f":"IF(K803=\"\",\"\",SUM($L$18:L803))","v":""},{"$f":"IF(I803=\"\",\"\",CONCATENATE(Main!C396,\", \",Main!D396,IF(Main!F396>0,CONCATENATE(\", \",Main!F396),\"\")))","v":""},null,null,{"$f":"IF(I802=\"\",\"\",Main!O396)","v":""},{"$f":"IF(I802=\"\",\"\",Main!P396)","v":""},{"$f":"IF(I802=\"\",\"\",Main!Q396)","v":""},{"$f":"IF(I802=\"\",\"\",Main!R396)","v":""},{"$f":"IF(Main!S396=\"\",\"\",Main!S396)","v":""},null,""]
[null,null,null,null,{"$f":"IF(I803=\"\",\"\",Main!J396)","v":""},{"$f":"IF(I803=\"\",\"\",Main!K396)","v":""},{"$f":"IF(I803=\"\",\"\",Main!L396)","v":""},{"$f":"IF(I803=\"\",\"\",Main!M396)","v":""},{"$f":"IF(Main!N396=\"\",\"\",Main!N396)","v":""},null,"",{"$f":"K803","v":""}]
[{"$f":"IF(K805=\"\",\"\",SUM($L$18:L805))","v":""},{"$f":"IF(I805=\"\",\"\",CONCATENATE(Main!C397,\", \",Main!D397,IF(Main!F397>0,CONCATENATE(\", \",Main!F397),\"\")))","v":""},null,null,{"$f":"IF(I804=\"\",\"\",Main!O397)","v":""},{"$f":"IF(I804=\"\",\"\",Main!P397)","v":""},{"$f":"IF(I804=\"\",\"\",Main!Q397)","v":""},{"$f":"IF(I804=\"\",\"\",Main!R397)","v":""},{"$f":"IF(Main!S397=\"\",\"\",Main!S397)","v":""},null,""]
[null,null,null,null,{"$f":"IF(I805=\"\",\"\",Main!J397)","v":""},{"$f":"IF(I805=\"\",\"\",Main!K397)","v":""},{"$f":"IF(I805=\"\",\"\",Main!L397)","v":""},{"$f":"IF(I805=\"\",\"\",Main!M397)","v":""},{"$f":"IF(Main!N397=\"\",\"\",Main!N397)","v":""},null,"",{"$f":"K805","v":""}]
[{"$f":"IF(K807=\"\",\"\",SUM($L$18:L807))","v":""},{"$f":"IF(I807=\"\",\"\",CONCATENATE(Main!C398,\", \",Main!D398,IF(Main!F398>0,CONCATENATE(\", \",Main!F398),\"\")))","v":""},null,null,{"$f":"IF(I806=\"\",\"\",Main!O398)","v":""},{"$f":"IF(I806=\"\",\"\",Main!P398)","v":""},{"$f":"IF(I806=\"\",\"\",Main!Q398)","v":""},{"$f":"IF(I806=\"\",\"\",Main!R398)","v":""},{"$f":"IF(Main!S398=\"\",\"\",Main!S398)","v":""},null,""]
[null,null,null,null,{"$f":"IF(I807=\"\",\"\",Main!J398)","v":""},{"$f":"IF(I807=\"\",\"\",Main!K398)","v":""},{"$f":"IF(I807=\"\",\"\",Main!L398)","v":""},{"$f":"IF(I807=\"\",\"\",Main!M398)","v":""},{"$f":"IF(Main!N398=\"\",\"\",Main!N398)","v":""},null,"",{"$f":"K807","v":""}]
[{"$f":"IF(K809=\"\",\"\",SUM($L$18:L809))","v":""},{"$f":"IF(I809=\"\",\"\",CONCATENATE(Main!C399,\", \",Main!D399,IF(Main!F399>0,CONCATENATE(\", \",Main!F399),\"\")))","v":""},null,null,{"$f":"IF(I808=\"\",\"\",Main!O399)","v":""},{"$f":"IF(I808=\"\",\"\",Main!P399)","v":""},{"$f":"IF(I808=\"\",\"\",Main!Q399)","v":""},{"$f":"IF(I808=\"\",\"\",Main!R399)","v":""},{"$f":"IF(Main!S399=\"\",\"\",Main!S399)","v":""},null,""]
[null,null,null,null,{"$f":"IF(I809=\"\",\"\",Main!J399)","v":""},{"$f":"IF(I809=\"\",\"\",Main!K399)","v":""},{"$f":"IF(I809=\"\",\"\",Main!L399)","v":""},{"$f":"IF(I809=\"\",\"\",Main!M399)","v":""},{"$f":"IF(Main!N399=\"\",\"\",Main!N399)","v":""},null,"",{"$f":"K809","v":""}]
[{"$f":"IF(K811=\"\",\"\",SUM($L$18:L811))","v":""},{"$f":"IF(I811=\"\",\"\",CONCATENATE(Main!C400,\", \",Main!D400,IF(Main!F400>0,CONCATENATE(\", \",Main!F400),\"\")))","v":""},null,null,{"$f":"IF(I810=\"\",\"\",Main!O400)","v":""},{"$f":"IF(I810=\"\",\"\",Main!P400)","v":""},{"$f":"IF(I810=\"\",\"\",Main!Q400)","v":""},{"$f":"IF(I810=\"\",\"\",Main!R400)","v":""},{"$f":"IF(Main!S400=\"\",\"\",Main!S400)","v":""},null,""]
[null,null,null,null,{"$f":"IF(I811=\"\",\"\",Main!J400)","v":""},{"$f":"IF(I811=\"\",\"\",Main!K400)","v":""},{"$f":"IF(I811=\"\",\"\",Main!L400)","v":""},{"$f":"IF(I811=\"\",\"\",Main!M400)","v":""},{"$f":"IF(Main!N400=\"\",\"\",Main!N400)","v":""},null,"",{"$f":"K811","v":""}]
[{"$f":"IF(K813=\"\",\"\",SUM($L$18:L813))","v":""},{"$f":"IF(I813=\"\",\"\",CONCATENATE(Main!C401,\", \",Main!D401,IF(Main!F401>0,CONCATENATE(\", \",Main!F401),\"\")))","v":""},null,null,{"$f":"IF(I812=\"\",\"\",Main!O401)","v":""},{"$f":"IF(I812=\"\",\"\",Main!P401)","v":""},{"$f":"IF(I812=\"\",\"\",Main!Q401)","v":""},{"$f":"IF(I812=\"\",\"\",Main!R401)","v":""},{"$f":"IF(Main!S401=\"\",\"\",Main!S401)","v":""},null,""]
[null,null,null,null,{"$f":"IF(I813=\"\",\"\",Main!J401)","v":""},{"$f":"IF(I813=\"\",\"\",Main!K401)","v":""},{"$f":"IF(I813=\"\",\"\",Main!L401)","v":""},{"$f":"IF(I813=\"\",\"\",Main!M401)","v":""},{"$f":"IF(Main!N401=\"\",\"\",Main!N401)","v":""},null,"",{"$f":"K813","v":""}]
[{"$f":"IF(K815=\"\",\"\",SUM($L$18:L815))","v":""},{"$f":"IF(I815=\"\",\"\",CONCATENATE(Main!C402,\", \",Main!D402,IF(Main!F402>0,CONCATENATE(\", \",Main!F402),\"\")))","v":""},null,null,{"$f":"IF(I814=\"\",\"\",Main!O402)","v":""},{"$f":"IF(I814=\"\",\"\",Main!P402)","v":""},{"$f":"IF(I814=\"\",\"\",Main!Q402)","v":""},{"$f":"IF(I814=\"\",\"\",Main!R402)","v":""},{"$f":"IF(Main!S402=\"\",\"\",Main!S402)","v":""},null,""]
[null,null,null,null,{"$f":"IF(I815=\"\",\"\",Main!J402)","v":""},{"$f":"IF(I815=\"\",\"\",Main!K402)","v":""},{"$f":"IF(I815=\"\",\"\",Main!L402)","v":""},{"$f":"IF(I815=\"\",\"\",Main!M402)","v":""},{"$f":"IF(Main!N402=\"\",\"\",Main!N402)","v":""},null,"",{"$f":"K815","v":""}]
[{"$f":"IF(K817=\"\",\"\",SUM($L$18:L817))","v":""},{"$f":"IF(I817=\"\",\"\",CONCATENATE(Main!C403,\", \",Main!D403,IF(Main!F403>0,CONCATENATE(\", \",Main!F403),\"\")))","v":""},null,null,{"$f":"IF(I816=\"\",\"\",Main!O403)","v":""},{"$f":"IF(I816=\"\",\"\",Main!P403)","v":""},{"$f":"IF(I816=\"\",\"\",Main!Q403)","v":""},{"$f":"IF(I816=\"\",\"\",Main!R403)","v":""},{"$f":"IF(Main!S403=\"\",\"\",Main!S403)","v":""},null,""]
[null,null,null,null,{"$f":"IF(I817=\"\",\"\",Main!J403)","v":""},{"$f":"IF(I817=\"\",\"\",Main!K403)","v":""},{"$f":"IF(I817=\"\",\"\",Main!L403)","v":""},{"$f":"IF(I817=\"\",\"\",Main!M403)","v":""},{"$f":"IF(Main!N403=\"\",\"\",Main!N403)","v":""},null,"",{"$f":"K817","v":""}]
[{"$f":"IF(K819=\"\",\"\",SUM($L$18:L819))","v":""},{"$f":"IF(I819=\"\",\"\",CONCATENATE(Main!C404,\", \",Main!D404,IF(Main!F404>0,CONCATENATE(\", \",Main!F404),\"\")))","v":""},null,null,{"$f":"IF(I818=\"\",\"\",Main!O404)","v":""},{"$f":"IF(I818=\"\",\"\",Main!P404)","v":""},{"$f":"IF(I818=\"\",\"\",Main!Q404)","v":""},{"$f":"IF(I818=\"\",\"\",Main!R404)","v":""},{"$f":"IF(Main!S404=\"\",\"\",Main!S404)","v":""},null,""]
[null,null,null,null,{"$f":"IF(I819=\"\",\"\",Main!J404)","v":""},{"$f":"IF(I819=\"\",\"\",Main!K404)","v":""},{"$f":"IF(I819=\"\",\"\",Main!L404)","v":""},{"$f":"IF(I819=\"\",\"\",Main!M404)","v":""},{"$f":"IF(Main!N404=\"\",\"\",Main!N404)","v":""},null,"",{"$f":"K819","v":""}]
[{"$f":"IF(K821=\"\",\"\",SUM($L$18:L821))","v":""},{"$f":"IF(I821=\"\",\"\",CONCATENATE(Main!C405,\", \",Main!D405,IF(Main!F405>0,CONCATENATE(\", \",Main!F405),\"\")))","v":""},null,null,{"$f":"IF(I820=\"\",\"\",Main!O405)","v":""},{"$f":"IF(I820=\"\",\"\",Main!P405)","v":""},{"$f":"IF(I820=\"\",\"\",Main!Q405)","v":""},{"$f":"IF(I820=\"\",\"\",Main!R405)","v":""},{"$f":"IF(Main!S405=\"\",\"\",Main!S405)","v":""},null,""]
[null,null,null,null,{"$f":"IF(I821=\"\",\"\",Main!J405)","v":""},{"$f":"IF(I821=\"\",\"\",Main!K405)","v":""},{"$f":"IF(I821=\"\",\"\",Main!L405)","v":""},{"$f":"IF(I821=\"\",\"\",Main!M405)","v":""},{"$f":"IF(Main!N405=\"\",\"\",Main!N405)","v":""},null,"",{"$f":"K821","v":""}]
[{"$f":"IF(K823=\"\",\"\",SUM($L$18:L823))","v":""},{"$f":"IF(I823=\"\",\"\",CONCATENATE(Main!C406,\", \",Main!D406,IF(Main!F406>0,CONCATENATE(\", \",Main!F406),\"\")))","v":""},null,null,{"$f":"IF(I822=\"\",\"\",Main!O406)","v":""},{"$f":"IF(I822=\"\",\"\",Main!P406)","v":""},{"$f":"IF(I822=\"\",\"\",Main!Q406)","v":""},{"$f":"IF(I822=\"\",\"\",Main!R406)","v":""},{"$f":"IF(Main!S406=\"\",\"\",Main!S406)","v":""},null,""]
[null,null,null,null,{"$f":"IF(I823=\"\",\"\",Main!J406)","v":""},{"$f":"IF(I823=\"\",\"\",Main!K406)","v":""},{"$f":"IF(I823=\"\",\"\",Main!L406)","v":""},{"$f":"IF(I823=\"\",\"\",Main!M406)","v":""},{"$f":"IF(Main!N406=\"\",\"\",Main!N406)","v":""},null,"",{"$f":"K823","v":""}]
[{"$f":"IF(K825=\"\",\"\",SUM($L$18:L825))","v":""},{"$f":"IF(I825=\"\",\"\",CONCATENATE(Main!C407,\", \",Main!D407,IF(Main!F407>0,CONCATENATE(\", \",Main!F407),\"\")))","v":""},null,null,{"$f":"IF(I824=\"\",\"\",Main!O407)","v":""},{"$f":"IF(I824=\"\",\"\",Main!P407)","v":""},{"$f":"IF(I824=\"\",\"\",Main!Q407)","v":""},{"$f":"IF(I824=\"\",\"\",Main!R407)","v":""},{"$f":"IF(Main!S407=\"\",\"\",Main!S407)","v":""},null,""]
[null,null,null,null,{"$f":"IF(I825=\"\",\"\",Main!J407)","v":""},{"$f":"IF(I825=\"\",\"\",Main!K407)","v":""},{"$f":"IF(I825=\"\",\"\",Main!L407)","v":""},{"$f":"IF(I825=\"\",\"\",Main!M407)","v":""},{"$f":"IF(Main!N407=\"\",\"\",Main!N407)","v":""},null,"",{"$f":"K825","v":""}]
[{"$f":"IF(K827=\"\",\"\",SUM($L$18:L827))","v":""},{"$f":"IF(I827=\"\",\"\",CONCATENATE(Main!C408,\", \",Main!D408,IF(Main!F408>0,CONCATENATE(\", \",Main!F408),\"\")))","v":""},null,null,{"$f":"IF(I826=\"\",\"\",Main!O408)","v":""},{"$f":"IF(I826=\"\",\"\",Main!P408)","v":""},{"$f":"IF(I826=\"\",\"\",Main!Q408)","v":""},{"$f":"IF(I826=\"\",\"\",Main!R408)","v":""},{"$f":"IF(Main!S408=\"\",\"\",Main!S408)","v":""},null,""]
[null,null,null,null,{"$f":"IF(I827=\"\",\"\",Main!J408)","v":""},{"$f":"IF(I827=\"\",\"\",Main!K408)","v":""},{"$f":"IF(I827=\"\",\"\",Main!L408)","v":""},{"$f":"IF(I827=\"\",\"\",Main!M408)","v":""},{"$f":"IF(Main!N408=\"\",\"\",Main!N408)","v":""},null,"",{"$f":"K827","v":""}]
[{"$f":"IF(K829=\"\",\"\",SUM($L$18:L829))","v":""},{"$f":"IF(I829=\"\",\"\",CONCATENATE(Main!C409,\", \",Main!D409,IF(Main!F409>0,CONCATENATE(\", \",Main!F409),\"\")))","v":""},null,null,{"$f":"IF(I828=\"\",\"\",Main!O409)","v":""},{"$f":"IF(I828=\"\",\"\",Main!P409)","v":""},{"$f":"IF(I828=\"\",\"\",Main!Q409)","v":""},{"$f":"IF(I828=\"\",\"\",Main!R409)","v":""},{"$f":"IF(Main!S409=\"\",\"\",Main!S409)","v":""},null,""]
[null,null,null,null,{"$f":"IF(I829=\"\",\"\",Main!J409)","v":""},{"$f":"IF(I829=\"\",\"\",Main!K409)","v":""},{"$f":"IF(I829=\"\",\"\",Main!L409)","v":""},{"$f":"IF(I829=\"\",\"\",Main!M409)","v":""},{"$f":"IF(Main!N409=\"\",\"\",Main!N409)","v":""},null,"",{"$f":"K829","v":""}]
[{"$f":"IF(K831=\"\",\"\",SUM($L$18:L831))","v":""},{"$f":"IF(I831=\"\",\"\",CONCATENATE(Main!C410,\", \",Main!D410,IF(Main!F410>0,CONCATENATE(\", \",Main!F410),\"\")))","v":""},null,null,{"$f":"IF(I830=\"\",\"\",Main!O410)","v":""},{"$f":"IF(I830=\"\",\"\",Main!P410)","v":""},{"$f":"IF(I830=\"\",\"\",Main!Q410)","v":""},{"$f":"IF(I830=\"\",\"\",Main!R410)","v":""},{"$f":"IF(Main!S410=\"\",\"\",Main!S410)","v":""},null,""]
[null,null,null,null,{"$f":"IF(I831=\"\",\"\",Main!J410)","v":""},{"$f":"IF(I831=\"\",\"\",Main!K410)","v":""},{"$f":"IF(I831=\"\",\"\",Main!L410)","v":""},{"$f":"IF(I831=\"\",\"\",Main!M410)","v":""},{"$f":"IF(Main!N410=\"\",\"\",Main!N410)","v":""},null,"",{"$f":"K831","v":""}]
[{"$f":"IF(K833=\"\",\"\",SUM($L$18:L833))","v":""},{"$f":"IF(I833=\"\",\"\",CONCATENATE(Main!C411,\", \",Main!D411,IF(Main!F411>0,CONCATENATE(\", \",Main!F411),\"\")))","v":""},null,null,{"$f":"IF(I832=\"\",\"\",Main!O411)","v":""},{"$f":"IF(I832=\"\",\"\",Main!P411)","v":""},{"$f":"IF(I832=\"\",\"\",Main!Q411)","v":""},{"$f":"IF(I832=\"\",\"\",Main!R411)","v":""},{"$f":"IF(Main!S411=\"\",\"\",Main!S411)","v":""},null,""]
[null,null,null,null,{"$f":"IF(I833=\"\",\"\",Main!J411)","v":""},{"$f":"IF(I833=\"\",\"\",Main!K411)","v":""},{"$f":"IF(I833=\"\",\"\",Main!L411)","v":""},{"$f":"IF(I833=\"\",\"\",Main!M411)","v":""},{"$f":"IF(Main!N411=\"\",\"\",Main!N411)","v":""},null,"",{"$f":"K833","v":""}]
[{"$f":"IF(K835=\"\",\"\",SUM($L$18:L835))","v":""},{"$f":"IF(I835=\"\",\"\",CONCATENATE(Main!C412,\", \",Main!D412,IF(Main!F412>0,CONCATENATE(\", \",Main!F412),\"\")))","v":""},null,null,{"$f":"IF(I834=\"\",\"\",Main!O412)","v":""},{"$f":"IF(I834=\"\",\"\",Main!P412)","v":""},{"$f":"IF(I834=\"\",\"\",Main!Q412)","v":""},{"$f":"IF(I834=\"\",\"\",Main!R412)","v":""},{"$f":"IF(Main!S412=\"\",\"\",Main!S412)","v":""},null,""]
[null,null,null,null,{"$f":"IF(I835=\"\",\"\",Main!J412)","v":""},{"$f":"IF(I835=\"\",\"\",Main!K412)","v":""},{"$f":"IF(I835=\"\",\"\",Main!L412)","v":""},{"$f":"IF(I835=\"\",\"\",Main!M412)","v":""},{"$f":"IF(Main!N412=\"\",\"\",Main!N412)","v":""},null,"",{"$f":"K835","v":""}]
[{"$f":"IF(K837=\"\",\"\",SUM($L$18:L837))","v":""},{"$f":"IF(I837=\"\",\"\",CONCATENATE(Main!C413,\", \",Main!D413,IF(Main!F413>0,CONCATENATE(\", \",Main!F413),\"\")))","v":""},null,null,{"$f":"IF(I836=\"\",\"\",Main!O413)","v":""},{"$f":"IF(I836=\"\",\"\",Main!P413)","v":""},{"$f":"IF(I836=\"\",\"\",Main!Q413)","v":""},{"$f":"IF(I836=\"\",\"\",Main!R413)","v":""},{"$f":"IF(Main!S413=\"\",\"\",Main!S413)","v":""},null,""]
[null,null,null,null,{"$f":"IF(I837=\"\",\"\",Main!J413)","v":""},{"$f":"IF(I837=\"\",\"\",Main!K413)","v":""},{"$f":"IF(I837=\"\",\"\",Main!L413)","v":""},{"$f":"IF(I837=\"\",\"\",Main!M413)","v":""},{"$f":"IF(Main!N413=\"\",\"\",Main!N413)","v":""},null,"",{"$f":"K837","v":""}]
[{"$f":"IF(K839=\"\",\"\",SUM($L$18:L839))","v":""},{"$f":"IF(I839=\"\",\"\",CONCATENATE(Main!C414,\", \",Main!D414,IF(Main!F414>0,CONCATENATE(\", \",Main!F414),\"\")))","v":""},null,null,{"$f":"IF(I838=\"\",\"\",Main!O414)","v":""},{"$f":"IF(I838=\"\",\"\",Main!P414)","v":""},{"$f":"IF(I838=\"\",\"\",Main!Q414)","v":""},{"$f":"IF(I838=\"\",\"\",Main!R414)","v":""},{"$f":"IF(Main!S414=\"\",\"\",Main!S414)","v":""},null,""]
[null,null,null,null,{"$f":"IF(I839=\"\",\"\",Main!J414)","v":""},{"$f":"IF(I839=\"\",\"\",Main!K414)","v":""},{"$f":"IF(I839=\"\",\"\",Main!L414)","v":""},{"$f":"IF(I839=\"\",\"\",Main!M414)","v":""},{"$f":"IF(Main!N414=\"\",\"\",Main!N414)","v":""},null,"",{"$f":"K839","v":""}]
[{"$f":"IF(K841=\"\",\"\",SUM($L$18:L841))","v":""},{"$f":"IF(I841=\"\",\"\",CONCATENATE(Main!C415,\", \",Main!D415,IF(Main!F415>0,CONCATENATE(\", \",Main!F415),\"\")))","v":""},null,null,{"$f":"IF(I840=\"\",\"\",Main!O415)","v":""},{"$f":"IF(I840=\"\",\"\",Main!P415)","v":""},{"$f":"IF(I840=\"\",\"\",Main!Q415)","v":""},{"$f":"IF(I840=\"\",\"\",Main!R415)","v":""},{"$f":"IF(Main!S415=\"\",\"\",Main!S415)","v":""},null,""]
[null,null,null,null,{"$f":"IF(I841=\"\",\"\",Main!J415)","v":""},{"$f":"IF(I841=\"\",\"\",Main!K415)","v":""},{"$f":"IF(I841=\"\",\"\",Main!L415)","v":""},{"$f":"IF(I841=\"\",\"\",Main!M415)","v":""},{"$f":"IF(Main!N415=\"\",\"\",Main!N415)","v":""},null,"",{"$f":"K841","v":""}]
[{"$f":"IF(K843=\"\",\"\",SUM($L$18:L843))","v":""},{"$f":"IF(I843=\"\",\"\",CONCATENATE(Main!C416,\", \",Main!D416,IF(Main!F416>0,CONCATENATE(\", \",Main!F416),\"\")))","v":""},null,null,{"$f":"IF(I842=\"\",\"\",Main!O416)","v":""},{"$f":"IF(I842=\"\",\"\",Main!P416)","v":""},{"$f":"IF(I842=\"\",\"\",Main!Q416)","v":""},{"$f":"IF(I842=\"\",\"\",Main!R416)","v":""},{"$f":"IF(Main!S416=\"\",\"\",Main!S416)","v":""},null,""]
[null,null,null,null,{"$f":"IF(I843=\"\",\"\",Main!J416)","v":""},{"$f":"IF(I843=\"\",\"\",Main!K416)","v":""},{"$f":"IF(I843=\"\",\"\",Main!L416)","v":""},{"$f":"IF(I843=\"\",\"\",Main!M416)","v":""},{"$f":"IF(Main!N416=\"\",\"\",Main!N416)","v":""},null,"",{"$f":"K843","v":""}]
[{"$f":"IF(K845=\"\",\"\",SUM($L$18:L845))","v":""},{"$f":"IF(I845=\"\",\"\",CONCATENATE(Main!C417,\", \",Main!D417,IF(Main!F417>0,CONCATENATE(\", \",Main!F417),\"\")))","v":""},null,null,{"$f":"IF(I844=\"\",\"\",Main!O417)","v":""},{"$f":"IF(I844=\"\",\"\",Main!P417)","v":""},{"$f":"IF(I844=\"\",\"\",Main!Q417)","v":""},{"$f":"IF(I844=\"\",\"\",Main!R417)","v":""},{"$f":"IF(Main!S417=\"\",\"\",Main!S417)","v":""},null,""]
[null,null,null,null,{"$f":"IF(I845=\"\",\"\",Main!J417)","v":""},{"$f":"IF(I845=\"\",\"\",Main!K417)","v":""},{"$f":"IF(I845=\"\",\"\",Main!L417)","v":""},{"$f":"IF(I845=\"\",\"\",Main!M417)","v":""},{"$f":"IF(Main!N417=\"\",\"\",Main!N417)","v":""},null,"",{"$f":"K845","v":""}]
[{"$f":"IF(K847=\"\",\"\",SUM($L$18:L847))","v":""},{"$f":"IF(I847=\"\",\"\",CONCATENATE(Main!C418,\", \",Main!D418,IF(Main!F418>0,CONCATENATE(\", \",Main!F418),\"\")))","v":""},null,null,{"$f":"IF(I846=\"\",\"\",Main!O418)","v":""},{"$f":"IF(I846=\"\",\"\",Main!P418)","v":""},{"$f":"IF(I846=\"\",\"\",Main!Q418)","v":""},{"$f":"IF(I846=\"\",\"\",Main!R418)","v":""},{"$f":"IF(Main!S418=\"\",\"\",Main!S418)","v":""},null,""]
[null,null,null,null,{"$f":"IF(I847=\"\",\"\",Main!J418)","v":""},{"$f":"IF(I847=\"\",\"\",Main!K418)","v":""},{"$f":"IF(I847=\"\",\"\",Main!L418)","v":""},{"$f":"IF(I847=\"\",\"\",Main!M418)","v":""},{"$f":"IF(Main!N418=\"\",\"\",Main!N418)","v":""},null,"",{"$f":"K847","v":""}]
[{"$f":"IF(K849=\"\",\"\",SUM($L$18:L849))","v":""},{"$f":"IF(I849=\"\",\"\",CONCATENATE(Main!C419,\", \",Main!D419,IF(Main!F419>0,CONCATENATE(\", \",Main!F419),\"\")))","v":""},null,null,{"$f":"IF(I848=\"\",\"\",Main!O419)","v":""},{"$f":"IF(I848=\"\",\"\",Main!P419)","v":""},{"$f":"IF(I848=\"\",\"\",Main!Q419)","v":""},{"$f":"IF(I848=\"\",\"\",Main!R419)","v":""},{"$f":"IF(Main!S419=\"\",\"\",Main!S419)","v":""},null,""]
[null,null,null,null,{"$f":"IF(I849=\"\",\"\",Main!J419)","v":""},{"$f":"IF(I849=\"\",\"\",Main!K419)","v":""},{"$f":"IF(I849=\"\",\"\",Main!L419)","v":""},{"$f":"IF(I849=\"\",\"\",Main!M419)","v":""},{"$f":"IF(Main!N419=\"\",\"\",Main!N419)","v":""},null,"",{"$f":"K849","v":""}]
[{"$f":"IF(K851=\"\",\"\",SUM($L$18:L851))","v":""},{"$f":"IF(I851=\"\",\"\",CONCATENATE(Main!C420,\", \",Main!D420,IF(Main!F420>0,CONCATENATE(\", \",Main!F420),\"\")))","v":""},null,null,{"$f":"IF(I850=\"\",\"\",Main!O420)","v":""},{"$f":"IF(I850=\"\",\"\",Main!P420)","v":""},{"$f":"IF(I850=\"\",\"\",Main!Q420)","v":""},{"$f":"IF(I850=\"\",\"\",Main!R420)","v":""},{"$f":"IF(Main!S420=\"\",\"\",Main!S420)","v":""},null,""]
[null,null,null,null,{"$f":"IF(I851=\"\",\"\",Main!J420)","v":""},{"$f":"IF(I851=\"\",\"\",Main!K420)","v":""},{"$f":"IF(I851=\"\",\"\",Main!L420)","v":""},{"$f":"IF(I851=\"\",\"\",Main!M420)","v":""},{"$f":"IF(Main!N420=\"\",\"\",Main!N420)","v":""},null,{"$f":"IF(I851=\"\",\"\",1)","v":""},{"$f":"K851","v":""}]
[{"$f":"IF(K853=\"\",\"\",SUM($L$18:L853))","v":""},{"$f":"IF(I853=\"\",\"\",CONCATENATE(Main!C421,\", \",Main!D421,IF(Main!F421>0,CONCATENATE(\", \",Main!F421),\"\")))","v":""},null,null,{"$f":"IF(I852=\"\",\"\",Main!O421)","v":""},{"$f":"IF(I852=\"\",\"\",Main!P421)","v":""},{"$f":"IF(I852=\"\",\"\",Main!Q421)","v":""},{"$f":"IF(I852=\"\",\"\",Main!R421)","v":""},{"$f":"IF(Main!S421=\"\",\"\",Main!S421)","v":""},null,""]
[null,null,null,null,{"$f":"IF(I853=\"\",\"\",Main!J421)","v":""},{"$f":"IF(I853=\"\",\"\",Main!K421)","v":""},{"$f":"IF(I853=\"\",\"\",Main!L421)","v":""},{"$f":"IF(I853=\"\",\"\",Main!M421)","v":""},{"$f":"IF(Main!N421=\"\",\"\",Main!N421)","v":""},null,"",{"$f":"K853","v":""}]
[{"$f":"IF(K855=\"\",\"\",SUM($L$18:L855))","v":""},{"$f":"IF(I855=\"\",\"\",CONCATENATE(Main!C422,\", \",Main!D422,IF(Main!F422>0,CONCATENATE(\", \",Main!F422),\"\")))","v":""},null,null,{"$f":"IF(I854=\"\",\"\",Main!O422)","v":""},{"$f":"IF(I854=\"\",\"\",Main!P422)","v":""},{"$f":"IF(I854=\"\",\"\",Main!Q422)","v":""},{"$f":"IF(I854=\"\",\"\",Main!R422)","v":""},{"$f":"IF(Main!S422=\"\",\"\",Main!S422)","v":""},null,""]
[null,null,null,null,{"$f":"IF(I855=\"\",\"\",Main!J422)","v":""},{"$f":"IF(I855=\"\",\"\",Main!K422)","v":""},{"$f":"IF(I855=\"\",\"\",Main!L422)","v":""},{"$f":"IF(I855=\"\",\"\",Main!M422)","v":""},{"$f":"IF(Main!N422=\"\",\"\",Main!N422)","v":""},null,"",{"$f":"K855","v":""}]
[{"$f":"IF(K857=\"\",\"\",SUM($L$18:L857))","v":""},{"$f":"IF(I857=\"\",\"\",CONCATENATE(Main!C423,\", \",Main!D423,IF(Main!F423>0,CONCATENATE(\", \",Main!F423),\"\")))","v":""},null,null,{"$f":"IF(I856=\"\",\"\",Main!O423)","v":""},{"$f":"IF(I856=\"\",\"\",Main!P423)","v":""},{"$f":"IF(I856=\"\",\"\",Main!Q423)","v":""},{"$f":"IF(I856=\"\",\"\",Main!R423)","v":""},{"$f":"IF(Main!S423=\"\",\"\",Main!S423)","v":""},null,""]
[null,null,null,null,{"$f":"IF(I857=\"\",\"\",Main!J423)","v":""},{"$f":"IF(I857=\"\",\"\",Main!K423)","v":""},{"$f":"IF(I857=\"\",\"\",Main!L423)","v":""},{"$f":"IF(I857=\"\",\"\",Main!M423)","v":""},{"$f":"IF(Main!N423=\"\",\"\",Main!N423)","v":""},null,"",{"$f":"K857","v":""}]
[{"$f":"IF(K859=\"\",\"\",SUM($L$18:L859))","v":""},{"$f":"IF(I859=\"\",\"\",CONCATENATE(Main!C424,\", \",Main!D424,IF(Main!F424>0,CONCATENATE(\", \",Main!F424),\"\")))","v":""},null,null,{"$f":"IF(I858=\"\",\"\",Main!O424)","v":""},{"$f":"IF(I858=\"\",\"\",Main!P424)","v":""},{"$f":"IF(I858=\"\",\"\",Main!Q424)","v":""},{"$f":"IF(I858=\"\",\"\",Main!R424)","v":""},{"$f":"IF(Main!S424=\"\",\"\",Main!S424)","v":""},null,""]
[null,null,null,null,{"$f":"IF(I859=\"\",\"\",Main!J424)","v":""},{"$f":"IF(I859=\"\",\"\",Main!K424)","v":""},{"$f":"IF(I859=\"\",\"\",Main!L424)","v":""},{"$f":"IF(I859=\"\",\"\",Main!M424)","v":""},{"$f":"IF(Main!N424=\"\",\"\",Main!N424)","v":""},null,"",{"$f":"K859","v":""}]
[{"$f":"IF(K861=\"\",\"\",SUM($L$18:L861))","v":""},{"$f":"IF(I861=\"\",\"\",CONCATENATE(Main!C425,\", \",Main!D425,IF(Main!F425>0,CONCATENATE(\", \",Main!F425),\"\")))","v":""},null,null,{"$f":"IF(I860=\"\",\"\",Main!O425)","v":""},{"$f":"IF(I860=\"\",\"\",Main!P425)","v":""},{"$f":"IF(I860=\"\",\"\",Main!Q425)","v":""},{"$f":"IF(I860=\"\",\"\",Main!R425)","v":""},{"$f":"IF(Main!S425=\"\",\"\",Main!S425)","v":""},null,""]
[null,null,null,null,{"$f":"IF(I861=\"\",\"\",Main!J425)","v":""},{"$f":"IF(I861=\"\",\"\",Main!K425)","v":""},{"$f":"IF(I861=\"\",\"\",Main!L425)","v":""},{"$f":"IF(I861=\"\",\"\",Main!M425)","v":""},{"$f":"IF(Main!N425=\"\",\"\",Main!N425)","v":""},null,"",{"$f":"K861","v":""}]
[{"$f":"IF(K863=\"\",\"\",SUM($L$18:L863))","v":""},{"$f":"IF(I863=\"\",\"\",CONCATENATE(Main!C426,\", \",Main!D426,IF(Main!F426>0,CONCATENATE(\", \",Main!F426),\"\")))","v":""},null,null,{"$f":"IF(I862=\"\",\"\",Main!O426)","v":""},{"$f":"IF(I862=\"\",\"\",Main!P426)","v":""},{"$f":"IF(I862=\"\",\"\",Main!Q426)","v":""},{"$f":"IF(I862=\"\",\"\",Main!R426)","v":""},{"$f":"IF(Main!S426=\"\",\"\",Main!S426)","v":""},null,""]
[null,null,null,null,{"$f":"IF(I863=\"\",\"\",Main!J426)","v":""},{"$f":"IF(I863=\"\",\"\",Main!K426)","v":""},{"$f":"IF(I863=\"\",\"\",Main!L426)","v":""},{"$f":"IF(I863=\"\",\"\",Main!M426)","v":""},{"$f":"IF(Main!N426=\"\",\"\",Main!N426)","v":""},null,"",{"$f":"K863","v":""}]
[{"$f":"IF(K865=\"\",\"\",SUM($L$18:L865))","v":""},{"$f":"IF(I865=\"\",\"\",CONCATENATE(Main!C427,\", \",Main!D427,IF(Main!F427>0,CONCATENATE(\", \",Main!F427),\"\")))","v":""},null,null,{"$f":"IF(I864=\"\",\"\",Main!O427)","v":""},{"$f":"IF(I864=\"\",\"\",Main!P427)","v":""},{"$f":"IF(I864=\"\",\"\",Main!Q427)","v":""},{"$f":"IF(I864=\"\",\"\",Main!R427)","v":""},{"$f":"IF(Main!S427=\"\",\"\",Main!S427)","v":""},null,""]
[null,null,null,null,{"$f":"IF(I865=\"\",\"\",Main!J427)","v":""},{"$f":"IF(I865=\"\",\"\",Main!K427)","v":""},{"$f":"IF(I865=\"\",\"\",Main!L427)","v":""},{"$f":"IF(I865=\"\",\"\",Main!M427)","v":""},{"$f":"IF(Main!N427=\"\",\"\",Main!N427)","v":""},null,"",{"$f":"K865","v":""}]
[{"$f":"IF(K867=\"\",\"\",SUM($L$18:L867))","v":""},{"$f":"IF(I867=\"\",\"\",CONCATENATE(Main!C428,\", \",Main!D428,IF(Main!F428>0,CONCATENATE(\", \",Main!F428),\"\")))","v":""},null,null,{"$f":"IF(I866=\"\",\"\",Main!O428)","v":""},{"$f":"IF(I866=\"\",\"\",Main!P428)","v":""},{"$f":"IF(I866=\"\",\"\",Main!Q428)","v":""},{"$f":"IF(I866=\"\",\"\",Main!R428)","v":""},{"$f":"IF(Main!S428=\"\",\"\",Main!S428)","v":""},null,""]
[null,null,null,null,{"$f":"IF(I867=\"\",\"\",Main!J428)","v":""},{"$f":"IF(I867=\"\",\"\",Main!K428)","v":""},{"$f":"IF(I867=\"\",\"\",Main!L428)","v":""},{"$f":"IF(I867=\"\",\"\",Main!M428)","v":""},{"$f":"IF(Main!N428=\"\",\"\",Main!N428)","v":""},null,"",{"$f":"K867","v":""}]
[{"$f":"IF(K869=\"\",\"\",SUM($L$18:L869))","v":""},{"$f":"IF(I869=\"\",\"\",CONCATENATE(Main!C429,\", \",Main!D429,IF(Main!F429>0,CONCATENATE(\", \",Main!F429),\"\")))","v":""},null,null,{"$f":"IF(I868=\"\",\"\",Main!O429)","v":""},{"$f":"IF(I868=\"\",\"\",Main!P429)","v":""},{"$f":"IF(I868=\"\",\"\",Main!Q429)","v":""},{"$f":"IF(I868=\"\",\"\",Main!R429)","v":""},{"$f":"IF(Main!S429=\"\",\"\",Main!S429)","v":""},null,""]
[null,null,null,null,{"$f":"IF(I869=\"\",\"\",Main!J429)","v":""},{"$f":"IF(I869=\"\",\"\",Main!K429)","v":""},{"$f":"IF(I869=\"\",\"\",Main!L429)","v":""},{"$f":"IF(I869=\"\",\"\",Main!M429)","v":""},{"$f":"IF(Main!N429=\"\",\"\",Main!N429)","v":""},null,"",{"$f":"K869","v":""}]
[{"$f":"IF(K871=\"\",\"\",SUM($L$18:L871))","v":""},{"$f":"IF(I871=\"\",\"\",CONCATENATE(Main!C430,\", \",Main!D430,IF(Main!F430>0,CONCATENATE(\", \",Main!F430),\"\")))","v":""},null,null,{"$f":"IF(I870=\"\",\"\",Main!O430)","v":""},{"$f":"IF(I870=\"\",\"\",Main!P430)","v":""},{"$f":"IF(I870=\"\",\"\",Main!Q430)","v":""},{"$f":"IF(I870=\"\",\"\",Main!R430)","v":""},{"$f":"IF(Main!S430=\"\",\"\",Main!S430)","v":""},null,""]
[null,null,null,null,{"$f":"IF(I871=\"\",\"\",Main!J430)","v":""},{"$f":"IF(I871=\"\",\"\",Main!K430)","v":""},{"$f":"IF(I871=\"\",\"\",Main!L430)","v":""},{"$f":"IF(I871=\"\",\"\",Main!M430)","v":""},{"$f":"IF(Main!N430=\"\",\"\",Main!N430)","v":""},null,"",{"$f":"K871","v":""}]
[{"$f":"IF(K873=\"\",\"\",SUM($L$18:L873))","v":""},{"$f":"IF(I873=\"\",\"\",CONCATENATE(Main!C431,\", \",Main!D431,IF(Main!F431>0,CONCATENATE(\", \",Main!F431),\"\")))","v":""},null,null,{"$f":"IF(I872=\"\",\"\",Main!O431)","v":""},{"$f":"IF(I872=\"\",\"\",Main!P431)","v":""},{"$f":"IF(I872=\"\",\"\",Main!Q431)","v":""},{"$f":"IF(I872=\"\",\"\",Main!R431)","v":""},{"$f":"IF(Main!S431=\"\",\"\",Main!S431)","v":""},null,""]
[null,null,null,null,{"$f":"IF(I873=\"\",\"\",Main!J431)","v":""},{"$f":"IF(I873=\"\",\"\",Main!K431)","v":""},{"$f":"IF(I873=\"\",\"\",Main!L431)","v":""},{"$f":"IF(I873=\"\",\"\",Main!M431)","v":""},{"$f":"IF(Main!N431=\"\",\"\",Main!N431)","v":""},null,"",{"$f":"K873","v":""}]
[{"$f":"IF(K875=\"\",\"\",SUM($L$18:L875))","v":""},{"$f":"IF(I875=\"\",\"\",CONCATENATE(Main!C432,\", \",Main!D432,IF(Main!F432>0,CONCATENATE(\", \",Main!F432),\"\")))","v":""},null,null,{"$f":"IF(I874=\"\",\"\",Main!O432)","v":""},{"$f":"IF(I874=\"\",\"\",Main!P432)","v":""},{"$f":"IF(I874=\"\",\"\",Main!Q432)","v":""},{"$f":"IF(I874=\"\",\"\",Main!R432)","v":""},{"$f":"IF(Main!S432=\"\",\"\",Main!S432)","v":""},null,""]
[null,null,null,null,{"$f":"IF(I875=\"\",\"\",Main!J432)","v":""},{"$f":"IF(I875=\"\",\"\",Main!K432)","v":""},{"$f":"IF(I875=\"\",\"\",Main!L432)","v":""},{"$f":"IF(I875=\"\",\"\",Main!M432)","v":""},{"$f":"IF(Main!N432=\"\",\"\",Main!N432)","v":""},null,"",{"$f":"K875","v":""}]
[{"$f":"IF(K877=\"\",\"\",SUM($L$18:L877))","v":""},{"$f":"IF(I877=\"\",\"\",CONCATENATE(Main!C433,\", \",Main!D433,IF(Main!F433>0,CONCATENATE(\", \",Main!F433),\"\")))","v":""},null,null,{"$f":"IF(I876=\"\",\"\",Main!O433)","v":""},{"$f":"IF(I876=\"\",\"\",Main!P433)","v":""},{"$f":"IF(I876=\"\",\"\",Main!Q433)","v":""},{"$f":"IF(I876=\"\",\"\",Main!R433)","v":""},{"$f":"IF(Main!S433=\"\",\"\",Main!S433)","v":""},null,""]
[null,null,null,null,{"$f":"IF(I877=\"\",\"\",Main!J433)","v":""},{"$f":"IF(I877=\"\",\"\",Main!K433)","v":""},{"$f":"IF(I877=\"\",\"\",Main!L433)","v":""},{"$f":"IF(I877=\"\",\"\",Main!M433)","v":""},{"$f":"IF(Main!N433=\"\",\"\",Main!N433)","v":""},null,"",{"$f":"K877","v":""}]
[{"$f":"IF(K879=\"\",\"\",SUM($L$18:L879))","v":""},{"$f":"IF(I879=\"\",\"\",CONCATENATE(Main!C434,\", \",Main!D434,IF(Main!F434>0,CONCATENATE(\", \",Main!F434),\"\")))","v":""},null,null,{"$f":"IF(I878=\"\",\"\",Main!O434)","v":""},{"$f":"IF(I878=\"\",\"\",Main!P434)","v":""},{"$f":"IF(I878=\"\",\"\",Main!Q434)","v":""},{"$f":"IF(I878=\"\",\"\",Main!R434)","v":""},{"$f":"IF(Main!S434=\"\",\"\",Main!S434)","v":""},null,""]
[null,null,null,null,{"$f":"IF(I879=\"\",\"\",Main!J434)","v":""},{"$f":"IF(I879=\"\",\"\",Main!K434)","v":""},{"$f":"IF(I879=\"\",\"\",Main!L434)","v":""},{"$f":"IF(I879=\"\",\"\",Main!M434)","v":""},{"$f":"IF(Main!N434=\"\",\"\",Main!N434)","v":""},null,"",{"$f":"K879","v":""}]
[{"$f":"IF(K881=\"\",\"\",SUM($L$18:L881))","v":""},{"$f":"IF(I881=\"\",\"\",CONCATENATE(Main!C435,\", \",Main!D435,IF(Main!F435>0,CONCATENATE(\", \",Main!F435),\"\")))","v":""},null,null,{"$f":"IF(I880=\"\",\"\",Main!O435)","v":""},{"$f":"IF(I880=\"\",\"\",Main!P435)","v":""},{"$f":"IF(I880=\"\",\"\",Main!Q435)","v":""},{"$f":"IF(I880=\"\",\"\",Main!R435)","v":""},{"$f":"IF(Main!S435=\"\",\"\",Main!S435)","v":""},null,""]
[null,null,null,null,{"$f":"IF(I881=\"\",\"\",Main!J435)","v":""},{"$f":"IF(I881=\"\",\"\",Main!K435)","v":""},{"$f":"IF(I881=\"\",\"\",Main!L435)","v":""},{"$f":"IF(I881=\"\",\"\",Main!M435)","v":""},{"$f":"IF(Main!N435=\"\",\"\",Main!N435)","v":""},null,"",{"$f":"K881","v":""}]
[{"$f":"IF(K883=\"\",\"\",SUM($L$18:L883))","v":""},{"$f":"IF(I883=\"\",\"\",CONCATENATE(Main!C436,\", \",Main!D436,IF(Main!F436>0,CONCATENATE(\", \",Main!F436),\"\")))","v":""},null,null,{"$f":"IF(I882=\"\",\"\",Main!O436)","v":""},{"$f":"IF(I882=\"\",\"\",Main!P436)","v":""},{"$f":"IF(I882=\"\",\"\",Main!Q436)","v":""},{"$f":"IF(I882=\"\",\"\",Main!R436)","v":""},{"$f":"IF(Main!S436=\"\",\"\",Main!S436)","v":""},null,""]
[null,null,null,null,{"$f":"IF(I883=\"\",\"\",Main!J436)","v":""},{"$f":"IF(I883=\"\",\"\",Main!K436)","v":""},{"$f":"IF(I883=\"\",\"\",Main!L436)","v":""},{"$f":"IF(I883=\"\",\"\",Main!M436)","v":""},{"$f":"IF(Main!N436=\"\",\"\",Main!N436)","v":""},null,"",{"$f":"K883","v":""}]
[{"$f":"IF(K885=\"\",\"\",SUM($L$18:L885))","v":""},{"$f":"IF(I885=\"\",\"\",CONCATENATE(Main!C437,\", \",Main!D437,IF(Main!F437>0,CONCATENATE(\", \",Main!F437),\"\")))","v":""},null,null,{"$f":"IF(I884=\"\",\"\",Main!O437)","v":""},{"$f":"IF(I884=\"\",\"\",Main!P437)","v":""},{"$f":"IF(I884=\"\",\"\",Main!Q437)","v":""},{"$f":"IF(I884=\"\",\"\",Main!R437)","v":""},{"$f":"IF(Main!S437=\"\",\"\",Main!S437)","v":""},null,""]
[null,null,null,null,{"$f":"IF(I885=\"\",\"\",Main!J437)","v":""},{"$f":"IF(I885=\"\",\"\",Main!K437)","v":""},{"$f":"IF(I885=\"\",\"\",Main!L437)","v":""},{"$f":"IF(I885=\"\",\"\",Main!M437)","v":""},{"$f":"IF(Main!N437=\"\",\"\",Main!N437)","v":""},null,"",{"$f":"K885","v":""}]
[{"$f":"IF(K887=\"\",\"\",SUM($L$18:L887))","v":""},{"$f":"IF(I887=\"\",\"\",CONCATENATE(Main!C438,\", \",Main!D438,IF(Main!F438>0,CONCATENATE(\", \",Main!F438),\"\")))","v":""},null,null,{"$f":"IF(I886=\"\",\"\",Main!O438)","v":""},{"$f":"IF(I886=\"\",\"\",Main!P438)","v":""},{"$f":"IF(I886=\"\",\"\",Main!Q438)","v":""},{"$f":"IF(I886=\"\",\"\",Main!R438)","v":""},{"$f":"IF(Main!S438=\"\",\"\",Main!S438)","v":""},null,""]
[null,null,null,null,{"$f":"IF(I887=\"\",\"\",Main!J438)","v":""},{"$f":"IF(I887=\"\",\"\",Main!K438)","v":""},{"$f":"IF(I887=\"\",\"\",Main!L438)","v":""},{"$f":"IF(I887=\"\",\"\",Main!M438)","v":""},{"$f":"IF(Main!N438=\"\",\"\",Main!N438)","v":""},null,"",{"$f":"K887","v":""}]
[{"$f":"IF(K889=\"\",\"\",SUM($L$18:L889))","v":""},{"$f":"IF(I889=\"\",\"\",CONCATENATE(Main!C439,\", \",Main!D439,IF(Main!F439>0,CONCATENATE(\", \",Main!F439),\"\")))","v":""},null,null,{"$f":"IF(I888=\"\",\"\",Main!O439)","v":""},{"$f":"IF(I888=\"\",\"\",Main!P439)","v":""},{"$f":"IF(I888=\"\",\"\",Main!Q439)","v":""},{"$f":"IF(I888=\"\",\"\",Main!R439)","v":""},{"$f":"IF(Main!S439=\"\",\"\",Main!S439)","v":""},null,""]
[null,null,null,null,{"$f":"IF(I889=\"\",\"\",Main!J439)","v":""},{"$f":"IF(I889=\"\",\"\",Main!K439)","v":""},{"$f":"IF(I889=\"\",\"\",Main!L439)","v":""},{"$f":"IF(I889=\"\",\"\",Main!M439)","v":""},{"$f":"IF(Main!N439=\"\",\"\",Main!N439)","v":""},null,"",{"$f":"K889","v":""}]
[{"$f":"IF(K891=\"\",\"\",SUM($L$18:L891))","v":""},{"$f":"IF(I891=\"\",\"\",CONCATENATE(Main!C440,\", \",Main!D440,IF(Main!F440>0,CONCATENATE(\", \",Main!F440),\"\")))","v":""},null,null,{"$f":"IF(I890=\"\",\"\",Main!O440)","v":""},{"$f":"IF(I890=\"\",\"\",Main!P440)","v":""},{"$f":"IF(I890=\"\",\"\",Main!Q440)","v":""},{"$f":"IF(I890=\"\",\"\",Main!R440)","v":""},{"$f":"IF(Main!S440=\"\",\"\",Main!S440)","v":""},null,""]
[null,null,null,null,{"$f":"IF(I891=\"\",\"\",Main!J440)","v":""},{"$f":"IF(I891=\"\",\"\",Main!K440)","v":""},{"$f":"IF(I891=\"\",\"\",Main!L440)","v":""},{"$f":"IF(I891=\"\",\"\",Main!M440)","v":""},{"$f":"IF(Main!N440=\"\",\"\",Main!N440)","v":""},null,"",{"$f":"K891","v":""}]
[{"$f":"IF(K893=\"\",\"\",SUM($L$18:L893))","v":""},{"$f":"IF(I893=\"\",\"\",CONCATENATE(Main!C441,\", \",Main!D441,IF(Main!F441>0,CONCATENATE(\", \",Main!F441),\"\")))","v":""},null,null,{"$f":"IF(I892=\"\",\"\",Main!O441)","v":""},{"$f":"IF(I892=\"\",\"\",Main!P441)","v":""},{"$f":"IF(I892=\"\",\"\",Main!Q441)","v":""},{"$f":"IF(I892=\"\",\"\",Main!R441)","v":""},{"$f":"IF(Main!S441=\"\",\"\",Main!S441)","v":""},null,""]
[null,null,null,null,{"$f":"IF(I893=\"\",\"\",Main!J441)","v":""},{"$f":"IF(I893=\"\",\"\",Main!K441)","v":""},{"$f":"IF(I893=\"\",\"\",Main!L441)","v":""},{"$f":"IF(I893=\"\",\"\",Main!M441)","v":""},{"$f":"IF(Main!N441=\"\",\"\",Main!N441)","v":""},null,"",{"$f":"K893","v":""}]
[{"$f":"IF(K895=\"\",\"\",SUM($L$18:L895))","v":""},{"$f":"IF(I895=\"\",\"\",CONCATENATE(Main!C442,\", \",Main!D442,IF(Main!F442>0,CONCATENATE(\", \",Main!F442),\"\")))","v":""},null,null,{"$f":"IF(I894=\"\",\"\",Main!O442)","v":""},{"$f":"IF(I894=\"\",\"\",Main!P442)","v":""},{"$f":"IF(I894=\"\",\"\",Main!Q442)","v":""},{"$f":"IF(I894=\"\",\"\",Main!R442)","v":""},{"$f":"IF(Main!S442=\"\",\"\",Main!S442)","v":""},null,""]
[null,null,null,null,{"$f":"IF(I895=\"\",\"\",Main!J442)","v":""},{"$f":"IF(I895=\"\",\"\",Main!K442)","v":""},{"$f":"IF(I895=\"\",\"\",Main!L442)","v":""},{"$f":"IF(I895=\"\",\"\",Main!M442)","v":""},{"$f":"IF(Main!N442=\"\",\"\",Main!N442)","v":""},null,"",{"$f":"K895","v":""}]
[{"$f":"IF(K897=\"\",\"\",SUM($L$18:L897))","v":""},{"$f":"IF(I897=\"\",\"\",CONCATENATE(Main!C443,\", \",Main!D443,IF(Main!F443>0,CONCATENATE(\", \",Main!F443),\"\")))","v":""},null,null,{"$f":"IF(I896=\"\",\"\",Main!O443)","v":""},{"$f":"IF(I896=\"\",\"\",Main!P443)","v":""},{"$f":"IF(I896=\"\",\"\",Main!Q443)","v":""},{"$f":"IF(I896=\"\",\"\",Main!R443)","v":""},{"$f":"IF(Main!S443=\"\",\"\",Main!S443)","v":""},null,""]
[null,null,null,null,{"$f":"IF(I897=\"\",\"\",Main!J443)","v":""},{"$f":"IF(I897=\"\",\"\",Main!K443)","v":""},{"$f":"IF(I897=\"\",\"\",Main!L443)","v":""},{"$f":"IF(I897=\"\",\"\",Main!M443)","v":""},{"$f":"IF(Main!N443=\"\",\"\",Main!N443)","v":""},null,"",{"$f":"K897","v":""}]
[{"$f":"IF(K899=\"\",\"\",SUM($L$18:L899))","v":""},{"$f":"IF(I899=\"\",\"\",CONCATENATE(Main!C444,\", \",Main!D444,IF(Main!F444>0,CONCATENATE(\", \",Main!F444),\"\")))","v":""},null,null,{"$f":"IF(I898=\"\",\"\",Main!O444)","v":""},{"$f":"IF(I898=\"\",\"\",Main!P444)","v":""},{"$f":"IF(I898=\"\",\"\",Main!Q444)","v":""},{"$f":"IF(I898=\"\",\"\",Main!R444)","v":""},{"$f":"IF(Main!S444=\"\",\"\",Main!S444)","v":""},null,""]
[null,null,null,null,{"$f":"IF(I899=\"\",\"\",Main!J444)","v":""},{"$f":"IF(I899=\"\",\"\",Main!K444)","v":""},{"$f":"IF(I899=\"\",\"\",Main!L444)","v":""},{"$f":"IF(I899=\"\",\"\",Main!M444)","v":""},{"$f":"IF(Main!N444=\"\",\"\",Main!N444)","v":""},null,"",{"$f":"K899","v":""}]
[{"$f":"IF(K901=\"\",\"\",SUM($L$18:L901))","v":""},{"$f":"IF(I901=\"\",\"\",CONCATENATE(Main!C445,\", \",Main!D445,IF(Main!F445>0,CONCATENATE(\", \",Main!F445),\"\")))","v":""},null,null,{"$f":"IF(I900=\"\",\"\",Main!O445)","v":""},{"$f":"IF(I900=\"\",\"\",Main!P445)","v":""},{"$f":"IF(I900=\"\",\"\",Main!Q445)","v":""},{"$f":"IF(I900=\"\",\"\",Main!R445)","v":""},{"$f":"IF(Main!S445=\"\",\"\",Main!S445)","v":""},null,""]
[null,null,null,null,{"$f":"IF(I901=\"\",\"\",Main!J445)","v":""},{"$f":"IF(I901=\"\",\"\",Main!K445)","v":""},{"$f":"IF(I901=\"\",\"\",Main!L445)","v":""},{"$f":"IF(I901=\"\",\"\",Main!M445)","v":""},{"$f":"IF(Main!N445=\"\",\"\",Main!N445)","v":""},null,"",{"$f":"K901","v":""}]
[{"$f":"IF(K903=\"\",\"\",SUM($L$18:L903))","v":""},{"$f":"IF(I903=\"\",\"\",CONCATENATE(Main!C446,\", \",Main!D446,IF(Main!F446>0,CONCATENATE(\", \",Main!F446),\"\")))","v":""},null,null,{"$f":"IF(I902=\"\",\"\",Main!O446)","v":""},{"$f":"IF(I902=\"\",\"\",Main!P446)","v":""},{"$f":"IF(I902=\"\",\"\",Main!Q446)","v":""},{"$f":"IF(I902=\"\",\"\",Main!R446)","v":""},{"$f":"IF(Main!S446=\"\",\"\",Main!S446)","v":""},null,""]
[null,null,null,null,{"$f":"IF(I903=\"\",\"\",Main!J446)","v":""},{"$f":"IF(I903=\"\",\"\",Main!K446)","v":""},{"$f":"IF(I903=\"\",\"\",Main!L446)","v":""},{"$f":"IF(I903=\"\",\"\",Main!M446)","v":""},{"$f":"IF(Main!N446=\"\",\"\",Main!N446)","v":""},null,"",{"$f":"K903","v":""}]
[{"$f":"IF(K905=\"\",\"\",SUM($L$18:L905))","v":""},{"$f":"IF(I905=\"\",\"\",CONCATENATE(Main!C447,\", \",Main!D447,IF(Main!F447>0,CONCATENATE(\", \",Main!F447),\"\")))","v":""},null,null,{"$f":"IF(I904=\"\",\"\",Main!O447)","v":""},{"$f":"IF(I904=\"\",\"\",Main!P447)","v":""},{"$f":"IF(I904=\"\",\"\",Main!Q447)","v":""},{"$f":"IF(I904=\"\",\"\",Main!R447)","v":""},{"$f":"IF(Main!S447=\"\",\"\",Main!S447)","v":""},null,""]
[null,null,null,null,{"$f":"IF(I905=\"\",\"\",Main!J447)","v":""},{"$f":"IF(I905=\"\",\"\",Main!K447)","v":""},{"$f":"IF(I905=\"\",\"\",Main!L447)","v":""},{"$f":"IF(I905=\"\",\"\",Main!M447)","v":""},{"$f":"IF(Main!N447=\"\",\"\",Main!N447)","v":""},null,"",{"$f":"K905","v":""}]
[{"$f":"IF(K907=\"\",\"\",SUM($L$18:L907))","v":""},{"$f":"IF(I907=\"\",\"\",CONCATENATE(Main!C448,\", \",Main!D448,IF(Main!F448>0,CONCATENATE(\", \",Main!F448),\"\")))","v":""},null,null,{"$f":"IF(I906=\"\",\"\",Main!O448)","v":""},{"$f":"IF(I906=\"\",\"\",Main!P448)","v":""},{"$f":"IF(I906=\"\",\"\",Main!Q448)","v":""},{"$f":"IF(I906=\"\",\"\",Main!R448)","v":""},{"$f":"IF(Main!S448=\"\",\"\",Main!S448)","v":""},null,""]
[null,null,null,null,{"$f":"IF(I907=\"\",\"\",Main!J448)","v":""},{"$f":"IF(I907=\"\",\"\",Main!K448)","v":""},{"$f":"IF(I907=\"\",\"\",Main!L448)","v":""},{"$f":"IF(I907=\"\",\"\",Main!M448)","v":""},{"$f":"IF(Main!N448=\"\",\"\",Main!N448)","v":""},null,"",{"$f":"K907","v":""}]
[{"$f":"IF(K909=\"\",\"\",SUM($L$18:L909))","v":""},{"$f":"IF(I909=\"\",\"\",CONCATENATE(Main!C449,\", \",Main!D449,IF(Main!F449>0,CONCATENATE(\", \",Main!F449),\"\")))","v":""},null,null,{"$f":"IF(I908=\"\",\"\",Main!O449)","v":""},{"$f":"IF(I908=\"\",\"\",Main!P449)","v":""},{"$f":"IF(I908=\"\",\"\",Main!Q449)","v":""},{"$f":"IF(I908=\"\",\"\",Main!R449)","v":""},{"$f":"IF(Main!S449=\"\",\"\",Main!S449)","v":""},null,""]
[null,null,null,null,{"$f":"IF(I909=\"\",\"\",Main!J449)","v":""},{"$f":"IF(I909=\"\",\"\",Main!K449)","v":""},{"$f":"IF(I909=\"\",\"\",Main!L449)","v":""},{"$f":"IF(I909=\"\",\"\",Main!M449)","v":""},{"$f":"IF(Main!N449=\"\",\"\",Main!N449)","v":""},null,"",{"$f":"K909","v":""}]
[{"$f":"IF(K911=\"\",\"\",SUM($L$18:L911))","v":""},{"$f":"IF(I911=\"\",\"\",CONCATENATE(Main!C450,\", \",Main!D450,IF(Main!F450>0,CONCATENATE(\", \",Main!F450),\"\")))","v":""},null,null,{"$f":"IF(I910=\"\",\"\",Main!O450)","v":""},{"$f":"IF(I910=\"\",\"\",Main!P450)","v":""},{"$f":"IF(I910=\"\",\"\",Main!Q450)","v":""},{"$f":"IF(I910=\"\",\"\",Main!R450)","v":""},{"$f":"IF(Main!S450=\"\",\"\",Main!S450)","v":""},null,""]
[null,null,null,null,{"$f":"IF(I911=\"\",\"\",Main!J450)","v":""},{"$f":"IF(I911=\"\",\"\",Main!K450)","v":""},{"$f":"IF(I911=\"\",\"\",Main!L450)","v":""},{"$f":"IF(I911=\"\",\"\",Main!M450)","v":""},{"$f":"IF(Main!N450=\"\",\"\",Main!N450)","v":""},null,"",{"$f":"K911","v":""}]
[{"$f":"IF(K913=\"\",\"\",SUM($L$18:L913))","v":""},{"$f":"IF(I913=\"\",\"\",CONCATENATE(Main!C451,\", \",Main!D451,IF(Main!F451>0,CONCATENATE(\", \",Main!F451),\"\")))","v":""},null,null,{"$f":"IF(I912=\"\",\"\",Main!O451)","v":""},{"$f":"IF(I912=\"\",\"\",Main!P451)","v":""},{"$f":"IF(I912=\"\",\"\",Main!Q451)","v":""},{"$f":"IF(I912=\"\",\"\",Main!R451)","v":""},{"$f":"IF(Main!S451=\"\",\"\",Main!S451)","v":""},null,""]
[null,null,null,null,{"$f":"IF(I913=\"\",\"\",Main!J451)","v":""},{"$f":"IF(I913=\"\",\"\",Main!K451)","v":""},{"$f":"IF(I913=\"\",\"\",Main!L451)","v":""},{"$f":"IF(I913=\"\",\"\",Main!M451)","v":""},{"$f":"IF(Main!N451=\"\",\"\",Main!N451)","v":""},null,"",{"$f":"K913","v":""}]
[{"$f":"IF(K915=\"\",\"\",SUM($L$18:L915))","v":""},{"$f":"IF(I915=\"\",\"\",CONCATENATE(Main!C452,\", \",Main!D452,IF(Main!F452>0,CONCATENATE(\", \",Main!F452),\"\")))","v":""},null,null,{"$f":"IF(I914=\"\",\"\",Main!O452)","v":""},{"$f":"IF(I914=\"\",\"\",Main!P452)","v":""},{"$f":"IF(I914=\"\",\"\",Main!Q452)","v":""},{"$f":"IF(I914=\"\",\"\",Main!R452)","v":""},{"$f":"IF(Main!S452=\"\",\"\",Main!S452)","v":""},null,""]
[null,null,null,null,{"$f":"IF(I915=\"\",\"\",Main!J452)","v":""},{"$f":"IF(I915=\"\",\"\",Main!K452)","v":""},{"$f":"IF(I915=\"\",\"\",Main!L452)","v":""},{"$f":"IF(I915=\"\",\"\",Main!M452)","v":""},{"$f":"IF(Main!N452=\"\",\"\",Main!N452)","v":""},null,{"$f":"IF(I915=\"\",\"\",1)","v":""},{"$f":"K915","v":""}]
[{"$f":"IF(K917=\"\",\"\",SUM($L$18:L917))","v":""},{"$f":"IF(I917=\"\",\"\",CONCATENATE(Main!C453,\", \",Main!D453,IF(Main!F453>0,CONCATENATE(\", \",Main!F453),\"\")))","v":""},null,null,{"$f":"IF(I916=\"\",\"\",Main!O453)","v":""},{"$f":"IF(I916=\"\",\"\",Main!P453)","v":""},{"$f":"IF(I916=\"\",\"\",Main!Q453)","v":""},{"$f":"IF(I916=\"\",\"\",Main!R453)","v":""},{"$f":"IF(Main!S453=\"\",\"\",Main!S453)","v":""},null,""]
[null,null,null,null,{"$f":"IF(I917=\"\",\"\",Main!J453)","v":""},{"$f":"IF(I917=\"\",\"\",Main!K453)","v":""},{"$f":"IF(I917=\"\",\"\",Main!L453)","v":""},{"$f":"IF(I917=\"\",\"\",Main!M453)","v":""},{"$f":"IF(Main!N453=\"\",\"\",Main!N453)","v":""},null,"",{"$f":"K917","v":""}]
[{"$f":"IF(K919=\"\",\"\",SUM($L$18:L919))","v":""},{"$f":"IF(I919=\"\",\"\",CONCATENATE(Main!C454,\", \",Main!D454,IF(Main!F454>0,CONCATENATE(\", \",Main!F454),\"\")))","v":""},null,null,{"$f":"IF(I918=\"\",\"\",Main!O454)","v":""},{"$f":"IF(I918=\"\",\"\",Main!P454)","v":""},{"$f":"IF(I918=\"\",\"\",Main!Q454)","v":""},{"$f":"IF(I918=\"\",\"\",Main!R454)","v":""},{"$f":"IF(Main!S454=\"\",\"\",Main!S454)","v":""},null,""]
[null,null,null,null,{"$f":"IF(I919=\"\",\"\",Main!J454)","v":""},{"$f":"IF(I919=\"\",\"\",Main!K454)","v":""},{"$f":"IF(I919=\"\",\"\",Main!L454)","v":""},{"$f":"IF(I919=\"\",\"\",Main!M454)","v":""},{"$f":"IF(Main!N454=\"\",\"\",Main!N454)","v":""},null,"",{"$f":"K919","v":""}]
[{"$f":"IF(K921=\"\",\"\",SUM($L$18:L921))","v":""},{"$f":"IF(I921=\"\",\"\",CONCATENATE(Main!C455,\", \",Main!D455,IF(Main!F455>0,CONCATENATE(\", \",Main!F455),\"\")))","v":""},null,null,{"$f":"IF(I920=\"\",\"\",Main!O455)","v":""},{"$f":"IF(I920=\"\",\"\",Main!P455)","v":""},{"$f":"IF(I920=\"\",\"\",Main!Q455)","v":""},{"$f":"IF(I920=\"\",\"\",Main!R455)","v":""},{"$f":"IF(Main!S455=\"\",\"\",Main!S455)","v":""},null,""]
[null,null,null,null,{"$f":"IF(I921=\"\",\"\",Main!J455)","v":""},{"$f":"IF(I921=\"\",\"\",Main!K455)","v":""},{"$f":"IF(I921=\"\",\"\",Main!L455)","v":""},{"$f":"IF(I921=\"\",\"\",Main!M455)","v":""},{"$f":"IF(Main!N455=\"\",\"\",Main!N455)","v":""},null,"",{"$f":"K921","v":""}]
[{"$f":"IF(K923=\"\",\"\",SUM($L$18:L923))","v":""},{"$f":"IF(I923=\"\",\"\",CONCATENATE(Main!C456,\", \",Main!D456,IF(Main!F456>0,CONCATENATE(\", \",Main!F456),\"\")))","v":""},null,null,{"$f":"IF(I922=\"\",\"\",Main!O456)","v":""},{"$f":"IF(I922=\"\",\"\",Main!P456)","v":""},{"$f":"IF(I922=\"\",\"\",Main!Q456)","v":""},{"$f":"IF(I922=\"\",\"\",Main!R456)","v":""},{"$f":"IF(Main!S456=\"\",\"\",Main!S456)","v":""},null,""]
[null,null,null,null,{"$f":"IF(I923=\"\",\"\",Main!J456)","v":""},{"$f":"IF(I923=\"\",\"\",Main!K456)","v":""},{"$f":"IF(I923=\"\",\"\",Main!L456)","v":""},{"$f":"IF(I923=\"\",\"\",Main!M456)","v":""},{"$f":"IF(Main!N456=\"\",\"\",Main!N456)","v":""},null,"",{"$f":"K923","v":""}]
[{"$f":"IF(K925=\"\",\"\",SUM($L$18:L925))","v":""},{"$f":"IF(I925=\"\",\"\",CONCATENATE(Main!C457,\", \",Main!D457,IF(Main!F457>0,CONCATENATE(\", \",Main!F457),\"\")))","v":""},null,null,{"$f":"IF(I924=\"\",\"\",Main!O457)","v":""},{"$f":"IF(I924=\"\",\"\",Main!P457)","v":""},{"$f":"IF(I924=\"\",\"\",Main!Q457)","v":""},{"$f":"IF(I924=\"\",\"\",Main!R457)","v":""},{"$f":"IF(Main!S457=\"\",\"\",Main!S457)","v":""},null,""]
[null,null,null,null,{"$f":"IF(I925=\"\",\"\",Main!J457)","v":""},{"$f":"IF(I925=\"\",\"\",Main!K457)","v":""},{"$f":"IF(I925=\"\",\"\",Main!L457)","v":""},{"$f":"IF(I925=\"\",\"\",Main!M457)","v":""},{"$f":"IF(Main!N457=\"\",\"\",Main!N457)","v":""},null,"",{"$f":"K925","v":""}]
[{"$f":"IF(K927=\"\",\"\",SUM($L$18:L927))","v":""},{"$f":"IF(I927=\"\",\"\",CONCATENATE(Main!C458,\", \",Main!D458,IF(Main!F458>0,CONCATENATE(\", \",Main!F458),\"\")))","v":""},null,null,{"$f":"IF(I926=\"\",\"\",Main!O458)","v":""},{"$f":"IF(I926=\"\",\"\",Main!P458)","v":""},{"$f":"IF(I926=\"\",\"\",Main!Q458)","v":""},{"$f":"IF(I926=\"\",\"\",Main!R458)","v":""},{"$f":"IF(Main!S458=\"\",\"\",Main!S458)","v":""},null,""]
[null,null,null,null,{"$f":"IF(I927=\"\",\"\",Main!J458)","v":""},{"$f":"IF(I927=\"\",\"\",Main!K458)","v":""},{"$f":"IF(I927=\"\",\"\",Main!L458)","v":""},{"$f":"IF(I927=\"\",\"\",Main!M458)","v":""},{"$f":"IF(Main!N458=\"\",\"\",Main!N458)","v":""},null,"",{"$f":"K927","v":""}]
[{"$f":"IF(K929=\"\",\"\",SUM($L$18:L929))","v":""},{"$f":"IF(I929=\"\",\"\",CONCATENATE(Main!C459,\", \",Main!D459,IF(Main!F459>0,CONCATENATE(\", \",Main!F459),\"\")))","v":""},null,null,{"$f":"IF(I928=\"\",\"\",Main!O459)","v":""},{"$f":"IF(I928=\"\",\"\",Main!P459)","v":""},{"$f":"IF(I928=\"\",\"\",Main!Q459)","v":""},{"$f":"IF(I928=\"\",\"\",Main!R459)","v":""},{"$f":"IF(Main!S459=\"\",\"\",Main!S459)","v":""},null,""]
[null,null,null,null,{"$f":"IF(I929=\"\",\"\",Main!J459)","v":""},{"$f":"IF(I929=\"\",\"\",Main!K459)","v":""},{"$f":"IF(I929=\"\",\"\",Main!L459)","v":""},{"$f":"IF(I929=\"\",\"\",Main!M459)","v":""},{"$f":"IF(Main!N459=\"\",\"\",Main!N459)","v":""},null,"",{"$f":"K929","v":""}]
[{"$f":"IF(K931=\"\",\"\",SUM($L$18:L931))","v":""},{"$f":"IF(I931=\"\",\"\",CONCATENATE(Main!C460,\", \",Main!D460,IF(Main!F460>0,CONCATENATE(\", \",Main!F460),\"\")))","v":""},null,null,{"$f":"IF(I930=\"\",\"\",Main!O460)","v":""},{"$f":"IF(I930=\"\",\"\",Main!P460)","v":""},{"$f":"IF(I930=\"\",\"\",Main!Q460)","v":""},{"$f":"IF(I930=\"\",\"\",Main!R460)","v":""},{"$f":"IF(Main!S460=\"\",\"\",Main!S460)","v":""},null,""]
[null,null,null,null,{"$f":"IF(I931=\"\",\"\",Main!J460)","v":""},{"$f":"IF(I931=\"\",\"\",Main!K460)","v":""},{"$f":"IF(I931=\"\",\"\",Main!L460)","v":""},{"$f":"IF(I931=\"\",\"\",Main!M460)","v":""},{"$f":"IF(Main!N460=\"\",\"\",Main!N460)","v":""},null,"",{"$f":"K931","v":""}]
[{"$f":"IF(K933=\"\",\"\",SUM($L$18:L933))","v":""},{"$f":"IF(I933=\"\",\"\",CONCATENATE(Main!C461,\", \",Main!D461,IF(Main!F461>0,CONCATENATE(\", \",Main!F461),\"\")))","v":""},null,null,{"$f":"IF(I932=\"\",\"\",Main!O461)","v":""},{"$f":"IF(I932=\"\",\"\",Main!P461)","v":""},{"$f":"IF(I932=\"\",\"\",Main!Q461)","v":""},{"$f":"IF(I932=\"\",\"\",Main!R461)","v":""},{"$f":"IF(Main!S461=\"\",\"\",Main!S461)","v":""},null,""]
[null,null,null,null,{"$f":"IF(I933=\"\",\"\",Main!J461)","v":""},{"$f":"IF(I933=\"\",\"\",Main!K461)","v":""},{"$f":"IF(I933=\"\",\"\",Main!L461)","v":""},{"$f":"IF(I933=\"\",\"\",Main!M461)","v":""},{"$f":"IF(Main!N461=\"\",\"\",Main!N461)","v":""},null,"",{"$f":"K933","v":""}]
[{"$f":"IF(K935=\"\",\"\",SUM($L$18:L935))","v":""},{"$f":"IF(I935=\"\",\"\",CONCATENATE(Main!C462,\", \",Main!D462,IF(Main!F462>0,CONCATENATE(\", \",Main!F462),\"\")))","v":""},null,null,{"$f":"IF(I934=\"\",\"\",Main!O462)","v":""},{"$f":"IF(I934=\"\",\"\",Main!P462)","v":""},{"$f":"IF(I934=\"\",\"\",Main!Q462)","v":""},{"$f":"IF(I934=\"\",\"\",Main!R462)","v":""},{"$f":"IF(Main!S462=\"\",\"\",Main!S462)","v":""},null,""]
[null,null,null,null,{"$f":"IF(I935=\"\",\"\",Main!J462)","v":""},{"$f":"IF(I935=\"\",\"\",Main!K462)","v":""},{"$f":"IF(I935=\"\",\"\",Main!L462)","v":""},{"$f":"IF(I935=\"\",\"\",Main!M462)","v":""},{"$f":"IF(Main!N462=\"\",\"\",Main!N462)","v":""},null,"",{"$f":"K935","v":""}]
[{"$f":"IF(K937=\"\",\"\",SUM($L$18:L937))","v":""},{"$f":"IF(I937=\"\",\"\",CONCATENATE(Main!C463,\", \",Main!D463,IF(Main!F463>0,CONCATENATE(\", \",Main!F463),\"\")))","v":""},null,null,{"$f":"IF(I936=\"\",\"\",Main!O463)","v":""},{"$f":"IF(I936=\"\",\"\",Main!P463)","v":""},{"$f":"IF(I936=\"\",\"\",Main!Q463)","v":""},{"$f":"IF(I936=\"\",\"\",Main!R463)","v":""},{"$f":"IF(Main!S463=\"\",\"\",Main!S463)","v":""},null,""]
[null,null,null,null,{"$f":"IF(I937=\"\",\"\",Main!J463)","v":""},{"$f":"IF(I937=\"\",\"\",Main!K463)","v":""},{"$f":"IF(I937=\"\",\"\",Main!L463)","v":""},{"$f":"IF(I937=\"\",\"\",Main!M463)","v":""},{"$f":"IF(Main!N463=\"\",\"\",Main!N463)","v":""},null,"",{"$f":"K937","v":""}]
[{"$f":"IF(K939=\"\",\"\",SUM($L$18:L939))","v":""},{"$f":"IF(I939=\"\",\"\",CONCATENATE(Main!C464,\", \",Main!D464,IF(Main!F464>0,CONCATENATE(\", \",Main!F464),\"\")))","v":""},null,null,{"$f":"IF(I938=\"\",\"\",Main!O464)","v":""},{"$f":"IF(I938=\"\",\"\",Main!P464)","v":""},{"$f":"IF(I938=\"\",\"\",Main!Q464)","v":""},{"$f":"IF(I938=\"\",\"\",Main!R464)","v":""},{"$f":"IF(Main!S464=\"\",\"\",Main!S464)","v":""},null,""]
[null,null,null,null,{"$f":"IF(I939=\"\",\"\",Main!J464)","v":""},{"$f":"IF(I939=\"\",\"\",Main!K464)","v":""},{"$f":"IF(I939=\"\",\"\",Main!L464)","v":""},{"$f":"IF(I939=\"\",\"\",Main!M464)","v":""},{"$f":"IF(Main!N464=\"\",\"\",Main!N464)","v":""},null,"",{"$f":"K939","v":""}]
[{"$f":"IF(K941=\"\",\"\",SUM($L$18:L941))","v":""},{"$f":"IF(I941=\"\",\"\",CONCATENATE(Main!C465,\", \",Main!D465,IF(Main!F465>0,CONCATENATE(\", \",Main!F465),\"\")))","v":""},null,null,{"$f":"IF(I940=\"\",\"\",Main!O465)","v":""},{"$f":"IF(I940=\"\",\"\",Main!P465)","v":""},{"$f":"IF(I940=\"\",\"\",Main!Q465)","v":""},{"$f":"IF(I940=\"\",\"\",Main!R465)","v":""},{"$f":"IF(Main!S465=\"\",\"\",Main!S465)","v":""},null,""]
[null,null,null,null,{"$f":"IF(I941=\"\",\"\",Main!J465)","v":""},{"$f":"IF(I941=\"\",\"\",Main!K465)","v":""},{"$f":"IF(I941=\"\",\"\",Main!L465)","v":""},{"$f":"IF(I941=\"\",\"\",Main!M465)","v":""},{"$f":"IF(Main!N465=\"\",\"\",Main!N465)","v":""},null,"",{"$f":"K941","v":""}]
[{"$f":"IF(K943=\"\",\"\",SUM($L$18:L943))","v":""},{"$f":"IF(I943=\"\",\"\",CONCATENATE(Main!C466,\", \",Main!D466,IF(Main!F466>0,CONCATENATE(\", \",Main!F466),\"\")))","v":""},null,null,{"$f":"IF(I942=\"\",\"\",Main!O466)","v":""},{"$f":"IF(I942=\"\",\"\",Main!P466)","v":""},{"$f":"IF(I942=\"\",\"\",Main!Q466)","v":""},{"$f":"IF(I942=\"\",\"\",Main!R466)","v":""},{"$f":"IF(Main!S466=\"\",\"\",Main!S466)","v":""},null,""]
[null,null,null,null,{"$f":"IF(I943=\"\",\"\",Main!J466)","v":""},{"$f":"IF(I943=\"\",\"\",Main!K466)","v":""},{"$f":"IF(I943=\"\",\"\",Main!L466)","v":""},{"$f":"IF(I943=\"\",\"\",Main!M466)","v":""},{"$f":"IF(Main!N466=\"\",\"\",Main!N466)","v":""},null,"",{"$f":"K943","v":""}]
[{"$f":"IF(K945=\"\",\"\",SUM($L$18:L945))","v":""},{"$f":"IF(I945=\"\",\"\",CONCATENATE(Main!C467,\", \",Main!D467,IF(Main!F467>0,CONCATENATE(\", \",Main!F467),\"\")))","v":""},null,null,{"$f":"IF(I944=\"\",\"\",Main!O467)","v":""},{"$f":"IF(I944=\"\",\"\",Main!P467)","v":""},{"$f":"IF(I944=\"\",\"\",Main!Q467)","v":""},{"$f":"IF(I944=\"\",\"\",Main!R467)","v":""},{"$f":"IF(Main!S467=\"\",\"\",Main!S467)","v":""},null,""]
[null,null,null,null,{"$f":"IF(I945=\"\",\"\",Main!J467)","v":""},{"$f":"IF(I945=\"\",\"\",Main!K467)","v":""},{"$f":"IF(I945=\"\",\"\",Main!L467)","v":""},{"$f":"IF(I945=\"\",\"\",Main!M467)","v":""},{"$f":"IF(Main!N467=\"\",\"\",Main!N467)","v":""},null,"",{"$f":"K945","v":""}]
[{"$f":"IF(K947=\"\",\"\",SUM($L$18:L947))","v":""},{"$f":"IF(I947=\"\",\"\",CONCATENATE(Main!C468,\", \",Main!D468,IF(Main!F468>0,CONCATENATE(\", \",Main!F468),\"\")))","v":""},null,null,{"$f":"IF(I946=\"\",\"\",Main!O468)","v":""},{"$f":"IF(I946=\"\",\"\",Main!P468)","v":""},{"$f":"IF(I946=\"\",\"\",Main!Q468)","v":""},{"$f":"IF(I946=\"\",\"\",Main!R468)","v":""},{"$f":"IF(Main!S468=\"\",\"\",Main!S468)","v":""},null,""]
[null,null,null,null,{"$f":"IF(I947=\"\",\"\",Main!J468)","v":""},{"$f":"IF(I947=\"\",\"\",Main!K468)","v":""},{"$f":"IF(I947=\"\",\"\",Main!L468)","v":""},{"$f":"IF(I947=\"\",\"\",Main!M468)","v":""},{"$f":"IF(Main!N468=\"\",\"\",Main!N468)","v":""},null,"",{"$f":"K947","v":""}]
[{"$f":"IF(K949=\"\",\"\",SUM($L$18:L949))","v":""},{"$f":"IF(I949=\"\",\"\",CONCATENATE(Main!C469,\", \",Main!D469,IF(Main!F469>0,CONCATENATE(\", \",Main!F469),\"\")))","v":""},null,null,{"$f":"IF(I948=\"\",\"\",Main!O469)","v":""},{"$f":"IF(I948=\"\",\"\",Main!P469)","v":""},{"$f":"IF(I948=\"\",\"\",Main!Q469)","v":""},{"$f":"IF(I948=\"\",\"\",Main!R469)","v":""},{"$f":"IF(Main!S469=\"\",\"\",Main!S469)","v":""},null,""]
[null,null,null,null,{"$f":"IF(I949=\"\",\"\",Main!J469)","v":""},{"$f":"IF(I949=\"\",\"\",Main!K469)","v":""},{"$f":"IF(I949=\"\",\"\",Main!L469)","v":""},{"$f":"IF(I949=\"\",\"\",Main!M469)","v":""},{"$f":"IF(Main!N469=\"\",\"\",Main!N469)","v":""},null,"",{"$f":"K949","v":""}]
[{"$f":"IF(K951=\"\",\"\",SUM($L$18:L951))","v":""},{"$f":"IF(I951=\"\",\"\",CONCATENATE(Main!C470,\", \",Main!D470,IF(Main!F470>0,CONCATENATE(\", \",Main!F470),\"\")))","v":""},null,null,{"$f":"IF(I950=\"\",\"\",Main!O470)","v":""},{"$f":"IF(I950=\"\",\"\",Main!P470)","v":""},{"$f":"IF(I950=\"\",\"\",Main!Q470)","v":""},{"$f":"IF(I950=\"\",\"\",Main!R470)","v":""},{"$f":"IF(Main!S470=\"\",\"\",Main!S470)","v":""},null,""]
[null,null,null,null,{"$f":"IF(I951=\"\",\"\",Main!J470)","v":""},{"$f":"IF(I951=\"\",\"\",Main!K470)","v":""},{"$f":"IF(I951=\"\",\"\",Main!L470)","v":""},{"$f":"IF(I951=\"\",\"\",Main!M470)","v":""},{"$f":"IF(Main!N470=\"\",\"\",Main!N470)","v":""},null,"",{"$f":"K951","v":""}]
[{"$f":"IF(K953=\"\",\"\",SUM($L$18:L953))","v":""},{"$f":"IF(I953=\"\",\"\",CONCATENATE(Main!C471,\", \",Main!D471,IF(Main!F471>0,CONCATENATE(\", \",Main!F471),\"\")))","v":""},null,null,{"$f":"IF(I952=\"\",\"\",Main!O471)","v":""},{"$f":"IF(I952=\"\",\"\",Main!P471)","v":""},{"$f":"IF(I952=\"\",\"\",Main!Q471)","v":""},{"$f":"IF(I952=\"\",\"\",Main!R471)","v":""},{"$f":"IF(Main!S471=\"\",\"\",Main!S471)","v":""},null,""]
[null,null,null,null,{"$f":"IF(I953=\"\",\"\",Main!J471)","v":""},{"$f":"IF(I953=\"\",\"\",Main!K471)","v":""},{"$f":"IF(I953=\"\",\"\",Main!L471)","v":""},{"$f":"IF(I953=\"\",\"\",Main!M471)","v":""},{"$f":"IF(Main!N471=\"\",\"\",Main!N471)","v":""},null,"",{"$f":"K953","v":""}]
[{"$f":"IF(K955=\"\",\"\",SUM($L$18:L955))","v":""},{"$f":"IF(I955=\"\",\"\",CONCATENATE(Main!C472,\", \",Main!D472,IF(Main!F472>0,CONCATENATE(\", \",Main!F472),\"\")))","v":""},null,null,{"$f":"IF(I954=\"\",\"\",Main!O472)","v":""},{"$f":"IF(I954=\"\",\"\",Main!P472)","v":""},{"$f":"IF(I954=\"\",\"\",Main!Q472)","v":""},{"$f":"IF(I954=\"\",\"\",Main!R472)","v":""},{"$f":"IF(Main!S472=\"\",\"\",Main!S472)","v":""},null,""]
[null,null,null,null,{"$f":"IF(I955=\"\",\"\",Main!J472)","v":""},{"$f":"IF(I955=\"\",\"\",Main!K472)","v":""},{"$f":"IF(I955=\"\",\"\",Main!L472)","v":""},{"$f":"IF(I955=\"\",\"\",Main!M472)","v":""},{"$f":"IF(Main!N472=\"\",\"\",Main!N472)","v":""},null,"",{"$f":"K955","v":""}]
[{"$f":"IF(K957=\"\",\"\",SUM($L$18:L957))","v":""},{"$f":"IF(I957=\"\",\"\",CONCATENATE(Main!C473,\", \",Main!D473,IF(Main!F473>0,CONCATENATE(\", \",Main!F473),\"\")))","v":""},null,null,{"$f":"IF(I956=\"\",\"\",Main!O473)","v":""},{"$f":"IF(I956=\"\",\"\",Main!P473)","v":""},{"$f":"IF(I956=\"\",\"\",Main!Q473)","v":""},{"$f":"IF(I956=\"\",\"\",Main!R473)","v":""},{"$f":"IF(Main!S473=\"\",\"\",Main!S473)","v":""},null,""]
[null,null,null,null,{"$f":"IF(I957=\"\",\"\",Main!J473)","v":""},{"$f":"IF(I957=\"\",\"\",Main!K473)","v":""},{"$f":"IF(I957=\"\",\"\",Main!L473)","v":""},{"$f":"IF(I957=\"\",\"\",Main!M473)","v":""},{"$f":"IF(Main!N473=\"\",\"\",Main!N473)","v":""},null,"",{"$f":"K957","v":""}]
[{"$f":"IF(K959=\"\",\"\",SUM($L$18:L959))","v":""},{"$f":"IF(I959=\"\",\"\",CONCATENATE(Main!C474,\", \",Main!D474,IF(Main!F474>0,CONCATENATE(\", \",Main!F474),\"\")))","v":""},null,null,{"$f":"IF(I958=\"\",\"\",Main!O474)","v":""},{"$f":"IF(I958=\"\",\"\",Main!P474)","v":""},{"$f":"IF(I958=\"\",\"\",Main!Q474)","v":""},{"$f":"IF(I958=\"\",\"\",Main!R474)","v":""},{"$f":"IF(Main!S474=\"\",\"\",Main!S474)","v":""},null,""]
[null,null,null,null,{"$f":"IF(I959=\"\",\"\",Main!J474)","v":""},{"$f":"IF(I959=\"\",\"\",Main!K474)","v":""},{"$f":"IF(I959=\"\",\"\",Main!L474)","v":""},{"$f":"IF(I959=\"\",\"\",Main!M474)","v":""},{"$f":"IF(Main!N474=\"\",\"\",Main!N474)","v":""},null,"",{"$f":"K959","v":""}]
[{"$f":"IF(K961=\"\",\"\",SUM($L$18:L961))","v":""},{"$f":"IF(I961=\"\",\"\",CONCATENATE(Main!C475,\", \",Main!D475,IF(Main!F475>0,CONCATENATE(\", \",Main!F475),\"\")))","v":""},null,null,{"$f":"IF(I960=\"\",\"\",Main!O475)","v":""},{"$f":"IF(I960=\"\",\"\",Main!P475)","v":""},{"$f":"IF(I960=\"\",\"\",Main!Q475)","v":""},{"$f":"IF(I960=\"\",\"\",Main!R475)","v":""},{"$f":"IF(Main!S475=\"\",\"\",Main!S475)","v":""},null,""]
[null,null,null,null,{"$f":"IF(I961=\"\",\"\",Main!J475)","v":""},{"$f":"IF(I961=\"\",\"\",Main!K475)","v":""},{"$f":"IF(I961=\"\",\"\",Main!L475)","v":""},{"$f":"IF(I961=\"\",\"\",Main!M475)","v":""},{"$f":"IF(Main!N475=\"\",\"\",Main!N475)","v":""},null,"",{"$f":"K961","v":""}]
[{"$f":"IF(K963=\"\",\"\",SUM($L$18:L963))","v":""},{"$f":"IF(I963=\"\",\"\",CONCATENATE(Main!C476,\", \",Main!D476,IF(Main!F476>0,CONCATENATE(\", \",Main!F476),\"\")))","v":""},null,null,{"$f":"IF(I962=\"\",\"\",Main!O476)","v":""},{"$f":"IF(I962=\"\",\"\",Main!P476)","v":""},{"$f":"IF(I962=\"\",\"\",Main!Q476)","v":""},{"$f":"IF(I962=\"\",\"\",Main!R476)","v":""},{"$f":"IF(Main!S476=\"\",\"\",Main!S476)","v":""},null,""]
[null,null,null,null,{"$f":"IF(I963=\"\",\"\",Main!J476)","v":""},{"$f":"IF(I963=\"\",\"\",Main!K476)","v":""},{"$f":"IF(I963=\"\",\"\",Main!L476)","v":""},{"$f":"IF(I963=\"\",\"\",Main!M476)","v":""},{"$f":"IF(Main!N476=\"\",\"\",Main!N476)","v":""},null,"",{"$f":"K963","v":""}]
[{"$f":"IF(K965=\"\",\"\",SUM($L$18:L965))","v":""},{"$f":"IF(I965=\"\",\"\",CONCATENATE(Main!C477,\", \",Main!D477,IF(Main!F477>0,CONCATENATE(\", \",Main!F477),\"\")))","v":""},null,null,{"$f":"IF(I964=\"\",\"\",Main!O477)","v":""},{"$f":"IF(I964=\"\",\"\",Main!P477)","v":""},{"$f":"IF(I964=\"\",\"\",Main!Q477)","v":""},{"$f":"IF(I964=\"\",\"\",Main!R477)","v":""},{"$f":"IF(Main!S477=\"\",\"\",Main!S477)","v":""},null,""]
[null,null,null,null,{"$f":"IF(I965=\"\",\"\",Main!J477)","v":""},{"$f":"IF(I965=\"\",\"\",Main!K477)","v":""},{"$f":"IF(I965=\"\",\"\",Main!L477)","v":""},{"$f":"IF(I965=\"\",\"\",Main!M477)","v":""},{"$f":"IF(Main!N477=\"\",\"\",Main!N477)","v":""},null,"",{"$f":"K965","v":""}]
[{"$f":"IF(K967=\"\",\"\",SUM($L$18:L967))","v":""},{"$f":"IF(I967=\"\",\"\",CONCATENATE(Main!C478,\", \",Main!D478,IF(Main!F478>0,CONCATENATE(\", \",Main!F478),\"\")))","v":""},null,null,{"$f":"IF(I966=\"\",\"\",Main!O478)","v":""},{"$f":"IF(I966=\"\",\"\",Main!P478)","v":""},{"$f":"IF(I966=\"\",\"\",Main!Q478)","v":""},{"$f":"IF(I966=\"\",\"\",Main!R478)","v":""},{"$f":"IF(Main!S478=\"\",\"\",Main!S478)","v":""},null,""]
[null,null,null,null,{"$f":"IF(I967=\"\",\"\",Main!J478)","v":""},{"$f":"IF(I967=\"\",\"\",Main!K478)","v":""},{"$f":"IF(I967=\"\",\"\",Main!L478)","v":""},{"$f":"IF(I967=\"\",\"\",Main!M478)","v":""},{"$f":"IF(Main!N478=\"\",\"\",Main!N478)","v":""},null,"",{"$f":"K967","v":""}]
[{"$f":"IF(K969=\"\",\"\",SUM($L$18:L969))","v":""},{"$f":"IF(I969=\"\",\"\",CONCATENATE(Main!C479,\", \",Main!D479,IF(Main!F479>0,CONCATENATE(\", \",Main!F479),\"\")))","v":""},null,null,{"$f":"IF(I968=\"\",\"\",Main!O479)","v":""},{"$f":"IF(I968=\"\",\"\",Main!P479)","v":""},{"$f":"IF(I968=\"\",\"\",Main!Q479)","v":""},{"$f":"IF(I968=\"\",\"\",Main!R479)","v":""},{"$f":"IF(Main!S479=\"\",\"\",Main!S479)","v":""},null,""]
[null,null,null,null,{"$f":"IF(I969=\"\",\"\",Main!J479)","v":""},{"$f":"IF(I969=\"\",\"\",Main!K479)","v":""},{"$f":"IF(I969=\"\",\"\",Main!L479)","v":""},{"$f":"IF(I969=\"\",\"\",Main!M479)","v":""},{"$f":"IF(Main!N479=\"\",\"\",Main!N479)","v":""},null,"",{"$f":"K969","v":""}]
[{"$f":"IF(K971=\"\",\"\",SUM($L$18:L971))","v":""},{"$f":"IF(I971=\"\",\"\",CONCATENATE(Main!C480,\", \",Main!D480,IF(Main!F480>0,CONCATENATE(\", \",Main!F480),\"\")))","v":""},null,null,{"$f":"IF(I970=\"\",\"\",Main!O480)","v":""},{"$f":"IF(I970=\"\",\"\",Main!P480)","v":""},{"$f":"IF(I970=\"\",\"\",Main!Q480)","v":""},{"$f":"IF(I970=\"\",\"\",Main!R480)","v":""},{"$f":"IF(Main!S480=\"\",\"\",Main!S480)","v":""},null,""]
[null,null,null,null,{"$f":"IF(I971=\"\",\"\",Main!J480)","v":""},{"$f":"IF(I971=\"\",\"\",Main!K480)","v":""},{"$f":"IF(I971=\"\",\"\",Main!L480)","v":""},{"$f":"IF(I971=\"\",\"\",Main!M480)","v":""},{"$f":"IF(Main!N480=\"\",\"\",Main!N480)","v":""},null,"",{"$f":"K971","v":""}]
[{"$f":"IF(K973=\"\",\"\",SUM($L$18:L973))","v":""},{"$f":"IF(I973=\"\",\"\",CONCATENATE(Main!C481,\", \",Main!D481,IF(Main!F481>0,CONCATENATE(\", \",Main!F481),\"\")))","v":""},null,null,{"$f":"IF(I972=\"\",\"\",Main!O481)","v":""},{"$f":"IF(I972=\"\",\"\",Main!P481)","v":""},{"$f":"IF(I972=\"\",\"\",Main!Q481)","v":""},{"$f":"IF(I972=\"\",\"\",Main!R481)","v":""},{"$f":"IF(Main!S481=\"\",\"\",Main!S481)","v":""},null,""]
[null,null,null,null,{"$f":"IF(I973=\"\",\"\",Main!J481)","v":""},{"$f":"IF(I973=\"\",\"\",Main!K481)","v":""},{"$f":"IF(I973=\"\",\"\",Main!L481)","v":""},{"$f":"IF(I973=\"\",\"\",Main!M481)","v":""},{"$f":"IF(Main!N481=\"\",\"\",Main!N481)","v":""},null,"",{"$f":"K973","v":""}]
[{"$f":"IF(K975=\"\",\"\",SUM($L$18:L975))","v":""},{"$f":"IF(I975=\"\",\"\",CONCATENATE(Main!C482,\", \",Main!D482,IF(Main!F482>0,CONCATENATE(\", \",Main!F482),\"\")))","v":""},null,null,{"$f":"IF(I974=\"\",\"\",Main!O482)","v":""},{"$f":"IF(I974=\"\",\"\",Main!P482)","v":""},{"$f":"IF(I974=\"\",\"\",Main!Q482)","v":""},{"$f":"IF(I974=\"\",\"\",Main!R482)","v":""},{"$f":"IF(Main!S482=\"\",\"\",Main!S482)","v":""},null,""]
[null,null,null,null,{"$f":"IF(I975=\"\",\"\",Main!J482)","v":""},{"$f":"IF(I975=\"\",\"\",Main!K482)","v":""},{"$f":"IF(I975=\"\",\"\",Main!L482)","v":""},{"$f":"IF(I975=\"\",\"\",Main!M482)","v":""},{"$f":"IF(Main!N482=\"\",\"\",Main!N482)","v":""},null,"",{"$f":"K975","v":""}]
[{"$f":"IF(K977=\"\",\"\",SUM($L$18:L977))","v":""},{"$f":"IF(I977=\"\",\"\",CONCATENATE(Main!C483,\", \",Main!D483,IF(Main!F483>0,CONCATENATE(\", \",Main!F483),\"\")))","v":""},null,null,{"$f":"IF(I976=\"\",\"\",Main!O483)","v":""},{"$f":"IF(I976=\"\",\"\",Main!P483)","v":""},{"$f":"IF(I976=\"\",\"\",Main!Q483)","v":""},{"$f":"IF(I976=\"\",\"\",Main!R483)","v":""},{"$f":"IF(Main!S483=\"\",\"\",Main!S483)","v":""},null,""]
[null,null,null,null,{"$f":"IF(I977=\"\",\"\",Main!J483)","v":""},{"$f":"IF(I977=\"\",\"\",Main!K483)","v":""},{"$f":"IF(I977=\"\",\"\",Main!L483)","v":""},{"$f":"IF(I977=\"\",\"\",Main!M483)","v":""},{"$f":"IF(Main!N483=\"\",\"\",Main!N483)","v":""},null,"",{"$f":"K977","v":""}]
[{"$f":"IF(K979=\"\",\"\",SUM($L$18:L979))","v":""},{"$f":"IF(I979=\"\",\"\",CONCATENATE(Main!C484,\", \",Main!D484,IF(Main!F484>0,CONCATENATE(\", \",Main!F484),\"\")))","v":""},null,null,{"$f":"IF(I978=\"\",\"\",Main!O484)","v":""},{"$f":"IF(I978=\"\",\"\",Main!P484)","v":""},{"$f":"IF(I978=\"\",\"\",Main!Q484)","v":""},{"$f":"IF(I978=\"\",\"\",Main!R484)","v":""},{"$f":"IF(Main!S484=\"\",\"\",Main!S484)","v":""},null,""]
[null,null,null,null,{"$f":"IF(I979=\"\",\"\",Main!J484)","v":""},{"$f":"IF(I979=\"\",\"\",Main!K484)","v":""},{"$f":"IF(I979=\"\",\"\",Main!L484)","v":""},{"$f":"IF(I979=\"\",\"\",Main!M484)","v":""},{"$f":"IF(Main!N484=\"\",\"\",Main!N484)","v":""},null,{"$f":"IF(I979=\"\",\"\",1)","v":""},{"$f":"K979","v":""}]
[{"$f":"IF(K981=\"\",\"\",SUM($L$18:L981))","v":""},{"$f":"IF(I981=\"\",\"\",CONCATENATE(Main!C485,\", \",Main!D485,IF(Main!F485>0,CONCATENATE(\", \",Main!F485),\"\")))","v":""},null,null,{"$f":"IF(I980=\"\",\"\",Main!O485)","v":""},{"$f":"IF(I980=\"\",\"\",Main!P485)","v":""},{"$f":"IF(I980=\"\",\"\",Main!Q485)","v":""},{"$f":"IF(I980=\"\",\"\",Main!R485)","v":""},{"$f":"IF(Main!S485=\"\",\"\",Main!S485)","v":""},null,""]
[null,null,null,null,{"$f":"IF(I981=\"\",\"\",Main!J485)","v":""},{"$f":"IF(I981=\"\",\"\",Main!K485)","v":""},{"$f":"IF(I981=\"\",\"\",Main!L485)","v":""},{"$f":"IF(I981=\"\",\"\",Main!M485)","v":""},{"$f":"IF(Main!N485=\"\",\"\",Main!N485)","v":""},null,"",{"$f":"K981","v":""}]
[{"$f":"IF(K983=\"\",\"\",SUM($L$18:L983))","v":""},{"$f":"IF(I983=\"\",\"\",CONCATENATE(Main!C486,\", \",Main!D486,IF(Main!F486>0,CONCATENATE(\", \",Main!F486),\"\")))","v":""},null,null,{"$f":"IF(I982=\"\",\"\",Main!O486)","v":""},{"$f":"IF(I982=\"\",\"\",Main!P486)","v":""},{"$f":"IF(I982=\"\",\"\",Main!Q486)","v":""},{"$f":"IF(I982=\"\",\"\",Main!R486)","v":""},{"$f":"IF(Main!S486=\"\",\"\",Main!S486)","v":""},null,""]
[null,null,null,null,{"$f":"IF(I983=\"\",\"\",Main!J486)","v":""},{"$f":"IF(I983=\"\",\"\",Main!K486)","v":""},{"$f":"IF(I983=\"\",\"\",Main!L486)","v":""},{"$f":"IF(I983=\"\",\"\",Main!M486)","v":""},{"$f":"IF(Main!N486=\"\",\"\",Main!N486)","v":""},null,"",{"$f":"K983","v":""}]
[{"$f":"IF(K985=\"\",\"\",SUM($L$18:L985))","v":""},{"$f":"IF(I985=\"\",\"\",CONCATENATE(Main!C487,\", \",Main!D487,IF(Main!F487>0,CONCATENATE(\", \",Main!F487),\"\")))","v":""},null,null,{"$f":"IF(I984=\"\",\"\",Main!O487)","v":""},{"$f":"IF(I984=\"\",\"\",Main!P487)","v":""},{"$f":"IF(I984=\"\",\"\",Main!Q487)","v":""},{"$f":"IF(I984=\"\",\"\",Main!R487)","v":""},{"$f":"IF(Main!S487=\"\",\"\",Main!S487)","v":""},null,""]
[null,null,null,null,{"$f":"IF(I985=\"\",\"\",Main!J487)","v":""},{"$f":"IF(I985=\"\",\"\",Main!K487)","v":""},{"$f":"IF(I985=\"\",\"\",Main!L487)","v":""},{"$f":"IF(I985=\"\",\"\",Main!M487)","v":""},{"$f":"IF(Main!N487=\"\",\"\",Main!N487)","v":""},null,"",{"$f":"K985","v":""}]
[{"$f":"IF(K987=\"\",\"\",SUM($L$18:L987))","v":""},{"$f":"IF(I987=\"\",\"\",CONCATENATE(Main!C488,\", \",Main!D488,IF(Main!F488>0,CONCATENATE(\", \",Main!F488),\"\")))","v":""},null,null,{"$f":"IF(I986=\"\",\"\",Main!O488)","v":""},{"$f":"IF(I986=\"\",\"\",Main!P488)","v":""},{"$f":"IF(I986=\"\",\"\",Main!Q488)","v":""},{"$f":"IF(I986=\"\",\"\",Main!R488)","v":""},{"$f":"IF(Main!S488=\"\",\"\",Main!S488)","v":""},null,""]
[null,null,null,null,{"$f":"IF(I987=\"\",\"\",Main!J488)","v":""},{"$f":"IF(I987=\"\",\"\",Main!K488)","v":""},{"$f":"IF(I987=\"\",\"\",Main!L488)","v":""},{"$f":"IF(I987=\"\",\"\",Main!M488)","v":""},{"$f":"IF(Main!N488=\"\",\"\",Main!N488)","v":""},null,"",{"$f":"K987","v":""}]
[{"$f":"IF(K989=\"\",\"\",SUM($L$18:L989))","v":""},{"$f":"IF(I989=\"\",\"\",CONCATENATE(Main!C489,\", \",Main!D489,IF(Main!F489>0,CONCATENATE(\", \",Main!F489),\"\")))","v":""},null,null,{"$f":"IF(I988=\"\",\"\",Main!O489)","v":""},{"$f":"IF(I988=\"\",\"\",Main!P489)","v":""},{"$f":"IF(I988=\"\",\"\",Main!Q489)","v":""},{"$f":"IF(I988=\"\",\"\",Main!R489)","v":""},{"$f":"IF(Main!S489=\"\",\"\",Main!S489)","v":""},null,""]
[null,null,null,null,{"$f":"IF(I989=\"\",\"\",Main!J489)","v":""},{"$f":"IF(I989=\"\",\"\",Main!K489)","v":""},{"$f":"IF(I989=\"\",\"\",Main!L489)","v":""},{"$f":"IF(I989=\"\",\"\",Main!M489)","v":""},{"$f":"IF(Main!N489=\"\",\"\",Main!N489)","v":""},null,"",{"$f":"K989","v":""}]
[{"$f":"IF(K991=\"\",\"\",SUM($L$18:L991))","v":""},{"$f":"IF(I991=\"\",\"\",CONCATENATE(Main!C490,\", \",Main!D490,IF(Main!F490>0,CONCATENATE(\", \",Main!F490),\"\")))","v":""},null,null,{"$f":"IF(I990=\"\",\"\",Main!O490)","v":""},{"$f":"IF(I990=\"\",\"\",Main!P490)","v":""},{"$f":"IF(I990=\"\",\"\",Main!Q490)","v":""},{"$f":"IF(I990=\"\",\"\",Main!R490)","v":""},{"$f":"IF(Main!S490=\"\",\"\",Main!S490)","v":""},null,""]
[null,null,null,null,{"$f":"IF(I991=\"\",\"\",Main!J490)","v":""},{"$f":"IF(I991=\"\",\"\",Main!K490)","v":""},{"$f":"IF(I991=\"\",\"\",Main!L490)","v":""},{"$f":"IF(I991=\"\",\"\",Main!M490)","v":""},{"$f":"IF(Main!N490=\"\",\"\",Main!N490)","v":""},null,"",{"$f":"K991","v":""}]
[{"$f":"IF(K993=\"\",\"\",SUM($L$18:L993))","v":""},{"$f":"IF(I993=\"\",\"\",CONCATENATE(Main!C491,\", \",Main!D491,IF(Main!F491>0,CONCATENATE(\", \",Main!F491),\"\")))","v":""},null,null,{"$f":"IF(I992=\"\",\"\",Main!O491)","v":""},{"$f":"IF(I992=\"\",\"\",Main!P491)","v":""},{"$f":"IF(I992=\"\",\"\",Main!Q491)","v":""},{"$f":"IF(I992=\"\",\"\",Main!R491)","v":""},{"$f":"IF(Main!S491=\"\",\"\",Main!S491)","v":""},null,""]
[null,null,null,null,{"$f":"IF(I993=\"\",\"\",Main!J491)","v":""},{"$f":"IF(I993=\"\",\"\",Main!K491)","v":""},{"$f":"IF(I993=\"\",\"\",Main!L491)","v":""},{"$f":"IF(I993=\"\",\"\",Main!M491)","v":""},{"$f":"IF(Main!N491=\"\",\"\",Main!N491)","v":""},null,"",{"$f":"K993","v":""}]
[{"$f":"IF(K995=\"\",\"\",SUM($L$18:L995))","v":""},{"$f":"IF(I995=\"\",\"\",CONCATENATE(Main!C492,\", \",Main!D492,IF(Main!F492>0,CONCATENATE(\", \",Main!F492),\"\")))","v":""},null,null,{"$f":"IF(I994=\"\",\"\",Main!O492)","v":""},{"$f":"IF(I994=\"\",\"\",Main!P492)","v":""},{"$f":"IF(I994=\"\",\"\",Main!Q492)","v":""},{"$f":"IF(I994=\"\",\"\",Main!R492)","v":""},{"$f":"IF(Main!S492=\"\",\"\",Main!S492)","v":""},null,""]
[null,null,null,null,{"$f":"IF(I995=\"\",\"\",Main!J492)","v":""},{"$f":"IF(I995=\"\",\"\",Main!K492)","v":""},{"$f":"IF(I995=\"\",\"\",Main!L492)","v":""},{"$f":"IF(I995=\"\",\"\",Main!M492)","v":""},{"$f":"IF(Main!N492=\"\",\"\",Main!N492)","v":""},null,"",{"$f":"K995","v":""}]
[{"$f":"IF(K997=\"\",\"\",SUM($L$18:L997))","v":""},{"$f":"IF(I997=\"\",\"\",CONCATENATE(Main!C493,\", \",Main!D493,IF(Main!F493>0,CONCATENATE(\", \",Main!F493),\"\")))","v":""},null,null,{"$f":"IF(I996=\"\",\"\",Main!O493)","v":""},{"$f":"IF(I996=\"\",\"\",Main!P493)","v":""},{"$f":"IF(I996=\"\",\"\",Main!Q493)","v":""},{"$f":"IF(I996=\"\",\"\",Main!R493)","v":""},{"$f":"IF(Main!S493=\"\",\"\",Main!S493)","v":""},null,""]
[null,null,null,null,{"$f":"IF(I997=\"\",\"\",Main!J493)","v":""},{"$f":"IF(I997=\"\",\"\",Main!K493)","v":""},{"$f":"IF(I997=\"\",\"\",Main!L493)","v":""},{"$f":"IF(I997=\"\",\"\",Main!M493)","v":""},{"$f":"IF(Main!N493=\"\",\"\",Main!N493)","v":""},null,"",{"$f":"K997","v":""}]
[{"$f":"IF(K999=\"\",\"\",SUM($L$18:L999))","v":""},{"$f":"IF(I999=\"\",\"\",CONCATENATE(Main!C494,\", \",Main!D494,IF(Main!F494>0,CONCATENATE(\", \",Main!F494),\"\")))","v":""},null,null,{"$f":"IF(I998=\"\",\"\",Main!O494)","v":""},{"$f":"IF(I998=\"\",\"\",Main!P494)","v":""},{"$f":"IF(I998=\"\",\"\",Main!Q494)","v":""},{"$f":"IF(I998=\"\",\"\",Main!R494)","v":""},{"$f":"IF(Main!S494=\"\",\"\",Main!S494)","v":""},null,""]
[null,null,null,null,{"$f":"IF(I999=\"\",\"\",Main!J494)","v":""},{"$f":"IF(I999=\"\",\"\",Main!K494)","v":""},{"$f":"IF(I999=\"\",\"\",Main!L494)","v":""},{"$f":"IF(I999=\"\",\"\",Main!M494)","v":""},{"$f":"IF(Main!N494=\"\",\"\",Main!N494)","v":""},null,"",{"$f":"K999","v":""}]
[{"$f":"IF(K1001=\"\",\"\",SUM($L$18:L1001))","v":""},{"$f":"IF(I1001=\"\",\"\",CONCATENATE(Main!C495,\", \",Main!D495,IF(Main!F495>0,CONCATENATE(\", \",Main!F495),\"\")))","v":""},null,null,{"$f":"IF(I1000=\"\",\"\",Main!O495)","v":""},{"$f":"IF(I1000=\"\",\"\",Main!P495)","v":""},{"$f":"IF(I1000=\"\",\"\",Main!Q495)","v":""},{"$f":"IF(I1000=\"\",\"\",Main!R495)","v":""},{"$f":"IF(Main!S495=\"\",\"\",Main!S495)","v":""},null,""]
[null,null,null,null,{"$f":"IF(I1001=\"\",\"\",Main!J495)","v":""},{"$f":"IF(I1001=\"\",\"\",Main!K495)","v":""},{"$f":"IF(I1001=\"\",\"\",Main!L495)","v":""},{"$f":"IF(I1001=\"\",\"\",Main!M495)","v":""},{"$f":"IF(Main!N495=\"\",\"\",Main!N495)","v":""},null,"",{"$f":"K1001","v":""}]
[{"$f":"IF(K1003=\"\",\"\",SUM($L$18:L1003))","v":""},{"$f":"IF(I1003=\"\",\"\",CONCATENATE(Main!C496,\", \",Main!D496,IF(Main!F496>0,CONCATENATE(\", \",Main!F496),\"\")))","v":""},null,null,{"$f":"IF(I1002=\"\",\"\",Main!O496)","v":""},{"$f":"IF(I1002=\"\",\"\",Main!P496)","v":""},{"$f":"IF(I1002=\"\",\"\",Main!Q496)","v":""},{"$f":"IF(I1002=\"\",\"\",Main!R496)","v":""},{"$f":"IF(Main!S496=\"\",\"\",Main!S496)","v":""},null,""]
[null,null,null,null,{"$f":"IF(I1003=\"\",\"\",Main!J496)","v":""},{"$f":"IF(I1003=\"\",\"\",Main!K496)","v":""},{"$f":"IF(I1003=\"\",\"\",Main!L496)","v":""},{"$f":"IF(I1003=\"\",\"\",Main!M496)","v":""},{"$f":"IF(Main!N496=\"\",\"\",Main!N496)","v":""},null,"",{"$f":"K1003","v":""}]
[{"$f":"IF(K1005=\"\",\"\",SUM($L$18:L1005))","v":""},{"$f":"IF(I1005=\"\",\"\",CONCATENATE(Main!C497,\", \",Main!D497,IF(Main!F497>0,CONCATENATE(\", \",Main!F497),\"\")))","v":""},null,null,{"$f":"IF(I1004=\"\",\"\",Main!O497)","v":""},{"$f":"IF(I1004=\"\",\"\",Main!P497)","v":""},{"$f":"IF(I1004=\"\",\"\",Main!Q497)","v":""},{"$f":"IF(I1004=\"\",\"\",Main!R497)","v":""},{"$f":"IF(Main!S497=\"\",\"\",Main!S497)","v":""},null,""]
[null,null,null,null,{"$f":"IF(I1005=\"\",\"\",Main!J497)","v":""},{"$f":"IF(I1005=\"\",\"\",Main!K497)","v":""},{"$f":"IF(I1005=\"\",\"\",Main!L497)","v":""},{"$f":"IF(I1005=\"\",\"\",Main!M497)","v":""},{"$f":"IF(Main!N497=\"\",\"\",Main!N497)","v":""},null,"",{"$f":"K1005","v":""}]
[{"$f":"IF(K1007=\"\",\"\",SUM($L$18:L1007))","v":""},{"$f":"IF(I1007=\"\",\"\",CONCATENATE(Main!C498,\", \",Main!D498,IF(Main!F498>0,CONCATENATE(\", \",Main!F498),\"\")))","v":""},null,null,{"$f":"IF(I1006=\"\",\"\",Main!O498)","v":""},{"$f":"IF(I1006=\"\",\"\",Main!P498)","v":""},{"$f":"IF(I1006=\"\",\"\",Main!Q498)","v":""},{"$f":"IF(I1006=\"\",\"\",Main!R498)","v":""},{"$f":"IF(Main!S498=\"\",\"\",Main!S498)","v":""},null,""]
[null,null,null,null,{"$f":"IF(I1007=\"\",\"\",Main!J498)","v":""},{"$f":"IF(I1007=\"\",\"\",Main!K498)","v":""},{"$f":"IF(I1007=\"\",\"\",Main!L498)","v":""},{"$f":"IF(I1007=\"\",\"\",Main!M498)","v":""},{"$f":"IF(Main!N498=\"\",\"\",Main!N498)","v":""},null,"",{"$f":"K1007","v":""}]
[{"$f":"IF(K1009=\"\",\"\",SUM($L$18:L1009))","v":""},{"$f":"IF(I1009=\"\",\"\",CONCATENATE(Main!C499,\", \",Main!D499,IF(Main!F499>0,CONCATENATE(\", \",Main!F499),\"\")))","v":""},null,null,{"$f":"IF(I1008=\"\",\"\",Main!O499)","v":""},{"$f":"IF(I1008=\"\",\"\",Main!P499)","v":""},{"$f":"IF(I1008=\"\",\"\",Main!Q499)","v":""},{"$f":"IF(I1008=\"\",\"\",Main!R499)","v":""},{"$f":"IF(Main!S499=\"\",\"\",Main!S499)","v":""},null,""]
[null,null,null,null,{"$f":"IF(I1009=\"\",\"\",Main!J499)","v":""},{"$f":"IF(I1009=\"\",\"\",Main!K499)","v":""},{"$f":"IF(I1009=\"\",\"\",Main!L499)","v":""},{"$f":"IF(I1009=\"\",\"\",Main!M499)","v":""},{"$f":"IF(Main!N499=\"\",\"\",Main!N499)","v":""},null,"",{"$f":"K1009","v":""}]
[{"$f":"IF(K1011=\"\",\"\",SUM($L$18:L1011))","v":""},{"$f":"IF(I1011=\"\",\"\",CONCATENATE(Main!C500,\", \",Main!D500,IF(Main!F500>0,CONCATENATE(\", \",Main!F500),\"\")))","v":""},null,null,{"$f":"IF(I1010=\"\",\"\",Main!O500)","v":""},{"$f":"IF(I1010=\"\",\"\",Main!P500)","v":""},{"$f":"IF(I1010=\"\",\"\",Main!Q500)","v":""},{"$f":"IF(I1010=\"\",\"\",Main!R500)","v":""},{"$f":"IF(Main!S500=\"\",\"\",Main!S500)","v":""},null,""]
[null,null,null,null,{"$f":"IF(I1011=\"\",\"\",Main!J500)","v":""},{"$f":"IF(I1011=\"\",\"\",Main!K500)","v":""},{"$f":"IF(I1011=\"\",\"\",Main!L500)","v":""},{"$f":"IF(I1011=\"\",\"\",Main!M500)","v":""},{"$f":"IF(Main!N500=\"\",\"\",Main!N500)","v":""},null,"",{"$f":"K1011","v":""}]
[{"$f":"IF(K1013=\"\",\"\",SUM($L$18:L1013))","v":""},{"$f":"IF(I1013=\"\",\"\",CONCATENATE(Main!C501,\", \",Main!D501,IF(Main!F501>0,CONCATENATE(\", \",Main!F501),\"\")))","v":""},null,null,{"$f":"IF(I1012=\"\",\"\",Main!O501)","v":""},{"$f":"IF(I1012=\"\",\"\",Main!P501)","v":""},{"$f":"IF(I1012=\"\",\"\",Main!Q501)","v":""},{"$f":"IF(I1012=\"\",\"\",Main!R501)","v":""},{"$f":"IF(Main!S501=\"\",\"\",Main!S501)","v":""},null,""]
[null,null,null,null,{"$f":"IF(I1013=\"\",\"\",Main!J501)","v":""},{"$f":"IF(I1013=\"\",\"\",Main!K501)","v":""},{"$f":"IF(I1013=\"\",\"\",Main!L501)","v":""},{"$f":"IF(I1013=\"\",\"\",Main!M501)","v":""},{"$f":"IF(Main!N501=\"\",\"\",Main!N501)","v":""},null,"",{"$f":"K1013","v":""}]
[{"$f":"IF(K1015=\"\",\"\",SUM($L$18:L1015))","v":""},{"$f":"IF(I1015=\"\",\"\",CONCATENATE(Main!C502,\", \",Main!D502,IF(Main!F502>0,CONCATENATE(\", \",Main!F502),\"\")))","v":""},null,null,{"$f":"IF(I1014=\"\",\"\",Main!O502)","v":""},{"$f":"IF(I1014=\"\",\"\",Main!P502)","v":""},{"$f":"IF(I1014=\"\",\"\",Main!Q502)","v":""},{"$f":"IF(I1014=\"\",\"\",Main!R502)","v":""},{"$f":"IF(Main!S502=\"\",\"\",Main!S502)","v":""},null,""]
[null,null,null,null,{"$f":"IF(I1015=\"\",\"\",Main!J502)","v":""},{"$f":"IF(I1015=\"\",\"\",Main!K502)","v":""},{"$f":"IF(I1015=\"\",\"\",Main!L502)","v":""},{"$f":"IF(I1015=\"\",\"\",Main!M502)","v":""},{"$f":"IF(Main!N502=\"\",\"\",Main!N502)","v":""},null,"",{"$f":"K1015","v":""}]
[{"$f":"IF(K1017=\"\",\"\",SUM($L$18:L1017))","v":""},{"$f":"IF(I1017=\"\",\"\",CONCATENATE(Main!C503,\", \",Main!D503,IF(Main!F503>0,CONCATENATE(\", \",Main!F503),\"\")))","v":""},null,null,{"$f":"IF(I1016=\"\",\"\",Main!O503)","v":""},{"$f":"IF(I1016=\"\",\"\",Main!P503)","v":""},{"$f":"IF(I1016=\"\",\"\",Main!Q503)","v":""},{"$f":"IF(I1016=\"\",\"\",Main!R503)","v":""},{"$f":"IF(Main!S503=\"\",\"\",Main!S503)","v":""},null,""]
[null,null,null,null,{"$f":"IF(I1017=\"\",\"\",Main!J503)","v":""},{"$f":"IF(I1017=\"\",\"\",Main!K503)","v":""},{"$f":"IF(I1017=\"\",\"\",Main!L503)","v":""},{"$f":"IF(I1017=\"\",\"\",Main!M503)","v":""},{"$f":"IF(Main!N503=\"\",\"\",Main!N503)","v":""},null,"",{"$f":"K1017","v":""}]
[{"$f":"CONCATENATE(\" Total Amount Rs : \",I1018,\" /- ( Rupees: \",Info!W66,\" Only )\")","v":" Total Amount Rs : 371000 /- ( Rupees: THREE  LAKHS  AND SEVENTY ONE THOUSAND   Only )"},null,null,null,null,null,null,null,{"$f":"SUBTOTAL(109,I18:I1017)","v":371000},null,1]
[null,null,null,null,null,null,null,null,null,null,1]
[{"$f":"CONCATENATE(\"                    Sanctioned  This Total Reimbursement of tuition fee  Amount Rs : \",I1018,\" / -  (Rupees : \",UPPER(Info!W66), \"ONLY )  are debiting the exependiture Under the salary head of account \",Info!F25,\"- \",Info!E30,\"-  014 Othe Allowances.\")","v":"                    Sanctioned  This Total Reimbursement of tuition fee  Amount Rs : 371000 / -  (Rupees : THREE  LAKHS  AND SEVENTY ONE THOUSAND  ONLY )  are debiting the exependiture Under the salary head of account 2202-01-103-00-05- 010-  014 Othe Allowances."},null,null,null,null,null,null,null,null,null,1]
[null,null,null,null,null,null,null,null,null,null,1]
["                  Certified that the Reimbursement of tuition fee now Sanctioned the Academic year (Shown Column No: 7 of the above table) has not been sanctioned and availed by the Government Servant earlier.",null,null,null,null,null,null,null,null,null,1]
[null,null,null,null,null,null,null,null,null,null,1]
["                 If any audit objections arises in future due to sanction of the above amount, such amount will recovered from Salaries of  the individual concerned in lumpsum without assigning any notice.",null,null,null,null,null,null,null,null,null,1]
[null,null,null,null,null,null,null,null,null,null,1]
["                 Certified that  necessary entry to the  effect of  above sanction has been recorded in the service register  of the incumbents.",null,null,null,null,null,null,null,null,null,1]
[null,null,null,null,null,null,null,null,null,null,1]
[null,null,null,null,null,null,null,{"$f":"Info!E3","v":"Mandal Educational Officer"},null,null,1]
[null,null,null,null,null,null,null,{"$f":"Info!E4","v":"Mandal Parishad Udayagiri"},null,null,1]
[1,null,null,null,null,null,null,null,null,null,1]
["To",null,null,null,null,null,null,null,null,null,1]
["The incumbent concerned",null,null,null,null,null,null,null,null,null,1]
["The Bill ",null,null,null,null,null,null,null,null,null,1]
[{"$f":"IF(MID(Info!E17,1,1)=\"d\",CONCATENATE(\"Copy to the Deputy Director , O/O \",Info!E17,\" \",Info!CM1,\" for Information.\"),CONCATENATE(\"Copy to the \",Info!E17,\" Officer  O/O \",Info!E17,\" \",Info!CM1,\" for Information.\"))","v":"Copy to the Sub- Treasury Officer  O/O Sub- Treasury Udayagiri for Information."},null,null,null,null,null,null,null,null,null,1]
[{"$f":"IF(Info!E3=Info!E10,\"\",CONCATENATE(\"Copy to the \",Info!E10,\", \",Info!E11,\" for taking necessary action.\"))","v":""},null,null,null,null,null,null,null,null,null,{"$f":"IF(A1035=\"\",\"\",1)","v":""}]

{"sheet":"APTC-101","index":6,"n_rows":73,"n_cols":21,"rows_kept":73,"cut":false,"hidden":false,"merged":[[63,1,63,22],[71,2,71,9],[72,2,72,9],[25,0,25,3],[45,0,45,22],[47,0,47,3],[49,0,49,3],[51,0,51,3],[54,3,54,9],[54,15,54,22],[55,15,55,22],[56,15,56,22],[21,16,21,19],[18,4,18,5],[18,7,18,9],[18,11,18,13],[19,11,19,15],[21,3,21,6],[21,11,21,13],[16,4,16,7],[16,9,16,10],[16,12,16,14],[16,16,16,17],[1,0,1,22],[4,0,4,3],[6,0,6,3],[7,0,7,3],[6,4,6,14],[10,3,10,9],[10,15,10,22],[11,15,11,22],[12,15,12,22]]}
[]
["GOVERNMENT OF ANDHRA PRADESH"]
[null,null,null,null,null,null,null,null,null,null,"PAPER TOKEN"]
[]
["STO CODE",null,null,null,{"$f":"'APTC-47'!F7","v":"0"},{"$f":"'APTC-47'!G7","v":"8"},{"$f":"'APTC-47'!H7","v":"0"},{"$f":"'APTC-47'!I7","v":"7"}]
[]
["STO NAME ",null,null,null,{"$f":"CONCATENATE(Info!E17,\" Officer , \",Info!CM1)","v":"Sub- Treasury Officer , Udayagiri"}]
["D.D.O.Code ",null,null,null,{"$f":"'APTC-47'!F9","v":"0"},{"$f":"'APTC-47'!G9","v":"8"},{"$f":"'APTC-47'!H9","v":"1"},{"$f":"'APTC-47'!I9","v":"2"},{"$f":"'APTC-47'!J9","v":"0"},{"$f":"'APTC-47'!K9","v":"3"},{"$f":"'APTC-47'!L9","v":"0"},{"$f":"'APTC-47'!M9","v":"8"},{"$f":"'APTC-47'!N9","v":"0"},{"$f":"'APTC-47'!O9","v":"2"},{"$f":"'APTC-47'!P9","v":"8"}]
[]
[]
["DDO Desig:",null,null,{"$f":"'APTC-47'!F11","v":"Mandal Educational Officer"},null,null,null,null,null,null,null,null,null,null,"DDO Office Name :",{"$f":"'APTC-47'!S16","v":"Mandal Parishad Udayagiri"}]
[]
["BANK CODE",null,null,null,{"$f":"'APTC-47'!F13","v":"3"},{"$f":"'APTC-47'!G13","v":"4"},{"$f":"'APTC-47'!H13","v":"7"},{"$f":"'APTC-47'!I13","v":"0"},null,null,null,null,null,null,"Name of the Bank :",{"$f":"'APTC-47'!S17","v":"Syndicate Bank, Udayagiri"}]
[]
[]
["Head of Account :",null,null,null,{"$f":"'APTC-47'!E20","v":"2"},{"$f":"'APTC-47'!F20","v":"2"},{"$f":"'APTC-47'!G20","v":"0"},{"$f":"'APTC-47'!H20","v":"2"},null,{"$f":"'APTC-47'!E22","v":"0"},{"$f":"'APTC-47'!F22","v":"1"},null,{"$f":"'APTC-47'!E24","v":"1"},{"$f":"'APTC-47'!F24","v":"0"},{"$f":"'APTC-47'!G24","v":"3"},null,{"$f":"'APTC-47'!E26","v":""},{"$f":"'APTC-47'!F26","v":""}]
[null,null,null,null,"(Major Head)",null,null,null,null,"(Sub-MH)",null,null,"(Minor Head)",null,null,null,"(Grp-SH)"]
[null,null,null,null,{"$f":"'APTC-47'!E28","v":"0"},{"$f":"'APTC-47'!F28","v":"5"},null,{"$f":"'APTC-47'!E30","v":"0"},{"$f":"'APTC-47'!F30","v":"1"},{"$f":"'APTC-47'!G30","v":"0"}]
[null,null,null,null,"(Sub-Head)",null,null,"(Det.Head)",null,null,null,"(Sub Det Head)"]
["Non-plan=N/Plan=P",null,null,null,{"$f":"'APTC-47'!F33","v":"N"},"Charged=C/Voted=V",null,null,null,{"$f":"'APTC-47'!N33","v":"V"},null,"Contingency Fund/MH Service Major Head",null,null,null,null,null,{"$f":"'APTC-47'!F35","v":"2"},{"$f":"'APTC-47'!G35","v":"2"},{"$f":"'APTC-47'!H35","v":"0"},{"$f":"'APTC-47'!I35","v":"2"}]
[]
["Gross Rs. ",null,null,{"$f":"'APTC-47'!H51","v":371000},null,null,null,"Deductions Rs.",null,null,null,{"$f":"'APTC-47'!H52","v":0},null,null,"Net Rs:",null,{"$f":"SUM(D22-L22)","v":371000}]
[]
[{"$f":"CONCATENATE(\" Net Rupees ( \",\"  \",'APTC-47'!B55,\" \",\")\")","v":" Net Rupees (   THREE  LAKHS  AND SEVENTY ONE THOUSAND   ONLY  )"}]
[]
["Messenger Name ",null,null,null,{"$f":"Info!E13","v":"_________________________"},null,null,null,null,null,null,null,null,"Designation : ________________________",null,null,{"$f":"Info!E14","v":"___________________"}]
["(As in APTC Form 101)"]
[]
["Specimen Signature of",null,null,null,null,null,"1)"]
["Messenger"]
[null,null,null,null,null,null,"2)"]
[null,"DDO Signature",null,null,null,null,null,null,null,"Attested",null,null,null,null,null,"STO Signature"]
[]
[]
[]
[null,null,null,null,null,null,null,null,null,"DDO Signature"]
[]
[]
[]
[]
[]
[]
[]
[]
[]
["APTC FORM 101"]
[]
["STO CODE",null,null,null,{"$f":"E5","v":"0"},{"$f":"F5","v":"8"},{"$f":"G5","v":"0"},{"$f":"H5","v":"7"}]
[]
["STO NAME ",null,null,null,{"$f":"E7","v":"Sub- Treasury Officer , Udayagiri"}]
[]
["D.D.O.Code ",null,null,null,{"$f":"E8","v":"0"},{"$f":"F8","v":"8"},"1","2","0","3","0","8","0","2","8"]
[]
[]
["DDO Desig.",null,null,{"$f":"D11","v":"Mandal Educational Officer"},null,null,null,null,null,null,null,null,null,null,"DDO Office Name :",{"$f":"P11","v":"Mandal Parishad Udayagiri"}]
[]
["BANK CODE",null,null,null,{"$f":"E13","v":"3"},{"$f":"F13","v":"4"},{"$f":"G13","v":"7"},{"$f":"H13","v":"0"},null,null,null,null,null,null,"Name of the Bank : ",{"$f":"P13","v":"Syndicate Bank, Udayagiri"}]
[]
[null,"To"]
[null,"The Branch Manager"]
[null,{"$f":"P57","v":"Syndicate Bank, Udayagiri"}]
[]
["Sir,"]
[null,{"$f":"CONCATENATE(\"Please  Pay Bill No :\",Info!E24,\"/\",Info!E22,\"  Dated:   \",Info!G24,\" ,Net R.S : \",Q22,\" /-  \",A24,\" \",\"to\",\" \",E26,\",  \",Q26,\"  \",\"for the office of the\",\"  \",P55,\"  \",\"whose specimen signature is attesed here with:\")","v":"Please  Pay Bill No :___________/2012-2013  Dated:   ____________ ,Net R.S : 371000 /-   Net Rupees (   THREE  LAKHS  AND SEVENTY ONE THOUSAND   ONLY  ) to _________________________,  ___________________  for the office of the  Mandal Parishad Udayagiri  whose specimen signature is attesed here with:"}]
[1,null,null,null,null,null,null,null,null,null,null,null,null,null,"Receieved The payment"]
[null,null,null,null,null,null,null,null,null,null,null,null,null,null,"Dt:"]
[]
[2]
[]
[null,null,null,null,null,"//Attested//"]
[null,null,null,null,null,null,null,null,null,null,null,null,null,null,"Signature of the Govt.Servant"]
[null,null,{"$f":"D55","v":"Mandal Educational Officer"},null,null,null,null,null,null,null,null,null,null,null,"Receieved The paymen"]
[null,null,{"$f":"P55","v":"Mandal Parishad Udayagiri"}]

{"sheet":"APTC-47","index":7,"n_rows":64,"n_cols":23,"rows_kept":64,"cut":false,"hidden":false,"merged":[[43,1,44,5],[54,0,61,0],[54,1,55,14],[49,7,49,14],[49,22,49,23],[50,7,50,14],[50,22,50,23],[51,7,51,14],[52,7,52,14],[46,7,46,14],[46,22,46,23],[47,7,47,14],[47,22,47,23],[48,7,48,14],[48,22,48,23],[43,7,43,14],[43,22,43,23],[44,7,44,14],[44,22,44,23],[45,7,45,14],[45,22,45,23],[45,16,45,20],[44,16,44,20],[40,7,40,14],[40,22,40,23],[41,7,41,14],[41,22,41,23],[42,7,42,14],[42,22,42,23],[29,8,29,14],[29,22,29,23],[39,7,39,14],[39,22,39,23],[30,22,30,23],[31,22,31,23],[32,22,32,23],[33,22,33,23],[34,22,34,23],[35,22,35,23],[36,22,36,23],[37,7,37,14],[37,22,37,23],[38,7,38,14],[38,22,38,23],[26,8,26,14],[26,22,26,23],[27,8,27,14],[27,22,27,23],[28,8,28,14],[28,22,28,23],[23,8,23,14],[23,22,23,23],[24,8,24,14],[24,22,24,23],[25,8,25,14],[25,22,25,23],[21,22,21,23],[22,8,22,14],[22,22,22,23],[20,8,20,14],[20,22,20,23],[1,1,1,23],[0,1,0,23],[2,0,53,0],[3,1,3,23],[4,1,4,4],[6,1,6,4],[8,1,8,4],[12,18,12,23],[13,18,13,23],[14,18,14,23],[15,18,15,23],[16,18,16,23],[17,18,17,23],[19,8,19,14],[19,22,19,23],[21,8,21,14]]}
[null,{"$f":"CONCATENATE(\"Pay able at  \",Info!E17,\" Office, \",Info!CM1,\" . \")","v":"Pay able at  Sub- Treasury Office, Udayagiri . "}]
[null,{"$f":"PROPER('Inner '!B1)","v":"Claim For Reimbursement Of Education Tution Fees To Children Of N.G.O.'S In R.P.S.-2010"}]
[{"$f":"CONCATENATE(Info!W67,\" ONLY\")","v":"THREE  LAKHS  SEVENTY ONE THOUSAND AND ONE ONLY"}]
[null,"GOVERNMENT OF ANDHRA PRADESH A.P.T.C.Form - 47"]
[null,"Pay Bill for the Month & Year",null,null,null,{"$f":"MID(CONCATENATE(IF(MONTH(Info!$E$49)<10,CONCATENATE(0,MONTH(Info!$E$49)),MONTH(Info!$E$49)),\"/\",YEAR(Info!$E$49)),1,1)","v":"0"},{"$f":"MID(CONCATENATE(IF(MONTH(Info!$E$49)<10,CONCATENATE(0,MONTH(Info!$E$49)),MONTH(Info!$E$49)),\"/\",YEAR(Info!$E$49)),2,1)","v":"4"},null,{"$f":"MID(CONCATENATE(IF(MONTH(Info!$E$49)<10,CONCATENATE(0,MONTH(Info!$E$49)),MONTH(Info!$E$49)),\"/\",YEAR(Info!$E$49)),4,1)","v":"2"},{"$f":"MID(CONCATENATE(IF(MONTH(Info!$E$49)<10,CONCATENATE(0,MONTH(Info!$E$49)),MONTH(Info!$E$49)),\"/\",YEAR(Info!$E$49)),5,1)","v":"0"},{"$f":"MID(CONCATENATE(IF(MONTH(Info!$E$49)<10,CONCATENATE(0,MONTH(Info!$E$49)),MONTH(Info!$E$49)),\"/\",YEAR(Info!$E$49)),6,1)","v":"1"},{"$f":"MID(CONCATENATE(IF(MONTH(Info!$E$49)<10,CONCATENATE(0,MONTH(Info!$E$49)),MONTH(Info!$E$49)),\"/\",YEAR(Info!$E$49)),7,1)","v":"2"}]
[]
[null,"Treasury / P.A.O Code ",null,null,null,{"$f":"MID(Info!$E$18,1,1)","v":"0"},{"$f":"MID(Info!$E$18,2,1)","v":"8"},{"$f":"MID(Info!$E$18,3,1)","v":"0"},{"$f":"MID(Info!$E$18,4,1)","v":"7"}]
[]
[null,"D.D.O.Code ",null,null,null,{"$f":"MID(Info!$E$16,1,1)","v":"0"},{"$f":"MID(Info!$E$16,2,1)","v":"8"},{"$f":"MID(Info!$E$16,3,1)","v":"1"},{"$f":"MID(Info!$E$16,4,1)","v":"2"},{"$f":"MID(Info!$E$16,5,1)","v":"0"},{"$f":"MID(Info!$E$16,6,1)","v":"3"},{"$f":"MID(Info!$E$16,7,1)","v":"0"},{"$f":"MID(Info!$E$16,8,1)","v":"8"},{"$f":"MID(Info!$E$16,9,1)","v":"0"},{"$f":"MID(Info!$E$16,10,1)","v":"2"},{"$f":"MID(Info!$E$16,11,1)","v":"8"}]
[]
[null,"DDO Designation",null,null,null,{"$f":"Info!E10","v":"Mandal Educational Officer"}]
[]
[null,"BANK CODE",null,null,null,{"$f":"MID(Info!$E$20,1,1)","v":"3"},{"$f":"MID(Info!$E$20,2,1)","v":"4"},{"$f":"MID(Info!$E$20,3,1)","v":"7"},{"$f":"MID(Info!$E$20,4,1)","v":"0"},null,null,null,null,null,null,"TAN NO:",null,":",{"$f":"Info!E21","v":"_____________"}]
[]
[null,"DDOs TBR No.",null,null,null,{"$f":"MID(Info!$E$24,1,1)","v":"_"},{"$f":"MID(Info!$E$24,2,1)","v":"_"},{"$f":"MID(Info!$E$24,3,1)","v":"_"},{"$f":"MID(Info!$E$24,4,1)","v":"_"},"/",{"$f":"Info!E22","v":"2012-2013"},null,null,"District                ",null,null,null,":",{"$f":"Info!E12","v":"Sri Pottisreeramulu Nellore"}]
[null,null,null,null,null,null,null,null,null,null,null,null,null,"DDO Office Name ",null,null,null,":",{"$f":"Info!E11","v":"Mandal Parishad Udayagiri"}]
[null,null,null,null,null,null,null,null,null,null,null,null,null,"Name of the Bank ",null,null,null,":",{"$f":"Info!E19","v":"Syndicate Bank, Udayagiri"}]
[null,null,null,null,null,null,null,null,null,null,null,null,null,null,null,null,null,null,"Permanent / Temporary"]
[null,"Head of Account",null,null,null,null,null,null,null,null,null,null,null,null,null,"Deducations",null,null,null,null,null,null,"Amount"]
[null,"Major Head ",null,null,{"$f":"MID(Info!$E$25,1,1)","v":"2"},{"$f":"MID(Info!$E$25,2,1)","v":"2"},{"$f":"MID(Info!$E$25,3,1)","v":"0"},{"$f":"MID(Info!$E$25,4,1)","v":"2"},{"$f":"Info!G25","v":"General Education"},null,null,null,null,null,null,1,"G.P.F/AIS/PF",null,null,null,null,"Rs.",{"$f":"IF(Main!C874=1,Main!G851,\"\")","v":""}]
[]
[null,"Sub Major",null,null,{"$f":"MID(Info!$E$26,1,1)","v":"0"},{"$f":"MID(Info!$E$26,2,1)","v":"1"},null,null,{"$f":"Info!F26","v":"Elementary Education"},null,null,null,null,null,null,2,"APGLI",null,null,null,null,"Rs."]
[]
[null,"Minor Head ",null,null,{"$f":"MID(Info!$E$27,1,1)","v":"1"},{"$f":"MID(Info!$E$27,2,1)","v":"0"},{"$f":"MID(Info!$E$27,3,1)","v":"3"},null,{"$f":"Info!F27","v":"Assistance to Local Bodies for Primary Education"},null,null,null,null,null,null,3,"Group Insurance/AIS",null,null,null,null,"Rs."]
[]
[null,"Group Sub-Head",null,null,{"$f":"MID(Info!$E$28,1,1)","v":""},{"$f":"MID(Info!$E$28,2,1)","v":""},null,null,{"$f":"CONCATENATE(Info!F28)","v":""},null,null,null,null,null,null,4,"Professional Tax",null,null,null,null,"Rs.",{"$f":"Main!G853","v":0}]
[]
[null,"Sub Head",null,null,{"$f":"MID(Info!$E$29,1,1)","v":"0"},{"$f":"MID(Info!$E$29,2,1)","v":"5"},null,null,{"$f":"Info!F29","v":"Teaching Grants to Mandal Praja Parishads"},null,null,null,null,null,null,5,"HOUSE RENT",null,null,null,null,"Rs."]
[]
[null,"Detail Head",null,null,{"$f":"MID(Info!$E$30,1,1)","v":"0"},{"$f":"MID(Info!$E$30,2,1)","v":"1"},{"$f":"MID(Info!$E$30,3,1)","v":"0"},null,{"$f":"Info!F30","v":"Salaries"},null,null,null,null,null,null,6,"Festival Adv.&APCO Adv.",null,null,null,null,"Rs."]
[null,null,null,null,null,null,null,null,null,null,null,null,null,null,null,7,"Edn.A",null,null,null,null,"Rs."]
[null,null,null,null,null,null,null,null,null,null,null,null,null,null,null,8,"HBA(P)",null,null,null,null,"Rs."]
[null,"Non-plan=N/Plan=P",null,null,null,{"$f":"MID(Info!$E$31,1,1)","v":"N"},"Charged=C/Voted=V",null,null,null,null,null,null,{"$f":"MID(Info!$E$32,1,1)","v":"V"},null,9,"HBA(I)",null,null,null,null,"Rs."]
[null,"Contingency Fund/MH",null,null,null,null,null,null,null,null,null,null,null,null,null,10,"Car Adv.(P)",null,null,null,null,"Rs."]
[null,"Service Major Head",null,null,null,{"$f":"MID(Info!$E$33,1,1)","v":"2"},{"$f":"MID(Info!$E$33,2,1)","v":"2"},{"$f":"MID(Info!$E$33,3,1)","v":"0"},{"$f":"MID(Info!$E$33,4,1)","v":"2"},null,null,null,null,null,null,11,"Car Adv.(I)",null,null,null,null,"Rs."]
[null,null,null,null,null,null,null,null,null,null,null,null,null,null,null,12,"Motor Cycle Adv.(P)",null,null,null,null,"Rs."]
[null,null,null,null,null,null,null,null,null,null,null,null,null,null,null,13,"Motor Cycle Adv.(I)",null,null,null,null,"Rs."]
[null,"011 - Pay",null,null,null,null,"Rs.",{"$f":"SUM('Inner '!R446)","v":0},null,null,null,null,null,null,null,14,"Cycle Adv.",null,null,null,null,"Rs."]
[null,"012- Allowances",null,null,null,null,"Rs.",{"$f":"SUM('Inner '!S446,'Inner '!T446,'Inner '!U446,'Inner '!V446,'Inner '!Y446)","v":0},null,null,null,null,null,null,null,15,"Marriage Adv.(P)",null,null,null,null,"Rs."]
[null,"013 - Dearness Allowances",null,null,null,null,"Rs.",{"$f":"'Inner '!W446","v":0},null,null,null,null,null,null,null,16,"Marriage Adv.(I)",null,null,null,null,"Rs."]
[null,"016- H.R.A",null,null,null,null,"Rs.",{"$f":"'Inner '!X446","v":0},null,null,null,null,null,null,null,17,"INCOME TAX",null,null,null,null,"Rs."]
[null,"015-IR",null,null,null,null,"Rs.",null,null,null,null,null,null,null,null,18,"Class IV GPF- D.T.O",null,null,null,null,"Rs.",{"$f":"IF(Main!C874=3,Main!G851,\"\")","v":""}]
[null,"018- Surender Leave",null,null,null,null,"Rs.",null,null,null,null,null,null,null,null,19,"EWF Loan",null,null,null,null,"Rs."]
[null,"014- Other Allowances\n( Reimbursement of education tution fees )",null,null,null,null,"Rs.",{"$f":"'Inner '!M505","v":371000},null,null,null,null,null,null,null,20,"ZPPF",null,null,null,null,"Rs.",{"$f":"IF(Main!C874=2,Main!G851,\"\")","v":""}]
[null,null,null,null,null,null,"Rs.",null,null,null,null,null,null,null,null,21,"Contributory Pension Scheme",null,null,null,null,"Rs.",{"$f":"IF(Main!C874=4,Main!G851,\"\")","v":""}]
[null,null,null,null,null,null,"Rs.",null,null,null,null,null,null,null,null,22,"Complsory Saving Scheme",null,null,null,null,"Rs.",{"$f":"IF(Main!C874=4,Main!G852,IF(Main!C874=5,Main!G851,\"\"))","v":""}]
[null,null,null,null,null,null,"Rs."]
[null,null,null,null,null,null,"Rs."]
[null,null,null,null,null,null,"Rs."]
[null,null,null,null,null,null,"Rs.",null,null,null,null,null,null,null,null,"Total Govt. Deducations",null,null,null,null,null,"Rs.",{"$f":"SUM(W20:W49)","v":0}]
[null,"Gross Total ",null,null,null,null,"Rs.",{"$f":"SUM(H38:H45)","v":371000},null,null,null,null,null,null,null,"Total Non-Govt.Deducations",null,null,null,null,null,"Rs.",{"$f":"IF(Main!C874=7,'Inner '!AB446,\"\")","v":""}]
[null,"Less Govt. Deductions",null,null,null,null,"Rs.",{"$f":"SUM(W50)","v":0}]
[null,"A.G.Nett Amount",null,null,null,null,"Rs.",{"$f":"SUM(H51-H52)","v":371000}]
[null,"A.G.Nett Amount in words : Rupees"]
["Under Rupees :",{"$f":"CONCATENATE(Info!W66,\" ONLY \")","v":"THREE  LAKHS  AND SEVENTY ONE THOUSAND   ONLY "}]
[null,null,null,null,null,null,null,null,null,null,null,null,null,null,null,null,null,null,null,null,null,"Drawing Officer"]
[null,"FOR USE IN TREASURY / PAY & ACCOUNTS OFFICE ONLY"]
[null,"Pay","_________________ ",null,null,null,null,"(Rupees ______________________________________________________"]
[null,"_______________________________________________________ Only) by Cash / Cheque / Draft / "]
[null,"Account credit as under and Rs.________________ (Rupees ___________________________________"]
[null,"____________________________________________ only) by adjustment."]
[null,null,null,null,"1.Rs._________________ by transfer credit to the SB Accounts of the Employees (as per Annexure-I)"]
[null,null,null,null,"2.Rs._________________ by transfer credit to the DDO Account towards of Non-Govt.Deducations."]
[null,null,null,null,null,null,null,null,null,null,null,null,null,null,null,null,null,"Treasury Officer / Pay & Accounts Officer"]

{"sheet":"Inner ","index":8,"n_rows":527,"n_cols":41,"rows_kept":527,"cut":false,"hidden":false,"merged":[[508,1,508,37],[509,1,509,37],[2,1,2,4],[0,1,0,30],[504,0,504,4],[506,0,506,37]]}
[null,{"$f":"UPPER(\"CLAIM FOR Reimbursement of education tution fees TO CHILDREN OF N.G.O.'S in R.P.S.-2010\")","v":"CLAIM FOR REIMBURSEMENT OF EDUCATION TUTION FEES TO CHILDREN OF N.G.O.'S IN R.P.S.-2010"},null,null,null,null,null,null,null,null,null,null,null,null,null,null,null,null,null,null,null,null,null,null,null,null,null,null,null,null,null,null,{"$f":"IF(P329=0,\"\",IF(N332=4,0,IF(Main!C874=4,SUM(ROUND(SUM(D329,I329)*10%,0)-ROUND(SUM(P333,ROUND(P333*J333%,0))*10%,0))*SUM(O329,P329),0)))","v":""}]
["Sl No","ID No","Name of The Employee","Designation","Scale of Pay","PAY","P.P","SPL.PAY","D.A","H.R.A","C.C.A/R.A","H.M.A","REIMBURSEMENT OF TUITION FEE","I.R","GROSS","G.P.F","G.P.F.Loan","A.P.G.L.I","A.P.G.L.I.Loan","G.I.S","P.TAX","House Rent","F.A","E.A","HBA (P)","HBA (I)","Vehicle Loan","Income. Tax","E.W.F","Class IV GPF-DTO","Z.P.P.F","Z.P.PF.Loan","CPS","GOVT.TOTAL DEDUCTIONS","A.G.NET","Non Govt.Deductions","NET PAID","REMARKS",null,"FILTER POINT",{"$f":"EXACT(AK505,Pro!I1018)","v":true}]
[1,2,null,null,null,3,4,5,6,7,8,9,10,11,12,13,14,15,16,17,18,19,20,21,22,23,24,25,26,27,28,29,30,31,32,33,34,35,null,"filter"]
[{"$f":"IF(AN4=\"\",\"\",SUM($AN$4:AN4))","v":1},{"$f":"IF(AN4=\"\",\"\",Main!B4)","v":"0807541"},{"$f":"IF(AN4=\"\",\"\",Main!C4)","v":"K.V.RAVANAMMA"},{"$f":"IF(AN4=\"\",\"\",Main!D4)","v":"SA (English)"},{"$f":"IF(AN4=\"\",\"\",Main!E4)","v":"15280-40510"},null,null,null,null,null,null,null,{"$f":"IF(AN4=\"\",\"\",SUM(Main!N4,Main!S4))","v":2000},null,{"$f":"SUM(F4:N4)","v":2000},null,null,null,null,null,null,null,null,null,null,null,null,null,null,null,null,null,null,{"$f":"SUM(P4:AG4)","v":0},{"$f":"O4-AH4","v":2000},null,{"$f":"AI4-AJ4","v":2000},null,null,{"$f":"IF(SUM(Main!N4,Main!S4)>0,1,\"\")","v":1}]
[{"$f":"IF(AN5=\"\",\"\",SUM($AN$4:AN5))","v":2},{"$f":"IF(AN5=\"\",\"\",Main!B5)","v":"0807541"},{"$f":"IF(AN5=\"\",\"\",Main!C5)","v":"K.V.RAVANAMMA"},{"$f":"IF(AN5=\"\",\"\",Main!D5)","v":"SA (English)"},{"$f":"IF(AN5=\"\",\"\",Main!E5)","v":"15280-40510"},null,null,null,null,null,null,null,{"$f":"IF(AN5=\"\",\"\",SUM(Main!N5,Main!S5))","v":1000},null,{"$f":"SUM(F5:N5)","v":1000},null,null,null,null,null,null,null,null,null,null,null,null,null,null,null,null,null,null,{"$f":"SUM(P5:AG5)","v":0},{"$f":"O5-AH5","v":1000},null,{"$f":"AI5-AJ5","v":1000},null,null,{"$f":"IF(SUM(Main!N5,Main!S5)>0,1,\"\")","v":1}]
[{"$f":"IF(AN6=\"\",\"\",SUM($AN$4:AN6))","v":3},{"$f":"IF(AN6=\"\",\"\",Main!B6)","v":"0807541"},{"$f":"IF(AN6=\"\",\"\",Main!C6)","v":"K.V.RAVANAMMA"},{"$f":"IF(AN6=\"\",\"\",Main!D6)","v":"SA (English)"},{"$f":"IF(AN6=\"\",\"\",Main!E6)","v":"15280-40510"},null,null,null,null,null,null,null,{"$f":"IF(AN6=\"\",\"\",SUM(Main!N6,Main!S6))","v":1000},null,1000,null,null,null,null,null,null,null,null,null,null,null,null,null,null,null,null,null,null,0,1000,null,1000,null,null,{"$f":"IF(SUM(Main!N6,Main!S6)>0,1,\"\")","v":1}]
[{"$f":"IF(AN7=\"\",\"\",SUM($AN$4:AN7))","v":4},{"$f":"IF(AN7=\"\",\"\",Main!B7)","v":"0807541"},{"$f":"IF(AN7=\"\",\"\",Main!C7)","v":"K.V.RAVANAMMA"},{"$f":"IF(AN7=\"\",\"\",Main!D7)","v":"SA (English)"},{"$f":"IF(AN7=\"\",\"\",Main!E7)","v":"15280-40510"},null,null,null,null,null,null,null,{"$f":"IF(AN7=\"\",\"\",SUM(Main!N7,Main!S7))","v":1000},null,1000,null,null,null,null,null,null,null,null,null,null,null,null,null,null,null,null,null,null,0,1000,null,1000,null,null,{"$f":"IF(SUM(Main!N7,Main!S7)>0,1,\"\")","v":1}]
[{"$f":"IF(AN8=\"\",\"\",SUM($AN$4:AN8))","v":5},{"$f":"IF(AN8=\"\",\"\",Main!B8)","v":"0807541"},{"$f":"IF(AN8=\"\",\"\",Main!C8)","v":"K.V.RAVANAMMA"},{"$f":"IF(AN8=\"\",\"\",Main!D8)","v":"SA (English)"},{"$f":"IF(AN8=\"\",\"\",Main!E8)","v":"15280-40510"},null,null,null,null,null,null,null,{"$f":"IF(AN8=\"\",\"\",SUM(Main!N8,Main!S8))","v":1000},null,1000,null,null,null,null,null,null,null,null,null,null,null,null,null,null,null,null,null,null,0,1000,null,1000,null,null,{"$f":"IF(SUM(Main!N8,Main!S8)>0,1,\"\")","v":1}]
[{"$f":"IF(AN9=\"\",\"\",SUM($AN$4:AN9))","v":6},{"$f":"IF(AN9=\"\",\"\",Main!B9)","v":"0807541"},{"$f":"IF(AN9=\"\",\"\",Main!C9)","v":"K.V.RAVANAMMA"},{"$f":"IF(AN9=\"\",\"\",Main!D9)","v":"SA (English)"},{"$f":"IF(AN9=\"\",\"\",Main!E9)","v":"15280-40510"},null,null,null,null,null,null,null,{"$f":"IF(AN9=\"\",\"\",SUM(Main!N9,Main!S9))","v":1000},null,1000,null,null,null,null,null,null,null,null,null,null,null,null,null,null,null,null,null,null,0,1000,null,1000,null,null,{"$f":"IF(SUM(Main!N9,Main!S9)>0,1,\"\")","v":1}]
[{"$f":"IF(AN10=\"\",\"\",SUM($AN$4:AN10))","v":7},{"$f":"IF(AN10=\"\",\"\",Main!B10)","v":"0807541"},{"$f":"IF(AN10=\"\",\"\",Main!C10)","v":"K.V.RAVANAMMA"},{"$f":"IF(AN10=\"\",\"\",Main!D10)","v":"SA (English)"},{"$f":"IF(AN10=\"\",\"\",Main!E10)","v":"15280-40510"},null,null,null,null,null,null,null,{"$f":"IF(AN10=\"\",\"\",SUM(Main!N10,Main!S10))","v":1000},null,1000,null,null,null,null,null,null,null,null,null,null,null,null,null,null,null,null,null,null,0,1000,null,1000,null,null,{"$f":"IF(SUM(Main!N10,Main!S10)>0,1,\"\")","v":1}]
[{"$f":"IF(AN11=\"\",\"\",SUM($AN$4:AN11))","v":8},{"$f":"IF(AN11=\"\",\"\",Main!B11)","v":"0807541"},{"$f":"IF(AN11=\"\",\"\",Main!C11)","v":"K.V.RAVANAMMA"},{"$f":"IF(AN11=\"\",\"\",Main!D11)","v":"SA (English)"},{"$f":"IF(AN11=\"\",\"\",Main!E11)","v":"15280-40510"},null,null,null,null,null,null,null,{"$f":"IF(AN11=\"\",\"\",SUM(Main!N11,Main!S11))","v":1000},null,1000,null,null,null,null,null,null,null,null,null,null,null,null,null,null,null,null,null,null,0,1000,null,1000,null,null,{"$f":"IF(SUM(Main!N11,Main!S11)>0,1,\"\")","v":1}]
[{"$f":"IF(AN12=\"\",\"\",SUM($AN$4:AN12))","v":9},{"$f":"IF(AN12=\"\",\"\",Main!B12)","v":"0807541"},{"$f":"IF(AN12=\"\",\"\",Main!C12)","v":"K.V.RAVANAMMA"},{"$f":"IF(AN12=\"\",\"\",Main!D12)","v":"SA (English)"},{"$f":"IF(AN12=\"\",\"\",Main!E12)","v":"15280-40510"},null,null,null,null,null,null,null,{"$f":"IF(AN12=\"\",\"\",SUM(Main!N12,Main!S12))","v":1000},null,{"$f":"SUM(F12:N12)","v":1000},null,null,null,null,null,null,null,null,null,null,null,null,null,null,null,null,null,null,{"$f":"SUM(P12:AG12)","v":0},{"$f":"O12-AH12","v":1000},null,{"$f":"AI12-AJ12","v":1000},null,null,{"$f":"IF(SUM(Main!N12,Main!S12)>0,1,\"\")","v":1}]
[{"$f":"IF(AN13=\"\",\"\",SUM($AN$4:AN13))","v":10},{"$f":"IF(AN13=\"\",\"\",Main!B13)","v":"0807541"},{"$f":"IF(AN13=\"\",\"\",Main!C13)","v":"K.V.RAVANAMMA"},{"$f":"IF(AN13=\"\",\"\",Main!D13)","v":"SA (English)"},{"$f":"IF(AN13=\"\",\"\",Main!E13)","v":"15280-40510"},null,null,null,null,null,null,null,{"$f":"IF(AN13=\"\",\"\",SUM(Main!N13,Main!S13))","v":1000},null,1000,null,null,null,null,null,null,null,null,null,null,null,null,null,null,null,null,null,null,0,1000,null,1000,null,null,{"$f":"IF(SUM(Main!N13,Main!S13)>0,1,\"\")","v":1}]
[{"$f":"IF(AN14=\"\",\"\",SUM($AN$4:AN14))","v":11},{"$f":"IF(AN14=\"\",\"\",Main!B14)","v":"0807541"},{"$f":"IF(AN14=\"\",\"\",Main!C14)","v":"K.V.RAVANAMMA"},{"$f":"IF(AN14=\"\",\"\",Main!D14)","v":"SA (English)"},{"$f":"IF(AN14=\"\",\"\",Main!E14)","v":"15280-40510"},null,null,null,null,null,null,null,{"$f":"IF(AN14=\"\",\"\",SUM(Main!N14,Main!S14))","v":2000},null,2000,null,null,null,null,null,null,null,null,null,null,null,null,null,null,null,null,null,null,0,2000,null,2000,null,null,{"$f":"IF(SUM(Main!N14,Main!S14)>0,1,\"\")","v":1}]
[{"$f":"IF(AN15=\"\",\"\",SUM($AN$4:AN15))","v":12},{"$f":"IF(AN15=\"\",\"\",Main!B15)","v":"0807541"},{"$f":"IF(AN15=\"\",\"\",Main!C15)","v":"K.V.RAVANAMMA"},{"$f":"IF(AN15=\"\",\"\",Main!D15)","v":"SA (English)"},{"$f":"IF(AN15=\"\",\"\",Main!E15)","v":"15280-40510"},null,null,null,null,null,null,null,{"$f":"IF(AN15=\"\",\"\",SUM(Main!N15,Main!S15))","v":2000},null,2000,null,null,null,null,null,null,null,null,null,null,null,null,null,null,null,null,null,null,0,2000,null,2000,null,null,{"$f":"IF(SUM(Main!N15,Main!S15)>0,1,\"\")","v":1}]
[{"$f":"IF(AN16=\"\",\"\",SUM($AN$4:AN16))","v":13},{"$f":"IF(AN16=\"\",\"\",Main!B16)","v":"0807541"},{"$f":"IF(AN16=\"\",\"\",Main!C16)","v":"K.V.RAVANAMMA"},{"$f":"IF(AN16=\"\",\"\",Main!D16)","v":"SA (English)"},{"$f":"IF(AN16=\"\",\"\",Main!E16)","v":"15280-40510"},null,null,null,null,null,null,null,{"$f":"IF(AN16=\"\",\"\",SUM(Main!N16,Main!S16))","v":2000},null,2000,null,null,null,null,null,null,null,null,null,null,null,null,null,null,null,null,null,null,0,2000,null,2000,null,null,{"$f":"IF(SUM(Main!N16,Main!S16)>0,1,\"\")","v":1}]
[{"$f":"IF(AN17=\"\",\"\",SUM($AN$4:AN17))","v":14},{"$f":"IF(AN17=\"\",\"\",Main!B17)","v":"0807541"},{"$f":"IF(AN17=\"\",\"\",Main!C17)","v":"K.V.RAVANAMMA"},{"$f":"IF(AN17=\"\",\"\",Main!D17)","v":"SA (English)"},{"$f":"IF(AN17=\"\",\"\",Main!E17)","v":"15280-40510"},null,null,null,null,null,null,null,{"$f":"IF(AN17=\"\",\"\",SUM(Main!N17,Main!S17))","v":2000},null,2000,null,null,null,null,null,null,null,null,null,null,null,null,null,null,null,null,null,null,0,2000,null,2000,null,null,{"$f":"IF(SUM(Main!N17,Main!S17)>0,1,\"\")","v":1}]
[{"$f":"IF(AN18=\"\",\"\",SUM($AN$4:AN18))","v":15},{"$f":"IF(AN18=\"\",\"\",Main!B18)","v":"0807541"},{"$f":"IF(AN18=\"\",\"\",Main!C18)","v":"K.V.RAVANAMMA"},{"$f":"IF(AN18=\"\",\"\",Main!D18)","v":"SA (English)"},{"$f":"IF(AN18=\"\",\"\",Main!E18)","v":"15280-40510"},null,null,null,null,null,null,null,{"$f":"IF(AN18=\"\",\"\",SUM(Main!N18,Main!S18))","v":2000},null,2000,null,null,null,null,null,null,null,null,null,null,null,null,null,null,null,null,null,null,0,2000,null,2000,null,null,{"$f":"IF(SUM(Main!N18,Main!S18)>0,1,\"\")","v":1}]
[{"$f":"IF(AN19=\"\",\"\",SUM($AN$4:AN19))","v":16},{"$f":"IF(AN19=\"\",\"\",Main!B19)","v":"0807541"},{"$f":"IF(AN19=\"\",\"\",Main!C19)","v":"K.V.RAVANAMMA"},{"$f":"IF(AN19=\"\",\"\",Main!D19)","v":"SA (English)"},{"$f":"IF(AN19=\"\",\"\",Main!E19)","v":"15280-40510"},null,null,null,null,null,null,null,{"$f":"IF(AN19=\"\",\"\",SUM(Main!N19,Main!S19))","v":2000},null,2000,null,null,null,null,null,null,null,null,null,null,null,null,null,null,null,null,null,null,0,2000,null,2000,null,null,{"$f":"IF(SUM(Main!N19,Main!S19)>0,1,\"\")","v":1}]
[{"$f":"IF(AN20=\"\",\"\",SUM($AN$4:AN20))","v":17},{"$f":"IF(AN20=\"\",\"\",Main!B20)","v":"0807541"},{"$f":"IF(AN20=\"\",\"\",Main!C20)","v":"K.V.RAVANAMMA"},{"$f":"IF(AN20=\"\",\"\",Main!D20)","v":"SA (English)"},{"$f":"IF(AN20=\"\",\"\",Main!E20)","v":"15280-40510"},null,null,null,null,null,null,null,{"$f":"IF(AN20=\"\",\"\",SUM(Main!N20,Main!S20))","v":2000},null,2000,null,null,null,null,null,null,null,null,null,null,null,null,null,null,null,null,null,null,0,2000,null,2000,null,null,{"$f":"IF(SUM(Main!N20,Main!S20)>0,1,\"\")","v":1}]
[{"$f":"IF(AN21=\"\",\"\",SUM($AN$4:AN21))","v":18},{"$f":"IF(AN21=\"\",\"\",Main!B21)","v":"0807541"},{"$f":"IF(AN21=\"\",\"\",Main!C21)","v":"K.V.RAVANAMMA"},{"$f":"IF(AN21=\"\",\"\",Main!D21)","v":"SA (English)"},{"$f":"IF(AN21=\"\",\"\",Main!E21)","v":"15280-40510"},null,null,null,null,null,null,null,{"$f":"IF(AN21=\"\",\"\",SUM(Main!N21,Main!S21))","v":2000},null,2000,null,null,null,null,null,null,null,null,null,null,null,null,null,null,null,null,null,null,0,2000,null,2000,null,null,{"$f":"IF(SUM(Main!N21,Main!S21)>0,1,\"\")","v":1}]
[{"$f":"IF(AN22=\"\",\"\",SUM($AN$4:AN22))","v":19},{"$f":"IF(AN22=\"\",\"\",Main!B22)","v":"0807541"},{"$f":"IF(AN22=\"\",\"\",Main!C22)","v":"K.V.RAVANAMMA"},{"$f":"IF(AN22=\"\",\"\",Main!D22)","v":"SA (English)"},{"$f":"IF(AN22=\"\",\"\",Main!E22)","v":"15280-40510"},null,null,null,null,null,null,null,{"$f":"IF(AN22=\"\",\"\",SUM(Main!N22,Main!S22))","v":2000},null,2000,null,null,null,null,null,null,null,null,null,null,null,null,null,null,null,null,null,null,0,2000,null,2000,null,null,{"$f":"IF(SUM(Main!N22,Main!S22)>0,1,\"\")","v":1}]
[{"$f":"IF(AN23=\"\",\"\",SUM($AN$4:AN23))","v":20},{"$f":"IF(AN23=\"\",\"\",Main!B23)","v":"0807541"},{"$f":"IF(AN23=\"\",\"\",Main!C23)","v":"K.V.RAVANAMMA"},{"$f":"IF(AN23=\"\",\"\",Main!D23)","v":"SA (English)"},{"$f":"IF(AN23=\"\",\"\",Main!E23)","v":"15280-40510"},null,null,null,null,null,null,null,{"$f":"IF(AN23=\"\",\"\",SUM(Main!N23,Main!S23))","v":2000},null,2000,null,null,null,null,null,null,null,null,null,null,null,null,null,null,null,null,null,null,0,2000,null,2000,null,null,{"$f":"IF(SUM(Main!N23,Main!S23)>0,1,\"\")","v":1}]
[{"$f":"IF(AN24=\"\",\"\",SUM($AN$4:AN24))","v":21},{"$f":"IF(AN24=\"\",\"\",Main!B24)","v":"0807541"},{"$f":"IF(AN24=\"\",\"\",Main!C24)","v":"K.V.RAVANAMMA"},{"$f":"IF(AN24=\"\",\"\",Main!D24)","v":"SA (English)"},{"$f":"IF(AN24=\"\",\"\",Main!E24)","v":"15280-40510"},null,null,null,null,null,null,null,{"$f":"IF(AN24=\"\",\"\",SUM(Main!N24,Main!S24))","v":2000},null,2000,null,null,null,null,null,null,null,null,null,null,null,null,null,null,null,null,null,null,0,2000,null,2000,null,null,{"$f":"IF(SUM(Main!N24,Main!S24)>0,1,\"\")","v":1}]
[{"$f":"IF(AN25=\"\",\"\",SUM($AN$4:AN25))","v":22},{"$f":"IF(AN25=\"\",\"\",Main!B25)","v":"0807541"},{"$f":"IF(AN25=\"\",\"\",Main!C25)","v":"K.V.RAVANAMMA"},{"$f":"IF(AN25=\"\",\"\",Main!D25)","v":"SA (English)"},{"$f":"IF(AN25=\"\",\"\",Main!E25)","v":"15280-40510"},null,null,null,null,null,null,null,{"$f":"IF(AN25=\"\",\"\",SUM(Main!N25,Main!S25))","v":2000},null,2000,null,null,null,null,null,null,null,null,null,null,null,null,null,null,null,null,null,null,0,2000,null,2000,null,null,{"$f":"IF(SUM(Main!N25,Main!S25)>0,1,\"\")","v":1}]
[{"$f":"IF(AN26=\"\",\"\",SUM($AN$4:AN26))","v":23},{"$f":"IF(AN26=\"\",\"\",Main!B26)","v":"0807541"},{"$f":"IF(AN26=\"\",\"\",Main!C26)","v":"K.V.RAVANAMMA"},{"$f":"IF(AN26=\"\",\"\",Main!D26)","v":"SA (English)"},{"$f":"IF(AN26=\"\",\"\",Main!E26)","v":"15280-40510"},null,null,null,null,null,null,null,{"$f":"IF(AN26=\"\",\"\",SUM(Main!N26,Main!S26))","v":2000},null,2000,null,null,null,null,null,null,null,null,null,null,null,null,null,null,null,null,null,null,0,2000,null,2000,null,null,{"$f":"IF(SUM(Main!N26,Main!S26)>0,1,\"\")","v":1}]
[{"$f":"IF(AN27=\"\",\"\",SUM($AN$4:AN27))","v":24},{"$f":"IF(AN27=\"\",\"\",Main!B27)","v":"0807541"},{"$f":"IF(AN27=\"\",\"\",Main!C27)","v":"K.V.RAVANAMMA"},{"$f":"IF(AN27=\"\",\"\",Main!D27)","v":"SA (English)"},{"$f":"IF(AN27=\"\",\"\",Main!E27)","v":"15280-40510"},null,null,null,null,null,null,null,{"$f":"IF(AN27=\"\",\"\",SUM(Main!N27,Main!S27))","v":2000},null,2000,null,null,null,null,null,null,null,null,null,null,null,null,null,null,null,null,null,null,0,2000,null,2000,null,null,{"$f":"IF(SUM(Main!N27,Main!S27)>0,1,\"\")","v":1}]
[{"$f":"IF(AN28=\"\",\"\",SUM($AN$4:AN28))","v":25},{"$f":"IF(AN28=\"\",\"\",Main!B28)","v":"0807541"},{"$f":"IF(AN28=\"\",\"\",Main!C28)","v":"K.V.RAVANAMMA"},{"$f":"IF(AN28=\"\",\"\",Main!D28)","v":"SA (English)"},{"$f":"IF(AN28=\"\",\"\",Main!E28)","v":"15280-40510"},null,null,null,null,null,null,null,{"$f":"IF(AN28=\"\",\"\",SUM(Main!N28,Main!S28))","v":2000},null,2000,null,null,null,null,null,null,null,null,null,null,null,null,null,null,null,null,null,null,0,2000,null,2000,null,null,{"$f":"IF(SUM(Main!N28,Main!S28)>0,1,\"\")","v":1}]
[{"$f":"IF(AN29=\"\",\"\",SUM($AN$4:AN29))","v":26},{"$f":"IF(AN29=\"\",\"\",Main!B29)","v":"0807541"},{"$f":"IF(AN29=\"\",\"\",Main!C29)","v":"K.V.RAVANAMMA"},{"$f":"IF(AN29=\"\",\"\",Main!D29)","v":"SA (English)"},{"$f":"IF(AN29=\"\",\"\",Main!E29)","v":"15280-40510"},null,null,null,null,null,null,null,{"$f":"IF(AN29=\"\",\"\",SUM(Main!N29,Main!S29))","v":2000},null,2000,null,null,null,null,null,null,null,null,null,null,null,null,null,null,null,null,null,null,0,2000,null,2000,null,null,{"$f":"IF(SUM(Main!N29,Main!S29)>0,1,\"\")","v":1}]
[{"$f":"IF(AN30=\"\",\"\",SUM($AN$4:AN30))","v":27},{"$f":"IF(AN30=\"\",\"\",Main!B30)","v":"0807541"},{"$f":"IF(AN30=\"\",\"\",Main!C30)","v":"K.V.RAVANAMMA"},{"$f":"IF(AN30=\"\",\"\",Main!D30)","v":"SA (English)"},{"$f":"IF(AN30=\"\",\"\",Main!E30)","v":"15280-40510"},null,null,null,null,null,null,null,{"$f":"IF(AN30=\"\",\"\",SUM(Main!N30,Main!S30))","v":2000},null,2000,null,null,null,null,null,null,null,null,null,null,null,null,null,null,null,null,null,null,0,2000,null,2000,null,null,{"$f":"IF(SUM(Main!N30,Main!S30)>0,1,\"\")","v":1}]
[{"$f":"IF(AN31=\"\",\"\",SUM($AN$4:AN31))","v":28},{"$f":"IF(AN31=\"\",\"\",Main!B31)","v":"0807541"},{"$f":"IF(AN31=\"\",\"\",Main!C31)","v":"K.V.RAVANAMMA"},{"$f":"IF(AN31=\"\",\"\",Main!D31)","v":"SA (English)"},{"$f":"IF(AN31=\"\",\"\",Main!E31)","v":"15280-40510"},null,null,null,null,null,null,null,{"$f":"IF(AN31=\"\",\"\",SUM(Main!N31,Main!S31))","v":2000},null,2000,null,null,null,null,null,null,null,null,null,null,null,null,null,null,null,null,null,null,0,2000,null,2000,null,null,{"$f":"IF(SUM(Main!N31,Main!S31)>0,1,\"\")","v":1}]
[{"$f":"IF(AN32=\"\",\"\",SUM($AN$4:AN32))","v":29},{"$f":"IF(AN32=\"\",\"\",Main!B32)","v":"0807541"},{"$f":"IF(AN32=\"\",\"\",Main!C32)","v":"K.V.RAVANAMMA"},{"$f":"IF(AN32=\"\",\"\",Main!D32)","v":"SA (English)"},{"$f":"IF(AN32=\"\",\"\",Main!E32)","v":"15280-40510"},null,null,null,null,null,null,null,{"$f":"IF(AN32=\"\",\"\",SUM(Main!N32,Main!S32))","v":2000},null,2000,null,null,null,null,null,null,null,null,null,null,null,null,null,null,null,null,null,null,0,2000,null,2000,null,null,{"$f":"IF(SUM(Main!N32,Main!S32)>0,1,\"\")","v":1}]
[{"$f":"IF(AN33=\"\",\"\",SUM($AN$4:AN33))","v":30},{"$f":"IF(AN33=\"\",\"\",Main!B33)","v":"0807541"},{"$f":"IF(AN33=\"\",\"\",Main!C33)","v":"K.V.RAVANAMMA"},{"$f":"IF(AN33=\"\",\"\",Main!D33)","v":"SA (English)"},{"$f":"IF(AN33=\"\",\"\",Main!E33)","v":"15280-40510"},null,null,null,null,null,null,null,{"$f":"IF(AN33=\"\",\"\",SUM(Main!N33,Main!S33))","v":2000},null,2000,null,null,null,null,null,null,null,null,null,null,null,null,null,null,null,null,null,null,0,2000,null,2000,null,null,{"$f":"IF(SUM(Main!N33,Main!S33)>0,1,\"\")","v":1}]
[{"$f":"IF(AN34=\"\",\"\",SUM($AN$4:AN34))","v":31},{"$f":"IF(AN34=\"\",\"\",Main!B34)","v":"0807541"},{"$f":"IF(AN34=\"\",\"\",Main!C34)","v":"K.V.RAVANAMMA"},{"$f":"IF(AN34=\"\",\"\",Main!D34)","v":"SA (English)"},{"$f":"IF(AN34=\"\",\"\",Main!E34)","v":"15280-40510"},null,null,null,null,null,null,null,{"$f":"IF(AN34=\"\",\"\",SUM(Main!N34,Main!S34))","v":2000},null,2000,null,null,null,null,null,null,null,null,null,null,null,null,null,null,null,null,null,null,0,2000,null,2000,null,null,{"$f":"IF(SUM(Main!N34,Main!S34)>0,1,\"\")","v":1}]
[{"$f":"IF(AN35=\"\",\"\",SUM($AN$4:AN35))","v":32},{"$f":"IF(AN35=\"\",\"\",Main!B35)","v":"0807541"},{"$f":"IF(AN35=\"\",\"\",Main!C35)","v":"K.V.RAVANAMMA"},{"$f":"IF(AN35=\"\",\"\",Main!D35)","v":"SA (English)"},{"$f":"IF(AN35=\"\",\"\",Main!E35)","v":"15280-40510"},null,null,null,null,null,null,null,{"$f":"IF(AN35=\"\",\"\",SUM(Main!N35,Main!S35))","v":2000},null,2000,null,null,null,null,null,null,null,null,null,null,null,null,null,null,null,null,null,null,0,2000,null,2000,null,null,{"$f":"IF(SUM(Main!N35,Main!S35)>0,1,\"\")","v":1}]
[{"$f":"IF(AN36=\"\",\"\",SUM($AN$4:AN36))","v":33},{"$f":"IF(AN36=\"\",\"\",Main!B36)","v":"0807541"},{"$f":"IF(AN36=\"\",\"\",Main!C36)","v":"K.V.RAVANAMMA"},{"$f":"IF(AN36=\"\",\"\",Main!D36)","v":"SA (English)"},{"$f":"IF(AN36=\"\",\"\",Main!E36)","v":"15280-40510"},null,null,null,null,null,null,null,{"$f":"IF(AN36=\"\",\"\",SUM(Main!N36,Main!S36))","v":2000},null,2000,null,null,null,null,null,null,null,null,null,null,null,null,null,null,null,null,null,null,0,2000,null,2000,null,null,{"$f":"IF(SUM(Main!N36,Main!S36)>0,1,\"\")","v":1}]
[{"$f":"IF(AN37=\"\",\"\",SUM($AN$4:AN37))","v":34},{"$f":"IF(AN37=\"\",\"\",Main!B37)","v":"0807541"},{"$f":"IF(AN37=\"\",\"\",Main!C37)","v":"K.V.RAVANAMMA"},{"$f":"IF(AN37=\"\",\"\",Main!D37)","v":"SA (English)"},{"$f":"IF(AN37=\"\",\"\",Main!E37)","v":"15280-40510"},null,null,null,null,null,null,null,{"$f":"IF(AN37=\"\",\"\",SUM(Main!N37,Main!S37))","v":2000},null,2000,null,null,null,null,null,null,null,null,null,null,null,null,null,null,null,null,null,null,0,2000,null,2000,null,null,{"$f":"IF(SUM(Main!N37,Main!S37)>0,1,\"\")","v":1}]
[{"$f":"IF(AN38=\"\",\"\",SUM($AN$4:AN38))","v":35},{"$f":"IF(AN38=\"\",\"\",Main!B38)","v":"0807541"},{"$f":"IF(AN38=\"\",\"\",Main!C38)","v":"K.V.RAVANAMMA"},{"$f":"IF(AN38=\"\",\"\",Main!D38)","v":"SA (English)"},{"$f":"IF(AN38=\"\",\"\",Main!E38)","v":"15280-40510"},null,null,null,null,null,null,null,{"$f":"IF(AN38=\"\",\"\",SUM(Main!N38,Main!S38))","v":2000},null,2000,null,null,null,null,null,null,null,null,null,null,null,null,null,null,null,null,null,null,0,2000,null,2000,null,null,{"$f":"IF(SUM(Main!N38,Main!S38)>0,1,\"\")","v":1}]
[{"$f":"IF(AN39=\"\",\"\",SUM($AN$4:AN39))","v":36},{"$f":"IF(AN39=\"\",\"\",Main!B39)","v":"0807541"},{"$f":"IF(AN39=\"\",\"\",Main!C39)","v":"K.V.RAVANAMMA"},{"$f":"IF(AN39=\"\",\"\",Main!D39)","v":"SA (English)"},{"$f":"IF(AN39=\"\",\"\",Main!E39)","v":"15280-40510"},null,null,null,null,null,null,null,{"$f":"IF(AN39=\"\",\"\",SUM(Main!N39,Main!S39))","v":2000},null,2000,null,null,null,null,null,null,null,null,null,null,null,null,null,null,null,null,null,null,0,2000,null,2000,null,null,{"$f":"IF(SUM(Main!N39,Main!S39)>0,1,\"\")","v":1}]
[{"$f":"IF(AN40=\"\",\"\",SUM($AN$4:AN40))","v":37},{"$f":"IF(AN40=\"\",\"\",Main!B40)","v":"0807541"},{"$f":"IF(AN40=\"\",\"\",Main!C40)","v":"K.V.RAVANAMMA"},{"$f":"IF(AN40=\"\",\"\",Main!D40)","v":"SA (English)"},{"$f":"IF(AN40=\"\",\"\",Main!E40)","v":"15280-40510"},null,null,null,null,null,null,null,{"$f":"IF(AN40=\"\",\"\",SUM(Main!N40,Main!S40))","v":2000},null,2000,null,null,null,null,null,null,null,null,null,null,null,null,null,null,null,null,null,null,0,2000,null,2000,null,null,{"$f":"IF(SUM(Main!N40,Main!S40)>0,1,\"\")","v":1}]
[{"$f":"IF(AN41=\"\",\"\",SUM($AN$4:AN41))","v":38},{"$f":"IF(AN41=\"\",\"\",Main!B41)","v":"0807541"},{"$f":"IF(AN41=\"\",\"\",Main!C41)","v":"K.V.RAVANAMMA"},{"$f":"IF(AN41=\"\",\"\",Main!D41)","v":"SA (English)"},{"$f":"IF(AN41=\"\",\"\",Main!E41)","v":"15280-40510"},null,null,null,null,null,null,null,{"$f":"IF(AN41=\"\",\"\",SUM(Main!N41,Main!S41))","v":2000},null,2000,null,null,null,null,null,null,null,null,null,null,null,null,null,null,null,null,null,null,0,2000,null,2000,null,null,{"$f":"IF(SUM(Main!N41,Main!S41)>0,1,\"\")","v":1}]
[{"$f":"IF(AN42=\"\",\"\",SUM($AN$4:AN42))","v":39},{"$f":"IF(AN42=\"\",\"\",Main!B42)","v":"0807541"},{"$f":"IF(AN42=\"\",\"\",Main!C42)","v":"K.V.RAVANAMMA"},{"$f":"IF(AN42=\"\",\"\",Main!D42)","v":"SA (English)"},{"$f":"IF(AN42=\"\",\"\",Main!E42)","v":"15280-40510"},null,null,null,null,null,null,null,{"$f":"IF(AN42=\"\",\"\",SUM(Main!N42,Main!S42))","v":2000},null,2000,null,null,null,null,null,null,null,null,null,null,null,null,null,null,null,null,null,null,0,2000,null,2000,null,null,{"$f":"IF(SUM(Main!N42,Main!S42)>0,1,\"\")","v":1}]
[{"$f":"IF(AN43=\"\",\"\",SUM($AN$4:AN43))","v":40},{"$f":"IF(AN43=\"\",\"\",Main!B43)","v":"0807541"},{"$f":"IF(AN43=\"\",\"\",Main!C43)","v":"K.V.RAVANAMMA"},{"$f":"IF(AN43=\"\",\"\",Main!D43)","v":"SA (English)"},{"$f":"IF(AN43=\"\",\"\",Main!E43)","v":"15280-40510"},null,null,null,null,null,null,null,{"$f":"IF(AN43=\"\",\"\",SUM(Main!N43,Main!S43))","v":2000},null,2000,null,null,null,null,null,null,null,null,null,null,null,null,null,null,null,null,null,null,0,2000,null,2000,null,null,{"$f":"IF(SUM(Main!N43,Main!S43)>0,1,\"\")","v":1}]
[{"$f":"IF(AN44=\"\",\"\",SUM($AN$4:AN44))","v":41},{"$f":"IF(AN44=\"\",\"\",Main!B44)","v":"0807541"},{"$f":"IF(AN44=\"\",\"\",Main!C44)","v":"K.V.RAVANAMMA"},{"$f":"IF(AN44=\"\",\"\",Main!D44)","v":"SA (English)"},{"$f":"IF(AN44=\"\",\"\",Main!E44)","v":"15280-40510"},null,null,null,null,null,null,null,{"$f":"IF(AN44=\"\",\"\",SUM(Main!N44,Main!S44))","v":2000},null,2000,null,null,null,null,null,null,null,null,null,null,null,null,null,null,null,null,null,null,0,2000,null,2000,null,null,{"$f":"IF(SUM(Main!N44,Main!S44)>0,1,\"\")","v":1}]
[{"$f":"IF(AN45=\"\",\"\",SUM($AN$4:AN45))","v":42},{"$f":"IF(AN45=\"\",\"\",Main!B45)","v":"0807541"},{"$f":"IF(AN45=\"\",\"\",Main!C45)","v":"K.V.RAVANAMMA"},{"$f":"IF(AN45=\"\",\"\",Main!D45)","v":"SA (English)"},{"$f":"IF(AN45=\"\",\"\",Main!E45)","v":"15280-40510"},null,null,null,null,null,null,null,{"$f":"IF(AN45=\"\",\"\",SUM(Main!N45,Main!S45))","v":2000},null,2000,null,null,null,null,null,null,null,null,null,null,null,null,null,null,null,null,null,null,0,2000,null,2000,null,null,{"$f":"IF(SUM(Main!N45,Main!S45)>0,1,\"\")","v":1}]
[{"$f":"IF(AN46=\"\",\"\",SUM($AN$4:AN46))","v":43},{"$f":"IF(AN46=\"\",\"\",Main!B46)","v":"0807541"},{"$f":"IF(AN46=\"\",\"\",Main!C46)","v":"K.V.RAVANAMMA"},{"$f":"IF(AN46=\"\",\"\",Main!D46)","v":"SA (English)"},{"$f":"IF(AN46=\"\",\"\",Main!E46)","v":"15280-40510"},null,null,null,null,null,null,null,{"$f":"IF(AN46=\"\",\"\",SUM(Main!N46,Main!S46))","v":2000},null,2000,null,null,null,null,null,null,null,null,null,null,null,null,null,null,null,null,null,null,0,2000,null,2000,null,null,{"$f":"IF(SUM(Main!N46,Main!S46)>0,1,\"\")","v":1}]
[{"$f":"IF(AN47=\"\",\"\",SUM($AN$4:AN47))","v":44},{"$f":"IF(AN47=\"\",\"\",Main!B47)","v":"0807541"},{"$f":"IF(AN47=\"\",\"\",Main!C47)","v":"K.V.RAVANAMMA"},{"$f":"IF(AN47=\"\",\"\",Main!D47)","v":"SA (English)"},{"$f":"IF(AN47=\"\",\"\",Main!E47)","v":"15280-40510"},null,null,null,null,null,null,null,{"$f":"IF(AN47=\"\",\"\",SUM(Main!N47,Main!S47))","v":2000},null,2000,null,null,null,null,null,null,null,null,null,null,null,null,null,null,null,null,null,null,0,2000,null,2000,null,null,{"$f":"IF(SUM(Main!N47,Main!S47)>0,1,\"\")","v":1}]
[{"$f":"IF(AN48=\"\",\"\",SUM($AN$4:AN48))","v":45},{"$f":"IF(AN48=\"\",\"\",Main!B48)","v":"0807541"},{"$f":"IF(AN48=\"\",\"\",Main!C48)","v":"K.V.RAVANAMMA"},{"$f":"IF(AN48=\"\",\"\",Main!D48)","v":"SA (English)"},{"$f":"IF(AN48=\"\",\"\",Main!E48)","v":"15280-40510"},null,null,null,null,null,null,null,{"$f":"IF(AN48=\"\",\"\",SUM(Main!N48,Main!S48))","v":2000},null,2000,null,null,null,null,null,null,null,null,null,null,null,null,null,null,null,null,null,null,0,2000,null,2000,null,null,{"$f":"IF(SUM(Main!N48,Main!S48)>0,1,\"\")","v":1}]
[{"$f":"IF(AN49=\"\",\"\",SUM($AN$4:AN49))","v":46},{"$f":"IF(AN49=\"\",\"\",Main!B49)","v":"0807541"},{"$f":"IF(AN49=\"\",\"\",Main!C49)","v":"K.V.RAVANAMMA"},{"$f":"IF(AN49=\"\",\"\",Main!D49)","v":"SA (English)"},{"$f":"IF(AN49=\"\",\"\",Main!E49)","v":"15280-40510"},null,null,null,null,null,null,null,{"$f":"IF(AN49=\"\",\"\",SUM(Main!N49,Main!S49))","v":2000},null,2000,null,null,null,null,null,null,null,null,null,null,null,null,null,null,null,null,null,null,0,2000,null,2000,null,null,{"$f":"IF(SUM(Main!N49,Main!S49)>0,1,\"\")","v":1}]
[{"$f":"IF(AN50=\"\",\"\",SUM($AN$4:AN50))","v":47},{"$f":"IF(AN50=\"\",\"\",Main!B50)","v":"0807541"},{"$f":"IF(AN50=\"\",\"\",Main!C50)","v":"K.V.RAVANAMMA"},{"$f":"IF(AN50=\"\",\"\",Main!D50)","v":"SA (English)"},{"$f":"IF(AN50=\"\",\"\",Main!E50)","v":"15280-40510"},null,null,null,null,null,null,null,{"$f":"IF(AN50=\"\",\"\",SUM(Main!N50,Main!S50))","v":2000},null,2000,null,null,null,null,null,null,null,null,null,null,null,null,null,null,null,null,null,null,0,2000,null,2000,null,null,{"$f":"IF(SUM(Main!N50,Main!S50)>0,1,\"\")","v":1}]
[{"$f":"IF(AN51=\"\",\"\",SUM($AN$4:AN51))","v":48},{"$f":"IF(AN51=\"\",\"\",Main!B51)","v":"0807541"},{"$f":"IF(AN51=\"\",\"\",Main!C51)","v":"K.V.RAVANAMMA"},{"$f":"IF(AN51=\"\",\"\",Main!D51)","v":"SA (English)"},{"$f":"IF(AN51=\"\",\"\",Main!E51)","v":"15280-40510"},null,null,null,null,null,null,null,{"$f":"IF(AN51=\"\",\"\",SUM(Main!N51,Main!S51))","v":2000},null,2000,null,null,null,null,null,null,null,null,null,null,null,null,null,null,null,null,null,null,0,2000,null,2000,null,null,{"$f":"IF(SUM(Main!N51,Main!S51)>0,1,\"\")","v":1}]
[{"$f":"IF(AN52=\"\",\"\",SUM($AN$4:AN52))","v":49},{"$f":"IF(AN52=\"\",\"\",Main!B52)","v":"0807541"},{"$f":"IF(AN52=\"\",\"\",Main!C52)","v":"K.V.RAVANAMMA"},{"$f":"IF(AN52=\"\",\"\",Main!D52)","v":"SA (English)"},{"$f":"IF(AN52=\"\",\"\",Main!E52)","v":"15280-40510"},null,null,null,null,null,null,null,{"$f":"IF(AN52=\"\",\"\",SUM(Main!N52,Main!S52))","v":2000},null,2000,null,null,null,null,null,null,null,null,null,null,null,null,null,null,null,null,null,null,0,2000,null,2000,null,null,{"$f":"IF(SUM(Main!N52,Main!S52)>0,1,\"\")","v":1}]
[{"$f":"IF(AN53=\"\",\"\",SUM($AN$4:AN53))","v":50},{"$f":"IF(AN53=\"\",\"\",Main!B53)","v":"0807541"},{"$f":"IF(AN53=\"\",\"\",Main!C53)","v":"K.V.RAVANAMMA"},{"$f":"IF(AN53=\"\",\"\",Main!D53)","v":"SA (English)"},{"$f":"IF(AN53=\"\",\"\",Main!E53)","v":"15280-40510"},null,null,null,null,null,null,null,{"$f":"IF(AN53=\"\",\"\",SUM(Main!N53,Main!S53))","v":2000},null,2000,null,null,null,null,null,null,null,null,null,null,null,null,null,null,null,null,null,null,0,2000,null,2000,null,null,{"$f":"IF(SUM(Main!N53,Main!S53)>0,1,\"\")","v":1}]
[{"$f":"IF(AN54=\"\",\"\",SUM($AN$4:AN54))","v":51},{"$f":"IF(AN54=\"\",\"\",Main!B54)","v":"0807541"},{"$f":"IF(AN54=\"\",\"\",Main!C54)","v":"K.V.RAVANAMMA"},{"$f":"IF(AN54=\"\",\"\",Main!D54)","v":"SA (English)"},{"$f":"IF(AN54=\"\",\"\",Main!E54)","v":"15280-40510"},null,null,null,null,null,null,null,{"$f":"IF(AN54=\"\",\"\",SUM(Main!N54,Main!S54))","v":2000},null,2000,null,null,null,null,null,null,null,null,null,null,null,null,null,null,null,null,null,null,0,2000,null,2000,null,null,{"$f":"IF(SUM(Main!N54,Main!S54)>0,1,\"\")","v":1}]
[{"$f":"IF(AN55=\"\",\"\",SUM($AN$4:AN55))","v":52},{"$f":"IF(AN55=\"\",\"\",Main!B55)","v":"0807541"},{"$f":"IF(AN55=\"\",\"\",Main!C55)","v":"K.V.RAVANAMMA"},{"$f":"IF(AN55=\"\",\"\",Main!D55)","v":"SA (English)"},{"$f":"IF(AN55=\"\",\"\",Main!E55)","v":"15280-40510"},null,null,null,null,null,null,null,{"$f":"IF(AN55=\"\",\"\",SUM(Main!N55,Main!S55))","v":2000},null,2000,null,null,null,null,null,null,null,null,null,null,null,null,null,null,null,null,null,null,0,2000,null,2000,null,null,{"$f":"IF(SUM(Main!N55,Main!S55)>0,1,\"\")","v":1}]
[{"$f":"IF(AN56=\"\",\"\",SUM($AN$4:AN56))","v":53},{"$f":"IF(AN56=\"\",\"\",Main!B56)","v":"0807541"},{"$f":"IF(AN56=\"\",\"\",Main!C56)","v":"K.V.RAVANAMMA"},{"$f":"IF(AN56=\"\",\"\",Main!D56)","v":"SA (English)"},{"$f":"IF(AN56=\"\",\"\",Main!E56)","v":"15280-40510"},null,null,null,null,null,null,null,{"$f":"IF(AN56=\"\",\"\",SUM(Main!N56,Main!S56))","v":2000},null,2000,null,null,null,null,null,null,null,null,null,null,null,null,null,null,null,null,null,null,0,2000,null,2000,null,null,{"$f":"IF(SUM(Main!N56,Main!S56)>0,1,\"\")","v":1}]
[{"$f":"IF(AN57=\"\",\"\",SUM($AN$4:AN57))","v":54},{"$f":"IF(AN57=\"\",\"\",Main!B57)","v":"0807541"},{"$f":"IF(AN57=\"\",\"\",Main!C57)","v":"K.V.RAVANAMMA"},{"$f":"IF(AN57=\"\",\"\",Main!D57)","v":"SA (English)"},{"$f":"IF(AN57=\"\",\"\",Main!E57)","v":"15280-40510"},null,null,null,null,null,null,null,{"$f":"IF(AN57=\"\",\"\",SUM(Main!N57,Main!S57))","v":2000},null,2000,null,null,null,null,null,null,null,null,null,null,null,null,null,null,null,null,null,null,0,2000,null,2000,null,null,{"$f":"IF(SUM(Main!N57,Main!S57)>0,1,\"\")","v":1}]
[{"$f":"IF(AN58=\"\",\"\",SUM($AN$4:AN58))","v":55},{"$f":"IF(AN58=\"\",\"\",Main!B58)","v":"0807541"},{"$f":"IF(AN58=\"\",\"\",Main!C58)","v":"K.V.RAVANAMMA"},{"$f":"IF(AN58=\"\",\"\",Main!D58)","v":"SA (English)"},{"$f":"IF(AN58=\"\",\"\",Main!E58)","v":"15280-40510"},null,null,null,null,null,null,null,{"$f":"IF(AN58=\"\",\"\",SUM(Main!N58,Main!S58))","v":2000},null,2000,null,null,null,null,null,null,null,null,null,null,null,null,null,null,null,null,null,null,0,2000,null,2000,null,null,{"$f":"IF(SUM(Main!N58,Main!S58)>0,1,\"\")","v":1}]
[{"$f":"IF(AN59=\"\",\"\",SUM($AN$4:AN59))","v":56},{"$f":"IF(AN59=\"\",\"\",Main!B59)","v":"0807541"},{"$f":"IF(AN59=\"\",\"\",Main!C59)","v":"K.V.RAVANAMMA"},{"$f":"IF(AN59=\"\",\"\",Main!D59)","v":"SA (English)"},{"$f":"IF(AN59=\"\",\"\",Main!E59)","v":"15280-40510"},null,null,null,null,null,null,null,{"$f":"IF(AN59=\"\",\"\",SUM(Main!N59,Main!S59))","v":2000},null,2000,null,null,null,null,null,null,null,null,null,null,null,null,null,null,null,null,null,null,0,2000,null,2000,null,null,{"$f":"IF(SUM(Main!N59,Main!S59)>0,1,\"\")","v":1}]
[{"$f":"IF(AN60=\"\",\"\",SUM($AN$4:AN60))","v":57},{"$f":"IF(AN60=\"\",\"\",Main!B60)","v":"0807541"},{"$f":"IF(AN60=\"\",\"\",Main!C60)","v":"K.V.RAVANAMMA"},{"$f":"IF(AN60=\"\",\"\",Main!D60)","v":"SA (English)"},{"$f":"IF(AN60=\"\",\"\",Main!E60)","v":"15280-40510"},null,null,null,null,null,null,null,{"$f":"IF(AN60=\"\",\"\",SUM(Main!N60,Main!S60))","v":2000},null,2000,null,null,null,null,null,null,null,null,null,null,null,null,null,null,null,null,null,null,0,2000,null,2000,null,null,{"$f":"IF(SUM(Main!N60,Main!S60)>0,1,\"\")","v":1}]
[{"$f":"IF(AN61=\"\",\"\",SUM($AN$4:AN61))","v":58},{"$f":"IF(AN61=\"\",\"\",Main!B61)","v":"0807541"},{"$f":"IF(AN61=\"\",\"\",Main!C61)","v":"K.V.RAVANAMMA"},{"$f":"IF(AN61=\"\",\"\",Main!D61)","v":"SA (English)"},{"$f":"IF(AN61=\"\",\"\",Main!E61)","v":"15280-40510"},null,null,null,null,null,null,null,{"$f":"IF(AN61=\"\",\"\",SUM(Main!N61,Main!S61))","v":2000},null,2000,null,null,null,null,null,null,null,null,null,null,null,null,null,null,null,null,null,null,0,2000,null,2000,null,null,{"$f":"IF(SUM(Main!N61,Main!S61)>0,1,\"\")","v":1}]
[{"$f":"IF(AN62=\"\",\"\",SUM($AN$4:AN62))","v":59},{"$f":"IF(AN62=\"\",\"\",Main!B62)","v":"0807541"},{"$f":"IF(AN62=\"\",\"\",Main!C62)","v":"K.V.RAVANAMMA"},{"$f":"IF(AN62=\"\",\"\",Main!D62)","v":"SA (English)"},{"$f":"IF(AN62=\"\",\"\",Main!E62)","v":"15280-40510"},null,null,null,null,null,null,null,{"$f":"IF(AN62=\"\",\"\",SUM(Main!N62,Main!S62))","v":2000},null,2000,null,null,null,null,null,null,null,null,null,null,null,null,null,null,null,null,null,null,0,2000,null,2000,null,null,{"$f":"IF(SUM(Main!N62,Main!S62)>0,1,\"\")","v":1}]
[{"$f":"IF(AN63=\"\",\"\",SUM($AN$4:AN63))","v":60},{"$f":"IF(AN63=\"\",\"\",Main!B63)","v":"0807541"},{"$f":"IF(AN63=\"\",\"\",Main!C63)","v":"K.V.RAVANAMMA"},{"$f":"IF(AN63=\"\",\"\",Main!D63)","v":"SA (English)"},{"$f":"IF(AN63=\"\",\"\",Main!E63)","v":"15280-40510"},null,null,null,null,null,null,null,{"$f":"IF(AN63=\"\",\"\",SUM(Main!N63,Main!S63))","v":2000},null,2000,null,null,null,null,null,null,null,null,null,null,null,null,null,null,null,null,null,null,0,2000,null,2000,null,null,{"$f":"IF(SUM(Main!N63,Main!S63)>0,1,\"\")","v":1}]
[{"$f":"IF(AN64=\"\",\"\",SUM($AN$4:AN64))","v":61},{"$f":"IF(AN64=\"\",\"\",Main!B64)","v":"0807541"},{"$f":"IF(AN64=\"\",\"\",Main!C64)","v":"K.V.RAVANAMMA"},{"$f":"IF(AN64=\"\",\"\",Main!D64)","v":"SA (English)"},{"$f":"IF(AN64=\"\",\"\",Main!E64)","v":"15280-40510"},null,null,null,null,null,null,null,{"$f":"IF(AN64=\"\",\"\",SUM(Main!N64,Main!S64))","v":2000},null,2000,null,null,null,null,null,null,null,null,null,null,null,null,null,null,null,null,null,null,0,2000,null,2000,null,null,{"$f":"IF(SUM(Main!N64,Main!S64)>0,1,\"\")","v":1}]
[{"$f":"IF(AN65=\"\",\"\",SUM($AN$4:AN65))","v":62},{"$f":"IF(AN65=\"\",\"\",Main!B65)","v":"0807541"},{"$f":"IF(AN65=\"\",\"\",Main!C65)","v":"K.V.RAVANAMMA"},{"$f":"IF(AN65=\"\",\"\",Main!D65)","v":"SA (English)"},{"$f":"IF(AN65=\"\",\"\",Main!E65)","v":"15280-40510"},null,null,null,null,null,null,null,{"$f":"IF(AN65=\"\",\"\",SUM(Main!N65,Main!S65))","v":2000},null,2000,null,null,null,null,null,null,null,null,null,null,null,null,null,null,null,null,null,null,0,2000,null,2000,null,null,{"$f":"IF(SUM(Main!N65,Main!S65)>0,1,\"\")","v":1}]
[{"$f":"IF(AN66=\"\",\"\",SUM($AN$4:AN66))","v":63},{"$f":"IF(AN66=\"\",\"\",Main!B66)","v":"0807541"},{"$f":"IF(AN66=\"\",\"\",Main!C66)","v":"K.V.RAVANAMMA"},{"$f":"IF(AN66=\"\",\"\",Main!D66)","v":"SA (English)"},{"$f":"IF(AN66=\"\",\"\",Main!E66)","v":"15280-40510"},null,null,null,null,null,null,null,{"$f":"IF(AN66=\"\",\"\",SUM(Main!N66,Main!S66))","v":2000},null,2000,null,null,null,null,null,null,null,null,null,null,null,null,null,null,null,null,null,null,0,2000,null,2000,null,null,{"$f":"IF(SUM(Main!N66,Main!S66)>0,1,\"\")","v":1}]
[{"$f":"IF(AN67=\"\",\"\",SUM($AN$4:AN67))","v":64},{"$f":"IF(AN67=\"\",\"\",Main!B67)","v":"0807541"},{"$f":"IF(AN67=\"\",\"\",Main!C67)","v":"K.V.RAVANAMMA"},{"$f":"IF(AN67=\"\",\"\",Main!D67)","v":"SA (English)"},{"$f":"IF(AN67=\"\",\"\",Main!E67)","v":"15280-40510"},null,null,null,null,null,null,null,{"$f":"IF(AN67=\"\",\"\",SUM(Main!N67,Main!S67))","v":2000},null,2000,null,null,null,null,null,null,null,null,null,null,null,null,null,null,null,null,null,null,0,2000,null,2000,null,null,{"$f":"IF(SUM(Main!N67,Main!S67)>0,1,\"\")","v":1}]
[{"$f":"IF(AN68=\"\",\"\",SUM($AN$4:AN68))","v":65},{"$f":"IF(AN68=\"\",\"\",Main!B68)","v":"0807541"},{"$f":"IF(AN68=\"\",\"\",Main!C68)","v":"K.V.RAVANAMMA"},{"$f":"IF(AN68=\"\",\"\",Main!D68)","v":"SA (English)"},{"$f":"IF(AN68=\"\",\"\",Main!E68)","v":"15280-40510"},null,null,null,null,null,null,null,{"$f":"IF(AN68=\"\",\"\",SUM(Main!N68,Main!S68))","v":2000},null,2000,null,null,null,null,null,null,null,null,null,null,null,null,null,null,null,null,null,null,0,2000,null,2000,null,null,{"$f":"IF(SUM(Main!N68,Main!S68)>0,1,\"\")","v":1}]
[{"$f":"IF(AN69=\"\",\"\",SUM($AN$4:AN69))","v":66},{"$f":"IF(AN69=\"\",\"\",Main!B69)","v":"0807541"},{"$f":"IF(AN69=\"\",\"\",Main!C69)","v":"K.V.RAVANAMMA"},{"$f":"IF(AN69=\"\",\"\",Main!D69)","v":"SA (English)"},{"$f":"IF(AN69=\"\",\"\",Main!E69)","v":"15280-40510"},null,null,null,null,null,null,null,{"$f":"IF(AN69=\"\",\"\",SUM(Main!N69,Main!S69))","v":2000},null,2000,null,null,null,null,null,null,null,null,null,null,null,null,null,null,null,null,null,null,0,2000,null,2000,null,null,{"$f":"IF(SUM(Main!N69,Main!S69)>0,1,\"\")","v":1}]
[{"$f":"IF(AN70=\"\",\"\",SUM($AN$4:AN70))","v":67},{"$f":"IF(AN70=\"\",\"\",Main!B70)","v":"0807541"},{"$f":"IF(AN70=\"\",\"\",Main!C70)","v":"K.V.RAVANAMMA"},{"$f":"IF(AN70=\"\",\"\",Main!D70)","v":"SA (English)"},{"$f":"IF(AN70=\"\",\"\",Main!E70)","v":"15280-40510"},null,null,null,null,null,null,null,{"$f":"IF(AN70=\"\",\"\",SUM(Main!N70,Main!S70))","v":2000},null,2000,null,null,null,null,null,null,null,null,null,null,null,null,null,null,null,null,null,null,0,2000,null,2000,null,null,{"$f":"IF(SUM(Main!N70,Main!S70)>0,1,\"\")","v":1}]
[{"$f":"IF(AN71=\"\",\"\",SUM($AN$4:AN71))","v":68},{"$f":"IF(AN71=\"\",\"\",Main!B71)","v":"0807541"},{"$f":"IF(AN71=\"\",\"\",Main!C71)","v":"K.V.RAVANAMMA"},{"$f":"IF(AN71=\"\",\"\",Main!D71)","v":"SA (English)"},{"$f":"IF(AN71=\"\",\"\",Main!E71)","v":"15280-40510"},null,null,null,null,null,null,null,{"$f":"IF(AN71=\"\",\"\",SUM(Main!N71,Main!S71))","v":2000},null,2000,null,null,null,null,null,null,null,null,null,null,null,null,null,null,null,null,null,null,0,2000,null,2000,null,null,{"$f":"IF(SUM(Main!N71,Main!S71)>0,1,\"\")","v":1}]
[{"$f":"IF(AN72=\"\",\"\",SUM($AN$4:AN72))","v":69},{"$f":"IF(AN72=\"\",\"\",Main!B72)","v":"0807541"},{"$f":"IF(AN72=\"\",\"\",Main!C72)","v":"K.V.RAVANAMMA"},{"$f":"IF(AN72=\"\",\"\",Main!D72)","v":"SA (English)"},{"$f":"IF(AN72=\"\",\"\",Main!E72)","v":"15280-40510"},null,null,null,null,null,null,null,{"$f":"IF(AN72=\"\",\"\",SUM(Main!N72,Main!S72))","v":2000},null,2000,null,null,null,null,null,null,null,null,null,null,null,null,null,null,null,null,null,null,0,2000,null,2000,null,null,{"$f":"IF(SUM(Main!N72,Main!S72)>0,1,\"\")","v":1}]
[{"$f":"IF(AN73=\"\",\"\",SUM($AN$4:AN73))","v":70},{"$f":"IF(AN73=\"\",\"\",Main!B73)","v":"0807541"},{"$f":"IF(AN73=\"\",\"\",Main!C73)","v":"K.V.RAVANAMMA"},{"$f":"IF(AN73=\"\",\"\",Main!D73)","v":"SA (English)"},{"$f":"IF(AN73=\"\",\"\",Main!E73)","v":"15280-40510"},null,null,null,null,null,null,null,{"$f":"IF(AN73=\"\",\"\",SUM(Main!N73,Main!S73))","v":2000},null,2000,null,null,null,null,null,null,null,null,null,null,null,null,null,null,null,null,null,null,0,2000,null,2000,null,null,{"$f":"IF(SUM(Main!N73,Main!S73)>0,1,\"\")","v":1}]
[{"$f":"IF(AN74=\"\",\"\",SUM($AN$4:AN74))","v":71},{"$f":"IF(AN74=\"\",\"\",Main!B74)","v":"0807541"},{"$f":"IF(AN74=\"\",\"\",Main!C74)","v":"K.V.RAVANAMMA"},{"$f":"IF(AN74=\"\",\"\",Main!D74)","v":"SA (English)"},{"$f":"IF(AN74=\"\",\"\",Main!E74)","v":"15280-40510"},null,null,null,null,null,null,null,{"$f":"IF(AN74=\"\",\"\",SUM(Main!N74,Main!S74))","v":2000},null,2000,null,null,null,null,null,null,null,null,null,null,null,null,null,null,null,null,null,null,0,2000,null,2000,null,null,{"$f":"IF(SUM(Main!N74,Main!S74)>0,1,\"\")","v":1}]
[{"$f":"IF(AN75=\"\",\"\",SUM($AN$4:AN75))","v":72},{"$f":"IF(AN75=\"\",\"\",Main!B75)","v":"0807541"},{"$f":"IF(AN75=\"\",\"\",Main!C75)","v":"K.V.RAVANAMMA"},{"$f":"IF(AN75=\"\",\"\",Main!D75)","v":"SA (English)"},{"$f":"IF(AN75=\"\",\"\",Main!E75)","v":"15280-40510"},null,null,null,null,null,null,null,{"$f":"IF(AN75=\"\",\"\",SUM(Main!N75,Main!S75))","v":2000},null,2000,null,null,null,null,null,null,null,null,null,null,null,null,null,null,null,null,null,null,0,2000,null,2000,null,null,{"$f":"IF(SUM(Main!N75,Main!S75)>0,1,\"\")","v":1}]
[{"$f":"IF(AN76=\"\",\"\",SUM($AN$4:AN76))","v":73},{"$f":"IF(AN76=\"\",\"\",Main!B76)","v":"0807541"},{"$f":"IF(AN76=\"\",\"\",Main!C76)","v":"K.V.RAVANAMMA"},{"$f":"IF(AN76=\"\",\"\",Main!D76)","v":"SA (English)"},{"$f":"IF(AN76=\"\",\"\",Main!E76)","v":"15280-40510"},null,null,null,null,null,null,null,{"$f":"IF(AN76=\"\",\"\",SUM(Main!N76,Main!S76))","v":2000},null,{"$f":"SUM(F76:N76)","v":2000},null,null,null,null,null,null,null,null,null,null,null,null,null,null,null,null,null,null,{"$f":"SUM(P76:AG76)","v":0},{"$f":"O76-AH76","v":2000},null,{"$f":"AI76-AJ76","v":2000},null,null,{"$f":"IF(SUM(Main!N76,Main!S76)>0,1,\"\")","v":1}]
[{"$f":"IF(AN77=\"\",\"\",SUM($AN$4:AN77))","v":74},{"$f":"IF(AN77=\"\",\"\",Main!B77)","v":"0807541"},{"$f":"IF(AN77=\"\",\"\",Main!C77)","v":"K.V.RAVANAMMA"},{"$f":"IF(AN77=\"\",\"\",Main!D77)","v":"SA (English)"},{"$f":"IF(AN77=\"\",\"\",Main!E77)","v":"15280-40510"},null,null,null,null,null,null,null,{"$f":"IF(AN77=\"\",\"\",SUM(Main!N77,Main!S77))","v":2000},null,2000,null,null,null,null,null,null,null,null,null,null,null,null,null,null,null,null,null,null,0,2000,null,2000,null,null,{"$f":"IF(SUM(Main!N77,Main!S77)>0,1,\"\")","v":1}]
[{"$f":"IF(AN78=\"\",\"\",SUM($AN$4:AN78))","v":75},{"$f":"IF(AN78=\"\",\"\",Main!B78)","v":"0807541"},{"$f":"IF(AN78=\"\",\"\",Main!C78)","v":"K.V.RAVANAMMA"},{"$f":"IF(AN78=\"\",\"\",Main!D78)","v":"SA (English)"},{"$f":"IF(AN78=\"\",\"\",Main!E78)","v":"15280-40510"},null,null,null,null,null,null,null,{"$f":"IF(AN78=\"\",\"\",SUM(Main!N78,Main!S78))","v":2000},null,2000,null,null,null,null,null,null,null,null,null,null,null,null,null,null,null,null,null,null,0,2000,null,2000,null,null,{"$f":"IF(SUM(Main!N78,Main!S78)>0,1,\"\")","v":1}]
[{"$f":"IF(AN79=\"\",\"\",SUM($AN$4:AN79))","v":76},{"$f":"IF(AN79=\"\",\"\",Main!B79)","v":"0807541"},{"$f":"IF(AN79=\"\",\"\",Main!C79)","v":"K.V.RAVANAMMA"},{"$f":"IF(AN79=\"\",\"\",Main!D79)","v":"SA (English)"},{"$f":"IF(AN79=\"\",\"\",Main!E79)","v":"15280-40510"},null,null,null,null,null,null,null,{"$f":"IF(AN79=\"\",\"\",SUM(Main!N79,Main!S79))","v":2000},null,2000,null,null,null,null,null,null,null,null,null,null,null,null,null,null,null,null,null,null,0,2000,null,2000,null,null,{"$f":"IF(SUM(Main!N79,Main!S79)>0,1,\"\")","v":1}]
[{"$f":"IF(AN80=\"\",\"\",SUM($AN$4:AN80))","v":77},{"$f":"IF(AN80=\"\",\"\",Main!B80)","v":"0807541"},{"$f":"IF(AN80=\"\",\"\",Main!C80)","v":"K.V.RAVANAMMA"},{"$f":"IF(AN80=\"\",\"\",Main!D80)","v":"SA (English)"},{"$f":"IF(AN80=\"\",\"\",Main!E80)","v":"15280-40510"},null,null,null,null,null,null,null,{"$f":"IF(AN80=\"\",\"\",SUM(Main!N80,Main!S80))","v":2000},null,2000,null,null,null,null,null,null,null,null,null,null,null,null,null,null,null,null,null,null,0,2000,null,2000,null,null,{"$f":"IF(SUM(Main!N80,Main!S80)>0,1,\"\")","v":1}]
[{"$f":"IF(AN81=\"\",\"\",SUM($AN$4:AN81))","v":78},{"$f":"IF(AN81=\"\",\"\",Main!B81)","v":"0807541"},{"$f":"IF(AN81=\"\",\"\",Main!C81)","v":"K.V.RAVANAMMA"},{"$f":"IF(AN81=\"\",\"\",Main!D81)","v":"SA (English)"},{"$f":"IF(AN81=\"\",\"\",Main!E81)","v":"15280-40510"},null,null,null,null,null,null,null,{"$f":"IF(AN81=\"\",\"\",SUM(Main!N81,Main!S81))","v":2000},null,2000,null,null,null,null,null,null,null,null,null,null,null,null,null,null,null,null,null,null,0,2000,null,2000,null,null,{"$f":"IF(SUM(Main!N81,Main!S81)>0,1,\"\")","v":1}]
[{"$f":"IF(AN82=\"\",\"\",SUM($AN$4:AN82))","v":79},{"$f":"IF(AN82=\"\",\"\",Main!B82)","v":"0807541"},{"$f":"IF(AN82=\"\",\"\",Main!C82)","v":"K.V.RAVANAMMA"},{"$f":"IF(AN82=\"\",\"\",Main!D82)","v":"SA (English)"},{"$f":"IF(AN82=\"\",\"\",Main!E82)","v":"15280-40510"},null,null,null,null,null,null,null,{"$f":"IF(AN82=\"\",\"\",SUM(Main!N82,Main!S82))","v":2000},null,2000,null,null,null,null,null,null,null,null,null,null,null,null,null,null,null,null,null,null,0,2000,null,2000,null,null,{"$f":"IF(SUM(Main!N82,Main!S82)>0,1,\"\")","v":1}]
[{"$f":"IF(AN83=\"\",\"\",SUM($AN$4:AN83))","v":80},{"$f":"IF(AN83=\"\",\"\",Main!B83)","v":"0807541"},{"$f":"IF(AN83=\"\",\"\",Main!C83)","v":"K.V.RAVANAMMA"},{"$f":"IF(AN83=\"\",\"\",Main!D83)","v":"SA (English)"},{"$f":"IF(AN83=\"\",\"\",Main!E83)","v":"15280-40510"},null,null,null,null,null,null,null,{"$f":"IF(AN83=\"\",\"\",SUM(Main!N83,Main!S83))","v":2000},null,2000,null,null,null,null,null,null,null,null,null,null,null,null,null,null,null,null,null,null,0,2000,null,2000,null,null,{"$f":"IF(SUM(Main!N83,Main!S83)>0,1,\"\")","v":1}]
[{"$f":"IF(AN84=\"\",\"\",SUM($AN$4:AN84))","v":81},{"$f":"IF(AN84=\"\",\"\",Main!B84)","v":"0807541"},{"$f":"IF(AN84=\"\",\"\",Main!C84)","v":"K.V.RAVANAMMA"},{"$f":"IF(AN84=\"\",\"\",Main!D84)","v":"SA (English)"},{"$f":"IF(AN84=\"\",\"\",Main!E84)","v":"15280-40510"},null,null,null,null,null,null,null,{"$f":"IF(AN84=\"\",\"\",SUM(Main!N84,Main!S84))","v":2000},null,2000,null,null,null,null,null,null,null,null,null,null,null,null,null,null,null,null,null,null,0,2000,null,2000,null,null,{"$f":"IF(SUM(Main!N84,Main!S84)>0,1,\"\")","v":1}]
[{"$f":"IF(AN85=\"\",\"\",SUM($AN$4:AN85))","v":82},{"$f":"IF(AN85=\"\",\"\",Main!B85)","v":"0807541"},{"$f":"IF(AN85=\"\",\"\",Main!C85)","v":"K.V.RAVANAMMA"},{"$f":"IF(AN85=\"\",\"\",Main!D85)","v":"SA (English)"},{"$f":"IF(AN85=\"\",\"\",Main!E85)","v":"15280-40510"},null,null,null,null,null,null,null,{"$f":"IF(AN85=\"\",\"\",SUM(Main!N85,Main!S85))","v":2000},null,2000,null,null,null,null,null,null,null,null,null,null,null,null,null,null,null,null,null,null,0,2000,null,2000,null,null,{"$f":"IF(SUM(Main!N85,Main!S85)>0,1,\"\")","v":1}]
[{"$f":"IF(AN86=\"\",\"\",SUM($AN$4:AN86))","v":83},{"$f":"IF(AN86=\"\",\"\",Main!B86)","v":"0807541"},{"$f":"IF(AN86=\"\",\"\",Main!C86)","v":"K.V.RAVANAMMA"},{"$f":"IF(AN86=\"\",\"\",Main!D86)","v":"SA (English)"},{"$f":"IF(AN86=\"\",\"\",Main!E86)","v":"15280-40510"},null,null,null,null,null,null,null,{"$f":"IF(AN86=\"\",\"\",SUM(Main!N86,Main!S86))","v":2000},null,2000,null,null,null,null,null,null,null,null,null,null,null,null,null,null,null,null,null,null,0,2000,null,2000,null,null,{"$f":"IF(SUM(Main!N86,Main!S86)>0,1,\"\")","v":1}]
[{"$f":"IF(AN87=\"\",\"\",SUM($AN$4:AN87))","v":84},{"$f":"IF(AN87=\"\",\"\",Main!B87)","v":"0807541"},{"$f":"IF(AN87=\"\",\"\",Main!C87)","v":"K.V.RAVANAMMA"},{"$f":"IF(AN87=\"\",\"\",Main!D87)","v":"SA (English)"},{"$f":"IF(AN87=\"\",\"\",Main!E87)","v":"15280-40510"},null,null,null,null,null,null,null,{"$f":"IF(AN87=\"\",\"\",SUM(Main!N87,Main!S87))","v":2000},null,2000,null,null,null,null,null,null,null,null,null,null,null,null,null,null,null,null,null,null,0,2000,null,2000,null,null,{"$f":"IF(SUM(Main!N87,Main!S87)>0,1,\"\")","v":1}]
[{"$f":"IF(AN88=\"\",\"\",SUM($AN$4:AN88))","v":85},{"$f":"IF(AN88=\"\",\"\",Main!B88)","v":"0807541"},{"$f":"IF(AN88=\"\",\"\",Main!C88)","v":"K.V.RAVANAMMA"},{"$f":"IF(AN88=\"\",\"\",Main!D88)","v":"SA (English)"},{"$f":"IF(AN88=\"\",\"\",Main!E88)","v":"15280-40510"},null,null,null,null,null,null,null,{"$f":"IF(AN88=\"\",\"\",SUM(Main!N88,Main!S88))","v":2000},null,2000,null,null,null,null,null,null,null,null,null,null,null,null,null,null,null,null,null,null,0,2000,null,2000,null,null,{"$f":"IF(SUM(Main!N88,Main!S88)>0,1,\"\")","v":1}]
[{"$f":"IF(AN89=\"\",\"\",SUM($AN$4:AN89))","v":86},{"$f":"IF(AN89=\"\",\"\",Main!B89)","v":"0807541"},{"$f":"IF(AN89=\"\",\"\",Main!C89)","v":"K.V.RAVANAMMA"},{"$f":"IF(AN89=\"\",\"\",Main!D89)","v":"SA (English)"},{"$f":"IF(AN89=\"\",\"\",Main!E89)","v":"15280-40510"},null,null,null,null,null,null,null,{"$f":"IF(AN89=\"\",\"\",SUM(Main!N89,Main!S89))","v":2000},null,2000,null,null,null,null,null,null,null,null,null,null,null,null,null,null,null,null,null,null,0,2000,null,2000,null,null,{"$f":"IF(SUM(Main!N89,Main!S89)>0,1,\"\")","v":1}]
[{"$f":"IF(AN90=\"\",\"\",SUM($AN$4:AN90))","v":87},{"$f":"IF(AN90=\"\",\"\",Main!B90)","v":"0807541"},{"$f":"IF(AN90=\"\",\"\",Main!C90)","v":"K.V.RAVANAMMA"},{"$f":"IF(AN90=\"\",\"\",Main!D90)","v":"SA (English)"},{"$f":"IF(AN90=\"\",\"\",Main!E90)","v":"15280-40510"},null,null,null,null,null,null,null,{"$f":"IF(AN90=\"\",\"\",SUM(Main!N90,Main!S90))","v":2000},null,2000,null,null,null,null,null,null,null,null,null,null,null,null,null,null,null,null,null,null,0,2000,null,2000,null,null,{"$f":"IF(SUM(Main!N90,Main!S90)>0,1,\"\")","v":1}]
[{"$f":"IF(AN91=\"\",\"\",SUM($AN$4:AN91))","v":88},{"$f":"IF(AN91=\"\",\"\",Main!B91)","v":"0807541"},{"$f":"IF(AN91=\"\",\"\",Main!C91)","v":"K.V.RAVANAMMA"},{"$f":"IF(AN91=\"\",\"\",Main!D91)","v":"SA (English)"},{"$f":"IF(AN91=\"\",\"\",Main!E91)","v":"15280-40510"},null,null,null,null,null,null,null,{"$f":"IF(AN91=\"\",\"\",SUM(Main!N91,Main!S91))","v":2000},null,2000,null,null,null,null,null,null,null,null,null,null,null,null,null,null,null,null,null,null,0,2000,null,2000,null,null,{"$f":"IF(SUM(Main!N91,Main!S91)>0,1,\"\")","v":1}]
[{"$f":"IF(AN92=\"\",\"\",SUM($AN$4:AN92))","v":89},{"$f":"IF(AN92=\"\",\"\",Main!B92)","v":"0807541"},{"$f":"IF(AN92=\"\",\"\",Main!C92)","v":"K.V.RAVANAMMA"},{"$f":"IF(AN92=\"\",\"\",Main!D92)","v":"SA (English)"},{"$f":"IF(AN92=\"\",\"\",Main!E92)","v":"15280-40510"},null,null,null,null,null,null,null,{"$f":"IF(AN92=\"\",\"\",SUM(Main!N92,Main!S92))","v":2000},null,2000,null,null,null,null,null,null,null,null,null,null,null,null,null,null,null,null,null,null,0,2000,null,2000,null,null,{"$f":"IF(SUM(Main!N92,Main!S92)>0,1,\"\")","v":1}]
[{"$f":"IF(AN93=\"\",\"\",SUM($AN$4:AN93))","v":90},{"$f":"IF(AN93=\"\",\"\",Main!B93)","v":"0807541"},{"$f":"IF(AN93=\"\",\"\",Main!C93)","v":"K.V.RAVANAMMA"},{"$f":"IF(AN93=\"\",\"\",Main!D93)","v":"SA (English)"},{"$f":"IF(AN93=\"\",\"\",Main!E93)","v":"15280-40510"},null,null,null,null,null,null,null,{"$f":"IF(AN93=\"\",\"\",SUM(Main!N93,Main!S93))","v":2000},null,2000,null,null,null,null,null,null,null,null,null,null,null,null,null,null,null,null,null,null,0,2000,null,2000,null,null,{"$f":"IF(SUM(Main!N93,Main!S93)>0,1,\"\")","v":1}]
[{"$f":"IF(AN94=\"\",\"\",SUM($AN$4:AN94))","v":91},{"$f":"IF(AN94=\"\",\"\",Main!B94)","v":"0807541"},{"$f":"IF(AN94=\"\",\"\",Main!C94)","v":"K.V.RAVANAMMA"},{"$f":"IF(AN94=\"\",\"\",Main!D94)","v":"SA (English)"},{"$f":"IF(AN94=\"\",\"\",Main!E94)","v":"15280-40510"},null,null,null,null,null,null,null,{"$f":"IF(AN94=\"\",\"\",SUM(Main!N94,Main!S94))","v":2000},null,2000,null,null,null,null,null,null,null,null,null,null,null,null,null,null,null,null,null,null,0,2000,null,2000,null,null,{"$f":"IF(SUM(Main!N94,Main!S94)>0,1,\"\")","v":1}]
[{"$f":"IF(AN95=\"\",\"\",SUM($AN$4:AN95))","v":92},{"$f":"IF(AN95=\"\",\"\",Main!B95)","v":"0807541"},{"$f":"IF(AN95=\"\",\"\",Main!C95)","v":"K.V.RAVANAMMA"},{"$f":"IF(AN95=\"\",\"\",Main!D95)","v":"SA (English)"},{"$f":"IF(AN95=\"\",\"\",Main!E95)","v":"15280-40510"},null,null,null,null,null,null,null,{"$f":"IF(AN95=\"\",\"\",SUM(Main!N95,Main!S95))","v":2000},null,2000,null,null,null,null,null,null,null,null,null,null,null,null,null,null,null,null,null,null,0,2000,null,2000,null,null,{"$f":"IF(SUM(Main!N95,Main!S95)>0,1,\"\")","v":1}]
[{"$f":"IF(AN96=\"\",\"\",SUM($AN$4:AN96))","v":93},{"$f":"IF(AN96=\"\",\"\",Main!B96)","v":"0807541"},{"$f":"IF(AN96=\"\",\"\",Main!C96)","v":"K.V.RAVANAMMA"},{"$f":"IF(AN96=\"\",\"\",Main!D96)","v":"SA (English)"},{"$f":"IF(AN96=\"\",\"\",Main!E96)","v":"15280-40510"},null,null,null,null,null,null,null,{"$f":"IF(AN96=\"\",\"\",SUM(Main!N96,Main!S96))","v":2000},null,2000,null,null,null,null,null,null,null,null,null,null,null,null,null,null,null,null,null,null,0,2000,null,2000,null,null,{"$f":"IF(SUM(Main!N96,Main!S96)>0,1,\"\")","v":1}]
[{"$f":"IF(AN97=\"\",\"\",SUM($AN$4:AN97))","v":94},{"$f":"IF(AN97=\"\",\"\",Main!B97)","v":"0807541"},{"$f":"IF(AN97=\"\",\"\",Main!C97)","v":"K.V.RAVANAMMA"},{"$f":"IF(AN97=\"\",\"\",Main!D97)","v":"SA (English)"},{"$f":"IF(AN97=\"\",\"\",Main!E97)","v":"15280-40510"},null,null,null,null,null,null,null,{"$f":"IF(AN97=\"\",\"\",SUM(Main!N97,Main!S97))","v":2000},null,2000,null,null,null,null,null,null,null,null,null,null,null,null,null,null,null,null,null,null,0,2000,null,2000,null,null,{"$f":"IF(SUM(Main!N97,Main!S97)>0,1,\"\")","v":1}]
[{"$f":"IF(AN98=\"\",\"\",SUM($AN$4:AN98))","v":95},{"$f":"IF(AN98=\"\",\"\",Main!B98)","v":"0807541"},{"$f":"IF(AN98=\"\",\"\",Main!C98)","v":"K.V.RAVANAMMA"},{"$f":"IF(AN98=\"\",\"\",Main!D98)","v":"SA (English)"},{"$f":"IF(AN98=\"\",\"\",Main!E98)","v":"15280-40510"},null,null,null,null,null,null,null,{"$f":"IF(AN98=\"\",\"\",SUM(Main!N98,Main!S98))","v":2000},null,2000,null,null,null,null,null,null,null,null,null,null,null,null,null,null,null,null,null,null,0,2000,null,2000,null,null,{"$f":"IF(SUM(Main!N98,Main!S98)>0,1,\"\")","v":1}]
[{"$f":"IF(AN99=\"\",\"\",SUM($AN$4:AN99))","v":96},{"$f":"IF(AN99=\"\",\"\",Main!B99)","v":"0807541"},{"$f":"IF(AN99=\"\",\"\",Main!C99)","v":"K.V.RAVANAMMA"},{"$f":"IF(AN99=\"\",\"\",Main!D99)","v":"SA (English)"},{"$f":"IF(AN99=\"\",\"\",Main!E99)","v":"15280-40510"},null,null,null,null,null,null,null,{"$f":"IF(AN99=\"\",\"\",SUM(Main!N99,Main!S99))","v":2000},null,2000,null,null,null,null,null,null,null,null,null,null,null,null,null,null,null,null,null,null,0,2000,null,2000,null,null,{"$f":"IF(SUM(Main!N99,Main!S99)>0,1,\"\")","v":1}]
[{"$f":"IF(AN100=\"\",\"\",SUM($AN$4:AN100))","v":97},{"$f":"IF(AN100=\"\",\"\",Main!B100)","v":"0807541"},{"$f":"IF(AN100=\"\",\"\",Main!C100)","v":"K.V.RAVANAMMA"},{"$f":"IF(AN100=\"\",\"\",Main!D100)","v":"SA (English)"},{"$f":"IF(AN100=\"\",\"\",Main!E100)","v":"15280-40510"},null,null,null,null,null,null,null,{"$f":"IF(AN100=\"\",\"\",SUM(Main!N100,Main!S100))","v":2000},null,2000,null,null,null,null,null,null,null,null,null,null,null,null,null,null,null,null,null,null,0,2000,null,2000,null,null,{"$f":"IF(SUM(Main!N100,Main!S100)>0,1,\"\")","v":1}]
[{"$f":"IF(AN101=\"\",\"\",SUM($AN$4:AN101))","v":98},{"$f":"IF(AN101=\"\",\"\",Main!B101)","v":"0807541"},{"$f":"IF(AN101=\"\",\"\",Main!C101)","v":"K.V.RAVANAMMA"},{"$f":"IF(AN101=\"\",\"\",Main!D101)","v":"SA (English)"},{"$f":"IF(AN101=\"\",\"\",Main!E101)","v":"15280-40510"},null,null,null,null,null,null,null,{"$f":"IF(AN101=\"\",\"\",SUM(Main!N101,Main!S101))","v":2000},null,2000,null,null,null,null,null,null,null,null,null,null,null,null,null,null,null,null,null,null,0,2000,null,2000,null,null,{"$f":"IF(SUM(Main!N101,Main!S101)>0,1,\"\")","v":1}]
[{"$f":"IF(AN102=\"\",\"\",SUM($AN$4:AN102))","v":99},{"$f":"IF(AN102=\"\",\"\",Main!B102)","v":"0807541"},{"$f":"IF(AN102=\"\",\"\",Main!C102)","v":"K.V.RAVANAMMA"},{"$f":"IF(AN102=\"\",\"\",Main!D102)","v":"SA (English)"},{"$f":"IF(AN102=\"\",\"\",Main!E102)","v":"15280-40510"},null,null,null,null,null,null,null,{"$f":"IF(AN102=\"\",\"\",SUM(Main!N102,Main!S102))","v":2000},null,2000,null,null,null,null,null,null,null,null,null,null,null,null,null,null,null,null,null,null,0,2000,null,2000,null,null,{"$f":"IF(SUM(Main!N102,Main!S102)>0,1,\"\")","v":1}]
[{"$f":"IF(AN103=\"\",\"\",SUM($AN$4:AN103))","v":100},{"$f":"IF(AN103=\"\",\"\",Main!B103)","v":"0807541"},{"$f":"IF(AN103=\"\",\"\",Main!C103)","v":"K.V.RAVANAMMA"},{"$f":"IF(AN103=\"\",\"\",Main!D103)","v":"SA (English)"},{"$f":"IF(AN103=\"\",\"\",Main!E103)","v":"15280-40510"},null,null,null,null,null,null,null,{"$f":"IF(AN103=\"\",\"\",SUM(Main!N103,Main!S103))","v":2000},null,2000,null,null,null,null,null,null,null,null,null,null,null,null,null,null,null,null,null,null,0,2000,null,2000,null,null,{"$f":"IF(SUM(Main!N103,Main!S103)>0,1,\"\")","v":1}]
[{"$f":"IF(AN104=\"\",\"\",SUM($AN$4:AN104))","v":101},{"$f":"IF(AN104=\"\",\"\",Main!B104)","v":"0807541"},{"$f":"IF(AN104=\"\",\"\",Main!C104)","v":"K.V.RAVANAMMA"},{"$f":"IF(AN104=\"\",\"\",Main!D104)","v":"SA (English)"},{"$f":"IF(AN104=\"\",\"\",Main!E104)","v":"15280-40510"},null,null,null,null,null,null,null,{"$f":"IF(AN104=\"\",\"\",SUM(Main!N104,Main!S104))","v":2000},null,2000,null,null,null,null,null,null,null,null,null,null,null,null,null,null,null,null,null,null,0,2000,null,2000,null,null,{"$f":"IF(SUM(Main!N104,Main!S104)>0,1,\"\")","v":1}]
[{"$f":"IF(AN105=\"\",\"\",SUM($AN$4:AN105))","v":102},{"$f":"IF(AN105=\"\",\"\",Main!B105)","v":"0807541"},{"$f":"IF(AN105=\"\",\"\",Main!C105)","v":"K.V.RAVANAMMA"},{"$f":"IF(AN105=\"\",\"\",Main!D105)","v":"SA (English)"},{"$f":"IF(AN105=\"\",\"\",Main!E105)","v":"15280-40510"},null,null,null,null,null,null,null,{"$f":"IF(AN105=\"\",\"\",SUM(Main!N105,Main!S105))","v":2000},null,2000,null,null,null,null,null,null,null,null,null,null,null,null,null,null,null,null,null,null,0,2000,null,2000,null,null,{"$f":"IF(SUM(Main!N105,Main!S105)>0,1,\"\")","v":1}]
[{"$f":"IF(AN106=\"\",\"\",SUM($AN$4:AN106))","v":103},{"$f":"IF(AN106=\"\",\"\",Main!B106)","v":"0807541"},{"$f":"IF(AN106=\"\",\"\",Main!C106)","v":"K.V.RAVANAMMA"},{"$f":"IF(AN106=\"\",\"\",Main!D106)","v":"SA (English)"},{"$f":"IF(AN106=\"\",\"\",Main!E106)","v":"15280-40510"},null,null,null,null,null,null,null,{"$f":"IF(AN106=\"\",\"\",SUM(Main!N106,Main!S106))","v":2000},null,2000,null,null,null,null,null,null,null,null,null,null,null,null,null,null,null,null,null,null,0,2000,null,2000,null,null,{"$f":"IF(SUM(Main!N106,Main!S106)>0,1,\"\")","v":1}]
[{"$f":"IF(AN107=\"\",\"\",SUM($AN$4:AN107))","v":104},{"$f":"IF(AN107=\"\",\"\",Main!B107)","v":"0807541"},{"$f":"IF(AN107=\"\",\"\",Main!C107)","v":"K.V.RAVANAMMA"},{"$f":"IF(AN107=\"\",\"\",Main!D107)","v":"SA (English)"},{"$f":"IF(AN107=\"\",\"\",Main!E107)","v":"15280-40510"},null,null,null,null,null,null,null,{"$f":"IF(AN107=\"\",\"\",SUM(Main!N107,Main!S107))","v":2000},null,2000,null,null,null,null,null,null,null,null,null,null,null,null,null,null,null,null,null,null,0,2000,null,2000,null,null,{"$f":"IF(SUM(Main!N107,Main!S107)>0,1,\"\")","v":1}]
[{"$f":"IF(AN108=\"\",\"\",SUM($AN$4:AN108))","v":105},{"$f":"IF(AN108=\"\",\"\",Main!B108)","v":"0807541"},{"$f":"IF(AN108=\"\",\"\",Main!C108)","v":"K.V.RAVANAMMA"},{"$f":"IF(AN108=\"\",\"\",Main!D108)","v":"SA (English)"},{"$f":"IF(AN108=\"\",\"\",Main!E108)","v":"15280-40510"},null,null,null,null,null,null,null,{"$f":"IF(AN108=\"\",\"\",SUM(Main!N108,Main!S108))","v":2000},null,2000,null,null,null,null,null,null,null,null,null,null,null,null,null,null,null,null,null,null,0,2000,null,2000,null,null,{"$f":"IF(SUM(Main!N108,Main!S108)>0,1,\"\")","v":1}]
[{"$f":"IF(AN109=\"\",\"\",SUM($AN$4:AN109))","v":106},{"$f":"IF(AN109=\"\",\"\",Main!B109)","v":"0807541"},{"$f":"IF(AN109=\"\",\"\",Main!C109)","v":"K.V.RAVANAMMA"},{"$f":"IF(AN109=\"\",\"\",Main!D109)","v":"SA (English)"},{"$f":"IF(AN109=\"\",\"\",Main!E109)","v":"15280-40510"},null,null,null,null,null,null,null,{"$f":"IF(AN109=\"\",\"\",SUM(Main!N109,Main!S109))","v":2000},null,2000,null,null,null,null,null,null,null,null,null,null,null,null,null,null,null,null,null,null,0,2000,null,2000,null,null,{"$f":"IF(SUM(Main!N109,Main!S109)>0,1,\"\")","v":1}]
[{"$f":"IF(AN110=\"\",\"\",SUM($AN$4:AN110))","v":107},{"$f":"IF(AN110=\"\",\"\",Main!B110)","v":"0807541"},{"$f":"IF(AN110=\"\",\"\",Main!C110)","v":"K.V.RAVANAMMA"},{"$f":"IF(AN110=\"\",\"\",Main!D110)","v":"SA (English)"},{"$f":"IF(AN110=\"\",\"\",Main!E110)","v":"15280-40510"},null,null,null,null,null,null,null,{"$f":"IF(AN110=\"\",\"\",SUM(Main!N110,Main!S110))","v":2000},null,2000,null,null,null,null,null,null,null,null,null,null,null,null,null,null,null,null,null,null,0,2000,null,2000,null,null,{"$f":"IF(SUM(Main!N110,Main!S110)>0,1,\"\")","v":1}]
[{"$f":"IF(AN111=\"\",\"\",SUM($AN$4:AN111))","v":108},{"$f":"IF(AN111=\"\",\"\",Main!B111)","v":"0807541"},{"$f":"IF(AN111=\"\",\"\",Main!C111)","v":"K.V.RAVANAMMA"},{"$f":"IF(AN111=\"\",\"\",Main!D111)","v":"SA (English)"},{"$f":"IF(AN111=\"\",\"\",Main!E111)","v":"15280-40510"},null,null,null,null,null,null,null,{"$f":"IF(AN111=\"\",\"\",SUM(Main!N111,Main!S111))","v":2000},null,2000,null,null,null,null,null,null,null,null,null,null,null,null,null,null,null,null,null,null,0,2000,null,2000,null,null,{"$f":"IF(SUM(Main!N111,Main!S111)>0,1,\"\")","v":1}]
[{"$f":"IF(AN112=\"\",\"\",SUM($AN$4:AN112))","v":109},{"$f":"IF(AN112=\"\",\"\",Main!B112)","v":"0807541"},{"$f":"IF(AN112=\"\",\"\",Main!C112)","v":"K.V.RAVANAMMA"},{"$f":"IF(AN112=\"\",\"\",Main!D112)","v":"SA (English)"},{"$f":"IF(AN112=\"\",\"\",Main!E112)","v":"15280-40510"},null,null,null,null,null,null,null,{"$f":"IF(AN112=\"\",\"\",SUM(Main!N112,Main!S112))","v":2000},null,2000,null,null,null,null,null,null,null,null,null,null,null,null,null,null,null,null,null,null,0,2000,null,2000,null,null,{"$f":"IF(SUM(Main!N112,Main!S112)>0,1,\"\")","v":1}]
[{"$f":"IF(AN113=\"\",\"\",SUM($AN$4:AN113))","v":110},{"$f":"IF(AN113=\"\",\"\",Main!B113)","v":"0807541"},{"$f":"IF(AN113=\"\",\"\",Main!C113)","v":"K.V.RAVANAMMA"},{"$f":"IF(AN113=\"\",\"\",Main!D113)","v":"SA (English)"},{"$f":"IF(AN113=\"\",\"\",Main!E113)","v":"15280-40510"},null,null,null,null,null,null,null,{"$f":"IF(AN113=\"\",\"\",SUM(Main!N113,Main!S113))","v":2000},null,2000,null,null,null,null,null,null,null,null,null,null,null,null,null,null,null,null,null,null,0,2000,null,2000,null,null,{"$f":"IF(SUM(Main!N113,Main!S113)>0,1,\"\")","v":1}]
[{"$f":"IF(AN114=\"\",\"\",SUM($AN$4:AN114))","v":111},{"$f":"IF(AN114=\"\",\"\",Main!B114)","v":"0807541"},{"$f":"IF(AN114=\"\",\"\",Main!C114)","v":"K.V.RAVANAMMA"},{"$f":"IF(AN114=\"\",\"\",Main!D114)","v":"SA (English)"},{"$f":"IF(AN114=\"\",\"\",Main!E114)","v":"15280-40510"},null,null,null,null,null,null,null,{"$f":"IF(AN114=\"\",\"\",SUM(Main!N114,Main!S114))","v":2000},null,2000,null,null,null,null,null,null,null,null,null,null,null,null,null,null,null,null,null,null,0,2000,null,2000,null,null,{"$f":"IF(SUM(Main!N114,Main!S114)>0,1,\"\")","v":1}]
[{"$f":"IF(AN115=\"\",\"\",SUM($AN$4:AN115))","v":112},{"$f":"IF(AN115=\"\",\"\",Main!B115)","v":"0807541"},{"$f":"IF(AN115=\"\",\"\",Main!C115)","v":"K.V.RAVANAMMA"},{"$f":"IF(AN115=\"\",\"\",Main!D115)","v":"SA (English)"},{"$f":"IF(AN115=\"\",\"\",Main!E115)","v":"15280-40510"},null,null,null,null,null,null,null,{"$f":"IF(AN115=\"\",\"\",SUM(Main!N115,Main!S115))","v":2000},null,2000,null,null,null,null,null,null,null,null,null,null,null,null,null,null,null,null,null,null,0,2000,null,2000,null,null,{"$f":"IF(SUM(Main!N115,Main!S115)>0,1,\"\")","v":1}]
[{"$f":"IF(AN116=\"\",\"\",SUM($AN$4:AN116))","v":113},{"$f":"IF(AN116=\"\",\"\",Main!B116)","v":"0807541"},{"$f":"IF(AN116=\"\",\"\",Main!C116)","v":"K.V.RAVANAMMA"},{"$f":"IF(AN116=\"\",\"\",Main!D116)","v":"SA (English)"},{"$f":"IF(AN116=\"\",\"\",Main!E116)","v":"15280-40510"},null,null,null,null,null,null,null,{"$f":"IF(AN116=\"\",\"\",SUM(Main!N116,Main!S116))","v":2000},null,2000,null,null,null,null,null,null,null,null,null,null,null,null,null,null,null,null,null,null,0,2000,null,2000,null,null,{"$f":"IF(SUM(Main!N116,Main!S116)>0,1,\"\")","v":1}]
[{"$f":"IF(AN117=\"\",\"\",SUM($AN$4:AN117))","v":114},{"$f":"IF(AN117=\"\",\"\",Main!B117)","v":"0807541"},{"$f":"IF(AN117=\"\",\"\",Main!C117)","v":"K.V.RAVANAMMA"},{"$f":"IF(AN117=\"\",\"\",Main!D117)","v":"SA (English)"},{"$f":"IF(AN117=\"\",\"\",Main!E117)","v":"15280-40510"},null,null,null,null,null,null,null,{"$f":"IF(AN117=\"\",\"\",SUM(Main!N117,Main!S117))","v":2000},null,2000,null,null,null,null,null,null,null,null,null,null,null,null,null,null,null,null,null,null,0,2000,null,2000,null,null,{"$f":"IF(SUM(Main!N117,Main!S117)>0,1,\"\")","v":1}]
[{"$f":"IF(AN118=\"\",\"\",SUM($AN$4:AN118))","v":115},{"$f":"IF(AN118=\"\",\"\",Main!B118)","v":"0807541"},{"$f":"IF(AN118=\"\",\"\",Main!C118)","v":"K.V.RAVANAMMA"},{"$f":"IF(AN118=\"\",\"\",Main!D118)","v":"SA (English)"},{"$f":"IF(AN118=\"\",\"\",Main!E118)","v":"15280-40510"},null,null,null,null,null,null,null,{"$f":"IF(AN118=\"\",\"\",SUM(Main!N118,Main!S118))","v":2000},null,2000,null,null,null,null,null,null,null,null,null,null,null,null,null,null,null,null,null,null,0,2000,null,2000,null,null,{"$f":"IF(SUM(Main!N118,Main!S118)>0,1,\"\")","v":1}]
[{"$f":"IF(AN119=\"\",\"\",SUM($AN$4:AN119))","v":116},{"$f":"IF(AN119=\"\",\"\",Main!B119)","v":"0807541"},{"$f":"IF(AN119=\"\",\"\",Main!C119)","v":"K.V.RAVANAMMA"},{"$f":"IF(AN119=\"\",\"\",Main!D119)","v":"SA (English)"},{"$f":"IF(AN119=\"\",\"\",Main!E119)","v":"15280-40510"},null,null,null,null,null,null,null,{"$f":"IF(AN119=\"\",\"\",SUM(Main!N119,Main!S119))","v":2000},null,2000,null,null,null,null,null,null,null,null,null,null,null,null,null,null,null,null,null,null,0,2000,null,2000,null,null,{"$f":"IF(SUM(Main!N119,Main!S119)>0,1,\"\")","v":1}]
[{"$f":"IF(AN120=\"\",\"\",SUM($AN$4:AN120))","v":117},{"$f":"IF(AN120=\"\",\"\",Main!B120)","v":"0807541"},{"$f":"IF(AN120=\"\",\"\",Main!C120)","v":"K.V.RAVANAMMA"},{"$f":"IF(AN120=\"\",\"\",Main!D120)","v":"SA (English)"},{"$f":"IF(AN120=\"\",\"\",Main!E120)","v":"15280-40510"},null,null,null,null,null,null,null,{"$f":"IF(AN120=\"\",\"\",SUM(Main!N120,Main!S120))","v":2000},null,2000,null,null,null,null,null,null,null,null,null,null,null,null,null,null,null,null,null,null,0,2000,null,2000,null,null,{"$f":"IF(SUM(Main!N120,Main!S120)>0,1,\"\")","v":1}]
[{"$f":"IF(AN121=\"\",\"\",SUM($AN$4:AN121))","v":118},{"$f":"IF(AN121=\"\",\"\",Main!B121)","v":"0807541"},{"$f":"IF(AN121=\"\",\"\",Main!C121)","v":"K.V.RAVANAMMA"},{"$f":"IF(AN121=\"\",\"\",Main!D121)","v":"SA (English)"},{"$f":"IF(AN121=\"\",\"\",Main!E121)","v":"15280-40510"},null,null,null,null,null,null,null,{"$f":"IF(AN121=\"\",\"\",SUM(Main!N121,Main!S121))","v":2000},null,2000,null,null,null,null,null,null,null,null,null,null,null,null,null,null,null,null,null,null,0,2000,null,2000,null,null,{"$f":"IF(SUM(Main!N121,Main!S121)>0,1,\"\")","v":1}]
[{"$f":"IF(AN122=\"\",\"\",SUM($AN$4:AN122))","v":119},{"$f":"IF(AN122=\"\",\"\",Main!B122)","v":"0807541"},{"$f":"IF(AN122=\"\",\"\",Main!C122)","v":"K.V.RAVANAMMA"},{"$f":"IF(AN122=\"\",\"\",Main!D122)","v":"SA (English)"},{"$f":"IF(AN122=\"\",\"\",Main!E122)","v":"15280-40510"},null,null,null,null,null,null,null,{"$f":"IF(AN122=\"\",\"\",SUM(Main!N122,Main!S122))","v":2000},null,2000,null,null,null,null,null,null,null,null,null,null,null,null,null,null,null,null,null,null,0,2000,null,2000,null,null,{"$f":"IF(SUM(Main!N122,Main!S122)>0,1,\"\")","v":1}]
[{"$f":"IF(AN123=\"\",\"\",SUM($AN$4:AN123))","v":120},{"$f":"IF(AN123=\"\",\"\",Main!B123)","v":"0807541"},{"$f":"IF(AN123=\"\",\"\",Main!C123)","v":"K.V.RAVANAMMA"},{"$f":"IF(AN123=\"\",\"\",Main!D123)","v":"SA (English)"},{"$f":"IF(AN123=\"\",\"\",Main!E123)","v":"15280-40510"},null,null,null,null,null,null,null,{"$f":"IF(AN123=\"\",\"\",SUM(Main!N123,Main!S123))","v":2000},null,2000,null,null,null,null,null,null,null,null,null,null,null,null,null,null,null,null,null,null,0,2000,null,2000,null,null,{"$f":"IF(SUM(Main!N123,Main!S123)>0,1,\"\")","v":1}]
[{"$f":"IF(AN124=\"\",\"\",SUM($AN$4:AN124))","v":121},{"$f":"IF(AN124=\"\",\"\",Main!B124)","v":"0807541"},{"$f":"IF(AN124=\"\",\"\",Main!C124)","v":"K.V.RAVANAMMA"},{"$f":"IF(AN124=\"\",\"\",Main!D124)","v":"SA (English)"},{"$f":"IF(AN124=\"\",\"\",Main!E124)","v":"15280-40510"},null,null,null,null,null,null,null,{"$f":"IF(AN124=\"\",\"\",SUM(Main!N124,Main!S124))","v":2000},null,2000,null,null,null,null,null,null,null,null,null,null,null,null,null,null,null,null,null,null,0,2000,null,2000,null,null,{"$f":"IF(SUM(Main!N124,Main!S124)>0,1,\"\")","v":1}]
[{"$f":"IF(AN125=\"\",\"\",SUM($AN$4:AN125))","v":122},{"$f":"IF(AN125=\"\",\"\",Main!B125)","v":"0807541"},{"$f":"IF(AN125=\"\",\"\",Main!C125)","v":"K.V.RAVANAMMA"},{"$f":"IF(AN125=\"\",\"\",Main!D125)","v":"SA (English)"},{"$f":"IF(AN125=\"\",\"\",Main!E125)","v":"15280-40510"},null,null,null,null,null,null,null,{"$f":"IF(AN125=\"\",\"\",SUM(Main!N125,Main!S125))","v":2000},null,2000,null,null,null,null,null,null,null,null,null,null,null,null,null,null,null,null,null,null,0,2000,null,2000,null,null,{"$f":"IF(SUM(Main!N125,Main!S125)>0,1,\"\")","v":1}]
[{"$f":"IF(AN126=\"\",\"\",SUM($AN$4:AN126))","v":123},{"$f":"IF(AN126=\"\",\"\",Main!B126)","v":"0807541"},{"$f":"IF(AN126=\"\",\"\",Main!C126)","v":"K.V.RAVANAMMA"},{"$f":"IF(AN126=\"\",\"\",Main!D126)","v":"SA (English)"},{"$f":"IF(AN126=\"\",\"\",Main!E126)","v":"15280-40510"},null,null,null,null,null,null,null,{"$f":"IF(AN126=\"\",\"\",SUM(Main!N126,Main!S126))","v":2000},null,2000,null,null,null,null,null,null,null,null,null,null,null,null,null,null,null,null,null,null,0,2000,null,2000,null,null,{"$f":"IF(SUM(Main!N126,Main!S126)>0,1,\"\")","v":1}]
[{"$f":"IF(AN127=\"\",\"\",SUM($AN$4:AN127))","v":124},{"$f":"IF(AN127=\"\",\"\",Main!B127)","v":"0807541"},{"$f":"IF(AN127=\"\",\"\",Main!C127)","v":"K.V.RAVANAMMA"},{"$f":"IF(AN127=\"\",\"\",Main!D127)","v":"SA (English)"},{"$f":"IF(AN127=\"\",\"\",Main!E127)","v":"15280-40510"},null,null,null,null,null,null,null,{"$f":"IF(AN127=\"\",\"\",SUM(Main!N127,Main!S127))","v":2000},null,2000,null,null,null,null,null,null,null,null,null,null,null,null,null,null,null,null,null,null,0,2000,null,2000,null,null,{"$f":"IF(SUM(Main!N127,Main!S127)>0,1,\"\")","v":1}]
[{"$f":"IF(AN128=\"\",\"\",SUM($AN$4:AN128))","v":125},{"$f":"IF(AN128=\"\",\"\",Main!B128)","v":"0807541"},{"$f":"IF(AN128=\"\",\"\",Main!C128)","v":"K.V.RAVANAMMA"},{"$f":"IF(AN128=\"\",\"\",Main!D128)","v":"SA (English)"},{"$f":"IF(AN128=\"\",\"\",Main!E128)","v":"15280-40510"},null,null,null,null,null,null,null,{"$f":"IF(AN128=\"\",\"\",SUM(Main!N128,Main!S128))","v":2000},null,2000,null,null,null,null,null,null,null,null,null,null,null,null,null,null,null,null,null,null,0,2000,null,2000,null,null,{"$f":"IF(SUM(Main!N128,Main!S128)>0,1,\"\")","v":1}]
[{"$f":"IF(AN129=\"\",\"\",SUM($AN$4:AN129))","v":126},{"$f":"IF(AN129=\"\",\"\",Main!B129)","v":"0807541"},{"$f":"IF(AN129=\"\",\"\",Main!C129)","v":"K.V.RAVANAMMA"},{"$f":"IF(AN129=\"\",\"\",Main!D129)","v":"SA (English)"},{"$f":"IF(AN129=\"\",\"\",Main!E129)","v":"15280-40510"},null,null,null,null,null,null,null,{"$f":"IF(AN129=\"\",\"\",SUM(Main!N129,Main!S129))","v":2000},null,2000,null,null,null,null,null,null,null,null,null,null,null,null,null,null,null,null,null,null,0,2000,null,2000,null,null,{"$f":"IF(SUM(Main!N129,Main!S129)>0,1,\"\")","v":1}]
[{"$f":"IF(AN130=\"\",\"\",SUM($AN$4:AN130))","v":127},{"$f":"IF(AN130=\"\",\"\",Main!B130)","v":"0807541"},{"$f":"IF(AN130=\"\",\"\",Main!C130)","v":"K.V.RAVANAMMA"},{"$f":"IF(AN130=\"\",\"\",Main!D130)","v":"SA (English)"},{"$f":"IF(AN130=\"\",\"\",Main!E130)","v":"15280-40510"},null,null,null,null,null,null,null,{"$f":"IF(AN130=\"\",\"\",SUM(Main!N130,Main!S130))","v":2000},null,2000,null,null,null,null,null,null,null,null,null,null,null,null,null,null,null,null,null,null,0,2000,null,2000,null,null,{"$f":"IF(SUM(Main!N130,Main!S130)>0,1,\"\")","v":1}]
[{"$f":"IF(AN131=\"\",\"\",SUM($AN$4:AN131))","v":128},{"$f":"IF(AN131=\"\",\"\",Main!B131)","v":"0807541"},{"$f":"IF(AN131=\"\",\"\",Main!C131)","v":"K.V.RAVANAMMA"},{"$f":"IF(AN131=\"\",\"\",Main!D131)","v":"SA (English)"},{"$f":"IF(AN131=\"\",\"\",Main!E131)","v":"15280-40510"},null,null,null,null,null,null,null,{"$f":"IF(AN131=\"\",\"\",SUM(Main!N131,Main!S131))","v":2000},null,2000,null,null,null,null,null,null,null,null,null,null,null,null,null,null,null,null,null,null,0,2000,null,2000,null,null,{"$f":"IF(SUM(Main!N131,Main!S131)>0,1,\"\")","v":1}]
[{"$f":"IF(AN132=\"\",\"\",SUM($AN$4:AN132))","v":129},{"$f":"IF(AN132=\"\",\"\",Main!B132)","v":"0807541"},{"$f":"IF(AN132=\"\",\"\",Main!C132)","v":"K.V.RAVANAMMA"},{"$f":"IF(AN132=\"\",\"\",Main!D132)","v":"SA (English)"},{"$f":"IF(AN132=\"\",\"\",Main!E132)","v":"15280-40510"},null,null,null,null,null,null,null,{"$f":"IF(AN132=\"\",\"\",SUM(Main!N132,Main!S132))","v":2000},null,2000,null,null,null,null,null,null,null,null,null,null,null,null,null,null,null,null,null,null,0,2000,null,2000,null,null,{"$f":"IF(SUM(Main!N132,Main!S132)>0,1,\"\")","v":1}]
[{"$f":"IF(AN133=\"\",\"\",SUM($AN$4:AN133))","v":130},{"$f":"IF(AN133=\"\",\"\",Main!B133)","v":"0807541"},{"$f":"IF(AN133=\"\",\"\",Main!C133)","v":"K.V.RAVANAMMA"},{"$f":"IF(AN133=\"\",\"\",Main!D133)","v":"SA (English)"},{"$f":"IF(AN133=\"\",\"\",Main!E133)","v":"15280-40510"},null,null,null,null,null,null,null,{"$f":"IF(AN133=\"\",\"\",SUM(Main!N133,Main!S133))","v":2000},null,2000,null,null,null,null,null,null,null,null,null,null,null,null,null,null,null,null,null,null,0,2000,null,2000,null,null,{"$f":"IF(SUM(Main!N133,Main!S133)>0,1,\"\")","v":1}]
[{"$f":"IF(AN134=\"\",\"\",SUM($AN$4:AN134))","v":131},{"$f":"IF(AN134=\"\",\"\",Main!B134)","v":"0807541"},{"$f":"IF(AN134=\"\",\"\",Main!C134)","v":"K.V.RAVANAMMA"},{"$f":"IF(AN134=\"\",\"\",Main!D134)","v":"SA (English)"},{"$f":"IF(AN134=\"\",\"\",Main!E134)","v":"15280-40510"},null,null,null,null,null,null,null,{"$f":"IF(AN134=\"\",\"\",SUM(Main!N134,Main!S134))","v":2000},null,2000,null,null,null,null,null,null,null,null,null,null,null,null,null,null,null,null,null,null,0,2000,null,2000,null,null,{"$f":"IF(SUM(Main!N134,Main!S134)>0,1,\"\")","v":1}]
[{"$f":"IF(AN135=\"\",\"\",SUM($AN$4:AN135))","v":132},{"$f":"IF(AN135=\"\",\"\",Main!B135)","v":"0807541"},{"$f":"IF(AN135=\"\",\"\",Main!C135)","v":"K.V.RAVANAMMA"},{"$f":"IF(AN135=\"\",\"\",Main!D135)","v":"SA (English)"},{"$f":"IF(AN135=\"\",\"\",Main!E135)","v":"15280-40510"},null,null,null,null,null,null,null,{"$f":"IF(AN135=\"\",\"\",SUM(Main!N135,Main!S135))","v":2000},null,2000,null,null,null,null,null,null,null,null,null,null,null,null,null,null,null,null,null,null,0,2000,null,2000,null,null,{"$f":"IF(SUM(Main!N135,Main!S135)>0,1,\"\")","v":1}]
[{"$f":"IF(AN136=\"\",\"\",SUM($AN$4:AN136))","v":133},{"$f":"IF(AN136=\"\",\"\",Main!B136)","v":"0807541"},{"$f":"IF(AN136=\"\",\"\",Main!C136)","v":"K.V.RAVANAMMA"},{"$f":"IF(AN136=\"\",\"\",Main!D136)","v":"SA (English)"},{"$f":"IF(AN136=\"\",\"\",Main!E136)","v":"15280-40510"},null,null,null,null,null,null,null,{"$f":"IF(AN136=\"\",\"\",SUM(Main!N136,Main!S136))","v":2000},null,2000,null,null,null,null,null,null,null,null,null,null,null,null,null,null,null,null,null,null,0,2000,null,2000,null,null,{"$f":"IF(SUM(Main!N136,Main!S136)>0,1,\"\")","v":1}]
[{"$f":"IF(AN137=\"\",\"\",SUM($AN$4:AN137))","v":134},{"$f":"IF(AN137=\"\",\"\",Main!B137)","v":"0807541"},{"$f":"IF(AN137=\"\",\"\",Main!C137)","v":"K.V.RAVANAMMA"},{"$f":"IF(AN137=\"\",\"\",Main!D137)","v":"SA (English)"},{"$f":"IF(AN137=\"\",\"\",Main!E137)","v":"15280-40510"},null,null,null,null,null,null,null,{"$f":"IF(AN137=\"\",\"\",SUM(Main!N137,Main!S137))","v":2000},null,2000,null,null,null,null,null,null,null,null,null,null,null,null,null,null,null,null,null,null,0,2000,null,2000,null,null,{"$f":"IF(SUM(Main!N137,Main!S137)>0,1,\"\")","v":1}]
[{"$f":"IF(AN138=\"\",\"\",SUM($AN$4:AN138))","v":135},{"$f":"IF(AN138=\"\",\"\",Main!B138)","v":"0807541"},{"$f":"IF(AN138=\"\",\"\",Main!C138)","v":"K.V.RAVANAMMA"},{"$f":"IF(AN138=\"\",\"\",Main!D138)","v":"SA (English)"},{"$f":"IF(AN138=\"\",\"\",Main!E138)","v":"15280-40510"},null,null,null,null,null,null,null,{"$f":"IF(AN138=\"\",\"\",SUM(Main!N138,Main!S138))","v":2000},null,2000,null,null,null,null,null,null,null,null,null,null,null,null,null,null,null,null,null,null,0,2000,null,2000,null,null,{"$f":"IF(SUM(Main!N138,Main!S138)>0,1,\"\")","v":1}]
[{"$f":"IF(AN139=\"\",\"\",SUM($AN$4:AN139))","v":136},{"$f":"IF(AN139=\"\",\"\",Main!B139)","v":"0807541"},{"$f":"IF(AN139=\"\",\"\",Main!C139)","v":"K.V.RAVANAMMA"},{"$f":"IF(AN139=\"\",\"\",Main!D139)","v":"SA (English)"},{"$f":"IF(AN139=\"\",\"\",Main!E139)","v":"15280-40510"},null,null,null,null,null,null,null,{"$f":"IF(AN139=\"\",\"\",SUM(Main!N139,Main!S139))","v":2000},null,2000,null,null,null,null,null,null,null,null,null,null,null,null,null,null,null,null,null,null,0,2000,null,2000,null,null,{"$f":"IF(SUM(Main!N139,Main!S139)>0,1,\"\")","v":1}]
[{"$f":"IF(AN140=\"\",\"\",SUM($AN$4:AN140))","v":137},{"$f":"IF(AN140=\"\",\"\",Main!B140)","v":"0807541"},{"$f":"IF(AN140=\"\",\"\",Main!C140)","v":"K.V.RAVANAMMA"},{"$f":"IF(AN140=\"\",\"\",Main!D140)","v":"SA (English)"},{"$f":"IF(AN140=\"\",\"\",Main!E140)","v":"15280-40510"},null,null,null,null,null,null,null,{"$f":"IF(AN140=\"\",\"\",SUM(Main!N140,Main!S140))","v":2000},null,{"$f":"SUM(F140:N140)","v":2000},null,null,null,null,null,null,null,null,null,null,null,null,null,null,null,null,null,null,{"$f":"SUM(P140:AG140)","v":0},{"$f":"O140-AH140","v":2000},null,{"$f":"AI140-AJ140","v":2000},null,null,{"$f":"IF(SUM(Main!N140,Main!S140)>0,1,\"\")","v":1}]
[{"$f":"IF(AN141=\"\",\"\",SUM($AN$4:AN141))","v":138},{"$f":"IF(AN141=\"\",\"\",Main!B141)","v":"0807541"},{"$f":"IF(AN141=\"\",\"\",Main!C141)","v":"K.V.RAVANAMMA"},{"$f":"IF(AN141=\"\",\"\",Main!D141)","v":"SA (English)"},{"$f":"IF(AN141=\"\",\"\",Main!E141)","v":"15280-40510"},null,null,null,null,null,null,null,{"$f":"IF(AN141=\"\",\"\",SUM(Main!N141,Main!S141))","v":2000},null,2000,null,null,null,null,null,null,null,null,null,null,null,null,null,null,null,null,null,null,0,2000,null,2000,null,null,{"$f":"IF(SUM(Main!N141,Main!S141)>0,1,\"\")","v":1}]
[{"$f":"IF(AN142=\"\",\"\",SUM($AN$4:AN142))","v":139},{"$f":"IF(AN142=\"\",\"\",Main!B142)","v":"0807541"},{"$f":"IF(AN142=\"\",\"\",Main!C142)","v":"K.V.RAVANAMMA"},{"$f":"IF(AN142=\"\",\"\",Main!D142)","v":"SA (English)"},{"$f":"IF(AN142=\"\",\"\",Main!E142)","v":"15280-40510"},null,null,null,null,null,null,null,{"$f":"IF(AN142=\"\",\"\",SUM(Main!N142,Main!S142))","v":2000},null,2000,null,null,null,null,null,null,null,null,null,null,null,null,null,null,null,null,null,null,0,2000,null,2000,null,null,{"$f":"IF(SUM(Main!N142,Main!S142)>0,1,\"\")","v":1}]
[{"$f":"IF(AN143=\"\",\"\",SUM($AN$4:AN143))","v":140},{"$f":"IF(AN143=\"\",\"\",Main!B143)","v":"0807541"},{"$f":"IF(AN143=\"\",\"\",Main!C143)","v":"K.V.RAVANAMMA"},{"$f":"IF(AN143=\"\",\"\",Main!D143)","v":"SA (English)"},{"$f":"IF(AN143=\"\",\"\",Main!E143)","v":"15280-40510"},null,null,null,null,null,null,null,{"$f":"IF(AN143=\"\",\"\",SUM(Main!N143,Main!S143))","v":2000},null,2000,null,null,null,null,null,null,null,null,null,null,null,null,null,null,null,null,null,null,0,2000,null,2000,null,null,{"$f":"IF(SUM(Main!N143,Main!S143)>0,1,\"\")","v":1}]
[{"$f":"IF(AN144=\"\",\"\",SUM($AN$4:AN144))","v":141},{"$f":"IF(AN144=\"\",\"\",Main!B144)","v":"0807541"},{"$f":"IF(AN144=\"\",\"\",Main!C144)","v":"K.V.RAVANAMMA"},{"$f":"IF(AN144=\"\",\"\",Main!D144)","v":"SA (English)"},{"$f":"IF(AN144=\"\",\"\",Main!E144)","v":"15280-40510"},null,null,null,null,null,null,null,{"$f":"IF(AN144=\"\",\"\",SUM(Main!N144,Main!S144))","v":2000},null,2000,null,null,null,null,null,null,null,null,null,null,null,null,null,null,null,null,null,null,0,2000,null,2000,null,null,{"$f":"IF(SUM(Main!N144,Main!S144)>0,1,\"\")","v":1}]
[{"$f":"IF(AN145=\"\",\"\",SUM($AN$4:AN145))","v":142},{"$f":"IF(AN145=\"\",\"\",Main!B145)","v":"0807541"},{"$f":"IF(AN145=\"\",\"\",Main!C145)","v":"K.V.RAVANAMMA"},{"$f":"IF(AN145=\"\",\"\",Main!D145)","v":"SA (English)"},{"$f":"IF(AN145=\"\",\"\",Main!E145)","v":"15280-40510"},null,null,null,null,null,null,null,{"$f":"IF(AN145=\"\",\"\",SUM(Main!N145,Main!S145))","v":2000},null,2000,null,null,null,null,null,null,null,null,null,null,null,null,null,null,null,null,null,null,0,2000,null,2000,null,null,{"$f":"IF(SUM(Main!N145,Main!S145)>0,1,\"\")","v":1}]
[{"$f":"IF(AN146=\"\",\"\",SUM($AN$4:AN146))","v":143},{"$f":"IF(AN146=\"\",\"\",Main!B146)","v":"0807541"},{"$f":"IF(AN146=\"\",\"\",Main!C146)","v":"K.V.RAVANAMMA"},{"$f":"IF(AN146=\"\",\"\",Main!D146)","v":"SA (English)"},{"$f":"IF(AN146=\"\",\"\",Main!E146)","v":"15280-40510"},null,null,null,null,null,null,null,{"$f":"IF(AN146=\"\",\"\",SUM(Main!N146,Main!S146))","v":2000},null,2000,null,null,null,null,null,null,null,null,null,null,null,null,null,null,null,null,null,null,0,2000,null,2000,null,null,{"$f":"IF(SUM(Main!N146,Main!S146)>0,1,\"\")","v":1}]
[{"$f":"IF(AN147=\"\",\"\",SUM($AN$4:AN147))","v":144},{"$f":"IF(AN147=\"\",\"\",Main!B147)","v":"0807541"},{"$f":"IF(AN147=\"\",\"\",Main!C147)","v":"K.V.RAVANAMMA"},{"$f":"IF(AN147=\"\",\"\",Main!D147)","v":"SA (English)"},{"$f":"IF(AN147=\"\",\"\",Main!E147)","v":"15280-40510"},null,null,null,null,null,null,null,{"$f":"IF(AN147=\"\",\"\",SUM(Main!N147,Main!S147))","v":2000},null,2000,null,null,null,null,null,null,null,null,null,null,null,null,null,null,null,null,null,null,0,2000,null,2000,null,null,{"$f":"IF(SUM(Main!N147,Main!S147)>0,1,\"\")","v":1}]
[{"$f":"IF(AN148=\"\",\"\",SUM($AN$4:AN148))","v":145},{"$f":"IF(AN148=\"\",\"\",Main!B148)","v":"0807541"},{"$f":"IF(AN148=\"\",\"\",Main!C148)","v":"K.V.RAVANAMMA"},{"$f":"IF(AN148=\"\",\"\",Main!D148)","v":"SA (English)"},{"$f":"IF(AN148=\"\",\"\",Main!E148)","v":"15280-40510"},null,null,null,null,null,null,null,{"$f":"IF(AN148=\"\",\"\",SUM(Main!N148,Main!S148))","v":2000},null,2000,null,null,null,null,null,null,null,null,null,null,null,null,null,null,null,null,null,null,0,2000,null,2000,null,null,{"$f":"IF(SUM(Main!N148,Main!S148)>0,1,\"\")","v":1}]
[{"$f":"IF(AN149=\"\",\"\",SUM($AN$4:AN149))","v":146},{"$f":"IF(AN149=\"\",\"\",Main!B149)","v":"0807541"},{"$f":"IF(AN149=\"\",\"\",Main!C149)","v":"K.V.RAVANAMMA"},{"$f":"IF(AN149=\"\",\"\",Main!D149)","v":"SA (English)"},{"$f":"IF(AN149=\"\",\"\",Main!E149)","v":"15280-40510"},null,null,null,null,null,null,null,{"$f":"IF(AN149=\"\",\"\",SUM(Main!N149,Main!S149))","v":2000},null,2000,null,null,null,null,null,null,null,null,null,null,null,null,null,null,null,null,null,null,0,2000,null,2000,null,null,{"$f":"IF(SUM(Main!N149,Main!S149)>0,1,\"\")","v":1}]
[{"$f":"IF(AN150=\"\",\"\",SUM($AN$4:AN150))","v":147},{"$f":"IF(AN150=\"\",\"\",Main!B150)","v":"0807541"},{"$f":"IF(AN150=\"\",\"\",Main!C150)","v":"K.V.RAVANAMMA"},{"$f":"IF(AN150=\"\",\"\",Main!D150)","v":"SA (English)"},{"$f":"IF(AN150=\"\",\"\",Main!E150)","v":"15280-40510"},null,null,null,null,null,null,null,{"$f":"IF(AN150=\"\",\"\",SUM(Main!N150,Main!S150))","v":2000},null,2000,null,null,null,null,null,null,null,null,null,null,null,null,null,null,null,null,null,null,0,2000,null,2000,null,null,{"$f":"IF(SUM(Main!N150,Main!S150)>0,1,\"\")","v":1}]
[{"$f":"IF(AN151=\"\",\"\",SUM($AN$4:AN151))","v":148},{"$f":"IF(AN151=\"\",\"\",Main!B151)","v":"0807541"},{"$f":"IF(AN151=\"\",\"\",Main!C151)","v":"K.V.RAVANAMMA"},{"$f":"IF(AN151=\"\",\"\",Main!D151)","v":"SA (English)"},{"$f":"IF(AN151=\"\",\"\",Main!E151)","v":"15280-40510"},null,null,null,null,null,null,null,{"$f":"IF(AN151=\"\",\"\",SUM(Main!N151,Main!S151))","v":2000},null,2000,null,null,null,null,null,null,null,null,null,null,null,null,null,null,null,null,null,null,0,2000,null,2000,null,null,{"$f":"IF(SUM(Main!N151,Main!S151)>0,1,\"\")","v":1}]
[{"$f":"IF(AN152=\"\",\"\",SUM($AN$4:AN152))","v":149},{"$f":"IF(AN152=\"\",\"\",Main!B152)","v":"0807541"},{"$f":"IF(AN152=\"\",\"\",Main!C152)","v":"K.V.RAVANAMMA"},{"$f":"IF(AN152=\"\",\"\",Main!D152)","v":"SA (English)"},{"$f":"IF(AN152=\"\",\"\",Main!E152)","v":"15280-40510"},null,null,null,null,null,null,null,{"$f":"IF(AN152=\"\",\"\",SUM(Main!N152,Main!S152))","v":2000},null,2000,null,null,null,null,null,null,null,null,null,null,null,null,null,null,null,null,null,null,0,2000,null,2000,null,null,{"$f":"IF(SUM(Main!N152,Main!S152)>0,1,\"\")","v":1}]
[{"$f":"IF(AN153=\"\",\"\",SUM($AN$4:AN153))","v":150},{"$f":"IF(AN153=\"\",\"\",Main!B153)","v":"0807541"},{"$f":"IF(AN153=\"\",\"\",Main!C153)","v":"K.V.RAVANAMMA"},{"$f":"IF(AN153=\"\",\"\",Main!D153)","v":"SA (English)"},{"$f":"IF(AN153=\"\",\"\",Main!E153)","v":"15280-40510"},null,null,null,null,null,null,null,{"$f":"IF(AN153=\"\",\"\",SUM(Main!N153,Main!S153))","v":2000},null,2000,null,null,null,null,null,null,null,null,null,null,null,null,null,null,null,null,null,null,0,2000,null,2000,null,null,{"$f":"IF(SUM(Main!N153,Main!S153)>0,1,\"\")","v":1}]
[{"$f":"IF(AN154=\"\",\"\",SUM($AN$4:AN154))","v":151},{"$f":"IF(AN154=\"\",\"\",Main!B154)","v":"0807541"},{"$f":"IF(AN154=\"\",\"\",Main!C154)","v":"K.V.RAVANAMMA"},{"$f":"IF(AN154=\"\",\"\",Main!D154)","v":"SA (English)"},{"$f":"IF(AN154=\"\",\"\",Main!E154)","v":"15280-40510"},null,null,null,null,null,null,null,{"$f":"IF(AN154=\"\",\"\",SUM(Main!N154,Main!S154))","v":2000},null,2000,null,null,null,null,null,null,null,null,null,null,null,null,null,null,null,null,null,null,0,2000,null,2000,null,null,{"$f":"IF(SUM(Main!N154,Main!S154)>0,1,\"\")","v":1}]
[{"$f":"IF(AN155=\"\",\"\",SUM($AN$4:AN155))","v":152},{"$f":"IF(AN155=\"\",\"\",Main!B155)","v":"0807541"},{"$f":"IF(AN155=\"\",\"\",Main!C155)","v":"K.V.RAVANAMMA"},{"$f":"IF(AN155=\"\",\"\",Main!D155)","v":"SA (English)"},{"$f":"IF(AN155=\"\",\"\",Main!E155)","v":"15280-40510"},null,null,null,null,null,null,null,{"$f":"IF(AN155=\"\",\"\",SUM(Main!N155,Main!S155))","v":2000},null,2000,null,null,null,null,null,null,null,null,null,null,null,null,null,null,null,null,null,null,0,2000,null,2000,null,null,{"$f":"IF(SUM(Main!N155,Main!S155)>0,1,\"\")","v":1}]
[{"$f":"IF(AN156=\"\",\"\",SUM($AN$4:AN156))","v":153},{"$f":"IF(AN156=\"\",\"\",Main!B156)","v":"0807541"},{"$f":"IF(AN156=\"\",\"\",Main!C156)","v":"K.V.RAVANAMMA"},{"$f":"IF(AN156=\"\",\"\",Main!D156)","v":"SA (English)"},{"$f":"IF(AN156=\"\",\"\",Main!E156)","v":"15280-40510"},null,null,null,null,null,null,null,{"$f":"IF(AN156=\"\",\"\",SUM(Main!N156,Main!S156))","v":2000},null,2000,null,null,null,null,null,null,null,null,null,null,null,null,null,null,null,null,null,null,0,2000,null,2000,null,null,{"$f":"IF(SUM(Main!N156,Main!S156)>0,1,\"\")","v":1}]
[{"$f":"IF(AN157=\"\",\"\",SUM($AN$4:AN157))","v":154},{"$f":"IF(AN157=\"\",\"\",Main!B157)","v":"0807541"},{"$f":"IF(AN157=\"\",\"\",Main!C157)","v":"K.V.RAVANAMMA"},{"$f":"IF(AN157=\"\",\"\",Main!D157)","v":"SA (English)"},{"$f":"IF(AN157=\"\",\"\",Main!E157)","v":"15280-40510"},null,null,null,null,null,null,null,{"$f":"IF(AN157=\"\",\"\",SUM(Main!N157,Main!S157))","v":2000},null,2000,null,null,null,null,null,null,null,null,null,null,null,null,null,null,null,null,null,null,0,2000,null,2000,null,null,{"$f":"IF(SUM(Main!N157,Main!S157)>0,1,\"\")","v":1}]
[{"$f":"IF(AN158=\"\",\"\",SUM($AN$4:AN158))","v":155},{"$f":"IF(AN158=\"\",\"\",Main!B158)","v":"0807541"},{"$f":"IF(AN158=\"\",\"\",Main!C158)","v":"K.V.RAVANAMMA"},{"$f":"IF(AN158=\"\",\"\",Main!D158)","v":"SA (English)"},{"$f":"IF(AN158=\"\",\"\",Main!E158)","v":"15280-40510"},null,null,null,null,null,null,null,{"$f":"IF(AN158=\"\",\"\",SUM(Main!N158,Main!S158))","v":2000},null,2000,null,null,null,null,null,null,null,null,null,null,null,null,null,null,null,null,null,null,0,2000,null,2000,null,null,{"$f":"IF(SUM(Main!N158,Main!S158)>0,1,\"\")","v":1}]
[{"$f":"IF(AN159=\"\",\"\",SUM($AN$4:AN159))","v":156},{"$f":"IF(AN159=\"\",\"\",Main!B159)","v":"0807541"},{"$f":"IF(AN159=\"\",\"\",Main!C159)","v":"K.V.RAVANAMMA"},{"$f":"IF(AN159=\"\",\"\",Main!D159)","v":"SA (English)"},{"$f":"IF(AN159=\"\",\"\",Main!E159)","v":"15280-40510"},null,null,null,null,null,null,null,{"$f":"IF(AN159=\"\",\"\",SUM(Main!N159,Main!S159))","v":2000},null,2000,null,null,null,null,null,null,null,null,null,null,null,null,null,null,null,null,null,null,0,2000,null,2000,null,null,{"$f":"IF(SUM(Main!N159,Main!S159)>0,1,\"\")","v":1}]
[{"$f":"IF(AN160=\"\",\"\",SUM($AN$4:AN160))","v":157},{"$f":"IF(AN160=\"\",\"\",Main!B160)","v":"0807541"},{"$f":"IF(AN160=\"\",\"\",Main!C160)","v":"K.V.RAVANAMMA"},{"$f":"IF(AN160=\"\",\"\",Main!D160)","v":"SA (English)"},{"$f":"IF(AN160=\"\",\"\",Main!E160)","v":"15280-40510"},null,null,null,null,null,null,null,{"$f":"IF(AN160=\"\",\"\",SUM(Main!N160,Main!S160))","v":2000},null,2000,null,null,null,null,null,null,null,null,null,null,null,null,null,null,null,null,null,null,0,2000,null,2000,null,null,{"$f":"IF(SUM(Main!N160,Main!S160)>0,1,\"\")","v":1}]
[{"$f":"IF(AN161=\"\",\"\",SUM($AN$4:AN161))","v":158},{"$f":"IF(AN161=\"\",\"\",Main!B161)","v":"0807541"},{"$f":"IF(AN161=\"\",\"\",Main!C161)","v":"K.V.RAVANAMMA"},{"$f":"IF(AN161=\"\",\"\",Main!D161)","v":"SA (English)"},{"$f":"IF(AN161=\"\",\"\",Main!E161)","v":"15280-40510"},null,null,null,null,null,null,null,{"$f":"IF(AN161=\"\",\"\",SUM(Main!N161,Main!S161))","v":2000},null,2000,null,null,null,null,null,null,null,null,null,null,null,null,null,null,null,null,null,null,0,2000,null,2000,null,null,{"$f":"IF(SUM(Main!N161,Main!S161)>0,1,\"\")","v":1}]
[{"$f":"IF(AN162=\"\",\"\",SUM($AN$4:AN162))","v":159},{"$f":"IF(AN162=\"\",\"\",Main!B162)","v":"0807541"},{"$f":"IF(AN162=\"\",\"\",Main!C162)","v":"K.V.RAVANAMMA"},{"$f":"IF(AN162=\"\",\"\",Main!D162)","v":"SA (English)"},{"$f":"IF(AN162=\"\",\"\",Main!E162)","v":"15280-40510"},null,null,null,null,null,null,null,{"$f":"IF(AN162=\"\",\"\",SUM(Main!N162,Main!S162))","v":2000},null,2000,null,null,null,null,null,null,null,null,null,null,null,null,null,null,null,null,null,null,0,2000,null,2000,null,null,{"$f":"IF(SUM(Main!N162,Main!S162)>0,1,\"\")","v":1}]
[{"$f":"IF(AN163=\"\",\"\",SUM($AN$4:AN163))","v":160},{"$f":"IF(AN163=\"\",\"\",Main!B163)","v":"0807541"},{"$f":"IF(AN163=\"\",\"\",Main!C163)","v":"K.V.RAVANAMMA"},{"$f":"IF(AN163=\"\",\"\",Main!D163)","v":"SA (English)"},{"$f":"IF(AN163=\"\",\"\",Main!E163)","v":"15280-40510"},null,null,null,null,null,null,null,{"$f":"IF(AN163=\"\",\"\",SUM(Main!N163,Main!S163))","v":2000},null,2000,null,null,null,null,null,null,null,null,null,null,null,null,null,null,null,null,null,null,0,2000,null,2000,null,null,{"$f":"IF(SUM(Main!N163,Main!S163)>0,1,\"\")","v":1}]
[{"$f":"IF(AN164=\"\",\"\",SUM($AN$4:AN164))","v":161},{"$f":"IF(AN164=\"\",\"\",Main!B164)","v":"0807541"},{"$f":"IF(AN164=\"\",\"\",Main!C164)","v":"K.V.RAVANAMMA"},{"$f":"IF(AN164=\"\",\"\",Main!D164)","v":"SA (English)"},{"$f":"IF(AN164=\"\",\"\",Main!E164)","v":"15280-40510"},null,null,null,null,null,null,null,{"$f":"IF(AN164=\"\",\"\",SUM(Main!N164,Main!S164))","v":2000},null,2000,null,null,null,null,null,null,null,null,null,null,null,null,null,null,null,null,null,null,0,2000,null,2000,null,null,{"$f":"IF(SUM(Main!N164,Main!S164)>0,1,\"\")","v":1}]
[{"$f":"IF(AN165=\"\",\"\",SUM($AN$4:AN165))","v":162},{"$f":"IF(AN165=\"\",\"\",Main!B165)","v":"0807541"},{"$f":"IF(AN165=\"\",\"\",Main!C165)","v":"K.V.RAVANAMMA"},{"$f":"IF(AN165=\"\",\"\",Main!D165)","v":"SA (English)"},{"$f":"IF(AN165=\"\",\"\",Main!E165)","v":"15280-40510"},null,null,null,null,null,null,null,{"$f":"IF(AN165=\"\",\"\",SUM(Main!N165,Main!S165))","v":2000},null,2000,null,null,null,null,null,null,null,null,null,null,null,null,null,null,null,null,null,null,0,2000,null,2000,null,null,{"$f":"IF(SUM(Main!N165,Main!S165)>0,1,\"\")","v":1}]
[{"$f":"IF(AN166=\"\",\"\",SUM($AN$4:AN166))","v":163},{"$f":"IF(AN166=\"\",\"\",Main!B166)","v":"0807541"},{"$f":"IF(AN166=\"\",\"\",Main!C166)","v":"K.V.RAVANAMMA"},{"$f":"IF(AN166=\"\",\"\",Main!D166)","v":"SA (English)"},{"$f":"IF(AN166=\"\",\"\",Main!E166)","v":"15280-40510"},null,null,null,null,null,null,null,{"$f":"IF(AN166=\"\",\"\",SUM(Main!N166,Main!S166))","v":2000},null,2000,null,null,null,null,null,null,null,null,null,null,null,null,null,null,null,null,null,null,0,2000,null,2000,null,null,{"$f":"IF(SUM(Main!N166,Main!S166)>0,1,\"\")","v":1}]
[{"$f":"IF(AN167=\"\",\"\",SUM($AN$4:AN167))","v":164},{"$f":"IF(AN167=\"\",\"\",Main!B167)","v":"0807541"},{"$f":"IF(AN167=\"\",\"\",Main!C167)","v":"K.V.RAVANAMMA"},{"$f":"IF(AN167=\"\",\"\",Main!D167)","v":"SA (English)"},{"$f":"IF(AN167=\"\",\"\",Main!E167)","v":"15280-40510"},null,null,null,null,null,null,null,{"$f":"IF(AN167=\"\",\"\",SUM(Main!N167,Main!S167))","v":2000},null,2000,null,null,null,null,null,null,null,null,null,null,null,null,null,null,null,null,null,null,0,2000,null,2000,null,null,{"$f":"IF(SUM(Main!N167,Main!S167)>0,1,\"\")","v":1}]
[{"$f":"IF(AN168=\"\",\"\",SUM($AN$4:AN168))","v":165},{"$f":"IF(AN168=\"\",\"\",Main!B168)","v":"0807541"},{"$f":"IF(AN168=\"\",\"\",Main!C168)","v":"K.V.RAVANAMMA"},{"$f":"IF(AN168=\"\",\"\",Main!D168)","v":"SA (English)"},{"$f":"IF(AN168=\"\",\"\",Main!E168)","v":"15280-40510"},null,null,null,null,null,null,null,{"$f":"IF(AN168=\"\",\"\",SUM(Main!N168,Main!S168))","v":2000},null,2000,null,null,null,null,null,null,null,null,null,null,null,null,null,null,null,null,null,null,0,2000,null,2000,null,null,{"$f":"IF(SUM(Main!N168,Main!S168)>0,1,\"\")","v":1}]
[{"$f":"IF(AN169=\"\",\"\",SUM($AN$4:AN169))","v":166},{"$f":"IF(AN169=\"\",\"\",Main!B169)","v":"0807541"},{"$f":"IF(AN169=\"\",\"\",Main!C169)","v":"K.V.RAVANAMMA"},{"$f":"IF(AN169=\"\",\"\",Main!D169)","v":"SA (English)"},{"$f":"IF(AN169=\"\",\"\",Main!E169)","v":"15280-40510"},null,null,null,null,null,null,null,{"$f":"IF(AN169=\"\",\"\",SUM(Main!N169,Main!S169))","v":2000},null,2000,null,null,null,null,null,null,null,null,null,null,null,null,null,null,null,null,null,null,0,2000,null,2000,null,null,{"$f":"IF(SUM(Main!N169,Main!S169)>0,1,\"\")","v":1}]
[{"$f":"IF(AN170=\"\",\"\",SUM($AN$4:AN170))","v":167},{"$f":"IF(AN170=\"\",\"\",Main!B170)","v":"0807541"},{"$f":"IF(AN170=\"\",\"\",Main!C170)","v":"K.V.RAVANAMMA"},{"$f":"IF(AN170=\"\",\"\",Main!D170)","v":"SA (English)"},{"$f":"IF(AN170=\"\",\"\",Main!E170)","v":"15280-40510"},null,null,null,null,null,null,null,{"$f":"IF(AN170=\"\",\"\",SUM(Main!N170,Main!S170))","v":2000},null,2000,null,null,null,null,null,null,null,null,null,null,null,null,null,null,null,null,null,null,0,2000,null,2000,null,null,{"$f":"IF(SUM(Main!N170,Main!S170)>0,1,\"\")","v":1}]
[{"$f":"IF(AN171=\"\",\"\",SUM($AN$4:AN171))","v":168},{"$f":"IF(AN171=\"\",\"\",Main!B171)","v":"0807541"},{"$f":"IF(AN171=\"\",\"\",Main!C171)","v":"K.V.RAVANAMMA"},{"$f":"IF(AN171=\"\",\"\",Main!D171)","v":"SA (English)"},{"$f":"IF(AN171=\"\",\"\",Main!E171)","v":"15280-40510"},null,null,null,null,null,null,null,{"$f":"IF(AN171=\"\",\"\",SUM(Main!N171,Main!S171))","v":2000},null,2000,null,null,null,null,null,null,null,null,null,null,null,null,null,null,null,null,null,null,0,2000,null,2000,null,null,{"$f":"IF(SUM(Main!N171,Main!S171)>0,1,\"\")","v":1}]
[{"$f":"IF(AN172=\"\",\"\",SUM($AN$4:AN172))","v":169},{"$f":"IF(AN172=\"\",\"\",Main!B172)","v":"0807541"},{"$f":"IF(AN172=\"\",\"\",Main!C172)","v":"K.V.RAVANAMMA"},{"$f":"IF(AN172=\"\",\"\",Main!D172)","v":"SA (English)"},{"$f":"IF(AN172=\"\",\"\",Main!E172)","v":"15280-40510"},null,null,null,null,null,null,null,{"$f":"IF(AN172=\"\",\"\",SUM(Main!N172,Main!S172))","v":2000},null,2000,null,null,null,null,null,null,null,null,null,null,null,null,null,null,null,null,null,null,0,2000,null,2000,null,null,{"$f":"IF(SUM(Main!N172,Main!S172)>0,1,\"\")","v":1}]
[{"$f":"IF(AN173=\"\",\"\",SUM($AN$4:AN173))","v":170},{"$f":"IF(AN173=\"\",\"\",Main!B173)","v":"0807541"},{"$f":"IF(AN173=\"\",\"\",Main!C173)","v":"K.V.RAVANAMMA"},{"$f":"IF(AN173=\"\",\"\",Main!D173)","v":"SA (English)"},{"$f":"IF(AN173=\"\",\"\",Main!E173)","v":"15280-40510"},null,null,null,null,null,null,null,{"$f":"IF(AN173=\"\",\"\",SUM(Main!N173,Main!S173))","v":2000},null,2000,null,null,null,null,null,null,null,null,null,null,null,null,null,null,null,null,null,null,0,2000,null,2000,null,null,{"$f":"IF(SUM(Main!N173,Main!S173)>0,1,\"\")","v":1}]
[{"$f":"IF(AN174=\"\",\"\",SUM($AN$4:AN174))","v":171},{"$f":"IF(AN174=\"\",\"\",Main!B174)","v":"0807541"},{"$f":"IF(AN174=\"\",\"\",Main!C174)","v":"K.V.RAVANAMMA"},{"$f":"IF(AN174=\"\",\"\",Main!D174)","v":"SA (English)"},{"$f":"IF(AN174=\"\",\"\",Main!E174)","v":"15280-40510"},null,null,null,null,null,null,null,{"$f":"IF(AN174=\"\",\"\",SUM(Main!N174,Main!S174))","v":2000},null,2000,null,null,null,null,null,null,null,null,null,null,null,null,null,null,null,null,null,null,0,2000,null,2000,null,null,{"$f":"IF(SUM(Main!N174,Main!S174)>0,1,\"\")","v":1}]
[{"$f":"IF(AN175=\"\",\"\",SUM($AN$4:AN175))","v":172},{"$f":"IF(AN175=\"\",\"\",Main!B175)","v":"0807541"},{"$f":"IF(AN175=\"\",\"\",Main!C175)","v":"K.V.RAVANAMMA"},{"$f":"IF(AN175=\"\",\"\",Main!D175)","v":"SA (English)"},{"$f":"IF(AN175=\"\",\"\",Main!E175)","v":"15280-40510"},null,null,null,null,null,null,null,{"$f":"IF(AN175=\"\",\"\",SUM(Main!N175,Main!S175))","v":2000},null,2000,null,null,null,null,null,null,null,null,null,null,null,null,null,null,null,null,null,null,0,2000,null,2000,null,null,{"$f":"IF(SUM(Main!N175,Main!S175)>0,1,\"\")","v":1}]
[{"$f":"IF(AN176=\"\",\"\",SUM($AN$4:AN176))","v":173},{"$f":"IF(AN176=\"\",\"\",Main!B176)","v":"0807541"},{"$f":"IF(AN176=\"\",\"\",Main!C176)","v":"K.V.RAVANAMMA"},{"$f":"IF(AN176=\"\",\"\",Main!D176)","v":"SA (English)"},{"$f":"IF(AN176=\"\",\"\",Main!E176)","v":"15280-40510"},null,null,null,null,null,null,null,{"$f":"IF(AN176=\"\",\"\",SUM(Main!N176,Main!S176))","v":2000},null,2000,null,null,null,null,null,null,null,null,null,null,null,null,null,null,null,null,null,null,0,2000,null,2000,null,null,{"$f":"IF(SUM(Main!N176,Main!S176)>0,1,\"\")","v":1}]
[{"$f":"IF(AN177=\"\",\"\",SUM($AN$4:AN177))","v":174},{"$f":"IF(AN177=\"\",\"\",Main!B177)","v":"0807541"},{"$f":"IF(AN177=\"\",\"\",Main!C177)","v":"K.V.RAVANAMMA"},{"$f":"IF(AN177=\"\",\"\",Main!D177)","v":"SA (English)"},{"$f":"IF(AN177=\"\",\"\",Main!E177)","v":"15280-40510"},null,null,null,null,null,null,null,{"$f":"IF(AN177=\"\",\"\",SUM(Main!N177,Main!S177))","v":2000},null,2000,null,null,null,null,null,null,null,null,null,null,null,null,null,null,null,null,null,null,0,2000,null,2000,null,null,{"$f":"IF(SUM(Main!N177,Main!S177)>0,1,\"\")","v":1}]
[{"$f":"IF(AN178=\"\",\"\",SUM($AN$4:AN178))","v":175},{"$f":"IF(AN178=\"\",\"\",Main!B178)","v":"0807541"},{"$f":"IF(AN178=\"\",\"\",Main!C178)","v":"K.V.RAVANAMMA"},{"$f":"IF(AN178=\"\",\"\",Main!D178)","v":"SA (English)"},{"$f":"IF(AN178=\"\",\"\",Main!E178)","v":"15280-40510"},null,null,null,null,null,null,null,{"$f":"IF(AN178=\"\",\"\",SUM(Main!N178,Main!S178))","v":2000},null,2000,null,null,null,null,null,null,null,null,null,null,null,null,null,null,null,null,null,null,0,2000,null,2000,null,null,{"$f":"IF(SUM(Main!N178,Main!S178)>0,1,\"\")","v":1}]
[{"$f":"IF(AN179=\"\",\"\",SUM($AN$4:AN179))","v":176},{"$f":"IF(AN179=\"\",\"\",Main!B179)","v":"0807541"},{"$f":"IF(AN179=\"\",\"\",Main!C179)","v":"K.V.RAVANAMMA"},{"$f":"IF(AN179=\"\",\"\",Main!D179)","v":"SA (English)"},{"$f":"IF(AN179=\"\",\"\",Main!E179)","v":"15280-40510"},null,null,null,null,null,null,null,{"$f":"IF(AN179=\"\",\"\",SUM(Main!N179,Main!S179))","v":2000},null,2000,null,null,null,null,null,null,null,null,null,null,null,null,null,null,null,null,null,null,0,2000,null,2000,null,null,{"$f":"IF(SUM(Main!N179,Main!S179)>0,1,\"\")","v":1}]
[{"$f":"IF(AN180=\"\",\"\",SUM($AN$4:AN180))","v":177},{"$f":"IF(AN180=\"\",\"\",Main!B180)","v":"0807541"},{"$f":"IF(AN180=\"\",\"\",Main!C180)","v":"K.V.RAVANAMMA"},{"$f":"IF(AN180=\"\",\"\",Main!D180)","v":"SA (English)"},{"$f":"IF(AN180=\"\",\"\",Main!E180)","v":"15280-40510"},null,null,null,null,null,null,null,{"$f":"IF(AN180=\"\",\"\",SUM(Main!N180,Main!S180))","v":2000},null,2000,null,null,null,null,null,null,null,null,null,null,null,null,null,null,null,null,null,null,0,2000,null,2000,null,null,{"$f":"IF(SUM(Main!N180,Main!S180)>0,1,\"\")","v":1}]
[{"$f":"IF(AN181=\"\",\"\",SUM($AN$4:AN181))","v":178},{"$f":"IF(AN181=\"\",\"\",Main!B181)","v":"0807541"},{"$f":"IF(AN181=\"\",\"\",Main!C181)","v":"K.V.RAVANAMMA"},{"$f":"IF(AN181=\"\",\"\",Main!D181)","v":"SA (English)"},{"$f":"IF(AN181=\"\",\"\",Main!E181)","v":"15280-40510"},null,null,null,null,null,null,null,{"$f":"IF(AN181=\"\",\"\",SUM(Main!N181,Main!S181))","v":2000},null,2000,null,null,null,null,null,null,null,null,null,null,null,null,null,null,null,null,null,null,0,2000,null,2000,null,null,{"$f":"IF(SUM(Main!N181,Main!S181)>0,1,\"\")","v":1}]
[{"$f":"IF(AN182=\"\",\"\",SUM($AN$4:AN182))","v":179},{"$f":"IF(AN182=\"\",\"\",Main!B182)","v":"0807541"},{"$f":"IF(AN182=\"\",\"\",Main!C182)","v":"K.V.RAVANAMMA"},{"$f":"IF(AN182=\"\",\"\",Main!D182)","v":"SA (English)"},{"$f":"IF(AN182=\"\",\"\",Main!E182)","v":"15280-40510"},null,null,null,null,null,null,null,{"$f":"IF(AN182=\"\",\"\",SUM(Main!N182,Main!S182))","v":2000},null,2000,null,null,null,null,null,null,null,null,null,null,null,null,null,null,null,null,null,null,0,2000,null,2000,null,null,{"$f":"IF(SUM(Main!N182,Main!S182)>0,1,\"\")","v":1}]
[{"$f":"IF(AN183=\"\",\"\",SUM($AN$4:AN183))","v":180},{"$f":"IF(AN183=\"\",\"\",Main!B183)","v":"0807541"},{"$f":"IF(AN183=\"\",\"\",Main!C183)","v":"K.V.RAVANAMMA"},{"$f":"IF(AN183=\"\",\"\",Main!D183)","v":"SA (English)"},{"$f":"IF(AN183=\"\",\"\",Main!E183)","v":"15280-40510"},null,null,null,null,null,null,null,{"$f":"IF(AN183=\"\",\"\",SUM(Main!N183,Main!S183))","v":2000},null,2000,null,null,null,null,null,null,null,null,null,null,null,null,null,null,null,null,null,null,0,2000,null,2000,null,null,{"$f":"IF(SUM(Main!N183,Main!S183)>0,1,\"\")","v":1}]
[{"$f":"IF(AN184=\"\",\"\",SUM($AN$4:AN184))","v":181},{"$f":"IF(AN184=\"\",\"\",Main!B184)","v":"0807541"},{"$f":"IF(AN184=\"\",\"\",Main!C184)","v":"K.V.RAVANAMMA"},{"$f":"IF(AN184=\"\",\"\",Main!D184)","v":"SA (English)"},{"$f":"IF(AN184=\"\",\"\",Main!E184)","v":"15280-40510"},null,null,null,null,null,null,null,{"$f":"IF(AN184=\"\",\"\",SUM(Main!N184,Main!S184))","v":2000},null,2000,null,null,null,null,null,null,null,null,null,null,null,null,null,null,null,null,null,null,0,2000,null,2000,null,null,{"$f":"IF(SUM(Main!N184,Main!S184)>0,1,\"\")","v":1}]
[{"$f":"IF(AN185=\"\",\"\",SUM($AN$4:AN185))","v":182},{"$f":"IF(AN185=\"\",\"\",Main!B185)","v":"0807541"},{"$f":"IF(AN185=\"\",\"\",Main!C185)","v":"K.V.RAVANAMMA"},{"$f":"IF(AN185=\"\",\"\",Main!D185)","v":"SA (English)"},{"$f":"IF(AN185=\"\",\"\",Main!E185)","v":"15280-40510"},null,null,null,null,null,null,null,{"$f":"IF(AN185=\"\",\"\",SUM(Main!N185,Main!S185))","v":2000},null,2000,null,null,null,null,null,null,null,null,null,null,null,null,null,null,null,null,null,null,0,2000,null,2000,null,null,{"$f":"IF(SUM(Main!N185,Main!S185)>0,1,\"\")","v":1}]
[{"$f":"IF(AN186=\"\",\"\",SUM($AN$4:AN186))","v":183},{"$f":"IF(AN186=\"\",\"\",Main!B186)","v":"0807541"},{"$f":"IF(AN186=\"\",\"\",Main!C186)","v":"K.V.RAVANAMMA"},{"$f":"IF(AN186=\"\",\"\",Main!D186)","v":"SA (English)"},{"$f":"IF(AN186=\"\",\"\",Main!E186)","v":"15280-40510"},null,null,null,null,null,null,null,{"$f":"IF(AN186=\"\",\"\",SUM(Main!N186,Main!S186))","v":2000},null,2000,null,null,null,null,null,null,null,null,null,null,null,null,null,null,null,null,null,null,0,2000,null,2000,null,null,{"$f":"IF(SUM(Main!N186,Main!S186)>0,1,\"\")","v":1}]
[{"$f":"IF(AN187=\"\",\"\",SUM($AN$4:AN187))","v":184},{"$f":"IF(AN187=\"\",\"\",Main!B187)","v":"0807541"},{"$f":"IF(AN187=\"\",\"\",Main!C187)","v":"K.V.RAVANAMMA"},{"$f":"IF(AN187=\"\",\"\",Main!D187)","v":"SA (English)"},{"$f":"IF(AN187=\"\",\"\",Main!E187)","v":"15280-40510"},null,null,null,null,null,null,null,{"$f":"IF(AN187=\"\",\"\",SUM(Main!N187,Main!S187))","v":2000},null,2000,null,null,null,null,null,null,null,null,null,null,null,null,null,null,null,null,null,null,0,2000,null,2000,null,null,{"$f":"IF(SUM(Main!N187,Main!S187)>0,1,\"\")","v":1}]
[{"$f":"IF(AN188=\"\",\"\",SUM($AN$4:AN188))","v":185},{"$f":"IF(AN188=\"\",\"\",Main!B188)","v":"0807541"},{"$f":"IF(AN188=\"\",\"\",Main!C188)","v":"K.V.RAVANAMMA"},{"$f":"IF(AN188=\"\",\"\",Main!D188)","v":"SA (English)"},{"$f":"IF(AN188=\"\",\"\",Main!E188)","v":"15280-40510"},null,null,null,null,null,null,null,{"$f":"IF(AN188=\"\",\"\",SUM(Main!N188,Main!S188))","v":2000},null,2000,null,null,null,null,null,null,null,null,null,null,null,null,null,null,null,null,null,null,0,2000,null,2000,null,null,{"$f":"IF(SUM(Main!N188,Main!S188)>0,1,\"\")","v":1}]
[{"$f":"IF(AN189=\"\",\"\",SUM($AN$4:AN189))","v":186},{"$f":"IF(AN189=\"\",\"\",Main!B189)","v":"0807541"},{"$f":"IF(AN189=\"\",\"\",Main!C189)","v":"K.V.RAVANAMMA"},{"$f":"IF(AN189=\"\",\"\",Main!D189)","v":"SA (English)"},{"$f":"IF(AN189=\"\",\"\",Main!E189)","v":"15280-40510"},null,null,null,null,null,null,null,{"$f":"IF(AN189=\"\",\"\",SUM(Main!N189,Main!S189))","v":2000},null,2000,null,null,null,null,null,null,null,null,null,null,null,null,null,null,null,null,null,null,0,2000,null,2000,null,null,{"$f":"IF(SUM(Main!N189,Main!S189)>0,1,\"\")","v":1}]
[{"$f":"IF(AN190=\"\",\"\",SUM($AN$4:AN190))","v":187},{"$f":"IF(AN190=\"\",\"\",Main!B190)","v":"0807541"},{"$f":"IF(AN190=\"\",\"\",Main!C190)","v":"K.V.RAVANAMMA"},{"$f":"IF(AN190=\"\",\"\",Main!D190)","v":"SA (English)"},{"$f":"IF(AN190=\"\",\"\",Main!E190)","v":"15280-40510"},null,null,null,null,null,null,null,{"$f":"IF(AN190=\"\",\"\",SUM(Main!N190,Main!S190))","v":2000},null,2000,null,null,null,null,null,null,null,null,null,null,null,null,null,null,null,null,null,null,0,2000,null,2000,null,null,{"$f":"IF(SUM(Main!N190,Main!S190)>0,1,\"\")","v":1}]
[{"$f":"IF(AN191=\"\",\"\",SUM($AN$4:AN191))","v":188},{"$f":"IF(AN191=\"\",\"\",Main!B191)","v":"0807541"},{"$f":"IF(AN191=\"\",\"\",Main!C191)","v":"K.V.RAVANAMMA"},{"$f":"IF(AN191=\"\",\"\",Main!D191)","v":"SA (English)"},{"$f":"IF(AN191=\"\",\"\",Main!E191)","v":"15280-40510"},null,null,null,null,null,null,null,{"$f":"IF(AN191=\"\",\"\",SUM(Main!N191,Main!S191))","v":2000},null,2000,null,null,null,null,null,null,null,null,null,null,null,null,null,null,null,null,null,null,0,2000,null,2000,null,null,{"$f":"IF(SUM(Main!N191,Main!S191)>0,1,\"\")","v":1}]
[{"$f":"IF(AN192=\"\",\"\",SUM($AN$4:AN192))","v":189},{"$f":"IF(AN192=\"\",\"\",Main!B192)","v":"0807541"},{"$f":"IF(AN192=\"\",\"\",Main!C192)","v":"K.V.RAVANAMMA"},{"$f":"IF(AN192=\"\",\"\",Main!D192)","v":"SA (English)"},{"$f":"IF(AN192=\"\",\"\",Main!E192)","v":"15280-40510"},null,null,null,null,null,null,null,{"$f":"IF(AN192=\"\",\"\",SUM(Main!N192,Main!S192))","v":2000},null,2000,null,null,null,null,null,null,null,null,null,null,null,null,null,null,null,null,null,null,0,2000,null,2000,null,null,{"$f":"IF(SUM(Main!N192,Main!S192)>0,1,\"\")","v":1}]
[{"$f":"IF(AN193=\"\",\"\",SUM($AN$4:AN193))","v":190},{"$f":"IF(AN193=\"\",\"\",Main!B193)","v":"0807541"},{"$f":"IF(AN193=\"\",\"\",Main!C193)","v":"K.V.RAVANAMMA"},{"$f":"IF(AN193=\"\",\"\",Main!D193)","v":"SA (English)"},{"$f":"IF(AN193=\"\",\"\",Main!E193)","v":"15280-40510"},null,null,null,null,null,null,null,{"$f":"IF(AN193=\"\",\"\",SUM(Main!N193,Main!S193))","v":2000},null,2000,null,null,null,null,null,null,null,null,null,null,null,null,null,null,null,null,null,null,0,2000,null,2000,null,null,{"$f":"IF(SUM(Main!N193,Main!S193)>0,1,\"\")","v":1}]
[{"$f":"IF(AN194=\"\",\"\",SUM($AN$4:AN194))","v":""},{"$f":"IF(AN194=\"\",\"\",Main!B194)","v":""},{"$f":"IF(AN194=\"\",\"\",Main!C194)","v":""},{"$f":"IF(AN194=\"\",\"\",Main!D194)","v":""},{"$f":"IF(AN194=\"\",\"\",Main!E194)","v":""},null,null,null,null,null,null,null,{"$f":"IF(AN194=\"\",\"\",SUM(Main!N194,Main!S194))","v":""},null,0,null,null,null,null,null,null,null,null,null,null,null,null,null,null,null,null,null,null,0,0,null,0,null,null,{"$f":"IF(SUM(Main!N194,Main!S194)>0,1,\"\")","v":""}]
[{"$f":"IF(AN195=\"\",\"\",SUM($AN$4:AN195))","v":""},{"$f":"IF(AN195=\"\",\"\",Main!B195)","v":""},{"$f":"IF(AN195=\"\",\"\",Main!C195)","v":""},{"$f":"IF(AN195=\"\",\"\",Main!D195)","v":""},{"$f":"IF(AN195=\"\",\"\",Main!E195)","v":""},null,null,null,null,null,null,null,{"$f":"IF(AN195=\"\",\"\",SUM(Main!N195,Main!S195))","v":""},null,0,null,null,null,null,null,null,null,null,null,null,null,null,null,null,null,null,null,null,0,0,null,0,null,null,{"$f":"IF(SUM(Main!N195,Main!S195)>0,1,\"\")","v":""}]
[{"$f":"IF(AN196=\"\",\"\",SUM($AN$4:AN196))","v":""},{"$f":"IF(AN196=\"\",\"\",Main!B196)","v":""},{"$f":"IF(AN196=\"\",\"\",Main!C196)","v":""},{"$f":"IF(AN196=\"\",\"\",Main!D196)","v":""},{"$f":"IF(AN196=\"\",\"\",Main!E196)","v":""},null,null,null,null,null,null,null,{"$f":"IF(AN196=\"\",\"\",SUM(Main!N196,Main!S196))","v":""},null,0,null,null,null,null,null,null,null,null,null,null,null,null,null,null,null,null,null,null,0,0,null,0,null,null,{"$f":"IF(SUM(Main!N196,Main!S196)>0,1,\"\")","v":""}]
[{"$f":"IF(AN197=\"\",\"\",SUM($AN$4:AN197))","v":""},{"$f":"IF(AN197=\"\",\"\",Main!B197)","v":""},{"$f":"IF(AN197=\"\",\"\",Main!C197)","v":""},{"$f":"IF(AN197=\"\",\"\",Main!D197)","v":""},{"$f":"IF(AN197=\"\",\"\",Main!E197)","v":""},null,null,null,null,null,null,null,{"$f":"IF(AN197=\"\",\"\",SUM(Main!N197,Main!S197))","v":""},null,0,null,null,null,null,null,null,null,null,null,null,null,null,null,null,null,null,null,null,0,0,null,0,null,null,{"$f":"IF(SUM(Main!N197,Main!S197)>0,1,\"\")","v":""}]
[{"$f":"IF(AN198=\"\",\"\",SUM($AN$4:AN198))","v":""},{"$f":"IF(AN198=\"\",\"\",Main!B198)","v":""},{"$f":"IF(AN198=\"\",\"\",Main!C198)","v":""},{"$f":"IF(AN198=\"\",\"\",Main!D198)","v":""},{"$f":"IF(AN198=\"\",\"\",Main!E198)","v":""},null,null,null,null,null,null,null,{"$f":"IF(AN198=\"\",\"\",SUM(Main!N198,Main!S198))","v":""},null,0,null,null,null,null,null,null,null,null,null,null,null,null,null,null,null,null,null,null,0,0,null,0,null,null,{"$f":"IF(SUM(Main!N198,Main!S198)>0,1,\"\")","v":""}]
[{"$f":"IF(AN199=\"\",\"\",SUM($AN$4:AN199))","v":""},{"$f":"IF(AN199=\"\",\"\",Main!B199)","v":""},{"$f":"IF(AN199=\"\",\"\",Main!C199)","v":""},{"$f":"IF(AN199=\"\",\"\",Main!D199)","v":""},{"$f":"IF(AN199=\"\",\"\",Main!E199)","v":""},null,null,null,null,null,null,null,{"$f":"IF(AN199=\"\",\"\",SUM(Main!N199,Main!S199))","v":""},null,0,null,null,null,null,null,null,null,null,null,null,null,null,null,null,null,null,null,null,0,0,null,0,null,null,{"$f":"IF(SUM(Main!N199,Main!S199)>0,1,\"\")","v":""}]
[{"$f":"IF(AN200=\"\",\"\",SUM($AN$4:AN200))","v":""},{"$f":"IF(AN200=\"\",\"\",Main!B200)","v":""},{"$f":"IF(AN200=\"\",\"\",Main!C200)","v":""},{"$f":"IF(AN200=\"\",\"\",Main!D200)","v":""},{"$f":"IF(AN200=\"\",\"\",Main!E200)","v":""},null,null,null,null,null,null,null,{"$f":"IF(AN200=\"\",\"\",SUM(Main!N200,Main!S200))","v":""},null,0,null,null,null,null,null,null,null,null,null,null,null,null,null,null,null,null,null,null,0,0,null,0,null,null,{"$f":"IF(SUM(Main!N200,Main!S200)>0,1,\"\")","v":""}]
[{"$f":"IF(AN201=\"\",\"\",SUM($AN$4:AN201))","v":""},{"$f":"IF(AN201=\"\",\"\",Main!B201)","v":""},{"$f":"IF(AN201=\"\",\"\",Main!C201)","v":""},{"$f":"IF(AN201=\"\",\"\",Main!D201)","v":""},{"$f":"IF(AN201=\"\",\"\",Main!E201)","v":""},null,null,null,null,null,null,null,{"$f":"IF(AN201=\"\",\"\",SUM(Main!N201,Main!S201))","v":""},null,0,null,null,null,null,null,null,null,null,null,null,null,null,null,null,null,null,null,null,0,0,null,0,null,null,{"$f":"IF(SUM(Main!N201,Main!S201)>0,1,\"\")","v":""}]
[{"$f":"IF(AN202=\"\",\"\",SUM($AN$4:AN202))","v":""},{"$f":"IF(AN202=\"\",\"\",Main!B202)","v":""},{"$f":"IF(AN202=\"\",\"\",Main!C202)","v":""},{"$f":"IF(AN202=\"\",\"\",Main!D202)","v":""},{"$f":"IF(AN202=\"\",\"\",Main!E202)","v":""},null,null,null,null,null,null,null,{"$f":"IF(AN202=\"\",\"\",SUM(Main!N202,Main!S202))","v":""},null,0,null,null,null,null,null,null,null,null,null,null,null,null,null,null,null,null,null,null,0,0,null,0,null,null,{"$f":"IF(SUM(Main!N202,Main!S202)>0,1,\"\")","v":""}]
[{"$f":"IF(AN203=\"\",\"\",SUM($AN$4:AN203))","v":""},{"$f":"IF(AN203=\"\",\"\",Main!B203)","v":""},{"$f":"IF(AN203=\"\",\"\",Main!C203)","v":""},{"$f":"IF(AN203=\"\",\"\",Main!D203)","v":""},{"$f":"IF(AN203=\"\",\"\",Main!E203)","v":""},null,null,null,null,null,null,null,{"$f":"IF(AN203=\"\",\"\",SUM(Main!N203,Main!S203))","v":""},null,0,null,null,null,null,null,null,null,null,null,null,null,null,null,null,null,null,null,null,0,0,null,0,null,null,{"$f":"IF(SUM(Main!N203,Main!S203)>0,1,\"\")","v":""}]
[{"$f":"IF(AN204=\"\",\"\",SUM($AN$4:AN204))","v":""},{"$f":"IF(AN204=\"\",\"\",Main!B204)","v":""},{"$f":"IF(AN204=\"\",\"\",Main!C204)","v":""},{"$f":"IF(AN204=\"\",\"\",Main!D204)","v":""},{"$f":"IF(AN204=\"\",\"\",Main!E204)","v":""},null,null,null,null,null,null,null,{"$f":"IF(AN204=\"\",\"\",SUM(Main!N204,Main!S204))","v":""},null,{"$f":"SUM(F204:N204)","v":0},null,null,null,null,null,null,null,null,null,null,null,null,null,null,null,null,null,null,{"$f":"SUM(P204:AG204)","v":0},{"$f":"O204-AH204","v":0},null,{"$f":"AI204-AJ204","v":0},null,null,{"$f":"IF(SUM(Main!N204,Main!S204)>0,1,\"\")","v":""}]
[{"$f":"IF(AN205=\"\",\"\",SUM($AN$4:AN205))","v":""},{"$f":"IF(AN205=\"\",\"\",Main!B205)","v":""},{"$f":"IF(AN205=\"\",\"\",Main!C205)","v":""},{"$f":"IF(AN205=\"\",\"\",Main!D205)","v":""},{"$f":"IF(AN205=\"\",\"\",Main!E205)","v":""},null,null,null,null,null,null,null,{"$f":"IF(AN205=\"\",\"\",SUM(Main!N205,Main!S205))","v":""},null,0,null,null,null,null,null,null,null,null,null,null,null,null,null,null,null,null,null,null,0,0,null,0,null,null,{"$f":"IF(SUM(Main!N205,Main!S205)>0,1,\"\")","v":""}]
[{"$f":"IF(AN206=\"\",\"\",SUM($AN$4:AN206))","v":""},{"$f":"IF(AN206=\"\",\"\",Main!B206)","v":""},{"$f":"IF(AN206=\"\",\"\",Main!C206)","v":""},{"$f":"IF(AN206=\"\",\"\",Main!D206)","v":""},{"$f":"IF(AN206=\"\",\"\",Main!E206)","v":""},null,null,null,null,null,null,null,{"$f":"IF(AN206=\"\",\"\",SUM(Main!N206,Main!S206))","v":""},null,0,null,null,null,null,null,null,null,null,null,null,null,null,null,null,null,null,null,null,0,0,null,0,null,null,{"$f":"IF(SUM(Main!N206,Main!S206)>0,1,\"\")","v":""}]
[{"$f":"IF(AN207=\"\",\"\",SUM($AN$4:AN207))","v":""},{"$f":"IF(AN207=\"\",\"\",Main!B207)","v":""},{"$f":"IF(AN207=\"\",\"\",Main!C207)","v":""},{"$f":"IF(AN207=\"\",\"\",Main!D207)","v":""},{"$f":"IF(AN207=\"\",\"\",Main!E207)","v":""},null,null,null,null,null,null,null,{"$f":"IF(AN207=\"\",\"\",SUM(Main!N207,Main!S207))","v":""},null,0,null,null,null,null,null,null,null,null,null,null,null,null,null,null,null,null,null,null,0,0,null,0,null,null,{"$f":"IF(SUM(Main!N207,Main!S207)>0,1,\"\")","v":""}]
[{"$f":"IF(AN208=\"\",\"\",SUM($AN$4:AN208))","v":""},{"$f":"IF(AN208=\"\",\"\",Main!B208)","v":""},{"$f":"IF(AN208=\"\",\"\",Main!C208)","v":""},{"$f":"IF(AN208=\"\",\"\",Main!D208)","v":""},{"$f":"IF(AN208=\"\",\"\",Main!E208)","v":""},null,null,null,null,null,null,null,{"$f":"IF(AN208=\"\",\"\",SUM(Main!N208,Main!S208))","v":""},null,0,null,null,null,null,null,null,null,null,null,null,null,null,null,null,null,null,null,null,0,0,null,0,null,null,{"$f":"IF(SUM(Main!N208,Main!S208)>0,1,\"\")","v":""}]
[{"$f":"IF(AN209=\"\",\"\",SUM($AN$4:AN209))","v":""},{"$f":"IF(AN209=\"\",\"\",Main!B209)","v":""},{"$f":"IF(AN209=\"\",\"\",Main!C209)","v":""},{"$f":"IF(AN209=\"\",\"\",Main!D209)","v":""},{"$f":"IF(AN209=\"\",\"\",Main!E209)","v":""},null,null,null,null,null,null,null,{"$f":"IF(AN209=\"\",\"\",SUM(Main!N209,Main!S209))","v":""},null,0,null,null,null,null,null,null,null,null,null,null,null,null,null,null,null,null,null,null,0,0,null,0,null,null,{"$f":"IF(SUM(Main!N209,Main!S209)>0,1,\"\")","v":""}]
[{"$f":"IF(AN210=\"\",\"\",SUM($AN$4:AN210))","v":""},{"$f":"IF(AN210=\"\",\"\",Main!B210)","v":""},{"$f":"IF(AN210=\"\",\"\",Main!C210)","v":""},{"$f":"IF(AN210=\"\",\"\",Main!D210)","v":""},{"$f":"IF(AN210=\"\",\"\",Main!E210)","v":""},null,null,null,null,null,null,null,{"$f":"IF(AN210=\"\",\"\",SUM(Main!N210,Main!S210))","v":""},null,0,null,null,null,null,null,null,null,null,null,null,null,null,null,null,null,null,null,null,0,0,null,0,null,null,{"$f":"IF(SUM(Main!N210,Main!S210)>0,1,\"\")","v":""}]
[{"$f":"IF(AN211=\"\",\"\",SUM($AN$4:AN211))","v":""},{"$f":"IF(AN211=\"\",\"\",Main!B211)","v":""},{"$f":"IF(AN211=\"\",\"\",Main!C211)","v":""},{"$f":"IF(AN211=\"\",\"\",Main!D211)","v":""},{"$f":"IF(AN211=\"\",\"\",Main!E211)","v":""},null,null,null,null,null,null,null,{"$f":"IF(AN211=\"\",\"\",SUM(Main!N211,Main!S211))","v":""},null,0,null,null,null,null,null,null,null,null,null,null,null,null,null,null,null,null,null,null,0,0,null,0,null,null,{"$f":"IF(SUM(Main!N211,Main!S211)>0,1,\"\")","v":""}]
[{"$f":"IF(AN212=\"\",\"\",SUM($AN$4:AN212))","v":""},{"$f":"IF(AN212=\"\",\"\",Main!B212)","v":""},{"$f":"IF(AN212=\"\",\"\",Main!C212)","v":""},{"$f":"IF(AN212=\"\",\"\",Main!D212)","v":""},{"$f":"IF(AN212=\"\",\"\",Main!E212)","v":""},null,null,null,null,null,null,null,{"$f":"IF(AN212=\"\",\"\",SUM(Main!N212,Main!S212))","v":""},null,0,null,null,null,null,null,null,null,null,null,null,null,null,null,null,null,null,null,null,0,0,null,0,null,null,{"$f":"IF(SUM(Main!N212,Main!S212)>0,1,\"\")","v":""}]
[{"$f":"IF(AN213=\"\",\"\",SUM($AN$4:AN213))","v":""},{"$f":"IF(AN213=\"\",\"\",Main!B213)","v":""},{"$f":"IF(AN213=\"\",\"\",Main!C213)","v":""},{"$f":"IF(AN213=\"\",\"\",Main!D213)","v":""},{"$f":"IF(AN213=\"\",\"\",Main!E213)","v":""},null,null,null,null,null,null,null,{"$f":"IF(AN213=\"\",\"\",SUM(Main!N213,Main!S213))","v":""},null,0,null,null,null,null,null,null,null,null,null,null,null,null,null,null,null,null,null,null,0,0,null,0,null,null,{"$f":"IF(SUM(Main!N213,Main!S213)>0,1,\"\")","v":""}]
[{"$f":"IF(AN214=\"\",\"\",SUM($AN$4:AN214))","v":""},{"$f":"IF(AN214=\"\",\"\",Main!B214)","v":""},{"$f":"IF(AN214=\"\",\"\",Main!C214)","v":""},{"$f":"IF(AN214=\"\",\"\",Main!D214)","v":""},{"$f":"IF(AN214=\"\",\"\",Main!E214)","v":""},null,null,null,null,null,null,null,{"$f":"IF(AN214=\"\",\"\",SUM(Main!N214,Main!S214))","v":""},null,0,null,null,null,null,null,null,null,null,null,null,null,null,null,null,null,null,null,null,0,0,null,0,null,null,{"$f":"IF(SUM(Main!N214,Main!S214)>0,1,\"\")","v":""}]
[{"$f":"IF(AN215=\"\",\"\",SUM($AN$4:AN215))","v":""},{"$f":"IF(AN215=\"\",\"\",Main!B215)","v":""},{"$f":"IF(AN215=\"\",\"\",Main!C215)","v":""},{"$f":"IF(AN215=\"\",\"\",Main!D215)","v":""},{"$f":"IF(AN215=\"\",\"\",Main!E215)","v":""},null,null,null,null,null,null,null,{"$f":"IF(AN215=\"\",\"\",SUM(Main!N215,Main!S215))","v":""},null,0,null,null,null,null,null,null,null,null,null,null,null,null,null,null,null,null,null,null,0,0,null,0,null,null,{"$f":"IF(SUM(Main!N215,Main!S215)>0,1,\"\")","v":""}]
[{"$f":"IF(AN216=\"\",\"\",SUM($AN$4:AN216))","v":""},{"$f":"IF(AN216=\"\",\"\",Main!B216)","v":""},{"$f":"IF(AN216=\"\",\"\",Main!C216)","v":""},{"$f":"IF(AN216=\"\",\"\",Main!D216)","v":""},{"$f":"IF(AN216=\"\",\"\",Main!E216)","v":""},null,null,null,null,null,null,null,{"$f":"IF(AN216=\"\",\"\",SUM(Main!N216,Main!S216))","v":""},null,0,null,null,null,null,null,null,null,null,null,null,null,null,null,null,null,null,null,null,0,0,null,0,null,null,{"$f":"IF(SUM(Main!N216,Main!S216)>0,1,\"\")","v":""}]
[{"$f":"IF(AN217=\"\",\"\",SUM($AN$4:AN217))","v":""},{"$f":"IF(AN217=\"\",\"\",Main!B217)","v":""},{"$f":"IF(AN217=\"\",\"\",Main!C217)","v":""},{"$f":"IF(AN217=\"\",\"\",Main!D217)","v":""},{"$f":"IF(AN217=\"\",\"\",Main!E217)","v":""},null,null,null,null,null,null,null,{"$f":"IF(AN217=\"\",\"\",SUM(Main!N217,Main!S217))","v":""},null,0,null,null,null,null,null,null,null,null,null,null,null,null,null,null,null,null,null,null,0,0,null,0,null,null,{"$f":"IF(SUM(Main!N217,Main!S217)>0,1,\"\")","v":""}]
[{"$f":"IF(AN218=\"\",\"\",SUM($AN$4:AN218))","v":""},{"$f":"IF(AN218=\"\",\"\",Main!B218)","v":""},{"$f":"IF(AN218=\"\",\"\",Main!C218)","v":""},{"$f":"IF(AN218=\"\",\"\",Main!D218)","v":""},{"$f":"IF(AN218=\"\",\"\",Main!E218)","v":""},null,null,null,null,null,null,null,{"$f":"IF(AN218=\"\",\"\",SUM(Main!N218,Main!S218))","v":""},null,0,null,null,null,null,null,null,null,null,null,null,null,null,null,null,null,null,null,null,0,0,null,0,null,null,{"$f":"IF(SUM(Main!N218,Main!S218)>0,1,\"\")","v":""}]
[{"$f":"IF(AN219=\"\",\"\",SUM($AN$4:AN219))","v":""},{"$f":"IF(AN219=\"\",\"\",Main!B219)","v":""},{"$f":"IF(AN219=\"\",\"\",Main!C219)","v":""},{"$f":"IF(AN219=\"\",\"\",Main!D219)","v":""},{"$f":"IF(AN219=\"\",\"\",Main!E219)","v":""},null,null,null,null,null,null,null,{"$f":"IF(AN219=\"\",\"\",SUM(Main!N219,Main!S219))","v":""},null,0,null,null,null,null,null,null,null,null,null,null,null,null,null,null,null,null,null,null,0,0,null,0,null,null,{"$f":"IF(SUM(Main!N219,Main!S219)>0,1,\"\")","v":""}]
[{"$f":"IF(AN220=\"\",\"\",SUM($AN$4:AN220))","v":""},{"$f":"IF(AN220=\"\",\"\",Main!B220)","v":""},{"$f":"IF(AN220=\"\",\"\",Main!C220)","v":""},{"$f":"IF(AN220=\"\",\"\",Main!D220)","v":""},{"$f":"IF(AN220=\"\",\"\",Main!E220)","v":""},null,null,null,null,null,null,null,{"$f":"IF(AN220=\"\",\"\",SUM(Main!N220,Main!S220))","v":""},null,0,null,null,null,null,null,null,null,null,null,null,null,null,null,null,null,null,null,null,0,0,null,0,null,null,{"$f":"IF(SUM(Main!N220,Main!S220)>0,1,\"\")","v":""}]
[{"$f":"IF(AN221=\"\",\"\",SUM($AN$4:AN221))","v":""},{"$f":"IF(AN221=\"\",\"\",Main!B221)","v":""},{"$f":"IF(AN221=\"\",\"\",Main!C221)","v":""},{"$f":"IF(AN221=\"\",\"\",Main!D221)","v":""},{"$f":"IF(AN221=\"\",\"\",Main!E221)","v":""},null,null,null,null,null,null,null,{"$f":"IF(AN221=\"\",\"\",SUM(Main!N221,Main!S221))","v":""},null,0,null,null,null,null,null,null,null,null,null,null,null,null,null,null,null,null,null,null,0,0,null,0,null,null,{"$f":"IF(SUM(Main!N221,Main!S221)>0,1,\"\")","v":""}]
[{"$f":"IF(AN222=\"\",\"\",SUM($AN$4:AN222))","v":""},{"$f":"IF(AN222=\"\",\"\",Main!B222)","v":""},{"$f":"IF(AN222=\"\",\"\",Main!C222)","v":""},{"$f":"IF(AN222=\"\",\"\",Main!D222)","v":""},{"$f":"IF(AN222=\"\",\"\",Main!E222)","v":""},null,null,null,null,null,null,null,{"$f":"IF(AN222=\"\",\"\",SUM(Main!N222,Main!S222))","v":""},null,0,null,null,null,null,null,null,null,null,null,null,null,null,null,null,null,null,null,null,0,0,null,0,null,null,{"$f":"IF(SUM(Main!N222,Main!S222)>0,1,\"\")","v":""}]
[{"$f":"IF(AN223=\"\",\"\",SUM($AN$4:AN223))","v":""},{"$f":"IF(AN223=\"\",\"\",Main!B223)","v":""},{"$f":"IF(AN223=\"\",\"\",Main!C223)","v":""},{"$f":"IF(AN223=\"\",\"\",Main!D223)","v":""},{"$f":"IF(AN223=\"\",\"\",Main!E223)","v":""},null,null,null,null,null,null,null,{"$f":"IF(AN223=\"\",\"\",SUM(Main!N223,Main!S223))","v":""},null,0,null,null,null,null,null,null,null,null,null,null,null,null,null,null,null,null,null,null,0,0,null,0,null,null,{"$f":"IF(SUM(Main!N223,Main!S223)>0,1,\"\")","v":""}]
[{"$f":"IF(AN224=\"\",\"\",SUM($AN$4:AN224))","v":""},{"$f":"IF(AN224=\"\",\"\",Main!B224)","v":""},{"$f":"IF(AN224=\"\",\"\",Main!C224)","v":""},{"$f":"IF(AN224=\"\",\"\",Main!D224)","v":""},{"$f":"IF(AN224=\"\",\"\",Main!E224)","v":""},null,null,null,null,null,null,null,{"$f":"IF(AN224=\"\",\"\",SUM(Main!N224,Main!S224))","v":""},null,0,null,null,null,null,null,null,null,null,null,null,null,null,null,null,null,null,null,null,0,0,null,0,null,null,{"$f":"IF(SUM(Main!N224,Main!S224)>0,1,\"\")","v":""}]
[{"$f":"IF(AN225=\"\",\"\",SUM($AN$4:AN225))","v":""},{"$f":"IF(AN225=\"\",\"\",Main!B225)","v":""},{"$f":"IF(AN225=\"\",\"\",Main!C225)","v":""},{"$f":"IF(AN225=\"\",\"\",Main!D225)","v":""},{"$f":"IF(AN225=\"\",\"\",Main!E225)","v":""},null,null,null,null,null,null,null,{"$f":"IF(AN225=\"\",\"\",SUM(Main!N225,Main!S225))","v":""},null,0,null,null,null,null,null,null,null,null,null,null,null,null,null,null,null,null,null,null,0,0,null,0,null,null,{"$f":"IF(SUM(Main!N225,Main!S225)>0,1,\"\")","v":""}]
[{"$f":"IF(AN226=\"\",\"\",SUM($AN$4:AN226))","v":""},{"$f":"IF(AN226=\"\",\"\",Main!B226)","v":""},{"$f":"IF(AN226=\"\",\"\",Main!C226)","v":""},{"$f":"IF(AN226=\"\",\"\",Main!D226)","v":""},{"$f":"IF(AN226=\"\",\"\",Main!E226)","v":""},null,null,null,null,null,null,null,{"$f":"IF(AN226=\"\",\"\",SUM(Main!N226,Main!S226))","v":""},null,0,null,null,null,null,null,null,null,null,null,null,null,null,null,null,null,null,null,null,0,0,null,0,null,null,{"$f":"IF(SUM(Main!N226,Main!S226)>0,1,\"\")","v":""}]
[{"$f":"IF(AN227=\"\",\"\",SUM($AN$4:AN227))","v":""},{"$f":"IF(AN227=\"\",\"\",Main!B227)","v":""},{"$f":"IF(AN227=\"\",\"\",Main!C227)","v":""},{"$f":"IF(AN227=\"\",\"\",Main!D227)","v":""},{"$f":"IF(AN227=\"\",\"\",Main!E227)","v":""},null,null,null,null,null,null,null,{"$f":"IF(AN227=\"\",\"\",SUM(Main!N227,Main!S227))","v":""},null,0,null,null,null,null,null,null,null,null,null,null,null,null,null,null,null,null,null,null,0,0,null,0,null,null,{"$f":"IF(SUM(Main!N227,Main!S227)>0,1,\"\")","v":""}]
[{"$f":"IF(AN228=\"\",\"\",SUM($AN$4:AN228))","v":""},{"$f":"IF(AN228=\"\",\"\",Main!B228)","v":""},{"$f":"IF(AN228=\"\",\"\",Main!C228)","v":""},{"$f":"IF(AN228=\"\",\"\",Main!D228)","v":""},{"$f":"IF(AN228=\"\",\"\",Main!E228)","v":""},null,null,null,null,null,null,null,{"$f":"IF(AN228=\"\",\"\",SUM(Main!N228,Main!S228))","v":""},null,0,null,null,null,null,null,null,null,null,null,null,null,null,null,null,null,null,null,null,0,0,null,0,null,null,{"$f":"IF(SUM(Main!N228,Main!S228)>0,1,\"\")","v":""}]
[{"$f":"IF(AN229=\"\",\"\",SUM($AN$4:AN229))","v":""},{"$f":"IF(AN229=\"\",\"\",Main!B229)","v":""},{"$f":"IF(AN229=\"\",\"\",Main!C229)","v":""},{"$f":"IF(AN229=\"\",\"\",Main!D229)","v":""},{"$f":"IF(AN229=\"\",\"\",Main!E229)","v":""},null,null,null,null,null,null,null,{"$f":"IF(AN229=\"\",\"\",SUM(Main!N229,Main!S229))","v":""},null,0,null,null,null,null,null,null,null,null,null,null,null,null,null,null,null,null,null,null,0,0,null,0,null,null,{"$f":"IF(SUM(Main!N229,Main!S229)>0,1,\"\")","v":""}]
[{"$f":"IF(AN230=\"\",\"\",SUM($AN$4:AN230))","v":""},{"$f":"IF(AN230=\"\",\"\",Main!B230)","v":""},{"$f":"IF(AN230=\"\",\"\",Main!C230)","v":""},{"$f":"IF(AN230=\"\",\"\",Main!D230)","v":""},{"$f":"IF(AN230=\"\",\"\",Main!E230)","v":""},null,null,null,null,null,null,null,{"$f":"IF(AN230=\"\",\"\",SUM(Main!N230,Main!S230))","v":""},null,0,null,null,null,null,null,null,null,null,null,null,null,null,null,null,null,null,null,null,0,0,null,0,null,null,{"$f":"IF(SUM(Main!N230,Main!S230)>0,1,\"\")","v":""}]
[{"$f":"IF(AN231=\"\",\"\",SUM($AN$4:AN231))","v":""},{"$f":"IF(AN231=\"\",\"\",Main!B231)","v":""},{"$f":"IF(AN231=\"\",\"\",Main!C231)","v":""},{"$f":"IF(AN231=\"\",\"\",Main!D231)","v":""},{"$f":"IF(AN231=\"\",\"\",Main!E231)","v":""},null,null,null,null,null,null,null,{"$f":"IF(AN231=\"\",\"\",SUM(Main!N231,Main!S231))","v":""},null,0,null,null,null,null,null,null,null,null,null,null,null,null,null,null,null,null,null,null,0,0,null,0,null,null,{"$f":"IF(SUM(Main!N231,Main!S231)>0,1,\"\")","v":""}]
[{"$f":"IF(AN232=\"\",\"\",SUM($AN$4:AN232))","v":""},{"$f":"IF(AN232=\"\",\"\",Main!B232)","v":""},{"$f":"IF(AN232=\"\",\"\",Main!C232)","v":""},{"$f":"IF(AN232=\"\",\"\",Main!D232)","v":""},{"$f":"IF(AN232=\"\",\"\",Main!E232)","v":""},null,null,null,null,null,null,null,{"$f":"IF(AN232=\"\",\"\",SUM(Main!N232,Main!S232))","v":""},null,0,null,null,null,null,null,null,null,null,null,null,null,null,null,null,null,null,null,null,0,0,null,0,null,null,{"$f":"IF(SUM(Main!N232,Main!S232)>0,1,\"\")","v":""}]
[{"$f":"IF(AN233=\"\",\"\",SUM($AN$4:AN233))","v":""},{"$f":"IF(AN233=\"\",\"\",Main!B233)","v":""},{"$f":"IF(AN233=\"\",\"\",Main!C233)","v":""},{"$f":"IF(AN233=\"\",\"\",Main!D233)","v":""},{"$f":"IF(AN233=\"\",\"\",Main!E233)","v":""},null,null,null,null,null,null,null,{"$f":"IF(AN233=\"\",\"\",SUM(Main!N233,Main!S233))","v":""},null,0,null,null,null,null,null,null,null,null,null,null,null,null,null,null,null,null,null,null,0,0,null,0,null,null,{"$f":"IF(SUM(Main!N233,Main!S233)>0,1,\"\")","v":""}]
[{"$f":"IF(AN234=\"\",\"\",SUM($AN$4:AN234))","v":""},{"$f":"IF(AN234=\"\",\"\",Main!B234)","v":""},{"$f":"IF(AN234=\"\",\"\",Main!C234)","v":""},{"$f":"IF(AN234=\"\",\"\",Main!D234)","v":""},{"$f":"IF(AN234=\"\",\"\",Main!E234)","v":""},null,null,null,null,null,null,null,{"$f":"IF(AN234=\"\",\"\",SUM(Main!N234,Main!S234))","v":""},null,0,null,null,null,null,null,null,null,null,null,null,null,null,null,null,null,null,null,null,0,0,null,0,null,null,{"$f":"IF(SUM(Main!N234,Main!S234)>0,1,\"\")","v":""}]
[{"$f":"IF(AN235=\"\",\"\",SUM($AN$4:AN235))","v":""},{"$f":"IF(AN235=\"\",\"\",Main!B235)","v":""},{"$f":"IF(AN235=\"\",\"\",Main!C235)","v":""},{"$f":"IF(AN235=\"\",\"\",Main!D235)","v":""},{"$f":"IF(AN235=\"\",\"\",Main!E235)","v":""},null,null,null,null,null,null,null,{"$f":"IF(AN235=\"\",\"\",SUM(Main!N235,Main!S235))","v":""},null,0,null,null,null,null,null,null,null,null,null,null,null,null,null,null,null,null,null,null,0,0,null,0,null,null,{"$f":"IF(SUM(Main!N235,Main!S235)>0,1,\"\")","v":""}]
[{"$f":"IF(AN236=\"\",\"\",SUM($AN$4:AN236))","v":""},{"$f":"IF(AN236=\"\",\"\",Main!B236)","v":""},{"$f":"IF(AN236=\"\",\"\",Main!C236)","v":""},{"$f":"IF(AN236=\"\",\"\",Main!D236)","v":""},{"$f":"IF(AN236=\"\",\"\",Main!E236)","v":""},null,null,null,null,null,null,null,{"$f":"IF(AN236=\"\",\"\",SUM(Main!N236,Main!S236))","v":""},null,0,null,null,null,null,null,null,null,null,null,null,null,null,null,null,null,null,null,null,0,0,null,0,null,null,{"$f":"IF(SUM(Main!N236,Main!S236)>0,1,\"\")","v":""}]
[{"$f":"IF(AN237=\"\",\"\",SUM($AN$4:AN237))","v":""},{"$f":"IF(AN237=\"\",\"\",Main!B237)","v":""},{"$f":"IF(AN237=\"\",\"\",Main!C237)","v":""},{"$f":"IF(AN237=\"\",\"\",Main!D237)","v":""},{"$f":"IF(AN237=\"\",\"\",Main!E237)","v":""},null,null,null,null,null,null,null,{"$f":"IF(AN237=\"\",\"\",SUM(Main!N237,Main!S237))","v":""},null,0,null,null,null,null,null,null,null,null,null,null,null,null,null,null,null,null,null,null,0,0,null,0,null,null,{"$f":"IF(SUM(Main!N237,Main!S237)>0,1,\"\")","v":""}]
[{"$f":"IF(AN238=\"\",\"\",SUM($AN$4:AN238))","v":""},{"$f":"IF(AN238=\"\",\"\",Main!B238)","v":""},{"$f":"IF(AN238=\"\",\"\",Main!C238)","v":""},{"$f":"IF(AN238=\"\",\"\",Main!D238)","v":""},{"$f":"IF(AN238=\"\",\"\",Main!E238)","v":""},null,null,null,null,null,null,null,{"$f":"IF(AN238=\"\",\"\",SUM(Main!N238,Main!S238))","v":""},null,0,null,null,null,null,null,null,null,null,null,null,null,null,null,null,null,null,null,null,0,0,null,0,null,null,{"$f":"IF(SUM(Main!N238,Main!S238)>0,1,\"\")","v":""}]
[{"$f":"IF(AN239=\"\",\"\",SUM($AN$4:AN239))","v":""},{"$f":"IF(AN239=\"\",\"\",Main!B239)","v":""},{"$f":"IF(AN239=\"\",\"\",Main!C239)","v":""},{"$f":"IF(AN239=\"\",\"\",Main!D239)","v":""},{"$f":"IF(AN239=\"\",\"\",Main!E239)","v":""},null,null,null,null,null,null,null,{"$f":"IF(AN239=\"\",\"\",SUM(Main!N239,Main!S239))","v":""},null,0,null,null,null,null,null,null,null,null,null,null,null,null,null,null,null,null,null,null,0,0,null,0,null,null,{"$f":"IF(SUM(Main!N239,Main!S239)>0,1,\"\")","v":""}]
[{"$f":"IF(AN240=\"\",\"\",SUM($AN$4:AN240))","v":""},{"$f":"IF(AN240=\"\",\"\",Main!B240)","v":""},{"$f":"IF(AN240=\"\",\"\",Main!C240)","v":""},{"$f":"IF(AN240=\"\",\"\",Main!D240)","v":""},{"$f":"IF(AN240=\"\",\"\",Main!E240)","v":""},null,null,null,null,null,null,null,{"$f":"IF(AN240=\"\",\"\",SUM(Main!N240,Main!S240))","v":""},null,0,null,null,null,null,null,null,null,null,null,null,null,null,null,null,null,null,null,null,0,0,null,0,null,null,{"$f":"IF(SUM(Main!N240,Main!S240)>0,1,\"\")","v":""}]
[{"$f":"IF(AN241=\"\",\"\",SUM($AN$4:AN241))","v":""},{"$f":"IF(AN241=\"\",\"\",Main!B241)","v":""},{"$f":"IF(AN241=\"\",\"\",Main!C241)","v":""},{"$f":"IF(AN241=\"\",\"\",Main!D241)","v":""},{"$f":"IF(AN241=\"\",\"\",Main!E241)","v":""},null,null,null,null,null,null,null,{"$f":"IF(AN241=\"\",\"\",SUM(Main!N241,Main!S241))","v":""},null,0,null,null,null,null,null,null,null,null,null,null,null,null,null,null,null,null,null,null,0,0,null,0,null,null,{"$f":"IF(SUM(Main!N241,Main!S241)>0,1,\"\")","v":""}]
[{"$f":"IF(AN242=\"\",\"\",SUM($AN$4:AN242))","v":""},{"$f":"IF(AN242=\"\",\"\",Main!B242)","v":""},{"$f":"IF(AN242=\"\",\"\",Main!C242)","v":""},{"$f":"IF(AN242=\"\",\"\",Main!D242)","v":""},{"$f":"IF(AN242=\"\",\"\",Main!E242)","v":""},null,null,null,null,null,null,null,{"$f":"IF(AN242=\"\",\"\",SUM(Main!N242,Main!S242))","v":""},null,0,null,null,null,null,null,null,null,null,null,null,null,null,null,null,null,null,null,null,0,0,null,0,null,null,{"$f":"IF(SUM(Main!N242,Main!S242)>0,1,\"\")","v":""}]
[{"$f":"IF(AN243=\"\",\"\",SUM($AN$4:AN243))","v":""},{"$f":"IF(AN243=\"\",\"\",Main!B243)","v":""},{"$f":"IF(AN243=\"\",\"\",Main!C243)","v":""},{"$f":"IF(AN243=\"\",\"\",Main!D243)","v":""},{"$f":"IF(AN243=\"\",\"\",Main!E243)","v":""},null,null,null,null,null,null,null,{"$f":"IF(AN243=\"\",\"\",SUM(Main!N243,Main!S243))","v":""},null,0,null,null,null,null,null,null,null,null,null,null,null,null,null,null,null,null,null,null,0,0,null,0,null,null,{"$f":"IF(SUM(Main!N243,Main!S243)>0,1,\"\")","v":""}]
[{"$f":"IF(AN244=\"\",\"\",SUM($AN$4:AN244))","v":""},{"$f":"IF(AN244=\"\",\"\",Main!B244)","v":""},{"$f":"IF(AN244=\"\",\"\",Main!C244)","v":""},{"$f":"IF(AN244=\"\",\"\",Main!D244)","v":""},{"$f":"IF(AN244=\"\",\"\",Main!E244)","v":""},null,null,null,null,null,null,null,{"$f":"IF(AN244=\"\",\"\",SUM(Main!N244,Main!S244))","v":""},null,0,null,null,null,null,null,null,null,null,null,null,null,null,null,null,null,null,null,null,0,0,null,0,null,null,{"$f":"IF(SUM(Main!N244,Main!S244)>0,1,\"\")","v":""}]
[{"$f":"IF(AN245=\"\",\"\",SUM($AN$4:AN245))","v":""},{"$f":"IF(AN245=\"\",\"\",Main!B245)","v":""},{"$f":"IF(AN245=\"\",\"\",Main!C245)","v":""},{"$f":"IF(AN245=\"\",\"\",Main!D245)","v":""},{"$f":"IF(AN245=\"\",\"\",Main!E245)","v":""},null,null,null,null,null,null,null,{"$f":"IF(AN245=\"\",\"\",SUM(Main!N245,Main!S245))","v":""},null,0,null,null,null,null,null,null,null,null,null,null,null,null,null,null,null,null,null,null,0,0,null,0,null,null,{"$f":"IF(SUM(Main!N245,Main!S245)>0,1,\"\")","v":""}]
[{"$f":"IF(AN246=\"\",\"\",SUM($AN$4:AN246))","v":""},{"$f":"IF(AN246=\"\",\"\",Main!B246)","v":""},{"$f":"IF(AN246=\"\",\"\",Main!C246)","v":""},{"$f":"IF(AN246=\"\",\"\",Main!D246)","v":""},{"$f":"IF(AN246=\"\",\"\",Main!E246)","v":""},null,null,null,null,null,null,null,{"$f":"IF(AN246=\"\",\"\",SUM(Main!N246,Main!S246))","v":""},null,0,null,null,null,null,null,null,null,null,null,null,null,null,null,null,null,null,null,null,0,0,null,0,null,null,{"$f":"IF(SUM(Main!N246,Main!S246)>0,1,\"\")","v":""}]
[{"$f":"IF(AN247=\"\",\"\",SUM($AN$4:AN247))","v":""},{"$f":"IF(AN247=\"\",\"\",Main!B247)","v":""},{"$f":"IF(AN247=\"\",\"\",Main!C247)","v":""},{"$f":"IF(AN247=\"\",\"\",Main!D247)","v":""},{"$f":"IF(AN247=\"\",\"\",Main!E247)","v":""},null,null,null,null,null,null,null,{"$f":"IF(AN247=\"\",\"\",SUM(Main!N247,Main!S247))","v":""},null,0,null,null,null,null,null,null,null,null,null,null,null,null,null,null,null,null,null,null,0,0,null,0,null,null,{"$f":"IF(SUM(Main!N247,Main!S247)>0,1,\"\")","v":""}]
[{"$f":"IF(AN248=\"\",\"\",SUM($AN$4:AN248))","v":""},{"$f":"IF(AN248=\"\",\"\",Main!B248)","v":""},{"$f":"IF(AN248=\"\",\"\",Main!C248)","v":""},{"$f":"IF(AN248=\"\",\"\",Main!D248)","v":""},{"$f":"IF(AN248=\"\",\"\",Main!E248)","v":""},null,null,null,null,null,null,null,{"$f":"IF(AN248=\"\",\"\",SUM(Main!N248,Main!S248))","v":""},null,0,null,null,null,null,null,null,null,null,null,null,null,null,null,null,null,null,null,null,0,0,null,0,null,null,{"$f":"IF(SUM(Main!N248,Main!S248)>0,1,\"\")","v":""}]
[{"$f":"IF(AN249=\"\",\"\",SUM($AN$4:AN249))","v":""},{"$f":"IF(AN249=\"\",\"\",Main!B249)","v":""},{"$f":"IF(AN249=\"\",\"\",Main!C249)","v":""},{"$f":"IF(AN249=\"\",\"\",Main!D249)","v":""},{"$f":"IF(AN249=\"\",\"\",Main!E249)","v":""},null,null,null,null,null,null,null,{"$f":"IF(AN249=\"\",\"\",SUM(Main!N249,Main!S249))","v":""},null,0,null,null,null,null,null,null,null,null,null,null,null,null,null,null,null,null,null,null,0,0,null,0,null,null,{"$f":"IF(SUM(Main!N249,Main!S249)>0,1,\"\")","v":""}]
[{"$f":"IF(AN250=\"\",\"\",SUM($AN$4:AN250))","v":""},{"$f":"IF(AN250=\"\",\"\",Main!B250)","v":""},{"$f":"IF(AN250=\"\",\"\",Main!C250)","v":""},{"$f":"IF(AN250=\"\",\"\",Main!D250)","v":""},{"$f":"IF(AN250=\"\",\"\",Main!E250)","v":""},null,null,null,null,null,null,null,{"$f":"IF(AN250=\"\",\"\",SUM(Main!N250,Main!S250))","v":""},null,0,null,null,null,null,null,null,null,null,null,null,null,null,null,null,null,null,null,null,0,0,null,0,null,null,{"$f":"IF(SUM(Main!N250,Main!S250)>0,1,\"\")","v":""}]
[{"$f":"IF(AN251=\"\",\"\",SUM($AN$4:AN251))","v":""},{"$f":"IF(AN251=\"\",\"\",Main!B251)","v":""},{"$f":"IF(AN251=\"\",\"\",Main!C251)","v":""},{"$f":"IF(AN251=\"\",\"\",Main!D251)","v":""},{"$f":"IF(AN251=\"\",\"\",Main!E251)","v":""},null,null,null,null,null,null,null,{"$f":"IF(AN251=\"\",\"\",SUM(Main!N251,Main!S251))","v":""},null,0,null,null,null,null,null,null,null,null,null,null,null,null,null,null,null,null,null,null,0,0,null,0,null,null,{"$f":"IF(SUM(Main!N251,Main!S251)>0,1,\"\")","v":""}]
[{"$f":"IF(AN252=\"\",\"\",SUM($AN$4:AN252))","v":""},{"$f":"IF(AN252=\"\",\"\",Main!B252)","v":""},{"$f":"IF(AN252=\"\",\"\",Main!C252)","v":""},{"$f":"IF(AN252=\"\",\"\",Main!D252)","v":""},{"$f":"IF(AN252=\"\",\"\",Main!E252)","v":""},null,null,null,null,null,null,null,{"$f":"IF(AN252=\"\",\"\",SUM(Main!N252,Main!S252))","v":""},null,0,null,null,null,null,null,null,null,null,null,null,null,null,null,null,null,null,null,null,0,0,null,0,null,null,{"$f":"IF(SUM(Main!N252,Main!S252)>0,1,\"\")","v":""}]
[{"$f":"IF(AN253=\"\",\"\",SUM($AN$4:AN253))","v":""},{"$f":"IF(AN253=\"\",\"\",Main!B253)","v":""},{"$f":"IF(AN253=\"\",\"\",Main!C253)","v":""},{"$f":"IF(AN253=\"\",\"\",Main!D253)","v":""},{"$f":"IF(AN253=\"\",\"\",Main!E253)","v":""},null,null,null,null,null,null,null,{"$f":"IF(AN253=\"\",\"\",SUM(Main!N253,Main!S253))","v":""},null,0,null,null,null,null,null,null,null,null,null,null,null,null,null,null,null,null,null,null,0,0,null,0,null,null,{"$f":"IF(SUM(Main!N253,Main!S253)>0,1,\"\")","v":""}]
[{"$f":"IF(AN254=\"\",\"\",SUM($AN$4:AN254))","v":""},{"$f":"IF(AN254=\"\",\"\",Main!B254)","v":""},{"$f":"IF(AN254=\"\",\"\",Main!C254)","v":""},{"$f":"IF(AN254=\"\",\"\",Main!D254)","v":""},{"$f":"IF(AN254=\"\",\"\",Main!E254)","v":""},null,null,null,null,null,null,null,{"$f":"IF(AN254=\"\",\"\",SUM(Main!N254,Main!S254))","v":""},null,0,null,null,null,null,null,null,null,null,null,null,null,null,null,null,null,null,null,null,0,0,null,0,null,null,{"$f":"IF(SUM(Main!N254,Main!S254)>0,1,\"\")","v":""}]
[{"$f":"IF(AN255=\"\",\"\",SUM($AN$4:AN255))","v":""},{"$f":"IF(AN255=\"\",\"\",Main!B255)","v":""},{"$f":"IF(AN255=\"\",\"\",Main!C255)","v":""},{"$f":"IF(AN255=\"\",\"\",Main!D255)","v":""},{"$f":"IF(AN255=\"\",\"\",Main!E255)","v":""},null,null,null,null,null,null,null,{"$f":"IF(AN255=\"\",\"\",SUM(Main!N255,Main!S255))","v":""},null,0,null,null,null,null,null,null,null,null,null,null,null,null,null,null,null,null,null,null,0,0,null,0,null,null,{"$f":"IF(SUM(Main!N255,Main!S255)>0,1,\"\")","v":""}]
[{"$f":"IF(AN256=\"\",\"\",SUM($AN$4:AN256))","v":""},{"$f":"IF(AN256=\"\",\"\",Main!B256)","v":""},{"$f":"IF(AN256=\"\",\"\",Main!C256)","v":""},{"$f":"IF(AN256=\"\",\"\",Main!D256)","v":""},{"$f":"IF(AN256=\"\",\"\",Main!E256)","v":""},null,null,null,null,null,null,null,{"$f":"IF(AN256=\"\",\"\",SUM(Main!N256,Main!S256))","v":""},null,0,null,null,null,null,null,null,null,null,null,null,null,null,null,null,null,null,null,null,0,0,null,0,null,null,{"$f":"IF(SUM(Main!N256,Main!S256)>0,1,\"\")","v":""}]
[{"$f":"IF(AN257=\"\",\"\",SUM($AN$4:AN257))","v":""},{"$f":"IF(AN257=\"\",\"\",Main!B257)","v":""},{"$f":"IF(AN257=\"\",\"\",Main!C257)","v":""},{"$f":"IF(AN257=\"\",\"\",Main!D257)","v":""},{"$f":"IF(AN257=\"\",\"\",Main!E257)","v":""},null,null,null,null,null,null,null,{"$f":"IF(AN257=\"\",\"\",SUM(Main!N257,Main!S257))","v":""},null,0,null,null,null,null,null,null,null,null,null,null,null,null,null,null,null,null,null,null,0,0,null,0,null,null,{"$f":"IF(SUM(Main!N257,Main!S257)>0,1,\"\")","v":""}]
[{"$f":"IF(AN258=\"\",\"\",SUM($AN$4:AN258))","v":""},{"$f":"IF(AN258=\"\",\"\",Main!B258)","v":""},{"$f":"IF(AN258=\"\",\"\",Main!C258)","v":""},{"$f":"IF(AN258=\"\",\"\",Main!D258)","v":""},{"$f":"IF(AN258=\"\",\"\",Main!E258)","v":""},null,null,null,null,null,null,null,{"$f":"IF(AN258=\"\",\"\",SUM(Main!N258,Main!S258))","v":""},null,0,null,null,null,null,null,null,null,null,null,null,null,null,null,null,null,null,null,null,0,0,null,0,null,null,{"$f":"IF(SUM(Main!N258,Main!S258)>0,1,\"\")","v":""}]
[{"$f":"IF(AN259=\"\",\"\",SUM($AN$4:AN259))","v":""},{"$f":"IF(AN259=\"\",\"\",Main!B259)","v":""},{"$f":"IF(AN259=\"\",\"\",Main!C259)","v":""},{"$f":"IF(AN259=\"\",\"\",Main!D259)","v":""},{"$f":"IF(AN259=\"\",\"\",Main!E259)","v":""},null,null,null,null,null,null,null,{"$f":"IF(AN259=\"\",\"\",SUM(Main!N259,Main!S259))","v":""},null,0,null,null,null,null,null,null,null,null,null,null,null,null,null,null,null,null,null,null,0,0,null,0,null,null,{"$f":"IF(SUM(Main!N259,Main!S259)>0,1,\"\")","v":""}]
[{"$f":"IF(AN260=\"\",\"\",SUM($AN$4:AN260))","v":""},{"$f":"IF(AN260=\"\",\"\",Main!B260)","v":""},{"$f":"IF(AN260=\"\",\"\",Main!C260)","v":""},{"$f":"IF(AN260=\"\",\"\",Main!D260)","v":""},{"$f":"IF(AN260=\"\",\"\",Main!E260)","v":""},null,null,null,null,null,null,null,{"$f":"IF(AN260=\"\",\"\",SUM(Main!N260,Main!S260))","v":""},null,0,null,null,null,null,null,null,null,null,null,null,null,null,null,null,null,null,null,null,0,0,null,0,null,null,{"$f":"IF(SUM(Main!N260,Main!S260)>0,1,\"\")","v":""}]
[{"$f":"IF(AN261=\"\",\"\",SUM($AN$4:AN261))","v":""},{"$f":"IF(AN261=\"\",\"\",Main!B261)","v":""},{"$f":"IF(AN261=\"\",\"\",Main!C261)","v":""},{"$f":"IF(AN261=\"\",\"\",Main!D261)","v":""},{"$f":"IF(AN261=\"\",\"\",Main!E261)","v":""},null,null,null,null,null,null,null,{"$f":"IF(AN261=\"\",\"\",SUM(Main!N261,Main!S261))","v":""},null,0,null,null,null,null,null,null,null,null,null,null,null,null,null,null,null,null,null,null,0,0,null,0,null,null,{"$f":"IF(SUM(Main!N261,Main!S261)>0,1,\"\")","v":""}]
[{"$f":"IF(AN262=\"\",\"\",SUM($AN$4:AN262))","v":""},{"$f":"IF(AN262=\"\",\"\",Main!B262)","v":""},{"$f":"IF(AN262=\"\",\"\",Main!C262)","v":""},{"$f":"IF(AN262=\"\",\"\",Main!D262)","v":""},{"$f":"IF(AN262=\"\",\"\",Main!E262)","v":""},null,null,null,null,null,null,null,{"$f":"IF(AN262=\"\",\"\",SUM(Main!N262,Main!S262))","v":""},null,0,null,null,null,null,null,null,null,null,null,null,null,null,null,null,null,null,null,null,0,0,null,0,null,null,{"$f":"IF(SUM(Main!N262,Main!S262)>0,1,\"\")","v":""}]
[{"$f":"IF(AN263=\"\",\"\",SUM($AN$4:AN263))","v":""},{"$f":"IF(AN263=\"\",\"\",Main!B263)","v":""},{"$f":"IF(AN263=\"\",\"\",Main!C263)","v":""},{"$f":"IF(AN263=\"\",\"\",Main!D263)","v":""},{"$f":"IF(AN263=\"\",\"\",Main!E263)","v":""},null,null,null,null,null,null,null,{"$f":"IF(AN263=\"\",\"\",SUM(Main!N263,Main!S263))","v":""},null,0,null,null,null,null,null,null,null,null,null,null,null,null,null,null,null,null,null,null,0,0,null,0,null,null,{"$f":"IF(SUM(Main!N263,Main!S263)>0,1,\"\")","v":""}]
[{"$f":"IF(AN264=\"\",\"\",SUM($AN$4:AN264))","v":""},{"$f":"IF(AN264=\"\",\"\",Main!B264)","v":""},{"$f":"IF(AN264=\"\",\"\",Main!C264)","v":""},{"$f":"IF(AN264=\"\",\"\",Main!D264)","v":""},{"$f":"IF(AN264=\"\",\"\",Main!E264)","v":""},null,null,null,null,null,null,null,{"$f":"IF(AN264=\"\",\"\",SUM(Main!N264,Main!S264))","v":""},null,0,null,null,null,null,null,null,null,null,null,null,null,null,null,null,null,null,null,null,0,0,null,0,null,null,{"$f":"IF(SUM(Main!N264,Main!S264)>0,1,\"\")","v":""}]
[{"$f":"IF(AN265=\"\",\"\",SUM($AN$4:AN265))","v":""},{"$f":"IF(AN265=\"\",\"\",Main!B265)","v":""},{"$f":"IF(AN265=\"\",\"\",Main!C265)","v":""},{"$f":"IF(AN265=\"\",\"\",Main!D265)","v":""},{"$f":"IF(AN265=\"\",\"\",Main!E265)","v":""},null,null,null,null,null,null,null,{"$f":"IF(AN265=\"\",\"\",SUM(Main!N265,Main!S265))","v":""},null,0,null,null,null,null,null,null,null,null,null,null,null,null,null,null,null,null,null,null,0,0,null,0,null,null,{"$f":"IF(SUM(Main!N265,Main!S265)>0,1,\"\")","v":""}]
[{"$f":"IF(AN266=\"\",\"\",SUM($AN$4:AN266))","v":""},{"$f":"IF(AN266=\"\",\"\",Main!B266)","v":""},{"$f":"IF(AN266=\"\",\"\",Main!C266)","v":""},{"$f":"IF(AN266=\"\",\"\",Main!D266)","v":""},{"$f":"IF(AN266=\"\",\"\",Main!E266)","v":""},null,null,null,null,null,null,null,{"$f":"IF(AN266=\"\",\"\",SUM(Main!N266,Main!S266))","v":""},null,0,null,null,null,null,null,null,null,null,null,null,null,null,null,null,null,null,null,null,0,0,null,0,null,null,{"$f":"IF(SUM(Main!N266,Main!S266)>0,1,\"\")","v":""}]
[{"$f":"IF(AN267=\"\",\"\",SUM($AN$4:AN267))","v":""},{"$f":"IF(AN267=\"\",\"\",Main!B267)","v":""},{"$f":"IF(AN267=\"\",\"\",Main!C267)","v":""},{"$f":"IF(AN267=\"\",\"\",Main!D267)","v":""},{"$f":"IF(AN267=\"\",\"\",Main!E267)","v":""},null,null,null,null,null,null,null,{"$f":"IF(AN267=\"\",\"\",SUM(Main!N267,Main!S267))","v":""},null,0,null,null,null,null,null,null,null,null,null,null,null,null,null,null,null,null,null,null,0,0,null,0,null,null,{"$f":"IF(SUM(Main!N267,Main!S267)>0,1,\"\")","v":""}]
[{"$f":"IF(AN268=\"\",\"\",SUM($AN$4:AN268))","v":""},{"$f":"IF(AN268=\"\",\"\",Main!B268)","v":""},{"$f":"IF(AN268=\"\",\"\",Main!C268)","v":""},{"$f":"IF(AN268=\"\",\"\",Main!D268)","v":""},{"$f":"IF(AN268=\"\",\"\",Main!E268)","v":""},null,null,null,null,null,null,null,{"$f":"IF(AN268=\"\",\"\",SUM(Main!N268,Main!S268))","v":""},null,{"$f":"SUM(F268:N268)","v":0},null,null,null,null,null,null,null,null,null,null,null,null,null,null,null,null,null,null,{"$f":"SUM(P268:AG268)","v":0},{"$f":"O268-AH268","v":0},null,{"$f":"AI268-AJ268","v":0},null,null,{"$f":"IF(SUM(Main!N268,Main!S268)>0,1,\"\")","v":""}]
[{"$f":"IF(AN269=\"\",\"\",SUM($AN$4:AN269))","v":""},{"$f":"IF(AN269=\"\",\"\",Main!B269)","v":""},{"$f":"IF(AN269=\"\",\"\",Main!C269)","v":""},{"$f":"IF(AN269=\"\",\"\",Main!D269)","v":""},{"$f":"IF(AN269=\"\",\"\",Main!E269)","v":""},null,null,null,null,null,null,null,{"$f":"IF(AN269=\"\",\"\",SUM(Main!N269,Main!S269))","v":""},null,0,null,null,null,null,null,null,null,null,null,null,null,null,null,null,null,null,null,null,0,0,null,0,null,null,{"$f":"IF(SUM(Main!N269,Main!S269)>0,1,\"\")","v":""}]
[{"$f":"IF(AN270=\"\",\"\",SUM($AN$4:AN270))","v":""},{"$f":"IF(AN270=\"\",\"\",Main!B270)","v":""},{"$f":"IF(AN270=\"\",\"\",Main!C270)","v":""},{"$f":"IF(AN270=\"\",\"\",Main!D270)","v":""},{"$f":"IF(AN270=\"\",\"\",Main!E270)","v":""},null,null,null,null,null,null,null,{"$f":"IF(AN270=\"\",\"\",SUM(Main!N270,Main!S270))","v":""},null,0,null,null,null,null,null,null,null,null,null,null,null,null,null,null,null,null,null,null,0,0,null,0,null,null,{"$f":"IF(SUM(Main!N270,Main!S270)>0,1,\"\")","v":""}]
[{"$f":"IF(AN271=\"\",\"\",SUM($AN$4:AN271))","v":""},{"$f":"IF(AN271=\"\",\"\",Main!B271)","v":""},{"$f":"IF(AN271=\"\",\"\",Main!C271)","v":""},{"$f":"IF(AN271=\"\",\"\",Main!D271)","v":""},{"$f":"IF(AN271=\"\",\"\",Main!E271)","v":""},null,null,null,null,null,null,null,{"$f":"IF(AN271=\"\",\"\",SUM(Main!N271,Main!S271))","v":""},null,0,null,null,null,null,null,null,null,null,null,null,null,null,null,null,null,null,null,null,0,0,null,0,null,null,{"$f":"IF(SUM(Main!N271,Main!S271)>0,1,\"\")","v":""}]
[{"$f":"IF(AN272=\"\",\"\",SUM($AN$4:AN272))","v":""},{"$f":"IF(AN272=\"\",\"\",Main!B272)","v":""},{"$f":"IF(AN272=\"\",\"\",Main!C272)","v":""},{"$f":"IF(AN272=\"\",\"\",Main!D272)","v":""},{"$f":"IF(AN272=\"\",\"\",Main!E272)","v":""},null,null,null,null,null,null,null,{"$f":"IF(AN272=\"\",\"\",SUM(Main!N272,Main!S272))","v":""},null,0,null,null,null,null,null,null,null,null,null,null,null,null,null,null,null,null,null,null,0,0,null,0,null,null,{"$f":"IF(SUM(Main!N272,Main!S272)>0,1,\"\")","v":""}]
[{"$f":"IF(AN273=\"\",\"\",SUM($AN$4:AN273))","v":""},{"$f":"IF(AN273=\"\",\"\",Main!B273)","v":""},{"$f":"IF(AN273=\"\",\"\",Main!C273)","v":""},{"$f":"IF(AN273=\"\",\"\",Main!D273)","v":""},{"$f":"IF(AN273=\"\",\"\",Main!E273)","v":""},null,null,null,null,null,null,null,{"$f":"IF(AN273=\"\",\"\",SUM(Main!N273,Main!S273))","v":""},null,0,null,null,null,null,null,null,null,null,null,null,null,null,null,null,null,null,null,null,0,0,null,0,null,null,{"$f":"IF(SUM(Main!N273,Main!S273)>0,1,\"\")","v":""}]
[{"$f":"IF(AN274=\"\",\"\",SUM($AN$4:AN274))","v":""},{"$f":"IF(AN274=\"\",\"\",Main!B274)","v":""},{"$f":"IF(AN274=\"\",\"\",Main!C274)","v":""},{"$f":"IF(AN274=\"\",\"\",Main!D274)","v":""},{"$f":"IF(AN274=\"\",\"\",Main!E274)","v":""},null,null,null,null,null,null,null,{"$f":"IF(AN274=\"\",\"\",SUM(Main!N274,Main!S274))","v":""},null,0,null,null,null,null,null,null,null,null,null,null,null,null,null,null,null,null,null,null,0,0,null,0,null,null,{"$f":"IF(SUM(Main!N274,Main!S274)>0,1,\"\")","v":""}]
[{"$f":"IF(AN275=\"\",\"\",SUM($AN$4:AN275))","v":""},{"$f":"IF(AN275=\"\",\"\",Main!B275)","v":""},{"$f":"IF(AN275=\"\",\"\",Main!C275)","v":""},{"$f":"IF(AN275=\"\",\"\",Main!D275)","v":""},{"$f":"IF(AN275=\"\",\"\",Main!E275)","v":""},null,null,null,null,null,null,null,{"$f":"IF(AN275=\"\",\"\",SUM(Main!N275,Main!S275))","v":""},null,0,null,null,null,null,null,null,null,null,null,null,null,null,null,null,null,null,null,null,0,0,null,0,null,null,{"$f":"IF(SUM(Main!N275,Main!S275)>0,1,\"\")","v":""}]
[{"$f":"IF(AN276=\"\",\"\",SUM($AN$4:AN276))","v":""},{"$f":"IF(AN276=\"\",\"\",Main!B276)","v":""},{"$f":"IF(AN276=\"\",\"\",Main!C276)","v":""},{"$f":"IF(AN276=\"\",\"\",Main!D276)","v":""},{"$f":"IF(AN276=\"\",\"\",Main!E276)","v":""},null,null,null,null,null,null,null,{"$f":"IF(AN276=\"\",\"\",SUM(Main!N276,Main!S276))","v":""},null,0,null,null,null,null,null,null,null,null,null,null,null,null,null,null,null,null,null,null,0,0,null,0,null,null,{"$f":"IF(SUM(Main!N276,Main!S276)>0,1,\"\")","v":""}]
[{"$f":"IF(AN277=\"\",\"\",SUM($AN$4:AN277))","v":""},{"$f":"IF(AN277=\"\",\"\",Main!B277)","v":""},{"$f":"IF(AN277=\"\",\"\",Main!C277)","v":""},{"$f":"IF(AN277=\"\",\"\",Main!D277)","v":""},{"$f":"IF(AN277=\"\",\"\",Main!E277)","v":""},null,null,null,null,null,null,null,{"$f":"IF(AN277=\"\",\"\",SUM(Main!N277,Main!S277))","v":""},null,0,null,null,null,null,null,null,null,null,null,null,null,null,null,null,null,null,null,null,0,0,null,0,null,null,{"$f":"IF(SUM(Main!N277,Main!S277)>0,1,\"\")","v":""}]
[{"$f":"IF(AN278=\"\",\"\",SUM($AN$4:AN278))","v":""},{"$f":"IF(AN278=\"\",\"\",Main!B278)","v":""},{"$f":"IF(AN278=\"\",\"\",Main!C278)","v":""},{"$f":"IF(AN278=\"\",\"\",Main!D278)","v":""},{"$f":"IF(AN278=\"\",\"\",Main!E278)","v":""},null,null,null,null,null,null,null,{"$f":"IF(AN278=\"\",\"\",SUM(Main!N278,Main!S278))","v":""},null,0,null,null,null,null,null,null,null,null,null,null,null,null,null,null,null,null,null,null,0,0,null,0,null,null,{"$f":"IF(SUM(Main!N278,Main!S278)>0,1,\"\")","v":""}]
[{"$f":"IF(AN279=\"\",\"\",SUM($AN$4:AN279))","v":""},{"$f":"IF(AN279=\"\",\"\",Main!B279)","v":""},{"$f":"IF(AN279=\"\",\"\",Main!C279)","v":""},{"$f":"IF(AN279=\"\",\"\",Main!D279)","v":""},{"$f":"IF(AN279=\"\",\"\",Main!E279)","v":""},null,null,null,null,null,null,null,{"$f":"IF(AN279=\"\",\"\",SUM(Main!N279,Main!S279))","v":""},null,0,null,null,null,null,null,null,null,null,null,null,null,null,null,null,null,null,null,null,0,0,null,0,null,null,{"$f":"IF(SUM(Main!N279,Main!S279)>0,1,\"\")","v":""}]
[{"$f":"IF(AN280=\"\",\"\",SUM($AN$4:AN280))","v":""},{"$f":"IF(AN280=\"\",\"\",Main!B280)","v":""},{"$f":"IF(AN280=\"\",\"\",Main!C280)","v":""},{"$f":"IF(AN280=\"\",\"\",Main!D280)","v":""},{"$f":"IF(AN280=\"\",\"\",Main!E280)","v":""},null,null,null,null,null,null,null,{"$f":"IF(AN280=\"\",\"\",SUM(Main!N280,Main!S280))","v":""},null,0,null,null,null,null,null,null,null,null,null,null,null,null,null,null,null,null,null,null,0,0,null,0,null,null,{"$f":"IF(SUM(Main!N280,Main!S280)>0,1,\"\")","v":""}]
[{"$f":"IF(AN281=\"\",\"\",SUM($AN$4:AN281))","v":""},{"$f":"IF(AN281=\"\",\"\",Main!B281)","v":""},{"$f":"IF(AN281=\"\",\"\",Main!C281)","v":""},{"$f":"IF(AN281=\"\",\"\",Main!D281)","v":""},{"$f":"IF(AN281=\"\",\"\",Main!E281)","v":""},null,null,null,null,null,null,null,{"$f":"IF(AN281=\"\",\"\",SUM(Main!N281,Main!S281))","v":""},null,0,null,null,null,null,null,null,null,null,null,null,null,null,null,null,null,null,null,null,0,0,null,0,null,null,{"$f":"IF(SUM(Main!N281,Main!S281)>0,1,\"\")","v":""}]
[{"$f":"IF(AN282=\"\",\"\",SUM($AN$4:AN282))","v":""},{"$f":"IF(AN282=\"\",\"\",Main!B282)","v":""},{"$f":"IF(AN282=\"\",\"\",Main!C282)","v":""},{"$f":"IF(AN282=\"\",\"\",Main!D282)","v":""},{"$f":"IF(AN282=\"\",\"\",Main!E282)","v":""},null,null,null,null,null,null,null,{"$f":"IF(AN282=\"\",\"\",SUM(Main!N282,Main!S282))","v":""},null,0,null,null,null,null,null,null,null,null,null,null,null,null,null,null,null,null,null,null,0,0,null,0,null,null,{"$f":"IF(SUM(Main!N282,Main!S282)>0,1,\"\")","v":""}]
[{"$f":"IF(AN283=\"\",\"\",SUM($AN$4:AN283))","v":""},{"$f":"IF(AN283=\"\",\"\",Main!B283)","v":""},{"$f":"IF(AN283=\"\",\"\",Main!C283)","v":""},{"$f":"IF(AN283=\"\",\"\",Main!D283)","v":""},{"$f":"IF(AN283=\"\",\"\",Main!E283)","v":""},null,null,null,null,null,null,null,{"$f":"IF(AN283=\"\",\"\",SUM(Main!N283,Main!S283))","v":""},null,0,null,null,null,null,null,null,null,null,null,null,null,null,null,null,null,null,null,null,0,0,null,0,null,null,{"$f":"IF(SUM(Main!N283,Main!S283)>0,1,\"\")","v":""}]
[{"$f":"IF(AN284=\"\",\"\",SUM($AN$4:AN284))","v":""},{"$f":"IF(AN284=\"\",\"\",Main!B284)","v":""},{"$f":"IF(AN284=\"\",\"\",Main!C284)","v":""},{"$f":"IF(AN284=\"\",\"\",Main!D284)","v":""},{"$f":"IF(AN284=\"\",\"\",Main!E284)","v":""},null,null,null,null,null,null,null,{"$f":"IF(AN284=\"\",\"\",SUM(Main!N284,Main!S284))","v":""},null,0,null,null,null,null,null,null,null,null,null,null,null,null,null,null,null,null,null,null,0,0,null,0,null,null,{"$f":"IF(SUM(Main!N284,Main!S284)>0,1,\"\")","v":""}]
[{"$f":"IF(AN285=\"\",\"\",SUM($AN$4:AN285))","v":""},{"$f":"IF(AN285=\"\",\"\",Main!B285)","v":""},{"$f":"IF(AN285=\"\",\"\",Main!C285)","v":""},{"$f":"IF(AN285=\"\",\"\",Main!D285)","v":""},{"$f":"IF(AN285=\"\",\"\",Main!E285)","v":""},null,null,null,null,null,null,null,{"$f":"IF(AN285=\"\",\"\",SUM(Main!N285,Main!S285))","v":""},null,0,null,null,null,null,null,null,null,null,null,null,null,null,null,null,null,null,null,null,0,0,null,0,null,null,{"$f":"IF(SUM(Main!N285,Main!S285)>0,1,\"\")","v":""}]
[{"$f":"IF(AN286=\"\",\"\",SUM($AN$4:AN286))","v":""},{"$f":"IF(AN286=\"\",\"\",Main!B286)","v":""},{"$f":"IF(AN286=\"\",\"\",Main!C286)","v":""},{"$f":"IF(AN286=\"\",\"\",Main!D286)","v":""},{"$f":"IF(AN286=\"\",\"\",Main!E286)","v":""},null,null,null,null,null,null,null,{"$f":"IF(AN286=\"\",\"\",SUM(Main!N286,Main!S286))","v":""},null,0,null,null,null,null,null,null,null,null,null,null,null,null,null,null,null,null,null,null,0,0,null,0,null,null,{"$f":"IF(SUM(Main!N286,Main!S286)>0,1,\"\")","v":""}]
[{"$f":"IF(AN287=\"\",\"\",SUM($AN$4:AN287))","v":""},{"$f":"IF(AN287=\"\",\"\",Main!B287)","v":""},{"$f":"IF(AN287=\"\",\"\",Main!C287)","v":""},{"$f":"IF(AN287=\"\",\"\",Main!D287)","v":""},{"$f":"IF(AN287=\"\",\"\",Main!E287)","v":""},null,null,null,null,null,null,null,{"$f":"IF(AN287=\"\",\"\",SUM(Main!N287,Main!S287))","v":""},null,0,null,null,null,null,null,null,null,null,null,null,null,null,null,null,null,null,null,null,0,0,null,0,null,null,{"$f":"IF(SUM(Main!N287,Main!S287)>0,1,\"\")","v":""}]
[{"$f":"IF(AN288=\"\",\"\",SUM($AN$4:AN288))","v":""},{"$f":"IF(AN288=\"\",\"\",Main!B288)","v":""},{"$f":"IF(AN288=\"\",\"\",Main!C288)","v":""},{"$f":"IF(AN288=\"\",\"\",Main!D288)","v":""},{"$f":"IF(AN288=\"\",\"\",Main!E288)","v":""},null,null,null,null,null,null,null,{"$f":"IF(AN288=\"\",\"\",SUM(Main!N288,Main!S288))","v":""},null,0,null,null,null,null,null,null,null,null,null,null,null,null,null,null,null,null,null,null,0,0,null,0,null,null,{"$f":"IF(SUM(Main!N288,Main!S288)>0,1,\"\")","v":""}]
[{"$f":"IF(AN289=\"\",\"\",SUM($AN$4:AN289))","v":""},{"$f":"IF(AN289=\"\",\"\",Main!B289)","v":""},{"$f":"IF(AN289=\"\",\"\",Main!C289)","v":""},{"$f":"IF(AN289=\"\",\"\",Main!D289)","v":""},{"$f":"IF(AN289=\"\",\"\",Main!E289)","v":""},null,null,null,null,null,null,null,{"$f":"IF(AN289=\"\",\"\",SUM(Main!N289,Main!S289))","v":""},null,0,null,null,null,null,null,null,null,null,null,null,null,null,null,null,null,null,null,null,0,0,null,0,null,null,{"$f":"IF(SUM(Main!N289,Main!S289)>0,1,\"\")","v":""}]
[{"$f":"IF(AN290=\"\",\"\",SUM($AN$4:AN290))","v":""},{"$f":"IF(AN290=\"\",\"\",Main!B290)","v":""},{"$f":"IF(AN290=\"\",\"\",Main!C290)","v":""},{"$f":"IF(AN290=\"\",\"\",Main!D290)","v":""},{"$f":"IF(AN290=\"\",\"\",Main!E290)","v":""},null,null,null,null,null,null,null,{"$f":"IF(AN290=\"\",\"\",SUM(Main!N290,Main!S290))","v":""},null,0,null,null,null,null,null,null,null,null,null,null,null,null,null,null,null,null,null,null,0,0,null,0,null,null,{"$f":"IF(SUM(Main!N290,Main!S290)>0,1,\"\")","v":""}]
[{"$f":"IF(AN291=\"\",\"\",SUM($AN$4:AN291))","v":""},{"$f":"IF(AN291=\"\",\"\",Main!B291)","v":""},{"$f":"IF(AN291=\"\",\"\",Main!C291)","v":""},{"$f":"IF(AN291=\"\",\"\",Main!D291)","v":""},{"$f":"IF(AN291=\"\",\"\",Main!E291)","v":""},null,null,null,null,null,null,null,{"$f":"IF(AN291=\"\",\"\",SUM(Main!N291,Main!S291))","v":""},null,0,null,null,null,null,null,null,null,null,null,null,null,null,null,null,null,null,null,null,0,0,null,0,null,null,{"$f":"IF(SUM(Main!N291,Main!S291)>0,1,\"\")","v":""}]
[{"$f":"IF(AN292=\"\",\"\",SUM($AN$4:AN292))","v":""},{"$f":"IF(AN292=\"\",\"\",Main!B292)","v":""},{"$f":"IF(AN292=\"\",\"\",Main!C292)","v":""},{"$f":"IF(AN292=\"\",\"\",Main!D292)","v":""},{"$f":"IF(AN292=\"\",\"\",Main!E292)","v":""},null,null,null,null,null,null,null,{"$f":"IF(AN292=\"\",\"\",SUM(Main!N292,Main!S292))","v":""},null,0,null,null,null,null,null,null,null,null,null,null,null,null,null,null,null,null,null,null,0,0,null,0,null,null,{"$f":"IF(SUM(Main!N292,Main!S292)>0,1,\"\")","v":""}]
[{"$f":"IF(AN293=\"\",\"\",SUM($AN$4:AN293))","v":""},{"$f":"IF(AN293=\"\",\"\",Main!B293)","v":""},{"$f":"IF(AN293=\"\",\"\",Main!C293)","v":""},{"$f":"IF(AN293=\"\",\"\",Main!D293)","v":""},{"$f":"IF(AN293=\"\",\"\",Main!E293)","v":""},null,null,null,null,null,null,null,{"$f":"IF(AN293=\"\",\"\",SUM(Main!N293,Main!S293))","v":""},null,0,null,null,null,null,null,null,null,null,null,null,null,null,null,null,null,null,null,null,0,0,null,0,null,null,{"$f":"IF(SUM(Main!N293,Main!S293)>0,1,\"\")","v":""}]
[{"$f":"IF(AN294=\"\",\"\",SUM($AN$4:AN294))","v":""},{"$f":"IF(AN294=\"\",\"\",Main!B294)","v":""},{"$f":"IF(AN294=\"\",\"\",Main!C294)","v":""},{"$f":"IF(AN294=\"\",\"\",Main!D294)","v":""},{"$f":"IF(AN294=\"\",\"\",Main!E294)","v":""},null,null,null,null,null,null,null,{"$f":"IF(AN294=\"\",\"\",SUM(Main!N294,Main!S294))","v":""},null,0,null,null,null,null,null,null,null,null,null,null,null,null,null,null,null,null,null,null,0,0,null,0,null,null,{"$f":"IF(SUM(Main!N294,Main!S294)>0,1,\"\")","v":""}]
[{"$f":"IF(AN295=\"\",\"\",SUM($AN$4:AN295))","v":""},{"$f":"IF(AN295=\"\",\"\",Main!B295)","v":""},{"$f":"IF(AN295=\"\",\"\",Main!C295)","v":""},{"$f":"IF(AN295=\"\",\"\",Main!D295)","v":""},{"$f":"IF(AN295=\"\",\"\",Main!E295)","v":""},null,null,null,null,null,null,null,{"$f":"IF(AN295=\"\",\"\",SUM(Main!N295,Main!S295))","v":""},null,0,null,null,null,null,null,null,null,null,null,null,null,null,null,null,null,null,null,null,0,0,null,0,null,null,{"$f":"IF(SUM(Main!N295,Main!S295)>0,1,\"\")","v":""}]
[{"$f":"IF(AN296=\"\",\"\",SUM($AN$4:AN296))","v":""},{"$f":"IF(AN296=\"\",\"\",Main!B296)","v":""},{"$f":"IF(AN296=\"\",\"\",Main!C296)","v":""},{"$f":"IF(AN296=\"\",\"\",Main!D296)","v":""},{"$f":"IF(AN296=\"\",\"\",Main!E296)","v":""},null,null,null,null,null,null,null,{"$f":"IF(AN296=\"\",\"\",SUM(Main!N296,Main!S296))","v":""},null,0,null,null,null,null,null,null,null,null,null,null,null,null,null,null,null,null,null,null,0,0,null,0,null,null,{"$f":"IF(SUM(Main!N296,Main!S296)>0,1,\"\")","v":""}]
[{"$f":"IF(AN297=\"\",\"\",SUM($AN$4:AN297))","v":""},{"$f":"IF(AN297=\"\",\"\",Main!B297)","v":""},{"$f":"IF(AN297=\"\",\"\",Main!C297)","v":""},{"$f":"IF(AN297=\"\",\"\",Main!D297)","v":""},{"$f":"IF(AN297=\"\",\"\",Main!E297)","v":""},null,null,null,null,null,null,null,{"$f":"IF(AN297=\"\",\"\",SUM(Main!N297,Main!S297))","v":""},null,0,null,null,null,null,null,null,null,null,null,null,null,null,null,null,null,null,null,null,0,0,null,0,null,null,{"$f":"IF(SUM(Main!N297,Main!S297)>0,1,\"\")","v":""}]
[{"$f":"IF(AN298=\"\",\"\",SUM($AN$4:AN298))","v":""},{"$f":"IF(AN298=\"\",\"\",Main!B298)","v":""},{"$f":"IF(AN298=\"\",\"\",Main!C298)","v":""},{"$f":"IF(AN298=\"\",\"\",Main!D298)","v":""},{"$f":"IF(AN298=\"\",\"\",Main!E298)","v":""},null,null,null,null,null,null,null,{"$f":"IF(AN298=\"\",\"\",SUM(Main!N298,Main!S298))","v":""},null,0,null,null,null,null,null,null,null,null,null,null,null,null,null,null,null,null,null,null,0,0,null,0,null,null,{"$f":"IF(SUM(Main!N298,Main!S298)>0,1,\"\")","v":""}]
[{"$f":"IF(AN299=\"\",\"\",SUM($AN$4:AN299))","v":""},{"$f":"IF(AN299=\"\",\"\",Main!B299)","v":""},{"$f":"IF(AN299=\"\",\"\",Main!C299)","v":""},{"$f":"IF(AN299=\"\",\"\",Main!D299)","v":""},{"$f":"IF(AN299=\"\",\"\",Main!E299)","v":""},null,null,null,null,null,null,null,{"$f":"IF(AN299=\"\",\"\",SUM(Main!N299,Main!S299))","v":""},null,0,null,null,null,null,null,null,null,null,null,null,null,null,null,null,null,null,null,null,0,0,null,0,null,null,{"$f":"IF(SUM(Main!N299,Main!S299)>0,1,\"\")","v":""}]
[{"$f":"IF(AN300=\"\",\"\",SUM($AN$4:AN300))","v":""},{"$f":"IF(AN300=\"\",\"\",Main!B300)","v":""},{"$f":"IF(AN300=\"\",\"\",Main!C300)","v":""},{"$f":"IF(AN300=\"\",\"\",Main!D300)","v":""},{"$f":"IF(AN300=\"\",\"\",Main!E300)","v":""},null,null,null,null,null,null,null,{"$f":"IF(AN300=\"\",\"\",SUM(Main!N300,Main!S300))","v":""},null,0,null,null,null,null,null,null,null,null,null,null,null,null,null,null,null,null,null,null,0,0,null,0,null,null,{"$f":"IF(SUM(Main!N300,Main!S300)>0,1,\"\")","v":""}]
[{"$f":"IF(AN301=\"\",\"\",SUM($AN$4:AN301))","v":""},{"$f":"IF(AN301=\"\",\"\",Main!B301)","v":""},{"$f":"IF(AN301=\"\",\"\",Main!C301)","v":""},{"$f":"IF(AN301=\"\",\"\",Main!D301)","v":""},{"$f":"IF(AN301=\"\",\"\",Main!E301)","v":""},null,null,null,null,null,null,null,{"$f":"IF(AN301=\"\",\"\",SUM(Main!N301,Main!S301))","v":""},null,0,null,null,null,null,null,null,null,null,null,null,null,null,null,null,null,null,null,null,0,0,null,0,null,null,{"$f":"IF(SUM(Main!N301,Main!S301)>0,1,\"\")","v":""}]
[{"$f":"IF(AN302=\"\",\"\",SUM($AN$4:AN302))","v":""},{"$f":"IF(AN302=\"\",\"\",Main!B302)","v":""},{"$f":"IF(AN302=\"\",\"\",Main!C302)","v":""},{"$f":"IF(AN302=\"\",\"\",Main!D302)","v":""},{"$f":"IF(AN302=\"\",\"\",Main!E302)","v":""},null,null,null,null,null,null,null,{"$f":"IF(AN302=\"\",\"\",SUM(Main!N302,Main!S302))","v":""},null,0,null,null,null,null,null,null,null,null,null,null,null,null,null,null,null,null,null,null,0,0,null,0,null,null,{"$f":"IF(SUM(Main!N302,Main!S302)>0,1,\"\")","v":""}]
[{"$f":"IF(AN303=\"\",\"\",SUM($AN$4:AN303))","v":""},{"$f":"IF(AN303=\"\",\"\",Main!B303)","v":""},{"$f":"IF(AN303=\"\",\"\",Main!C303)","v":""},{"$f":"IF(AN303=\"\",\"\",Main!D303)","v":""},{"$f":"IF(AN303=\"\",\"\",Main!E303)","v":""},null,null,null,null,null,null,null,{"$f":"IF(AN303=\"\",\"\",SUM(Main!N303,Main!S303))","v":""},null,0,null,null,null,null,null,null,null,null,null,null,null,null,null,null,null,null,null,null,0,0,null,0,null,null,{"$f":"IF(SUM(Main!N303,Main!S303)>0,1,\"\")","v":""}]
[{"$f":"IF(AN304=\"\",\"\",SUM($AN$4:AN304))","v":""},{"$f":"IF(AN304=\"\",\"\",Main!B304)","v":""},{"$f":"IF(AN304=\"\",\"\",Main!C304)","v":""},{"$f":"IF(AN304=\"\",\"\",Main!D304)","v":""},{"$f":"IF(AN304=\"\",\"\",Main!E304)","v":""},null,null,null,null,null,null,null,{"$f":"IF(AN304=\"\",\"\",SUM(Main!N304,Main!S304))","v":""},null,0,null,null,null,null,null,null,null,null,null,null,null,null,null,null,null,null,null,null,0,0,null,0,null,null,{"$f":"IF(SUM(Main!N304,Main!S304)>0,1,\"\")","v":""}]
[{"$f":"IF(AN305=\"\",\"\",SUM($AN$4:AN305))","v":""},{"$f":"IF(AN305=\"\",\"\",Main!B305)","v":""},{"$f":"IF(AN305=\"\",\"\",Main!C305)","v":""},{"$f":"IF(AN305=\"\",\"\",Main!D305)","v":""},{"$f":"IF(AN305=\"\",\"\",Main!E305)","v":""},null,null,null,null,null,null,null,{"$f":"IF(AN305=\"\",\"\",SUM(Main!N305,Main!S305))","v":""},null,0,null,null,null,null,null,null,null,null,null,null,null,null,null,null,null,null,null,null,0,0,null,0,null,null,{"$f":"IF(SUM(Main!N305,Main!S305)>0,1,\"\")","v":""}]
[{"$f":"IF(AN306=\"\",\"\",SUM($AN$4:AN306))","v":""},{"$f":"IF(AN306=\"\",\"\",Main!B306)","v":""},{"$f":"IF(AN306=\"\",\"\",Main!C306)","v":""},{"$f":"IF(AN306=\"\",\"\",Main!D306)","v":""},{"$f":"IF(AN306=\"\",\"\",Main!E306)","v":""},null,null,null,null,null,null,null,{"$f":"IF(AN306=\"\",\"\",SUM(Main!N306,Main!S306))","v":""},null,0,null,null,null,null,null,null,null,null,null,null,null,null,null,null,null,null,null,null,0,0,null,0,null,null,{"$f":"IF(SUM(Main!N306,Main!S306)>0,1,\"\")","v":""}]
[{"$f":"IF(AN307=\"\",\"\",SUM($AN$4:AN307))","v":""},{"$f":"IF(AN307=\"\",\"\",Main!B307)","v":""},{"$f":"IF(AN307=\"\",\"\",Main!C307)","v":""},{"$f":"IF(AN307=\"\",\"\",Main!D307)","v":""},{"$f":"IF(AN307=\"\",\"\",Main!E307)","v":""},null,null,null,null,null,null,null,{"$f":"IF(AN307=\"\",\"\",SUM(Main!N307,Main!S307))","v":""},null,0,null,null,null,null,null,null,null,null,null,null,null,null,null,null,null,null,null,null,0,0,null,0,null,null,{"$f":"IF(SUM(Main!N307,Main!S307)>0,1,\"\")","v":""}]
[{"$f":"IF(AN308=\"\",\"\",SUM($AN$4:AN308))","v":""},{"$f":"IF(AN308=\"\",\"\",Main!B308)","v":""},{"$f":"IF(AN308=\"\",\"\",Main!C308)","v":""},{"$f":"IF(AN308=\"\",\"\",Main!D308)","v":""},{"$f":"IF(AN308=\"\",\"\",Main!E308)","v":""},null,null,null,null,null,null,null,{"$f":"IF(AN308=\"\",\"\",SUM(Main!N308,Main!S308))","v":""},null,0,null,null,null,null,null,null,null,null,null,null,null,null,null,null,null,null,null,null,0,0,null,0,null,null,{"$f":"IF(SUM(Main!N308,Main!S308)>0,1,\"\")","v":""}]
[{"$f":"IF(AN309=\"\",\"\",SUM($AN$4:AN309))","v":""},{"$f":"IF(AN309=\"\",\"\",Main!B309)","v":""},{"$f":"IF(AN309=\"\",\"\",Main!C309)","v":""},{"$f":"IF(AN309=\"\",\"\",Main!D309)","v":""},{"$f":"IF(AN309=\"\",\"\",Main!E309)","v":""},null,null,null,null,null,null,null,{"$f":"IF(AN309=\"\",\"\",SUM(Main!N309,Main!S309))","v":""},null,0,null,null,null,null,null,null,null,null,null,null,null,null,null,null,null,null,null,null,0,0,null,0,null,null,{"$f":"IF(SUM(Main!N309,Main!S309)>0,1,\"\")","v":""}]
[{"$f":"IF(AN310=\"\",\"\",SUM($AN$4:AN310))","v":""},{"$f":"IF(AN310=\"\",\"\",Main!B310)","v":""},{"$f":"IF(AN310=\"\",\"\",Main!C310)","v":""},{"$f":"IF(AN310=\"\",\"\",Main!D310)","v":""},{"$f":"IF(AN310=\"\",\"\",Main!E310)","v":""},null,null,null,null,null,null,null,{"$f":"IF(AN310=\"\",\"\",SUM(Main!N310,Main!S310))","v":""},null,0,null,null,null,null,null,null,null,null,null,null,null,null,null,null,null,null,null,null,0,0,null,0,null,null,{"$f":"IF(SUM(Main!N310,Main!S310)>0,1,\"\")","v":""}]
[{"$f":"IF(AN311=\"\",\"\",SUM($AN$4:AN311))","v":""},{"$f":"IF(AN311=\"\",\"\",Main!B311)","v":""},{"$f":"IF(AN311=\"\",\"\",Main!C311)","v":""},{"$f":"IF(AN311=\"\",\"\",Main!D311)","v":""},{"$f":"IF(AN311=\"\",\"\",Main!E311)","v":""},null,null,null,null,null,null,null,{"$f":"IF(AN311=\"\",\"\",SUM(Main!N311,Main!S311))","v":""},null,0,null,null,null,null,null,null,null,null,null,null,null,null,null,null,null,null,null,null,0,0,null,0,null,null,{"$f":"IF(SUM(Main!N311,Main!S311)>0,1,\"\")","v":""}]
[{"$f":"IF(AN312=\"\",\"\",SUM($AN$4:AN312))","v":""},{"$f":"IF(AN312=\"\",\"\",Main!B312)","v":""},{"$f":"IF(AN312=\"\",\"\",Main!C312)","v":""},{"$f":"IF(AN312=\"\",\"\",Main!D312)","v":""},{"$f":"IF(AN312=\"\",\"\",Main!E312)","v":""},null,null,null,null,null,null,null,{"$f":"IF(AN312=\"\",\"\",SUM(Main!N312,Main!S312))","v":""},null,0,null,null,null,null,null,null,null,null,null,null,null,null,null,null,null,null,null,null,0,0,null,0,null,null,{"$f":"IF(SUM(Main!N312,Main!S312)>0,1,\"\")","v":""}]
[{"$f":"IF(AN313=\"\",\"\",SUM($AN$4:AN313))","v":""},{"$f":"IF(AN313=\"\",\"\",Main!B313)","v":""},{"$f":"IF(AN313=\"\",\"\",Main!C313)","v":""},{"$f":"IF(AN313=\"\",\"\",Main!D313)","v":""},{"$f":"IF(AN313=\"\",\"\",Main!E313)","v":""},null,null,null,null,null,null,null,{"$f":"IF(AN313=\"\",\"\",SUM(Main!N313,Main!S313))","v":""},null,0,null,null,null,null,null,null,null,null,null,null,null,null,null,null,null,null,null,null,0,0,null,0,null,null,{"$f":"IF(SUM(Main!N313,Main!S313)>0,1,\"\")","v":""}]
[{"$f":"IF(AN314=\"\",\"\",SUM($AN$4:AN314))","v":""},{"$f":"IF(AN314=\"\",\"\",Main!B314)","v":""},{"$f":"IF(AN314=\"\",\"\",Main!C314)","v":""},{"$f":"IF(AN314=\"\",\"\",Main!D314)","v":""},{"$f":"IF(AN314=\"\",\"\",Main!E314)","v":""},null,null,null,null,null,null,null,{"$f":"IF(AN314=\"\",\"\",SUM(Main!N314,Main!S314))","v":""},null,0,null,null,null,null,null,null,null,null,null,null,null,null,null,null,null,null,null,null,0,0,null,0,null,null,{"$f":"IF(SUM(Main!N314,Main!S314)>0,1,\"\")","v":""}]
[{"$f":"IF(AN315=\"\",\"\",SUM($AN$4:AN315))","v":""},{"$f":"IF(AN315=\"\",\"\",Main!B315)","v":""},{"$f":"IF(AN315=\"\",\"\",Main!C315)","v":""},{"$f":"IF(AN315=\"\",\"\",Main!D315)","v":""},{"$f":"IF(AN315=\"\",\"\",Main!E315)","v":""},null,null,null,null,null,null,null,{"$f":"IF(AN315=\"\",\"\",SUM(Main!N315,Main!S315))","v":""},null,0,null,null,null,null,null,null,null,null,null,null,null,null,null,null,null,null,null,null,0,0,null,0,null,null,{"$f":"IF(SUM(Main!N315,Main!S315)>0,1,\"\")","v":""}]
[{"$f":"IF(AN316=\"\",\"\",SUM($AN$4:AN316))","v":""},{"$f":"IF(AN316=\"\",\"\",Main!B316)","v":""},{"$f":"IF(AN316=\"\",\"\",Main!C316)","v":""},{"$f":"IF(AN316=\"\",\"\",Main!D316)","v":""},{"$f":"IF(AN316=\"\",\"\",Main!E316)","v":""},null,null,null,null,null,null,null,{"$f":"IF(AN316=\"\",\"\",SUM(Main!N316,Main!S316))","v":""},null,0,null,null,null,null,null,null,null,null,null,null,null,null,null,null,null,null,null,null,0,0,null,0,null,null,{"$f":"IF(SUM(Main!N316,Main!S316)>0,1,\"\")","v":""}]
[{"$f":"IF(AN317=\"\",\"\",SUM($AN$4:AN317))","v":""},{"$f":"IF(AN317=\"\",\"\",Main!B317)","v":""},{"$f":"IF(AN317=\"\",\"\",Main!C317)","v":""},{"$f":"IF(AN317=\"\",\"\",Main!D317)","v":""},{"$f":"IF(AN317=\"\",\"\",Main!E317)","v":""},null,null,null,null,null,null,null,{"$f":"IF(AN317=\"\",\"\",SUM(Main!N317,Main!S317))","v":""},null,0,null,null,null,null,null,null,null,null,null,null,null,null,null,null,null,null,null,null,0,0,null,0,null,null,{"$f":"IF(SUM(Main!N317,Main!S317)>0,1,\"\")","v":""}]
[{"$f":"IF(AN318=\"\",\"\",SUM($AN$4:AN318))","v":""},{"$f":"IF(AN318=\"\",\"\",Main!B318)","v":""},{"$f":"IF(AN318=\"\",\"\",Main!C318)","v":""},{"$f":"IF(AN318=\"\",\"\",Main!D318)","v":""},{"$f":"IF(AN318=\"\",\"\",Main!E318)","v":""},null,null,null,null,null,null,null,{"$f":"IF(AN318=\"\",\"\",SUM(Main!N318,Main!S318))","v":""},null,0,null,null,null,null,null,null,null,null,null,null,null,null,null,null,null,null,null,null,0,0,null,0,null,null,{"$f":"IF(SUM(Main!N318,Main!S318)>0,1,\"\")","v":""}]
[{"$f":"IF(AN319=\"\",\"\",SUM($AN$4:AN319))","v":""},{"$f":"IF(AN319=\"\",\"\",Main!B319)","v":""},{"$f":"IF(AN319=\"\",\"\",Main!C319)","v":""},{"$f":"IF(AN319=\"\",\"\",Main!D319)","v":""},{"$f":"IF(AN319=\"\",\"\",Main!E319)","v":""},null,null,null,null,null,null,null,{"$f":"IF(AN319=\"\",\"\",SUM(Main!N319,Main!S319))","v":""},null,0,null,null,null,null,null,null,null,null,null,null,null,null,null,null,null,null,null,null,0,0,null,0,null,null,{"$f":"IF(SUM(Main!N319,Main!S319)>0,1,\"\")","v":""}]
[{"$f":"IF(AN320=\"\",\"\",SUM($AN$4:AN320))","v":""},{"$f":"IF(AN320=\"\",\"\",Main!B320)","v":""},{"$f":"IF(AN320=\"\",\"\",Main!C320)","v":""},{"$f":"IF(AN320=\"\",\"\",Main!D320)","v":""},{"$f":"IF(AN320=\"\",\"\",Main!E320)","v":""},null,null,null,null,null,null,null,{"$f":"IF(AN320=\"\",\"\",SUM(Main!N320,Main!S320))","v":""},null,0,null,null,null,null,null,null,null,null,null,null,null,null,null,null,null,null,null,null,0,0,null,0,null,null,{"$f":"IF(SUM(Main!N320,Main!S320)>0,1,\"\")","v":""}]
[{"$f":"IF(AN321=\"\",\"\",SUM($AN$4:AN321))","v":""},{"$f":"IF(AN321=\"\",\"\",Main!B321)","v":""},{"$f":"IF(AN321=\"\",\"\",Main!C321)","v":""},{"$f":"IF(AN321=\"\",\"\",Main!D321)","v":""},{"$f":"IF(AN321=\"\",\"\",Main!E321)","v":""},null,null,null,null,null,null,null,{"$f":"IF(AN321=\"\",\"\",SUM(Main!N321,Main!S321))","v":""},null,0,null,null,null,null,null,null,null,null,null,null,null,null,null,null,null,null,null,null,0,0,null,0,null,null,{"$f":"IF(SUM(Main!N321,Main!S321)>0,1,\"\")","v":""}]
[{"$f":"IF(AN322=\"\",\"\",SUM($AN$4:AN322))","v":""},{"$f":"IF(AN322=\"\",\"\",Main!B322)","v":""},{"$f":"IF(AN322=\"\",\"\",Main!C322)","v":""},{"$f":"IF(AN322=\"\",\"\",Main!D322)","v":""},{"$f":"IF(AN322=\"\",\"\",Main!E322)","v":""},null,null,null,null,null,null,null,{"$f":"IF(AN322=\"\",\"\",SUM(Main!N322,Main!S322))","v":""},null,0,null,null,null,null,null,null,null,null,null,null,null,null,null,null,null,null,null,null,0,0,null,0,null,null,{"$f":"IF(SUM(Main!N322,Main!S322)>0,1,\"\")","v":""}]
[{"$f":"IF(AN323=\"\",\"\",SUM($AN$4:AN323))","v":""},{"$f":"IF(AN323=\"\",\"\",Main!B323)","v":""},{"$f":"IF(AN323=\"\",\"\",Main!C323)","v":""},{"$f":"IF(AN323=\"\",\"\",Main!D323)","v":""},{"$f":"IF(AN323=\"\",\"\",Main!E323)","v":""},null,null,null,null,null,null,null,{"$f":"IF(AN323=\"\",\"\",SUM(Main!N323,Main!S323))","v":""},null,0,null,null,null,null,null,null,null,null,null,null,null,null,null,null,null,null,null,null,0,0,null,0,null,null,{"$f":"IF(SUM(Main!N323,Main!S323)>0,1,\"\")","v":""}]
[{"$f":"IF(AN324=\"\",\"\",SUM($AN$4:AN324))","v":""},{"$f":"IF(AN324=\"\",\"\",Main!B324)","v":""},{"$f":"IF(AN324=\"\",\"\",Main!C324)","v":""},{"$f":"IF(AN324=\"\",\"\",Main!D324)","v":""},{"$f":"IF(AN324=\"\",\"\",Main!E324)","v":""},null,null,null,null,null,null,null,{"$f":"IF(AN324=\"\",\"\",SUM(Main!N324,Main!S324))","v":""},null,0,null,null,null,null,null,null,null,null,null,null,null,null,null,null,null,null,null,null,0,0,null,0,null,null,{"$f":"IF(SUM(Main!N324,Main!S324)>0,1,\"\")","v":""}]
[{"$f":"IF(AN325=\"\",\"\",SUM($AN$4:AN325))","v":""},{"$f":"IF(AN325=\"\",\"\",Main!B325)","v":""},{"$f":"IF(AN325=\"\",\"\",Main!C325)","v":""},{"$f":"IF(AN325=\"\",\"\",Main!D325)","v":""},{"$f":"IF(AN325=\"\",\"\",Main!E325)","v":""},null,null,null,null,null,null,null,{"$f":"IF(AN325=\"\",\"\",SUM(Main!N325,Main!S325))","v":""},null,0,null,null,null,null,null,null,null,null,null,null,null,null,null,null,null,null,null,null,0,0,null,0,null,null,{"$f":"IF(SUM(Main!N325,Main!S325)>0,1,\"\")","v":""}]
[{"$f":"IF(AN326=\"\",\"\",SUM($AN$4:AN326))","v":""},{"$f":"IF(AN326=\"\",\"\",Main!B326)","v":""},{"$f":"IF(AN326=\"\",\"\",Main!C326)","v":""},{"$f":"IF(AN326=\"\",\"\",Main!D326)","v":""},{"$f":"IF(AN326=\"\",\"\",Main!E326)","v":""},null,null,null,null,null,null,null,{"$f":"IF(AN326=\"\",\"\",SUM(Main!N326,Main!S326))","v":""},null,0,null,null,null,null,null,null,null,null,null,null,null,null,null,null,null,null,null,null,0,0,null,0,null,null,{"$f":"IF(SUM(Main!N326,Main!S326)>0,1,\"\")","v":""}]
[{"$f":"IF(AN327=\"\",\"\",SUM($AN$4:AN327))","v":""},{"$f":"IF(AN327=\"\",\"\",Main!B327)","v":""},{"$f":"IF(AN327=\"\",\"\",Main!C327)","v":""},{"$f":"IF(AN327=\"\",\"\",Main!D327)","v":""},{"$f":"IF(AN327=\"\",\"\",Main!E327)","v":""},null,null,null,null,null,null,null,{"$f":"IF(AN327=\"\",\"\",SUM(Main!N327,Main!S327))","v":""},null,0,null,null,null,null,null,null,null,null,null,null,null,null,null,null,null,null,null,null,0,0,null,0,null,null,{"$f":"IF(SUM(Main!N327,Main!S327)>0,1,\"\")","v":""}]
[{"$f":"IF(AN328=\"\",\"\",SUM($AN$4:AN328))","v":""},{"$f":"IF(AN328=\"\",\"\",Main!B328)","v":""},{"$f":"IF(AN328=\"\",\"\",Main!C328)","v":""},{"$f":"IF(AN328=\"\",\"\",Main!D328)","v":""},{"$f":"IF(AN328=\"\",\"\",Main!E328)","v":""},null,null,null,null,null,null,null,{"$f":"IF(AN328=\"\",\"\",SUM(Main!N328,Main!S328))","v":""},null,0,null,null,null,null,null,null,null,null,null,null,null,null,null,null,null,null,null,null,0,0,null,0,null,null,{"$f":"IF(SUM(Main!N328,Main!S328)>0,1,\"\")","v":""}]
[{"$f":"IF(AN329=\"\",\"\",SUM($AN$4:AN329))","v":""},{"$f":"IF(AN329=\"\",\"\",Main!B329)","v":""},{"$f":"IF(AN329=\"\",\"\",Main!C329)","v":""},{"$f":"IF(AN329=\"\",\"\",Main!D329)","v":""},{"$f":"IF(AN329=\"\",\"\",Main!E329)","v":""},null,null,null,null,null,null,null,{"$f":"IF(AN329=\"\",\"\",SUM(Main!N329,Main!S329))","v":""},null,0,null,null,null,null,null,null,null,null,null,null,null,null,null,null,null,null,null,null,0,0,null,0,null,null,{"$f":"IF(SUM(Main!N329,Main!S329)>0,1,\"\")","v":""}]
[{"$f":"IF(AN330=\"\",\"\",SUM($AN$4:AN330))","v":""},{"$f":"IF(AN330=\"\",\"\",Main!B330)","v":""},{"$f":"IF(AN330=\"\",\"\",Main!C330)","v":""},{"$f":"IF(AN330=\"\",\"\",Main!D330)","v":""},{"$f":"IF(AN330=\"\",\"\",Main!E330)","v":""},null,null,null,null,null,null,null,{"$f":"IF(AN330=\"\",\"\",SUM(Main!N330,Main!S330))","v":""},null,0,null,null,null,null,null,null,null,null,null,null,null,null,null,null,null,null,null,null,0,0,null,0,null,null,{"$f":"IF(SUM(Main!N330,Main!S330)>0,1,\"\")","v":""}]
[{"$f":"IF(AN331=\"\",\"\",SUM($AN$4:AN331))","v":""},{"$f":"IF(AN331=\"\",\"\",Main!B331)","v":""},{"$f":"IF(AN331=\"\",\"\",Main!C331)","v":""},{"$f":"IF(AN331=\"\",\"\",Main!D331)","v":""},{"$f":"IF(AN331=\"\",\"\",Main!E331)","v":""},null,null,null,null,null,null,null,{"$f":"IF(AN331=\"\",\"\",SUM(Main!N331,Main!S331))","v":""},null,0,null,null,null,null,null,null,null,null,null,null,null,null,null,null,null,null,null,null,0,0,null,0,null,null,{"$f":"IF(SUM(Main!N331,Main!S331)>0,1,\"\")","v":""}]
[{"$f":"IF(AN332=\"\",\"\",SUM($AN$4:AN332))","v":""},{"$f":"IF(AN332=\"\",\"\",Main!B332)","v":""},{"$f":"IF(AN332=\"\",\"\",Main!C332)","v":""},{"$f":"IF(AN332=\"\",\"\",Main!D332)","v":""},{"$f":"IF(AN332=\"\",\"\",Main!E332)","v":""},null,null,null,null,null,null,null,{"$f":"IF(AN332=\"\",\"\",SUM(Main!N332,Main!S332))","v":""},null,{"$f":"SUM(F332:N332)","v":0},null,null,null,null,null,null,null,null,null,null,null,null,null,null,null,null,null,null,{"$f":"SUM(P332:AG332)","v":0},{"$f":"O332-AH332","v":0},null,{"$f":"AI332-AJ332","v":0},null,null,{"$f":"IF(SUM(Main!N332,Main!S332)>0,1,\"\")","v":""}]
[{"$f":"IF(AN333=\"\",\"\",SUM($AN$4:AN333))","v":""},{"$f":"IF(AN333=\"\",\"\",Main!B333)","v":""},{"$f":"IF(AN333=\"\",\"\",Main!C333)","v":""},{"$f":"IF(AN333=\"\",\"\",Main!D333)","v":""},{"$f":"IF(AN333=\"\",\"\",Main!E333)","v":""},null,null,null,null,null,null,null,{"$f":"IF(AN333=\"\",\"\",SUM(Main!N333,Main!S333))","v":""},null,0,null,null,null,null,null,null,null,null,null,null,null,null,null,null,null,null,null,null,0,0,null,0,null,null,{"$f":"IF(SUM(Main!N333,Main!S333)>0,1,\"\")","v":""}]
[{"$f":"IF(AN334=\"\",\"\",SUM($AN$4:AN334))","v":""},{"$f":"IF(AN334=\"\",\"\",Main!B334)","v":""},{"$f":"IF(AN334=\"\",\"\",Main!C334)","v":""},{"$f":"IF(AN334=\"\",\"\",Main!D334)","v":""},{"$f":"IF(AN334=\"\",\"\",Main!E334)","v":""},null,null,null,null,null,null,null,{"$f":"IF(AN334=\"\",\"\",SUM(Main!N334,Main!S334))","v":""},null,0,null,null,null,null,null,null,null,null,null,null,null,null,null,null,null,null,null,null,0,0,null,0,null,null,{"$f":"IF(SUM(Main!N334,Main!S334)>0,1,\"\")","v":""}]
[{"$f":"IF(AN335=\"\",\"\",SUM($AN$4:AN335))","v":""},{"$f":"IF(AN335=\"\",\"\",Main!B335)","v":""},{"$f":"IF(AN335=\"\",\"\",Main!C335)","v":""},{"$f":"IF(AN335=\"\",\"\",Main!D335)","v":""},{"$f":"IF(AN335=\"\",\"\",Main!E335)","v":""},null,null,null,null,null,null,null,{"$f":"IF(AN335=\"\",\"\",SUM(Main!N335,Main!S335))","v":""},null,0,null,null,null,null,null,null,null,null,null,null,null,null,null,null,null,null,null,null,0,0,null,0,null,null,{"$f":"IF(SUM(Main!N335,Main!S335)>0,1,\"\")","v":""}]
[{"$f":"IF(AN336=\"\",\"\",SUM($AN$4:AN336))","v":""},{"$f":"IF(AN336=\"\",\"\",Main!B336)","v":""},{"$f":"IF(AN336=\"\",\"\",Main!C336)","v":""},{"$f":"IF(AN336=\"\",\"\",Main!D336)","v":""},{"$f":"IF(AN336=\"\",\"\",Main!E336)","v":""},null,null,null,null,null,null,null,{"$f":"IF(AN336=\"\",\"\",SUM(Main!N336,Main!S336))","v":""},null,0,null,null,null,null,null,null,null,null,null,null,null,null,null,null,null,null,null,null,0,0,null,0,null,null,{"$f":"IF(SUM(Main!N336,Main!S336)>0,1,\"\")","v":""}]
[{"$f":"IF(AN337=\"\",\"\",SUM($AN$4:AN337))","v":""},{"$f":"IF(AN337=\"\",\"\",Main!B337)","v":""},{"$f":"IF(AN337=\"\",\"\",Main!C337)","v":""},{"$f":"IF(AN337=\"\",\"\",Main!D337)","v":""},{"$f":"IF(AN337=\"\",\"\",Main!E337)","v":""},null,null,null,null,null,null,null,{"$f":"IF(AN337=\"\",\"\",SUM(Main!N337,Main!S337))","v":""},null,0,null,null,null,null,null,null,null,null,null,null,null,null,null,null,null,null,null,null,0,0,null,0,null,null,{"$f":"IF(SUM(Main!N337,Main!S337)>0,1,\"\")","v":""}]
[{"$f":"IF(AN338=\"\",\"\",SUM($AN$4:AN338))","v":""},{"$f":"IF(AN338=\"\",\"\",Main!B338)","v":""},{"$f":"IF(AN338=\"\",\"\",Main!C338)","v":""},{"$f":"IF(AN338=\"\",\"\",Main!D338)","v":""},{"$f":"IF(AN338=\"\",\"\",Main!E338)","v":""},null,null,null,null,null,null,null,{"$f":"IF(AN338=\"\",\"\",SUM(Main!N338,Main!S338))","v":""},null,0,null,null,null,null,null,null,null,null,null,null,null,null,null,null,null,null,null,null,0,0,null,0,null,null,{"$f":"IF(SUM(Main!N338,Main!S338)>0,1,\"\")","v":""}]
[{"$f":"IF(AN339=\"\",\"\",SUM($AN$4:AN339))","v":""},{"$f":"IF(AN339=\"\",\"\",Main!B339)","v":""},{"$f":"IF(AN339=\"\",\"\",Main!C339)","v":""},{"$f":"IF(AN339=\"\",\"\",Main!D339)","v":""},{"$f":"IF(AN339=\"\",\"\",Main!E339)","v":""},null,null,null,null,null,null,null,{"$f":"IF(AN339=\"\",\"\",SUM(Main!N339,Main!S339))","v":""},null,0,null,null,null,null,null,null,null,null,null,null,null,null,null,null,null,null,null,null,0,0,null,0,null,null,{"$f":"IF(SUM(Main!N339,Main!S339)>0,1,\"\")","v":""}]
[{"$f":"IF(AN340=\"\",\"\",SUM($AN$4:AN340))","v":""},{"$f":"IF(AN340=\"\",\"\",Main!B340)","v":""},{"$f":"IF(AN340=\"\",\"\",Main!C340)","v":""},{"$f":"IF(AN340=\"\",\"\",Main!D340)","v":""},{"$f":"IF(AN340=\"\",\"\",Main!E340)","v":""},null,null,null,null,null,null,null,{"$f":"IF(AN340=\"\",\"\",SUM(Main!N340,Main!S340))","v":""},null,0,null,null,null,null,null,null,null,null,null,null,null,null,null,null,null,null,null,null,0,0,null,0,null,null,{"$f":"IF(SUM(Main!N340,Main!S340)>0,1,\"\")","v":""}]
[{"$f":"IF(AN341=\"\",\"\",SUM($AN$4:AN341))","v":""},{"$f":"IF(AN341=\"\",\"\",Main!B341)","v":""},{"$f":"IF(AN341=\"\",\"\",Main!C341)","v":""},{"$f":"IF(AN341=\"\",\"\",Main!D341)","v":""},{"$f":"IF(AN341=\"\",\"\",Main!E341)","v":""},null,null,null,null,null,null,null,{"$f":"IF(AN341=\"\",\"\",SUM(Main!N341,Main!S341))","v":""},null,0,null,null,null,null,null,null,null,null,null,null,null,null,null,null,null,null,null,null,0,0,null,0,null,null,{"$f":"IF(SUM(Main!N341,Main!S341)>0,1,\"\")","v":""}]
[{"$f":"IF(AN342=\"\",\"\",SUM($AN$4:AN342))","v":""},{"$f":"IF(AN342=\"\",\"\",Main!B342)","v":""},{"$f":"IF(AN342=\"\",\"\",Main!C342)","v":""},{"$f":"IF(AN342=\"\",\"\",Main!D342)","v":""},{"$f":"IF(AN342=\"\",\"\",Main!E342)","v":""},null,null,null,null,null,null,null,{"$f":"IF(AN342=\"\",\"\",SUM(Main!N342,Main!S342))","v":""},null,0,null,null,null,null,null,null,null,null,null,null,null,null,null,null,null,null,null,null,0,0,null,0,null,null,{"$f":"IF(SUM(Main!N342,Main!S342)>0,1,\"\")","v":""}]
[{"$f":"IF(AN343=\"\",\"\",SUM($AN$4:AN343))","v":""},{"$f":"IF(AN343=\"\",\"\",Main!B343)","v":""},{"$f":"IF(AN343=\"\",\"\",Main!C343)","v":""},{"$f":"IF(AN343=\"\",\"\",Main!D343)","v":""},{"$f":"IF(AN343=\"\",\"\",Main!E343)","v":""},null,null,null,null,null,null,null,{"$f":"IF(AN343=\"\",\"\",SUM(Main!N343,Main!S343))","v":""},null,0,null,null,null,null,null,null,null,null,null,null,null,null,null,null,null,null,null,null,0,0,null,0,null,null,{"$f":"IF(SUM(Main!N343,Main!S343)>0,1,\"\")","v":""}]
[{"$f":"IF(AN344=\"\",\"\",SUM($AN$4:AN344))","v":""},{"$f":"IF(AN344=\"\",\"\",Main!B344)","v":""},{"$f":"IF(AN344=\"\",\"\",Main!C344)","v":""},{"$f":"IF(AN344=\"\",\"\",Main!D344)","v":""},{"$f":"IF(AN344=\"\",\"\",Main!E344)","v":""},null,null,null,null,null,null,null,{"$f":"IF(AN344=\"\",\"\",SUM(Main!N344,Main!S344))","v":""},null,0,null,null,null,null,null,null,null,null,null,null,null,null,null,null,null,null,null,null,0,0,null,0,null,null,{"$f":"IF(SUM(Main!N344,Main!S344)>0,1,\"\")","v":""}]
[{"$f":"IF(AN345=\"\",\"\",SUM($AN$4:AN345))","v":""},{"$f":"IF(AN345=\"\",\"\",Main!B345)","v":""},{"$f":"IF(AN345=\"\",\"\",Main!C345)","v":""},{"$f":"IF(AN345=\"\",\"\",Main!D345)","v":""},{"$f":"IF(AN345=\"\",\"\",Main!E345)","v":""},null,null,null,null,null,null,null,{"$f":"IF(AN345=\"\",\"\",SUM(Main!N345,Main!S345))","v":""},null,0,null,null,null,null,null,null,null,null,null,null,null,null,null,null,null,null,null,null,0,0,null,0,null,null,{"$f":"IF(SUM(Main!N345,Main!S345)>0,1,\"\")","v":""}]
[{"$f":"IF(AN346=\"\",\"\",SUM($AN$4:AN346))","v":""},{"$f":"IF(AN346=\"\",\"\",Main!B346)","v":""},{"$f":"IF(AN346=\"\",\"\",Main!C346)","v":""},{"$f":"IF(AN346=\"\",\"\",Main!D346)","v":""},{"$f":"IF(AN346=\"\",\"\",Main!E346)","v":""},null,null,null,null,null,null,null,{"$f":"IF(AN346=\"\",\"\",SUM(Main!N346,Main!S346))","v":""},null,0,null,null,null,null,null,null,null,null,null,null,null,null,null,null,null,null,null,null,0,0,null,0,null,null,{"$f":"IF(SUM(Main!N346,Main!S346)>0,1,\"\")","v":""}]
[{"$f":"IF(AN347=\"\",\"\",SUM($AN$4:AN347))","v":""},{"$f":"IF(AN347=\"\",\"\",Main!B347)","v":""},{"$f":"IF(AN347=\"\",\"\",Main!C347)","v":""},{"$f":"IF(AN347=\"\",\"\",Main!D347)","v":""},{"$f":"IF(AN347=\"\",\"\",Main!E347)","v":""},null,null,null,null,null,null,null,{"$f":"IF(AN347=\"\",\"\",SUM(Main!N347,Main!S347))","v":""},null,0,null,null,null,null,null,null,null,null,null,null,null,null,null,null,null,null,null,null,0,0,null,0,null,null,{"$f":"IF(SUM(Main!N347,Main!S347)>0,1,\"\")","v":""}]
[{"$f":"IF(AN348=\"\",\"\",SUM($AN$4:AN348))","v":""},{"$f":"IF(AN348=\"\",\"\",Main!B348)","v":""},{"$f":"IF(AN348=\"\",\"\",Main!C348)","v":""},{"$f":"IF(AN348=\"\",\"\",Main!D348)","v":""},{"$f":"IF(AN348=\"\",\"\",Main!E348)","v":""},null,null,null,null,null,null,null,{"$f":"IF(AN348=\"\",\"\",SUM(Main!N348,Main!S348))","v":""},null,0,null,null,null,null,null,null,null,null,null,null,null,null,null,null,null,null,null,null,0,0,null,0,null,null,{"$f":"IF(SUM(Main!N348,Main!S348)>0,1,\"\")","v":""}]
[{"$f":"IF(AN349=\"\",\"\",SUM($AN$4:AN349))","v":""},{"$f":"IF(AN349=\"\",\"\",Main!B349)","v":""},{"$f":"IF(AN349=\"\",\"\",Main!C349)","v":""},{"$f":"IF(AN349=\"\",\"\",Main!D349)","v":""},{"$f":"IF(AN349=\"\",\"\",Main!E349)","v":""},null,null,null,null,null,null,null,{"$f":"IF(AN349=\"\",\"\",SUM(Main!N349,Main!S349))","v":""},null,0,null,null,null,null,null,null,null,null,null,null,null,null,null,null,null,null,null,null,0,0,null,0,null,null,{"$f":"IF(SUM(Main!N349,Main!S349)>0,1,\"\")","v":""}]
[{"$f":"IF(AN350=\"\",\"\",SUM($AN$4:AN350))","v":""},{"$f":"IF(AN350=\"\",\"\",Main!B350)","v":""},{"$f":"IF(AN350=\"\",\"\",Main!C350)","v":""},{"$f":"IF(AN350=\"\",\"\",Main!D350)","v":""},{"$f":"IF(AN350=\"\",\"\",Main!E350)","v":""},null,null,null,null,null,null,null,{"$f":"IF(AN350=\"\",\"\",SUM(Main!N350,Main!S350))","v":""},null,0,null,null,null,null,null,null,null,null,null,null,null,null,null,null,null,null,null,null,0,0,null,0,null,null,{"$f":"IF(SUM(Main!N350,Main!S350)>0,1,\"\")","v":""}]
[{"$f":"IF(AN351=\"\",\"\",SUM($AN$4:AN351))","v":""},{"$f":"IF(AN351=\"\",\"\",Main!B351)","v":""},{"$f":"IF(AN351=\"\",\"\",Main!C351)","v":""},{"$f":"IF(AN351=\"\",\"\",Main!D351)","v":""},{"$f":"IF(AN351=\"\",\"\",Main!E351)","v":""},null,null,null,null,null,null,null,{"$f":"IF(AN351=\"\",\"\",SUM(Main!N351,Main!S351))","v":""},null,0,null,null,null,null,null,null,null,null,null,null,null,null,null,null,null,null,null,null,0,0,null,0,null,null,{"$f":"IF(SUM(Main!N351,Main!S351)>0,1,\"\")","v":""}]
[{"$f":"IF(AN352=\"\",\"\",SUM($AN$4:AN352))","v":""},{"$f":"IF(AN352=\"\",\"\",Main!B352)","v":""},{"$f":"IF(AN352=\"\",\"\",Main!C352)","v":""},{"$f":"IF(AN352=\"\",\"\",Main!D352)","v":""},{"$f":"IF(AN352=\"\",\"\",Main!E352)","v":""},null,null,null,null,null,null,null,{"$f":"IF(AN352=\"\",\"\",SUM(Main!N352,Main!S352))","v":""},null,0,null,null,null,null,null,null,null,null,null,null,null,null,null,null,null,null,null,null,0,0,null,0,null,null,{"$f":"IF(SUM(Main!N352,Main!S352)>0,1,\"\")","v":""}]
[{"$f":"IF(AN353=\"\",\"\",SUM($AN$4:AN353))","v":""},{"$f":"IF(AN353=\"\",\"\",Main!B353)","v":""},{"$f":"IF(AN353=\"\",\"\",Main!C353)","v":""},{"$f":"IF(AN353=\"\",\"\",Main!D353)","v":""},{"$f":"IF(AN353=\"\",\"\",Main!E353)","v":""},null,null,null,null,null,null,null,{"$f":"IF(AN353=\"\",\"\",SUM(Main!N353,Main!S353))","v":""},null,0,null,null,null,null,null,null,null,null,null,null,null,null,null,null,null,null,null,null,0,0,null,0,null,null,{"$f":"IF(SUM(Main!N353,Main!S353)>0,1,\"\")","v":""}]
[{"$f":"IF(AN354=\"\",\"\",SUM($AN$4:AN354))","v":""},{"$f":"IF(AN354=\"\",\"\",Main!B354)","v":""},{"$f":"IF(AN354=\"\",\"\",Main!C354)","v":""},{"$f":"IF(AN354=\"\",\"\",Main!D354)","v":""},{"$f":"IF(AN354=\"\",\"\",Main!E354)","v":""},null,null,null,null,null,null,null,{"$f":"IF(AN354=\"\",\"\",SUM(Main!N354,Main!S354))","v":""},null,0,null,null,null,null,null,null,null,null,null,null,null,null,null,null,null,null,null,null,0,0,null,0,null,null,{"$f":"IF(SUM(Main!N354,Main!S354)>0,1,\"\")","v":""}]
[{"$f":"IF(AN355=\"\",\"\",SUM($AN$4:AN355))","v":""},{"$f":"IF(AN355=\"\",\"\",Main!B355)","v":""},{"$f":"IF(AN355=\"\",\"\",Main!C355)","v":""},{"$f":"IF(AN355=\"\",\"\",Main!D355)","v":""},{"$f":"IF(AN355=\"\",\"\",Main!E355)","v":""},null,null,null,null,null,null,null,{"$f":"IF(AN355=\"\",\"\",SUM(Main!N355,Main!S355))","v":""},null,0,null,null,null,null,null,null,null,null,null,null,null,null,null,null,null,null,null,null,0,0,null,0,null,null,{"$f":"IF(SUM(Main!N355,Main!S355)>0,1,\"\")","v":""}]
[{"$f":"IF(AN356=\"\",\"\",SUM($AN$4:AN356))","v":""},{"$f":"IF(AN356=\"\",\"\",Main!B356)","v":""},{"$f":"IF(AN356=\"\",\"\",Main!C356)","v":""},{"$f":"IF(AN356=\"\",\"\",Main!D356)","v":""},{"$f":"IF(AN356=\"\",\"\",Main!E356)","v":""},null,null,null,null,null,null,null,{"$f":"IF(AN356=\"\",\"\",SUM(Main!N356,Main!S356))","v":""},null,0,null,null,null,null,null,null,null,null,null,null,null,null,null,null,null,null,null,null,0,0,null,0,null,null,{"$f":"IF(SUM(Main!N356,Main!S356)>0,1,\"\")","v":""}]
[{"$f":"IF(AN357=\"\",\"\",SUM($AN$4:AN357))","v":""},{"$f":"IF(AN357=\"\",\"\",Main!B357)","v":""},{"$f":"IF(AN357=\"\",\"\",Main!C357)","v":""},{"$f":"IF(AN357=\"\",\"\",Main!D357)","v":""},{"$f":"IF(AN357=\"\",\"\",Main!E357)","v":""},null,null,null,null,null,null,null,{"$f":"IF(AN357=\"\",\"\",SUM(Main!N357,Main!S357))","v":""},null,0,null,null,null,null,null,null,null,null,null,null,null,null,null,null,null,null,null,null,0,0,null,0,null,null,{"$f":"IF(SUM(Main!N357,Main!S357)>0,1,\"\")","v":""}]
[{"$f":"IF(AN358=\"\",\"\",SUM($AN$4:AN358))","v":""},{"$f":"IF(AN358=\"\",\"\",Main!B358)","v":""},{"$f":"IF(AN358=\"\",\"\",Main!C358)","v":""},{"$f":"IF(AN358=\"\",\"\",Main!D358)","v":""},{"$f":"IF(AN358=\"\",\"\",Main!E358)","v":""},null,null,null,null,null,null,null,{"$f":"IF(AN358=\"\",\"\",SUM(Main!N358,Main!S358))","v":""},null,0,null,null,null,null,null,null,null,null,null,null,null,null,null,null,null,null,null,null,0,0,null,0,null,null,{"$f":"IF(SUM(Main!N358,Main!S358)>0,1,\"\")","v":""}]
[{"$f":"IF(AN359=\"\",\"\",SUM($AN$4:AN359))","v":""},{"$f":"IF(AN359=\"\",\"\",Main!B359)","v":""},{"$f":"IF(AN359=\"\",\"\",Main!C359)","v":""},{"$f":"IF(AN359=\"\",\"\",Main!D359)","v":""},{"$f":"IF(AN359=\"\",\"\",Main!E359)","v":""},null,null,null,null,null,null,null,{"$f":"IF(AN359=\"\",\"\",SUM(Main!N359,Main!S359))","v":""},null,0,null,null,null,null,null,null,null,null,null,null,null,null,null,null,null,null,null,null,0,0,null,0,null,null,{"$f":"IF(SUM(Main!N359,Main!S359)>0,1,\"\")","v":""}]
[{"$f":"IF(AN360=\"\",\"\",SUM($AN$4:AN360))","v":""},{"$f":"IF(AN360=\"\",\"\",Main!B360)","v":""},{"$f":"IF(AN360=\"\",\"\",Main!C360)","v":""},{"$f":"IF(AN360=\"\",\"\",Main!D360)","v":""},{"$f":"IF(AN360=\"\",\"\",Main!E360)","v":""},null,null,null,null,null,null,null,{"$f":"IF(AN360=\"\",\"\",SUM(Main!N360,Main!S360))","v":""},null,0,null,null,null,null,null,null,null,null,null,null,null,null,null,null,null,null,null,null,0,0,null,0,null,null,{"$f":"IF(SUM(Main!N360,Main!S360)>0,1,\"\")","v":""}]
[{"$f":"IF(AN361=\"\",\"\",SUM($AN$4:AN361))","v":""},{"$f":"IF(AN361=\"\",\"\",Main!B361)","v":""},{"$f":"IF(AN361=\"\",\"\",Main!C361)","v":""},{"$f":"IF(AN361=\"\",\"\",Main!D361)","v":""},{"$f":"IF(AN361=\"\",\"\",Main!E361)","v":""},null,null,null,null,null,null,null,{"$f":"IF(AN361=\"\",\"\",SUM(Main!N361,Main!S361))","v":""},null,0,null,null,null,null,null,null,null,null,null,null,null,null,null,null,null,null,null,null,0,0,null,0,null,null,{"$f":"IF(SUM(Main!N361,Main!S361)>0,1,\"\")","v":""}]
[{"$f":"IF(AN362=\"\",\"\",SUM($AN$4:AN362))","v":""},{"$f":"IF(AN362=\"\",\"\",Main!B362)","v":""},{"$f":"IF(AN362=\"\",\"\",Main!C362)","v":""},{"$f":"IF(AN362=\"\",\"\",Main!D362)","v":""},{"$f":"IF(AN362=\"\",\"\",Main!E362)","v":""},null,null,null,null,null,null,null,{"$f":"IF(AN362=\"\",\"\",SUM(Main!N362,Main!S362))","v":""},null,0,null,null,null,null,null,null,null,null,null,null,null,null,null,null,null,null,null,null,0,0,null,0,null,null,{"$f":"IF(SUM(Main!N362,Main!S362)>0,1,\"\")","v":""}]
[{"$f":"IF(AN363=\"\",\"\",SUM($AN$4:AN363))","v":""},{"$f":"IF(AN363=\"\",\"\",Main!B363)","v":""},{"$f":"IF(AN363=\"\",\"\",Main!C363)","v":""},{"$f":"IF(AN363=\"\",\"\",Main!D363)","v":""},{"$f":"IF(AN363=\"\",\"\",Main!E363)","v":""},null,null,null,null,null,null,null,{"$f":"IF(AN363=\"\",\"\",SUM(Main!N363,Main!S363))","v":""},null,0,null,null,null,null,null,null,null,null,null,null,null,null,null,null,null,null,null,null,0,0,null,0,null,null,{"$f":"IF(SUM(Main!N363,Main!S363)>0,1,\"\")","v":""}]
[{"$f":"IF(AN364=\"\",\"\",SUM($AN$4:AN364))","v":""},{"$f":"IF(AN364=\"\",\"\",Main!B364)","v":""},{"$f":"IF(AN364=\"\",\"\",Main!C364)","v":""},{"$f":"IF(AN364=\"\",\"\",Main!D364)","v":""},{"$f":"IF(AN364=\"\",\"\",Main!E364)","v":""},null,null,null,null,null,null,null,{"$f":"IF(AN364=\"\",\"\",SUM(Main!N364,Main!S364))","v":""},null,0,null,null,null,null,null,null,null,null,null,null,null,null,null,null,null,null,null,null,0,0,null,0,null,null,{"$f":"IF(SUM(Main!N364,Main!S364)>0,1,\"\")","v":""}]
[{"$f":"IF(AN365=\"\",\"\",SUM($AN$4:AN365))","v":""},{"$f":"IF(AN365=\"\",\"\",Main!B365)","v":""},{"$f":"IF(AN365=\"\",\"\",Main!C365)","v":""},{"$f":"IF(AN365=\"\",\"\",Main!D365)","v":""},{"$f":"IF(AN365=\"\",\"\",Main!E365)","v":""},null,null,null,null,null,null,null,{"$f":"IF(AN365=\"\",\"\",SUM(Main!N365,Main!S365))","v":""},null,0,null,null,null,null,null,null,null,null,null,null,null,null,null,null,null,null,null,null,0,0,null,0,null,null,{"$f":"IF(SUM(Main!N365,Main!S365)>0,1,\"\")","v":""}]
[{"$f":"IF(AN366=\"\",\"\",SUM($AN$4:AN366))","v":""},{"$f":"IF(AN366=\"\",\"\",Main!B366)","v":""},{"$f":"IF(AN366=\"\",\"\",Main!C366)","v":""},{"$f":"IF(AN366=\"\",\"\",Main!D366)","v":""},{"$f":"IF(AN366=\"\",\"\",Main!E366)","v":""},null,null,null,null,null,null,null,{"$f":"IF(AN366=\"\",\"\",SUM(Main!N366,Main!S366))","v":""},null,0,null,null,null,null,null,null,null,null,null,null,null,null,null,null,null,null,null,null,0,0,null,0,null,null,{"$f":"IF(SUM(Main!N366,Main!S366)>0,1,\"\")","v":""}]
[{"$f":"IF(AN367=\"\",\"\",SUM($AN$4:AN367))","v":""},{"$f":"IF(AN367=\"\",\"\",Main!B367)","v":""},{"$f":"IF(AN367=\"\",\"\",Main!C367)","v":""},{"$f":"IF(AN367=\"\",\"\",Main!D367)","v":""},{"$f":"IF(AN367=\"\",\"\",Main!E367)","v":""},null,null,null,null,null,null,null,{"$f":"IF(AN367=\"\",\"\",SUM(Main!N367,Main!S367))","v":""},null,0,null,null,null,null,null,null,null,null,null,null,null,null,null,null,null,null,null,null,0,0,null,0,null,null,{"$f":"IF(SUM(Main!N367,Main!S367)>0,1,\"\")","v":""}]
[{"$f":"IF(AN368=\"\",\"\",SUM($AN$4:AN368))","v":""},{"$f":"IF(AN368=\"\",\"\",Main!B368)","v":""},{"$f":"IF(AN368=\"\",\"\",Main!C368)","v":""},{"$f":"IF(AN368=\"\",\"\",Main!D368)","v":""},{"$f":"IF(AN368=\"\",\"\",Main!E368)","v":""},null,null,null,null,null,null,null,{"$f":"IF(AN368=\"\",\"\",SUM(Main!N368,Main!S368))","v":""},null,0,null,null,null,null,null,null,null,null,null,null,null,null,null,null,null,null,null,null,0,0,null,0,null,null,{"$f":"IF(SUM(Main!N368,Main!S368)>0,1,\"\")","v":""}]
[{"$f":"IF(AN369=\"\",\"\",SUM($AN$4:AN369))","v":""},{"$f":"IF(AN369=\"\",\"\",Main!B369)","v":""},{"$f":"IF(AN369=\"\",\"\",Main!C369)","v":""},{"$f":"IF(AN369=\"\",\"\",Main!D369)","v":""},{"$f":"IF(AN369=\"\",\"\",Main!E369)","v":""},null,null,null,null,null,null,null,{"$f":"IF(AN369=\"\",\"\",SUM(Main!N369,Main!S369))","v":""},null,0,null,null,null,null,null,null,null,null,null,null,null,null,null,null,null,null,null,null,0,0,null,0,null,null,{"$f":"IF(SUM(Main!N369,Main!S369)>0,1,\"\")","v":""}]
[{"$f":"IF(AN370=\"\",\"\",SUM($AN$4:AN370))","v":""},{"$f":"IF(AN370=\"\",\"\",Main!B370)","v":""},{"$f":"IF(AN370=\"\",\"\",Main!C370)","v":""},{"$f":"IF(AN370=\"\",\"\",Main!D370)","v":""},{"$f":"IF(AN370=\"\",\"\",Main!E370)","v":""},null,null,null,null,null,null,null,{"$f":"IF(AN370=\"\",\"\",SUM(Main!N370,Main!S370))","v":""},null,0,null,null,null,null,null,null,null,null,null,null,null,null,null,null,null,null,null,null,0,0,null,0,null,null,{"$f":"IF(SUM(Main!N370,Main!S370)>0,1,\"\")","v":""}]
[{"$f":"IF(AN371=\"\",\"\",SUM($AN$4:AN371))","v":""},{"$f":"IF(AN371=\"\",\"\",Main!B371)","v":""},{"$f":"IF(AN371=\"\",\"\",Main!C371)","v":""},{"$f":"IF(AN371=\"\",\"\",Main!D371)","v":""},{"$f":"IF(AN371=\"\",\"\",Main!E371)","v":""},null,null,null,null,null,null,null,{"$f":"IF(AN371=\"\",\"\",SUM(Main!N371,Main!S371))","v":""},null,0,null,null,null,null,null,null,null,null,null,null,null,null,null,null,null,null,null,null,0,0,null,0,null,null,{"$f":"IF(SUM(Main!N371,Main!S371)>0,1,\"\")","v":""}]
[{"$f":"IF(AN372=\"\",\"\",SUM($AN$4:AN372))","v":""},{"$f":"IF(AN372=\"\",\"\",Main!B372)","v":""},{"$f":"IF(AN372=\"\",\"\",Main!C372)","v":""},{"$f":"IF(AN372=\"\",\"\",Main!D372)","v":""},{"$f":"IF(AN372=\"\",\"\",Main!E372)","v":""},null,null,null,null,null,null,null,{"$f":"IF(AN372=\"\",\"\",SUM(Main!N372,Main!S372))","v":""},null,0,null,null,null,null,null,null,null,null,null,null,null,null,null,null,null,null,null,null,0,0,null,0,null,null,{"$f":"IF(SUM(Main!N372,Main!S372)>0,1,\"\")","v":""}]
[{"$f":"IF(AN373=\"\",\"\",SUM($AN$4:AN373))","v":""},{"$f":"IF(AN373=\"\",\"\",Main!B373)","v":""},{"$f":"IF(AN373=\"\",\"\",Main!C373)","v":""},{"$f":"IF(AN373=\"\",\"\",Main!D373)","v":""},{"$f":"IF(AN373=\"\",\"\",Main!E373)","v":""},null,null,null,null,null,null,null,{"$f":"IF(AN373=\"\",\"\",SUM(Main!N373,Main!S373))","v":""},null,0,null,null,null,null,null,null,null,null,null,null,null,null,null,null,null,null,null,null,0,0,null,0,null,null,{"$f":"IF(SUM(Main!N373,Main!S373)>0,1,\"\")","v":""}]
[{"$f":"IF(AN374=\"\",\"\",SUM($AN$4:AN374))","v":""},{"$f":"IF(AN374=\"\",\"\",Main!B374)","v":""},{"$f":"IF(AN374=\"\",\"\",Main!C374)","v":""},{"$f":"IF(AN374=\"\",\"\",Main!D374)","v":""},{"$f":"IF(AN374=\"\",\"\",Main!E374)","v":""},null,null,null,null,null,null,null,{"$f":"IF(AN374=\"\",\"\",SUM(Main!N374,Main!S374))","v":""},null,0,null,null,null,null,null,null,null,null,null,null,null,null,null,null,null,null,null,null,0,0,null,0,null,null,{"$f":"IF(SUM(Main!N374,Main!S374)>0,1,\"\")","v":""}]
[{"$f":"IF(AN375=\"\",\"\",SUM($AN$4:AN375))","v":""},{"$f":"IF(AN375=\"\",\"\",Main!B375)","v":""},{"$f":"IF(AN375=\"\",\"\",Main!C375)","v":""},{"$f":"IF(AN375=\"\",\"\",Main!D375)","v":""},{"$f":"IF(AN375=\"\",\"\",Main!E375)","v":""},null,null,null,null,null,null,null,{"$f":"IF(AN375=\"\",\"\",SUM(Main!N375,Main!S375))","v":""},null,0,null,null,null,null,null,null,null,null,null,null,null,null,null,null,null,null,null,null,0,0,null,0,null,null,{"$f":"IF(SUM(Main!N375,Main!S375)>0,1,\"\")","v":""}]
[{"$f":"IF(AN376=\"\",\"\",SUM($AN$4:AN376))","v":""},{"$f":"IF(AN376=\"\",\"\",Main!B376)","v":""},{"$f":"IF(AN376=\"\",\"\",Main!C376)","v":""},{"$f":"IF(AN376=\"\",\"\",Main!D376)","v":""},{"$f":"IF(AN376=\"\",\"\",Main!E376)","v":""},null,null,null,null,null,null,null,{"$f":"IF(AN376=\"\",\"\",SUM(Main!N376,Main!S376))","v":""},null,0,null,null,null,null,null,null,null,null,null,null,null,null,null,null,null,null,null,null,0,0,null,0,null,null,{"$f":"IF(SUM(Main!N376,Main!S376)>0,1,\"\")","v":""}]
[{"$f":"IF(AN377=\"\",\"\",SUM($AN$4:AN377))","v":""},{"$f":"IF(AN377=\"\",\"\",Main!B377)","v":""},{"$f":"IF(AN377=\"\",\"\",Main!C377)","v":""},{"$f":"IF(AN377=\"\",\"\",Main!D377)","v":""},{"$f":"IF(AN377=\"\",\"\",Main!E377)","v":""},null,null,null,null,null,null,null,{"$f":"IF(AN377=\"\",\"\",SUM(Main!N377,Main!S377))","v":""},null,0,null,null,null,null,null,null,null,null,null,null,null,null,null,null,null,null,null,null,0,0,null,0,null,null,{"$f":"IF(SUM(Main!N377,Main!S377)>0,1,\"\")","v":""}]
[{"$f":"IF(AN378=\"\",\"\",SUM($AN$4:AN378))","v":""},{"$f":"IF(AN378=\"\",\"\",Main!B378)","v":""},{"$f":"IF(AN378=\"\",\"\",Main!C378)","v":""},{"$f":"IF(AN378=\"\",\"\",Main!D378)","v":""},{"$f":"IF(AN378=\"\",\"\",Main!E378)","v":""},null,null,null,null,null,null,null,{"$f":"IF(AN378=\"\",\"\",SUM(Main!N378,Main!S378))","v":""},null,0,null,null,null,null,null,null,null,null,null,null,null,null,null,null,null,null,null,null,0,0,null,0,null,null,{"$f":"IF(SUM(Main!N378,Main!S378)>0,1,\"\")","v":""}]
[{"$f":"IF(AN379=\"\",\"\",SUM($AN$4:AN379))","v":""},{"$f":"IF(AN379=\"\",\"\",Main!B379)","v":""},{"$f":"IF(AN379=\"\",\"\",Main!C379)","v":""},{"$f":"IF(AN379=\"\",\"\",Main!D379)","v":""},{"$f":"IF(AN379=\"\",\"\",Main!E379)","v":""},null,null,null,null,null,null,null,{"$f":"IF(AN379=\"\",\"\",SUM(Main!N379,Main!S379))","v":""},null,0,null,null,null,null,null,null,null,null,null,null,null,null,null,null,null,null,null,null,0,0,null,0,null,null,{"$f":"IF(SUM(Main!N379,Main!S379)>0,1,\"\")","v":""}]
[{"$f":"IF(AN380=\"\",\"\",SUM($AN$4:AN380))","v":""},{"$f":"IF(AN380=\"\",\"\",Main!B380)","v":""},{"$f":"IF(AN380=\"\",\"\",Main!C380)","v":""},{"$f":"IF(AN380=\"\",\"\",Main!D380)","v":""},{"$f":"IF(AN380=\"\",\"\",Main!E380)","v":""},null,null,null,null,null,null,null,{"$f":"IF(AN380=\"\",\"\",SUM(Main!N380,Main!S380))","v":""},null,0,null,null,null,null,null,null,null,null,null,null,null,null,null,null,null,null,null,null,0,0,null,0,null,null,{"$f":"IF(SUM(Main!N380,Main!S380)>0,1,\"\")","v":""}]
[{"$f":"IF(AN381=\"\",\"\",SUM($AN$4:AN381))","v":""},{"$f":"IF(AN381=\"\",\"\",Main!B381)","v":""},{"$f":"IF(AN381=\"\",\"\",Main!C381)","v":""},{"$f":"IF(AN381=\"\",\"\",Main!D381)","v":""},{"$f":"IF(AN381=\"\",\"\",Main!E381)","v":""},null,null,null,null,null,null,null,{"$f":"IF(AN381=\"\",\"\",SUM(Main!N381,Main!S381))","v":""},null,0,null,null,null,null,null,null,null,null,null,null,null,null,null,null,null,null,null,null,0,0,null,0,null,null,{"$f":"IF(SUM(Main!N381,Main!S381)>0,1,\"\")","v":""}]
[{"$f":"IF(AN382=\"\",\"\",SUM($AN$4:AN382))","v":""},{"$f":"IF(AN382=\"\",\"\",Main!B382)","v":""},{"$f":"IF(AN382=\"\",\"\",Main!C382)","v":""},{"$f":"IF(AN382=\"\",\"\",Main!D382)","v":""},{"$f":"IF(AN382=\"\",\"\",Main!E382)","v":""},null,null,null,null,null,null,null,{"$f":"IF(AN382=\"\",\"\",SUM(Main!N382,Main!S382))","v":""},null,0,null,null,null,null,null,null,null,null,null,null,null,null,null,null,null,null,null,null,0,0,null,0,null,null,{"$f":"IF(SUM(Main!N382,Main!S382)>0,1,\"\")","v":""}]
[{"$f":"IF(AN383=\"\",\"\",SUM($AN$4:AN383))","v":""},{"$f":"IF(AN383=\"\",\"\",Main!B383)","v":""},{"$f":"IF(AN383=\"\",\"\",Main!C383)","v":""},{"$f":"IF(AN383=\"\",\"\",Main!D383)","v":""},{"$f":"IF(AN383=\"\",\"\",Main!E383)","v":""},null,null,null,null,null,null,null,{"$f":"IF(AN383=\"\",\"\",SUM(Main!N383,Main!S383))","v":""},null,0,null,null,null,null,null,null,null,null,null,null,null,null,null,null,null,null,null,null,0,0,null,0,null,null,{"$f":"IF(SUM(Main!N383,Main!S383)>0,1,\"\")","v":""}]
[{"$f":"IF(AN384=\"\",\"\",SUM($AN$4:AN384))","v":""},{"$f":"IF(AN384=\"\",\"\",Main!B384)","v":""},{"$f":"IF(AN384=\"\",\"\",Main!C384)","v":""},{"$f":"IF(AN384=\"\",\"\",Main!D384)","v":""},{"$f":"IF(AN384=\"\",\"\",Main!E384)","v":""},null,null,null,null,null,null,null,{"$f":"IF(AN384=\"\",\"\",SUM(Main!N384,Main!S384))","v":""},null,0,null,null,null,null,null,null,null,null,null,null,null,null,null,null,null,null,null,null,0,0,null,0,null,null,{"$f":"IF(SUM(Main!N384,Main!S384)>0,1,\"\")","v":""}]
[{"$f":"IF(AN385=\"\",\"\",SUM($AN$4:AN385))","v":""},{"$f":"IF(AN385=\"\",\"\",Main!B385)","v":""},{"$f":"IF(AN385=\"\",\"\",Main!C385)","v":""},{"$f":"IF(AN385=\"\",\"\",Main!D385)","v":""},{"$f":"IF(AN385=\"\",\"\",Main!E385)","v":""},null,null,null,null,null,null,null,{"$f":"IF(AN385=\"\",\"\",SUM(Main!N385,Main!S385))","v":""},null,0,null,null,null,null,null,null,null,null,null,null,null,null,null,null,null,null,null,null,0,0,null,0,null,null,{"$f":"IF(SUM(Main!N385,Main!S385)>0,1,\"\")","v":""}]
[{"$f":"IF(AN386=\"\",\"\",SUM($AN$4:AN386))","v":""},{"$f":"IF(AN386=\"\",\"\",Main!B386)","v":""},{"$f":"IF(AN386=\"\",\"\",Main!C386)","v":""},{"$f":"IF(AN386=\"\",\"\",Main!D386)","v":""},{"$f":"IF(AN386=\"\",\"\",Main!E386)","v":""},null,null,null,null,null,null,null,{"$f":"IF(AN386=\"\",\"\",SUM(Main!N386,Main!S386))","v":""},null,0,null,null,null,null,null,null,null,null,null,null,null,null,null,null,null,null,null,null,0,0,null,0,null,null,{"$f":"IF(SUM(Main!N386,Main!S386)>0,1,\"\")","v":""}]
[{"$f":"IF(AN387=\"\",\"\",SUM($AN$4:AN387))","v":""},{"$f":"IF(AN387=\"\",\"\",Main!B387)","v":""},{"$f":"IF(AN387=\"\",\"\",Main!C387)","v":""},{"$f":"IF(AN387=\"\",\"\",Main!D387)","v":""},{"$f":"IF(AN387=\"\",\"\",Main!E387)","v":""},null,null,null,null,null,null,null,{"$f":"IF(AN387=\"\",\"\",SUM(Main!N387,Main!S387))","v":""},null,0,null,null,null,null,null,null,null,null,null,null,null,null,null,null,null,null,null,null,0,0,null,0,null,null,{"$f":"IF(SUM(Main!N387,Main!S387)>0,1,\"\")","v":""}]
[{"$f":"IF(AN388=\"\",\"\",SUM($AN$4:AN388))","v":""},{"$f":"IF(AN388=\"\",\"\",Main!B388)","v":""},{"$f":"IF(AN388=\"\",\"\",Main!C388)","v":""},{"$f":"IF(AN388=\"\",\"\",Main!D388)","v":""},{"$f":"IF(AN388=\"\",\"\",Main!E388)","v":""},null,null,null,null,null,null,null,{"$f":"IF(AN388=\"\",\"\",SUM(Main!N388,Main!S388))","v":""},null,0,null,null,null,null,null,null,null,null,null,null,null,null,null,null,null,null,null,null,0,0,null,0,null,null,{"$f":"IF(SUM(Main!N388,Main!S388)>0,1,\"\")","v":""}]
[{"$f":"IF(AN389=\"\",\"\",SUM($AN$4:AN389))","v":""},{"$f":"IF(AN389=\"\",\"\",Main!B389)","v":""},{"$f":"IF(AN389=\"\",\"\",Main!C389)","v":""},{"$f":"IF(AN389=\"\",\"\",Main!D389)","v":""},{"$f":"IF(AN389=\"\",\"\",Main!E389)","v":""},null,null,null,null,null,null,null,{"$f":"IF(AN389=\"\",\"\",SUM(Main!N389,Main!S389))","v":""},null,0,null,null,null,null,null,null,null,null,null,null,null,null,null,null,null,null,null,null,0,0,null,0,null,null,{"$f":"IF(SUM(Main!N389,Main!S389)>0,1,\"\")","v":""}]
[{"$f":"IF(AN390=\"\",\"\",SUM($AN$4:AN390))","v":""},{"$f":"IF(AN390=\"\",\"\",Main!B390)","v":""},{"$f":"IF(AN390=\"\",\"\",Main!C390)","v":""},{"$f":"IF(AN390=\"\",\"\",Main!D390)","v":""},{"$f":"IF(AN390=\"\",\"\",Main!E390)","v":""},null,null,null,null,null,null,null,{"$f":"IF(AN390=\"\",\"\",SUM(Main!N390,Main!S390))","v":""},null,0,null,null,null,null,null,null,null,null,null,null,null,null,null,null,null,null,null,null,0,0,null,0,null,null,{"$f":"IF(SUM(Main!N390,Main!S390)>0,1,\"\")","v":""}]
[{"$f":"IF(AN391=\"\",\"\",SUM($AN$4:AN391))","v":""},{"$f":"IF(AN391=\"\",\"\",Main!B391)","v":""},{"$f":"IF(AN391=\"\",\"\",Main!C391)","v":""},{"$f":"IF(AN391=\"\",\"\",Main!D391)","v":""},{"$f":"IF(AN391=\"\",\"\",Main!E391)","v":""},null,null,null,null,null,null,null,{"$f":"IF(AN391=\"\",\"\",SUM(Main!N391,Main!S391))","v":""},null,0,null,null,null,null,null,null,null,null,null,null,null,null,null,null,null,null,null,null,0,0,null,0,null,null,{"$f":"IF(SUM(Main!N391,Main!S391)>0,1,\"\")","v":""}]
[{"$f":"IF(AN392=\"\",\"\",SUM($AN$4:AN392))","v":""},{"$f":"IF(AN392=\"\",\"\",Main!B392)","v":""},{"$f":"IF(AN392=\"\",\"\",Main!C392)","v":""},{"$f":"IF(AN392=\"\",\"\",Main!D392)","v":""},{"$f":"IF(AN392=\"\",\"\",Main!E392)","v":""},null,null,null,null,null,null,null,{"$f":"IF(AN392=\"\",\"\",SUM(Main!N392,Main!S392))","v":""},null,0,null,null,null,null,null,null,null,null,null,null,null,null,null,null,null,null,null,null,0,0,null,0,null,null,{"$f":"IF(SUM(Main!N392,Main!S392)>0,1,\"\")","v":""}]
[{"$f":"IF(AN393=\"\",\"\",SUM($AN$4:AN393))","v":""},{"$f":"IF(AN393=\"\",\"\",Main!B393)","v":""},{"$f":"IF(AN393=\"\",\"\",Main!C393)","v":""},{"$f":"IF(AN393=\"\",\"\",Main!D393)","v":""},{"$f":"IF(AN393=\"\",\"\",Main!E393)","v":""},null,null,null,null,null,null,null,{"$f":"IF(AN393=\"\",\"\",SUM(Main!N393,Main!S393))","v":""},null,0,null,null,null,null,null,null,null,null,null,null,null,null,null,null,null,null,null,null,0,0,null,0,null,null,{"$f":"IF(SUM(Main!N393,Main!S393)>0,1,\"\")","v":""}]
[{"$f":"IF(AN394=\"\",\"\",SUM($AN$4:AN394))","v":""},{"$f":"IF(AN394=\"\",\"\",Main!B394)","v":""},{"$f":"IF(AN394=\"\",\"\",Main!C394)","v":""},{"$f":"IF(AN394=\"\",\"\",Main!D394)","v":""},{"$f":"IF(AN394=\"\",\"\",Main!E394)","v":""},null,null,null,null,null,null,null,{"$f":"IF(AN394=\"\",\"\",SUM(Main!N394,Main!S394))","v":""},null,0,null,null,null,null,null,null,null,null,null,null,null,null,null,null,null,null,null,null,0,0,null,0,null,null,{"$f":"IF(SUM(Main!N394,Main!S394)>0,1,\"\")","v":""}]
[{"$f":"IF(AN395=\"\",\"\",SUM($AN$4:AN395))","v":""},{"$f":"IF(AN395=\"\",\"\",Main!B395)","v":""},{"$f":"IF(AN395=\"\",\"\",Main!C395)","v":""},{"$f":"IF(AN395=\"\",\"\",Main!D395)","v":""},{"$f":"IF(AN395=\"\",\"\",Main!E395)","v":""},null,null,null,null,null,null,null,{"$f":"IF(AN395=\"\",\"\",SUM(Main!N395,Main!S395))","v":""},null,0,null,null,null,null,null,null,null,null,null,null,null,null,null,null,null,null,null,null,0,0,null,0,null,null,{"$f":"IF(SUM(Main!N395,Main!S395)>0,1,\"\")","v":""}]
[{"$f":"IF(AN396=\"\",\"\",SUM($AN$4:AN396))","v":""},{"$f":"IF(AN396=\"\",\"\",Main!B396)","v":""},{"$f":"IF(AN396=\"\",\"\",Main!C396)","v":""},{"$f":"IF(AN396=\"\",\"\",Main!D396)","v":""},{"$f":"IF(AN396=\"\",\"\",Main!E396)","v":""},null,null,null,null,null,null,null,{"$f":"IF(AN396=\"\",\"\",SUM(Main!N396,Main!S396))","v":""},null,{"$f":"SUM(F396:N396)","v":0},null,null,null,null,null,null,null,null,null,null,null,null,null,null,null,null,null,null,{"$f":"SUM(P396:AG396)","v":0},{"$f":"O396-AH396","v":0},null,{"$f":"AI396-AJ396","v":0},null,null,{"$f":"IF(SUM(Main!N396,Main!S396)>0,1,\"\")","v":""}]
[{"$f":"IF(AN397=\"\",\"\",SUM($AN$4:AN397))","v":""},{"$f":"IF(AN397=\"\",\"\",Main!B397)","v":""},{"$f":"IF(AN397=\"\",\"\",Main!C397)","v":""},{"$f":"IF(AN397=\"\",\"\",Main!D397)","v":""},{"$f":"IF(AN397=\"\",\"\",Main!E397)","v":""},null,null,null,null,null,null,null,{"$f":"IF(AN397=\"\",\"\",SUM(Main!N397,Main!S397))","v":""},null,0,null,null,null,null,null,null,null,null,null,null,null,null,null,null,null,null,null,null,0,0,null,0,null,null,{"$f":"IF(SUM(Main!N397,Main!S397)>0,1,\"\")","v":""}]
[{"$f":"IF(AN398=\"\",\"\",SUM($AN$4:AN398))","v":""},{"$f":"IF(AN398=\"\",\"\",Main!B398)","v":""},{"$f":"IF(AN398=\"\",\"\",Main!C398)","v":""},{"$f":"IF(AN398=\"\",\"\",Main!D398)","v":""},{"$f":"IF(AN398=\"\",\"\",Main!E398)","v":""},null,null,null,null,null,null,null,{"$f":"IF(AN398=\"\",\"\",SUM(Main!N398,Main!S398))","v":""},null,0,null,null,null,null,null,null,null,null,null,null,null,null,null,null,null,null,null,null,0,0,null,0,null,null,{"$f":"IF(SUM(Main!N398,Main!S398)>0,1,\"\")","v":""}]
[{"$f":"IF(AN399=\"\",\"\",SUM($AN$4:AN399))","v":""},{"$f":"IF(AN399=\"\",\"\",Main!B399)","v":""},{"$f":"IF(AN399=\"\",\"\",Main!C399)","v":""},{"$f":"IF(AN399=\"\",\"\",Main!D399)","v":""},{"$f":"IF(AN399=\"\",\"\",Main!E399)","v":""},null,null,null,null,null,null,null,{"$f":"IF(AN399=\"\",\"\",SUM(Main!N399,Main!S399))","v":""},null,0,null,null,null,null,null,null,null,null,null,null,null,null,null,null,null,null,null,null,0,0,null,0,null,null,{"$f":"IF(SUM(Main!N399,Main!S399)>0,1,\"\")","v":""}]
[{"$f":"IF(AN400=\"\",\"\",SUM($AN$4:AN400))","v":""},{"$f":"IF(AN400=\"\",\"\",Main!B400)","v":""},{"$f":"IF(AN400=\"\",\"\",Main!C400)","v":""},{"$f":"IF(AN400=\"\",\"\",Main!D400)","v":""},{"$f":"IF(AN400=\"\",\"\",Main!E400)","v":""},null,null,null,null,null,null,null,{"$f":"IF(AN400=\"\",\"\",SUM(Main!N400,Main!S400))","v":""},null,0,null,null,null,null,null,null,null,null,null,null,null,null,null,null,null,null,null,null,0,0,null,0,null,null,{"$f":"IF(SUM(Main!N400,Main!S400)>0,1,\"\")","v":""}]
[{"$f":"IF(AN401=\"\",\"\",SUM($AN$4:AN401))","v":""},{"$f":"IF(AN401=\"\",\"\",Main!B401)","v":""},{"$f":"IF(AN401=\"\",\"\",Main!C401)","v":""},{"$f":"IF(AN401=\"\",\"\",Main!D401)","v":""},{"$f":"IF(AN401=\"\",\"\",Main!E401)","v":""},null,null,null,null,null,null,null,{"$f":"IF(AN401=\"\",\"\",SUM(Main!N401,Main!S401))","v":""},null,0,null,null,null,null,null,null,null,null,null,null,null,null,null,null,null,null,null,null,0,0,null,0,null,null,{"$f":"IF(SUM(Main!N401,Main!S401)>0,1,\"\")","v":""}]
[{"$f":"IF(AN402=\"\",\"\",SUM($AN$4:AN402))","v":""},{"$f":"IF(AN402=\"\",\"\",Main!B402)","v":""},{"$f":"IF(AN402=\"\",\"\",Main!C402)","v":""},{"$f":"IF(AN402=\"\",\"\",Main!D402)","v":""},{"$f":"IF(AN402=\"\",\"\",Main!E402)","v":""},null,null,null,null,null,null,null,{"$f":"IF(AN402=\"\",\"\",SUM(Main!N402,Main!S402))","v":""},null,0,null,null,null,null,null,null,null,null,null,null,null,null,null,null,null,null,null,null,0,0,null,0,null,null,{"$f":"IF(SUM(Main!N402,Main!S402)>0,1,\"\")","v":""}]
[{"$f":"IF(AN403=\"\",\"\",SUM($AN$4:AN403))","v":""},{"$f":"IF(AN403=\"\",\"\",Main!B403)","v":""},{"$f":"IF(AN403=\"\",\"\",Main!C403)","v":""},{"$f":"IF(AN403=\"\",\"\",Main!D403)","v":""},{"$f":"IF(AN403=\"\",\"\",Main!E403)","v":""},null,null,null,null,null,null,null,{"$f":"IF(AN403=\"\",\"\",SUM(Main!N403,Main!S403))","v":""},null,0,null,null,null,null,null,null,null,null,null,null,null,null,null,null,null,null,null,null,0,0,null,0,null,null,{"$f":"IF(SUM(Main!N403,Main!S403)>0,1,\"\")","v":""}]
[{"$f":"IF(AN404=\"\",\"\",SUM($AN$4:AN404))","v":""},{"$f":"IF(AN404=\"\",\"\",Main!B404)","v":""},{"$f":"IF(AN404=\"\",\"\",Main!C404)","v":""},{"$f":"IF(AN404=\"\",\"\",Main!D404)","v":""},{"$f":"IF(AN404=\"\",\"\",Main!E404)","v":""},null,null,null,null,null,null,null,{"$f":"IF(AN404=\"\",\"\",SUM(Main!N404,Main!S404))","v":""},null,0,null,null,null,null,null,null,null,null,null,null,null,null,null,null,null,null,null,null,0,0,null,0,null,null,{"$f":"IF(SUM(Main!N404,Main!S404)>0,1,\"\")","v":""}]
[{"$f":"IF(AN405=\"\",\"\",SUM($AN$4:AN405))","v":""},{"$f":"IF(AN405=\"\",\"\",Main!B405)","v":""},{"$f":"IF(AN405=\"\",\"\",Main!C405)","v":""},{"$f":"IF(AN405=\"\",\"\",Main!D405)","v":""},{"$f":"IF(AN405=\"\",\"\",Main!E405)","v":""},null,null,null,null,null,null,null,{"$f":"IF(AN405=\"\",\"\",SUM(Main!N405,Main!S405))","v":""},null,0,null,null,null,null,null,null,null,null,null,null,null,null,null,null,null,null,null,null,0,0,null,0,null,null,{"$f":"IF(SUM(Main!N405,Main!S405)>0,1,\"\")","v":""}]
[{"$f":"IF(AN406=\"\",\"\",SUM($AN$4:AN406))","v":""},{"$f":"IF(AN406=\"\",\"\",Main!B406)","v":""},{"$f":"IF(AN406=\"\",\"\",Main!C406)","v":""},{"$f":"IF(AN406=\"\",\"\",Main!D406)","v":""},{"$f":"IF(AN406=\"\",\"\",Main!E406)","v":""},null,null,null,null,null,null,null,{"$f":"IF(AN406=\"\",\"\",SUM(Main!N406,Main!S406))","v":""},null,0,null,null,null,null,null,null,null,null,null,null,null,null,null,null,null,null,null,null,0,0,null,0,null,null,{"$f":"IF(SUM(Main!N406,Main!S406)>0,1,\"\")","v":""}]
[{"$f":"IF(AN407=\"\",\"\",SUM($AN$4:AN407))","v":""},{"$f":"IF(AN407=\"\",\"\",Main!B407)","v":""},{"$f":"IF(AN407=\"\",\"\",Main!C407)","v":""},{"$f":"IF(AN407=\"\",\"\",Main!D407)","v":""},{"$f":"IF(AN407=\"\",\"\",Main!E407)","v":""},null,null,null,null,null,null,null,{"$f":"IF(AN407=\"\",\"\",SUM(Main!N407,Main!S407))","v":""},null,0,null,null,null,null,null,null,null,null,null,null,null,null,null,null,null,null,null,null,0,0,null,0,null,null,{"$f":"IF(SUM(Main!N407,Main!S407)>0,1,\"\")","v":""}]
[{"$f":"IF(AN408=\"\",\"\",SUM($AN$4:AN408))","v":""},{"$f":"IF(AN408=\"\",\"\",Main!B408)","v":""},{"$f":"IF(AN408=\"\",\"\",Main!C408)","v":""},{"$f":"IF(AN408=\"\",\"\",Main!D408)","v":""},{"$f":"IF(AN408=\"\",\"\",Main!E408)","v":""},null,null,null,null,null,null,null,{"$f":"IF(AN408=\"\",\"\",SUM(Main!N408,Main!S408))","v":""},null,0,null,null,null,null,null,null,null,null,null,null,null,null,null,null,null,null,null,null,0,0,null,0,null,null,{"$f":"IF(SUM(Main!N408,Main!S408)>0,1,\"\")","v":""}]
[{"$f":"IF(AN409=\"\",\"\",SUM($AN$4:AN409))","v":""},{"$f":"IF(AN409=\"\",\"\",Main!B409)","v":""},{"$f":"IF(AN409=\"\",\"\",Main!C409)","v":""},{"$f":"IF(AN409=\"\",\"\",Main!D409)","v":""},{"$f":"IF(AN409=\"\",\"\",Main!E409)","v":""},null,null,null,null,null,null,null,{"$f":"IF(AN409=\"\",\"\",SUM(Main!N409,Main!S409))","v":""},null,0,null,null,null,null,null,null,null,null,null,null,null,null,null,null,null,null,null,null,0,0,null,0,null,null,{"$f":"IF(SUM(Main!N409,Main!S409)>0,1,\"\")","v":""}]
[{"$f":"IF(AN410=\"\",\"\",SUM($AN$4:AN410))","v":""},{"$f":"IF(AN410=\"\",\"\",Main!B410)","v":""},{"$f":"IF(AN410=\"\",\"\",Main!C410)","v":""},{"$f":"IF(AN410=\"\",\"\",Main!D410)","v":""},{"$f":"IF(AN410=\"\",\"\",Main!E410)","v":""},null,null,null,null,null,null,null,{"$f":"IF(AN410=\"\",\"\",SUM(Main!N410,Main!S410))","v":""},null,0,null,null,null,null,null,null,null,null,null,null,null,null,null,null,null,null,null,null,0,0,null,0,null,null,{"$f":"IF(SUM(Main!N410,Main!S410)>0,1,\"\")","v":""}]
[{"$f":"IF(AN411=\"\",\"\",SUM($AN$4:AN411))","v":""},{"$f":"IF(AN411=\"\",\"\",Main!B411)","v":""},{"$f":"IF(AN411=\"\",\"\",Main!C411)","v":""},{"$f":"IF(AN411=\"\",\"\",Main!D411)","v":""},{"$f":"IF(AN411=\"\",\"\",Main!E411)","v":""},null,null,null,null,null,null,null,{"$f":"IF(AN411=\"\",\"\",SUM(Main!N411,Main!S411))","v":""},null,0,null,null,null,null,null,null,null,null,null,null,null,null,null,null,null,null,null,null,0,0,null,0,null,null,{"$f":"IF(SUM(Main!N411,Main!S411)>0,1,\"\")","v":""}]
[{"$f":"IF(AN412=\"\",\"\",SUM($AN$4:AN412))","v":""},{"$f":"IF(AN412=\"\",\"\",Main!B412)","v":""},{"$f":"IF(AN412=\"\",\"\",Main!C412)","v":""},{"$f":"IF(AN412=\"\",\"\",Main!D412)","v":""},{"$f":"IF(AN412=\"\",\"\",Main!E412)","v":""},null,null,null,null,null,null,null,{"$f":"IF(AN412=\"\",\"\",SUM(Main!N412,Main!S412))","v":""},null,0,null,null,null,null,null,null,null,null,null,null,null,null,null,null,null,null,null,null,0,0,null,0,null,null,{"$f":"IF(SUM(Main!N412,Main!S412)>0,1,\"\")","v":""}]
[{"$f":"IF(AN413=\"\",\"\",SUM($AN$4:AN413))","v":""},{"$f":"IF(AN413=\"\",\"\",Main!B413)","v":""},{"$f":"IF(AN413=\"\",\"\",Main!C413)","v":""},{"$f":"IF(AN413=\"\",\"\",Main!D413)","v":""},{"$f":"IF(AN413=\"\",\"\",Main!E413)","v":""},null,null,null,null,null,null,null,{"$f":"IF(AN413=\"\",\"\",SUM(Main!N413,Main!S413))","v":""},null,0,null,null,null,null,null,null,null,null,null,null,null,null,null,null,null,null,null,null,0,0,null,0,null,null,{"$f":"IF(SUM(Main!N413,Main!S413)>0,1,\"\")","v":""}]
[{"$f":"IF(AN414=\"\",\"\",SUM($AN$4:AN414))","v":""},{"$f":"IF(AN414=\"\",\"\",Main!B414)","v":""},{"$f":"IF(AN414=\"\",\"\",Main!C414)","v":""},{"$f":"IF(AN414=\"\",\"\",Main!D414)","v":""},{"$f":"IF(AN414=\"\",\"\",Main!E414)","v":""},null,null,null,null,null,null,null,{"$f":"IF(AN414=\"\",\"\",SUM(Main!N414,Main!S414))","v":""},null,0,null,null,null,null,null,null,null,null,null,null,null,null,null,null,null,null,null,null,0,0,null,0,null,null,{"$f":"IF(SUM(Main!N414,Main!S414)>0,1,\"\")","v":""}]
[{"$f":"IF(AN415=\"\",\"\",SUM($AN$4:AN415))","v":""},{"$f":"IF(AN415=\"\",\"\",Main!B415)","v":""},{"$f":"IF(AN415=\"\",\"\",Main!C415)","v":""},{"$f":"IF(AN415=\"\",\"\",Main!D415)","v":""},{"$f":"IF(AN415=\"\",\"\",Main!E415)","v":""},null,null,null,null,null,null,null,{"$f":"IF(AN415=\"\",\"\",SUM(Main!N415,Main!S415))","v":""},null,0,null,null,null,null,null,null,null,null,null,null,null,null,null,null,null,null,null,null,0,0,null,0,null,null,{"$f":"IF(SUM(Main!N415,Main!S415)>0,1,\"\")","v":""}]
[{"$f":"IF(AN416=\"\",\"\",SUM($AN$4:AN416))","v":""},{"$f":"IF(AN416=\"\",\"\",Main!B416)","v":""},{"$f":"IF(AN416=\"\",\"\",Main!C416)","v":""},{"$f":"IF(AN416=\"\",\"\",Main!D416)","v":""},{"$f":"IF(AN416=\"\",\"\",Main!E416)","v":""},null,null,null,null,null,null,null,{"$f":"IF(AN416=\"\",\"\",SUM(Main!N416,Main!S416))","v":""},null,0,null,null,null,null,null,null,null,null,null,null,null,null,null,null,null,null,null,null,0,0,null,0,null,null,{"$f":"IF(SUM(Main!N416,Main!S416)>0,1,\"\")","v":""}]
[{"$f":"IF(AN417=\"\",\"\",SUM($AN$4:AN417))","v":""},{"$f":"IF(AN417=\"\",\"\",Main!B417)","v":""},{"$f":"IF(AN417=\"\",\"\",Main!C417)","v":""},{"$f":"IF(AN417=\"\",\"\",Main!D417)","v":""},{"$f":"IF(AN417=\"\",\"\",Main!E417)","v":""},null,null,null,null,null,null,null,{"$f":"IF(AN417=\"\",\"\",SUM(Main!N417,Main!S417))","v":""},null,0,null,null,null,null,null,null,null,null,null,null,null,null,null,null,null,null,null,null,0,0,null,0,null,null,{"$f":"IF(SUM(Main!N417,Main!S417)>0,1,\"\")","v":""}]
[{"$f":"IF(AN418=\"\",\"\",SUM($AN$4:AN418))","v":""},{"$f":"IF(AN418=\"\",\"\",Main!B418)","v":""},{"$f":"IF(AN418=\"\",\"\",Main!C418)","v":""},{"$f":"IF(AN418=\"\",\"\",Main!D418)","v":""},{"$f":"IF(AN418=\"\",\"\",Main!E418)","v":""},null,null,null,null,null,null,null,{"$f":"IF(AN418=\"\",\"\",SUM(Main!N418,Main!S418))","v":""},null,0,null,null,null,null,null,null,null,null,null,null,null,null,null,null,null,null,null,null,0,0,null,0,null,null,{"$f":"IF(SUM(Main!N418,Main!S418)>0,1,\"\")","v":""}]
[{"$f":"IF(AN419=\"\",\"\",SUM($AN$4:AN419))","v":""},{"$f":"IF(AN419=\"\",\"\",Main!B419)","v":""},{"$f":"IF(AN419=\"\",\"\",Main!C419)","v":""},{"$f":"IF(AN419=\"\",\"\",Main!D419)","v":""},{"$f":"IF(AN419=\"\",\"\",Main!E419)","v":""},null,null,null,null,null,null,null,{"$f":"IF(AN419=\"\",\"\",SUM(Main!N419,Main!S419))","v":""},null,0,null,null,null,null,null,null,null,null,null,null,null,null,null,null,null,null,null,null,0,0,null,0,null,null,{"$f":"IF(SUM(Main!N419,Main!S419)>0,1,\"\")","v":""}]
[{"$f":"IF(AN420=\"\",\"\",SUM($AN$4:AN420))","v":""},{"$f":"IF(AN420=\"\",\"\",Main!B420)","v":""},{"$f":"IF(AN420=\"\",\"\",Main!C420)","v":""},{"$f":"IF(AN420=\"\",\"\",Main!D420)","v":""},{"$f":"IF(AN420=\"\",\"\",Main!E420)","v":""},null,null,null,null,null,null,null,{"$f":"IF(AN420=\"\",\"\",SUM(Main!N420,Main!S420))","v":""},null,0,null,null,null,null,null,null,null,null,null,null,null,null,null,null,null,null,null,null,0,0,null,0,null,null,{"$f":"IF(SUM(Main!N420,Main!S420)>0,1,\"\")","v":""}]
[{"$f":"IF(AN421=\"\",\"\",SUM($AN$4:AN421))","v":""},{"$f":"IF(AN421=\"\",\"\",Main!B421)","v":""},{"$f":"IF(AN421=\"\",\"\",Main!C421)","v":""},{"$f":"IF(AN421=\"\",\"\",Main!D421)","v":""},{"$f":"IF(AN421=\"\",\"\",Main!E421)","v":""},null,null,null,null,null,null,null,{"$f":"IF(AN421=\"\",\"\",SUM(Main!N421,Main!S421))","v":""},null,0,null,null,null,null,null,null,null,null,null,null,null,null,null,null,null,null,null,null,0,0,null,0,null,null,{"$f":"IF(SUM(Main!N421,Main!S421)>0,1,\"\")","v":""}]
[{"$f":"IF(AN422=\"\",\"\",SUM($AN$4:AN422))","v":""},{"$f":"IF(AN422=\"\",\"\",Main!B422)","v":""},{"$f":"IF(AN422=\"\",\"\",Main!C422)","v":""},{"$f":"IF(AN422=\"\",\"\",Main!D422)","v":""},{"$f":"IF(AN422=\"\",\"\",Main!E422)","v":""},null,null,null,null,null,null,null,{"$f":"IF(AN422=\"\",\"\",SUM(Main!N422,Main!S422))","v":""},null,0,null,null,null,null,null,null,null,null,null,null,null,null,null,null,null,null,null,null,0,0,null,0,null,null,{"$f":"IF(SUM(Main!N422,Main!S422)>0,1,\"\")","v":""}]
[{"$f":"IF(AN423=\"\",\"\",SUM($AN$4:AN423))","v":""},{"$f":"IF(AN423=\"\",\"\",Main!B423)","v":""},{"$f":"IF(AN423=\"\",\"\",Main!C423)","v":""},{"$f":"IF(AN423=\"\",\"\",Main!D423)","v":""},{"$f":"IF(AN423=\"\",\"\",Main!E423)","v":""},null,null,null,null,null,null,null,{"$f":"IF(AN423=\"\",\"\",SUM(Main!N423,Main!S423))","v":""},null,0,null,null,null,null,null,null,null,null,null,null,null,null,null,null,null,null,null,null,0,0,null,0,null,null,{"$f":"IF(SUM(Main!N423,Main!S423)>0,1,\"\")","v":""}]
[{"$f":"IF(AN424=\"\",\"\",SUM($AN$4:AN424))","v":""},{"$f":"IF(AN424=\"\",\"\",Main!B424)","v":""},{"$f":"IF(AN424=\"\",\"\",Main!C424)","v":""},{"$f":"IF(AN424=\"\",\"\",Main!D424)","v":""},{"$f":"IF(AN424=\"\",\"\",Main!E424)","v":""},null,null,null,null,null,null,null,{"$f":"IF(AN424=\"\",\"\",SUM(Main!N424,Main!S424))","v":""},null,0,null,null,null,null,null,null,null,null,null,null,null,null,null,null,null,null,null,null,0,0,null,0,null,null,{"$f":"IF(SUM(Main!N424,Main!S424)>0,1,\"\")","v":""}]
[{"$f":"IF(AN425=\"\",\"\",SUM($AN$4:AN425))","v":""},{"$f":"IF(AN425=\"\",\"\",Main!B425)","v":""},{"$f":"IF(AN425=\"\",\"\",Main!C425)","v":""},{"$f":"IF(AN425=\"\",\"\",Main!D425)","v":""},{"$f":"IF(AN425=\"\",\"\",Main!E425)","v":""},null,null,null,null,null,null,null,{"$f":"IF(AN425=\"\",\"\",SUM(Main!N425,Main!S425))","v":""},null,0,null,null,null,null,null,null,null,null,null,null,null,null,null,null,null,null,null,null,0,0,null,0,null,null,{"$f":"IF(SUM(Main!N425,Main!S425)>0,1,\"\")","v":""}]
[{"$f":"IF(AN426=\"\",\"\",SUM($AN$4:AN426))","v":""},{"$f":"IF(AN426=\"\",\"\",Main!B426)","v":""},{"$f":"IF(AN426=\"\",\"\",Main!C426)","v":""},{"$f":"IF(AN426=\"\",\"\",Main!D426)","v":""},{"$f":"IF(AN426=\"\",\"\",Main!E426)","v":""},null,null,null,null,null,null,null,{"$f":"IF(AN426=\"\",\"\",SUM(Main!N426,Main!S426))","v":""},null,0,null,null,null,null,null,null,null,null,null,null,null,null,null,null,null,null,null,null,0,0,null,0,null,null,{"$f":"IF(SUM(Main!N426,Main!S426)>0,1,\"\")","v":""}]
[{"$f":"IF(AN427=\"\",\"\",SUM($AN$4:AN427))","v":""},{"$f":"IF(AN427=\"\",\"\",Main!B427)","v":""},{"$f":"IF(AN427=\"\",\"\",Main!C427)","v":""},{"$f":"IF(AN427=\"\",\"\",Main!D427)","v":""},{"$f":"IF(AN427=\"\",\"\",Main!E427)","v":""},null,null,null,null,null,null,null,{"$f":"IF(AN427=\"\",\"\",SUM(Main!N427,Main!S427))","v":""},null,0,null,null,null,null,null,null,null,null,null,null,null,null,null,null,null,null,null,null,0,0,null,0,null,null,{"$f":"IF(SUM(Main!N427,Main!S427)>0,1,\"\")","v":""}]
[{"$f":"IF(AN428=\"\",\"\",SUM($AN$4:AN428))","v":""},{"$f":"IF(AN428=\"\",\"\",Main!B428)","v":""},{"$f":"IF(AN428=\"\",\"\",Main!C428)","v":""},{"$f":"IF(AN428=\"\",\"\",Main!D428)","v":""},{"$f":"IF(AN428=\"\",\"\",Main!E428)","v":""},null,null,null,null,null,null,null,{"$f":"IF(AN428=\"\",\"\",SUM(Main!N428,Main!S428))","v":""},null,0,null,null,null,null,null,null,null,null,null,null,null,null,null,null,null,null,null,null,0,0,null,0,null,null,{"$f":"IF(SUM(Main!N428,Main!S428)>0,1,\"\")","v":""}]
[{"$f":"IF(AN429=\"\",\"\",SUM($AN$4:AN429))","v":""},{"$f":"IF(AN429=\"\",\"\",Main!B429)","v":""},{"$f":"IF(AN429=\"\",\"\",Main!C429)","v":""},{"$f":"IF(AN429=\"\",\"\",Main!D429)","v":""},{"$f":"IF(AN429=\"\",\"\",Main!E429)","v":""},null,null,null,null,null,null,null,{"$f":"IF(AN429=\"\",\"\",SUM(Main!N429,Main!S429))","v":""},null,0,null,null,null,null,null,null,null,null,null,null,null,null,null,null,null,null,null,null,0,0,null,0,null,null,{"$f":"IF(SUM(Main!N429,Main!S429)>0,1,\"\")","v":""}]
[{"$f":"IF(AN430=\"\",\"\",SUM($AN$4:AN430))","v":""},{"$f":"IF(AN430=\"\",\"\",Main!B430)","v":""},{"$f":"IF(AN430=\"\",\"\",Main!C430)","v":""},{"$f":"IF(AN430=\"\",\"\",Main!D430)","v":""},{"$f":"IF(AN430=\"\",\"\",Main!E430)","v":""},null,null,null,null,null,null,null,{"$f":"IF(AN430=\"\",\"\",SUM(Main!N430,Main!S430))","v":""},null,0,null,null,null,null,null,null,null,null,null,null,null,null,null,null,null,null,null,null,0,0,null,0,null,null,{"$f":"IF(SUM(Main!N430,Main!S430)>0,1,\"\")","v":""}]
[{"$f":"IF(AN431=\"\",\"\",SUM($AN$4:AN431))","v":""},{"$f":"IF(AN431=\"\",\"\",Main!B431)","v":""},{"$f":"IF(AN431=\"\",\"\",Main!C431)","v":""},{"$f":"IF(AN431=\"\",\"\",Main!D431)","v":""},{"$f":"IF(AN431=\"\",\"\",Main!E431)","v":""},null,null,null,null,null,null,null,{"$f":"IF(AN431=\"\",\"\",SUM(Main!N431,Main!S431))","v":""},null,0,null,null,null,null,null,null,null,null,null,null,null,null,null,null,null,null,null,null,0,0,null,0,null,null,{"$f":"IF(SUM(Main!N431,Main!S431)>0,1,\"\")","v":""}]
[{"$f":"IF(AN432=\"\",\"\",SUM($AN$4:AN432))","v":""},{"$f":"IF(AN432=\"\",\"\",Main!B432)","v":""},{"$f":"IF(AN432=\"\",\"\",Main!C432)","v":""},{"$f":"IF(AN432=\"\",\"\",Main!D432)","v":""},{"$f":"IF(AN432=\"\",\"\",Main!E432)","v":""},null,null,null,null,null,null,null,{"$f":"IF(AN432=\"\",\"\",SUM(Main!N432,Main!S432))","v":""},null,0,null,null,null,null,null,null,null,null,null,null,null,null,null,null,null,null,null,null,0,0,null,0,null,null,{"$f":"IF(SUM(Main!N432,Main!S432)>0,1,\"\")","v":""}]
[{"$f":"IF(AN433=\"\",\"\",SUM($AN$4:AN433))","v":""},{"$f":"IF(AN433=\"\",\"\",Main!B433)","v":""},{"$f":"IF(AN433=\"\",\"\",Main!C433)","v":""},{"$f":"IF(AN433=\"\",\"\",Main!D433)","v":""},{"$f":"IF(AN433=\"\",\"\",Main!E433)","v":""},null,null,null,null,null,null,null,{"$f":"IF(AN433=\"\",\"\",SUM(Main!N433,Main!S433))","v":""},null,0,null,null,null,null,null,null,null,null,null,null,null,null,null,null,null,null,null,null,0,0,null,0,null,null,{"$f":"IF(SUM(Main!N433,Main!S433)>0,1,\"\")","v":""}]
[{"$f":"IF(AN434=\"\",\"\",SUM($AN$4:AN434))","v":""},{"$f":"IF(AN434=\"\",\"\",Main!B434)","v":""},{"$f":"IF(AN434=\"\",\"\",Main!C434)","v":""},{"$f":"IF(AN434=\"\",\"\",Main!D434)","v":""},{"$f":"IF(AN434=\"\",\"\",Main!E434)","v":""},null,null,null,null,null,null,null,{"$f":"IF(AN434=\"\",\"\",SUM(Main!N434,Main!S434))","v":""},null,0,null,null,null,null,null,null,null,null,null,null,null,null,null,null,null,null,null,null,0,0,null,0,null,null,{"$f":"IF(SUM(Main!N434,Main!S434)>0,1,\"\")","v":""}]
[{"$f":"IF(AN435=\"\",\"\",SUM($AN$4:AN435))","v":""},{"$f":"IF(AN435=\"\",\"\",Main!B435)","v":""},{"$f":"IF(AN435=\"\",\"\",Main!C435)","v":""},{"$f":"IF(AN435=\"\",\"\",Main!D435)","v":""},{"$f":"IF(AN435=\"\",\"\",Main!E435)","v":""},null,null,null,null,null,null,null,{"$f":"IF(AN435=\"\",\"\",SUM(Main!N435,Main!S435))","v":""},null,0,null,null,null,null,null,null,null,null,null,null,null,null,null,null,null,null,null,null,0,0,null,0,null,null,{"$f":"IF(SUM(Main!N435,Main!S435)>0,1,\"\")","v":""}]
[{"$f":"IF(AN436=\"\",\"\",SUM($AN$4:AN436))","v":""},{"$f":"IF(AN436=\"\",\"\",Main!B436)","v":""},{"$f":"IF(AN436=\"\",\"\",Main!C436)","v":""},{"$f":"IF(AN436=\"\",\"\",Main!D436)","v":""},{"$f":"IF(AN436=\"\",\"\",Main!E436)","v":""},null,null,null,null,null,null,null,{"$f":"IF(AN436=\"\",\"\",SUM(Main!N436,Main!S436))","v":""},null,0,null,null,null,null,null,null,null,null,null,null,null,null,null,null,null,null,null,null,0,0,null,0,null,null,{"$f":"IF(SUM(Main!N436,Main!S436)>0,1,\"\")","v":""}]
[{"$f":"IF(AN437=\"\",\"\",SUM($AN$4:AN437))","v":""},{"$f":"IF(AN437=\"\",\"\",Main!B437)","v":""},{"$f":"IF(AN437=\"\",\"\",Main!C437)","v":""},{"$f":"IF(AN437=\"\",\"\",Main!D437)","v":""},{"$f":"IF(AN437=\"\",\"\",Main!E437)","v":""},null,null,null,null,null,null,null,{"$f":"IF(AN437=\"\",\"\",SUM(Main!N437,Main!S437))","v":""},null,0,null,null,null,null,null,null,null,null,null,null,null,null,null,null,null,null,null,null,0,0,null,0,null,null,{"$f":"IF(SUM(Main!N437,Main!S437)>0,1,\"\")","v":""}]
[{"$f":"IF(AN438=\"\",\"\",SUM($AN$4:AN438))","v":""},{"$f":"IF(AN438=\"\",\"\",Main!B438)","v":""},{"$f":"IF(AN438=\"\",\"\",Main!C438)","v":""},{"$f":"IF(AN438=\"\",\"\",Main!D438)","v":""},{"$f":"IF(AN438=\"\",\"\",Main!E438)","v":""},null,null,null,null,null,null,null,{"$f":"IF(AN438=\"\",\"\",SUM(Main!N438,Main!S438))","v":""},null,0,null,null,null,null,null,null,null,null,null,null,null,null,null,null,null,null,null,null,0,0,null,0,null,null,{"$f":"IF(SUM(Main!N438,Main!S438)>0,1,\"\")","v":""}]
[{"$f":"IF(AN439=\"\",\"\",SUM($AN$4:AN439))","v":""},{"$f":"IF(AN439=\"\",\"\",Main!B439)","v":""},{"$f":"IF(AN439=\"\",\"\",Main!C439)","v":""},{"$f":"IF(AN439=\"\",\"\",Main!D439)","v":""},{"$f":"IF(AN439=\"\",\"\",Main!E439)","v":""},null,null,null,null,null,null,null,{"$f":"IF(AN439=\"\",\"\",SUM(Main!N439,Main!S439))","v":""},null,0,null,null,null,null,null,null,null,null,null,null,null,null,null,null,null,null,null,null,0,0,null,0,null,null,{"$f":"IF(SUM(Main!N439,Main!S439)>0,1,\"\")","v":""}]
[{"$f":"IF(AN440=\"\",\"\",SUM($AN$4:AN440))","v":""},{"$f":"IF(AN440=\"\",\"\",Main!B440)","v":""},{"$f":"IF(AN440=\"\",\"\",Main!C440)","v":""},{"$f":"IF(AN440=\"\",\"\",Main!D440)","v":""},{"$f":"IF(AN440=\"\",\"\",Main!E440)","v":""},null,null,null,null,null,null,null,{"$f":"IF(AN440=\"\",\"\",SUM(Main!N440,Main!S440))","v":""},null,0,null,null,null,null,null,null,null,null,null,null,null,null,null,null,null,null,null,null,0,0,null,0,null,null,{"$f":"IF(SUM(Main!N440,Main!S440)>0,1,\"\")","v":""}]
[{"$f":"IF(AN441=\"\",\"\",SUM($AN$4:AN441))","v":""},{"$f":"IF(AN441=\"\",\"\",Main!B441)","v":""},{"$f":"IF(AN441=\"\",\"\",Main!C441)","v":""},{"$f":"IF(AN441=\"\",\"\",Main!D441)","v":""},{"$f":"IF(AN441=\"\",\"\",Main!E441)","v":""},null,null,null,null,null,null,null,{"$f":"IF(AN441=\"\",\"\",SUM(Main!N441,Main!S441))","v":""},null,0,null,null,null,null,null,null,null,null,null,null,null,null,null,null,null,null,null,null,0,0,null,0,null,null,{"$f":"IF(SUM(Main!N441,Main!S441)>0,1,\"\")","v":""}]
[{"$f":"IF(AN442=\"\",\"\",SUM($AN$4:AN442))","v":""},{"$f":"IF(AN442=\"\",\"\",Main!B442)","v":""},{"$f":"IF(AN442=\"\",\"\",Main!C442)","v":""},{"$f":"IF(AN442=\"\",\"\",Main!D442)","v":""},{"$f":"IF(AN442=\"\",\"\",Main!E442)","v":""},null,null,null,null,null,null,null,{"$f":"IF(AN442=\"\",\"\",SUM(Main!N442,Main!S442))","v":""},null,0,null,null,null,null,null,null,null,null,null,null,null,null,null,null,null,null,null,null,0,0,null,0,null,null,{"$f":"IF(SUM(Main!N442,Main!S442)>0,1,\"\")","v":""}]
[{"$f":"IF(AN443=\"\",\"\",SUM($AN$4:AN443))","v":""},{"$f":"IF(AN443=\"\",\"\",Main!B443)","v":""},{"$f":"IF(AN443=\"\",\"\",Main!C443)","v":""},{"$f":"IF(AN443=\"\",\"\",Main!D443)","v":""},{"$f":"IF(AN443=\"\",\"\",Main!E443)","v":""},null,null,null,null,null,null,null,{"$f":"IF(AN443=\"\",\"\",SUM(Main!N443,Main!S443))","v":""},null,0,null,null,null,null,null,null,null,null,null,null,null,null,null,null,null,null,null,null,0,0,null,0,null,null,{"$f":"IF(SUM(Main!N443,Main!S443)>0,1,\"\")","v":""}]
[{"$f":"IF(AN444=\"\",\"\",SUM($AN$4:AN444))","v":""},{"$f":"IF(AN444=\"\",\"\",Main!B444)","v":""},{"$f":"IF(AN444=\"\",\"\",Main!C444)","v":""},{"$f":"IF(AN444=\"\",\"\",Main!D444)","v":""},{"$f":"IF(AN444=\"\",\"\",Main!E444)","v":""},null,null,null,null,null,null,null,{"$f":"IF(AN444=\"\",\"\",SUM(Main!N444,Main!S444))","v":""},null,0,null,null,null,null,null,null,null,null,null,null,null,null,null,null,null,null,null,null,0,0,null,0,null,null,{"$f":"IF(SUM(Main!N444,Main!S444)>0,1,\"\")","v":""}]
[{"$f":"IF(AN445=\"\",\"\",SUM($AN$4:AN445))","v":""},{"$f":"IF(AN445=\"\",\"\",Main!B445)","v":""},{"$f":"IF(AN445=\"\",\"\",Main!C445)","v":""},{"$f":"IF(AN445=\"\",\"\",Main!D445)","v":""},{"$f":"IF(AN445=\"\",\"\",Main!E445)","v":""},null,null,null,null,null,null,null,{"$f":"IF(AN445=\"\",\"\",SUM(Main!N445,Main!S445))","v":""},null,0,null,null,null,null,null,null,null,null,null,null,null,null,null,null,null,null,null,null,0,0,null,0,null,null,{"$f":"IF(SUM(Main!N445,Main!S445)>0,1,\"\")","v":""}]
[{"$f":"IF(AN446=\"\",\"\",SUM($AN$4:AN446))","v":""},{"$f":"IF(AN446=\"\",\"\",Main!B446)","v":""},{"$f":"IF(AN446=\"\",\"\",Main!C446)","v":""},{"$f":"IF(AN446=\"\",\"\",Main!D446)","v":""},{"$f":"IF(AN446=\"\",\"\",Main!E446)","v":""},null,null,null,null,null,null,null,{"$f":"IF(AN446=\"\",\"\",SUM(Main!N446,Main!S446))","v":""},null,0,null,null,null,null,null,null,null,null,null,null,null,null,null,null,null,null,null,null,0,0,null,0,null,null,{"$f":"IF(SUM(Main!N446,Main!S446)>0,1,\"\")","v":""}]
[{"$f":"IF(AN447=\"\",\"\",SUM($AN$4:AN447))","v":""},{"$f":"IF(AN447=\"\",\"\",Main!B447)","v":""},{"$f":"IF(AN447=\"\",\"\",Main!C447)","v":""},{"$f":"IF(AN447=\"\",\"\",Main!D447)","v":""},{"$f":"IF(AN447=\"\",\"\",Main!E447)","v":""},null,null,null,null,null,null,null,{"$f":"IF(AN447=\"\",\"\",SUM(Main!N447,Main!S447))","v":""},null,0,null,null,null,null,null,null,null,null,null,null,null,null,null,null,null,null,null,null,0,0,null,0,null,null,{"$f":"IF(SUM(Main!N447,Main!S447)>0,1,\"\")","v":""}]
[{"$f":"IF(AN448=\"\",\"\",SUM($AN$4:AN448))","v":""},{"$f":"IF(AN448=\"\",\"\",Main!B448)","v":""},{"$f":"IF(AN448=\"\",\"\",Main!C448)","v":""},{"$f":"IF(AN448=\"\",\"\",Main!D448)","v":""},{"$f":"IF(AN448=\"\",\"\",Main!E448)","v":""},null,null,null,null,null,null,null,{"$f":"IF(AN448=\"\",\"\",SUM(Main!N448,Main!S448))","v":""},null,0,null,null,null,null,null,null,null,null,null,null,null,null,null,null,null,null,null,null,0,0,null,0,null,null,{"$f":"IF(SUM(Main!N448,Main!S448)>0,1,\"\")","v":""}]
[{"$f":"IF(AN449=\"\",\"\",SUM($AN$4:AN449))","v":""},{"$f":"IF(AN449=\"\",\"\",Main!B449)","v":""},{"$f":"IF(AN449=\"\",\"\",Main!C449)","v":""},{"$f":"IF(AN449=\"\",\"\",Main!D449)","v":""},{"$f":"IF(AN449=\"\",\"\",Main!E449)","v":""},null,null,null,null,null,null,null,{"$f":"IF(AN449=\"\",\"\",SUM(Main!N449,Main!S449))","v":""},null,0,null,null,null,null,null,null,null,null,null,null,null,null,null,null,null,null,null,null,0,0,null,0,null,null,{"$f":"IF(SUM(Main!N449,Main!S449)>0,1,\"\")","v":""}]
[{"$f":"IF(AN450=\"\",\"\",SUM($AN$4:AN450))","v":""},{"$f":"IF(AN450=\"\",\"\",Main!B450)","v":""},{"$f":"IF(AN450=\"\",\"\",Main!C450)","v":""},{"$f":"IF(AN450=\"\",\"\",Main!D450)","v":""},{"$f":"IF(AN450=\"\",\"\",Main!E450)","v":""},null,null,null,null,null,null,null,{"$f":"IF(AN450=\"\",\"\",SUM(Main!N450,Main!S450))","v":""},null,0,null,null,null,null,null,null,null,null,null,null,null,null,null,null,null,null,null,null,0,0,null,0,null,null,{"$f":"IF(SUM(Main!N450,Main!S450)>0,1,\"\")","v":""}]
[{"$f":"IF(AN451=\"\",\"\",SUM($AN$4:AN451))","v":""},{"$f":"IF(AN451=\"\",\"\",Main!B451)","v":""},{"$f":"IF(AN451=\"\",\"\",Main!C451)","v":""},{"$f":"IF(AN451=\"\",\"\",Main!D451)","v":""},{"$f":"IF(AN451=\"\",\"\",Main!E451)","v":""},null,null,null,null,null,null,null,{"$f":"IF(AN451=\"\",\"\",SUM(Main!N451,Main!S451))","v":""},null,0,null,null,null,null,null,null,null,null,null,null,null,null,null,null,null,null,null,null,0,0,null,0,null,null,{"$f":"IF(SUM(Main!N451,Main!S451)>0,1,\"\")","v":""}]
[{"$f":"IF(AN452=\"\",\"\",SUM($AN$4:AN452))","v":""},{"$f":"IF(AN452=\"\",\"\",Main!B452)","v":""},{"$f":"IF(AN452=\"\",\"\",Main!C452)","v":""},{"$f":"IF(AN452=\"\",\"\",Main!D452)","v":""},{"$f":"IF(AN452=\"\",\"\",Main!E452)","v":""},null,null,null,null,null,null,null,{"$f":"IF(AN452=\"\",\"\",SUM(Main!N452,Main!S452))","v":""},null,0,null,null,null,null,null,null,null,null,null,null,null,null,null,null,null,null,null,null,0,0,null,0,null,null,{"$f":"IF(SUM(Main!N452,Main!S452)>0,1,\"\")","v":""}]
[{"$f":"IF(AN453=\"\",\"\",SUM($AN$4:AN453))","v":""},{"$f":"IF(AN453=\"\",\"\",Main!B453)","v":""},{"$f":"IF(AN453=\"\",\"\",Main!C453)","v":""},{"$f":"IF(AN453=\"\",\"\",Main!D453)","v":""},{"$f":"IF(AN453=\"\",\"\",Main!E453)","v":""},null,null,null,null,null,null,null,{"$f":"IF(AN453=\"\",\"\",SUM(Main!N453,Main!S453))","v":""},null,0,null,null,null,null,null,null,null,null,null,null,null,null,null,null,null,null,null,null,0,0,null,0,null,null,{"$f":"IF(SUM(Main!N453,Main!S453)>0,1,\"\")","v":""}]
[{"$f":"IF(AN454=\"\",\"\",SUM($AN$4:AN454))","v":""},{"$f":"IF(AN454=\"\",\"\",Main!B454)","v":""},{"$f":"IF(AN454=\"\",\"\",Main!C454)","v":""},{"$f":"IF(AN454=\"\",\"\",Main!D454)","v":""},{"$f":"IF(AN454=\"\",\"\",Main!E454)","v":""},null,null,null,null,null,null,null,{"$f":"IF(AN454=\"\",\"\",SUM(Main!N454,Main!S454))","v":""},null,0,null,null,null,null,null,null,null,null,null,null,null,null,null,null,null,null,null,null,0,0,null,0,null,null,{"$f":"IF(SUM(Main!N454,Main!S454)>0,1,\"\")","v":""}]
[{"$f":"IF(AN455=\"\",\"\",SUM($AN$4:AN455))","v":""},{"$f":"IF(AN455=\"\",\"\",Main!B455)","v":""},{"$f":"IF(AN455=\"\",\"\",Main!C455)","v":""},{"$f":"IF(AN455=\"\",\"\",Main!D455)","v":""},{"$f":"IF(AN455=\"\",\"\",Main!E455)","v":""},null,null,null,null,null,null,null,{"$f":"IF(AN455=\"\",\"\",SUM(Main!N455,Main!S455))","v":""},null,0,null,null,null,null,null,null,null,null,null,null,null,null,null,null,null,null,null,null,0,0,null,0,null,null,{"$f":"IF(SUM(Main!N455,Main!S455)>0,1,\"\")","v":""}]
[{"$f":"IF(AN456=\"\",\"\",SUM($AN$4:AN456))","v":""},{"$f":"IF(AN456=\"\",\"\",Main!B456)","v":""},{"$f":"IF(AN456=\"\",\"\",Main!C456)","v":""},{"$f":"IF(AN456=\"\",\"\",Main!D456)","v":""},{"$f":"IF(AN456=\"\",\"\",Main!E456)","v":""},null,null,null,null,null,null,null,{"$f":"IF(AN456=\"\",\"\",SUM(Main!N456,Main!S456))","v":""},null,0,null,null,null,null,null,null,null,null,null,null,null,null,null,null,null,null,null,null,0,0,null,0,null,null,{"$f":"IF(SUM(Main!N456,Main!S456)>0,1,\"\")","v":""}]
[{"$f":"IF(AN457=\"\",\"\",SUM($AN$4:AN457))","v":""},{"$f":"IF(AN457=\"\",\"\",Main!B457)","v":""},{"$f":"IF(AN457=\"\",\"\",Main!C457)","v":""},{"$f":"IF(AN457=\"\",\"\",Main!D457)","v":""},{"$f":"IF(AN457=\"\",\"\",Main!E457)","v":""},null,null,null,null,null,null,null,{"$f":"IF(AN457=\"\",\"\",SUM(Main!N457,Main!S457))","v":""},null,0,null,null,null,null,null,null,null,null,null,null,null,null,null,null,null,null,null,null,0,0,null,0,null,null,{"$f":"IF(SUM(Main!N457,Main!S457)>0,1,\"\")","v":""}]
[{"$f":"IF(AN458=\"\",\"\",SUM($AN$4:AN458))","v":""},{"$f":"IF(AN458=\"\",\"\",Main!B458)","v":""},{"$f":"IF(AN458=\"\",\"\",Main!C458)","v":""},{"$f":"IF(AN458=\"\",\"\",Main!D458)","v":""},{"$f":"IF(AN458=\"\",\"\",Main!E458)","v":""},null,null,null,null,null,null,null,{"$f":"IF(AN458=\"\",\"\",SUM(Main!N458,Main!S458))","v":""},null,0,null,null,null,null,null,null,null,null,null,null,null,null,null,null,null,null,null,null,0,0,null,0,null,null,{"$f":"IF(SUM(Main!N458,Main!S458)>0,1,\"\")","v":""}]
[{"$f":"IF(AN459=\"\",\"\",SUM($AN$4:AN459))","v":""},{"$f":"IF(AN459=\"\",\"\",Main!B459)","v":""},{"$f":"IF(AN459=\"\",\"\",Main!C459)","v":""},{"$f":"IF(AN459=\"\",\"\",Main!D459)","v":""},{"$f":"IF(AN459=\"\",\"\",Main!E459)","v":""},null,null,null,null,null,null,null,{"$f":"IF(AN459=\"\",\"\",SUM(Main!N459,Main!S459))","v":""},null,0,null,null,null,null,null,null,null,null,null,null,null,null,null,null,null,null,null,null,0,0,null,0,null,null,{"$f":"IF(SUM(Main!N459,Main!S459)>0,1,\"\")","v":""}]
[{"$f":"IF(AN460=\"\",\"\",SUM($AN$4:AN460))","v":""},{"$f":"IF(AN460=\"\",\"\",Main!B460)","v":""},{"$f":"IF(AN460=\"\",\"\",Main!C460)","v":""},{"$f":"IF(AN460=\"\",\"\",Main!D460)","v":""},{"$f":"IF(AN460=\"\",\"\",Main!E460)","v":""},null,null,null,null,null,null,null,{"$f":"IF(AN460=\"\",\"\",SUM(Main!N460,Main!S460))","v":""},null,{"$f":"SUM(F460:N460)","v":0},null,null,null,null,null,null,null,null,null,null,null,null,null,null,null,null,null,null,{"$f":"SUM(P460:AG460)","v":0},{"$f":"O460-AH460","v":0},null,{"$f":"AI460-AJ460","v":0},null,null,{"$f":"IF(SUM(Main!N460,Main!S460)>0,1,\"\")","v":""}]
[{"$f":"IF(AN461=\"\",\"\",SUM($AN$4:AN461))","v":""},{"$f":"IF(AN461=\"\",\"\",Main!B461)","v":""},{"$f":"IF(AN461=\"\",\"\",Main!C461)","v":""},{"$f":"IF(AN461=\"\",\"\",Main!D461)","v":""},{"$f":"IF(AN461=\"\",\"\",Main!E461)","v":""},null,null,null,null,null,null,null,{"$f":"IF(AN461=\"\",\"\",SUM(Main!N461,Main!S461))","v":""},null,0,null,null,null,null,null,null,null,null,null,null,null,null,null,null,null,null,null,null,0,0,null,0,null,null,{"$f":"IF(SUM(Main!N461,Main!S461)>0,1,\"\")","v":""}]
[{"$f":"IF(AN462=\"\",\"\",SUM($AN$4:AN462))","v":""},{"$f":"IF(AN462=\"\",\"\",Main!B462)","v":""},{"$f":"IF(AN462=\"\",\"\",Main!C462)","v":""},{"$f":"IF(AN462=\"\",\"\",Main!D462)","v":""},{"$f":"IF(AN462=\"\",\"\",Main!E462)","v":""},null,null,null,null,null,null,null,{"$f":"IF(AN462=\"\",\"\",SUM(Main!N462,Main!S462))","v":""},null,0,null,null,null,null,null,null,null,null,null,null,null,null,null,null,null,null,null,null,0,0,null,0,null,null,{"$f":"IF(SUM(Main!N462,Main!S462)>0,1,\"\")","v":""}]
[{"$f":"IF(AN463=\"\",\"\",SUM($AN$4:AN463))","v":""},{"$f":"IF(AN463=\"\",\"\",Main!B463)","v":""},{"$f":"IF(AN463=\"\",\"\",Main!C463)","v":""},{"$f":"IF(AN463=\"\",\"\",Main!D463)","v":""},{"$f":"IF(AN463=\"\",\"\",Main!E463)","v":""},null,null,null,null,null,null,null,{"$f":"IF(AN463=\"\",\"\",SUM(Main!N463,Main!S463))","v":""},null,0,null,null,null,null,null,null,null,null,null,null,null,null,null,null,null,null,null,null,0,0,null,0,null,null,{"$f":"IF(SUM(Main!N463,Main!S463)>0,1,\"\")","v":""}]
[{"$f":"IF(AN464=\"\",\"\",SUM($AN$4:AN464))","v":""},{"$f":"IF(AN464=\"\",\"\",Main!B464)","v":""},{"$f":"IF(AN464=\"\",\"\",Main!C464)","v":""},{"$f":"IF(AN464=\"\",\"\",Main!D464)","v":""},{"$f":"IF(AN464=\"\",\"\",Main!E464)","v":""},null,null,null,null,null,null,null,{"$f":"IF(AN464=\"\",\"\",SUM(Main!N464,Main!S464))","v":""},null,0,null,null,null,null,null,null,null,null,null,null,null,null,null,null,null,null,null,null,0,0,null,0,null,null,{"$f":"IF(SUM(Main!N464,Main!S464)>0,1,\"\")","v":""}]
[{"$f":"IF(AN465=\"\",\"\",SUM($AN$4:AN465))","v":""},{"$f":"IF(AN465=\"\",\"\",Main!B465)","v":""},{"$f":"IF(AN465=\"\",\"\",Main!C465)","v":""},{"$f":"IF(AN465=\"\",\"\",Main!D465)","v":""},{"$f":"IF(AN465=\"\",\"\",Main!E465)","v":""},null,null,null,null,null,null,null,{"$f":"IF(AN465=\"\",\"\",SUM(Main!N465,Main!S465))","v":""},null,0,null,null,null,null,null,null,null,null,null,null,null,null,null,null,null,null,null,null,0,0,null,0,null,null,{"$f":"IF(SUM(Main!N465,Main!S465)>0,1,\"\")","v":""}]
[{"$f":"IF(AN466=\"\",\"\",SUM($AN$4:AN466))","v":""},{"$f":"IF(AN466=\"\",\"\",Main!B466)","v":""},{"$f":"IF(AN466=\"\",\"\",Main!C466)","v":""},{"$f":"IF(AN466=\"\",\"\",Main!D466)","v":""},{"$f":"IF(AN466=\"\",\"\",Main!E466)","v":""},null,null,null,null,null,null,null,{"$f":"IF(AN466=\"\",\"\",SUM(Main!N466,Main!S466))","v":""},null,0,null,null,null,null,null,null,null,null,null,null,null,null,null,null,null,null,null,null,0,0,null,0,null,null,{"$f":"IF(SUM(Main!N466,Main!S466)>0,1,\"\")","v":""}]
[{"$f":"IF(AN467=\"\",\"\",SUM($AN$4:AN467))","v":""},{"$f":"IF(AN467=\"\",\"\",Main!B467)","v":""},{"$f":"IF(AN467=\"\",\"\",Main!C467)","v":""},{"$f":"IF(AN467=\"\",\"\",Main!D467)","v":""},{"$f":"IF(AN467=\"\",\"\",Main!E467)","v":""},null,null,null,null,null,null,null,{"$f":"IF(AN467=\"\",\"\",SUM(Main!N467,Main!S467))","v":""},null,0,null,null,null,null,null,null,null,null,null,null,null,null,null,null,null,null,null,null,0,0,null,0,null,null,{"$f":"IF(SUM(Main!N467,Main!S467)>0,1,\"\")","v":""}]
[{"$f":"IF(AN468=\"\",\"\",SUM($AN$4:AN468))","v":""},{"$f":"IF(AN468=\"\",\"\",Main!B468)","v":""},{"$f":"IF(AN468=\"\",\"\",Main!C468)","v":""},{"$f":"IF(AN468=\"\",\"\",Main!D468)","v":""},{"$f":"IF(AN468=\"\",\"\",Main!E468)","v":""},null,null,null,null,null,null,null,{"$f":"IF(AN468=\"\",\"\",SUM(Main!N468,Main!S468))","v":""},null,0,null,null,null,null,null,null,null,null,null,null,null,null,null,null,null,null,null,null,0,0,null,0,null,null,{"$f":"IF(SUM(Main!N468,Main!S468)>0,1,\"\")","v":""}]
[{"$f":"IF(AN469=\"\",\"\",SUM($AN$4:AN469))","v":""},{"$f":"IF(AN469=\"\",\"\",Main!B469)","v":""},{"$f":"IF(AN469=\"\",\"\",Main!C469)","v":""},{"$f":"IF(AN469=\"\",\"\",Main!D469)","v":""},{"$f":"IF(AN469=\"\",\"\",Main!E469)","v":""},null,null,null,null,null,null,null,{"$f":"IF(AN469=\"\",\"\",SUM(Main!N469,Main!S469))","v":""},null,0,null,null,null,null,null,null,null,null,null,null,null,null,null,null,null,null,null,null,0,0,null,0,null,null,{"$f":"IF(SUM(Main!N469,Main!S469)>0,1,\"\")","v":""}]
[{"$f":"IF(AN470=\"\",\"\",SUM($AN$4:AN470))","v":""},{"$f":"IF(AN470=\"\",\"\",Main!B470)","v":""},{"$f":"IF(AN470=\"\",\"\",Main!C470)","v":""},{"$f":"IF(AN470=\"\",\"\",Main!D470)","v":""},{"$f":"IF(AN470=\"\",\"\",Main!E470)","v":""},null,null,null,null,null,null,null,{"$f":"IF(AN470=\"\",\"\",SUM(Main!N470,Main!S470))","v":""},null,0,null,null,null,null,null,null,null,null,null,null,null,null,null,null,null,null,null,null,0,0,null,0,null,null,{"$f":"IF(SUM(Main!N470,Main!S470)>0,1,\"\")","v":""}]
[{"$f":"IF(AN471=\"\",\"\",SUM($AN$4:AN471))","v":""},{"$f":"IF(AN471=\"\",\"\",Main!B471)","v":""},{"$f":"IF(AN471=\"\",\"\",Main!C471)","v":""},{"$f":"IF(AN471=\"\",\"\",Main!D471)","v":""},{"$f":"IF(AN471=\"\",\"\",Main!E471)","v":""},null,null,null,null,null,null,null,{"$f":"IF(AN471=\"\",\"\",SUM(Main!N471,Main!S471))","v":""},null,0,null,null,null,null,null,null,null,null,null,null,null,null,null,null,null,null,null,null,0,0,null,0,null,null,{"$f":"IF(SUM(Main!N471,Main!S471)>0,1,\"\")","v":""}]
[{"$f":"IF(AN472=\"\",\"\",SUM($AN$4:AN472))","v":""},{"$f":"IF(AN472=\"\",\"\",Main!B472)","v":""},{"$f":"IF(AN472=\"\",\"\",Main!C472)","v":""},{"$f":"IF(AN472=\"\",\"\",Main!D472)","v":""},{"$f":"IF(AN472=\"\",\"\",Main!E472)","v":""},null,null,null,null,null,null,null,{"$f":"IF(AN472=\"\",\"\",SUM(Main!N472,Main!S472))","v":""},null,0,null,null,null,null,null,null,null,null,null,null,null,null,null,null,null,null,null,null,0,0,null,0,null,null,{"$f":"IF(SUM(Main!N472,Main!S472)>0,1,\"\")","v":""}]
[{"$f":"IF(AN473=\"\",\"\",SUM($AN$4:AN473))","v":""},{"$f":"IF(AN473=\"\",\"\",Main!B473)","v":""},{"$f":"IF(AN473=\"\",\"\",Main!C473)","v":""},{"$f":"IF(AN473=\"\",\"\",Main!D473)","v":""},{"$f":"IF(AN473=\"\",\"\",Main!E473)","v":""},null,null,null,null,null,null,null,{"$f":"IF(AN473=\"\",\"\",SUM(Main!N473,Main!S473))","v":""},null,0,null,null,null,null,null,null,null,null,null,null,null,null,null,null,null,null,null,null,0,0,null,0,null,null,{"$f":"IF(SUM(Main!N473,Main!S473)>0,1,\"\")","v":""}]
[{"$f":"IF(AN474=\"\",\"\",SUM($AN$4:AN474))","v":""},{"$f":"IF(AN474=\"\",\"\",Main!B474)","v":""},{"$f":"IF(AN474=\"\",\"\",Main!C474)","v":""},{"$f":"IF(AN474=\"\",\"\",Main!D474)","v":""},{"$f":"IF(AN474=\"\",\"\",Main!E474)","v":""},null,null,null,null,null,null,null,{"$f":"IF(AN474=\"\",\"\",SUM(Main!N474,Main!S474))","v":""},null,0,null,null,null,null,null,null,null,null,null,null,null,null,null,null,null,null,null,null,0,0,null,0,null,null,{"$f":"IF(SUM(Main!N474,Main!S474)>0,1,\"\")","v":""}]
[{"$f":"IF(AN475=\"\",\"\",SUM($AN$4:AN475))","v":""},{"$f":"IF(AN475=\"\",\"\",Main!B475)","v":""},{"$f":"IF(AN475=\"\",\"\",Main!C475)","v":""},{"$f":"IF(AN475=\"\",\"\",Main!D475)","v":""},{"$f":"IF(AN475=\"\",\"\",Main!E475)","v":""},null,null,null,null,null,null,null,{"$f":"IF(AN475=\"\",\"\",SUM(Main!N475,Main!S475))","v":""},null,0,null,null,null,null,null,null,null,null,null,null,null,null,null,null,null,null,null,null,0,0,null,0,null,null,{"$f":"IF(SUM(Main!N475,Main!S475)>0,1,\"\")","v":""}]
[{"$f":"IF(AN476=\"\",\"\",SUM($AN$4:AN476))","v":""},{"$f":"IF(AN476=\"\",\"\",Main!B476)","v":""},{"$f":"IF(AN476=\"\",\"\",Main!C476)","v":""},{"$f":"IF(AN476=\"\",\"\",Main!D476)","v":""},{"$f":"IF(AN476=\"\",\"\",Main!E476)","v":""},null,null,null,null,null,null,null,{"$f":"IF(AN476=\"\",\"\",SUM(Main!N476,Main!S476))","v":""},null,0,null,null,null,null,null,null,null,null,null,null,null,null,null,null,null,null,null,null,0,0,null,0,null,null,{"$f":"IF(SUM(Main!N476,Main!S476)>0,1,\"\")","v":""}]
[{"$f":"IF(AN477=\"\",\"\",SUM($AN$4:AN477))","v":""},{"$f":"IF(AN477=\"\",\"\",Main!B477)","v":""},{"$f":"IF(AN477=\"\",\"\",Main!C477)","v":""},{"$f":"IF(AN477=\"\",\"\",Main!D477)","v":""},{"$f":"IF(AN477=\"\",\"\",Main!E477)","v":""},null,null,null,null,null,null,null,{"$f":"IF(AN477=\"\",\"\",SUM(Main!N477,Main!S477))","v":""},null,0,null,null,null,null,null,null,null,null,null,null,null,null,null,null,null,null,null,null,0,0,null,0,null,null,{"$f":"IF(SUM(Main!N477,Main!S477)>0,1,\"\")","v":""}]
[{"$f":"IF(AN478=\"\",\"\",SUM($AN$4:AN478))","v":""},{"$f":"IF(AN478=\"\",\"\",Main!B478)","v":""},{"$f":"IF(AN478=\"\",\"\",Main!C478)","v":""},{"$f":"IF(AN478=\"\",\"\",Main!D478)","v":""},{"$f":"IF(AN478=\"\",\"\",Main!E478)","v":""},null,null,null,null,null,null,null,{"$f":"IF(AN478=\"\",\"\",SUM(Main!N478,Main!S478))","v":""},null,0,null,null,null,null,null,null,null,null,null,null,null,null,null,null,null,null,null,null,0,0,null,0,null,null,{"$f":"IF(SUM(Main!N478,Main!S478)>0,1,\"\")","v":""}]
[{"$f":"IF(AN479=\"\",\"\",SUM($AN$4:AN479))","v":""},{"$f":"IF(AN479=\"\",\"\",Main!B479)","v":""},{"$f":"IF(AN479=\"\",\"\",Main!C479)","v":""},{"$f":"IF(AN479=\"\",\"\",Main!D479)","v":""},{"$f":"IF(AN479=\"\",\"\",Main!E479)","v":""},null,null,null,null,null,null,null,{"$f":"IF(AN479=\"\",\"\",SUM(Main!N479,Main!S479))","v":""},null,0,null,null,null,null,null,null,null,null,null,null,null,null,null,null,null,null,null,null,0,0,null,0,null,null,{"$f":"IF(SUM(Main!N479,Main!S479)>0,1,\"\")","v":""}]
[{"$f":"IF(AN480=\"\",\"\",SUM($AN$4:AN480))","v":""},{"$f":"IF(AN480=\"\",\"\",Main!B480)","v":""},{"$f":"IF(AN480=\"\",\"\",Main!C480)","v":""},{"$f":"IF(AN480=\"\",\"\",Main!D480)","v":""},{"$f":"IF(AN480=\"\",\"\",Main!E480)","v":""},null,null,null,null,null,null,null,{"$f":"IF(AN480=\"\",\"\",SUM(Main!N480,Main!S480))","v":""},null,0,null,null,null,null,null,null,null,null,null,null,null,null,null,null,null,null,null,null,0,0,null,0,null,null,{"$f":"IF(SUM(Main!N480,Main!S480)>0,1,\"\")","v":""}]
[{"$f":"IF(AN481=\"\",\"\",SUM($AN$4:AN481))","v":""},{"$f":"IF(AN481=\"\",\"\",Main!B481)","v":""},{"$f":"IF(AN481=\"\",\"\",Main!C481)","v":""},{"$f":"IF(AN481=\"\",\"\",Main!D481)","v":""},{"$f":"IF(AN481=\"\",\"\",Main!E481)","v":""},null,null,null,null,null,null,null,{"$f":"IF(AN481=\"\",\"\",SUM(Main!N481,Main!S481))","v":""},null,0,null,null,null,null,null,null,null,null,null,null,null,null,null,null,null,null,null,null,0,0,null,0,null,null,{"$f":"IF(SUM(Main!N481,Main!S481)>0,1,\"\")","v":""}]
[{"$f":"IF(AN482=\"\",\"\",SUM($AN$4:AN482))","v":""},{"$f":"IF(AN482=\"\",\"\",Main!B482)","v":""},{"$f":"IF(AN482=\"\",\"\",Main!C482)","v":""},{"$f":"IF(AN482=\"\",\"\",Main!D482)","v":""},{"$f":"IF(AN482=\"\",\"\",Main!E482)","v":""},null,null,null,null,null,null,null,{"$f":"IF(AN482=\"\",\"\",SUM(Main!N482,Main!S482))","v":""},null,0,null,null,null,null,null,null,null,null,null,null,null,null,null,null,null,null,null,null,0,0,null,0,null,null,{"$f":"IF(SUM(Main!N482,Main!S482)>0,1,\"\")","v":""}]
[{"$f":"IF(AN483=\"\",\"\",SUM($AN$4:AN483))","v":""},{"$f":"IF(AN483=\"\",\"\",Main!B483)","v":""},{"$f":"IF(AN483=\"\",\"\",Main!C483)","v":""},{"$f":"IF(AN483=\"\",\"\",Main!D483)","v":""},{"$f":"IF(AN483=\"\",\"\",Main!E483)","v":""},null,null,null,null,null,null,null,{"$f":"IF(AN483=\"\",\"\",SUM(Main!N483,Main!S483))","v":""},null,0,null,null,null,null,null,null,null,null,null,null,null,null,null,null,null,null,null,null,0,0,null,0,null,null,{"$f":"IF(SUM(Main!N483,Main!S483)>0,1,\"\")","v":""}]
[{"$f":"IF(AN484=\"\",\"\",SUM($AN$4:AN484))","v":""},{"$f":"IF(AN484=\"\",\"\",Main!B484)","v":""},{"$f":"IF(AN484=\"\",\"\",Main!C484)","v":""},{"$f":"IF(AN484=\"\",\"\",Main!D484)","v":""},{"$f":"IF(AN484=\"\",\"\",Main!E484)","v":""},null,null,null,null,null,null,null,{"$f":"IF(AN484=\"\",\"\",SUM(Main!N484,Main!S484))","v":""},null,0,null,null,null,null,null,null,null,null,null,null,null,null,null,null,null,null,null,null,0,0,null,0,null,null,{"$f":"IF(SUM(Main!N484,Main!S484)>0,1,\"\")","v":""}]
[{"$f":"IF(AN485=\"\",\"\",SUM($AN$4:AN485))","v":""},{"$f":"IF(AN485=\"\",\"\",Main!B485)","v":""},{"$f":"IF(AN485=\"\",\"\",Main!C485)","v":""},{"$f":"IF(AN485=\"\",\"\",Main!D485)","v":""},{"$f":"IF(AN485=\"\",\"\",Main!E485)","v":""},null,null,null,null,null,null,null,{"$f":"IF(AN485=\"\",\"\",SUM(Main!N485,Main!S485))","v":""},null,{"$f":"SUM(F485:N485)","v":0},null,null,null,null,null,null,null,null,null,null,null,null,null,null,null,null,null,null,{"$f":"SUM(P485:AG485)","v":0},{"$f":"O485-AH485","v":0},null,{"$f":"AI485-AJ485","v":0},null,null,{"$f":"IF(SUM(Main!N485,Main!S485)>0,1,\"\")","v":""}]
[{"$f":"IF(AN486=\"\",\"\",SUM($AN$4:AN486))","v":""},{"$f":"IF(AN486=\"\",\"\",Main!B486)","v":""},{"$f":"IF(AN486=\"\",\"\",Main!C486)","v":""},{"$f":"IF(AN486=\"\",\"\",Main!D486)","v":""},{"$f":"IF(AN486=\"\",\"\",Main!E486)","v":""},null,null,null,null,null,null,null,{"$f":"IF(AN486=\"\",\"\",SUM(Main!N486,Main!S486))","v":""},null,{"$f":"SUM(F486:N486)","v":0},null,null,null,null,null,null,null,null,null,null,null,null,null,null,null,null,null,null,{"$f":"SUM(P486:AG486)","v":0},{"$f":"O486-AH486","v":0},null,{"$f":"AI486-AJ486","v":0},null,null,{"$f":"IF(SUM(Main!N486,Main!S486)>0,1,\"\")","v":""}]
[{"$f":"IF(AN487=\"\",\"\",SUM($AN$4:AN487))","v":""},{"$f":"IF(AN487=\"\",\"\",Main!B487)","v":""},{"$f":"IF(AN487=\"\",\"\",Main!C487)","v":""},{"$f":"IF(AN487=\"\",\"\",Main!D487)","v":""},{"$f":"IF(AN487=\"\",\"\",Main!E487)","v":""},null,null,null,null,null,null,null,{"$f":"IF(AN487=\"\",\"\",SUM(Main!N487,Main!S487))","v":""},null,0,null,null,null,null,null,null,null,null,null,null,null,null,null,null,null,null,null,null,0,0,null,0,null,null,{"$f":"IF(SUM(Main!N487,Main!S487)>0,1,\"\")","v":""}]
[{"$f":"IF(AN488=\"\",\"\",SUM($AN$4:AN488))","v":""},{"$f":"IF(AN488=\"\",\"\",Main!B488)","v":""},{"$f":"IF(AN488=\"\",\"\",Main!C488)","v":""},{"$f":"IF(AN488=\"\",\"\",Main!D488)","v":""},{"$f":"IF(AN488=\"\",\"\",Main!E488)","v":""},null,null,null,null,null,null,null,{"$f":"IF(AN488=\"\",\"\",SUM(Main!N488,Main!S488))","v":""},null,0,null,null,null,null,null,null,null,null,null,null,null,null,null,null,null,null,null,null,0,0,null,0,null,null,{"$f":"IF(SUM(Main!N488,Main!S488)>0,1,\"\")","v":""}]
[{"$f":"IF(AN489=\"\",\"\",SUM($AN$4:AN489))","v":""},{"$f":"IF(AN489=\"\",\"\",Main!B489)","v":""},{"$f":"IF(AN489=\"\",\"\",Main!C489)","v":""},{"$f":"IF(AN489=\"\",\"\",Main!D489)","v":""},{"$f":"IF(AN489=\"\",\"\",Main!E489)","v":""},null,null,null,null,null,null,null,{"$f":"IF(AN489=\"\",\"\",SUM(Main!N489,Main!S489))","v":""},null,0,null,null,null,null,null,null,null,null,null,null,null,null,null,null,null,null,null,null,0,0,null,0,null,null,{"$f":"IF(SUM(Main!N489,Main!S489)>0,1,\"\")","v":""}]
[{"$f":"IF(AN490=\"\",\"\",SUM($AN$4:AN490))","v":""},{"$f":"IF(AN490=\"\",\"\",Main!B490)","v":""},{"$f":"IF(AN490=\"\",\"\",Main!C490)","v":""},{"$f":"IF(AN490=\"\",\"\",Main!D490)","v":""},{"$f":"IF(AN490=\"\",\"\",Main!E490)","v":""},null,null,null,null,null,null,null,{"$f":"IF(AN490=\"\",\"\",SUM(Main!N490,Main!S490))","v":""},null,0,null,null,null,null,null,null,null,null,null,null,null,null,null,null,null,null,null,null,0,0,null,0,null,null,{"$f":"IF(SUM(Main!N490,Main!S490)>0,1,\"\")","v":""}]
[{"$f":"IF(AN491=\"\",\"\",SUM($AN$4:AN491))","v":""},{"$f":"IF(AN491=\"\",\"\",Main!B491)","v":""},{"$f":"IF(AN491=\"\",\"\",Main!C491)","v":""},{"$f":"IF(AN491=\"\",\"\",Main!D491)","v":""},{"$f":"IF(AN491=\"\",\"\",Main!E491)","v":""},null,null,null,null,null,null,null,{"$f":"IF(AN491=\"\",\"\",SUM(Main!N491,Main!S491))","v":""},null,0,null,null,null,null,null,null,null,null,null,null,null,null,null,null,null,null,null,null,0,0,null,0,null,null,{"$f":"IF(SUM(Main!N491,Main!S491)>0,1,\"\")","v":""}]
[{"$f":"IF(AN492=\"\",\"\",SUM($AN$4:AN492))","v":""},{"$f":"IF(AN492=\"\",\"\",Main!B492)","v":""},{"$f":"IF(AN492=\"\",\"\",Main!C492)","v":""},{"$f":"IF(AN492=\"\",\"\",Main!D492)","v":""},{"$f":"IF(AN492=\"\",\"\",Main!E492)","v":""},null,null,null,null,null,null,null,{"$f":"IF(AN492=\"\",\"\",SUM(Main!N492,Main!S492))","v":""},null,0,null,null,null,null,null,null,null,null,null,null,null,null,null,null,null,null,null,null,0,0,null,0,null,null,{"$f":"IF(SUM(Main!N492,Main!S492)>0,1,\"\")","v":""}]
[{"$f":"IF(AN493=\"\",\"\",SUM($AN$4:AN493))","v":""},{"$f":"IF(AN493=\"\",\"\",Main!B493)","v":""},{"$f":"IF(AN493=\"\",\"\",Main!C493)","v":""},{"$f":"IF(AN493=\"\",\"\",Main!D493)","v":""},{"$f":"IF(AN493=\"\",\"\",Main!E493)","v":""},null,null,null,null,null,null,null,{"$f":"IF(AN493=\"\",\"\",SUM(Main!N493,Main!S493))","v":""},null,0,null,null,null,null,null,null,null,null,null,null,null,null,null,null,null,null,null,null,0,0,null,0,null,null,{"$f":"IF(SUM(Main!N493,Main!S493)>0,1,\"\")","v":""}]
[{"$f":"IF(AN494=\"\",\"\",SUM($AN$4:AN494))","v":""},{"$f":"IF(AN494=\"\",\"\",Main!B494)","v":""},{"$f":"IF(AN494=\"\",\"\",Main!C494)","v":""},{"$f":"IF(AN494=\"\",\"\",Main!D494)","v":""},{"$f":"IF(AN494=\"\",\"\",Main!E494)","v":""},null,null,null,null,null,null,null,{"$f":"IF(AN494=\"\",\"\",SUM(Main!N494,Main!S494))","v":""},null,0,null,null,null,null,null,null,null,null,null,null,null,null,null,null,null,null,null,null,0,0,null,0,null,null,{"$f":"IF(SUM(Main!N494,Main!S494)>0,1,\"\")","v":""}]
[{"$f":"IF(AN495=\"\",\"\",SUM($AN$4:AN495))","v":""},{"$f":"IF(AN495=\"\",\"\",Main!B495)","v":""},{"$f":"IF(AN495=\"\",\"\",Main!C495)","v":""},{"$f":"IF(AN495=\"\",\"\",Main!D495)","v":""},{"$f":"IF(AN495=\"\",\"\",Main!E495)","v":""},null,null,null,null,null,null,null,{"$f":"IF(AN495=\"\",\"\",SUM(Main!N495,Main!S495))","v":""},null,0,null,null,null,null,null,null,null,null,null,null,null,null,null,null,null,null,null,null,0,0,null,0,null,null,{"$f":"IF(SUM(Main!N495,Main!S495)>0,1,\"\")","v":""}]
[{"$f":"IF(AN496=\"\",\"\",SUM($AN$4:AN496))","v":""},{"$f":"IF(AN496=\"\",\"\",Main!B496)","v":""},{"$f":"IF(AN496=\"\",\"\",Main!C496)","v":""},{"$f":"IF(AN496=\"\",\"\",Main!D496)","v":""},{"$f":"IF(AN496=\"\",\"\",Main!E496)","v":""},null,null,null,null,null,null,null,{"$f":"IF(AN496=\"\",\"\",SUM(Main!N496,Main!S496))","v":""},null,0,null,null,null,null,null,null,null,null,null,null,null,null,null,null,null,null,null,null,0,0,null,0,null,null,{"$f":"IF(SUM(Main!N496,Main!S496)>0,1,\"\")","v":""}]
[{"$f":"IF(AN497=\"\",\"\",SUM($AN$4:AN497))","v":""},{"$f":"IF(AN497=\"\",\"\",Main!B497)","v":""},{"$f":"IF(AN497=\"\",\"\",Main!C497)","v":""},{"$f":"IF(AN497=\"\",\"\",Main!D497)","v":""},{"$f":"IF(AN497=\"\",\"\",Main!E497)","v":""},null,null,null,null,null,null,null,{"$f":"IF(AN497=\"\",\"\",SUM(Main!N497,Main!S497))","v":""},null,0,null,null,null,null,null,null,null,null,null,null,null,null,null,null,null,null,null,null,0,0,null,0,null,null,{"$f":"IF(SUM(Main!N497,Main!S497)>0,1,\"\")","v":""}]
[{"$f":"IF(AN498=\"\",\"\",SUM($AN$4:AN498))","v":""},{"$f":"IF(AN498=\"\",\"\",Main!B498)","v":""},{"$f":"IF(AN498=\"\",\"\",Main!C498)","v":""},{"$f":"IF(AN498=\"\",\"\",Main!D498)","v":""},{"$f":"IF(AN498=\"\",\"\",Main!E498)","v":""},null,null,null,null,null,null,null,{"$f":"IF(AN498=\"\",\"\",SUM(Main!N498,Main!S498))","v":""},null,0,null,null,null,null,null,null,null,null,null,null,null,null,null,null,null,null,null,null,0,0,null,0,null,null,{"$f":"IF(SUM(Main!N498,Main!S498)>0,1,\"\")","v":""}]
[{"$f":"IF(AN499=\"\",\"\",SUM($AN$4:AN499))","v":""},{"$f":"IF(AN499=\"\",\"\",Main!B499)","v":""},{"$f":"IF(AN499=\"\",\"\",Main!C499)","v":""},{"$f":"IF(AN499=\"\",\"\",Main!D499)","v":""},{"$f":"IF(AN499=\"\",\"\",Main!E499)","v":""},null,null,null,null,null,null,null,{"$f":"IF(AN499=\"\",\"\",SUM(Main!N499,Main!S499))","v":""},null,0,null,null,null,null,null,null,null,null,null,null,null,null,null,null,null,null,null,null,0,0,null,0,null,null,{"$f":"IF(SUM(Main!N499,Main!S499)>0,1,\"\")","v":""}]
[{"$f":"IF(AN500=\"\",\"\",SUM($AN$4:AN500))","v":""},{"$f":"IF(AN500=\"\",\"\",Main!B500)","v":""},{"$f":"IF(AN500=\"\",\"\",Main!C500)","v":""},{"$f":"IF(AN500=\"\",\"\",Main!D500)","v":""},{"$f":"IF(AN500=\"\",\"\",Main!E500)","v":""},null,null,null,null,null,null,null,{"$f":"IF(AN500=\"\",\"\",SUM(Main!N500,Main!S500))","v":""},null,0,null,null,null,null,null,null,null,null,null,null,null,null,null,null,null,null,null,null,0,0,null,0,null,null,{"$f":"IF(SUM(Main!N500,Main!S500)>0,1,\"\")","v":""}]
[{"$f":"IF(AN501=\"\",\"\",SUM($AN$4:AN501))","v":""},{"$f":"IF(AN501=\"\",\"\",Main!B501)","v":""},{"$f":"IF(AN501=\"\",\"\",Main!C501)","v":""},{"$f":"IF(AN501=\"\",\"\",Main!D501)","v":""},{"$f":"IF(AN501=\"\",\"\",Main!E501)","v":""},null,null,null,null,null,null,null,{"$f":"IF(AN501=\"\",\"\",SUM(Main!N501,Main!S501))","v":""},null,0,null,null,null,null,null,null,null,null,null,null,null,null,null,null,null,null,null,null,0,0,null,0,null,null,{"$f":"IF(SUM(Main!N501,Main!S501)>0,1,\"\")","v":""}]
[{"$f":"IF(AN502=\"\",\"\",SUM($AN$4:AN502))","v":""},{"$f":"IF(AN502=\"\",\"\",Main!B502)","v":""},{"$f":"IF(AN502=\"\",\"\",Main!C502)","v":""},{"$f":"IF(AN502=\"\",\"\",Main!D502)","v":""},{"$f":"IF(AN502=\"\",\"\",Main!E502)","v":""},null,null,null,null,null,null,null,{"$f":"IF(AN502=\"\",\"\",SUM(Main!N502,Main!S502))","v":""},null,0,null,null,null,null,null,null,null,null,null,null,null,null,null,null,null,null,null,null,0,0,null,0,null,null,{"$f":"IF(SUM(Main!N502,Main!S502)>0,1,\"\")","v":""}]
[{"$f":"IF(AN503=\"\",\"\",SUM($AN$4:AN503))","v":""},{"$f":"IF(AN503=\"\",\"\",Main!B503)","v":""},{"$f":"IF(AN503=\"\",\"\",Main!C503)","v":""},{"$f":"IF(AN503=\"\",\"\",Main!D503)","v":""},{"$f":"IF(AN503=\"\",\"\",Main!E503)","v":""},null,null,null,null,null,null,null,{"$f":"IF(AN503=\"\",\"\",SUM(Main!N503,Main!S503))","v":""},null,0,null,null,null,null,null,null,null,null,null,null,null,null,null,null,null,null,null,null,0,0,null,0,null,null,{"$f":"IF(SUM(Main!N503,Main!S503)>0,1,\"\")","v":""}]
[null,null,null,null,null,null,null,null,null,null,null,null,null,null,null,null,null,null,null,null,null,null,null,null,null,null,null,null,null,null,null,null,null,null,null,null,null,null,null,{"$f":"IF(SUM(Main!N504,Main!S504)>0,1,\"\")","v":""}]
["Total",null,null,null,null,{"$f":"SUM(F4:F503)","v":0},{"$f":"SUM(G4:G503)","v":0},0,0,0,0,0,371000,0,371000,0,0,0,0,0,0,0,0,0,0,0,0,0,0,0,0,0,0,0,371000,0,371000,0,null,1]
[null,null,null,null,null,null,null,null,null,null,null,null,null,null,null,null,null,null,null,null,null,null,null,null,null,null,null,null,null,null,null,null,null,null,null,null,null,null,null,{"$f":"IF(SUM(Main!N506,Main!S506)>0,1,\"\")","v":""}]
[{"$f":"UPPER(Pro!A1018)","v":" TOTAL AMOUNT RS : 371000 /- ( RUPEES: THREE  LAKHS  AND SEVENTY ONE THOUSAND   ONLY )"},null,null,null,null,null,null,null,null,null,null,null,null,null,null,null,null,null,null,null,null,null,null,null,null,null,null,null,null,null,null,null,null,null,null,null,null,null,null,1]
[null,null,null,null,null,null,null,null,null,null,null,null,null,null,null,null,null,null,null,null,null,null,null,null,null,null,null,null,null,null,null,null,null,null,null,null,null,null,null,1]
[null,{"$f":"CONCATENATE(\"1. As  Per   Proc.\",Info!E8,\" \",Info!F8,\" \",Info!E9,\" \",Info!F9,\" of the \",Info!E3,\", \",Info!E4, \", the Reimbursement of tuition fee in resfect of the individual is claimed.\")","v":"1. As  Per   Proc.R.C.No: ____________ Date: _______________ of the Mandal Educational Officer, Mandal Parishad Udayagiri, the Reimbursement of tuition fee in resfect of the individual is claimed."},null,null,null,null,null,null,null,null,null,null,null,null,null,null,null,null,null,null,null,null,null,null,null,null,null,null,null,null,null,null,null,null,null,null,null,null,null,1]
[null,"2.Certified that the amount claimed in this bill is not drawn earlier.",null,null,null,null,null,null,null,null,null,null,null,null,null,null,null,null,null,null,null,null,null,null,null,null,null,null,null,null,null,null,null,null,null,null,null,null,null,1]
[null,null,null,null,null,null,null,null,null,null,null,null,null,null,null,null,null,null,null,null,null,null,null,null,null,null,null,null,null,null,null,null,null,null,null,null,null,null,null,{"$f":"IF(SUM(Main!N507,Main!S507)>0,1,\"\")","v":""}]
[null,null,null,null,null,null,null,null,null,null,null,null,null,null,null,null,null,null,null,null,null,null,null,null,null,null,null,null,null,null,null,null,null,null,null,null,null,null,null,{"$f":"IF(SUM(Main!N508,Main!S508)>0,1,\"\")","v":""}]
[null,null,null,null,null,null,null,null,null,null,null,null,null,null,null,null,null,null,null,null,null,null,null,null,null,null,null,null,null,null,null,null,null,null,null,null,null,null,null,{"$f":"IF(SUM(Main!N509,Main!S509)>0,1,\"\")","v":""}]
[null,null,null,null,null,null,null,null,null,null,null,null,null,null,null,null,null,null,null,null,null,null,null,null,null,null,null,null,null,null,null,null,null,null,null,null,null,null,null,{"$f":"IF(SUM(Main!N510,Main!S510)>0,1,\"\")","v":""}]
[null,null,null,null,null,null,null,null,null,null,null,null,null,null,null,null,null,null,null,null,null,null,null,null,null,null,null,null,null,null,null,null,null,null,null,null,null,null,null,{"$f":"IF(SUM(Main!N511,Main!S511)>0,1,\"\")","v":""}]
[null,null,null,null,null,null,null,null,null,null,null,null,null,null,null,null,null,null,null,null,null,null,null,null,null,null,null,null,null,null,null,null,null,null,null,null,null,null,null,{"$f":"IF(SUM(Main!N512,Main!S512)>0,1,\"\")","v":""}]
[null,null,null,null,null,null,null,null,null,null,null,null,null,null,null,null,null,null,null,null,null,null,null,null,null,null,null,null,null,null,null,null,null,null,null,null,null,null,null,{"$f":"IF(SUM(Main!N513,Main!S513)>0,1,\"\")","v":""}]
[null,null,null,null,null,null,null,null,null,null,null,null,null,null,null,null,null,null,null,null,null,null,null,null,null,null,null,null,null,null,null,null,null,null,null,null,null,null,null,{"$f":"IF(SUM(Main!N514,Main!S514)>0,1,\"\")","v":""}]
[null,null,null,null,null,null,null,null,null,null,null,null,null,null,null,null,null,null,null,null,null,null,null,null,null,null,null,null,null,null,null,null,null,null,null,null,null,null,null,{"$f":"IF(SUM(Main!N515,Main!S515)>0,1,\"\")","v":""}]
[null,null,null,null,null,null,null,null,null,null,null,null,null,null,null,null,null,null,null,null,null,null,null,null,null,null,null,null,null,null,null,null,null,null,null,null,null,null,null,{"$f":"IF(SUM(Main!N516,Main!S516)>0,1,\"\")","v":""}]
[null,null,null,null,null,null,null,null,null,null,null,null,null,null,null,null,null,null,null,null,null,null,null,null,null,null,null,null,null,null,null,null,null,null,null,null,null,null,null,{"$f":"IF(SUM(Main!N517,Main!S517)>0,1,\"\")","v":""}]
[null,null,null,null,null,null,null,null,null,null,null,null,null,null,null,null,null,null,null,null,null,null,null,null,null,null,null,null,null,null,null,null,null,null,null,null,null,null,null,{"$f":"IF(SUM(Main!N518,Main!S518)>0,1,\"\")","v":""}]
[null,null,null,null,null,null,null,null,null,null,null,null,null,null,null,null,null,null,null,null,null,null,null,null,null,null,null,null,null,null,null,null,null,null,null,null,null,null,null,{"$f":"IF(SUM(Main!N519,Main!S519)>0,1,\"\")","v":""}]
[null,null,null,null,null,null,null,null,null,null,null,null,null,null,null,null,null,null,null,null,null,null,null,null,null,null,null,null,null,null,null,null,null,null,null,null,null,null,null,{"$f":"IF(SUM(Main!N520,Main!S520)>0,1,\"\")","v":""}]
[null,null,null,null,null,null,null,null,null,null,null,null,null,null,null,null,null,null,null,null,null,null,null,null,null,null,null,null,null,null,null,null,null,null,null,null,null,null,null,{"$f":"IF(SUM(Main!N521,Main!S521)>0,1,\"\")","v":""}]
[null,null,null,null,null,null,null,null,null,null,null,null,null,null,null,null,null,null,null,null,null,null,null,null,null,null,null,null,null,null,null,null,null,null,null,null,null,null,null,{"$f":"IF(SUM(Main!N522,Main!S522)>0,1,\"\")","v":""}]
[null,null,null,null,null,null,null,null,null,null,null,null,null,null,null,null,null,null,null,null,null,null,null,null,null,null,null,null,null,null,null,null,null,null,null,null,null,null,null,{"$f":"IF(SUM(Main!N523,Main!S523)>0,1,\"\")","v":""}]

{"sheet":"APTC-47(B)","index":9,"n_rows":40,"n_cols":9,"rows_kept":40,"cut":false,"hidden":false,"merged":[[0,0,0,10],[11,1,11,10],[39,0,39,10],[23,1,23,10],[11,15,11,20],[19,0,19,10],[21,1,21,10],[22,1,22,10]]}
["BUDGET"]
[]
[]
[1,{"$f":"CONCATENATE(\"Budget allocation for the year \",Info!E22)","v":"Budget allocation for the year 2012-2013"},null,null,null,null,null,"Rs."]
[2,"Total Expenditure including this Bill",null,null,null,null,null,"Rs."]
[3,"Balance",null,null,null,null,null,"Rs."]
[]
[]
[]
[null,null,null,null,null,null,"Drawing Officer"]
[]
[null,{"$f":"CONCATENATE(\"       This bill amount Rs: \",SUM('APTC-47'!H53),\"/-  (Rupees: \",'APTC-47'!B55,\") paid by cash / cheque / draft adjust to account. \")","v":"       This bill amount Rs: 371000/-  (Rupees: THREE  LAKHS  AND SEVENTY ONE THOUSAND   ONLY ) paid by cash / cheque / draft adjust to account. "}]
[]
[]
[null,"Received Cash"]
[]
[]
[]
[null,"Drawing Officer",null,null,null,null,null,null,"Drawing Officer"]
["REQUIRED CERTIFICATES"]
[]
[1,"Certified That the amount claimed in this bill has not been already drawn and paid previously."]
[2,{"$f":"CONCATENATE(\"Certified that the amount clamied of  Educational Concessions to N.G.O's children Reimbursement of tution fee  as per \",Pro!D9,\"  &  read with Proc \",Info!E8,Info!F8,Info!E9,Info!F9,\" of the \",Info!E3,\", \",Info!E4,\".\")","v":"Certified that the amount clamied of  Educational Concessions to N.G.O's children Reimbursement of tution fee  as per G.O.Ms. No. 2  Edn., S.E(Gen-I) Dept., Dated 05-01-2011  &  read with Proc R.C.No:____________Date:_______________ of the Mandal Educational Officer, Mandal Parishad Udayagiri."}]
[3,"Certified that this bill made good in the office copy of the pay bill register"]
[4,"Certified that the nessery entries are made S.Rs of the individuals."]
[]
[]
[null,null,null,null,null,null,null,"DRAWING OFFICER"]
[]
[]
[]
[]
[]
[]
[]
[]
[]
[]
[]
["For the use Of  Accountant  General  Office"]

{"sheet":"BA-I","index":10,"n_rows":517,"n_cols":8,"rows_kept":517,"cut":false,"hidden":false,"merged":[[514,0,514,2],[515,0,515,2],[3,0,3,1],[2,0,2,1],[4,0,4,1],[5,0,5,1],[6,5,7,5],[6,0,6,1],[6,3,6,4],[0,0,0,4],[512,0,512,4]]}
["ANNEXURE - I"]
[]
["Bank Code :",null,{"$f":"H8","v":"0887"}]
["Bank Name : ",null,{"$f":"G8","v":"State Bank Of India (SBI), Nellore"}]
["DDO Code: ",null,{"$f":"Info!E16","v":"08120308028"}]
["DDO Designation:",null,{"$f":"CONCATENATE(Info!E3,\", \",Info!E4)","v":"Mandal Educational Officer, Mandal Parishad Udayagiri"},null,null,null,{"$f":"EXACT(E510,SUMIF(Main!T4:U503,H8,Main!U4:U503))","v":true}]
["DDO Phone No:",null,{"$f":"Info!E15","v":"_________"},{"$f":"CONCATENATE('Inner '!B1,\" For the month of  \",TEXT(Info!E49,\"MMMM-YYYY\"),\" .\")","v":"CLAIM FOR REIMBURSEMENT OF EDUCATION TUTION FEES TO CHILDREN OF N.G.O.'S IN R.P.S.-2010 For the month of  April-2012 ."},null,"Filter Point","Select Bank Name"]
["Sl.No","Employee Code","Employee Name","Employee A/c No.","Amount to be Credite",null,"State Bank Of India (SBI), Nellore",{"$f":"IF(ISNA(VLOOKUP(G8,Info!$J$2:$K$16,2,FALSE)),\"\",VLOOKUP(G8,Info!$J$2:$K$16,2,FALSE))","v":"0887"}]
[{"$f":"IF(B9=\"\",\"\",SUM($F$9:F9))","v":1},{"$f":"IF(AND(EXACT($G$8,Main!H4),Main!U4>0),Main!B4,\"\")","v":"0807541"},{"$f":"IF(B9=\"\",\"\",Main!C4)","v":"K.V.RAVANAMMA"},{"$f":"IF(B9=\"\",\"\",Main!I4)","v":10555653},{"$f":"IF(B9=\"\",\"\",Main!U4)","v":2000},{"$f":"IF(B9=\"\",\"\",1)","v":1}]
[{"$f":"IF(B10=\"\",\"\",SUM($F$9:F10))","v":""},{"$f":"IF(AND(EXACT($G$8,Main!H5),Main!U5>0),Main!B5,\"\")","v":""},{"$f":"IF(B10=\"\",\"\",Main!C5)","v":""},{"$f":"IF(B10=\"\",\"\",Main!I5)","v":""},{"$f":"IF(B10=\"\",\"\",Main!U5)","v":""},""]
[{"$f":"IF(B11=\"\",\"\",SUM($F$9:F11))","v":""},{"$f":"IF(AND(EXACT($G$8,Main!H6),Main!U6>0),Main!B6,\"\")","v":""},{"$f":"IF(B11=\"\",\"\",Main!C6)","v":""},{"$f":"IF(B11=\"\",\"\",Main!I6)","v":""},{"$f":"IF(B11=\"\",\"\",Main!U6)","v":""},""]
[{"$f":"IF(B12=\"\",\"\",SUM($F$9:F12))","v":""},{"$f":"IF(AND(EXACT($G$8,Main!H7),Main!U7>0),Main!B7,\"\")","v":""},{"$f":"IF(B12=\"\",\"\",Main!C7)","v":""},{"$f":"IF(B12=\"\",\"\",Main!I7)","v":""},{"$f":"IF(B12=\"\",\"\",Main!U7)","v":""},""]
[{"$f":"IF(B13=\"\",\"\",SUM($F$9:F13))","v":""},{"$f":"IF(AND(EXACT($G$8,Main!H8),Main!U8>0),Main!B8,\"\")","v":""},{"$f":"IF(B13=\"\",\"\",Main!C8)","v":""},{"$f":"IF(B13=\"\",\"\",Main!I8)","v":""},{"$f":"IF(B13=\"\",\"\",Main!U8)","v":""},""]
[{"$f":"IF(B14=\"\",\"\",SUM($F$9:F14))","v":""},{"$f":"IF(AND(EXACT($G$8,Main!H9),Main!U9>0),Main!B9,\"\")","v":""},{"$f":"IF(B14=\"\",\"\",Main!C9)","v":""},{"$f":"IF(B14=\"\",\"\",Main!I9)","v":""},{"$f":"IF(B14=\"\",\"\",Main!U9)","v":""},""]
[{"$f":"IF(B15=\"\",\"\",SUM($F$9:F15))","v":""},{"$f":"IF(AND(EXACT($G$8,Main!H10),Main!U10>0),Main!B10,\"\")","v":""},{"$f":"IF(B15=\"\",\"\",Main!C10)","v":""},{"$f":"IF(B15=\"\",\"\",Main!I10)","v":""},{"$f":"IF(B15=\"\",\"\",Main!U10)","v":""},""]
[{"$f":"IF(B16=\"\",\"\",SUM($F$9:F16))","v":""},{"$f":"IF(AND(EXACT($G$8,Main!H11),Main!U11>0),Main!B11,\"\")","v":""},{"$f":"IF(B16=\"\",\"\",Main!C11)","v":""},{"$f":"IF(B16=\"\",\"\",Main!I11)","v":""},{"$f":"IF(B16=\"\",\"\",Main!U11)","v":""},""]
[{"$f":"IF(B17=\"\",\"\",SUM($F$9:F17))","v":""},{"$f":"IF(AND(EXACT($G$8,Main!H12),Main!U12>0),Main!B12,\"\")","v":""},{"$f":"IF(B17=\"\",\"\",Main!C12)","v":""},{"$f":"IF(B17=\"\",\"\",Main!I12)","v":""},{"$f":"IF(B17=\"\",\"\",Main!U12)","v":""},""]
[{"$f":"IF(B18=\"\",\"\",SUM($F$9:F18))","v":""},{"$f":"IF(AND(EXACT($G$8,Main!H13),Main!U13>0),Main!B13,\"\")","v":""},{"$f":"IF(B18=\"\",\"\",Main!C13)","v":""},{"$f":"IF(B18=\"\",\"\",Main!I13)","v":""},{"$f":"IF(B18=\"\",\"\",Main!U13)","v":""},""]
[{"$f":"IF(B19=\"\",\"\",SUM($F$9:F19))","v":""},{"$f":"IF(AND(EXACT($G$8,Main!H14),Main!U14>0),Main!B14,\"\")","v":""},{"$f":"IF(B19=\"\",\"\",Main!C14)","v":""},{"$f":"IF(B19=\"\",\"\",Main!I14)","v":""},{"$f":"IF(B19=\"\",\"\",Main!U14)","v":""},""]
[{"$f":"IF(B20=\"\",\"\",SUM($F$9:F20))","v":""},{"$f":"IF(AND(EXACT($G$8,Main!H15),Main!U15>0),Main!B15,\"\")","v":""},{"$f":"IF(B20=\"\",\"\",Main!C15)","v":""},{"$f":"IF(B20=\"\",\"\",Main!I15)","v":""},{"$f":"IF(B20=\"\",\"\",Main!U15)","v":""},""]
[{"$f":"IF(B21=\"\",\"\",SUM($F$9:F21))","v":""},{"$f":"IF(AND(EXACT($G$8,Main!H16),Main!U16>0),Main!B16,\"\")","v":""},{"$f":"IF(B21=\"\",\"\",Main!C16)","v":""},{"$f":"IF(B21=\"\",\"\",Main!I16)","v":""},{"$f":"IF(B21=\"\",\"\",Main!U16)","v":""},""]
[{"$f":"IF(B22=\"\",\"\",SUM($F$9:F22))","v":""},{"$f":"IF(AND(EXACT($G$8,Main!H17),Main!U17>0),Main!B17,\"\")","v":""},{"$f":"IF(B22=\"\",\"\",Main!C17)","v":""},{"$f":"IF(B22=\"\",\"\",Main!I17)","v":""},{"$f":"IF(B22=\"\",\"\",Main!U17)","v":""},""]
[{"$f":"IF(B23=\"\",\"\",SUM($F$9:F23))","v":""},{"$f":"IF(AND(EXACT($G$8,Main!H18),Main!U18>0),Main!B18,\"\")","v":""},{"$f":"IF(B23=\"\",\"\",Main!C18)","v":""},{"$f":"IF(B23=\"\",\"\",Main!I18)","v":""},{"$f":"IF(B23=\"\",\"\",Main!U18)","v":""},""]
[{"$f":"IF(B24=\"\",\"\",SUM($F$9:F24))","v":""},{"$f":"IF(AND(EXACT($G$8,Main!H19),Main!U19>0),Main!B19,\"\")","v":""},{"$f":"IF(B24=\"\",\"\",Main!C19)","v":""},{"$f":"IF(B24=\"\",\"\",Main!I19)","v":""},{"$f":"IF(B24=\"\",\"\",Main!U19)","v":""},""]
[{"$f":"IF(B25=\"\",\"\",SUM($F$9:F25))","v":""},{"$f":"IF(AND(EXACT($G$8,Main!H20),Main!U20>0),Main!B20,\"\")","v":""},{"$f":"IF(B25=\"\",\"\",Main!C20)","v":""},{"$f":"IF(B25=\"\",\"\",Main!I20)","v":""},{"$f":"IF(B25=\"\",\"\",Main!U20)","v":""},""]
[{"$f":"IF(B26=\"\",\"\",SUM($F$9:F26))","v":""},{"$f":"IF(AND(EXACT($G$8,Main!H21),Main!U21>0),Main!B21,\"\")","v":""},{"$f":"IF(B26=\"\",\"\",Main!C21)","v":""},{"$f":"IF(B26=\"\",\"\",Main!I21)","v":""},{"$f":"IF(B26=\"\",\"\",Main!U21)","v":""},""]
[{"$f":"IF(B27=\"\",\"\",SUM($F$9:F27))","v":""},{"$f":"IF(AND(EXACT($G$8,Main!H22),Main!U22>0),Main!B22,\"\")","v":""},{"$f":"IF(B27=\"\",\"\",Main!C22)","v":""},{"$f":"IF(B27=\"\",\"\",Main!I22)","v":""},{"$f":"IF(B27=\"\",\"\",Main!U22)","v":""},""]
[{"$f":"IF(B28=\"\",\"\",SUM($F$9:F28))","v":""},{"$f":"IF(AND(EXACT($G$8,Main!H23),Main!U23>0),Main!B23,\"\")","v":""},{"$f":"IF(B28=\"\",\"\",Main!C23)","v":""},{"$f":"IF(B28=\"\",\"\",Main!I23)","v":""},{"$f":"IF(B28=\"\",\"\",Main!U23)","v":""},""]
[{"$f":"IF(B29=\"\",\"\",SUM($F$9:F29))","v":""},{"$f":"IF(AND(EXACT($G$8,Main!H24),Main!U24>0),Main!B24,\"\")","v":""},{"$f":"IF(B29=\"\",\"\",Main!C24)","v":""},{"$f":"IF(B29=\"\",\"\",Main!I24)","v":""},{"$f":"IF(B29=\"\",\"\",Main!U24)","v":""},""]
[{"$f":"IF(B30=\"\",\"\",SUM($F$9:F30))","v":""},{"$f":"IF(AND(EXACT($G$8,Main!H25),Main!U25>0),Main!B25,\"\")","v":""},{"$f":"IF(B30=\"\",\"\",Main!C25)","v":""},{"$f":"IF(B30=\"\",\"\",Main!I25)","v":""},{"$f":"IF(B30=\"\",\"\",Main!U25)","v":""},""]
[{"$f":"IF(B31=\"\",\"\",SUM($F$9:F31))","v":""},{"$f":"IF(AND(EXACT($G$8,Main!H26),Main!U26>0),Main!B26,\"\")","v":""},{"$f":"IF(B31=\"\",\"\",Main!C26)","v":""},{"$f":"IF(B31=\"\",\"\",Main!I26)","v":""},{"$f":"IF(B31=\"\",\"\",Main!U26)","v":""},""]
[{"$f":"IF(B32=\"\",\"\",SUM($F$9:F32))","v":""},{"$f":"IF(AND(EXACT($G$8,Main!H27),Main!U27>0),Main!B27,\"\")","v":""},{"$f":"IF(B32=\"\",\"\",Main!C27)","v":""},{"$f":"IF(B32=\"\",\"\",Main!I27)","v":""},{"$f":"IF(B32=\"\",\"\",Main!U27)","v":""},""]
[{"$f":"IF(B33=\"\",\"\",SUM($F$9:F33))","v":""},{"$f":"IF(AND(EXACT($G$8,Main!H28),Main!U28>0),Main!B28,\"\")","v":""},{"$f":"IF(B33=\"\",\"\",Main!C28)","v":""},{"$f":"IF(B33=\"\",\"\",Main!I28)","v":""},{"$f":"IF(B33=\"\",\"\",Main!U28)","v":""},""]
[{"$f":"IF(B34=\"\",\"\",SUM($F$9:F34))","v":2},{"$f":"IF(AND(EXACT($G$8,Main!H29),Main!U29>0),Main!B29,\"\")","v":"0807541"},{"$f":"IF(B34=\"\",\"\",Main!C29)","v":"K.V.RAVANAMMA"},{"$f":"IF(B34=\"\",\"\",Main!I29)","v":10555653},{"$f":"IF(B34=\"\",\"\",Main!U29)","v":2000},1]
[{"$f":"IF(B35=\"\",\"\",SUM($F$9:F35))","v":3},{"$f":"IF(AND(EXACT($G$8,Main!H30),Main!U30>0),Main!B30,\"\")","v":"0807541"},{"$f":"IF(B35=\"\",\"\",Main!C30)","v":"K.V.RAVANAMMA"},{"$f":"IF(B35=\"\",\"\",Main!I30)","v":10555653},{"$f":"IF(B35=\"\",\"\",Main!U30)","v":2000},1]
[{"$f":"IF(B36=\"\",\"\",SUM($F$9:F36))","v":4},{"$f":"IF(AND(EXACT($G$8,Main!H31),Main!U31>0),Main!B31,\"\")","v":"0807541"},{"$f":"IF(B36=\"\",\"\",Main!C31)","v":"K.V.RAVANAMMA"},{"$f":"IF(B36=\"\",\"\",Main!I31)","v":10555653},{"$f":"IF(B36=\"\",\"\",Main!U31)","v":2000},1]
[{"$f":"IF(B37=\"\",\"\",SUM($F$9:F37))","v":5},{"$f":"IF(AND(EXACT($G$8,Main!H32),Main!U32>0),Main!B32,\"\")","v":"0807541"},{"$f":"IF(B37=\"\",\"\",Main!C32)","v":"K.V.RAVANAMMA"},{"$f":"IF(B37=\"\",\"\",Main!I32)","v":10555653},{"$f":"IF(B37=\"\",\"\",Main!U32)","v":2000},1]
[{"$f":"IF(B38=\"\",\"\",SUM($F$9:F38))","v":6},{"$f":"IF(AND(EXACT($G$8,Main!H33),Main!U33>0),Main!B33,\"\")","v":"0807541"},{"$f":"IF(B38=\"\",\"\",Main!C33)","v":"K.V.RAVANAMMA"},{"$f":"IF(B38=\"\",\"\",Main!I33)","v":10555653},{"$f":"IF(B38=\"\",\"\",Main!U33)","v":2000},1]
[{"$f":"IF(B39=\"\",\"\",SUM($F$9:F39))","v":7},{"$f":"IF(AND(EXACT($G$8,Main!H34),Main!U34>0),Main!B34,\"\")","v":"0807541"},{"$f":"IF(B39=\"\",\"\",Main!C34)","v":"K.V.RAVANAMMA"},{"$f":"IF(B39=\"\",\"\",Main!I34)","v":10555653},{"$f":"IF(B39=\"\",\"\",Main!U34)","v":2000},1]
[{"$f":"IF(B40=\"\",\"\",SUM($F$9:F40))","v":8},{"$f":"IF(AND(EXACT($G$8,Main!H35),Main!U35>0),Main!B35,\"\")","v":"0807541"},{"$f":"IF(B40=\"\",\"\",Main!C35)","v":"K.V.RAVANAMMA"},{"$f":"IF(B40=\"\",\"\",Main!I35)","v":10555653},{"$f":"IF(B40=\"\",\"\",Main!U35)","v":2000},1]
[{"$f":"IF(B41=\"\",\"\",SUM($F$9:F41))","v":9},{"$f":"IF(AND(EXACT($G$8,Main!H36),Main!U36>0),Main!B36,\"\")","v":"0807541"},{"$f":"IF(B41=\"\",\"\",Main!C36)","v":"K.V.RAVANAMMA"},{"$f":"IF(B41=\"\",\"\",Main!I36)","v":10555653},{"$f":"IF(B41=\"\",\"\",Main!U36)","v":2000},1]
[{"$f":"IF(B42=\"\",\"\",SUM($F$9:F42))","v":10},{"$f":"IF(AND(EXACT($G$8,Main!H37),Main!U37>0),Main!B37,\"\")","v":"0807541"},{"$f":"IF(B42=\"\",\"\",Main!C37)","v":"K.V.RAVANAMMA"},{"$f":"IF(B42=\"\",\"\",Main!I37)","v":10555653},{"$f":"IF(B42=\"\",\"\",Main!U37)","v":2000},1]
[{"$f":"IF(B43=\"\",\"\",SUM($F$9:F43))","v":11},{"$f":"IF(AND(EXACT($G$8,Main!H38),Main!U38>0),Main!B38,\"\")","v":"0807541"},{"$f":"IF(B43=\"\",\"\",Main!C38)","v":"K.V.RAVANAMMA"},{"$f":"IF(B43=\"\",\"\",Main!I38)","v":10555653},{"$f":"IF(B43=\"\",\"\",Main!U38)","v":2000},1]
[{"$f":"IF(B44=\"\",\"\",SUM($F$9:F44))","v":12},{"$f":"IF(AND(EXACT($G$8,Main!H39),Main!U39>0),Main!B39,\"\")","v":"0807541"},{"$f":"IF(B44=\"\",\"\",Main!C39)","v":"K.V.RAVANAMMA"},{"$f":"IF(B44=\"\",\"\",Main!I39)","v":10555653},{"$f":"IF(B44=\"\",\"\",Main!U39)","v":2000},1]
[{"$f":"IF(B45=\"\",\"\",SUM($F$9:F45))","v":13},{"$f":"IF(AND(EXACT($G$8,Main!H40),Main!U40>0),Main!B40,\"\")","v":"0807541"},{"$f":"IF(B45=\"\",\"\",Main!C40)","v":"K.V.RAVANAMMA"},{"$f":"IF(B45=\"\",\"\",Main!I40)","v":10555653},{"$f":"IF(B45=\"\",\"\",Main!U40)","v":2000},1]
[{"$f":"IF(B46=\"\",\"\",SUM($F$9:F46))","v":14},{"$f":"IF(AND(EXACT($G$8,Main!H41),Main!U41>0),Main!B41,\"\")","v":"0807541"},{"$f":"IF(B46=\"\",\"\",Main!C41)","v":"K.V.RAVANAMMA"},{"$f":"IF(B46=\"\",\"\",Main!I41)","v":10555653},{"$f":"IF(B46=\"\",\"\",Main!U41)","v":2000},1]
[{"$f":"IF(B47=\"\",\"\",SUM($F$9:F47))","v":15},{"$f":"IF(AND(EXACT($G$8,Main!H42),Main!U42>0),Main!B42,\"\")","v":"0807541"},{"$f":"IF(B47=\"\",\"\",Main!C42)","v":"K.V.RAVANAMMA"},{"$f":"IF(B47=\"\",\"\",Main!I42)","v":10555653},{"$f":"IF(B47=\"\",\"\",Main!U42)","v":2000},1]
[{"$f":"IF(B48=\"\",\"\",SUM($F$9:F48))","v":16},{"$f":"IF(AND(EXACT($G$8,Main!H43),Main!U43>0),Main!B43,\"\")","v":"0807541"},{"$f":"IF(B48=\"\",\"\",Main!C43)","v":"K.V.RAVANAMMA"},{"$f":"IF(B48=\"\",\"\",Main!I43)","v":10555653},{"$f":"IF(B48=\"\",\"\",Main!U43)","v":2000},1]
[{"$f":"IF(B49=\"\",\"\",SUM($F$9:F49))","v":17},{"$f":"IF(AND(EXACT($G$8,Main!H44),Main!U44>0),Main!B44,\"\")","v":"0807541"},{"$f":"IF(B49=\"\",\"\",Main!C44)","v":"K.V.RAVANAMMA"},{"$f":"IF(B49=\"\",\"\",Main!I44)","v":10555653},{"$f":"IF(B49=\"\",\"\",Main!U44)","v":2000},1]
[{"$f":"IF(B50=\"\",\"\",SUM($F$9:F50))","v":18},{"$f":"IF(AND(EXACT($G$8,Main!H45),Main!U45>0),Main!B45,\"\")","v":"0807541"},{"$f":"IF(B50=\"\",\"\",Main!C45)","v":"K.V.RAVANAMMA"},{"$f":"IF(B50=\"\",\"\",Main!I45)","v":10555653},{"$f":"IF(B50=\"\",\"\",Main!U45)","v":2000},1]
[{"$f":"IF(B51=\"\",\"\",SUM($F$9:F51))","v":19},{"$f":"IF(AND(EXACT($G$8,Main!H46),Main!U46>0),Main!B46,\"\")","v":"0807541"},{"$f":"IF(B51=\"\",\"\",Main!C46)","v":"K.V.RAVANAMMA"},{"$f":"IF(B51=\"\",\"\",Main!I46)","v":10555653},{"$f":"IF(B51=\"\",\"\",Main!U46)","v":2000},1]
[{"$f":"IF(B52=\"\",\"\",SUM($F$9:F52))","v":20},{"$f":"IF(AND(EXACT($G$8,Main!H47),Main!U47>0),Main!B47,\"\")","v":"0807541"},{"$f":"IF(B52=\"\",\"\",Main!C47)","v":"K.V.RAVANAMMA"},{"$f":"IF(B52=\"\",\"\",Main!I47)","v":10555653},{"$f":"IF(B52=\"\",\"\",Main!U47)","v":2000},1]
[{"$f":"IF(B53=\"\",\"\",SUM($F$9:F53))","v":21},{"$f":"IF(AND(EXACT($G$8,Main!H48),Main!U48>0),Main!B48,\"\")","v":"0807541"},{"$f":"IF(B53=\"\",\"\",Main!C48)","v":"K.V.RAVANAMMA"},{"$f":"IF(B53=\"\",\"\",Main!I48)","v":10555653},{"$f":"IF(B53=\"\",\"\",Main!U48)","v":2000},1]
[{"$f":"IF(B54=\"\",\"\",SUM($F$9:F54))","v":22},{"$f":"IF(AND(EXACT($G$8,Main!H49),Main!U49>0),Main!B49,\"\")","v":"0807541"},{"$f":"IF(B54=\"\",\"\",Main!C49)","v":"K.V.RAVANAMMA"},{"$f":"IF(B54=\"\",\"\",Main!I49)","v":10555653},{"$f":"IF(B54=\"\",\"\",Main!U49)","v":2000},1]
[{"$f":"IF(B55=\"\",\"\",SUM($F$9:F55))","v":23},{"$f":"IF(AND(EXACT($G$8,Main!H50),Main!U50>0),Main!B50,\"\")","v":"0807541"},{"$f":"IF(B55=\"\",\"\",Main!C50)","v":"K.V.RAVANAMMA"},{"$f":"IF(B55=\"\",\"\",Main!I50)","v":10555653},{"$f":"IF(B55=\"\",\"\",Main!U50)","v":2000},1]
[{"$f":"IF(B56=\"\",\"\",SUM($F$9:F56))","v":24},{"$f":"IF(AND(EXACT($G$8,Main!H51),Main!U51>0),Main!B51,\"\")","v":"0807541"},{"$f":"IF(B56=\"\",\"\",Main!C51)","v":"K.V.RAVANAMMA"},{"$f":"IF(B56=\"\",\"\",Main!I51)","v":10555653},{"$f":"IF(B56=\"\",\"\",Main!U51)","v":2000},1]
[{"$f":"IF(B57=\"\",\"\",SUM($F$9:F57))","v":25},{"$f":"IF(AND(EXACT($G$8,Main!H52),Main!U52>0),Main!B52,\"\")","v":"0807541"},{"$f":"IF(B57=\"\",\"\",Main!C52)","v":"K.V.RAVANAMMA"},{"$f":"IF(B57=\"\",\"\",Main!I52)","v":10555653},{"$f":"IF(B57=\"\",\"\",Main!U52)","v":2000},1]
[{"$f":"IF(B58=\"\",\"\",SUM($F$9:F58))","v":26},{"$f":"IF(AND(EXACT($G$8,Main!H53),Main!U53>0),Main!B53,\"\")","v":"0807541"},{"$f":"IF(B58=\"\",\"\",Main!C53)","v":"K.V.RAVANAMMA"},{"$f":"IF(B58=\"\",\"\",Main!I53)","v":10555653},{"$f":"IF(B58=\"\",\"\",Main!U53)","v":2000},1]
[{"$f":"IF(B59=\"\",\"\",SUM($F$9:F59))","v":27},{"$f":"IF(AND(EXACT($G$8,Main!H54),Main!U54>0),Main!B54,\"\")","v":"0807541"},{"$f":"IF(B59=\"\",\"\",Main!C54)","v":"K.V.RAVANAMMA"},{"$f":"IF(B59=\"\",\"\",Main!I54)","v":10555653},{"$f":"IF(B59=\"\",\"\",Main!U54)","v":2000},1]
[{"$f":"IF(B60=\"\",\"\",SUM($F$9:F60))","v":28},{"$f":"IF(AND(EXACT($G$8,Main!H55),Main!U55>0),Main!B55,\"\")","v":"0807541"},{"$f":"IF(B60=\"\",\"\",Main!C55)","v":"K.V.RAVANAMMA"},{"$f":"IF(B60=\"\",\"\",Main!I55)","v":10555653},{"$f":"IF(B60=\"\",\"\",Main!U55)","v":2000},1]
[{"$f":"IF(B61=\"\",\"\",SUM($F$9:F61))","v":29},{"$f":"IF(AND(EXACT($G$8,Main!H56),Main!U56>0),Main!B56,\"\")","v":"0807541"},{"$f":"IF(B61=\"\",\"\",Main!C56)","v":"K.V.RAVANAMMA"},{"$f":"IF(B61=\"\",\"\",Main!I56)","v":10555653},{"$f":"IF(B61=\"\",\"\",Main!U56)","v":2000},1]
[{"$f":"IF(B62=\"\",\"\",SUM($F$9:F62))","v":30},{"$f":"IF(AND(EXACT($G$8,Main!H57),Main!U57>0),Main!B57,\"\")","v":"0807541"},{"$f":"IF(B62=\"\",\"\",Main!C57)","v":"K.V.RAVANAMMA"},{"$f":"IF(B62=\"\",\"\",Main!I57)","v":10555653},{"$f":"IF(B62=\"\",\"\",Main!U57)","v":2000},1]
[{"$f":"IF(B63=\"\",\"\",SUM($F$9:F63))","v":31},{"$f":"IF(AND(EXACT($G$8,Main!H58),Main!U58>0),Main!B58,\"\")","v":"0807541"},{"$f":"IF(B63=\"\",\"\",Main!C58)","v":"K.V.RAVANAMMA"},{"$f":"IF(B63=\"\",\"\",Main!I58)","v":10555653},{"$f":"IF(B63=\"\",\"\",Main!U58)","v":2000},1]
[{"$f":"IF(B64=\"\",\"\",SUM($F$9:F64))","v":32},{"$f":"IF(AND(EXACT($G$8,Main!H59),Main!U59>0),Main!B59,\"\")","v":"0807541"},{"$f":"IF(B64=\"\",\"\",Main!C59)","v":"K.V.RAVANAMMA"},{"$f":"IF(B64=\"\",\"\",Main!I59)","v":10555653},{"$f":"IF(B64=\"\",\"\",Main!U59)","v":2000},1]
[{"$f":"IF(B65=\"\",\"\",SUM($F$9:F65))","v":33},{"$f":"IF(AND(EXACT($G$8,Main!H60),Main!U60>0),Main!B60,\"\")","v":"0807541"},{"$f":"IF(B65=\"\",\"\",Main!C60)","v":"K.V.RAVANAMMA"},{"$f":"IF(B65=\"\",\"\",Main!I60)","v":10555653},{"$f":"IF(B65=\"\",\"\",Main!U60)","v":2000},1]
[{"$f":"IF(B66=\"\",\"\",SUM($F$9:F66))","v":34},{"$f":"IF(AND(EXACT($G$8,Main!H61),Main!U61>0),Main!B61,\"\")","v":"0807541"},{"$f":"IF(B66=\"\",\"\",Main!C61)","v":"K.V.RAVANAMMA"},{"$f":"IF(B66=\"\",\"\",Main!I61)","v":10555653},{"$f":"IF(B66=\"\",\"\",Main!U61)","v":2000},1]
[{"$f":"IF(B67=\"\",\"\",SUM($F$9:F67))","v":35},{"$f":"IF(AND(EXACT($G$8,Main!H62),Main!U62>0),Main!B62,\"\")","v":"0807541"},{"$f":"IF(B67=\"\",\"\",Main!C62)","v":"K.V.RAVANAMMA"},{"$f":"IF(B67=\"\",\"\",Main!I62)","v":10555653},{"$f":"IF(B67=\"\",\"\",Main!U62)","v":2000},1]
[{"$f":"IF(B68=\"\",\"\",SUM($F$9:F68))","v":36},{"$f":"IF(AND(EXACT($G$8,Main!H63),Main!U63>0),Main!B63,\"\")","v":"0807541"},{"$f":"IF(B68=\"\",\"\",Main!C63)","v":"K.V.RAVANAMMA"},{"$f":"IF(B68=\"\",\"\",Main!I63)","v":10555653},{"$f":"IF(B68=\"\",\"\",Main!U63)","v":2000},1]
[{"$f":"IF(B69=\"\",\"\",SUM($F$9:F69))","v":37},{"$f":"IF(AND(EXACT($G$8,Main!H64),Main!U64>0),Main!B64,\"\")","v":"0807541"},{"$f":"IF(B69=\"\",\"\",Main!C64)","v":"K.V.RAVANAMMA"},{"$f":"IF(B69=\"\",\"\",Main!I64)","v":10555653},{"$f":"IF(B69=\"\",\"\",Main!U64)","v":2000},1]
[{"$f":"IF(B70=\"\",\"\",SUM($F$9:F70))","v":38},{"$f":"IF(AND(EXACT($G$8,Main!H65),Main!U65>0),Main!B65,\"\")","v":"0807541"},{"$f":"IF(B70=\"\",\"\",Main!C65)","v":"K.V.RAVANAMMA"},{"$f":"IF(B70=\"\",\"\",Main!I65)","v":10555653},{"$f":"IF(B70=\"\",\"\",Main!U65)","v":2000},1]
[{"$f":"IF(B71=\"\",\"\",SUM($F$9:F71))","v":39},{"$f":"IF(AND(EXACT($G$8,Main!H66),Main!U66>0),Main!B66,\"\")","v":"0807541"},{"$f":"IF(B71=\"\",\"\",Main!C66)","v":"K.V.RAVANAMMA"},{"$f":"IF(B71=\"\",\"\",Main!I66)","v":10555653},{"$f":"IF(B71=\"\",\"\",Main!U66)","v":2000},1]
[{"$f":"IF(B72=\"\",\"\",SUM($F$9:F72))","v":40},{"$f":"IF(AND(EXACT($G$8,Main!H67),Main!U67>0),Main!B67,\"\")","v":"0807541"},{"$f":"IF(B72=\"\",\"\",Main!C67)","v":"K.V.RAVANAMMA"},{"$f":"IF(B72=\"\",\"\",Main!I67)","v":10555653},{"$f":"IF(B72=\"\",\"\",Main!U67)","v":2000},1]
[{"$f":"IF(B73=\"\",\"\",SUM($F$9:F73))","v":41},{"$f":"IF(AND(EXACT($G$8,Main!H68),Main!U68>0),Main!B68,\"\")","v":"0807541"},{"$f":"IF(B73=\"\",\"\",Main!C68)","v":"K.V.RAVANAMMA"},{"$f":"IF(B73=\"\",\"\",Main!I68)","v":10555653},{"$f":"IF(B73=\"\",\"\",Main!U68)","v":2000},{"$f":"IF(B73=\"\",\"\",1)","v":1}]
[{"$f":"IF(B74=\"\",\"\",SUM($F$9:F74))","v":42},{"$f":"IF(AND(EXACT($G$8,Main!H69),Main!U69>0),Main!B69,\"\")","v":"0807541"},{"$f":"IF(B74=\"\",\"\",Main!C69)","v":"K.V.RAVANAMMA"},{"$f":"IF(B74=\"\",\"\",Main!I69)","v":10555653},{"$f":"IF(B74=\"\",\"\",Main!U69)","v":2000},1]
[{"$f":"IF(B75=\"\",\"\",SUM($F$9:F75))","v":43},{"$f":"IF(AND(EXACT($G$8,Main!H70),Main!U70>0),Main!B70,\"\")","v":"0807541"},{"$f":"IF(B75=\"\",\"\",Main!C70)","v":"K.V.RAVANAMMA"},{"$f":"IF(B75=\"\",\"\",Main!I70)","v":10555653},{"$f":"IF(B75=\"\",\"\",Main!U70)","v":2000},1]
[{"$f":"IF(B76=\"\",\"\",SUM($F$9:F76))","v":44},{"$f":"IF(AND(EXACT($G$8,Main!H71),Main!U71>0),Main!B71,\"\")","v":"0807541"},{"$f":"IF(B76=\"\",\"\",Main!C71)","v":"K.V.RAVANAMMA"},{"$f":"IF(B76=\"\",\"\",Main!I71)","v":10555653},{"$f":"IF(B76=\"\",\"\",Main!U71)","v":2000},1]
[{"$f":"IF(B77=\"\",\"\",SUM($F$9:F77))","v":45},{"$f":"IF(AND(EXACT($G$8,Main!H72),Main!U72>0),Main!B72,\"\")","v":"0807541"},{"$f":"IF(B77=\"\",\"\",Main!C72)","v":"K.V.RAVANAMMA"},{"$f":"IF(B77=\"\",\"\",Main!I72)","v":10555653},{"$f":"IF(B77=\"\",\"\",Main!U72)","v":2000},1]
[{"$f":"IF(B78=\"\",\"\",SUM($F$9:F78))","v":46},{"$f":"IF(AND(EXACT($G$8,Main!H73),Main!U73>0),Main!B73,\"\")","v":"0807541"},{"$f":"IF(B78=\"\",\"\",Main!C73)","v":"K.V.RAVANAMMA"},{"$f":"IF(B78=\"\",\"\",Main!I73)","v":10555653},{"$f":"IF(B78=\"\",\"\",Main!U73)","v":2000},1]
[{"$f":"IF(B79=\"\",\"\",SUM($F$9:F79))","v":47},{"$f":"IF(AND(EXACT($G$8,Main!H74),Main!U74>0),Main!B74,\"\")","v":"0807541"},{"$f":"IF(B79=\"\",\"\",Main!C74)","v":"K.V.RAVANAMMA"},{"$f":"IF(B79=\"\",\"\",Main!I74)","v":10555653},{"$f":"IF(B79=\"\",\"\",Main!U74)","v":2000},1]
[{"$f":"IF(B80=\"\",\"\",SUM($F$9:F80))","v":48},{"$f":"IF(AND(EXACT($G$8,Main!H75),Main!U75>0),Main!B75,\"\")","v":"0807541"},{"$f":"IF(B80=\"\",\"\",Main!C75)","v":"K.V.RAVANAMMA"},{"$f":"IF(B80=\"\",\"\",Main!I75)","v":10555653},{"$f":"IF(B80=\"\",\"\",Main!U75)","v":2000},1]
[{"$f":"IF(B81=\"\",\"\",SUM($F$9:F81))","v":49},{"$f":"IF(AND(EXACT($G$8,Main!H76),Main!U76>0),Main!B76,\"\")","v":"0807541"},{"$f":"IF(B81=\"\",\"\",Main!C76)","v":"K.V.RAVANAMMA"},{"$f":"IF(B81=\"\",\"\",Main!I76)","v":10555653},{"$f":"IF(B81=\"\",\"\",Main!U76)","v":2000},1]
[{"$f":"IF(B82=\"\",\"\",SUM($F$9:F82))","v":50},{"$f":"IF(AND(EXACT($G$8,Main!H77),Main!U77>0),Main!B77,\"\")","v":"0807541"},{"$f":"IF(B82=\"\",\"\",Main!C77)","v":"K.V.RAVANAMMA"},{"$f":"IF(B82=\"\",\"\",Main!I77)","v":10555653},{"$f":"IF(B82=\"\",\"\",Main!U77)","v":2000},1]
[{"$f":"IF(B83=\"\",\"\",SUM($F$9:F83))","v":51},{"$f":"IF(AND(EXACT($G$8,Main!H78),Main!U78>0),Main!B78,\"\")","v":"0807541"},{"$f":"IF(B83=\"\",\"\",Main!C78)","v":"K.V.RAVANAMMA"},{"$f":"IF(B83=\"\",\"\",Main!I78)","v":10555653},{"$f":"IF(B83=\"\",\"\",Main!U78)","v":2000},1]
[{"$f":"IF(B84=\"\",\"\",SUM($F$9:F84))","v":52},{"$f":"IF(AND(EXACT($G$8,Main!H79),Main!U79>0),Main!B79,\"\")","v":"0807541"},{"$f":"IF(B84=\"\",\"\",Main!C79)","v":"K.V.RAVANAMMA"},{"$f":"IF(B84=\"\",\"\",Main!I79)","v":10555653},{"$f":"IF(B84=\"\",\"\",Main!U79)","v":2000},1]
[{"$f":"IF(B85=\"\",\"\",SUM($F$9:F85))","v":53},{"$f":"IF(AND(EXACT($G$8,Main!H80),Main!U80>0),Main!B80,\"\")","v":"0807541"},{"$f":"IF(B85=\"\",\"\",Main!C80)","v":"K.V.RAVANAMMA"},{"$f":"IF(B85=\"\",\"\",Main!I80)","v":10555653},{"$f":"IF(B85=\"\",\"\",Main!U80)","v":2000},1]
[{"$f":"IF(B86=\"\",\"\",SUM($F$9:F86))","v":54},{"$f":"IF(AND(EXACT($G$8,Main!H81),Main!U81>0),Main!B81,\"\")","v":"0807541"},{"$f":"IF(B86=\"\",\"\",Main!C81)","v":"K.V.RAVANAMMA"},{"$f":"IF(B86=\"\",\"\",Main!I81)","v":10555653},{"$f":"IF(B86=\"\",\"\",Main!U81)","v":2000},1]
[{"$f":"IF(B87=\"\",\"\",SUM($F$9:F87))","v":55},{"$f":"IF(AND(EXACT($G$8,Main!H82),Main!U82>0),Main!B82,\"\")","v":"0807541"},{"$f":"IF(B87=\"\",\"\",Main!C82)","v":"K.V.RAVANAMMA"},{"$f":"IF(B87=\"\",\"\",Main!I82)","v":10555653},{"$f":"IF(B87=\"\",\"\",Main!U82)","v":2000},1]
[{"$f":"IF(B88=\"\",\"\",SUM($F$9:F88))","v":56},{"$f":"IF(AND(EXACT($G$8,Main!H83),Main!U83>0),Main!B83,\"\")","v":"0807541"},{"$f":"IF(B88=\"\",\"\",Main!C83)","v":"K.V.RAVANAMMA"},{"$f":"IF(B88=\"\",\"\",Main!I83)","v":10555653},{"$f":"IF(B88=\"\",\"\",Main!U83)","v":2000},1]
[{"$f":"IF(B89=\"\",\"\",SUM($F$9:F89))","v":57},{"$f":"IF(AND(EXACT($G$8,Main!H84),Main!U84>0),Main!B84,\"\")","v":"0807541"},{"$f":"IF(B89=\"\",\"\",Main!C84)","v":"K.V.RAVANAMMA"},{"$f":"IF(B89=\"\",\"\",Main!I84)","v":10555653},{"$f":"IF(B89=\"\",\"\",Main!U84)","v":2000},1]
[{"$f":"IF(B90=\"\",\"\",SUM($F$9:F90))","v":58},{"$f":"IF(AND(EXACT($G$8,Main!H85),Main!U85>0),Main!B85,\"\")","v":"0807541"},{"$f":"IF(B90=\"\",\"\",Main!C85)","v":"K.V.RAVANAMMA"},{"$f":"IF(B90=\"\",\"\",Main!I85)","v":10555653},{"$f":"IF(B90=\"\",\"\",Main!U85)","v":2000},1]
[{"$f":"IF(B91=\"\",\"\",SUM($F$9:F91))","v":59},{"$f":"IF(AND(EXACT($G$8,Main!H86),Main!U86>0),Main!B86,\"\")","v":"0807541"},{"$f":"IF(B91=\"\",\"\",Main!C86)","v":"K.V.RAVANAMMA"},{"$f":"IF(B91=\"\",\"\",Main!I86)","v":10555653},{"$f":"IF(B91=\"\",\"\",Main!U86)","v":2000},1]
[{"$f":"IF(B92=\"\",\"\",SUM($F$9:F92))","v":60},{"$f":"IF(AND(EXACT($G$8,Main!H87),Main!U87>0),Main!B87,\"\")","v":"0807541"},{"$f":"IF(B92=\"\",\"\",Main!C87)","v":"K.V.RAVANAMMA"},{"$f":"IF(B92=\"\",\"\",Main!I87)","v":10555653},{"$f":"IF(B92=\"\",\"\",Main!U87)","v":2000},1]
[{"$f":"IF(B93=\"\",\"\",SUM($F$9:F93))","v":61},{"$f":"IF(AND(EXACT($G$8,Main!H88),Main!U88>0),Main!B88,\"\")","v":"0807541"},{"$f":"IF(B93=\"\",\"\",Main!C88)","v":"K.V.RAVANAMMA"},{"$f":"IF(B93=\"\",\"\",Main!I88)","v":10555653},{"$f":"IF(B93=\"\",\"\",Main!U88)","v":2000},1]
[{"$f":"IF(B94=\"\",\"\",SUM($F$9:F94))","v":62},{"$f":"IF(AND(EXACT($G$8,Main!H89),Main!U89>0),Main!B89,\"\")","v":"0807541"},{"$f":"IF(B94=\"\",\"\",Main!C89)","v":"K.V.RAVANAMMA"},{"$f":"IF(B94=\"\",\"\",Main!I89)","v":10555653},{"$f":"IF(B94=\"\",\"\",Main!U89)","v":2000},1]
[{"$f":"IF(B95=\"\",\"\",SUM($F$9:F95))","v":63},{"$f":"IF(AND(EXACT($G$8,Main!H90),Main!U90>0),Main!B90,\"\")","v":"0807541"},{"$f":"IF(B95=\"\",\"\",Main!C90)","v":"K.V.RAVANAMMA"},{"$f":"IF(B95=\"\",\"\",Main!I90)","v":10555653},{"$f":"IF(B95=\"\",\"\",Main!U90)","v":2000},1]
[{"$f":"IF(B96=\"\",\"\",SUM($F$9:F96))","v":64},{"$f":"IF(AND(EXACT($G$8,Main!H91),Main!U91>0),Main!B91,\"\")","v":"0807541"},{"$f":"IF(B96=\"\",\"\",Main!C91)","v":"K.V.RAVANAMMA"},{"$f":"IF(B96=\"\",\"\",Main!I91)","v":10555653},{"$f":"IF(B96=\"\",\"\",Main!U91)","v":2000},1]
[{"$f":"IF(B97=\"\",\"\",SUM($F$9:F97))","v":65},{"$f":"IF(AND(EXACT($G$8,Main!H92),Main!U92>0),Main!B92,\"\")","v":"0807541"},{"$f":"IF(B97=\"\",\"\",Main!C92)","v":"K.V.RAVANAMMA"},{"$f":"IF(B97=\"\",\"\",Main!I92)","v":10555653},{"$f":"IF(B97=\"\",\"\",Main!U92)","v":2000},1]
[{"$f":"IF(B98=\"\",\"\",SUM($F$9:F98))","v":66},{"$f":"IF(AND(EXACT($G$8,Main!H93),Main!U93>0),Main!B93,\"\")","v":"0807541"},{"$f":"IF(B98=\"\",\"\",Main!C93)","v":"K.V.RAVANAMMA"},{"$f":"IF(B98=\"\",\"\",Main!I93)","v":10555653},{"$f":"IF(B98=\"\",\"\",Main!U93)","v":2000},1]
[{"$f":"IF(B99=\"\",\"\",SUM($F$9:F99))","v":67},{"$f":"IF(AND(EXACT($G$8,Main!H94),Main!U94>0),Main!B94,\"\")","v":"0807541"},{"$f":"IF(B99=\"\",\"\",Main!C94)","v":"K.V.RAVANAMMA"},{"$f":"IF(B99=\"\",\"\",Main!I94)","v":10555653},{"$f":"IF(B99=\"\",\"\",Main!U94)","v":2000},1]
[{"$f":"IF(B100=\"\",\"\",SUM($F$9:F100))","v":68},{"$f":"IF(AND(EXACT($G$8,Main!H95),Main!U95>0),Main!B95,\"\")","v":"0807541"},{"$f":"IF(B100=\"\",\"\",Main!C95)","v":"K.V.RAVANAMMA"},{"$f":"IF(B100=\"\",\"\",Main!I95)","v":10555653},{"$f":"IF(B100=\"\",\"\",Main!U95)","v":2000},1]
[{"$f":"IF(B101=\"\",\"\",SUM($F$9:F101))","v":69},{"$f":"IF(AND(EXACT($G$8,Main!H96),Main!U96>0),Main!B96,\"\")","v":"0807541"},{"$f":"IF(B101=\"\",\"\",Main!C96)","v":"K.V.RAVANAMMA"},{"$f":"IF(B101=\"\",\"\",Main!I96)","v":10555653},{"$f":"IF(B101=\"\",\"\",Main!U96)","v":2000},1]
[{"$f":"IF(B102=\"\",\"\",SUM($F$9:F102))","v":70},{"$f":"IF(AND(EXACT($G$8,Main!H97),Main!U97>0),Main!B97,\"\")","v":"0807541"},{"$f":"IF(B102=\"\",\"\",Main!C97)","v":"K.V.RAVANAMMA"},{"$f":"IF(B102=\"\",\"\",Main!I97)","v":10555653},{"$f":"IF(B102=\"\",\"\",Main!U97)","v":2000},1]
[{"$f":"IF(B103=\"\",\"\",SUM($F$9:F103))","v":71},{"$f":"IF(AND(EXACT($G$8,Main!H98),Main!U98>0),Main!B98,\"\")","v":"0807541"},{"$f":"IF(B103=\"\",\"\",Main!C98)","v":"K.V.RAVANAMMA"},{"$f":"IF(B103=\"\",\"\",Main!I98)","v":10555653},{"$f":"IF(B103=\"\",\"\",Main!U98)","v":2000},1]
[{"$f":"IF(B104=\"\",\"\",SUM($F$9:F104))","v":72},{"$f":"IF(AND(EXACT($G$8,Main!H99),Main!U99>0),Main!B99,\"\")","v":"0807541"},{"$f":"IF(B104=\"\",\"\",Main!C99)","v":"K.V.RAVANAMMA"},{"$f":"IF(B104=\"\",\"\",Main!I99)","v":10555653},{"$f":"IF(B104=\"\",\"\",Main!U99)","v":2000},1]
[{"$f":"IF(B105=\"\",\"\",SUM($F$9:F105))","v":73},{"$f":"IF(AND(EXACT($G$8,Main!H100),Main!U100>0),Main!B100,\"\")","v":"0807541"},{"$f":"IF(B105=\"\",\"\",Main!C100)","v":"K.V.RAVANAMMA"},{"$f":"IF(B105=\"\",\"\",Main!I100)","v":10555653},{"$f":"IF(B105=\"\",\"\",Main!U100)","v":2000},1]
[{"$f":"IF(B106=\"\",\"\",SUM($F$9:F106))","v":74},{"$f":"IF(AND(EXACT($G$8,Main!H101),Main!U101>0),Main!B101,\"\")","v":"0807541"},{"$f":"IF(B106=\"\",\"\",Main!C101)","v":"K.V.RAVANAMMA"},{"$f":"IF(B106=\"\",\"\",Main!I101)","v":10555653},{"$f":"IF(B106=\"\",\"\",Main!U101)","v":2000},1]
[{"$f":"IF(B107=\"\",\"\",SUM($F$9:F107))","v":75},{"$f":"IF(AND(EXACT($G$8,Main!H102),Main!U102>0),Main!B102,\"\")","v":"0807541"},{"$f":"IF(B107=\"\",\"\",Main!C102)","v":"K.V.RAVANAMMA"},{"$f":"IF(B107=\"\",\"\",Main!I102)","v":10555653},{"$f":"IF(B107=\"\",\"\",Main!U102)","v":2000},1]
[{"$f":"IF(B108=\"\",\"\",SUM($F$9:F108))","v":76},{"$f":"IF(AND(EXACT($G$8,Main!H103),Main!U103>0),Main!B103,\"\")","v":"0807541"},{"$f":"IF(B108=\"\",\"\",Main!C103)","v":"K.V.RAVANAMMA"},{"$f":"IF(B108=\"\",\"\",Main!I103)","v":10555653},{"$f":"IF(B108=\"\",\"\",Main!U103)","v":2000},1]
[{"$f":"IF(B109=\"\",\"\",SUM($F$9:F109))","v":77},{"$f":"IF(AND(EXACT($G$8,Main!H104),Main!U104>0),Main!B104,\"\")","v":"0807541"},{"$f":"IF(B109=\"\",\"\",Main!C104)","v":"K.V.RAVANAMMA"},{"$f":"IF(B109=\"\",\"\",Main!I104)","v":10555653},{"$f":"IF(B109=\"\",\"\",Main!U104)","v":2000},1]
[{"$f":"IF(B110=\"\",\"\",SUM($F$9:F110))","v":78},{"$f":"IF(AND(EXACT($G$8,Main!H105),Main!U105>0),Main!B105,\"\")","v":"0807541"},{"$f":"IF(B110=\"\",\"\",Main!C105)","v":"K.V.RAVANAMMA"},{"$f":"IF(B110=\"\",\"\",Main!I105)","v":10555653},{"$f":"IF(B110=\"\",\"\",Main!U105)","v":2000},1]
[{"$f":"IF(B111=\"\",\"\",SUM($F$9:F111))","v":79},{"$f":"IF(AND(EXACT($G$8,Main!H106),Main!U106>0),Main!B106,\"\")","v":"0807541"},{"$f":"IF(B111=\"\",\"\",Main!C106)","v":"K.V.RAVANAMMA"},{"$f":"IF(B111=\"\",\"\",Main!I106)","v":10555653},{"$f":"IF(B111=\"\",\"\",Main!U106)","v":2000},1]
[{"$f":"IF(B112=\"\",\"\",SUM($F$9:F112))","v":80},{"$f":"IF(AND(EXACT($G$8,Main!H107),Main!U107>0),Main!B107,\"\")","v":"0807541"},{"$f":"IF(B112=\"\",\"\",Main!C107)","v":"K.V.RAVANAMMA"},{"$f":"IF(B112=\"\",\"\",Main!I107)","v":10555653},{"$f":"IF(B112=\"\",\"\",Main!U107)","v":2000},1]
[{"$f":"IF(B113=\"\",\"\",SUM($F$9:F113))","v":81},{"$f":"IF(AND(EXACT($G$8,Main!H108),Main!U108>0),Main!B108,\"\")","v":"0807541"},{"$f":"IF(B113=\"\",\"\",Main!C108)","v":"K.V.RAVANAMMA"},{"$f":"IF(B113=\"\",\"\",Main!I108)","v":10555653},{"$f":"IF(B113=\"\",\"\",Main!U108)","v":2000},1]
[{"$f":"IF(B114=\"\",\"\",SUM($F$9:F114))","v":82},{"$f":"IF(AND(EXACT($G$8,Main!H109),Main!U109>0),Main!B109,\"\")","v":"0807541"},{"$f":"IF(B114=\"\",\"\",Main!C109)","v":"K.V.RAVANAMMA"},{"$f":"IF(B114=\"\",\"\",Main!I109)","v":10555653},{"$f":"IF(B114=\"\",\"\",Main!U109)","v":2000},1]
[{"$f":"IF(B115=\"\",\"\",SUM($F$9:F115))","v":83},{"$f":"IF(AND(EXACT($G$8,Main!H110),Main!U110>0),Main!B110,\"\")","v":"0807541"},{"$f":"IF(B115=\"\",\"\",Main!C110)","v":"K.V.RAVANAMMA"},{"$f":"IF(B115=\"\",\"\",Main!I110)","v":10555653},{"$f":"IF(B115=\"\",\"\",Main!U110)","v":2000},1]
[{"$f":"IF(B116=\"\",\"\",SUM($F$9:F116))","v":84},{"$f":"IF(AND(EXACT($G$8,Main!H111),Main!U111>0),Main!B111,\"\")","v":"0807541"},{"$f":"IF(B116=\"\",\"\",Main!C111)","v":"K.V.RAVANAMMA"},{"$f":"IF(B116=\"\",\"\",Main!I111)","v":10555653},{"$f":"IF(B116=\"\",\"\",Main!U111)","v":2000},1]
[{"$f":"IF(B117=\"\",\"\",SUM($F$9:F117))","v":85},{"$f":"IF(AND(EXACT($G$8,Main!H112),Main!U112>0),Main!B112,\"\")","v":"0807541"},{"$f":"IF(B117=\"\",\"\",Main!C112)","v":"K.V.RAVANAMMA"},{"$f":"IF(B117=\"\",\"\",Main!I112)","v":10555653},{"$f":"IF(B117=\"\",\"\",Main!U112)","v":2000},1]
[{"$f":"IF(B118=\"\",\"\",SUM($F$9:F118))","v":86},{"$f":"IF(AND(EXACT($G$8,Main!H113),Main!U113>0),Main!B113,\"\")","v":"0807541"},{"$f":"IF(B118=\"\",\"\",Main!C113)","v":"K.V.RAVANAMMA"},{"$f":"IF(B118=\"\",\"\",Main!I113)","v":10555653},{"$f":"IF(B118=\"\",\"\",Main!U113)","v":2000},1]
[{"$f":"IF(B119=\"\",\"\",SUM($F$9:F119))","v":87},{"$f":"IF(AND(EXACT($G$8,Main!H114),Main!U114>0),Main!B114,\"\")","v":"0807541"},{"$f":"IF(B119=\"\",\"\",Main!C114)","v":"K.V.RAVANAMMA"},{"$f":"IF(B119=\"\",\"\",Main!I114)","v":10555653},{"$f":"IF(B119=\"\",\"\",Main!U114)","v":2000},1]
[{"$f":"IF(B120=\"\",\"\",SUM($F$9:F120))","v":88},{"$f":"IF(AND(EXACT($G$8,Main!H115),Main!U115>0),Main!B115,\"\")","v":"0807541"},{"$f":"IF(B120=\"\",\"\",Main!C115)","v":"K.V.RAVANAMMA"},{"$f":"IF(B120=\"\",\"\",Main!I115)","v":10555653},{"$f":"IF(B120=\"\",\"\",Main!U115)","v":2000},1]
[{"$f":"IF(B121=\"\",\"\",SUM($F$9:F121))","v":89},{"$f":"IF(AND(EXACT($G$8,Main!H116),Main!U116>0),Main!B116,\"\")","v":"0807541"},{"$f":"IF(B121=\"\",\"\",Main!C116)","v":"K.V.RAVANAMMA"},{"$f":"IF(B121=\"\",\"\",Main!I116)","v":10555653},{"$f":"IF(B121=\"\",\"\",Main!U116)","v":2000},1]
[{"$f":"IF(B122=\"\",\"\",SUM($F$9:F122))","v":90},{"$f":"IF(AND(EXACT($G$8,Main!H117),Main!U117>0),Main!B117,\"\")","v":"0807541"},{"$f":"IF(B122=\"\",\"\",Main!C117)","v":"K.V.RAVANAMMA"},{"$f":"IF(B122=\"\",\"\",Main!I117)","v":10555653},{"$f":"IF(B122=\"\",\"\",Main!U117)","v":2000},1]
[{"$f":"IF(B123=\"\",\"\",SUM($F$9:F123))","v":91},{"$f":"IF(AND(EXACT($G$8,Main!H118),Main!U118>0),Main!B118,\"\")","v":"0807541"},{"$f":"IF(B123=\"\",\"\",Main!C118)","v":"K.V.RAVANAMMA"},{"$f":"IF(B123=\"\",\"\",Main!I118)","v":10555653},{"$f":"IF(B123=\"\",\"\",Main!U118)","v":2000},1]
[{"$f":"IF(B124=\"\",\"\",SUM($F$9:F124))","v":92},{"$f":"IF(AND(EXACT($G$8,Main!H119),Main!U119>0),Main!B119,\"\")","v":"0807541"},{"$f":"IF(B124=\"\",\"\",Main!C119)","v":"K.V.RAVANAMMA"},{"$f":"IF(B124=\"\",\"\",Main!I119)","v":10555653},{"$f":"IF(B124=\"\",\"\",Main!U119)","v":2000},1]
[{"$f":"IF(B125=\"\",\"\",SUM($F$9:F125))","v":93},{"$f":"IF(AND(EXACT($G$8,Main!H120),Main!U120>0),Main!B120,\"\")","v":"0807541"},{"$f":"IF(B125=\"\",\"\",Main!C120)","v":"K.V.RAVANAMMA"},{"$f":"IF(B125=\"\",\"\",Main!I120)","v":10555653},{"$f":"IF(B125=\"\",\"\",Main!U120)","v":2000},1]
[{"$f":"IF(B126=\"\",\"\",SUM($F$9:F126))","v":94},{"$f":"IF(AND(EXACT($G$8,Main!H121),Main!U121>0),Main!B121,\"\")","v":"0807541"},{"$f":"IF(B126=\"\",\"\",Main!C121)","v":"K.V.RAVANAMMA"},{"$f":"IF(B126=\"\",\"\",Main!I121)","v":10555653},{"$f":"IF(B126=\"\",\"\",Main!U121)","v":2000},1]
[{"$f":"IF(B127=\"\",\"\",SUM($F$9:F127))","v":95},{"$f":"IF(AND(EXACT($G$8,Main!H122),Main!U122>0),Main!B122,\"\")","v":"0807541"},{"$f":"IF(B127=\"\",\"\",Main!C122)","v":"K.V.RAVANAMMA"},{"$f":"IF(B127=\"\",\"\",Main!I122)","v":10555653},{"$f":"IF(B127=\"\",\"\",Main!U122)","v":2000},1]
[{"$f":"IF(B128=\"\",\"\",SUM($F$9:F128))","v":96},{"$f":"IF(AND(EXACT($G$8,Main!H123),Main!U123>0),Main!B123,\"\")","v":"0807541"},{"$f":"IF(B128=\"\",\"\",Main!C123)","v":"K.V.RAVANAMMA"},{"$f":"IF(B128=\"\",\"\",Main!I123)","v":10555653},{"$f":"IF(B128=\"\",\"\",Main!U123)","v":2000},1]
[{"$f":"IF(B129=\"\",\"\",SUM($F$9:F129))","v":97},{"$f":"IF(AND(EXACT($G$8,Main!H124),Main!U124>0),Main!B124,\"\")","v":"0807541"},{"$f":"IF(B129=\"\",\"\",Main!C124)","v":"K.V.RAVANAMMA"},{"$f":"IF(B129=\"\",\"\",Main!I124)","v":10555653},{"$f":"IF(B129=\"\",\"\",Main!U124)","v":2000},1]
[{"$f":"IF(B130=\"\",\"\",SUM($F$9:F130))","v":98},{"$f":"IF(AND(EXACT($G$8,Main!H125),Main!U125>0),Main!B125,\"\")","v":"0807541"},{"$f":"IF(B130=\"\",\"\",Main!C125)","v":"K.V.RAVANAMMA"},{"$f":"IF(B130=\"\",\"\",Main!I125)","v":10555653},{"$f":"IF(B130=\"\",\"\",Main!U125)","v":2000},1]
[{"$f":"IF(B131=\"\",\"\",SUM($F$9:F131))","v":99},{"$f":"IF(AND(EXACT($G$8,Main!H126),Main!U126>0),Main!B126,\"\")","v":"0807541"},{"$f":"IF(B131=\"\",\"\",Main!C126)","v":"K.V.RAVANAMMA"},{"$f":"IF(B131=\"\",\"\",Main!I126)","v":10555653},{"$f":"IF(B131=\"\",\"\",Main!U126)","v":2000},1]
[{"$f":"IF(B132=\"\",\"\",SUM($F$9:F132))","v":100},{"$f":"IF(AND(EXACT($G$8,Main!H127),Main!U127>0),Main!B127,\"\")","v":"0807541"},{"$f":"IF(B132=\"\",\"\",Main!C127)","v":"K.V.RAVANAMMA"},{"$f":"IF(B132=\"\",\"\",Main!I127)","v":10555653},{"$f":"IF(B132=\"\",\"\",Main!U127)","v":2000},1]
[{"$f":"IF(B133=\"\",\"\",SUM($F$9:F133))","v":101},{"$f":"IF(AND(EXACT($G$8,Main!H128),Main!U128>0),Main!B128,\"\")","v":"0807541"},{"$f":"IF(B133=\"\",\"\",Main!C128)","v":"K.V.RAVANAMMA"},{"$f":"IF(B133=\"\",\"\",Main!I128)","v":10555653},{"$f":"IF(B133=\"\",\"\",Main!U128)","v":2000},1]
[{"$f":"IF(B134=\"\",\"\",SUM($F$9:F134))","v":102},{"$f":"IF(AND(EXACT($G$8,Main!H129),Main!U129>0),Main!B129,\"\")","v":"0807541"},{"$f":"IF(B134=\"\",\"\",Main!C129)","v":"K.V.RAVANAMMA"},{"$f":"IF(B134=\"\",\"\",Main!I129)","v":10555653},{"$f":"IF(B134=\"\",\"\",Main!U129)","v":2000},1]
[{"$f":"IF(B135=\"\",\"\",SUM($F$9:F135))","v":103},{"$f":"IF(AND(EXACT($G$8,Main!H130),Main!U130>0),Main!B130,\"\")","v":"0807541"},{"$f":"IF(B135=\"\",\"\",Main!C130)","v":"K.V.RAVANAMMA"},{"$f":"IF(B135=\"\",\"\",Main!I130)","v":10555653},{"$f":"IF(B135=\"\",\"\",Main!U130)","v":2000},1]
[{"$f":"IF(B136=\"\",\"\",SUM($F$9:F136))","v":104},{"$f":"IF(AND(EXACT($G$8,Main!H131),Main!U131>0),Main!B131,\"\")","v":"0807541"},{"$f":"IF(B136=\"\",\"\",Main!C131)","v":"K.V.RAVANAMMA"},{"$f":"IF(B136=\"\",\"\",Main!I131)","v":10555653},{"$f":"IF(B136=\"\",\"\",Main!U131)","v":2000},1]
[{"$f":"IF(B137=\"\",\"\",SUM($F$9:F137))","v":105},{"$f":"IF(AND(EXACT($G$8,Main!H132),Main!U132>0),Main!B132,\"\")","v":"0807541"},{"$f":"IF(B137=\"\",\"\",Main!C132)","v":"K.V.RAVANAMMA"},{"$f":"IF(B137=\"\",\"\",Main!I132)","v":10555653},{"$f":"IF(B137=\"\",\"\",Main!U132)","v":2000},{"$f":"IF(B137=\"\",\"\",1)","v":1}]
[{"$f":"IF(B138=\"\",\"\",SUM($F$9:F138))","v":106},{"$f":"IF(AND(EXACT($G$8,Main!H133),Main!U133>0),Main!B133,\"\")","v":"0807541"},{"$f":"IF(B138=\"\",\"\",Main!C133)","v":"K.V.RAVANAMMA"},{"$f":"IF(B138=\"\",\"\",Main!I133)","v":10555653},{"$f":"IF(B138=\"\",\"\",Main!U133)","v":2000},1]
[{"$f":"IF(B139=\"\",\"\",SUM($F$9:F139))","v":107},{"$f":"IF(AND(EXACT($G$8,Main!H134),Main!U134>0),Main!B134,\"\")","v":"0807541"},{"$f":"IF(B139=\"\",\"\",Main!C134)","v":"K.V.RAVANAMMA"},{"$f":"IF(B139=\"\",\"\",Main!I134)","v":10555653},{"$f":"IF(B139=\"\",\"\",Main!U134)","v":2000},1]
[{"$f":"IF(B140=\"\",\"\",SUM($F$9:F140))","v":108},{"$f":"IF(AND(EXACT($G$8,Main!H135),Main!U135>0),Main!B135,\"\")","v":"0807541"},{"$f":"IF(B140=\"\",\"\",Main!C135)","v":"K.V.RAVANAMMA"},{"$f":"IF(B140=\"\",\"\",Main!I135)","v":10555653},{"$f":"IF(B140=\"\",\"\",Main!U135)","v":2000},1]
[{"$f":"IF(B141=\"\",\"\",SUM($F$9:F141))","v":109},{"$f":"IF(AND(EXACT($G$8,Main!H136),Main!U136>0),Main!B136,\"\")","v":"0807541"},{"$f":"IF(B141=\"\",\"\",Main!C136)","v":"K.V.RAVANAMMA"},{"$f":"IF(B141=\"\",\"\",Main!I136)","v":10555653},{"$f":"IF(B141=\"\",\"\",Main!U136)","v":2000},1]
[{"$f":"IF(B142=\"\",\"\",SUM($F$9:F142))","v":110},{"$f":"IF(AND(EXACT($G$8,Main!H137),Main!U137>0),Main!B137,\"\")","v":"0807541"},{"$f":"IF(B142=\"\",\"\",Main!C137)","v":"K.V.RAVANAMMA"},{"$f":"IF(B142=\"\",\"\",Main!I137)","v":10555653},{"$f":"IF(B142=\"\",\"\",Main!U137)","v":2000},1]
[{"$f":"IF(B143=\"\",\"\",SUM($F$9:F143))","v":111},{"$f":"IF(AND(EXACT($G$8,Main!H138),Main!U138>0),Main!B138,\"\")","v":"0807541"},{"$f":"IF(B143=\"\",\"\",Main!C138)","v":"K.V.RAVANAMMA"},{"$f":"IF(B143=\"\",\"\",Main!I138)","v":10555653},{"$f":"IF(B143=\"\",\"\",Main!U138)","v":2000},1]
[{"$f":"IF(B144=\"\",\"\",SUM($F$9:F144))","v":112},{"$f":"IF(AND(EXACT($G$8,Main!H139),Main!U139>0),Main!B139,\"\")","v":"0807541"},{"$f":"IF(B144=\"\",\"\",Main!C139)","v":"K.V.RAVANAMMA"},{"$f":"IF(B144=\"\",\"\",Main!I139)","v":10555653},{"$f":"IF(B144=\"\",\"\",Main!U139)","v":2000},1]
[{"$f":"IF(B145=\"\",\"\",SUM($F$9:F145))","v":113},{"$f":"IF(AND(EXACT($G$8,Main!H140),Main!U140>0),Main!B140,\"\")","v":"0807541"},{"$f":"IF(B145=\"\",\"\",Main!C140)","v":"K.V.RAVANAMMA"},{"$f":"IF(B145=\"\",\"\",Main!I140)","v":10555653},{"$f":"IF(B145=\"\",\"\",Main!U140)","v":2000},1]
[{"$f":"IF(B146=\"\",\"\",SUM($F$9:F146))","v":114},{"$f":"IF(AND(EXACT($G$8,Main!H141),Main!U141>0),Main!B141,\"\")","v":"0807541"},{"$f":"IF(B146=\"\",\"\",Main!C141)","v":"K.V.RAVANAMMA"},{"$f":"IF(B146=\"\",\"\",Main!I141)","v":10555653},{"$f":"IF(B146=\"\",\"\",Main!U141)","v":2000},1]
[{"$f":"IF(B147=\"\",\"\",SUM($F$9:F147))","v":115},{"$f":"IF(AND(EXACT($G$8,Main!H142),Main!U142>0),Main!B142,\"\")","v":"0807541"},{"$f":"IF(B147=\"\",\"\",Main!C142)","v":"K.V.RAVANAMMA"},{"$f":"IF(B147=\"\",\"\",Main!I142)","v":10555653},{"$f":"IF(B147=\"\",\"\",Main!U142)","v":2000},1]
[{"$f":"IF(B148=\"\",\"\",SUM($F$9:F148))","v":116},{"$f":"IF(AND(EXACT($G$8,Main!H143),Main!U143>0),Main!B143,\"\")","v":"0807541"},{"$f":"IF(B148=\"\",\"\",Main!C143)","v":"K.V.RAVANAMMA"},{"$f":"IF(B148=\"\",\"\",Main!I143)","v":10555653},{"$f":"IF(B148=\"\",\"\",Main!U143)","v":2000},1]
[{"$f":"IF(B149=\"\",\"\",SUM($F$9:F149))","v":117},{"$f":"IF(AND(EXACT($G$8,Main!H144),Main!U144>0),Main!B144,\"\")","v":"0807541"},{"$f":"IF(B149=\"\",\"\",Main!C144)","v":"K.V.RAVANAMMA"},{"$f":"IF(B149=\"\",\"\",Main!I144)","v":10555653},{"$f":"IF(B149=\"\",\"\",Main!U144)","v":2000},1]
[{"$f":"IF(B150=\"\",\"\",SUM($F$9:F150))","v":118},{"$f":"IF(AND(EXACT($G$8,Main!H145),Main!U145>0),Main!B145,\"\")","v":"0807541"},{"$f":"IF(B150=\"\",\"\",Main!C145)","v":"K.V.RAVANAMMA"},{"$f":"IF(B150=\"\",\"\",Main!I145)","v":10555653},{"$f":"IF(B150=\"\",\"\",Main!U145)","v":2000},1]
[{"$f":"IF(B151=\"\",\"\",SUM($F$9:F151))","v":119},{"$f":"IF(AND(EXACT($G$8,Main!H146),Main!U146>0),Main!B146,\"\")","v":"0807541"},{"$f":"IF(B151=\"\",\"\",Main!C146)","v":"K.V.RAVANAMMA"},{"$f":"IF(B151=\"\",\"\",Main!I146)","v":10555653},{"$f":"IF(B151=\"\",\"\",Main!U146)","v":2000},1]
[{"$f":"IF(B152=\"\",\"\",SUM($F$9:F152))","v":120},{"$f":"IF(AND(EXACT($G$8,Main!H147),Main!U147>0),Main!B147,\"\")","v":"0807541"},{"$f":"IF(B152=\"\",\"\",Main!C147)","v":"K.V.RAVANAMMA"},{"$f":"IF(B152=\"\",\"\",Main!I147)","v":10555653},{"$f":"IF(B152=\"\",\"\",Main!U147)","v":2000},1]
[{"$f":"IF(B153=\"\",\"\",SUM($F$9:F153))","v":121},{"$f":"IF(AND(EXACT($G$8,Main!H148),Main!U148>0),Main!B148,\"\")","v":"0807541"},{"$f":"IF(B153=\"\",\"\",Main!C148)","v":"K.V.RAVANAMMA"},{"$f":"IF(B153=\"\",\"\",Main!I148)","v":10555653},{"$f":"IF(B153=\"\",\"\",Main!U148)","v":2000},1]
[{"$f":"IF(B154=\"\",\"\",SUM($F$9:F154))","v":122},{"$f":"IF(AND(EXACT($G$8,Main!H149),Main!U149>0),Main!B149,\"\")","v":"0807541"},{"$f":"IF(B154=\"\",\"\",Main!C149)","v":"K.V.RAVANAMMA"},{"$f":"IF(B154=\"\",\"\",Main!I149)","v":10555653},{"$f":"IF(B154=\"\",\"\",Main!U149)","v":2000},1]
[{"$f":"IF(B155=\"\",\"\",SUM($F$9:F155))","v":123},{"$f":"IF(AND(EXACT($G$8,Main!H150),Main!U150>0),Main!B150,\"\")","v":"0807541"},{"$f":"IF(B155=\"\",\"\",Main!C150)","v":"K.V.RAVANAMMA"},{"$f":"IF(B155=\"\",\"\",Main!I150)","v":10555653},{"$f":"IF(B155=\"\",\"\",Main!U150)","v":2000},1]
[{"$f":"IF(B156=\"\",\"\",SUM($F$9:F156))","v":124},{"$f":"IF(AND(EXACT($G$8,Main!H151),Main!U151>0),Main!B151,\"\")","v":"0807541"},{"$f":"IF(B156=\"\",\"\",Main!C151)","v":"K.V.RAVANAMMA"},{"$f":"IF(B156=\"\",\"\",Main!I151)","v":10555653},{"$f":"IF(B156=\"\",\"\",Main!U151)","v":2000},1]
[{"$f":"IF(B157=\"\",\"\",SUM($F$9:F157))","v":125},{"$f":"IF(AND(EXACT($G$8,Main!H152),Main!U152>0),Main!B152,\"\")","v":"0807541"},{"$f":"IF(B157=\"\",\"\",Main!C152)","v":"K.V.RAVANAMMA"},{"$f":"IF(B157=\"\",\"\",Main!I152)","v":10555653},{"$f":"IF(B157=\"\",\"\",Main!U152)","v":2000},1]
[{"$f":"IF(B158=\"\",\"\",SUM($F$9:F158))","v":126},{"$f":"IF(AND(EXACT($G$8,Main!H153),Main!U153>0),Main!B153,\"\")","v":"0807541"},{"$f":"IF(B158=\"\",\"\",Main!C153)","v":"K.V.RAVANAMMA"},{"$f":"IF(B158=\"\",\"\",Main!I153)","v":10555653},{"$f":"IF(B158=\"\",\"\",Main!U153)","v":2000},1]
[{"$f":"IF(B159=\"\",\"\",SUM($F$9:F159))","v":127},{"$f":"IF(AND(EXACT($G$8,Main!H154),Main!U154>0),Main!B154,\"\")","v":"0807541"},{"$f":"IF(B159=\"\",\"\",Main!C154)","v":"K.V.RAVANAMMA"},{"$f":"IF(B159=\"\",\"\",Main!I154)","v":10555653},{"$f":"IF(B159=\"\",\"\",Main!U154)","v":2000},1]
[{"$f":"IF(B160=\"\",\"\",SUM($F$9:F160))","v":128},{"$f":"IF(AND(EXACT($G$8,Main!H155),Main!U155>0),Main!B155,\"\")","v":"0807541"},{"$f":"IF(B160=\"\",\"\",Main!C155)","v":"K.V.RAVANAMMA"},{"$f":"IF(B160=\"\",\"\",Main!I155)","v":10555653},{"$f":"IF(B160=\"\",\"\",Main!U155)","v":2000},1]
[{"$f":"IF(B161=\"\",\"\",SUM($F$9:F161))","v":129},{"$f":"IF(AND(EXACT($G$8,Main!H156),Main!U156>0),Main!B156,\"\")","v":"0807541"},{"$f":"IF(B161=\"\",\"\",Main!C156)","v":"K.V.RAVANAMMA"},{"$f":"IF(B161=\"\",\"\",Main!I156)","v":10555653},{"$f":"IF(B161=\"\",\"\",Main!U156)","v":2000},1]
[{"$f":"IF(B162=\"\",\"\",SUM($F$9:F162))","v":130},{"$f":"IF(AND(EXACT($G$8,Main!H157),Main!U157>0),Main!B157,\"\")","v":"0807541"},{"$f":"IF(B162=\"\",\"\",Main!C157)","v":"K.V.RAVANAMMA"},{"$f":"IF(B162=\"\",\"\",Main!I157)","v":10555653},{"$f":"IF(B162=\"\",\"\",Main!U157)","v":2000},1]
[{"$f":"IF(B163=\"\",\"\",SUM($F$9:F163))","v":131},{"$f":"IF(AND(EXACT($G$8,Main!H158),Main!U158>0),Main!B158,\"\")","v":"0807541"},{"$f":"IF(B163=\"\",\"\",Main!C158)","v":"K.V.RAVANAMMA"},{"$f":"IF(B163=\"\",\"\",Main!I158)","v":10555653},{"$f":"IF(B163=\"\",\"\",Main!U158)","v":2000},1]
[{"$f":"IF(B164=\"\",\"\",SUM($F$9:F164))","v":132},{"$f":"IF(AND(EXACT($G$8,Main!H159),Main!U159>0),Main!B159,\"\")","v":"0807541"},{"$f":"IF(B164=\"\",\"\",Main!C159)","v":"K.V.RAVANAMMA"},{"$f":"IF(B164=\"\",\"\",Main!I159)","v":10555653},{"$f":"IF(B164=\"\",\"\",Main!U159)","v":2000},1]
[{"$f":"IF(B165=\"\",\"\",SUM($F$9:F165))","v":133},{"$f":"IF(AND(EXACT($G$8,Main!H160),Main!U160>0),Main!B160,\"\")","v":"0807541"},{"$f":"IF(B165=\"\",\"\",Main!C160)","v":"K.V.RAVANAMMA"},{"$f":"IF(B165=\"\",\"\",Main!I160)","v":10555653},{"$f":"IF(B165=\"\",\"\",Main!U160)","v":2000},1]
[{"$f":"IF(B166=\"\",\"\",SUM($F$9:F166))","v":134},{"$f":"IF(AND(EXACT($G$8,Main!H161),Main!U161>0),Main!B161,\"\")","v":"0807541"},{"$f":"IF(B166=\"\",\"\",Main!C161)","v":"K.V.RAVANAMMA"},{"$f":"IF(B166=\"\",\"\",Main!I161)","v":10555653},{"$f":"IF(B166=\"\",\"\",Main!U161)","v":2000},1]
[{"$f":"IF(B167=\"\",\"\",SUM($F$9:F167))","v":135},{"$f":"IF(AND(EXACT($G$8,Main!H162),Main!U162>0),Main!B162,\"\")","v":"0807541"},{"$f":"IF(B167=\"\",\"\",Main!C162)","v":"K.V.RAVANAMMA"},{"$f":"IF(B167=\"\",\"\",Main!I162)","v":10555653},{"$f":"IF(B167=\"\",\"\",Main!U162)","v":2000},1]
[{"$f":"IF(B168=\"\",\"\",SUM($F$9:F168))","v":136},{"$f":"IF(AND(EXACT($G$8,Main!H163),Main!U163>0),Main!B163,\"\")","v":"0807541"},{"$f":"IF(B168=\"\",\"\",Main!C163)","v":"K.V.RAVANAMMA"},{"$f":"IF(B168=\"\",\"\",Main!I163)","v":10555653},{"$f":"IF(B168=\"\",\"\",Main!U163)","v":2000},1]
[{"$f":"IF(B169=\"\",\"\",SUM($F$9:F169))","v":137},{"$f":"IF(AND(EXACT($G$8,Main!H164),Main!U164>0),Main!B164,\"\")","v":"0807541"},{"$f":"IF(B169=\"\",\"\",Main!C164)","v":"K.V.RAVANAMMA"},{"$f":"IF(B169=\"\",\"\",Main!I164)","v":10555653},{"$f":"IF(B169=\"\",\"\",Main!U164)","v":2000},1]
[{"$f":"IF(B170=\"\",\"\",SUM($F$9:F170))","v":138},{"$f":"IF(AND(EXACT($G$8,Main!H165),Main!U165>0),Main!B165,\"\")","v":"0807541"},{"$f":"IF(B170=\"\",\"\",Main!C165)","v":"K.V.RAVANAMMA"},{"$f":"IF(B170=\"\",\"\",Main!I165)","v":10555653},{"$f":"IF(B170=\"\",\"\",Main!U165)","v":2000},1]
[{"$f":"IF(B171=\"\",\"\",SUM($F$9:F171))","v":139},{"$f":"IF(AND(EXACT($G$8,Main!H166),Main!U166>0),Main!B166,\"\")","v":"0807541"},{"$f":"IF(B171=\"\",\"\",Main!C166)","v":"K.V.RAVANAMMA"},{"$f":"IF(B171=\"\",\"\",Main!I166)","v":10555653},{"$f":"IF(B171=\"\",\"\",Main!U166)","v":2000},1]
[{"$f":"IF(B172=\"\",\"\",SUM($F$9:F172))","v":140},{"$f":"IF(AND(EXACT($G$8,Main!H167),Main!U167>0),Main!B167,\"\")","v":"0807541"},{"$f":"IF(B172=\"\",\"\",Main!C167)","v":"K.V.RAVANAMMA"},{"$f":"IF(B172=\"\",\"\",Main!I167)","v":10555653},{"$f":"IF(B172=\"\",\"\",Main!U167)","v":2000},1]
[{"$f":"IF(B173=\"\",\"\",SUM($F$9:F173))","v":141},{"$f":"IF(AND(EXACT($G$8,Main!H168),Main!U168>0),Main!B168,\"\")","v":"0807541"},{"$f":"IF(B173=\"\",\"\",Main!C168)","v":"K.V.RAVANAMMA"},{"$f":"IF(B173=\"\",\"\",Main!I168)","v":10555653},{"$f":"IF(B173=\"\",\"\",Main!U168)","v":2000},1]
[{"$f":"IF(B174=\"\",\"\",SUM($F$9:F174))","v":142},{"$f":"IF(AND(EXACT($G$8,Main!H169),Main!U169>0),Main!B169,\"\")","v":"0807541"},{"$f":"IF(B174=\"\",\"\",Main!C169)","v":"K.V.RAVANAMMA"},{"$f":"IF(B174=\"\",\"\",Main!I169)","v":10555653},{"$f":"IF(B174=\"\",\"\",Main!U169)","v":2000},1]
[{"$f":"IF(B175=\"\",\"\",SUM($F$9:F175))","v":143},{"$f":"IF(AND(EXACT($G$8,Main!H170),Main!U170>0),Main!B170,\"\")","v":"0807541"},{"$f":"IF(B175=\"\",\"\",Main!C170)","v":"K.V.RAVANAMMA"},{"$f":"IF(B175=\"\",\"\",Main!I170)","v":10555653},{"$f":"IF(B175=\"\",\"\",Main!U170)","v":2000},1]
[{"$f":"IF(B176=\"\",\"\",SUM($F$9:F176))","v":144},{"$f":"IF(AND(EXACT($G$8,Main!H171),Main!U171>0),Main!B171,\"\")","v":"0807541"},{"$f":"IF(B176=\"\",\"\",Main!C171)","v":"K.V.RAVANAMMA"},{"$f":"IF(B176=\"\",\"\",Main!I171)","v":10555653},{"$f":"IF(B176=\"\",\"\",Main!U171)","v":2000},1]
[{"$f":"IF(B177=\"\",\"\",SUM($F$9:F177))","v":145},{"$f":"IF(AND(EXACT($G$8,Main!H172),Main!U172>0),Main!B172,\"\")","v":"0807541"},{"$f":"IF(B177=\"\",\"\",Main!C172)","v":"K.V.RAVANAMMA"},{"$f":"IF(B177=\"\",\"\",Main!I172)","v":10555653},{"$f":"IF(B177=\"\",\"\",Main!U172)","v":2000},1]
[{"$f":"IF(B178=\"\",\"\",SUM($F$9:F178))","v":146},{"$f":"IF(AND(EXACT($G$8,Main!H173),Main!U173>0),Main!B173,\"\")","v":"0807541"},{"$f":"IF(B178=\"\",\"\",Main!C173)","v":"K.V.RAVANAMMA"},{"$f":"IF(B178=\"\",\"\",Main!I173)","v":10555653},{"$f":"IF(B178=\"\",\"\",Main!U173)","v":2000},1]
[{"$f":"IF(B179=\"\",\"\",SUM($F$9:F179))","v":147},{"$f":"IF(AND(EXACT($G$8,Main!H174),Main!U174>0),Main!B174,\"\")","v":"0807541"},{"$f":"IF(B179=\"\",\"\",Main!C174)","v":"K.V.RAVANAMMA"},{"$f":"IF(B179=\"\",\"\",Main!I174)","v":10555653},{"$f":"IF(B179=\"\",\"\",Main!U174)","v":2000},1]
[{"$f":"IF(B180=\"\",\"\",SUM($F$9:F180))","v":148},{"$f":"IF(AND(EXACT($G$8,Main!H175),Main!U175>0),Main!B175,\"\")","v":"0807541"},{"$f":"IF(B180=\"\",\"\",Main!C175)","v":"K.V.RAVANAMMA"},{"$f":"IF(B180=\"\",\"\",Main!I175)","v":10555653},{"$f":"IF(B180=\"\",\"\",Main!U175)","v":2000},1]
[{"$f":"IF(B181=\"\",\"\",SUM($F$9:F181))","v":149},{"$f":"IF(AND(EXACT($G$8,Main!H176),Main!U176>0),Main!B176,\"\")","v":"0807541"},{"$f":"IF(B181=\"\",\"\",Main!C176)","v":"K.V.RAVANAMMA"},{"$f":"IF(B181=\"\",\"\",Main!I176)","v":10555653},{"$f":"IF(B181=\"\",\"\",Main!U176)","v":2000},1]
[{"$f":"IF(B182=\"\",\"\",SUM($F$9:F182))","v":150},{"$f":"IF(AND(EXACT($G$8,Main!H177),Main!U177>0),Main!B177,\"\")","v":"0807541"},{"$f":"IF(B182=\"\",\"\",Main!C177)","v":"K.V.RAVANAMMA"},{"$f":"IF(B182=\"\",\"\",Main!I177)","v":10555653},{"$f":"IF(B182=\"\",\"\",Main!U177)","v":2000},1]
[{"$f":"IF(B183=\"\",\"\",SUM($F$9:F183))","v":151},{"$f":"IF(AND(EXACT($G$8,Main!H178),Main!U178>0),Main!B178,\"\")","v":"0807541"},{"$f":"IF(B183=\"\",\"\",Main!C178)","v":"K.V.RAVANAMMA"},{"$f":"IF(B183=\"\",\"\",Main!I178)","v":10555653},{"$f":"IF(B183=\"\",\"\",Main!U178)","v":2000},1]
[{"$f":"IF(B184=\"\",\"\",SUM($F$9:F184))","v":152},{"$f":"IF(AND(EXACT($G$8,Main!H179),Main!U179>0),Main!B179,\"\")","v":"0807541"},{"$f":"IF(B184=\"\",\"\",Main!C179)","v":"K.V.RAVANAMMA"},{"$f":"IF(B184=\"\",\"\",Main!I179)","v":10555653},{"$f":"IF(B184=\"\",\"\",Main!U179)","v":2000},1]
[{"$f":"IF(B185=\"\",\"\",SUM($F$9:F185))","v":153},{"$f":"IF(AND(EXACT($G$8,Main!H180),Main!U180>0),Main!B180,\"\")","v":"0807541"},{"$f":"IF(B185=\"\",\"\",Main!C180)","v":"K.V.RAVANAMMA"},{"$f":"IF(B185=\"\",\"\",Main!I180)","v":10555653},{"$f":"IF(B185=\"\",\"\",Main!U180)","v":2000},1]
[{"$f":"IF(B186=\"\",\"\",SUM($F$9:F186))","v":154},{"$f":"IF(AND(EXACT($G$8,Main!H181),Main!U181>0),Main!B181,\"\")","v":"0807541"},{"$f":"IF(B186=\"\",\"\",Main!C181)","v":"K.V.RAVANAMMA"},{"$f":"IF(B186=\"\",\"\",Main!I181)","v":10555653},{"$f":"IF(B186=\"\",\"\",Main!U181)","v":2000},1]
[{"$f":"IF(B187=\"\",\"\",SUM($F$9:F187))","v":155},{"$f":"IF(AND(EXACT($G$8,Main!H182),Main!U182>0),Main!B182,\"\")","v":"0807541"},{"$f":"IF(B187=\"\",\"\",Main!C182)","v":"K.V.RAVANAMMA"},{"$f":"IF(B187=\"\",\"\",Main!I182)","v":10555653},{"$f":"IF(B187=\"\",\"\",Main!U182)","v":2000},1]
[{"$f":"IF(B188=\"\",\"\",SUM($F$9:F188))","v":156},{"$f":"IF(AND(EXACT($G$8,Main!H183),Main!U183>0),Main!B183,\"\")","v":"0807541"},{"$f":"IF(B188=\"\",\"\",Main!C183)","v":"K.V.RAVANAMMA"},{"$f":"IF(B188=\"\",\"\",Main!I183)","v":10555653},{"$f":"IF(B188=\"\",\"\",Main!U183)","v":2000},1]
[{"$f":"IF(B189=\"\",\"\",SUM($F$9:F189))","v":157},{"$f":"IF(AND(EXACT($G$8,Main!H184),Main!U184>0),Main!B184,\"\")","v":"0807541"},{"$f":"IF(B189=\"\",\"\",Main!C184)","v":"K.V.RAVANAMMA"},{"$f":"IF(B189=\"\",\"\",Main!I184)","v":10555653},{"$f":"IF(B189=\"\",\"\",Main!U184)","v":2000},1]
[{"$f":"IF(B190=\"\",\"\",SUM($F$9:F190))","v":158},{"$f":"IF(AND(EXACT($G$8,Main!H185),Main!U185>0),Main!B185,\"\")","v":"0807541"},{"$f":"IF(B190=\"\",\"\",Main!C185)","v":"K.V.RAVANAMMA"},{"$f":"IF(B190=\"\",\"\",Main!I185)","v":10555653},{"$f":"IF(B190=\"\",\"\",Main!U185)","v":2000},1]
[{"$f":"IF(B191=\"\",\"\",SUM($F$9:F191))","v":159},{"$f":"IF(AND(EXACT($G$8,Main!H186),Main!U186>0),Main!B186,\"\")","v":"0807541"},{"$f":"IF(B191=\"\",\"\",Main!C186)","v":"K.V.RAVANAMMA"},{"$f":"IF(B191=\"\",\"\",Main!I186)","v":10555653},{"$f":"IF(B191=\"\",\"\",Main!U186)","v":2000},1]
[{"$f":"IF(B192=\"\",\"\",SUM($F$9:F192))","v":160},{"$f":"IF(AND(EXACT($G$8,Main!H187),Main!U187>0),Main!B187,\"\")","v":"0807541"},{"$f":"IF(B192=\"\",\"\",Main!C187)","v":"K.V.RAVANAMMA"},{"$f":"IF(B192=\"\",\"\",Main!I187)","v":10555653},{"$f":"IF(B192=\"\",\"\",Main!U187)","v":2000},1]
[{"$f":"IF(B193=\"\",\"\",SUM($F$9:F193))","v":161},{"$f":"IF(AND(EXACT($G$8,Main!H188),Main!U188>0),Main!B188,\"\")","v":"0807541"},{"$f":"IF(B193=\"\",\"\",Main!C188)","v":"K.V.RAVANAMMA"},{"$f":"IF(B193=\"\",\"\",Main!I188)","v":10555653},{"$f":"IF(B193=\"\",\"\",Main!U188)","v":2000},1]
[{"$f":"IF(B194=\"\",\"\",SUM($F$9:F194))","v":162},{"$f":"IF(AND(EXACT($G$8,Main!H189),Main!U189>0),Main!B189,\"\")","v":"0807541"},{"$f":"IF(B194=\"\",\"\",Main!C189)","v":"K.V.RAVANAMMA"},{"$f":"IF(B194=\"\",\"\",Main!I189)","v":10555653},{"$f":"IF(B194=\"\",\"\",Main!U189)","v":2000},1]
[{"$f":"IF(B195=\"\",\"\",SUM($F$9:F195))","v":163},{"$f":"IF(AND(EXACT($G$8,Main!H190),Main!U190>0),Main!B190,\"\")","v":"0807541"},{"$f":"IF(B195=\"\",\"\",Main!C190)","v":"K.V.RAVANAMMA"},{"$f":"IF(B195=\"\",\"\",Main!I190)","v":10555653},{"$f":"IF(B195=\"\",\"\",Main!U190)","v":2000},1]
[{"$f":"IF(B196=\"\",\"\",SUM($F$9:F196))","v":164},{"$f":"IF(AND(EXACT($G$8,Main!H191),Main!U191>0),Main!B191,\"\")","v":"0807541"},{"$f":"IF(B196=\"\",\"\",Main!C191)","v":"K.V.RAVANAMMA"},{"$f":"IF(B196=\"\",\"\",Main!I191)","v":10555653},{"$f":"IF(B196=\"\",\"\",Main!U191)","v":2000},1]
[{"$f":"IF(B197=\"\",\"\",SUM($F$9:F197))","v":165},{"$f":"IF(AND(EXACT($G$8,Main!H192),Main!U192>0),Main!B192,\"\")","v":"0807541"},{"$f":"IF(B197=\"\",\"\",Main!C192)","v":"K.V.RAVANAMMA"},{"$f":"IF(B197=\"\",\"\",Main!I192)","v":10555653},{"$f":"IF(B197=\"\",\"\",Main!U192)","v":2000},1]
[{"$f":"IF(B198=\"\",\"\",SUM($F$9:F198))","v":166},{"$f":"IF(AND(EXACT($G$8,Main!H193),Main!U193>0),Main!B193,\"\")","v":"0807541"},{"$f":"IF(B198=\"\",\"\",Main!C193)","v":"K.V.RAVANAMMA"},{"$f":"IF(B198=\"\",\"\",Main!I193)","v":10555653},{"$f":"IF(B198=\"\",\"\",Main!U193)","v":2000},1]
[{"$f":"IF(B199=\"\",\"\",SUM($F$9:F199))","v":""},{"$f":"IF(AND(EXACT($G$8,Main!H194),Main!U194>0),Main!B194,\"\")","v":""},{"$f":"IF(B199=\"\",\"\",Main!C194)","v":""},{"$f":"IF(B199=\"\",\"\",Main!I194)","v":""},{"$f":"IF(B199=\"\",\"\",Main!U194)","v":""},""]
[{"$f":"IF(B200=\"\",\"\",SUM($F$9:F200))","v":""},{"$f":"IF(AND(EXACT($G$8,Main!H195),Main!U195>0),Main!B195,\"\")","v":""},{"$f":"IF(B200=\"\",\"\",Main!C195)","v":""},{"$f":"IF(B200=\"\",\"\",Main!I195)","v":""},{"$f":"IF(B200=\"\",\"\",Main!U195)","v":""},""]
[{"$f":"IF(B201=\"\",\"\",SUM($F$9:F201))","v":""},{"$f":"IF(AND(EXACT($G$8,Main!H196),Main!U196>0),Main!B196,\"\")","v":""},{"$f":"IF(B201=\"\",\"\",Main!C196)","v":""},{"$f":"IF(B201=\"\",\"\",Main!I196)","v":""},{"$f":"IF(B201=\"\",\"\",Main!U196)","v":""},{"$f":"IF(B201=\"\",\"\",1)","v":""}]
[{"$f":"IF(B202=\"\",\"\",SUM($F$9:F202))","v":""},{"$f":"IF(AND(EXACT($G$8,Main!H197),Main!U197>0),Main!B197,\"\")","v":""},{"$f":"IF(B202=\"\",\"\",Main!C197)","v":""},{"$f":"IF(B202=\"\",\"\",Main!I197)","v":""},{"$f":"IF(B202=\"\",\"\",Main!U197)","v":""},""]
[{"$f":"IF(B203=\"\",\"\",SUM($F$9:F203))","v":""},{"$f":"IF(AND(EXACT($G$8,Main!H198),Main!U198>0),Main!B198,\"\")","v":""},{"$f":"IF(B203=\"\",\"\",Main!C198)","v":""},{"$f":"IF(B203=\"\",\"\",Main!I198)","v":""},{"$f":"IF(B203=\"\",\"\",Main!U198)","v":""},""]
[{"$f":"IF(B204=\"\",\"\",SUM($F$9:F204))","v":""},{"$f":"IF(AND(EXACT($G$8,Main!H199),Main!U199>0),Main!B199,\"\")","v":""},{"$f":"IF(B204=\"\",\"\",Main!C199)","v":""},{"$f":"IF(B204=\"\",\"\",Main!I199)","v":""},{"$f":"IF(B204=\"\",\"\",Main!U199)","v":""},""]
[{"$f":"IF(B205=\"\",\"\",SUM($F$9:F205))","v":""},{"$f":"IF(AND(EXACT($G$8,Main!H200),Main!U200>0),Main!B200,\"\")","v":""},{"$f":"IF(B205=\"\",\"\",Main!C200)","v":""},{"$f":"IF(B205=\"\",\"\",Main!I200)","v":""},{"$f":"IF(B205=\"\",\"\",Main!U200)","v":""},""]
[{"$f":"IF(B206=\"\",\"\",SUM($F$9:F206))","v":""},{"$f":"IF(AND(EXACT($G$8,Main!H201),Main!U201>0),Main!B201,\"\")","v":""},{"$f":"IF(B206=\"\",\"\",Main!C201)","v":""},{"$f":"IF(B206=\"\",\"\",Main!I201)","v":""},{"$f":"IF(B206=\"\",\"\",Main!U201)","v":""},""]
[{"$f":"IF(B207=\"\",\"\",SUM($F$9:F207))","v":""},{"$f":"IF(AND(EXACT($G$8,Main!H202),Main!U202>0),Main!B202,\"\")","v":""},{"$f":"IF(B207=\"\",\"\",Main!C202)","v":""},{"$f":"IF(B207=\"\",\"\",Main!I202)","v":""},{"$f":"IF(B207=\"\",\"\",Main!U202)","v":""},""]
[{"$f":"IF(B208=\"\",\"\",SUM($F$9:F208))","v":""},{"$f":"IF(AND(EXACT($G$8,Main!H203),Main!U203>0),Main!B203,\"\")","v":""},{"$f":"IF(B208=\"\",\"\",Main!C203)","v":""},{"$f":"IF(B208=\"\",\"\",Main!I203)","v":""},{"$f":"IF(B208=\"\",\"\",Main!U203)","v":""},""]
[{"$f":"IF(B209=\"\",\"\",SUM($F$9:F209))","v":""},{"$f":"IF(AND(EXACT($G$8,Main!H204),Main!U204>0),Main!B204,\"\")","v":""},{"$f":"IF(B209=\"\",\"\",Main!C204)","v":""},{"$f":"IF(B209=\"\",\"\",Main!I204)","v":""},{"$f":"IF(B209=\"\",\"\",Main!U204)","v":""},""]
[{"$f":"IF(B210=\"\",\"\",SUM($F$9:F210))","v":""},{"$f":"IF(AND(EXACT($G$8,Main!H205),Main!U205>0),Main!B205,\"\")","v":""},{"$f":"IF(B210=\"\",\"\",Main!C205)","v":""},{"$f":"IF(B210=\"\",\"\",Main!I205)","v":""},{"$f":"IF(B210=\"\",\"\",Main!U205)","v":""},""]
[{"$f":"IF(B211=\"\",\"\",SUM($F$9:F211))","v":""},{"$f":"IF(AND(EXACT($G$8,Main!H206),Main!U206>0),Main!B206,\"\")","v":""},{"$f":"IF(B211=\"\",\"\",Main!C206)","v":""},{"$f":"IF(B211=\"\",\"\",Main!I206)","v":""},{"$f":"IF(B211=\"\",\"\",Main!U206)","v":""},""]
[{"$f":"IF(B212=\"\",\"\",SUM($F$9:F212))","v":""},{"$f":"IF(AND(EXACT($G$8,Main!H207),Main!U207>0),Main!B207,\"\")","v":""},{"$f":"IF(B212=\"\",\"\",Main!C207)","v":""},{"$f":"IF(B212=\"\",\"\",Main!I207)","v":""},{"$f":"IF(B212=\"\",\"\",Main!U207)","v":""},""]
[{"$f":"IF(B213=\"\",\"\",SUM($F$9:F213))","v":""},{"$f":"IF(AND(EXACT($G$8,Main!H208),Main!U208>0),Main!B208,\"\")","v":""},{"$f":"IF(B213=\"\",\"\",Main!C208)","v":""},{"$f":"IF(B213=\"\",\"\",Main!I208)","v":""},{"$f":"IF(B213=\"\",\"\",Main!U208)","v":""},""]
[{"$f":"IF(B214=\"\",\"\",SUM($F$9:F214))","v":""},{"$f":"IF(AND(EXACT($G$8,Main!H209),Main!U209>0),Main!B209,\"\")","v":""},{"$f":"IF(B214=\"\",\"\",Main!C209)","v":""},{"$f":"IF(B214=\"\",\"\",Main!I209)","v":""},{"$f":"IF(B214=\"\",\"\",Main!U209)","v":""},""]
[{"$f":"IF(B215=\"\",\"\",SUM($F$9:F215))","v":""},{"$f":"IF(AND(EXACT($G$8,Main!H210),Main!U210>0),Main!B210,\"\")","v":""},{"$f":"IF(B215=\"\",\"\",Main!C210)","v":""},{"$f":"IF(B215=\"\",\"\",Main!I210)","v":""},{"$f":"IF(B215=\"\",\"\",Main!U210)","v":""},""]
[{"$f":"IF(B216=\"\",\"\",SUM($F$9:F216))","v":""},{"$f":"IF(AND(EXACT($G$8,Main!H211),Main!U211>0),Main!B211,\"\")","v":""},{"$f":"IF(B216=\"\",\"\",Main!C211)","v":""},{"$f":"IF(B216=\"\",\"\",Main!I211)","v":""},{"$f":"IF(B216=\"\",\"\",Main!U211)","v":""},""]
[{"$f":"IF(B217=\"\",\"\",SUM($F$9:F217))","v":""},{"$f":"IF(AND(EXACT($G$8,Main!H212),Main!U212>0),Main!B212,\"\")","v":""},{"$f":"IF(B217=\"\",\"\",Main!C212)","v":""},{"$f":"IF(B217=\"\",\"\",Main!I212)","v":""},{"$f":"IF(B217=\"\",\"\",Main!U212)","v":""},""]
[{"$f":"IF(B218=\"\",\"\",SUM($F$9:F218))","v":""},{"$f":"IF(AND(EXACT($G$8,Main!H213),Main!U213>0),Main!B213,\"\")","v":""},{"$f":"IF(B218=\"\",\"\",Main!C213)","v":""},{"$f":"IF(B218=\"\",\"\",Main!I213)","v":""},{"$f":"IF(B218=\"\",\"\",Main!U213)","v":""},""]
[{"$f":"IF(B219=\"\",\"\",SUM($F$9:F219))","v":""},{"$f":"IF(AND(EXACT($G$8,Main!H214),Main!U214>0),Main!B214,\"\")","v":""},{"$f":"IF(B219=\"\",\"\",Main!C214)","v":""},{"$f":"IF(B219=\"\",\"\",Main!I214)","v":""},{"$f":"IF(B219=\"\",\"\",Main!U214)","v":""},""]
[{"$f":"IF(B220=\"\",\"\",SUM($F$9:F220))","v":""},{"$f":"IF(AND(EXACT($G$8,Main!H215),Main!U215>0),Main!B215,\"\")","v":""},{"$f":"IF(B220=\"\",\"\",Main!C215)","v":""},{"$f":"IF(B220=\"\",\"\",Main!I215)","v":""},{"$f":"IF(B220=\"\",\"\",Main!U215)","v":""},""]
[{"$f":"IF(B221=\"\",\"\",SUM($F$9:F221))","v":""},{"$f":"IF(AND(EXACT($G$8,Main!H216),Main!U216>0),Main!B216,\"\")","v":""},{"$f":"IF(B221=\"\",\"\",Main!C216)","v":""},{"$f":"IF(B221=\"\",\"\",Main!I216)","v":""},{"$f":"IF(B221=\"\",\"\",Main!U216)","v":""},""]
[{"$f":"IF(B222=\"\",\"\",SUM($F$9:F222))","v":""},{"$f":"IF(AND(EXACT($G$8,Main!H217),Main!U217>0),Main!B217,\"\")","v":""},{"$f":"IF(B222=\"\",\"\",Main!C217)","v":""},{"$f":"IF(B222=\"\",\"\",Main!I217)","v":""},{"$f":"IF(B222=\"\",\"\",Main!U217)","v":""},""]
[{"$f":"IF(B223=\"\",\"\",SUM($F$9:F223))","v":""},{"$f":"IF(AND(EXACT($G$8,Main!H218),Main!U218>0),Main!B218,\"\")","v":""},{"$f":"IF(B223=\"\",\"\",Main!C218)","v":""},{"$f":"IF(B223=\"\",\"\",Main!I218)","v":""},{"$f":"IF(B223=\"\",\"\",Main!U218)","v":""},""]
[{"$f":"IF(B224=\"\",\"\",SUM($F$9:F224))","v":""},{"$f":"IF(AND(EXACT($G$8,Main!H219),Main!U219>0),Main!B219,\"\")","v":""},{"$f":"IF(B224=\"\",\"\",Main!C219)","v":""},{"$f":"IF(B224=\"\",\"\",Main!I219)","v":""},{"$f":"IF(B224=\"\",\"\",Main!U219)","v":""},""]
[{"$f":"IF(B225=\"\",\"\",SUM($F$9:F225))","v":""},{"$f":"IF(AND(EXACT($G$8,Main!H220),Main!U220>0),Main!B220,\"\")","v":""},{"$f":"IF(B225=\"\",\"\",Main!C220)","v":""},{"$f":"IF(B225=\"\",\"\",Main!I220)","v":""},{"$f":"IF(B225=\"\",\"\",Main!U220)","v":""},""]
[{"$f":"IF(B226=\"\",\"\",SUM($F$9:F226))","v":""},{"$f":"IF(AND(EXACT($G$8,Main!H221),Main!U221>0),Main!B221,\"\")","v":""},{"$f":"IF(B226=\"\",\"\",Main!C221)","v":""},{"$f":"IF(B226=\"\",\"\",Main!I221)","v":""},{"$f":"IF(B226=\"\",\"\",Main!U221)","v":""},""]
[{"$f":"IF(B227=\"\",\"\",SUM($F$9:F227))","v":""},{"$f":"IF(AND(EXACT($G$8,Main!H222),Main!U222>0),Main!B222,\"\")","v":""},{"$f":"IF(B227=\"\",\"\",Main!C222)","v":""},{"$f":"IF(B227=\"\",\"\",Main!I222)","v":""},{"$f":"IF(B227=\"\",\"\",Main!U222)","v":""},""]
[{"$f":"IF(B228=\"\",\"\",SUM($F$9:F228))","v":""},{"$f":"IF(AND(EXACT($G$8,Main!H223),Main!U223>0),Main!B223,\"\")","v":""},{"$f":"IF(B228=\"\",\"\",Main!C223)","v":""},{"$f":"IF(B228=\"\",\"\",Main!I223)","v":""},{"$f":"IF(B228=\"\",\"\",Main!U223)","v":""},""]
[{"$f":"IF(B229=\"\",\"\",SUM($F$9:F229))","v":""},{"$f":"IF(AND(EXACT($G$8,Main!H224),Main!U224>0),Main!B224,\"\")","v":""},{"$f":"IF(B229=\"\",\"\",Main!C224)","v":""},{"$f":"IF(B229=\"\",\"\",Main!I224)","v":""},{"$f":"IF(B229=\"\",\"\",Main!U224)","v":""},""]
[{"$f":"IF(B230=\"\",\"\",SUM($F$9:F230))","v":""},{"$f":"IF(AND(EXACT($G$8,Main!H225),Main!U225>0),Main!B225,\"\")","v":""},{"$f":"IF(B230=\"\",\"\",Main!C225)","v":""},{"$f":"IF(B230=\"\",\"\",Main!I225)","v":""},{"$f":"IF(B230=\"\",\"\",Main!U225)","v":""},""]
[{"$f":"IF(B231=\"\",\"\",SUM($F$9:F231))","v":""},{"$f":"IF(AND(EXACT($G$8,Main!H226),Main!U226>0),Main!B226,\"\")","v":""},{"$f":"IF(B231=\"\",\"\",Main!C226)","v":""},{"$f":"IF(B231=\"\",\"\",Main!I226)","v":""},{"$f":"IF(B231=\"\",\"\",Main!U226)","v":""},""]
[{"$f":"IF(B232=\"\",\"\",SUM($F$9:F232))","v":""},{"$f":"IF(AND(EXACT($G$8,Main!H227),Main!U227>0),Main!B227,\"\")","v":""},{"$f":"IF(B232=\"\",\"\",Main!C227)","v":""},{"$f":"IF(B232=\"\",\"\",Main!I227)","v":""},{"$f":"IF(B232=\"\",\"\",Main!U227)","v":""},""]
[{"$f":"IF(B233=\"\",\"\",SUM($F$9:F233))","v":""},{"$f":"IF(AND(EXACT($G$8,Main!H228),Main!U228>0),Main!B228,\"\")","v":""},{"$f":"IF(B233=\"\",\"\",Main!C228)","v":""},{"$f":"IF(B233=\"\",\"\",Main!I228)","v":""},{"$f":"IF(B233=\"\",\"\",Main!U228)","v":""},""]
[{"$f":"IF(B234=\"\",\"\",SUM($F$9:F234))","v":""},{"$f":"IF(AND(EXACT($G$8,Main!H229),Main!U229>0),Main!B229,\"\")","v":""},{"$f":"IF(B234=\"\",\"\",Main!C229)","v":""},{"$f":"IF(B234=\"\",\"\",Main!I229)","v":""},{"$f":"IF(B234=\"\",\"\",Main!U229)","v":""},""]
[{"$f":"IF(B235=\"\",\"\",SUM($F$9:F235))","v":""},{"$f":"IF(AND(EXACT($G$8,Main!H230),Main!U230>0),Main!B230,\"\")","v":""},{"$f":"IF(B235=\"\",\"\",Main!C230)","v":""},{"$f":"IF(B235=\"\",\"\",Main!I230)","v":""},{"$f":"IF(B235=\"\",\"\",Main!U230)","v":""},""]
[{"$f":"IF(B236=\"\",\"\",SUM($F$9:F236))","v":""},{"$f":"IF(AND(EXACT($G$8,Main!H231),Main!U231>0),Main!B231,\"\")","v":""},{"$f":"IF(B236=\"\",\"\",Main!C231)","v":""},{"$f":"IF(B236=\"\",\"\",Main!I231)","v":""},{"$f":"IF(B236=\"\",\"\",Main!U231)","v":""},""]
[{"$f":"IF(B237=\"\",\"\",SUM($F$9:F237))","v":""},{"$f":"IF(AND(EXACT($G$8,Main!H232),Main!U232>0),Main!B232,\"\")","v":""},{"$f":"IF(B237=\"\",\"\",Main!C232)","v":""},{"$f":"IF(B237=\"\",\"\",Main!I232)","v":""},{"$f":"IF(B237=\"\",\"\",Main!U232)","v":""},""]
[{"$f":"IF(B238=\"\",\"\",SUM($F$9:F238))","v":""},{"$f":"IF(AND(EXACT($G$8,Main!H233),Main!U233>0),Main!B233,\"\")","v":""},{"$f":"IF(B238=\"\",\"\",Main!C233)","v":""},{"$f":"IF(B238=\"\",\"\",Main!I233)","v":""},{"$f":"IF(B238=\"\",\"\",Main!U233)","v":""},""]
[{"$f":"IF(B239=\"\",\"\",SUM($F$9:F239))","v":""},{"$f":"IF(AND(EXACT($G$8,Main!H234),Main!U234>0),Main!B234,\"\")","v":""},{"$f":"IF(B239=\"\",\"\",Main!C234)","v":""},{"$f":"IF(B239=\"\",\"\",Main!I234)","v":""},{"$f":"IF(B239=\"\",\"\",Main!U234)","v":""},""]
[{"$f":"IF(B240=\"\",\"\",SUM($F$9:F240))","v":""},{"$f":"IF(AND(EXACT($G$8,Main!H235),Main!U235>0),Main!B235,\"\")","v":""},{"$f":"IF(B240=\"\",\"\",Main!C235)","v":""},{"$f":"IF(B240=\"\",\"\",Main!I235)","v":""},{"$f":"IF(B240=\"\",\"\",Main!U235)","v":""},""]
[{"$f":"IF(B241=\"\",\"\",SUM($F$9:F241))","v":""},{"$f":"IF(AND(EXACT($G$8,Main!H236),Main!U236>0),Main!B236,\"\")","v":""},{"$f":"IF(B241=\"\",\"\",Main!C236)","v":""},{"$f":"IF(B241=\"\",\"\",Main!I236)","v":""},{"$f":"IF(B241=\"\",\"\",Main!U236)","v":""},""]
[{"$f":"IF(B242=\"\",\"\",SUM($F$9:F242))","v":""},{"$f":"IF(AND(EXACT($G$8,Main!H237),Main!U237>0),Main!B237,\"\")","v":""},{"$f":"IF(B242=\"\",\"\",Main!C237)","v":""},{"$f":"IF(B242=\"\",\"\",Main!I237)","v":""},{"$f":"IF(B242=\"\",\"\",Main!U237)","v":""},""]
[{"$f":"IF(B243=\"\",\"\",SUM($F$9:F243))","v":""},{"$f":"IF(AND(EXACT($G$8,Main!H238),Main!U238>0),Main!B238,\"\")","v":""},{"$f":"IF(B243=\"\",\"\",Main!C238)","v":""},{"$f":"IF(B243=\"\",\"\",Main!I238)","v":""},{"$f":"IF(B243=\"\",\"\",Main!U238)","v":""},""]
[{"$f":"IF(B244=\"\",\"\",SUM($F$9:F244))","v":""},{"$f":"IF(AND(EXACT($G$8,Main!H239),Main!U239>0),Main!B239,\"\")","v":""},{"$f":"IF(B244=\"\",\"\",Main!C239)","v":""},{"$f":"IF(B244=\"\",\"\",Main!I239)","v":""},{"$f":"IF(B244=\"\",\"\",Main!U239)","v":""},""]
[{"$f":"IF(B245=\"\",\"\",SUM($F$9:F245))","v":""},{"$f":"IF(AND(EXACT($G$8,Main!H240),Main!U240>0),Main!B240,\"\")","v":""},{"$f":"IF(B245=\"\",\"\",Main!C240)","v":""},{"$f":"IF(B245=\"\",\"\",Main!I240)","v":""},{"$f":"IF(B245=\"\",\"\",Main!U240)","v":""},""]
[{"$f":"IF(B246=\"\",\"\",SUM($F$9:F246))","v":""},{"$f":"IF(AND(EXACT($G$8,Main!H241),Main!U241>0),Main!B241,\"\")","v":""},{"$f":"IF(B246=\"\",\"\",Main!C241)","v":""},{"$f":"IF(B246=\"\",\"\",Main!I241)","v":""},{"$f":"IF(B246=\"\",\"\",Main!U241)","v":""},""]
[{"$f":"IF(B247=\"\",\"\",SUM($F$9:F247))","v":""},{"$f":"IF(AND(EXACT($G$8,Main!H242),Main!U242>0),Main!B242,\"\")","v":""},{"$f":"IF(B247=\"\",\"\",Main!C242)","v":""},{"$f":"IF(B247=\"\",\"\",Main!I242)","v":""},{"$f":"IF(B247=\"\",\"\",Main!U242)","v":""},""]
[{"$f":"IF(B248=\"\",\"\",SUM($F$9:F248))","v":""},{"$f":"IF(AND(EXACT($G$8,Main!H243),Main!U243>0),Main!B243,\"\")","v":""},{"$f":"IF(B248=\"\",\"\",Main!C243)","v":""},{"$f":"IF(B248=\"\",\"\",Main!I243)","v":""},{"$f":"IF(B248=\"\",\"\",Main!U243)","v":""},""]
[{"$f":"IF(B249=\"\",\"\",SUM($F$9:F249))","v":""},{"$f":"IF(AND(EXACT($G$8,Main!H244),Main!U244>0),Main!B244,\"\")","v":""},{"$f":"IF(B249=\"\",\"\",Main!C244)","v":""},{"$f":"IF(B249=\"\",\"\",Main!I244)","v":""},{"$f":"IF(B249=\"\",\"\",Main!U244)","v":""},""]
[{"$f":"IF(B250=\"\",\"\",SUM($F$9:F250))","v":""},{"$f":"IF(AND(EXACT($G$8,Main!H245),Main!U245>0),Main!B245,\"\")","v":""},{"$f":"IF(B250=\"\",\"\",Main!C245)","v":""},{"$f":"IF(B250=\"\",\"\",Main!I245)","v":""},{"$f":"IF(B250=\"\",\"\",Main!U245)","v":""},""]
[{"$f":"IF(B251=\"\",\"\",SUM($F$9:F251))","v":""},{"$f":"IF(AND(EXACT($G$8,Main!H246),Main!U246>0),Main!B246,\"\")","v":""},{"$f":"IF(B251=\"\",\"\",Main!C246)","v":""},{"$f":"IF(B251=\"\",\"\",Main!I246)","v":""},{"$f":"IF(B251=\"\",\"\",Main!U246)","v":""},""]
[{"$f":"IF(B252=\"\",\"\",SUM($F$9:F252))","v":""},{"$f":"IF(AND(EXACT($G$8,Main!H247),Main!U247>0),Main!B247,\"\")","v":""},{"$f":"IF(B252=\"\",\"\",Main!C247)","v":""},{"$f":"IF(B252=\"\",\"\",Main!I247)","v":""},{"$f":"IF(B252=\"\",\"\",Main!U247)","v":""},""]
[{"$f":"IF(B253=\"\",\"\",SUM($F$9:F253))","v":""},{"$f":"IF(AND(EXACT($G$8,Main!H248),Main!U248>0),Main!B248,\"\")","v":""},{"$f":"IF(B253=\"\",\"\",Main!C248)","v":""},{"$f":"IF(B253=\"\",\"\",Main!I248)","v":""},{"$f":"IF(B253=\"\",\"\",Main!U248)","v":""},""]
[{"$f":"IF(B254=\"\",\"\",SUM($F$9:F254))","v":""},{"$f":"IF(AND(EXACT($G$8,Main!H249),Main!U249>0),Main!B249,\"\")","v":""},{"$f":"IF(B254=\"\",\"\",Main!C249)","v":""},{"$f":"IF(B254=\"\",\"\",Main!I249)","v":""},{"$f":"IF(B254=\"\",\"\",Main!U249)","v":""},""]
[{"$f":"IF(B255=\"\",\"\",SUM($F$9:F255))","v":""},{"$f":"IF(AND(EXACT($G$8,Main!H250),Main!U250>0),Main!B250,\"\")","v":""},{"$f":"IF(B255=\"\",\"\",Main!C250)","v":""},{"$f":"IF(B255=\"\",\"\",Main!I250)","v":""},{"$f":"IF(B255=\"\",\"\",Main!U250)","v":""},""]
[{"$f":"IF(B256=\"\",\"\",SUM($F$9:F256))","v":""},{"$f":"IF(AND(EXACT($G$8,Main!H251),Main!U251>0),Main!B251,\"\")","v":""},{"$f":"IF(B256=\"\",\"\",Main!C251)","v":""},{"$f":"IF(B256=\"\",\"\",Main!I251)","v":""},{"$f":"IF(B256=\"\",\"\",Main!U251)","v":""},""]
[{"$f":"IF(B257=\"\",\"\",SUM($F$9:F257))","v":""},{"$f":"IF(AND(EXACT($G$8,Main!H252),Main!U252>0),Main!B252,\"\")","v":""},{"$f":"IF(B257=\"\",\"\",Main!C252)","v":""},{"$f":"IF(B257=\"\",\"\",Main!I252)","v":""},{"$f":"IF(B257=\"\",\"\",Main!U252)","v":""},""]
[{"$f":"IF(B258=\"\",\"\",SUM($F$9:F258))","v":""},{"$f":"IF(AND(EXACT($G$8,Main!H253),Main!U253>0),Main!B253,\"\")","v":""},{"$f":"IF(B258=\"\",\"\",Main!C253)","v":""},{"$f":"IF(B258=\"\",\"\",Main!I253)","v":""},{"$f":"IF(B258=\"\",\"\",Main!U253)","v":""},""]
[{"$f":"IF(B259=\"\",\"\",SUM($F$9:F259))","v":""},{"$f":"IF(AND(EXACT($G$8,Main!H254),Main!U254>0),Main!B254,\"\")","v":""},{"$f":"IF(B259=\"\",\"\",Main!C254)","v":""},{"$f":"IF(B259=\"\",\"\",Main!I254)","v":""},{"$f":"IF(B259=\"\",\"\",Main!U254)","v":""},""]
[{"$f":"IF(B260=\"\",\"\",SUM($F$9:F260))","v":""},{"$f":"IF(AND(EXACT($G$8,Main!H255),Main!U255>0),Main!B255,\"\")","v":""},{"$f":"IF(B260=\"\",\"\",Main!C255)","v":""},{"$f":"IF(B260=\"\",\"\",Main!I255)","v":""},{"$f":"IF(B260=\"\",\"\",Main!U255)","v":""},""]
[{"$f":"IF(B261=\"\",\"\",SUM($F$9:F261))","v":""},{"$f":"IF(AND(EXACT($G$8,Main!H256),Main!U256>0),Main!B256,\"\")","v":""},{"$f":"IF(B261=\"\",\"\",Main!C256)","v":""},{"$f":"IF(B261=\"\",\"\",Main!I256)","v":""},{"$f":"IF(B261=\"\",\"\",Main!U256)","v":""},""]
[{"$f":"IF(B262=\"\",\"\",SUM($F$9:F262))","v":""},{"$f":"IF(AND(EXACT($G$8,Main!H257),Main!U257>0),Main!B257,\"\")","v":""},{"$f":"IF(B262=\"\",\"\",Main!C257)","v":""},{"$f":"IF(B262=\"\",\"\",Main!I257)","v":""},{"$f":"IF(B262=\"\",\"\",Main!U257)","v":""},""]
[{"$f":"IF(B263=\"\",\"\",SUM($F$9:F263))","v":""},{"$f":"IF(AND(EXACT($G$8,Main!H258),Main!U258>0),Main!B258,\"\")","v":""},{"$f":"IF(B263=\"\",\"\",Main!C258)","v":""},{"$f":"IF(B263=\"\",\"\",Main!I258)","v":""},{"$f":"IF(B263=\"\",\"\",Main!U258)","v":""},""]
[{"$f":"IF(B264=\"\",\"\",SUM($F$9:F264))","v":""},{"$f":"IF(AND(EXACT($G$8,Main!H259),Main!U259>0),Main!B259,\"\")","v":""},{"$f":"IF(B264=\"\",\"\",Main!C259)","v":""},{"$f":"IF(B264=\"\",\"\",Main!I259)","v":""},{"$f":"IF(B264=\"\",\"\",Main!U259)","v":""},""]
[{"$f":"IF(B265=\"\",\"\",SUM($F$9:F265))","v":""},{"$f":"IF(AND(EXACT($G$8,Main!H260),Main!U260>0),Main!B260,\"\")","v":""},{"$f":"IF(B265=\"\",\"\",Main!C260)","v":""},{"$f":"IF(B265=\"\",\"\",Main!I260)","v":""},{"$f":"IF(B265=\"\",\"\",Main!U260)","v":""},{"$f":"IF(B265=\"\",\"\",1)","v":""}]
[{"$f":"IF(B266=\"\",\"\",SUM($F$9:F266))","v":""},{"$f":"IF(AND(EXACT($G$8,Main!H261),Main!U261>0),Main!B261,\"\")","v":""},{"$f":"IF(B266=\"\",\"\",Main!C261)","v":""},{"$f":"IF(B266=\"\",\"\",Main!I261)","v":""},{"$f":"IF(B266=\"\",\"\",Main!U261)","v":""},""]
[{"$f":"IF(B267=\"\",\"\",SUM($F$9:F267))","v":""},{"$f":"IF(AND(EXACT($G$8,Main!H262),Main!U262>0),Main!B262,\"\")","v":""},{"$f":"IF(B267=\"\",\"\",Main!C262)","v":""},{"$f":"IF(B267=\"\",\"\",Main!I262)","v":""},{"$f":"IF(B267=\"\",\"\",Main!U262)","v":""},""]
[{"$f":"IF(B268=\"\",\"\",SUM($F$9:F268))","v":""},{"$f":"IF(AND(EXACT($G$8,Main!H263),Main!U263>0),Main!B263,\"\")","v":""},{"$f":"IF(B268=\"\",\"\",Main!C263)","v":""},{"$f":"IF(B268=\"\",\"\",Main!I263)","v":""},{"$f":"IF(B268=\"\",\"\",Main!U263)","v":""},""]
[{"$f":"IF(B269=\"\",\"\",SUM($F$9:F269))","v":""},{"$f":"IF(AND(EXACT($G$8,Main!H264),Main!U264>0),Main!B264,\"\")","v":""},{"$f":"IF(B269=\"\",\"\",Main!C264)","v":""},{"$f":"IF(B269=\"\",\"\",Main!I264)","v":""},{"$f":"IF(B269=\"\",\"\",Main!U264)","v":""},""]
[{"$f":"IF(B270=\"\",\"\",SUM($F$9:F270))","v":""},{"$f":"IF(AND(EXACT($G$8,Main!H265),Main!U265>0),Main!B265,\"\")","v":""},{"$f":"IF(B270=\"\",\"\",Main!C265)","v":""},{"$f":"IF(B270=\"\",\"\",Main!I265)","v":""},{"$f":"IF(B270=\"\",\"\",Main!U265)","v":""},""]
[{"$f":"IF(B271=\"\",\"\",SUM($F$9:F271))","v":""},{"$f":"IF(AND(EXACT($G$8,Main!H266),Main!U266>0),Main!B266,\"\")","v":""},{"$f":"IF(B271=\"\",\"\",Main!C266)","v":""},{"$f":"IF(B271=\"\",\"\",Main!I266)","v":""},{"$f":"IF(B271=\"\",\"\",Main!U266)","v":""},""]
[{"$f":"IF(B272=\"\",\"\",SUM($F$9:F272))","v":""},{"$f":"IF(AND(EXACT($G$8,Main!H267),Main!U267>0),Main!B267,\"\")","v":""},{"$f":"IF(B272=\"\",\"\",Main!C267)","v":""},{"$f":"IF(B272=\"\",\"\",Main!I267)","v":""},{"$f":"IF(B272=\"\",\"\",Main!U267)","v":""},""]
[{"$f":"IF(B273=\"\",\"\",SUM($F$9:F273))","v":""},{"$f":"IF(AND(EXACT($G$8,Main!H268),Main!U268>0),Main!B268,\"\")","v":""},{"$f":"IF(B273=\"\",\"\",Main!C268)","v":""},{"$f":"IF(B273=\"\",\"\",Main!I268)","v":""},{"$f":"IF(B273=\"\",\"\",Main!U268)","v":""},""]
[{"$f":"IF(B274=\"\",\"\",SUM($F$9:F274))","v":""},{"$f":"IF(AND(EXACT($G$8,Main!H269),Main!U269>0),Main!B269,\"\")","v":""},{"$f":"IF(B274=\"\",\"\",Main!C269)","v":""},{"$f":"IF(B274=\"\",\"\",Main!I269)","v":""},{"$f":"IF(B274=\"\",\"\",Main!U269)","v":""},""]
[{"$f":"IF(B275=\"\",\"\",SUM($F$9:F275))","v":""},{"$f":"IF(AND(EXACT($G$8,Main!H270),Main!U270>0),Main!B270,\"\")","v":""},{"$f":"IF(B275=\"\",\"\",Main!C270)","v":""},{"$f":"IF(B275=\"\",\"\",Main!I270)","v":""},{"$f":"IF(B275=\"\",\"\",Main!U270)","v":""},""]
[{"$f":"IF(B276=\"\",\"\",SUM($F$9:F276))","v":""},{"$f":"IF(AND(EXACT($G$8,Main!H271),Main!U271>0),Main!B271,\"\")","v":""},{"$f":"IF(B276=\"\",\"\",Main!C271)","v":""},{"$f":"IF(B276=\"\",\"\",Main!I271)","v":""},{"$f":"IF(B276=\"\",\"\",Main!U271)","v":""},""]
[{"$f":"IF(B277=\"\",\"\",SUM($F$9:F277))","v":""},{"$f":"IF(AND(EXACT($G$8,Main!H272),Main!U272>0),Main!B272,\"\")","v":""},{"$f":"IF(B277=\"\",\"\",Main!C272)","v":""},{"$f":"IF(B277=\"\",\"\",Main!I272)","v":""},{"$f":"IF(B277=\"\",\"\",Main!U272)","v":""},""]
[{"$f":"IF(B278=\"\",\"\",SUM($F$9:F278))","v":""},{"$f":"IF(AND(EXACT($G$8,Main!H273),Main!U273>0),Main!B273,\"\")","v":""},{"$f":"IF(B278=\"\",\"\",Main!C273)","v":""},{"$f":"IF(B278=\"\",\"\",Main!I273)","v":""},{"$f":"IF(B278=\"\",\"\",Main!U273)","v":""},""]
[{"$f":"IF(B279=\"\",\"\",SUM($F$9:F279))","v":""},{"$f":"IF(AND(EXACT($G$8,Main!H274),Main!U274>0),Main!B274,\"\")","v":""},{"$f":"IF(B279=\"\",\"\",Main!C274)","v":""},{"$f":"IF(B279=\"\",\"\",Main!I274)","v":""},{"$f":"IF(B279=\"\",\"\",Main!U274)","v":""},""]
[{"$f":"IF(B280=\"\",\"\",SUM($F$9:F280))","v":""},{"$f":"IF(AND(EXACT($G$8,Main!H275),Main!U275>0),Main!B275,\"\")","v":""},{"$f":"IF(B280=\"\",\"\",Main!C275)","v":""},{"$f":"IF(B280=\"\",\"\",Main!I275)","v":""},{"$f":"IF(B280=\"\",\"\",Main!U275)","v":""},""]
[{"$f":"IF(B281=\"\",\"\",SUM($F$9:F281))","v":""},{"$f":"IF(AND(EXACT($G$8,Main!H276),Main!U276>0),Main!B276,\"\")","v":""},{"$f":"IF(B281=\"\",\"\",Main!C276)","v":""},{"$f":"IF(B281=\"\",\"\",Main!I276)","v":""},{"$f":"IF(B281=\"\",\"\",Main!U276)","v":""},""]
[{"$f":"IF(B282=\"\",\"\",SUM($F$9:F282))","v":""},{"$f":"IF(AND(EXACT($G$8,Main!H277),Main!U277>0),Main!B277,\"\")","v":""},{"$f":"IF(B282=\"\",\"\",Main!C277)","v":""},{"$f":"IF(B282=\"\",\"\",Main!I277)","v":""},{"$f":"IF(B282=\"\",\"\",Main!U277)","v":""},""]
[{"$f":"IF(B283=\"\",\"\",SUM($F$9:F283))","v":""},{"$f":"IF(AND(EXACT($G$8,Main!H278),Main!U278>0),Main!B278,\"\")","v":""},{"$f":"IF(B283=\"\",\"\",Main!C278)","v":""},{"$f":"IF(B283=\"\",\"\",Main!I278)","v":""},{"$f":"IF(B283=\"\",\"\",Main!U278)","v":""},""]
[{"$f":"IF(B284=\"\",\"\",SUM($F$9:F284))","v":""},{"$f":"IF(AND(EXACT($G$8,Main!H279),Main!U279>0),Main!B279,\"\")","v":""},{"$f":"IF(B284=\"\",\"\",Main!C279)","v":""},{"$f":"IF(B284=\"\",\"\",Main!I279)","v":""},{"$f":"IF(B284=\"\",\"\",Main!U279)","v":""},""]
[{"$f":"IF(B285=\"\",\"\",SUM($F$9:F285))","v":""},{"$f":"IF(AND(EXACT($G$8,Main!H280),Main!U280>0),Main!B280,\"\")","v":""},{"$f":"IF(B285=\"\",\"\",Main!C280)","v":""},{"$f":"IF(B285=\"\",\"\",Main!I280)","v":""},{"$f":"IF(B285=\"\",\"\",Main!U280)","v":""},""]
[{"$f":"IF(B286=\"\",\"\",SUM($F$9:F286))","v":""},{"$f":"IF(AND(EXACT($G$8,Main!H281),Main!U281>0),Main!B281,\"\")","v":""},{"$f":"IF(B286=\"\",\"\",Main!C281)","v":""},{"$f":"IF(B286=\"\",\"\",Main!I281)","v":""},{"$f":"IF(B286=\"\",\"\",Main!U281)","v":""},""]
[{"$f":"IF(B287=\"\",\"\",SUM($F$9:F287))","v":""},{"$f":"IF(AND(EXACT($G$8,Main!H282),Main!U282>0),Main!B282,\"\")","v":""},{"$f":"IF(B287=\"\",\"\",Main!C282)","v":""},{"$f":"IF(B287=\"\",\"\",Main!I282)","v":""},{"$f":"IF(B287=\"\",\"\",Main!U282)","v":""},""]
[{"$f":"IF(B288=\"\",\"\",SUM($F$9:F288))","v":""},{"$f":"IF(AND(EXACT($G$8,Main!H283),Main!U283>0),Main!B283,\"\")","v":""},{"$f":"IF(B288=\"\",\"\",Main!C283)","v":""},{"$f":"IF(B288=\"\",\"\",Main!I283)","v":""},{"$f":"IF(B288=\"\",\"\",Main!U283)","v":""},""]
[{"$f":"IF(B289=\"\",\"\",SUM($F$9:F289))","v":""},{"$f":"IF(AND(EXACT($G$8,Main!H284),Main!U284>0),Main!B284,\"\")","v":""},{"$f":"IF(B289=\"\",\"\",Main!C284)","v":""},{"$f":"IF(B289=\"\",\"\",Main!I284)","v":""},{"$f":"IF(B289=\"\",\"\",Main!U284)","v":""},""]
[{"$f":"IF(B290=\"\",\"\",SUM($F$9:F290))","v":""},{"$f":"IF(AND(EXACT($G$8,Main!H285),Main!U285>0),Main!B285,\"\")","v":""},{"$f":"IF(B290=\"\",\"\",Main!C285)","v":""},{"$f":"IF(B290=\"\",\"\",Main!I285)","v":""},{"$f":"IF(B290=\"\",\"\",Main!U285)","v":""},""]
[{"$f":"IF(B291=\"\",\"\",SUM($F$9:F291))","v":""},{"$f":"IF(AND(EXACT($G$8,Main!H286),Main!U286>0),Main!B286,\"\")","v":""},{"$f":"IF(B291=\"\",\"\",Main!C286)","v":""},{"$f":"IF(B291=\"\",\"\",Main!I286)","v":""},{"$f":"IF(B291=\"\",\"\",Main!U286)","v":""},""]
[{"$f":"IF(B292=\"\",\"\",SUM($F$9:F292))","v":""},{"$f":"IF(AND(EXACT($G$8,Main!H287),Main!U287>0),Main!B287,\"\")","v":""},{"$f":"IF(B292=\"\",\"\",Main!C287)","v":""},{"$f":"IF(B292=\"\",\"\",Main!I287)","v":""},{"$f":"IF(B292=\"\",\"\",Main!U287)","v":""},""]
[{"$f":"IF(B293=\"\",\"\",SUM($F$9:F293))","v":""},{"$f":"IF(AND(EXACT($G$8,Main!H288),Main!U288>0),Main!B288,\"\")","v":""},{"$f":"IF(B293=\"\",\"\",Main!C288)","v":""},{"$f":"IF(B293=\"\",\"\",Main!I288)","v":""},{"$f":"IF(B293=\"\",\"\",Main!U288)","v":""},""]
[{"$f":"IF(B294=\"\",\"\",SUM($F$9:F294))","v":""},{"$f":"IF(AND(EXACT($G$8,Main!H289),Main!U289>0),Main!B289,\"\")","v":""},{"$f":"IF(B294=\"\",\"\",Main!C289)","v":""},{"$f":"IF(B294=\"\",\"\",Main!I289)","v":""},{"$f":"IF(B294=\"\",\"\",Main!U289)","v":""},""]
[{"$f":"IF(B295=\"\",\"\",SUM($F$9:F295))","v":""},{"$f":"IF(AND(EXACT($G$8,Main!H290),Main!U290>0),Main!B290,\"\")","v":""},{"$f":"IF(B295=\"\",\"\",Main!C290)","v":""},{"$f":"IF(B295=\"\",\"\",Main!I290)","v":""},{"$f":"IF(B295=\"\",\"\",Main!U290)","v":""},""]
[{"$f":"IF(B296=\"\",\"\",SUM($F$9:F296))","v":""},{"$f":"IF(AND(EXACT($G$8,Main!H291),Main!U291>0),Main!B291,\"\")","v":""},{"$f":"IF(B296=\"\",\"\",Main!C291)","v":""},{"$f":"IF(B296=\"\",\"\",Main!I291)","v":""},{"$f":"IF(B296=\"\",\"\",Main!U291)","v":""},""]
[{"$f":"IF(B297=\"\",\"\",SUM($F$9:F297))","v":""},{"$f":"IF(AND(EXACT($G$8,Main!H292),Main!U292>0),Main!B292,\"\")","v":""},{"$f":"IF(B297=\"\",\"\",Main!C292)","v":""},{"$f":"IF(B297=\"\",\"\",Main!I292)","v":""},{"$f":"IF(B297=\"\",\"\",Main!U292)","v":""},""]
[{"$f":"IF(B298=\"\",\"\",SUM($F$9:F298))","v":""},{"$f":"IF(AND(EXACT($G$8,Main!H293),Main!U293>0),Main!B293,\"\")","v":""},{"$f":"IF(B298=\"\",\"\",Main!C293)","v":""},{"$f":"IF(B298=\"\",\"\",Main!I293)","v":""},{"$f":"IF(B298=\"\",\"\",Main!U293)","v":""},""]
[{"$f":"IF(B299=\"\",\"\",SUM($F$9:F299))","v":""},{"$f":"IF(AND(EXACT($G$8,Main!H294),Main!U294>0),Main!B294,\"\")","v":""},{"$f":"IF(B299=\"\",\"\",Main!C294)","v":""},{"$f":"IF(B299=\"\",\"\",Main!I294)","v":""},{"$f":"IF(B299=\"\",\"\",Main!U294)","v":""},""]
[{"$f":"IF(B300=\"\",\"\",SUM($F$9:F300))","v":""},{"$f":"IF(AND(EXACT($G$8,Main!H295),Main!U295>0),Main!B295,\"\")","v":""},{"$f":"IF(B300=\"\",\"\",Main!C295)","v":""},{"$f":"IF(B300=\"\",\"\",Main!I295)","v":""},{"$f":"IF(B300=\"\",\"\",Main!U295)","v":""},""]
[{"$f":"IF(B301=\"\",\"\",SUM($F$9:F301))","v":""},{"$f":"IF(AND(EXACT($G$8,Main!H296),Main!U296>0),Main!B296,\"\")","v":""},{"$f":"IF(B301=\"\",\"\",Main!C296)","v":""},{"$f":"IF(B301=\"\",\"\",Main!I296)","v":""},{"$f":"IF(B301=\"\",\"\",Main!U296)","v":""},""]
[{"$f":"IF(B302=\"\",\"\",SUM($F$9:F302))","v":""},{"$f":"IF(AND(EXACT($G$8,Main!H297),Main!U297>0),Main!B297,\"\")","v":""},{"$f":"IF(B302=\"\",\"\",Main!C297)","v":""},{"$f":"IF(B302=\"\",\"\",Main!I297)","v":""},{"$f":"IF(B302=\"\",\"\",Main!U297)","v":""},""]
[{"$f":"IF(B303=\"\",\"\",SUM($F$9:F303))","v":""},{"$f":"IF(AND(EXACT($G$8,Main!H298),Main!U298>0),Main!B298,\"\")","v":""},{"$f":"IF(B303=\"\",\"\",Main!C298)","v":""},{"$f":"IF(B303=\"\",\"\",Main!I298)","v":""},{"$f":"IF(B303=\"\",\"\",Main!U298)","v":""},""]
[{"$f":"IF(B304=\"\",\"\",SUM($F$9:F304))","v":""},{"$f":"IF(AND(EXACT($G$8,Main!H299),Main!U299>0),Main!B299,\"\")","v":""},{"$f":"IF(B304=\"\",\"\",Main!C299)","v":""},{"$f":"IF(B304=\"\",\"\",Main!I299)","v":""},{"$f":"IF(B304=\"\",\"\",Main!U299)","v":""},""]
[{"$f":"IF(B305=\"\",\"\",SUM($F$9:F305))","v":""},{"$f":"IF(AND(EXACT($G$8,Main!H300),Main!U300>0),Main!B300,\"\")","v":""},{"$f":"IF(B305=\"\",\"\",Main!C300)","v":""},{"$f":"IF(B305=\"\",\"\",Main!I300)","v":""},{"$f":"IF(B305=\"\",\"\",Main!U300)","v":""},""]
[{"$f":"IF(B306=\"\",\"\",SUM($F$9:F306))","v":""},{"$f":"IF(AND(EXACT($G$8,Main!H301),Main!U301>0),Main!B301,\"\")","v":""},{"$f":"IF(B306=\"\",\"\",Main!C301)","v":""},{"$f":"IF(B306=\"\",\"\",Main!I301)","v":""},{"$f":"IF(B306=\"\",\"\",Main!U301)","v":""},""]
[{"$f":"IF(B307=\"\",\"\",SUM($F$9:F307))","v":""},{"$f":"IF(AND(EXACT($G$8,Main!H302),Main!U302>0),Main!B302,\"\")","v":""},{"$f":"IF(B307=\"\",\"\",Main!C302)","v":""},{"$f":"IF(B307=\"\",\"\",Main!I302)","v":""},{"$f":"IF(B307=\"\",\"\",Main!U302)","v":""},""]
[{"$f":"IF(B308=\"\",\"\",SUM($F$9:F308))","v":""},{"$f":"IF(AND(EXACT($G$8,Main!H303),Main!U303>0),Main!B303,\"\")","v":""},{"$f":"IF(B308=\"\",\"\",Main!C303)","v":""},{"$f":"IF(B308=\"\",\"\",Main!I303)","v":""},{"$f":"IF(B308=\"\",\"\",Main!U303)","v":""},""]
[{"$f":"IF(B309=\"\",\"\",SUM($F$9:F309))","v":""},{"$f":"IF(AND(EXACT($G$8,Main!H304),Main!U304>0),Main!B304,\"\")","v":""},{"$f":"IF(B309=\"\",\"\",Main!C304)","v":""},{"$f":"IF(B309=\"\",\"\",Main!I304)","v":""},{"$f":"IF(B309=\"\",\"\",Main!U304)","v":""},""]
[{"$f":"IF(B310=\"\",\"\",SUM($F$9:F310))","v":""},{"$f":"IF(AND(EXACT($G$8,Main!H305),Main!U305>0),Main!B305,\"\")","v":""},{"$f":"IF(B310=\"\",\"\",Main!C305)","v":""},{"$f":"IF(B310=\"\",\"\",Main!I305)","v":""},{"$f":"IF(B310=\"\",\"\",Main!U305)","v":""},""]
[{"$f":"IF(B311=\"\",\"\",SUM($F$9:F311))","v":""},{"$f":"IF(AND(EXACT($G$8,Main!H306),Main!U306>0),Main!B306,\"\")","v":""},{"$f":"IF(B311=\"\",\"\",Main!C306)","v":""},{"$f":"IF(B311=\"\",\"\",Main!I306)","v":""},{"$f":"IF(B311=\"\",\"\",Main!U306)","v":""},""]
[{"$f":"IF(B312=\"\",\"\",SUM($F$9:F312))","v":""},{"$f":"IF(AND(EXACT($G$8,Main!H307),Main!U307>0),Main!B307,\"\")","v":""},{"$f":"IF(B312=\"\",\"\",Main!C307)","v":""},{"$f":"IF(B312=\"\",\"\",Main!I307)","v":""},{"$f":"IF(B312=\"\",\"\",Main!U307)","v":""},""]
[{"$f":"IF(B313=\"\",\"\",SUM($F$9:F313))","v":""},{"$f":"IF(AND(EXACT($G$8,Main!H308),Main!U308>0),Main!B308,\"\")","v":""},{"$f":"IF(B313=\"\",\"\",Main!C308)","v":""},{"$f":"IF(B313=\"\",\"\",Main!I308)","v":""},{"$f":"IF(B313=\"\",\"\",Main!U308)","v":""},""]
[{"$f":"IF(B314=\"\",\"\",SUM($F$9:F314))","v":""},{"$f":"IF(AND(EXACT($G$8,Main!H309),Main!U309>0),Main!B309,\"\")","v":""},{"$f":"IF(B314=\"\",\"\",Main!C309)","v":""},{"$f":"IF(B314=\"\",\"\",Main!I309)","v":""},{"$f":"IF(B314=\"\",\"\",Main!U309)","v":""},""]
[{"$f":"IF(B315=\"\",\"\",SUM($F$9:F315))","v":""},{"$f":"IF(AND(EXACT($G$8,Main!H310),Main!U310>0),Main!B310,\"\")","v":""},{"$f":"IF(B315=\"\",\"\",Main!C310)","v":""},{"$f":"IF(B315=\"\",\"\",Main!I310)","v":""},{"$f":"IF(B315=\"\",\"\",Main!U310)","v":""},""]
[{"$f":"IF(B316=\"\",\"\",SUM($F$9:F316))","v":""},{"$f":"IF(AND(EXACT($G$8,Main!H311),Main!U311>0),Main!B311,\"\")","v":""},{"$f":"IF(B316=\"\",\"\",Main!C311)","v":""},{"$f":"IF(B316=\"\",\"\",Main!I311)","v":""},{"$f":"IF(B316=\"\",\"\",Main!U311)","v":""},""]
[{"$f":"IF(B317=\"\",\"\",SUM($F$9:F317))","v":""},{"$f":"IF(AND(EXACT($G$8,Main!H312),Main!U312>0),Main!B312,\"\")","v":""},{"$f":"IF(B317=\"\",\"\",Main!C312)","v":""},{"$f":"IF(B317=\"\",\"\",Main!I312)","v":""},{"$f":"IF(B317=\"\",\"\",Main!U312)","v":""},""]
[{"$f":"IF(B318=\"\",\"\",SUM($F$9:F318))","v":""},{"$f":"IF(AND(EXACT($G$8,Main!H313),Main!U313>0),Main!B313,\"\")","v":""},{"$f":"IF(B318=\"\",\"\",Main!C313)","v":""},{"$f":"IF(B318=\"\",\"\",Main!I313)","v":""},{"$f":"IF(B318=\"\",\"\",Main!U313)","v":""},""]
[{"$f":"IF(B319=\"\",\"\",SUM($F$9:F319))","v":""},{"$f":"IF(AND(EXACT($G$8,Main!H314),Main!U314>0),Main!B314,\"\")","v":""},{"$f":"IF(B319=\"\",\"\",Main!C314)","v":""},{"$f":"IF(B319=\"\",\"\",Main!I314)","v":""},{"$f":"IF(B319=\"\",\"\",Main!U314)","v":""},""]
[{"$f":"IF(B320=\"\",\"\",SUM($F$9:F320))","v":""},{"$f":"IF(AND(EXACT($G$8,Main!H315),Main!U315>0),Main!B315,\"\")","v":""},{"$f":"IF(B320=\"\",\"\",Main!C315)","v":""},{"$f":"IF(B320=\"\",\"\",Main!I315)","v":""},{"$f":"IF(B320=\"\",\"\",Main!U315)","v":""},""]
[{"$f":"IF(B321=\"\",\"\",SUM($F$9:F321))","v":""},{"$f":"IF(AND(EXACT($G$8,Main!H316),Main!U316>0),Main!B316,\"\")","v":""},{"$f":"IF(B321=\"\",\"\",Main!C316)","v":""},{"$f":"IF(B321=\"\",\"\",Main!I316)","v":""},{"$f":"IF(B321=\"\",\"\",Main!U316)","v":""},""]
[{"$f":"IF(B322=\"\",\"\",SUM($F$9:F322))","v":""},{"$f":"IF(AND(EXACT($G$8,Main!H317),Main!U317>0),Main!B317,\"\")","v":""},{"$f":"IF(B322=\"\",\"\",Main!C317)","v":""},{"$f":"IF(B322=\"\",\"\",Main!I317)","v":""},{"$f":"IF(B322=\"\",\"\",Main!U317)","v":""},""]
[{"$f":"IF(B323=\"\",\"\",SUM($F$9:F323))","v":""},{"$f":"IF(AND(EXACT($G$8,Main!H318),Main!U318>0),Main!B318,\"\")","v":""},{"$f":"IF(B323=\"\",\"\",Main!C318)","v":""},{"$f":"IF(B323=\"\",\"\",Main!I318)","v":""},{"$f":"IF(B323=\"\",\"\",Main!U318)","v":""},""]
[{"$f":"IF(B324=\"\",\"\",SUM($F$9:F324))","v":""},{"$f":"IF(AND(EXACT($G$8,Main!H319),Main!U319>0),Main!B319,\"\")","v":""},{"$f":"IF(B324=\"\",\"\",Main!C319)","v":""},{"$f":"IF(B324=\"\",\"\",Main!I319)","v":""},{"$f":"IF(B324=\"\",\"\",Main!U319)","v":""},""]
[{"$f":"IF(B325=\"\",\"\",SUM($F$9:F325))","v":""},{"$f":"IF(AND(EXACT($G$8,Main!H320),Main!U320>0),Main!B320,\"\")","v":""},{"$f":"IF(B325=\"\",\"\",Main!C320)","v":""},{"$f":"IF(B325=\"\",\"\",Main!I320)","v":""},{"$f":"IF(B325=\"\",\"\",Main!U320)","v":""},""]
[{"$f":"IF(B326=\"\",\"\",SUM($F$9:F326))","v":""},{"$f":"IF(AND(EXACT($G$8,Main!H321),Main!U321>0),Main!B321,\"\")","v":""},{"$f":"IF(B326=\"\",\"\",Main!C321)","v":""},{"$f":"IF(B326=\"\",\"\",Main!I321)","v":""},{"$f":"IF(B326=\"\",\"\",Main!U321)","v":""},""]
[{"$f":"IF(B327=\"\",\"\",SUM($F$9:F327))","v":""},{"$f":"IF(AND(EXACT($G$8,Main!H322),Main!U322>0),Main!B322,\"\")","v":""},{"$f":"IF(B327=\"\",\"\",Main!C322)","v":""},{"$f":"IF(B327=\"\",\"\",Main!I322)","v":""},{"$f":"IF(B327=\"\",\"\",Main!U322)","v":""},""]
[{"$f":"IF(B328=\"\",\"\",SUM($F$9:F328))","v":""},{"$f":"IF(AND(EXACT($G$8,Main!H323),Main!U323>0),Main!B323,\"\")","v":""},{"$f":"IF(B328=\"\",\"\",Main!C323)","v":""},{"$f":"IF(B328=\"\",\"\",Main!I323)","v":""},{"$f":"IF(B328=\"\",\"\",Main!U323)","v":""},""]
[{"$f":"IF(B329=\"\",\"\",SUM($F$9:F329))","v":""},{"$f":"IF(AND(EXACT($G$8,Main!H324),Main!U324>0),Main!B324,\"\")","v":""},{"$f":"IF(B329=\"\",\"\",Main!C324)","v":""},{"$f":"IF(B329=\"\",\"\",Main!I324)","v":""},{"$f":"IF(B329=\"\",\"\",Main!U324)","v":""},{"$f":"IF(B329=\"\",\"\",1)","v":""}]
[{"$f":"IF(B330=\"\",\"\",SUM($F$9:F330))","v":""},{"$f":"IF(AND(EXACT($G$8,Main!H325),Main!U325>0),Main!B325,\"\")","v":""},{"$f":"IF(B330=\"\",\"\",Main!C325)","v":""},{"$f":"IF(B330=\"\",\"\",Main!I325)","v":""},{"$f":"IF(B330=\"\",\"\",Main!U325)","v":""},""]
[{"$f":"IF(B331=\"\",\"\",SUM($F$9:F331))","v":""},{"$f":"IF(AND(EXACT($G$8,Main!H326),Main!U326>0),Main!B326,\"\")","v":""},{"$f":"IF(B331=\"\",\"\",Main!C326)","v":""},{"$f":"IF(B331=\"\",\"\",Main!I326)","v":""},{"$f":"IF(B331=\"\",\"\",Main!U326)","v":""},""]
[{"$f":"IF(B332=\"\",\"\",SUM($F$9:F332))","v":""},{"$f":"IF(AND(EXACT($G$8,Main!H327),Main!U327>0),Main!B327,\"\")","v":""},{"$f":"IF(B332=\"\",\"\",Main!C327)","v":""},{"$f":"IF(B332=\"\",\"\",Main!I327)","v":""},{"$f":"IF(B332=\"\",\"\",Main!U327)","v":""},""]
[{"$f":"IF(B333=\"\",\"\",SUM($F$9:F333))","v":""},{"$f":"IF(AND(EXACT($G$8,Main!H328),Main!U328>0),Main!B328,\"\")","v":""},{"$f":"IF(B333=\"\",\"\",Main!C328)","v":""},{"$f":"IF(B333=\"\",\"\",Main!I328)","v":""},{"$f":"IF(B333=\"\",\"\",Main!U328)","v":""},""]
[{"$f":"IF(B334=\"\",\"\",SUM($F$9:F334))","v":""},{"$f":"IF(AND(EXACT($G$8,Main!H329),Main!U329>0),Main!B329,\"\")","v":""},{"$f":"IF(B334=\"\",\"\",Main!C329)","v":""},{"$f":"IF(B334=\"\",\"\",Main!I329)","v":""},{"$f":"IF(B334=\"\",\"\",Main!U329)","v":""},""]
[{"$f":"IF(B335=\"\",\"\",SUM($F$9:F335))","v":""},{"$f":"IF(AND(EXACT($G$8,Main!H330),Main!U330>0),Main!B330,\"\")","v":""},{"$f":"IF(B335=\"\",\"\",Main!C330)","v":""},{"$f":"IF(B335=\"\",\"\",Main!I330)","v":""},{"$f":"IF(B335=\"\",\"\",Main!U330)","v":""},""]
[{"$f":"IF(B336=\"\",\"\",SUM($F$9:F336))","v":""},{"$f":"IF(AND(EXACT($G$8,Main!H331),Main!U331>0),Main!B331,\"\")","v":""},{"$f":"IF(B336=\"\",\"\",Main!C331)","v":""},{"$f":"IF(B336=\"\",\"\",Main!I331)","v":""},{"$f":"IF(B336=\"\",\"\",Main!U331)","v":""},""]
[{"$f":"IF(B337=\"\",\"\",SUM($F$9:F337))","v":""},{"$f":"IF(AND(EXACT($G$8,Main!H332),Main!U332>0),Main!B332,\"\")","v":""},{"$f":"IF(B337=\"\",\"\",Main!C332)","v":""},{"$f":"IF(B337=\"\",\"\",Main!I332)","v":""},{"$f":"IF(B337=\"\",\"\",Main!U332)","v":""},""]
[{"$f":"IF(B338=\"\",\"\",SUM($F$9:F338))","v":""},{"$f":"IF(AND(EXACT($G$8,Main!H333),Main!U333>0),Main!B333,\"\")","v":""},{"$f":"IF(B338=\"\",\"\",Main!C333)","v":""},{"$f":"IF(B338=\"\",\"\",Main!I333)","v":""},{"$f":"IF(B338=\"\",\"\",Main!U333)","v":""},""]
[{"$f":"IF(B339=\"\",\"\",SUM($F$9:F339))","v":""},{"$f":"IF(AND(EXACT($G$8,Main!H334),Main!U334>0),Main!B334,\"\")","v":""},{"$f":"IF(B339=\"\",\"\",Main!C334)","v":""},{"$f":"IF(B339=\"\",\"\",Main!I334)","v":""},{"$f":"IF(B339=\"\",\"\",Main!U334)","v":""},""]
[{"$f":"IF(B340=\"\",\"\",SUM($F$9:F340))","v":""},{"$f":"IF(AND(EXACT($G$8,Main!H335),Main!U335>0),Main!B335,\"\")","v":""},{"$f":"IF(B340=\"\",\"\",Main!C335)","v":""},{"$f":"IF(B340=\"\",\"\",Main!I335)","v":""},{"$f":"IF(B340=\"\",\"\",Main!U335)","v":""},""]
[{"$f":"IF(B341=\"\",\"\",SUM($F$9:F341))","v":""},{"$f":"IF(AND(EXACT($G$8,Main!H336),Main!U336>0),Main!B336,\"\")","v":""},{"$f":"IF(B341=\"\",\"\",Main!C336)","v":""},{"$f":"IF(B341=\"\",\"\",Main!I336)","v":""},{"$f":"IF(B341=\"\",\"\",Main!U336)","v":""},""]
[{"$f":"IF(B342=\"\",\"\",SUM($F$9:F342))","v":""},{"$f":"IF(AND(EXACT($G$8,Main!H337),Main!U337>0),Main!B337,\"\")","v":""},{"$f":"IF(B342=\"\",\"\",Main!C337)","v":""},{"$f":"IF(B342=\"\",\"\",Main!I337)","v":""},{"$f":"IF(B342=\"\",\"\",Main!U337)","v":""},""]
[{"$f":"IF(B343=\"\",\"\",SUM($F$9:F343))","v":""},{"$f":"IF(AND(EXACT($G$8,Main!H338),Main!U338>0),Main!B338,\"\")","v":""},{"$f":"IF(B343=\"\",\"\",Main!C338)","v":""},{"$f":"IF(B343=\"\",\"\",Main!I338)","v":""},{"$f":"IF(B343=\"\",\"\",Main!U338)","v":""},""]
[{"$f":"IF(B344=\"\",\"\",SUM($F$9:F344))","v":""},{"$f":"IF(AND(EXACT($G$8,Main!H339),Main!U339>0),Main!B339,\"\")","v":""},{"$f":"IF(B344=\"\",\"\",Main!C339)","v":""},{"$f":"IF(B344=\"\",\"\",Main!I339)","v":""},{"$f":"IF(B344=\"\",\"\",Main!U339)","v":""},""]
[{"$f":"IF(B345=\"\",\"\",SUM($F$9:F345))","v":""},{"$f":"IF(AND(EXACT($G$8,Main!H340),Main!U340>0),Main!B340,\"\")","v":""},{"$f":"IF(B345=\"\",\"\",Main!C340)","v":""},{"$f":"IF(B345=\"\",\"\",Main!I340)","v":""},{"$f":"IF(B345=\"\",\"\",Main!U340)","v":""},""]
[{"$f":"IF(B346=\"\",\"\",SUM($F$9:F346))","v":""},{"$f":"IF(AND(EXACT($G$8,Main!H341),Main!U341>0),Main!B341,\"\")","v":""},{"$f":"IF(B346=\"\",\"\",Main!C341)","v":""},{"$f":"IF(B346=\"\",\"\",Main!I341)","v":""},{"$f":"IF(B346=\"\",\"\",Main!U341)","v":""},""]
[{"$f":"IF(B347=\"\",\"\",SUM($F$9:F347))","v":""},{"$f":"IF(AND(EXACT($G$8,Main!H342),Main!U342>0),Main!B342,\"\")","v":""},{"$f":"IF(B347=\"\",\"\",Main!C342)","v":""},{"$f":"IF(B347=\"\",\"\",Main!I342)","v":""},{"$f":"IF(B347=\"\",\"\",Main!U342)","v":""},""]
[{"$f":"IF(B348=\"\",\"\",SUM($F$9:F348))","v":""},{"$f":"IF(AND(EXACT($G$8,Main!H343),Main!U343>0),Main!B343,\"\")","v":""},{"$f":"IF(B348=\"\",\"\",Main!C343)","v":""},{"$f":"IF(B348=\"\",\"\",Main!I343)","v":""},{"$f":"IF(B348=\"\",\"\",Main!U343)","v":""},""]
[{"$f":"IF(B349=\"\",\"\",SUM($F$9:F349))","v":""},{"$f":"IF(AND(EXACT($G$8,Main!H344),Main!U344>0),Main!B344,\"\")","v":""},{"$f":"IF(B349=\"\",\"\",Main!C344)","v":""},{"$f":"IF(B349=\"\",\"\",Main!I344)","v":""},{"$f":"IF(B349=\"\",\"\",Main!U344)","v":""},""]
[{"$f":"IF(B350=\"\",\"\",SUM($F$9:F350))","v":""},{"$f":"IF(AND(EXACT($G$8,Main!H345),Main!U345>0),Main!B345,\"\")","v":""},{"$f":"IF(B350=\"\",\"\",Main!C345)","v":""},{"$f":"IF(B350=\"\",\"\",Main!I345)","v":""},{"$f":"IF(B350=\"\",\"\",Main!U345)","v":""},""]
[{"$f":"IF(B351=\"\",\"\",SUM($F$9:F351))","v":""},{"$f":"IF(AND(EXACT($G$8,Main!H346),Main!U346>0),Main!B346,\"\")","v":""},{"$f":"IF(B351=\"\",\"\",Main!C346)","v":""},{"$f":"IF(B351=\"\",\"\",Main!I346)","v":""},{"$f":"IF(B351=\"\",\"\",Main!U346)","v":""},""]
[{"$f":"IF(B352=\"\",\"\",SUM($F$9:F352))","v":""},{"$f":"IF(AND(EXACT($G$8,Main!H347),Main!U347>0),Main!B347,\"\")","v":""},{"$f":"IF(B352=\"\",\"\",Main!C347)","v":""},{"$f":"IF(B352=\"\",\"\",Main!I347)","v":""},{"$f":"IF(B352=\"\",\"\",Main!U347)","v":""},""]
[{"$f":"IF(B353=\"\",\"\",SUM($F$9:F353))","v":""},{"$f":"IF(AND(EXACT($G$8,Main!H348),Main!U348>0),Main!B348,\"\")","v":""},{"$f":"IF(B353=\"\",\"\",Main!C348)","v":""},{"$f":"IF(B353=\"\",\"\",Main!I348)","v":""},{"$f":"IF(B353=\"\",\"\",Main!U348)","v":""},""]
[{"$f":"IF(B354=\"\",\"\",SUM($F$9:F354))","v":""},{"$f":"IF(AND(EXACT($G$8,Main!H349),Main!U349>0),Main!B349,\"\")","v":""},{"$f":"IF(B354=\"\",\"\",Main!C349)","v":""},{"$f":"IF(B354=\"\",\"\",Main!I349)","v":""},{"$f":"IF(B354=\"\",\"\",Main!U349)","v":""},""]
[{"$f":"IF(B355=\"\",\"\",SUM($F$9:F355))","v":""},{"$f":"IF(AND(EXACT($G$8,Main!H350),Main!U350>0),Main!B350,\"\")","v":""},{"$f":"IF(B355=\"\",\"\",Main!C350)","v":""},{"$f":"IF(B355=\"\",\"\",Main!I350)","v":""},{"$f":"IF(B355=\"\",\"\",Main!U350)","v":""},""]
[{"$f":"IF(B356=\"\",\"\",SUM($F$9:F356))","v":""},{"$f":"IF(AND(EXACT($G$8,Main!H351),Main!U351>0),Main!B351,\"\")","v":""},{"$f":"IF(B356=\"\",\"\",Main!C351)","v":""},{"$f":"IF(B356=\"\",\"\",Main!I351)","v":""},{"$f":"IF(B356=\"\",\"\",Main!U351)","v":""},""]
[{"$f":"IF(B357=\"\",\"\",SUM($F$9:F357))","v":""},{"$f":"IF(AND(EXACT($G$8,Main!H352),Main!U352>0),Main!B352,\"\")","v":""},{"$f":"IF(B357=\"\",\"\",Main!C352)","v":""},{"$f":"IF(B357=\"\",\"\",Main!I352)","v":""},{"$f":"IF(B357=\"\",\"\",Main!U352)","v":""},""]
[{"$f":"IF(B358=\"\",\"\",SUM($F$9:F358))","v":""},{"$f":"IF(AND(EXACT($G$8,Main!H353),Main!U353>0),Main!B353,\"\")","v":""},{"$f":"IF(B358=\"\",\"\",Main!C353)","v":""},{"$f":"IF(B358=\"\",\"\",Main!I353)","v":""},{"$f":"IF(B358=\"\",\"\",Main!U353)","v":""},""]
[{"$f":"IF(B359=\"\",\"\",SUM($F$9:F359))","v":""},{"$f":"IF(AND(EXACT($G$8,Main!H354),Main!U354>0),Main!B354,\"\")","v":""},{"$f":"IF(B359=\"\",\"\",Main!C354)","v":""},{"$f":"IF(B359=\"\",\"\",Main!I354)","v":""},{"$f":"IF(B359=\"\",\"\",Main!U354)","v":""},""]
[{"$f":"IF(B360=\"\",\"\",SUM($F$9:F360))","v":""},{"$f":"IF(AND(EXACT($G$8,Main!H355),Main!U355>0),Main!B355,\"\")","v":""},{"$f":"IF(B360=\"\",\"\",Main!C355)","v":""},{"$f":"IF(B360=\"\",\"\",Main!I355)","v":""},{"$f":"IF(B360=\"\",\"\",Main!U355)","v":""},""]
[{"$f":"IF(B361=\"\",\"\",SUM($F$9:F361))","v":""},{"$f":"IF(AND(EXACT($G$8,Main!H356),Main!U356>0),Main!B356,\"\")","v":""},{"$f":"IF(B361=\"\",\"\",Main!C356)","v":""},{"$f":"IF(B361=\"\",\"\",Main!I356)","v":""},{"$f":"IF(B361=\"\",\"\",Main!U356)","v":""},""]
[{"$f":"IF(B362=\"\",\"\",SUM($F$9:F362))","v":""},{"$f":"IF(AND(EXACT($G$8,Main!H357),Main!U357>0),Main!B357,\"\")","v":""},{"$f":"IF(B362=\"\",\"\",Main!C357)","v":""},{"$f":"IF(B362=\"\",\"\",Main!I357)","v":""},{"$f":"IF(B362=\"\",\"\",Main!U357)","v":""},""]
[{"$f":"IF(B363=\"\",\"\",SUM($F$9:F363))","v":""},{"$f":"IF(AND(EXACT($G$8,Main!H358),Main!U358>0),Main!B358,\"\")","v":""},{"$f":"IF(B363=\"\",\"\",Main!C358)","v":""},{"$f":"IF(B363=\"\",\"\",Main!I358)","v":""},{"$f":"IF(B363=\"\",\"\",Main!U358)","v":""},""]
[{"$f":"IF(B364=\"\",\"\",SUM($F$9:F364))","v":""},{"$f":"IF(AND(EXACT($G$8,Main!H359),Main!U359>0),Main!B359,\"\")","v":""},{"$f":"IF(B364=\"\",\"\",Main!C359)","v":""},{"$f":"IF(B364=\"\",\"\",Main!I359)","v":""},{"$f":"IF(B364=\"\",\"\",Main!U359)","v":""},""]
[{"$f":"IF(B365=\"\",\"\",SUM($F$9:F365))","v":""},{"$f":"IF(AND(EXACT($G$8,Main!H360),Main!U360>0),Main!B360,\"\")","v":""},{"$f":"IF(B365=\"\",\"\",Main!C360)","v":""},{"$f":"IF(B365=\"\",\"\",Main!I360)","v":""},{"$f":"IF(B365=\"\",\"\",Main!U360)","v":""},""]
[{"$f":"IF(B366=\"\",\"\",SUM($F$9:F366))","v":""},{"$f":"IF(AND(EXACT($G$8,Main!H361),Main!U361>0),Main!B361,\"\")","v":""},{"$f":"IF(B366=\"\",\"\",Main!C361)","v":""},{"$f":"IF(B366=\"\",\"\",Main!I361)","v":""},{"$f":"IF(B366=\"\",\"\",Main!U361)","v":""},""]
[{"$f":"IF(B367=\"\",\"\",SUM($F$9:F367))","v":""},{"$f":"IF(AND(EXACT($G$8,Main!H362),Main!U362>0),Main!B362,\"\")","v":""},{"$f":"IF(B367=\"\",\"\",Main!C362)","v":""},{"$f":"IF(B367=\"\",\"\",Main!I362)","v":""},{"$f":"IF(B367=\"\",\"\",Main!U362)","v":""},""]
[{"$f":"IF(B368=\"\",\"\",SUM($F$9:F368))","v":""},{"$f":"IF(AND(EXACT($G$8,Main!H363),Main!U363>0),Main!B363,\"\")","v":""},{"$f":"IF(B368=\"\",\"\",Main!C363)","v":""},{"$f":"IF(B368=\"\",\"\",Main!I363)","v":""},{"$f":"IF(B368=\"\",\"\",Main!U363)","v":""},""]
[{"$f":"IF(B369=\"\",\"\",SUM($F$9:F369))","v":""},{"$f":"IF(AND(EXACT($G$8,Main!H364),Main!U364>0),Main!B364,\"\")","v":""},{"$f":"IF(B369=\"\",\"\",Main!C364)","v":""},{"$f":"IF(B369=\"\",\"\",Main!I364)","v":""},{"$f":"IF(B369=\"\",\"\",Main!U364)","v":""},""]
[{"$f":"IF(B370=\"\",\"\",SUM($F$9:F370))","v":""},{"$f":"IF(AND(EXACT($G$8,Main!H365),Main!U365>0),Main!B365,\"\")","v":""},{"$f":"IF(B370=\"\",\"\",Main!C365)","v":""},{"$f":"IF(B370=\"\",\"\",Main!I365)","v":""},{"$f":"IF(B370=\"\",\"\",Main!U365)","v":""},""]
[{"$f":"IF(B371=\"\",\"\",SUM($F$9:F371))","v":""},{"$f":"IF(AND(EXACT($G$8,Main!H366),Main!U366>0),Main!B366,\"\")","v":""},{"$f":"IF(B371=\"\",\"\",Main!C366)","v":""},{"$f":"IF(B371=\"\",\"\",Main!I366)","v":""},{"$f":"IF(B371=\"\",\"\",Main!U366)","v":""},""]
[{"$f":"IF(B372=\"\",\"\",SUM($F$9:F372))","v":""},{"$f":"IF(AND(EXACT($G$8,Main!H367),Main!U367>0),Main!B367,\"\")","v":""},{"$f":"IF(B372=\"\",\"\",Main!C367)","v":""},{"$f":"IF(B372=\"\",\"\",Main!I367)","v":""},{"$f":"IF(B372=\"\",\"\",Main!U367)","v":""},""]
[{"$f":"IF(B373=\"\",\"\",SUM($F$9:F373))","v":""},{"$f":"IF(AND(EXACT($G$8,Main!H368),Main!U368>0),Main!B368,\"\")","v":""},{"$f":"IF(B373=\"\",\"\",Main!C368)","v":""},{"$f":"IF(B373=\"\",\"\",Main!I368)","v":""},{"$f":"IF(B373=\"\",\"\",Main!U368)","v":""},""]
[{"$f":"IF(B374=\"\",\"\",SUM($F$9:F374))","v":""},{"$f":"IF(AND(EXACT($G$8,Main!H369),Main!U369>0),Main!B369,\"\")","v":""},{"$f":"IF(B374=\"\",\"\",Main!C369)","v":""},{"$f":"IF(B374=\"\",\"\",Main!I369)","v":""},{"$f":"IF(B374=\"\",\"\",Main!U369)","v":""},""]
[{"$f":"IF(B375=\"\",\"\",SUM($F$9:F375))","v":""},{"$f":"IF(AND(EXACT($G$8,Main!H370),Main!U370>0),Main!B370,\"\")","v":""},{"$f":"IF(B375=\"\",\"\",Main!C370)","v":""},{"$f":"IF(B375=\"\",\"\",Main!I370)","v":""},{"$f":"IF(B375=\"\",\"\",Main!U370)","v":""},""]
[{"$f":"IF(B376=\"\",\"\",SUM($F$9:F376))","v":""},{"$f":"IF(AND(EXACT($G$8,Main!H371),Main!U371>0),Main!B371,\"\")","v":""},{"$f":"IF(B376=\"\",\"\",Main!C371)","v":""},{"$f":"IF(B376=\"\",\"\",Main!I371)","v":""},{"$f":"IF(B376=\"\",\"\",Main!U371)","v":""},""]
[{"$f":"IF(B377=\"\",\"\",SUM($F$9:F377))","v":""},{"$f":"IF(AND(EXACT($G$8,Main!H372),Main!U372>0),Main!B372,\"\")","v":""},{"$f":"IF(B377=\"\",\"\",Main!C372)","v":""},{"$f":"IF(B377=\"\",\"\",Main!I372)","v":""},{"$f":"IF(B377=\"\",\"\",Main!U372)","v":""},""]
[{"$f":"IF(B378=\"\",\"\",SUM($F$9:F378))","v":""},{"$f":"IF(AND(EXACT($G$8,Main!H373),Main!U373>0),Main!B373,\"\")","v":""},{"$f":"IF(B378=\"\",\"\",Main!C373)","v":""},{"$f":"IF(B378=\"\",\"\",Main!I373)","v":""},{"$f":"IF(B378=\"\",\"\",Main!U373)","v":""},""]
[{"$f":"IF(B379=\"\",\"\",SUM($F$9:F379))","v":""},{"$f":"IF(AND(EXACT($G$8,Main!H374),Main!U374>0),Main!B374,\"\")","v":""},{"$f":"IF(B379=\"\",\"\",Main!C374)","v":""},{"$f":"IF(B379=\"\",\"\",Main!I374)","v":""},{"$f":"IF(B379=\"\",\"\",Main!U374)","v":""},""]
[{"$f":"IF(B380=\"\",\"\",SUM($F$9:F380))","v":""},{"$f":"IF(AND(EXACT($G$8,Main!H375),Main!U375>0),Main!B375,\"\")","v":""},{"$f":"IF(B380=\"\",\"\",Main!C375)","v":""},{"$f":"IF(B380=\"\",\"\",Main!I375)","v":""},{"$f":"IF(B380=\"\",\"\",Main!U375)","v":""},""]
[{"$f":"IF(B381=\"\",\"\",SUM($F$9:F381))","v":""},{"$f":"IF(AND(EXACT($G$8,Main!H376),Main!U376>0),Main!B376,\"\")","v":""},{"$f":"IF(B381=\"\",\"\",Main!C376)","v":""},{"$f":"IF(B381=\"\",\"\",Main!I376)","v":""},{"$f":"IF(B381=\"\",\"\",Main!U376)","v":""},""]
[{"$f":"IF(B382=\"\",\"\",SUM($F$9:F382))","v":""},{"$f":"IF(AND(EXACT($G$8,Main!H377),Main!U377>0),Main!B377,\"\")","v":""},{"$f":"IF(B382=\"\",\"\",Main!C377)","v":""},{"$f":"IF(B382=\"\",\"\",Main!I377)","v":""},{"$f":"IF(B382=\"\",\"\",Main!U377)","v":""},""]
[{"$f":"IF(B383=\"\",\"\",SUM($F$9:F383))","v":""},{"$f":"IF(AND(EXACT($G$8,Main!H378),Main!U378>0),Main!B378,\"\")","v":""},{"$f":"IF(B383=\"\",\"\",Main!C378)","v":""},{"$f":"IF(B383=\"\",\"\",Main!I378)","v":""},{"$f":"IF(B383=\"\",\"\",Main!U378)","v":""},""]
[{"$f":"IF(B384=\"\",\"\",SUM($F$9:F384))","v":""},{"$f":"IF(AND(EXACT($G$8,Main!H379),Main!U379>0),Main!B379,\"\")","v":""},{"$f":"IF(B384=\"\",\"\",Main!C379)","v":""},{"$f":"IF(B384=\"\",\"\",Main!I379)","v":""},{"$f":"IF(B384=\"\",\"\",Main!U379)","v":""},""]
[{"$f":"IF(B385=\"\",\"\",SUM($F$9:F385))","v":""},{"$f":"IF(AND(EXACT($G$8,Main!H380),Main!U380>0),Main!B380,\"\")","v":""},{"$f":"IF(B385=\"\",\"\",Main!C380)","v":""},{"$f":"IF(B385=\"\",\"\",Main!I380)","v":""},{"$f":"IF(B385=\"\",\"\",Main!U380)","v":""},""]
[{"$f":"IF(B386=\"\",\"\",SUM($F$9:F386))","v":""},{"$f":"IF(AND(EXACT($G$8,Main!H381),Main!U381>0),Main!B381,\"\")","v":""},{"$f":"IF(B386=\"\",\"\",Main!C381)","v":""},{"$f":"IF(B386=\"\",\"\",Main!I381)","v":""},{"$f":"IF(B386=\"\",\"\",Main!U381)","v":""},""]
[{"$f":"IF(B387=\"\",\"\",SUM($F$9:F387))","v":""},{"$f":"IF(AND(EXACT($G$8,Main!H382),Main!U382>0),Main!B382,\"\")","v":""},{"$f":"IF(B387=\"\",\"\",Main!C382)","v":""},{"$f":"IF(B387=\"\",\"\",Main!I382)","v":""},{"$f":"IF(B387=\"\",\"\",Main!U382)","v":""},""]
[{"$f":"IF(B388=\"\",\"\",SUM($F$9:F388))","v":""},{"$f":"IF(AND(EXACT($G$8,Main!H383),Main!U383>0),Main!B383,\"\")","v":""},{"$f":"IF(B388=\"\",\"\",Main!C383)","v":""},{"$f":"IF(B388=\"\",\"\",Main!I383)","v":""},{"$f":"IF(B388=\"\",\"\",Main!U383)","v":""},""]
[{"$f":"IF(B389=\"\",\"\",SUM($F$9:F389))","v":""},{"$f":"IF(AND(EXACT($G$8,Main!H384),Main!U384>0),Main!B384,\"\")","v":""},{"$f":"IF(B389=\"\",\"\",Main!C384)","v":""},{"$f":"IF(B389=\"\",\"\",Main!I384)","v":""},{"$f":"IF(B389=\"\",\"\",Main!U384)","v":""},""]
[{"$f":"IF(B390=\"\",\"\",SUM($F$9:F390))","v":""},{"$f":"IF(AND(EXACT($G$8,Main!H385),Main!U385>0),Main!B385,\"\")","v":""},{"$f":"IF(B390=\"\",\"\",Main!C385)","v":""},{"$f":"IF(B390=\"\",\"\",Main!I385)","v":""},{"$f":"IF(B390=\"\",\"\",Main!U385)","v":""},""]
[{"$f":"IF(B391=\"\",\"\",SUM($F$9:F391))","v":""},{"$f":"IF(AND(EXACT($G$8,Main!H386),Main!U386>0),Main!B386,\"\")","v":""},{"$f":"IF(B391=\"\",\"\",Main!C386)","v":""},{"$f":"IF(B391=\"\",\"\",Main!I386)","v":""},{"$f":"IF(B391=\"\",\"\",Main!U386)","v":""},""]
[{"$f":"IF(B392=\"\",\"\",SUM($F$9:F392))","v":""},{"$f":"IF(AND(EXACT($G$8,Main!H387),Main!U387>0),Main!B387,\"\")","v":""},{"$f":"IF(B392=\"\",\"\",Main!C387)","v":""},{"$f":"IF(B392=\"\",\"\",Main!I387)","v":""},{"$f":"IF(B392=\"\",\"\",Main!U387)","v":""},""]
[{"$f":"IF(B393=\"\",\"\",SUM($F$9:F393))","v":""},{"$f":"IF(AND(EXACT($G$8,Main!H388),Main!U388>0),Main!B388,\"\")","v":""},{"$f":"IF(B393=\"\",\"\",Main!C388)","v":""},{"$f":"IF(B393=\"\",\"\",Main!I388)","v":""},{"$f":"IF(B393=\"\",\"\",Main!U388)","v":""},{"$f":"IF(B393=\"\",\"\",1)","v":""}]
[{"$f":"IF(B394=\"\",\"\",SUM($F$9:F394))","v":""},{"$f":"IF(AND(EXACT($G$8,Main!H389),Main!U389>0),Main!B389,\"\")","v":""},{"$f":"IF(B394=\"\",\"\",Main!C389)","v":""},{"$f":"IF(B394=\"\",\"\",Main!I389)","v":""},{"$f":"IF(B394=\"\",\"\",Main!U389)","v":""},""]
[{"$f":"IF(B395=\"\",\"\",SUM($F$9:F395))","v":""},{"$f":"IF(AND(EXACT($G$8,Main!H390),Main!U390>0),Main!B390,\"\")","v":""},{"$f":"IF(B395=\"\",\"\",Main!C390)","v":""},{"$f":"IF(B395=\"\",\"\",Main!I390)","v":""},{"$f":"IF(B395=\"\",\"\",Main!U390)","v":""},""]
[{"$f":"IF(B396=\"\",\"\",SUM($F$9:F396))","v":""},{"$f":"IF(AND(EXACT($G$8,Main!H391),Main!U391>0),Main!B391,\"\")","v":""},{"$f":"IF(B396=\"\",\"\",Main!C391)","v":""},{"$f":"IF(B396=\"\",\"\",Main!I391)","v":""},{"$f":"IF(B396=\"\",\"\",Main!U391)","v":""},""]
[{"$f":"IF(B397=\"\",\"\",SUM($F$9:F397))","v":""},{"$f":"IF(AND(EXACT($G$8,Main!H392),Main!U392>0),Main!B392,\"\")","v":""},{"$f":"IF(B397=\"\",\"\",Main!C392)","v":""},{"$f":"IF(B397=\"\",\"\",Main!I392)","v":""},{"$f":"IF(B397=\"\",\"\",Main!U392)","v":""},""]
[{"$f":"IF(B398=\"\",\"\",SUM($F$9:F398))","v":""},{"$f":"IF(AND(EXACT($G$8,Main!H393),Main!U393>0),Main!B393,\"\")","v":""},{"$f":"IF(B398=\"\",\"\",Main!C393)","v":""},{"$f":"IF(B398=\"\",\"\",Main!I393)","v":""},{"$f":"IF(B398=\"\",\"\",Main!U393)","v":""},""]
[{"$f":"IF(B399=\"\",\"\",SUM($F$9:F399))","v":""},{"$f":"IF(AND(EXACT($G$8,Main!H394),Main!U394>0),Main!B394,\"\")","v":""},{"$f":"IF(B399=\"\",\"\",Main!C394)","v":""},{"$f":"IF(B399=\"\",\"\",Main!I394)","v":""},{"$f":"IF(B399=\"\",\"\",Main!U394)","v":""},""]
[{"$f":"IF(B400=\"\",\"\",SUM($F$9:F400))","v":""},{"$f":"IF(AND(EXACT($G$8,Main!H395),Main!U395>0),Main!B395,\"\")","v":""},{"$f":"IF(B400=\"\",\"\",Main!C395)","v":""},{"$f":"IF(B400=\"\",\"\",Main!I395)","v":""},{"$f":"IF(B400=\"\",\"\",Main!U395)","v":""},""]
[{"$f":"IF(B401=\"\",\"\",SUM($F$9:F401))","v":""},{"$f":"IF(AND(EXACT($G$8,Main!H396),Main!U396>0),Main!B396,\"\")","v":""},{"$f":"IF(B401=\"\",\"\",Main!C396)","v":""},{"$f":"IF(B401=\"\",\"\",Main!I396)","v":""},{"$f":"IF(B401=\"\",\"\",Main!U396)","v":""},""]
[{"$f":"IF(B402=\"\",\"\",SUM($F$9:F402))","v":""},{"$f":"IF(AND(EXACT($G$8,Main!H397),Main!U397>0),Main!B397,\"\")","v":""},{"$f":"IF(B402=\"\",\"\",Main!C397)","v":""},{"$f":"IF(B402=\"\",\"\",Main!I397)","v":""},{"$f":"IF(B402=\"\",\"\",Main!U397)","v":""},""]
[{"$f":"IF(B403=\"\",\"\",SUM($F$9:F403))","v":""},{"$f":"IF(AND(EXACT($G$8,Main!H398),Main!U398>0),Main!B398,\"\")","v":""},{"$f":"IF(B403=\"\",\"\",Main!C398)","v":""},{"$f":"IF(B403=\"\",\"\",Main!I398)","v":""},{"$f":"IF(B403=\"\",\"\",Main!U398)","v":""},""]
[{"$f":"IF(B404=\"\",\"\",SUM($F$9:F404))","v":""},{"$f":"IF(AND(EXACT($G$8,Main!H399),Main!U399>0),Main!B399,\"\")","v":""},{"$f":"IF(B404=\"\",\"\",Main!C399)","v":""},{"$f":"IF(B404=\"\",\"\",Main!I399)","v":""},{"$f":"IF(B404=\"\",\"\",Main!U399)","v":""},""]
[{"$f":"IF(B405=\"\",\"\",SUM($F$9:F405))","v":""},{"$f":"IF(AND(EXACT($G$8,Main!H400),Main!U400>0),Main!B400,\"\")","v":""},{"$f":"IF(B405=\"\",\"\",Main!C400)","v":""},{"$f":"IF(B405=\"\",\"\",Main!I400)","v":""},{"$f":"IF(B405=\"\",\"\",Main!U400)","v":""},""]
[{"$f":"IF(B406=\"\",\"\",SUM($F$9:F406))","v":""},{"$f":"IF(AND(EXACT($G$8,Main!H401),Main!U401>0),Main!B401,\"\")","v":""},{"$f":"IF(B406=\"\",\"\",Main!C401)","v":""},{"$f":"IF(B406=\"\",\"\",Main!I401)","v":""},{"$f":"IF(B406=\"\",\"\",Main!U401)","v":""},""]
[{"$f":"IF(B407=\"\",\"\",SUM($F$9:F407))","v":""},{"$f":"IF(AND(EXACT($G$8,Main!H402),Main!U402>0),Main!B402,\"\")","v":""},{"$f":"IF(B407=\"\",\"\",Main!C402)","v":""},{"$f":"IF(B407=\"\",\"\",Main!I402)","v":""},{"$f":"IF(B407=\"\",\"\",Main!U402)","v":""},""]
[{"$f":"IF(B408=\"\",\"\",SUM($F$9:F408))","v":""},{"$f":"IF(AND(EXACT($G$8,Main!H403),Main!U403>0),Main!B403,\"\")","v":""},{"$f":"IF(B408=\"\",\"\",Main!C403)","v":""},{"$f":"IF(B408=\"\",\"\",Main!I403)","v":""},{"$f":"IF(B408=\"\",\"\",Main!U403)","v":""},""]
[{"$f":"IF(B409=\"\",\"\",SUM($F$9:F409))","v":""},{"$f":"IF(AND(EXACT($G$8,Main!H404),Main!U404>0),Main!B404,\"\")","v":""},{"$f":"IF(B409=\"\",\"\",Main!C404)","v":""},{"$f":"IF(B409=\"\",\"\",Main!I404)","v":""},{"$f":"IF(B409=\"\",\"\",Main!U404)","v":""},""]
[{"$f":"IF(B410=\"\",\"\",SUM($F$9:F410))","v":""},{"$f":"IF(AND(EXACT($G$8,Main!H405),Main!U405>0),Main!B405,\"\")","v":""},{"$f":"IF(B410=\"\",\"\",Main!C405)","v":""},{"$f":"IF(B410=\"\",\"\",Main!I405)","v":""},{"$f":"IF(B410=\"\",\"\",Main!U405)","v":""},""]
[{"$f":"IF(B411=\"\",\"\",SUM($F$9:F411))","v":""},{"$f":"IF(AND(EXACT($G$8,Main!H406),Main!U406>0),Main!B406,\"\")","v":""},{"$f":"IF(B411=\"\",\"\",Main!C406)","v":""},{"$f":"IF(B411=\"\",\"\",Main!I406)","v":""},{"$f":"IF(B411=\"\",\"\",Main!U406)","v":""},""]
[{"$f":"IF(B412=\"\",\"\",SUM($F$9:F412))","v":""},{"$f":"IF(AND(EXACT($G$8,Main!H407),Main!U407>0),Main!B407,\"\")","v":""},{"$f":"IF(B412=\"\",\"\",Main!C407)","v":""},{"$f":"IF(B412=\"\",\"\",Main!I407)","v":""},{"$f":"IF(B412=\"\",\"\",Main!U407)","v":""},""]
[{"$f":"IF(B413=\"\",\"\",SUM($F$9:F413))","v":""},{"$f":"IF(AND(EXACT($G$8,Main!H408),Main!U408>0),Main!B408,\"\")","v":""},{"$f":"IF(B413=\"\",\"\",Main!C408)","v":""},{"$f":"IF(B413=\"\",\"\",Main!I408)","v":""},{"$f":"IF(B413=\"\",\"\",Main!U408)","v":""},""]
[{"$f":"IF(B414=\"\",\"\",SUM($F$9:F414))","v":""},{"$f":"IF(AND(EXACT($G$8,Main!H409),Main!U409>0),Main!B409,\"\")","v":""},{"$f":"IF(B414=\"\",\"\",Main!C409)","v":""},{"$f":"IF(B414=\"\",\"\",Main!I409)","v":""},{"$f":"IF(B414=\"\",\"\",Main!U409)","v":""},""]
[{"$f":"IF(B415=\"\",\"\",SUM($F$9:F415))","v":""},{"$f":"IF(AND(EXACT($G$8,Main!H410),Main!U410>0),Main!B410,\"\")","v":""},{"$f":"IF(B415=\"\",\"\",Main!C410)","v":""},{"$f":"IF(B415=\"\",\"\",Main!I410)","v":""},{"$f":"IF(B415=\"\",\"\",Main!U410)","v":""},""]
[{"$f":"IF(B416=\"\",\"\",SUM($F$9:F416))","v":""},{"$f":"IF(AND(EXACT($G$8,Main!H411),Main!U411>0),Main!B411,\"\")","v":""},{"$f":"IF(B416=\"\",\"\",Main!C411)","v":""},{"$f":"IF(B416=\"\",\"\",Main!I411)","v":""},{"$f":"IF(B416=\"\",\"\",Main!U411)","v":""},""]
[{"$f":"IF(B417=\"\",\"\",SUM($F$9:F417))","v":""},{"$f":"IF(AND(EXACT($G$8,Main!H412),Main!U412>0),Main!B412,\"\")","v":""},{"$f":"IF(B417=\"\",\"\",Main!C412)","v":""},{"$f":"IF(B417=\"\",\"\",Main!I412)","v":""},{"$f":"IF(B417=\"\",\"\",Main!U412)","v":""},""]
[{"$f":"IF(B418=\"\",\"\",SUM($F$9:F418))","v":""},{"$f":"IF(AND(EXACT($G$8,Main!H413),Main!U413>0),Main!B413,\"\")","v":""},{"$f":"IF(B418=\"\",\"\",Main!C413)","v":""},{"$f":"IF(B418=\"\",\"\",Main!I413)","v":""},{"$f":"IF(B418=\"\",\"\",Main!U413)","v":""},""]
[{"$f":"IF(B419=\"\",\"\",SUM($F$9:F419))","v":""},{"$f":"IF(AND(EXACT($G$8,Main!H414),Main!U414>0),Main!B414,\"\")","v":""},{"$f":"IF(B419=\"\",\"\",Main!C414)","v":""},{"$f":"IF(B419=\"\",\"\",Main!I414)","v":""},{"$f":"IF(B419=\"\",\"\",Main!U414)","v":""},""]
[{"$f":"IF(B420=\"\",\"\",SUM($F$9:F420))","v":""},{"$f":"IF(AND(EXACT($G$8,Main!H415),Main!U415>0),Main!B415,\"\")","v":""},{"$f":"IF(B420=\"\",\"\",Main!C415)","v":""},{"$f":"IF(B420=\"\",\"\",Main!I415)","v":""},{"$f":"IF(B420=\"\",\"\",Main!U415)","v":""},""]
[{"$f":"IF(B421=\"\",\"\",SUM($F$9:F421))","v":""},{"$f":"IF(AND(EXACT($G$8,Main!H416),Main!U416>0),Main!B416,\"\")","v":""},{"$f":"IF(B421=\"\",\"\",Main!C416)","v":""},{"$f":"IF(B421=\"\",\"\",Main!I416)","v":""},{"$f":"IF(B421=\"\",\"\",Main!U416)","v":""},""]
[{"$f":"IF(B422=\"\",\"\",SUM($F$9:F422))","v":""},{"$f":"IF(AND(EXACT($G$8,Main!H417),Main!U417>0),Main!B417,\"\")","v":""},{"$f":"IF(B422=\"\",\"\",Main!C417)","v":""},{"$f":"IF(B422=\"\",\"\",Main!I417)","v":""},{"$f":"IF(B422=\"\",\"\",Main!U417)","v":""},""]
[{"$f":"IF(B423=\"\",\"\",SUM($F$9:F423))","v":""},{"$f":"IF(AND(EXACT($G$8,Main!H418),Main!U418>0),Main!B418,\"\")","v":""},{"$f":"IF(B423=\"\",\"\",Main!C418)","v":""},{"$f":"IF(B423=\"\",\"\",Main!I418)","v":""},{"$f":"IF(B423=\"\",\"\",Main!U418)","v":""},""]
[{"$f":"IF(B424=\"\",\"\",SUM($F$9:F424))","v":""},{"$f":"IF(AND(EXACT($G$8,Main!H419),Main!U419>0),Main!B419,\"\")","v":""},{"$f":"IF(B424=\"\",\"\",Main!C419)","v":""},{"$f":"IF(B424=\"\",\"\",Main!I419)","v":""},{"$f":"IF(B424=\"\",\"\",Main!U419)","v":""},""]
[{"$f":"IF(B425=\"\",\"\",SUM($F$9:F425))","v":""},{"$f":"IF(AND(EXACT($G$8,Main!H420),Main!U420>0),Main!B420,\"\")","v":""},{"$f":"IF(B425=\"\",\"\",Main!C420)","v":""},{"$f":"IF(B425=\"\",\"\",Main!I420)","v":""},{"$f":"IF(B425=\"\",\"\",Main!U420)","v":""},""]
[{"$f":"IF(B426=\"\",\"\",SUM($F$9:F426))","v":""},{"$f":"IF(AND(EXACT($G$8,Main!H421),Main!U421>0),Main!B421,\"\")","v":""},{"$f":"IF(B426=\"\",\"\",Main!C421)","v":""},{"$f":"IF(B426=\"\",\"\",Main!I421)","v":""},{"$f":"IF(B426=\"\",\"\",Main!U421)","v":""},""]
[{"$f":"IF(B427=\"\",\"\",SUM($F$9:F427))","v":""},{"$f":"IF(AND(EXACT($G$8,Main!H422),Main!U422>0),Main!B422,\"\")","v":""},{"$f":"IF(B427=\"\",\"\",Main!C422)","v":""},{"$f":"IF(B427=\"\",\"\",Main!I422)","v":""},{"$f":"IF(B427=\"\",\"\",Main!U422)","v":""},""]
[{"$f":"IF(B428=\"\",\"\",SUM($F$9:F428))","v":""},{"$f":"IF(AND(EXACT($G$8,Main!H423),Main!U423>0),Main!B423,\"\")","v":""},{"$f":"IF(B428=\"\",\"\",Main!C423)","v":""},{"$f":"IF(B428=\"\",\"\",Main!I423)","v":""},{"$f":"IF(B428=\"\",\"\",Main!U423)","v":""},""]
[{"$f":"IF(B429=\"\",\"\",SUM($F$9:F429))","v":""},{"$f":"IF(AND(EXACT($G$8,Main!H424),Main!U424>0),Main!B424,\"\")","v":""},{"$f":"IF(B429=\"\",\"\",Main!C424)","v":""},{"$f":"IF(B429=\"\",\"\",Main!I424)","v":""},{"$f":"IF(B429=\"\",\"\",Main!U424)","v":""},""]
[{"$f":"IF(B430=\"\",\"\",SUM($F$9:F430))","v":""},{"$f":"IF(AND(EXACT($G$8,Main!H425),Main!U425>0),Main!B425,\"\")","v":""},{"$f":"IF(B430=\"\",\"\",Main!C425)","v":""},{"$f":"IF(B430=\"\",\"\",Main!I425)","v":""},{"$f":"IF(B430=\"\",\"\",Main!U425)","v":""},""]
[{"$f":"IF(B431=\"\",\"\",SUM($F$9:F431))","v":""},{"$f":"IF(AND(EXACT($G$8,Main!H426),Main!U426>0),Main!B426,\"\")","v":""},{"$f":"IF(B431=\"\",\"\",Main!C426)","v":""},{"$f":"IF(B431=\"\",\"\",Main!I426)","v":""},{"$f":"IF(B431=\"\",\"\",Main!U426)","v":""},""]
[{"$f":"IF(B432=\"\",\"\",SUM($F$9:F432))","v":""},{"$f":"IF(AND(EXACT($G$8,Main!H427),Main!U427>0),Main!B427,\"\")","v":""},{"$f":"IF(B432=\"\",\"\",Main!C427)","v":""},{"$f":"IF(B432=\"\",\"\",Main!I427)","v":""},{"$f":"IF(B432=\"\",\"\",Main!U427)","v":""},""]
[{"$f":"IF(B433=\"\",\"\",SUM($F$9:F433))","v":""},{"$f":"IF(AND(EXACT($G$8,Main!H428),Main!U428>0),Main!B428,\"\")","v":""},{"$f":"IF(B433=\"\",\"\",Main!C428)","v":""},{"$f":"IF(B433=\"\",\"\",Main!I428)","v":""},{"$f":"IF(B433=\"\",\"\",Main!U428)","v":""},""]
[{"$f":"IF(B434=\"\",\"\",SUM($F$9:F434))","v":""},{"$f":"IF(AND(EXACT($G$8,Main!H429),Main!U429>0),Main!B429,\"\")","v":""},{"$f":"IF(B434=\"\",\"\",Main!C429)","v":""},{"$f":"IF(B434=\"\",\"\",Main!I429)","v":""},{"$f":"IF(B434=\"\",\"\",Main!U429)","v":""},""]
[{"$f":"IF(B435=\"\",\"\",SUM($F$9:F435))","v":""},{"$f":"IF(AND(EXACT($G$8,Main!H430),Main!U430>0),Main!B430,\"\")","v":""},{"$f":"IF(B435=\"\",\"\",Main!C430)","v":""},{"$f":"IF(B435=\"\",\"\",Main!I430)","v":""},{"$f":"IF(B435=\"\",\"\",Main!U430)","v":""},""]
[{"$f":"IF(B436=\"\",\"\",SUM($F$9:F436))","v":""},{"$f":"IF(AND(EXACT($G$8,Main!H431),Main!U431>0),Main!B431,\"\")","v":""},{"$f":"IF(B436=\"\",\"\",Main!C431)","v":""},{"$f":"IF(B436=\"\",\"\",Main!I431)","v":""},{"$f":"IF(B436=\"\",\"\",Main!U431)","v":""},""]
[{"$f":"IF(B437=\"\",\"\",SUM($F$9:F437))","v":""},{"$f":"IF(AND(EXACT($G$8,Main!H432),Main!U432>0),Main!B432,\"\")","v":""},{"$f":"IF(B437=\"\",\"\",Main!C432)","v":""},{"$f":"IF(B437=\"\",\"\",Main!I432)","v":""},{"$f":"IF(B437=\"\",\"\",Main!U432)","v":""},""]
[{"$f":"IF(B438=\"\",\"\",SUM($F$9:F438))","v":""},{"$f":"IF(AND(EXACT($G$8,Main!H433),Main!U433>0),Main!B433,\"\")","v":""},{"$f":"IF(B438=\"\",\"\",Main!C433)","v":""},{"$f":"IF(B438=\"\",\"\",Main!I433)","v":""},{"$f":"IF(B438=\"\",\"\",Main!U433)","v":""},""]
[{"$f":"IF(B439=\"\",\"\",SUM($F$9:F439))","v":""},{"$f":"IF(AND(EXACT($G$8,Main!H434),Main!U434>0),Main!B434,\"\")","v":""},{"$f":"IF(B439=\"\",\"\",Main!C434)","v":""},{"$f":"IF(B439=\"\",\"\",Main!I434)","v":""},{"$f":"IF(B439=\"\",\"\",Main!U434)","v":""},""]
[{"$f":"IF(B440=\"\",\"\",SUM($F$9:F440))","v":""},{"$f":"IF(AND(EXACT($G$8,Main!H435),Main!U435>0),Main!B435,\"\")","v":""},{"$f":"IF(B440=\"\",\"\",Main!C435)","v":""},{"$f":"IF(B440=\"\",\"\",Main!I435)","v":""},{"$f":"IF(B440=\"\",\"\",Main!U435)","v":""},""]
[{"$f":"IF(B441=\"\",\"\",SUM($F$9:F441))","v":""},{"$f":"IF(AND(EXACT($G$8,Main!H436),Main!U436>0),Main!B436,\"\")","v":""},{"$f":"IF(B441=\"\",\"\",Main!C436)","v":""},{"$f":"IF(B441=\"\",\"\",Main!I436)","v":""},{"$f":"IF(B441=\"\",\"\",Main!U436)","v":""},""]
[{"$f":"IF(B442=\"\",\"\",SUM($F$9:F442))","v":""},{"$f":"IF(AND(EXACT($G$8,Main!H437),Main!U437>0),Main!B437,\"\")","v":""},{"$f":"IF(B442=\"\",\"\",Main!C437)","v":""},{"$f":"IF(B442=\"\",\"\",Main!I437)","v":""},{"$f":"IF(B442=\"\",\"\",Main!U437)","v":""},""]
[{"$f":"IF(B443=\"\",\"\",SUM($F$9:F443))","v":""},{"$f":"IF(AND(EXACT($G$8,Main!H438),Main!U438>0),Main!B438,\"\")","v":""},{"$f":"IF(B443=\"\",\"\",Main!C438)","v":""},{"$f":"IF(B443=\"\",\"\",Main!I438)","v":""},{"$f":"IF(B443=\"\",\"\",Main!U438)","v":""},""]
[{"$f":"IF(B444=\"\",\"\",SUM($F$9:F444))","v":""},{"$f":"IF(AND(EXACT($G$8,Main!H439),Main!U439>0),Main!B439,\"\")","v":""},{"$f":"IF(B444=\"\",\"\",Main!C439)","v":""},{"$f":"IF(B444=\"\",\"\",Main!I439)","v":""},{"$f":"IF(B444=\"\",\"\",Main!U439)","v":""},""]
[{"$f":"IF(B445=\"\",\"\",SUM($F$9:F445))","v":""},{"$f":"IF(AND(EXACT($G$8,Main!H440),Main!U440>0),Main!B440,\"\")","v":""},{"$f":"IF(B445=\"\",\"\",Main!C440)","v":""},{"$f":"IF(B445=\"\",\"\",Main!I440)","v":""},{"$f":"IF(B445=\"\",\"\",Main!U440)","v":""},""]
[{"$f":"IF(B446=\"\",\"\",SUM($F$9:F446))","v":""},{"$f":"IF(AND(EXACT($G$8,Main!H441),Main!U441>0),Main!B441,\"\")","v":""},{"$f":"IF(B446=\"\",\"\",Main!C441)","v":""},{"$f":"IF(B446=\"\",\"\",Main!I441)","v":""},{"$f":"IF(B446=\"\",\"\",Main!U441)","v":""},""]
[{"$f":"IF(B447=\"\",\"\",SUM($F$9:F447))","v":""},{"$f":"IF(AND(EXACT($G$8,Main!H442),Main!U442>0),Main!B442,\"\")","v":""},{"$f":"IF(B447=\"\",\"\",Main!C442)","v":""},{"$f":"IF(B447=\"\",\"\",Main!I442)","v":""},{"$f":"IF(B447=\"\",\"\",Main!U442)","v":""},""]
[{"$f":"IF(B448=\"\",\"\",SUM($F$9:F448))","v":""},{"$f":"IF(AND(EXACT($G$8,Main!H443),Main!U443>0),Main!B443,\"\")","v":""},{"$f":"IF(B448=\"\",\"\",Main!C443)","v":""},{"$f":"IF(B448=\"\",\"\",Main!I443)","v":""},{"$f":"IF(B448=\"\",\"\",Main!U443)","v":""},""]
[{"$f":"IF(B449=\"\",\"\",SUM($F$9:F449))","v":""},{"$f":"IF(AND(EXACT($G$8,Main!H444),Main!U444>0),Main!B444,\"\")","v":""},{"$f":"IF(B449=\"\",\"\",Main!C444)","v":""},{"$f":"IF(B449=\"\",\"\",Main!I444)","v":""},{"$f":"IF(B449=\"\",\"\",Main!U444)","v":""},""]
[{"$f":"IF(B450=\"\",\"\",SUM($F$9:F450))","v":""},{"$f":"IF(AND(EXACT($G$8,Main!H445),Main!U445>0),Main!B445,\"\")","v":""},{"$f":"IF(B450=\"\",\"\",Main!C445)","v":""},{"$f":"IF(B450=\"\",\"\",Main!I445)","v":""},{"$f":"IF(B450=\"\",\"\",Main!U445)","v":""},""]
[{"$f":"IF(B451=\"\",\"\",SUM($F$9:F451))","v":""},{"$f":"IF(AND(EXACT($G$8,Main!H446),Main!U446>0),Main!B446,\"\")","v":""},{"$f":"IF(B451=\"\",\"\",Main!C446)","v":""},{"$f":"IF(B451=\"\",\"\",Main!I446)","v":""},{"$f":"IF(B451=\"\",\"\",Main!U446)","v":""},""]
[{"$f":"IF(B452=\"\",\"\",SUM($F$9:F452))","v":""},{"$f":"IF(AND(EXACT($G$8,Main!H447),Main!U447>0),Main!B447,\"\")","v":""},{"$f":"IF(B452=\"\",\"\",Main!C447)","v":""},{"$f":"IF(B452=\"\",\"\",Main!I447)","v":""},{"$f":"IF(B452=\"\",\"\",Main!U447)","v":""},""]
[{"$f":"IF(B453=\"\",\"\",SUM($F$9:F453))","v":""},{"$f":"IF(AND(EXACT($G$8,Main!H448),Main!U448>0),Main!B448,\"\")","v":""},{"$f":"IF(B453=\"\",\"\",Main!C448)","v":""},{"$f":"IF(B453=\"\",\"\",Main!I448)","v":""},{"$f":"IF(B453=\"\",\"\",Main!U448)","v":""},""]
[{"$f":"IF(B454=\"\",\"\",SUM($F$9:F454))","v":""},{"$f":"IF(AND(EXACT($G$8,Main!H449),Main!U449>0),Main!B449,\"\")","v":""},{"$f":"IF(B454=\"\",\"\",Main!C449)","v":""},{"$f":"IF(B454=\"\",\"\",Main!I449)","v":""},{"$f":"IF(B454=\"\",\"\",Main!U449)","v":""},""]
[{"$f":"IF(B455=\"\",\"\",SUM($F$9:F455))","v":""},{"$f":"IF(AND(EXACT($G$8,Main!H450),Main!U450>0),Main!B450,\"\")","v":""},{"$f":"IF(B455=\"\",\"\",Main!C450)","v":""},{"$f":"IF(B455=\"\",\"\",Main!I450)","v":""},{"$f":"IF(B455=\"\",\"\",Main!U450)","v":""},""]
[{"$f":"IF(B456=\"\",\"\",SUM($F$9:F456))","v":""},{"$f":"IF(AND(EXACT($G$8,Main!H451),Main!U451>0),Main!B451,\"\")","v":""},{"$f":"IF(B456=\"\",\"\",Main!C451)","v":""},{"$f":"IF(B456=\"\",\"\",Main!I451)","v":""},{"$f":"IF(B456=\"\",\"\",Main!U451)","v":""},""]
[{"$f":"IF(B457=\"\",\"\",SUM($F$9:F457))","v":""},{"$f":"IF(AND(EXACT($G$8,Main!H452),Main!U452>0),Main!B452,\"\")","v":""},{"$f":"IF(B457=\"\",\"\",Main!C452)","v":""},{"$f":"IF(B457=\"\",\"\",Main!I452)","v":""},{"$f":"IF(B457=\"\",\"\",Main!U452)","v":""},{"$f":"IF(B457=\"\",\"\",1)","v":""}]
[{"$f":"IF(B458=\"\",\"\",SUM($F$9:F458))","v":""},{"$f":"IF(AND(EXACT($G$8,Main!H453),Main!U453>0),Main!B453,\"\")","v":""},{"$f":"IF(B458=\"\",\"\",Main!C453)","v":""},{"$f":"IF(B458=\"\",\"\",Main!I453)","v":""},{"$f":"IF(B458=\"\",\"\",Main!U453)","v":""},""]
[{"$f":"IF(B459=\"\",\"\",SUM($F$9:F459))","v":""},{"$f":"IF(AND(EXACT($G$8,Main!H454),Main!U454>0),Main!B454,\"\")","v":""},{"$f":"IF(B459=\"\",\"\",Main!C454)","v":""},{"$f":"IF(B459=\"\",\"\",Main!I454)","v":""},{"$f":"IF(B459=\"\",\"\",Main!U454)","v":""},""]
[{"$f":"IF(B460=\"\",\"\",SUM($F$9:F460))","v":""},{"$f":"IF(AND(EXACT($G$8,Main!H455),Main!U455>0),Main!B455,\"\")","v":""},{"$f":"IF(B460=\"\",\"\",Main!C455)","v":""},{"$f":"IF(B460=\"\",\"\",Main!I455)","v":""},{"$f":"IF(B460=\"\",\"\",Main!U455)","v":""},""]
[{"$f":"IF(B461=\"\",\"\",SUM($F$9:F461))","v":""},{"$f":"IF(AND(EXACT($G$8,Main!H456),Main!U456>0),Main!B456,\"\")","v":""},{"$f":"IF(B461=\"\",\"\",Main!C456)","v":""},{"$f":"IF(B461=\"\",\"\",Main!I456)","v":""},{"$f":"IF(B461=\"\",\"\",Main!U456)","v":""},""]
[{"$f":"IF(B462=\"\",\"\",SUM($F$9:F462))","v":""},{"$f":"IF(AND(EXACT($G$8,Main!H457),Main!U457>0),Main!B457,\"\")","v":""},{"$f":"IF(B462=\"\",\"\",Main!C457)","v":""},{"$f":"IF(B462=\"\",\"\",Main!I457)","v":""},{"$f":"IF(B462=\"\",\"\",Main!U457)","v":""},""]
[{"$f":"IF(B463=\"\",\"\",SUM($F$9:F463))","v":""},{"$f":"IF(AND(EXACT($G$8,Main!H458),Main!U458>0),Main!B458,\"\")","v":""},{"$f":"IF(B463=\"\",\"\",Main!C458)","v":""},{"$f":"IF(B463=\"\",\"\",Main!I458)","v":""},{"$f":"IF(B463=\"\",\"\",Main!U458)","v":""},""]
[{"$f":"IF(B464=\"\",\"\",SUM($F$9:F464))","v":""},{"$f":"IF(AND(EXACT($G$8,Main!H459),Main!U459>0),Main!B459,\"\")","v":""},{"$f":"IF(B464=\"\",\"\",Main!C459)","v":""},{"$f":"IF(B464=\"\",\"\",Main!I459)","v":""},{"$f":"IF(B464=\"\",\"\",Main!U459)","v":""},""]
[{"$f":"IF(B465=\"\",\"\",SUM($F$9:F465))","v":""},{"$f":"IF(AND(EXACT($G$8,Main!H460),Main!U460>0),Main!B460,\"\")","v":""},{"$f":"IF(B465=\"\",\"\",Main!C460)","v":""},{"$f":"IF(B465=\"\",\"\",Main!I460)","v":""},{"$f":"IF(B465=\"\",\"\",Main!U460)","v":""},""]
[{"$f":"IF(B466=\"\",\"\",SUM($F$9:F466))","v":""},{"$f":"IF(AND(EXACT($G$8,Main!H461),Main!U461>0),Main!B461,\"\")","v":""},{"$f":"IF(B466=\"\",\"\",Main!C461)","v":""},{"$f":"IF(B466=\"\",\"\",Main!I461)","v":""},{"$f":"IF(B466=\"\",\"\",Main!U461)","v":""},""]
[{"$f":"IF(B467=\"\",\"\",SUM($F$9:F467))","v":""},{"$f":"IF(AND(EXACT($G$8,Main!H462),Main!U462>0),Main!B462,\"\")","v":""},{"$f":"IF(B467=\"\",\"\",Main!C462)","v":""},{"$f":"IF(B467=\"\",\"\",Main!I462)","v":""},{"$f":"IF(B467=\"\",\"\",Main!U462)","v":""},""]
[{"$f":"IF(B468=\"\",\"\",SUM($F$9:F468))","v":""},{"$f":"IF(AND(EXACT($G$8,Main!H463),Main!U463>0),Main!B463,\"\")","v":""},{"$f":"IF(B468=\"\",\"\",Main!C463)","v":""},{"$f":"IF(B468=\"\",\"\",Main!I463)","v":""},{"$f":"IF(B468=\"\",\"\",Main!U463)","v":""},""]
[{"$f":"IF(B469=\"\",\"\",SUM($F$9:F469))","v":""},{"$f":"IF(AND(EXACT($G$8,Main!H464),Main!U464>0),Main!B464,\"\")","v":""},{"$f":"IF(B469=\"\",\"\",Main!C464)","v":""},{"$f":"IF(B469=\"\",\"\",Main!I464)","v":""},{"$f":"IF(B469=\"\",\"\",Main!U464)","v":""},""]
[{"$f":"IF(B470=\"\",\"\",SUM($F$9:F470))","v":""},{"$f":"IF(AND(EXACT($G$8,Main!H465),Main!U465>0),Main!B465,\"\")","v":""},{"$f":"IF(B470=\"\",\"\",Main!C465)","v":""},{"$f":"IF(B470=\"\",\"\",Main!I465)","v":""},{"$f":"IF(B470=\"\",\"\",Main!U465)","v":""},""]
[{"$f":"IF(B471=\"\",\"\",SUM($F$9:F471))","v":""},{"$f":"IF(AND(EXACT($G$8,Main!H466),Main!U466>0),Main!B466,\"\")","v":""},{"$f":"IF(B471=\"\",\"\",Main!C466)","v":""},{"$f":"IF(B471=\"\",\"\",Main!I466)","v":""},{"$f":"IF(B471=\"\",\"\",Main!U466)","v":""},""]
[{"$f":"IF(B472=\"\",\"\",SUM($F$9:F472))","v":""},{"$f":"IF(AND(EXACT($G$8,Main!H467),Main!U467>0),Main!B467,\"\")","v":""},{"$f":"IF(B472=\"\",\"\",Main!C467)","v":""},{"$f":"IF(B472=\"\",\"\",Main!I467)","v":""},{"$f":"IF(B472=\"\",\"\",Main!U467)","v":""},""]
[{"$f":"IF(B473=\"\",\"\",SUM($F$9:F473))","v":""},{"$f":"IF(AND(EXACT($G$8,Main!H468),Main!U468>0),Main!B468,\"\")","v":""},{"$f":"IF(B473=\"\",\"\",Main!C468)","v":""},{"$f":"IF(B473=\"\",\"\",Main!I468)","v":""},{"$f":"IF(B473=\"\",\"\",Main!U468)","v":""},""]
[{"$f":"IF(B474=\"\",\"\",SUM($F$9:F474))","v":""},{"$f":"IF(AND(EXACT($G$8,Main!H469),Main!U469>0),Main!B469,\"\")","v":""},{"$f":"IF(B474=\"\",\"\",Main!C469)","v":""},{"$f":"IF(B474=\"\",\"\",Main!I469)","v":""},{"$f":"IF(B474=\"\",\"\",Main!U469)","v":""},""]
[{"$f":"IF(B475=\"\",\"\",SUM($F$9:F475))","v":""},{"$f":"IF(AND(EXACT($G$8,Main!H470),Main!U470>0),Main!B470,\"\")","v":""},{"$f":"IF(B475=\"\",\"\",Main!C470)","v":""},{"$f":"IF(B475=\"\",\"\",Main!I470)","v":""},{"$f":"IF(B475=\"\",\"\",Main!U470)","v":""},""]
[{"$f":"IF(B476=\"\",\"\",SUM($F$9:F476))","v":""},{"$f":"IF(AND(EXACT($G$8,Main!H471),Main!U471>0),Main!B471,\"\")","v":""},{"$f":"IF(B476=\"\",\"\",Main!C471)","v":""},{"$f":"IF(B476=\"\",\"\",Main!I471)","v":""},{"$f":"IF(B476=\"\",\"\",Main!U471)","v":""},""]
[{"$f":"IF(B477=\"\",\"\",SUM($F$9:F477))","v":""},{"$f":"IF(AND(EXACT($G$8,Main!H472),Main!U472>0),Main!B472,\"\")","v":""},{"$f":"IF(B477=\"\",\"\",Main!C472)","v":""},{"$f":"IF(B477=\"\",\"\",Main!I472)","v":""},{"$f":"IF(B477=\"\",\"\",Main!U472)","v":""},""]
[{"$f":"IF(B478=\"\",\"\",SUM($F$9:F478))","v":""},{"$f":"IF(AND(EXACT($G$8,Main!H473),Main!U473>0),Main!B473,\"\")","v":""},{"$f":"IF(B478=\"\",\"\",Main!C473)","v":""},{"$f":"IF(B478=\"\",\"\",Main!I473)","v":""},{"$f":"IF(B478=\"\",\"\",Main!U473)","v":""},""]
[{"$f":"IF(B479=\"\",\"\",SUM($F$9:F479))","v":""},{"$f":"IF(AND(EXACT($G$8,Main!H474),Main!U474>0),Main!B474,\"\")","v":""},{"$f":"IF(B479=\"\",\"\",Main!C474)","v":""},{"$f":"IF(B479=\"\",\"\",Main!I474)","v":""},{"$f":"IF(B479=\"\",\"\",Main!U474)","v":""},""]
[{"$f":"IF(B480=\"\",\"\",SUM($F$9:F480))","v":""},{"$f":"IF(AND(EXACT($G$8,Main!H475),Main!U475>0),Main!B475,\"\")","v":""},{"$f":"IF(B480=\"\",\"\",Main!C475)","v":""},{"$f":"IF(B480=\"\",\"\",Main!I475)","v":""},{"$f":"IF(B480=\"\",\"\",Main!U475)","v":""},""]
[{"$f":"IF(B481=\"\",\"\",SUM($F$9:F481))","v":""},{"$f":"IF(AND(EXACT($G$8,Main!H476),Main!U476>0),Main!B476,\"\")","v":""},{"$f":"IF(B481=\"\",\"\",Main!C476)","v":""},{"$f":"IF(B481=\"\",\"\",Main!I476)","v":""},{"$f":"IF(B481=\"\",\"\",Main!U476)","v":""},""]
[{"$f":"IF(B482=\"\",\"\",SUM($F$9:F482))","v":""},{"$f":"IF(AND(EXACT($G$8,Main!H477),Main!U477>0),Main!B477,\"\")","v":""},{"$f":"IF(B482=\"\",\"\",Main!C477)","v":""},{"$f":"IF(B482=\"\",\"\",Main!I477)","v":""},{"$f":"IF(B482=\"\",\"\",Main!U477)","v":""},""]
[{"$f":"IF(B483=\"\",\"\",SUM($F$9:F483))","v":""},{"$f":"IF(AND(EXACT($G$8,Main!H478),Main!U478>0),Main!B478,\"\")","v":""},{"$f":"IF(B483=\"\",\"\",Main!C478)","v":""},{"$f":"IF(B483=\"\",\"\",Main!I478)","v":""},{"$f":"IF(B483=\"\",\"\",Main!U478)","v":""},""]
[{"$f":"IF(B484=\"\",\"\",SUM($F$9:F484))","v":""},{"$f":"IF(AND(EXACT($G$8,Main!H479),Main!U479>0),Main!B479,\"\")","v":""},{"$f":"IF(B484=\"\",\"\",Main!C479)","v":""},{"$f":"IF(B484=\"\",\"\",Main!I479)","v":""},{"$f":"IF(B484=\"\",\"\",Main!U479)","v":""},""]
[{"$f":"IF(B485=\"\",\"\",SUM($F$9:F485))","v":""},{"$f":"IF(AND(EXACT($G$8,Main!H480),Main!U480>0),Main!B480,\"\")","v":""},{"$f":"IF(B485=\"\",\"\",Main!C480)","v":""},{"$f":"IF(B485=\"\",\"\",Main!I480)","v":""},{"$f":"IF(B485=\"\",\"\",Main!U480)","v":""},""]
[{"$f":"IF(B486=\"\",\"\",SUM($F$9:F486))","v":""},{"$f":"IF(AND(EXACT($G$8,Main!H481),Main!U481>0),Main!B481,\"\")","v":""},{"$f":"IF(B486=\"\",\"\",Main!C481)","v":""},{"$f":"IF(B486=\"\",\"\",Main!I481)","v":""},{"$f":"IF(B486=\"\",\"\",Main!U481)","v":""},""]
[{"$f":"IF(B487=\"\",\"\",SUM($F$9:F487))","v":""},{"$f":"IF(AND(EXACT($G$8,Main!H482),Main!U482>0),Main!B482,\"\")","v":""},{"$f":"IF(B487=\"\",\"\",Main!C482)","v":""},{"$f":"IF(B487=\"\",\"\",Main!I482)","v":""},{"$f":"IF(B487=\"\",\"\",Main!U482)","v":""},""]
[{"$f":"IF(B488=\"\",\"\",SUM($F$9:F488))","v":""},{"$f":"IF(AND(EXACT($G$8,Main!H483),Main!U483>0),Main!B483,\"\")","v":""},{"$f":"IF(B488=\"\",\"\",Main!C483)","v":""},{"$f":"IF(B488=\"\",\"\",Main!I483)","v":""},{"$f":"IF(B488=\"\",\"\",Main!U483)","v":""},""]
[{"$f":"IF(B489=\"\",\"\",SUM($F$9:F489))","v":""},{"$f":"IF(AND(EXACT($G$8,Main!H484),Main!U484>0),Main!B484,\"\")","v":""},{"$f":"IF(B489=\"\",\"\",Main!C484)","v":""},{"$f":"IF(B489=\"\",\"\",Main!I484)","v":""},{"$f":"IF(B489=\"\",\"\",Main!U484)","v":""},""]
[{"$f":"IF(B490=\"\",\"\",SUM($F$9:F490))","v":""},{"$f":"IF(AND(EXACT($G$8,Main!H485),Main!U485>0),Main!B485,\"\")","v":""},{"$f":"IF(B490=\"\",\"\",Main!C485)","v":""},{"$f":"IF(B490=\"\",\"\",Main!I485)","v":""},{"$f":"IF(B490=\"\",\"\",Main!U485)","v":""},""]
[{"$f":"IF(B491=\"\",\"\",SUM($F$9:F491))","v":""},{"$f":"IF(AND(EXACT($G$8,Main!H486),Main!U486>0),Main!B486,\"\")","v":""},{"$f":"IF(B491=\"\",\"\",Main!C486)","v":""},{"$f":"IF(B491=\"\",\"\",Main!I486)","v":""},{"$f":"IF(B491=\"\",\"\",Main!U486)","v":""},""]
[{"$f":"IF(B492=\"\",\"\",SUM($F$9:F492))","v":""},{"$f":"IF(AND(EXACT($G$8,Main!H487),Main!U487>0),Main!B487,\"\")","v":""},{"$f":"IF(B492=\"\",\"\",Main!C487)","v":""},{"$f":"IF(B492=\"\",\"\",Main!I487)","v":""},{"$f":"IF(B492=\"\",\"\",Main!U487)","v":""},""]
[{"$f":"IF(B493=\"\",\"\",SUM($F$9:F493))","v":""},{"$f":"IF(AND(EXACT($G$8,Main!H488),Main!U488>0),Main!B488,\"\")","v":""},{"$f":"IF(B493=\"\",\"\",Main!C488)","v":""},{"$f":"IF(B493=\"\",\"\",Main!I488)","v":""},{"$f":"IF(B493=\"\",\"\",Main!U488)","v":""},""]
[{"$f":"IF(B494=\"\",\"\",SUM($F$9:F494))","v":""},{"$f":"IF(AND(EXACT($G$8,Main!H489),Main!U489>0),Main!B489,\"\")","v":""},{"$f":"IF(B494=\"\",\"\",Main!C489)","v":""},{"$f":"IF(B494=\"\",\"\",Main!I489)","v":""},{"$f":"IF(B494=\"\",\"\",Main!U489)","v":""},""]
[{"$f":"IF(B495=\"\",\"\",SUM($F$9:F495))","v":""},{"$f":"IF(AND(EXACT($G$8,Main!H490),Main!U490>0),Main!B490,\"\")","v":""},{"$f":"IF(B495=\"\",\"\",Main!C490)","v":""},{"$f":"IF(B495=\"\",\"\",Main!I490)","v":""},{"$f":"IF(B495=\"\",\"\",Main!U490)","v":""},""]
[{"$f":"IF(B496=\"\",\"\",SUM($F$9:F496))","v":""},{"$f":"IF(AND(EXACT($G$8,Main!H491),Main!U491>0),Main!B491,\"\")","v":""},{"$f":"IF(B496=\"\",\"\",Main!C491)","v":""},{"$f":"IF(B496=\"\",\"\",Main!I491)","v":""},{"$f":"IF(B496=\"\",\"\",Main!U491)","v":""},""]
[{"$f":"IF(B497=\"\",\"\",SUM($F$9:F497))","v":""},{"$f":"IF(AND(EXACT($G$8,Main!H492),Main!U492>0),Main!B492,\"\")","v":""},{"$f":"IF(B497=\"\",\"\",Main!C492)","v":""},{"$f":"IF(B497=\"\",\"\",Main!I492)","v":""},{"$f":"IF(B497=\"\",\"\",Main!U492)","v":""},""]
[{"$f":"IF(B498=\"\",\"\",SUM($F$9:F498))","v":""},{"$f":"IF(AND(EXACT($G$8,Main!H493),Main!U493>0),Main!B493,\"\")","v":""},{"$f":"IF(B498=\"\",\"\",Main!C493)","v":""},{"$f":"IF(B498=\"\",\"\",Main!I493)","v":""},{"$f":"IF(B498=\"\",\"\",Main!U493)","v":""},""]
[{"$f":"IF(B499=\"\",\"\",SUM($F$9:F499))","v":""},{"$f":"IF(AND(EXACT($G$8,Main!H494),Main!U494>0),Main!B494,\"\")","v":""},{"$f":"IF(B499=\"\",\"\",Main!C494)","v":""},{"$f":"IF(B499=\"\",\"\",Main!I494)","v":""},{"$f":"IF(B499=\"\",\"\",Main!U494)","v":""},""]
[{"$f":"IF(B500=\"\",\"\",SUM($F$9:F500))","v":""},{"$f":"IF(AND(EXACT($G$8,Main!H495),Main!U495>0),Main!B495,\"\")","v":""},{"$f":"IF(B500=\"\",\"\",Main!C495)","v":""},{"$f":"IF(B500=\"\",\"\",Main!I495)","v":""},{"$f":"IF(B500=\"\",\"\",Main!U495)","v":""},""]
[{"$f":"IF(B501=\"\",\"\",SUM($F$9:F501))","v":""},{"$f":"IF(AND(EXACT($G$8,Main!H496),Main!U496>0),Main!B496,\"\")","v":""},{"$f":"IF(B501=\"\",\"\",Main!C496)","v":""},{"$f":"IF(B501=\"\",\"\",Main!I496)","v":""},{"$f":"IF(B501=\"\",\"\",Main!U496)","v":""},""]
[{"$f":"IF(B502=\"\",\"\",SUM($F$9:F502))","v":""},{"$f":"IF(AND(EXACT($G$8,Main!H497),Main!U497>0),Main!B497,\"\")","v":""},{"$f":"IF(B502=\"\",\"\",Main!C497)","v":""},{"$f":"IF(B502=\"\",\"\",Main!I497)","v":""},{"$f":"IF(B502=\"\",\"\",Main!U497)","v":""},""]
[{"$f":"IF(B503=\"\",\"\",SUM($F$9:F503))","v":""},{"$f":"IF(AND(EXACT($G$8,Main!H498),Main!U498>0),Main!B498,\"\")","v":""},{"$f":"IF(B503=\"\",\"\",Main!C498)","v":""},{"$f":"IF(B503=\"\",\"\",Main!I498)","v":""},{"$f":"IF(B503=\"\",\"\",Main!U498)","v":""},""]
[{"$f":"IF(B504=\"\",\"\",SUM($F$9:F504))","v":""},{"$f":"IF(AND(EXACT($G$8,Main!H499),Main!U499>0),Main!B499,\"\")","v":""},{"$f":"IF(B504=\"\",\"\",Main!C499)","v":""},{"$f":"IF(B504=\"\",\"\",Main!I499)","v":""},{"$f":"IF(B504=\"\",\"\",Main!U499)","v":""},""]
[{"$f":"IF(B505=\"\",\"\",SUM($F$9:F505))","v":""},{"$f":"IF(AND(EXACT($G$8,Main!H500),Main!U500>0),Main!B500,\"\")","v":""},{"$f":"IF(B505=\"\",\"\",Main!C500)","v":""},{"$f":"IF(B505=\"\",\"\",Main!I500)","v":""},{"$f":"IF(B505=\"\",\"\",Main!U500)","v":""},""]
[{"$f":"IF(B506=\"\",\"\",SUM($F$9:F506))","v":""},{"$f":"IF(AND(EXACT($G$8,Main!H501),Main!U501>0),Main!B501,\"\")","v":""},{"$f":"IF(B506=\"\",\"\",Main!C501)","v":""},{"$f":"IF(B506=\"\",\"\",Main!I501)","v":""},{"$f":"IF(B506=\"\",\"\",Main!U501)","v":""},""]
[{"$f":"IF(B507=\"\",\"\",SUM($F$9:F507))","v":""},{"$f":"IF(AND(EXACT($G$8,Main!H502),Main!U502>0),Main!B502,\"\")","v":""},{"$f":"IF(B507=\"\",\"\",Main!C502)","v":""},{"$f":"IF(B507=\"\",\"\",Main!I502)","v":""},{"$f":"IF(B507=\"\",\"\",Main!U502)","v":""},""]
[{"$f":"IF(B508=\"\",\"\",SUM($F$9:F508))","v":""},{"$f":"IF(AND(EXACT($G$8,Main!H503),Main!U503>0),Main!B503,\"\")","v":""},{"$f":"IF(B508=\"\",\"\",Main!C503)","v":""},{"$f":"IF(B508=\"\",\"\",Main!I503)","v":""},{"$f":"IF(B508=\"\",\"\",Main!U503)","v":""},""]
[null,null,null,null,null,1]
[null,null,null,"TOTAL",{"$f":"SUBTOTAL(109,E9:E508)","v":332000},1]
[null,null,null,null,null,1]
[null,null,null,null,null,1]
[{"$f":"UPPER(CONCATENATE(\"Rupees : \",Info!W68,\" Only \"))","v":"RUPEES : THREE  LAKHS  AND THIRTY TWO THOUSAND   ONLY "},null,null,null,null,1]
[null,null,null,null,null,1]
[{"$f":"Info!E10","v":"Mandal Educational Officer"},null,null,null,null,1]
[{"$f":"Info!E11","v":"Mandal Parishad Udayagiri"},null,null,null,null,1]
[null,null,null,null,null,1]

{"sheet":"BA-II","index":11,"n_rows":54,"n_cols":6,"rows_kept":54,"cut":false,"hidden":false,"merged":[[41,0,41,1],[46,0,46,3],[44,0,44,2],[4,4,6,4],[26,0,26,3],[40,0,40,1],[0,0,0,3],[35,0,35,3],[37,0,37,1],[38,0,38,1],[39,0,39,1],[4,0,4,1],[5,0,5,1],[6,0,6,1],[2,0,2,1],[3,0,3,1],[24,1,24,2]]}
["ANNEXURE - II"]
[]
["Bank Code:",null,{"$f":"Info!E20","v":3470}]
["Name of the NPB :",null,{"$f":"Info!E19","v":"Syndicate Bank, Udayagiri"},null,null,{"$f":"EXACT(D25,'APTC-47'!H53)","v":true}]
[{"$f":"'BA-I'!A5","v":"DDO Code: "},null,{"$f":"Info!E16","v":"08120308028"},null,"Filter Point"]
[{"$f":"'BA-I'!A6","v":"DDO Designation:"},null,{"$f":"'BA-I'!C6","v":"Mandal Educational Officer, Mandal Parishad Udayagiri"}]
[{"$f":"'BA-I'!A7","v":"DDO Phone No:"},null,{"$f":"'BA-I'!C7","v":"_________"}]
[]
["Sl.No","Bank Code"," Bank Name","Amount",1]
[{"$f":"IF(D10=0,\"\",SUM($E$10:E10))","v":1},{"$f":"IF(D10=0,\"\",Info!K2)","v":4828},{"$f":"IF(D10=0,\"\",Info!J2)","v":"State Bank Of India (SBI) ADB , Atmakur"},{"$f":"SUMIF(Main!$T$4:$U$503,Info!K2,Main!$U$4:$U$503)","v":14000},{"$f":"IF(D10=0,\"\",1)","v":1}]
[{"$f":"IF(D11=0,\"\",SUM($E$10:E11))","v":""},{"$f":"IF(D11=0,\"\",Info!K3)","v":""},{"$f":"IF(D11=0,\"\",Info!J3)","v":""},{"$f":"SUMIF(Main!$T$4:$U$503,Info!K3,Main!$U$4:$U$503)","v":0},""]
[{"$f":"IF(D12=0,\"\",SUM($E$10:E12))","v":2},{"$f":"IF(D12=0,\"\",Info!K4)","v":"0843"},{"$f":"IF(D12=0,\"\",Info!J4)","v":"State Bank Of India (SBI), Gudur"},{"$f":"SUMIF(Main!$T$4:$U$503,Info!K4,Main!$U$4:$U$503)","v":10000},1]
[{"$f":"IF(D13=0,\"\",SUM($E$10:E13))","v":""},{"$f":"IF(D13=0,\"\",Info!K5)","v":""},{"$f":"IF(D13=0,\"\",Info!J5)","v":""},{"$f":"SUMIF(Main!$T$4:$U$503,Info!K5,Main!$U$4:$U$503)","v":0},""]
[{"$f":"IF(D14=0,\"\",SUM($E$10:E14))","v":""},{"$f":"IF(D14=0,\"\",Info!K6)","v":""},{"$f":"IF(D14=0,\"\",Info!J6)","v":""},{"$f":"SUMIF(Main!$T$4:$U$503,Info!K6,Main!$U$4:$U$503)","v":0},""]
[{"$f":"IF(D15=0,\"\",SUM($E$10:E15))","v":""},{"$f":"IF(D15=0,\"\",Info!K7)","v":""},{"$f":"IF(D15=0,\"\",Info!J7)","v":""},{"$f":"SUMIF(Main!$T$4:$U$503,Info!K7,Main!$U$4:$U$503)","v":0},""]
[{"$f":"IF(D16=0,\"\",SUM($E$10:E16))","v":""},{"$f":"IF(D16=0,\"\",Info!K8)","v":""},{"$f":"IF(D16=0,\"\",Info!J8)","v":""},{"$f":"SUMIF(Main!$T$4:$U$503,Info!K8,Main!$U$4:$U$503)","v":0},""]
[{"$f":"IF(D17=0,\"\",SUM($E$10:E17))","v":3},{"$f":"IF(D17=0,\"\",Info!K9)","v":"0887"},{"$f":"IF(D17=0,\"\",Info!J9)","v":"State Bank Of India (SBI), Nellore"},{"$f":"SUMIF(Main!$T$4:$U$503,Info!K9,Main!$U$4:$U$503)","v":332000},1]
[{"$f":"IF(D18=0,\"\",SUM($E$10:E18))","v":""},{"$f":"IF(D18=0,\"\",Info!K10)","v":""},{"$f":"IF(D18=0,\"\",Info!J10)","v":""},{"$f":"SUMIF(Main!$T$4:$U$503,Info!K10,Main!$U$4:$U$503)","v":0},""]
[{"$f":"IF(D19=0,\"\",SUM($E$10:E19))","v":4},{"$f":"IF(D19=0,\"\",Info!K11)","v":3468},{"$f":"IF(D19=0,\"\",Info!J11)","v":"Syndicate Bank, Rapur"},{"$f":"SUMIF(Main!$T$4:$U$503,Info!K11,Main!$U$4:$U$503)","v":11000},1]
[{"$f":"IF(D20=0,\"\",SUM($E$10:E20))","v":""},{"$f":"IF(D20=0,\"\",Info!K12)","v":""},{"$f":"IF(D20=0,\"\",Info!J12)","v":""},{"$f":"SUMIF(Main!$T$4:$U$503,Info!K12,Main!$U$4:$U$503)","v":0},""]
[{"$f":"IF(D21=0,\"\",SUM($E$10:E21))","v":5},{"$f":"IF(D21=0,\"\",Info!K13)","v":3470},{"$f":"IF(D21=0,\"\",Info!J13)","v":"Syndicate Bank, Udayagiri"},{"$f":"SUMIF(Main!$T$4:$U$503,Info!K13,Main!$U$4:$U$503)","v":2000},1]
[{"$f":"IF(D22=0,\"\",SUM($E$10:E22))","v":""},{"$f":"IF(D22=0,\"\",Info!K14)","v":""},{"$f":"IF(D22=0,\"\",Info!J14)","v":""},{"$f":"SUMIF(Main!$T$4:$U$503,Info!K14,Main!$U$4:$U$503)","v":0},""]
[{"$f":"IF(D23=0,\"\",SUM($E$10:E23))","v":6},{"$f":"IF(D23=0,\"\",Info!K15)","v":2811},{"$f":"IF(D23=0,\"\",Info!J15)","v":"State Bank Of India (SBI), Vidyanagar (Vakadu)"},{"$f":"SUMIF(Main!$T$4:$U$503,Info!K15,Main!$U$4:$U$503)","v":1000},1]
[{"$f":"IF(D24=0,\"\",SUM($E$10:E24))","v":7},{"$f":"IF(D24=0,\"\",Info!K16)","v":3177},{"$f":"IF(D24=0,\"\",Info!J16)","v":"State Bank Of India (SBI) ADB , Vinjamur"},{"$f":"SUMIF(Main!$T$4:$U$503,Info!K16,Main!$U$4:$U$503)","v":1000},1]
[null,"Total Amount",null,{"$f":"SUBTOTAL(109,D10:D24)","v":371000},1]
[null,null,null,null,1]
[{"$f":"UPPER(CONCATENATE(\"Rupees : \",Info!W66,\" Only \"))","v":"RUPEES : THREE  LAKHS  AND SEVENTY ONE THOUSAND   ONLY "},null,null,null,1]
[null,null,null,null,1]
[null,null,null,null,1]
[null,null,null,null,1]
[null,{"$f":"'BA-I'!A515","v":"Mandal Educational Officer"},null,null,1]
[null,{"$f":"'BA-I'!A516","v":"Mandal Parishad Udayagiri"},null,null,1]
[]
[null,null,null,null,1]
[null,null,null,null,1]
["ANNEXURE - III",null,null,null,1]
[null,null,null,null,1]
[{"$f":"A3","v":"Bank Code:"},null,{"$f":"C3","v":3470},null,1]
[{"$f":"A4","v":"Name of the NPB :"},null,{"$f":"C4","v":"Syndicate Bank, Udayagiri"},null,1]
["DDO Code: ",null,"08120308028",null,1]
["DDO Designation:",null,"Mandal Educational Officer, Mandal Parishad Udayagiri",null,1]
["DDO Phone No:",null,"_________",null,1]
["Sl.No","Bank Code"," Bank Name","Amount",1]
[1,{"$f":"Info!E20","v":3470},{"$f":"Info!E19","v":"Syndicate Bank, Udayagiri"},{"$f":"D25","v":371000},1]
["Total",null,null,{"$f":"D44","v":371000},1]
[null,null,null,null,1]
[{"$f":"A27","v":"RUPEES : THREE  LAKHS  AND SEVENTY ONE THOUSAND   ONLY "},null,null,null,1]
[null,null,null,null,1]
[null,null,null,null,1]
[null,null,null,null,1]
[null,{"$f":"B31","v":"Mandal Educational Officer"},null,null,1]
[null,{"$f":"B32","v":"Mandal Parishad Udayagiri"},null,null,1]
[null,null,null,null,1]
[null,null,null,null,1]

{"sheet":"Go Ms No2","index":12,"n_rows":0,"n_cols":0,"rows_kept":0,"cut":false,"hidden":false,"merged":[]}