{"text_format":"1","workbook":"xlsx","n_sheets":2,"sheets":["Standing Wave","Calculations"],"not_rendered":{"charts":1,"images":0,"macros":1,"external_links":0,"defined_names":1,"comments":0,"pivot_tables":0},"unopened":[],"bounds":{"document_bytes":16777216,"sheet_cells":100000,"rows_first":2000,"rows_last":500,"rows_between":2000,"halvings":0,"cell_chars":16384,"cell_head_chars":4096},"cells_cut":0,"cells_raw":0,"read":"whole","date_system":"1900"}

{"sheet":"Standing Wave","index":0,"n_rows":9,"n_cols":4,"rows_kept":9,"cut":false,"hidden":false,"merged":[[0,0,1,0],[6,0,7,0],[2,0,3,0]]}
["Amplitude (m)","Wave 1",{"$f":"D1/1000","v":0.17100000000000001},171]
[null,"Wave 2",{"$f":"D2/1000","v":0.25},250]
["Wavelength (m)","Wave 1",{"$f":"D3/100","v":1},100]
[null,"Wave 2",{"$f":"D4/100","v":1},100]
["Distance Stepsize","∆x (m)",0.01]
["Time Stepsize","∆t (s)",5.0000000000000001E-3]
["Frequency (Hz)","Wave 1",5]
[null,"Wave 2",5]
[null,"Time (s)",{"$f":"C9+C6","v":0.01}]

{"sheet":"Calculations","index":1,"n_rows":252,"n_cols":4,"rows_kept":252,"cut":false,"hidden":false,"merged":[]}
["x (m)","y1 (m)","y2 (m)","y'=y1+y2"]
[]
[{"$f":"SUM(A1)+'Standing Wave'!$C$5","v":0.01},{"$f":"'Standing Wave'!$C$1*SIN(((2*PI())/'Standing Wave'!$C$3)*A3-2*PI()*'Standing Wave'!$C$7*'Standing Wave'!$C$9)","v":-1.6092521577465949E-2},{"$f":"'Standing Wave'!$C$2*SIN(((2*PI())/'Standing Wave'!$C$4)*A3+2*PI()*'Standing Wave'!$C$8*'Standing Wave'!$C$9)","v":5.4535810349135634E-2},{"$f":"B3+C3","v":3.8443288771669686E-2}]
[{"$f":"SUM(A3)+'Standing Wave'!$C$5","v":0.02},{"$f":"'Standing Wave'!$C$1*SIN(((2*PI())/'Standing Wave'!$C$3)*A4-2*PI()*'Standing Wave'!$C$7*'Standing Wave'!$C$9)","v":-5.3712398023599362E-3},{"$f":"'Standing Wave'!$C$2*SIN(((2*PI())/'Standing Wave'!$C$4)*A4+2*PI()*'Standing Wave'!$C$8*'Standing Wave'!$C$9)","v":6.9747776509807319E-2},{"$f":"B4+C4","v":6.4376536707447377E-2}]
[{"$f":"SUM(A4)+'Standing Wave'!$C$5","v":0.03},{"$f":"'Standing Wave'!$C$1*SIN(((2*PI())/'Standing Wave'!$C$3)*A5-2*PI()*'Standing Wave'!$C$7*'Standing Wave'!$C$9)","v":5.3712398023599362E-3},{"$f":"'Standing Wave'!$C$2*SIN(((2*PI())/'Standing Wave'!$C$4)*A5+2*PI()*'Standing Wave'!$C$8*'Standing Wave'!$C$9)","v":8.4684480061322842E-2},{"$f":"B5+C5","v":9.0055719863682784E-2}]
[{"$f":"SUM(A5)+'Standing Wave'!$C$5","v":0.04},{"$f":"'Standing Wave'!$C$1*SIN(((2*PI())/'Standing Wave'!$C$3)*A6-2*PI()*'Standing Wave'!$C$7*'Standing Wave'!$C$9)","v":1.6092521577465952E-2},{"$f":"'Standing Wave'!$C$2*SIN(((2*PI())/'Standing Wave'!$C$4)*A6+2*PI()*'Standing Wave'!$C$8*'Standing Wave'!$C$9)","v":9.9286972658695155E-2},0.1153794942361611]
[{"$f":"SUM(A6)+'Standing Wave'!$C$5","v":0.05},{"$f":"'Standing Wave'!$C$1*SIN(((2*PI())/'Standing Wave'!$C$3)*A7-2*PI()*'Standing Wave'!$C$7*'Standing Wave'!$C$9)","v":2.6750293521879482E-2},{"$f":"'Standing Wave'!$C$2*SIN(((2*PI())/'Standing Wave'!$C$4)*A7+2*PI()*'Standing Wave'!$C$8*'Standing Wave'!$C$9)","v":0.11349762493488669},0.14024791845676618]
[{"$f":"SUM(A7)+'Standing Wave'!$C$5","v":6.0000000000000005E-2},{"$f":"'Standing Wave'!$C$1*SIN(((2*PI())/'Standing Wave'!$C$3)*A8-2*PI()*'Standing Wave'!$C$7*'Standing Wave'!$C$9)","v":3.730249427880878E-2},{"$f":"'Standing Wave'!$C$2*SIN(((2*PI())/'Standing Wave'!$C$4)*A8+2*PI()*'Standing Wave'!$C$8*'Standing Wave'!$C$9)","v":0.12726035393759283},0.1645628482164016]
[{"$f":"SUM(A8)+'Standing Wave'!$C$5","v":7.0000000000000007E-2},{"$f":"'Standing Wave'!$C$1*SIN(((2*PI())/'Standing Wave'!$C$3)*A9-2*PI()*'Standing Wave'!$C$7*'Standing Wave'!$C$9)","v":4.7707479132708216E-2},{"$f":"'Standing Wave'!$C$2*SIN(((2*PI())/'Standing Wave'!$C$4)*A9+2*PI()*'Standing Wave'!$C$8*'Standing Wave'!$C$9)","v":0.14052084446303265},0.18822832359574088]
[{"$f":"SUM(A9)+'Standing Wave'!$C$5","v":0.08},{"$f":"'Standing Wave'!$C$1*SIN(((2*PI())/'Standing Wave'!$C$3)*A10-2*PI()*'Standing Wave'!$C$7*'Standing Wave'!$C$9)","v":5.7924184361944839E-2},{"$f":"'Standing Wave'!$C$2*SIN(((2*PI())/'Standing Wave'!$C$4)*A10+2*PI()*'Standing Wave'!$C$8*'Standing Wave'!$C$9)","v":0.15322676341324412},0.21115094777518895]
[{"$f":"SUM(A10)+'Standing Wave'!$C$5","v":0.09},{"$f":"'Standing Wave'!$C$1*SIN(((2*PI())/'Standing Wave'!$C$3)*A11-2*PI()*'Standing Wave'!$C$7*'Standing Wave'!$C$9)","v":6.7912289298547493E-2},{"$f":"'Standing Wave'!$C$2*SIN(((2*PI())/'Standing Wave'!$C$4)*A11+2*PI()*'Standing Wave'!$C$8*'Standing Wave'!$C$9)","v":0.16532796633091296},0.23324025562946044]
[{"$f":"SUM(A11)+'Standing Wave'!$C$5","v":9.9999999999999992E-2},{"$f":"'Standing Wave'!$C$1*SIN(((2*PI())/'Standing Wave'!$C$3)*A12-2*PI()*'Standing Wave'!$C$7*'Standing Wave'!$C$9)","v":7.7632375455462505E-2},{"$f":"'Standing Wave'!$C$2*SIN(((2*PI())/'Standing Wave'!$C$4)*A12+2*PI()*'Standing Wave'!$C$8*'Standing Wave'!$C$9)","v":0.17677669529663687},0.2544090707520994]
[{"$f":"SUM(A12)+'Standing Wave'!$C$5","v":0.10999999999999999},{"$f":"'Standing Wave'!$C$1*SIN(((2*PI())/'Standing Wave'!$C$3)*A13-2*PI()*'Standing Wave'!$C$7*'Standing Wave'!$C$9)","v":8.7046082093313479E-2},{"$f":"'Standing Wave'!$C$2*SIN(((2*PI())/'Standing Wave'!$C$4)*A13+2*PI()*'Standing Wave'!$C$8*'Standing Wave'!$C$9)","v":0.18752776740761487},0.27457384950092834]
[{"$f":"SUM(A13)+'Standing Wave'!$C$5","v":0.11999999999999998},{"$f":"'Standing Wave'!$C$1*SIN(((2*PI())/'Standing Wave'!$C$3)*A14-2*PI()*'Standing Wave'!$C$7*'Standing Wave'!$C$9)","v":9.611625761271432E-2},{"$f":"'Standing Wave'!$C$2*SIN(((2*PI())/'Standing Wave'!$C$4)*A14+2*PI()*'Standing Wave'!$C$8*'Standing Wave'!$C$9)","v":0.19753875309392258},0.29365501070663691]
[{"$f":"SUM(A14)+'Standing Wave'!$C$5","v":0.12999999999999998},{"$f":"'Standing Wave'!$C$1*SIN(((2*PI())/'Standing Wave'!$C$3)*A15-2*PI()*'Standing Wave'!$C$7*'Standing Wave'!$C$9)","v":0.10480710617465896},{"$f":"'Standing Wave'!$C$2*SIN(((2*PI())/'Standing Wave'!$C$4)*A15+2*PI()*'Standing Wave'!$C$8*'Standing Wave'!$C$9)","v":0.20677014356864043},0.31157724974329937]
[{"$f":"SUM(A15)+'Standing Wave'!$C$5","v":0.13999999999999999},{"$f":"'Standing Wave'!$C$1*SIN(((2*PI())/'Standing Wave'!$C$3)*A16-2*PI()*'Standing Wave'!$C$7*'Standing Wave'!$C$9)","v":0.11308432897034447},{"$f":"'Standing Wave'!$C$2*SIN(((2*PI())/'Standing Wave'!$C$4)*A16+2*PI()*'Standing Wave'!$C$8*'Standing Wave'!$C$9)","v":0.21518550675098588},0.32826983572133034]
[{"$f":"SUM(A16)+'Standing Wave'!$C$5","v":0.15},{"$f":"'Standing Wave'!$C$1*SIN(((2*PI())/'Standing Wave'!$C$3)*A17-2*PI()*'Standing Wave'!$C$7*'Standing Wave'!$C$9)","v":0.12091525958289963},{"$f":"'Standing Wave'!$C$2*SIN(((2*PI())/'Standing Wave'!$C$4)*A17+2*PI()*'Standing Wave'!$C$8*'Standing Wave'!$C$9)","v":0.22275163104709195},0.34366689062999156]
[{"$f":"SUM(A17)+'Standing Wave'!$C$5","v":0.16},{"$f":"'Standing Wave'!$C$1*SIN(((2*PI())/'Standing Wave'!$C$3)*A18-2*PI()*'Standing Wave'!$C$7*'Standing Wave'!$C$9)","v":0.1282689929068086},{"$f":"'Standing Wave'!$C$2*SIN(((2*PI())/'Standing Wave'!$C$4)*A18+2*PI()*'Standing Wave'!$C$8*'Standing Wave'!$C$9)","v":0.22943865642099529},0.35770764932780386]
[{"$f":"SUM(A18)+'Standing Wave'!$C$5","v":0.17},{"$f":"'Standing Wave'!$C$1*SIN(((2*PI())/'Standing Wave'!$C$3)*A19-2*PI()*'Standing Wave'!$C$7*'Standing Wave'!$C$9)","v":0.13511650711624307},{"$f":"'Standing Wave'!$C$2*SIN(((2*PI())/'Standing Wave'!$C$4)*A19+2*PI()*'Standing Wave'!$C$8*'Standing Wave'!$C$9)","v":0.23522019223855639},0.37033669935479946]
[{"$f":"SUM(A19)+'Standing Wave'!$C$5","v":0.18000000000000002},{"$f":"'Standing Wave'!$C$1*SIN(((2*PI())/'Standing Wave'!$C$3)*A20-2*PI()*'Standing Wave'!$C$7*'Standing Wave'!$C$9)","v":0.1414307782009501},{"$f":"'Standing Wave'!$C$2*SIN(((2*PI())/'Standing Wave'!$C$4)*A20+2*PI()*'Standing Wave'!$C$8*'Standing Wave'!$C$9)","v":0.24007342141923577},0.38150419962018589]
[{"$f":"SUM(A20)+'Standing Wave'!$C$5","v":0.19000000000000003},{"$f":"'Standing Wave'!$C$1*SIN(((2*PI())/'Standing Wave'!$C$3)*A21-2*PI()*'Standing Wave'!$C$7*'Standing Wave'!$C$9)","v":0.14718688661767437},{"$f":"'Standing Wave'!$C$2*SIN(((2*PI())/'Standing Wave'!$C$4)*A21+2*PI()*'Standing Wave'!$C$8*'Standing Wave'!$C$9)","v":0.24397919048468686},0.39116607710236123]
[{"$f":"SUM(A21)+'Standing Wave'!$C$5","v":0.20000000000000004},{"$f":"'Standing Wave'!$C$1*SIN(((2*PI())/'Standing Wave'!$C$3)*A22-2*PI()*'Standing Wave'!$C$7*'Standing Wave'!$C$9)","v":0.15236211563621091},{"$f":"'Standing Wave'!$C$2*SIN(((2*PI())/'Standing Wave'!$C$4)*A22+2*PI()*'Standing Wave'!$C$8*'Standing Wave'!$C$9)","v":0.24692208514878444},0.39928420078499538]
[{"$f":"SUM(A22)+'Standing Wave'!$C$5","v":0.21000000000000005},{"$f":"'Standing Wave'!$C$1*SIN(((2*PI())/'Standing Wave'!$C$3)*A23-2*PI()*'Standing Wave'!$C$7*'Standing Wave'!$C$9)","v":0.15693604099196082},{"$f":"'Standing Wave'!$C$2*SIN(((2*PI())/'Standing Wave'!$C$4)*A23+2*PI()*'Standing Wave'!$C$8*'Standing Wave'!$C$9)","v":0.24889049115077},0.40582653214273079]
[{"$f":"SUM(A23)+'Standing Wave'!$C$5","v":0.22000000000000006},{"$f":"'Standing Wave'!$C$1*SIN(((2*PI())/'Standing Wave'!$C$3)*A24-2*PI()*'Standing Wave'!$C$7*'Standing Wave'!$C$9)","v":0.16089061149117259},{"$f":"'Standing Wave'!$C$2*SIN(((2*PI())/'Standing Wave'!$C$4)*A24+2*PI()*'Standing Wave'!$C$8*'Standing Wave'!$C$9)","v":0.2498766400914329},0.41076725158260552]
[{"$f":"SUM(A24)+'Standing Wave'!$C$5","v":0.23000000000000007},{"$f":"'Standing Wave'!$C$1*SIN(((2*PI())/'Standing Wave'!$C$3)*A25-2*PI()*'Standing Wave'!$C$7*'Standing Wave'!$C$9)","v":0.16421022025075729},{"$f":"'Standing Wave'!$C$2*SIN(((2*PI())/'Standing Wave'!$C$4)*A25+2*PI()*'Standing Wave'!$C$8*'Standing Wave'!$C$9)","v":0.24987664009143287},0.41408686034219017]
[{"$f":"SUM(A25)+'Standing Wave'!$C$5","v":0.24000000000000007},{"$f":"'Standing Wave'!$C$1*SIN(((2*PI())/'Standing Wave'!$C$3)*A26-2*PI()*'Standing Wave'!$C$7*'Standing Wave'!$C$9)","v":0.16688176629152585},{"$f":"'Standing Wave'!$C$2*SIN(((2*PI())/'Standing Wave'!$C$4)*A26+2*PI()*'Standing Wave'!$C$8*'Standing Wave'!$C$9)","v":0.24889049115077},0.41577225744229585]
[{"$f":"SUM(A26)+'Standing Wave'!$C$5","v":0.25000000000000006},{"$f":"'Standing Wave'!$C$1*SIN(((2*PI())/'Standing Wave'!$C$3)*A27-2*PI()*'Standing Wave'!$C$7*'Standing Wave'!$C$9)","v":0.16889470624176858},{"$f":"'Standing Wave'!$C$2*SIN(((2*PI())/'Standing Wave'!$C$4)*A27+2*PI()*'Standing Wave'!$C$8*'Standing Wave'!$C$9)","v":0.24692208514878441},0.415816791390553]
[{"$f":"SUM(A27)+'Standing Wave'!$C$5","v":0.26000000000000006},{"$f":"'Standing Wave'!$C$1*SIN(((2*PI())/'Standing Wave'!$C$3)*A28-2*PI()*'Standing Wave'!$C$7*'Standing Wave'!$C$9)","v":0.17024109594712669},{"$f":"'Standing Wave'!$C$2*SIN(((2*PI())/'Standing Wave'!$C$4)*A28+2*PI()*'Standing Wave'!$C$8*'Standing Wave'!$C$9)","v":0.24397919048468683},0.41422028643181352]
[{"$f":"SUM(A28)+'Standing Wave'!$C$5","v":0.27000000000000007},{"$f":"'Standing Wave'!$C$1*SIN(((2*PI())/'Standing Wave'!$C$3)*A29-2*PI()*'Standing Wave'!$C$7*'Standing Wave'!$C$9)","v":0.17091562182254011},{"$f":"'Standing Wave'!$C$2*SIN(((2*PI())/'Standing Wave'!$C$4)*A29+2*PI()*'Standing Wave'!$C$8*'Standing Wave'!$C$9)","v":0.24007342141923574},0.41098904324177588]
[{"$f":"SUM(A29)+'Standing Wave'!$C$5","v":0.28000000000000008},{"$f":"'Standing Wave'!$C$1*SIN(((2*PI())/'Standing Wave'!$C$3)*A30-2*PI()*'Standing Wave'!$C$7*'Standing Wave'!$C$9)","v":0.17091562182254011},{"$f":"'Standing Wave'!$C$2*SIN(((2*PI())/'Standing Wave'!$C$4)*A30+2*PI()*'Standing Wave'!$C$8*'Standing Wave'!$C$9)","v":0.23522019223855634},0.40613581406109645]
[{"$f":"SUM(A30)+'Standing Wave'!$C$5","v":0.29000000000000009},{"$f":"'Standing Wave'!$C$1*SIN(((2*PI())/'Standing Wave'!$C$3)*A31-2*PI()*'Standing Wave'!$C$7*'Standing Wave'!$C$9)","v":0.17024109594712669},{"$f":"'Standing Wave'!$C$2*SIN(((2*PI())/'Standing Wave'!$C$4)*A31+2*PI()*'Standing Wave'!$C$8*'Standing Wave'!$C$9)","v":0.22943865642099523},0.39967975236812192]
[{"$f":"SUM(A31)+'Standing Wave'!$C$5","v":0.3000000000000001},{"$f":"'Standing Wave'!$C$1*SIN(((2*PI())/'Standing Wave'!$C$3)*A32-2*PI()*'Standing Wave'!$C$7*'Standing Wave'!$C$9)","v":0.16889470624176856},{"$f":"'Standing Wave'!$C$2*SIN(((2*PI())/'Standing Wave'!$C$4)*A32+2*PI()*'Standing Wave'!$C$8*'Standing Wave'!$C$9)","v":0.22275163104709186},0.39164633728886045]
[{"$f":"SUM(A32)+'Standing Wave'!$C$5","v":0.31000000000000011},{"$f":"'Standing Wave'!$C$1*SIN(((2*PI())/'Standing Wave'!$C$3)*A33-2*PI()*'Standing Wave'!$C$7*'Standing Wave'!$C$9)","v":0.16688176629152579},{"$f":"'Standing Wave'!$C$2*SIN(((2*PI())/'Standing Wave'!$C$4)*A33+2*PI()*'Standing Wave'!$C$8*'Standing Wave'!$C$9)","v":0.21518550675098586},0.38206727304251165]
[{"$f":"SUM(A33)+'Standing Wave'!$C$5","v":0.32000000000000012},{"$f":"'Standing Wave'!$C$1*SIN(((2*PI())/'Standing Wave'!$C$3)*A34-2*PI()*'Standing Wave'!$C$7*'Standing Wave'!$C$9)","v":0.16421022025075727},{"$f":"'Standing Wave'!$C$2*SIN(((2*PI())/'Standing Wave'!$C$4)*A34+2*PI()*'Standing Wave'!$C$8*'Standing Wave'!$C$9)","v":0.20677014356864037},0.37098036381939764]
[{"$f":"SUM(A34)+'Standing Wave'!$C$5","v":0.33000000000000013},{"$f":"'Standing Wave'!$C$1*SIN(((2*PI())/'Standing Wave'!$C$3)*A35-2*PI()*'Standing Wave'!$C$7*'Standing Wave'!$C$9)","v":0.16089061149117254},{"$f":"'Standing Wave'!$C$2*SIN(((2*PI())/'Standing Wave'!$C$4)*A35+2*PI()*'Standing Wave'!$C$8*'Standing Wave'!$C$9)","v":0.19753875309392249},0.358429364585095]
[{"$f":"SUM(A35)+'Standing Wave'!$C$5","v":0.34000000000000014},{"$f":"'Standing Wave'!$C$1*SIN(((2*PI())/'Standing Wave'!$C$3)*A36-2*PI()*'Standing Wave'!$C$7*'Standing Wave'!$C$9)","v":0.15693604099196073},{"$f":"'Standing Wave'!$C$2*SIN(((2*PI())/'Standing Wave'!$C$4)*A36+2*PI()*'Standing Wave'!$C$8*'Standing Wave'!$C$9)","v":0.18752776740761476},0.34446380839957547]
[{"$f":"SUM(A36)+'Standing Wave'!$C$5","v":0.35000000000000014},{"$f":"'Standing Wave'!$C$1*SIN(((2*PI())/'Standing Wave'!$C$3)*A37-2*PI()*'Standing Wave'!$C$7*'Standing Wave'!$C$9)","v":0.15236211563621085},{"$f":"'Standing Wave'!$C$2*SIN(((2*PI())/'Standing Wave'!$C$4)*A37+2*PI()*'Standing Wave'!$C$8*'Standing Wave'!$C$9)","v":0.17677669529663673},0.32913881093284758]
[{"$f":"SUM(A37)+'Standing Wave'!$C$5","v":0.36000000000000015},{"$f":"'Standing Wave'!$C$1*SIN(((2*PI())/'Standing Wave'!$C$3)*A38-2*PI()*'Standing Wave'!$C$7*'Standing Wave'!$C$9)","v":0.14718688661767429},{"$f":"'Standing Wave'!$C$2*SIN(((2*PI())/'Standing Wave'!$C$4)*A38+2*PI()*'Standing Wave'!$C$8*'Standing Wave'!$C$9)","v":0.16532796633091279},0.31251485294858705]
[{"$f":"SUM(A38)+'Standing Wave'!$C$5","v":0.37000000000000016},{"$f":"'Standing Wave'!$C$1*SIN(((2*PI())/'Standing Wave'!$C$3)*A39-2*PI()*'Standing Wave'!$C$7*'Standing Wave'!$C$9)","v":0.14143077820094999},{"$f":"'Standing Wave'!$C$2*SIN(((2*PI())/'Standing Wave'!$C$4)*A39+2*PI()*'Standing Wave'!$C$8*'Standing Wave'!$C$9)","v":0.15322676341324393},0.29465754161419389]
[{"$f":"SUM(A39)+'Standing Wave'!$C$5","v":0.38000000000000017},{"$f":"'Standing Wave'!$C$1*SIN(((2*PI())/'Standing Wave'!$C$3)*A40-2*PI()*'Standing Wave'!$C$7*'Standing Wave'!$C$9)","v":0.13511650711624296},{"$f":"'Standing Wave'!$C$2*SIN(((2*PI())/'Standing Wave'!$C$4)*A40+2*PI()*'Standing Wave'!$C$8*'Standing Wave'!$C$9)","v":0.14052084446303242},0.27563735157927538]
[{"$f":"SUM(A40)+'Standing Wave'!$C$5","v":0.39000000000000018},{"$f":"'Standing Wave'!$C$1*SIN(((2*PI())/'Standing Wave'!$C$3)*A41-2*PI()*'Standing Wave'!$C$7*'Standing Wave'!$C$9)","v":0.12826899290680846},{"$f":"'Standing Wave'!$C$2*SIN(((2*PI())/'Standing Wave'!$C$4)*A41+2*PI()*'Standing Wave'!$C$8*'Standing Wave'!$C$9)","v":0.12726035393759258},0.25552934684440104]
[{"$f":"SUM(A41)+'Standing Wave'!$C$5","v":0.40000000000000019},{"$f":"'Standing Wave'!$C$1*SIN(((2*PI())/'Standing Wave'!$C$3)*A42-2*PI()*'Standing Wave'!$C$7*'Standing Wave'!$C$9)","v":0.12091525958289949},{"$f":"'Standing Wave'!$C$2*SIN(((2*PI())/'Standing Wave'!$C$4)*A42+2*PI()*'Standing Wave'!$C$8*'Standing Wave'!$C$9)","v":0.11349762493488642},0.23441288451778591]
[{"$f":"SUM(A42)+'Standing Wave'!$C$5","v":0.4100000000000002},{"$f":"'Standing Wave'!$C$1*SIN(((2*PI())/'Standing Wave'!$C$3)*A43-2*PI()*'Standing Wave'!$C$7*'Standing Wave'!$C$9)","v":0.1130843289703443},{"$f":"'Standing Wave'!$C$2*SIN(((2*PI())/'Standing Wave'!$C$4)*A43+2*PI()*'Standing Wave'!$C$8*'Standing Wave'!$C$9)","v":9.928697265869485E-2},0.21237130162903917]
[{"$f":"SUM(A43)+'Standing Wave'!$C$5","v":0.42000000000000021},{"$f":"'Standing Wave'!$C$1*SIN(((2*PI())/'Standing Wave'!$C$3)*A44-2*PI()*'Standing Wave'!$C$7*'Standing Wave'!$C$9)","v":0.1048071061746588},{"$f":"'Standing Wave'!$C$2*SIN(((2*PI())/'Standing Wave'!$C$4)*A44+2*PI()*'Standing Wave'!$C$8*'Standing Wave'!$C$9)","v":8.4684480061322509E-2},0.18949158623598131]
[{"$f":"SUM(A44)+'Standing Wave'!$C$5","v":0.43000000000000022},{"$f":"'Standing Wave'!$C$1*SIN(((2*PI())/'Standing Wave'!$C$3)*A45-2*PI()*'Standing Wave'!$C$7*'Standing Wave'!$C$9)","v":9.6116257612714182E-2},{"$f":"'Standing Wave'!$C$2*SIN(((2*PI())/'Standing Wave'!$C$4)*A45+2*PI()*'Standing Wave'!$C$8*'Standing Wave'!$C$9)","v":6.9747776509807069E-2},0.16586403412252126]
[{"$f":"SUM(A45)+'Standing Wave'!$C$5","v":0.44000000000000022},{"$f":"'Standing Wave'!$C$1*SIN(((2*PI())/'Standing Wave'!$C$3)*A46-2*PI()*'Standing Wave'!$C$7*'Standing Wave'!$C$9)","v":8.7046082093313326E-2},{"$f":"'Standing Wave'!$C$2*SIN(((2*PI())/'Standing Wave'!$C$4)*A46+2*PI()*'Standing Wave'!$C$8*'Standing Wave'!$C$9)","v":5.4535810349135364E-2},0.14158189244244868]
[{"$f":"SUM(A46)+'Standing Wave'!$C$5","v":0.45000000000000023},{"$f":"'Standing Wave'!$C$1*SIN(((2*PI())/'Standing Wave'!$C$3)*A47-2*PI()*'Standing Wave'!$C$7*'Standing Wave'!$C$9)","v":7.7632375455462324E-2},{"$f":"'Standing Wave'!$C$2*SIN(((2*PI())/'Standing Wave'!$C$4)*A47+2*PI()*'Standing Wave'!$C$8*'Standing Wave'!$C$9)","v":3.9108616260057419E-2},0.11674099171551974]
[{"$f":"SUM(A47)+'Standing Wave'!$C$5","v":0.46000000000000024},{"$f":"'Standing Wave'!$C$1*SIN(((2*PI())/'Standing Wave'!$C$3)*A48-2*PI()*'Standing Wave'!$C$7*'Standing Wave'!$C$9)","v":6.7912289298547285E-2},{"$f":"'Standing Wave'!$C$2*SIN(((2*PI())/'Standing Wave'!$C$4)*A48+2*PI()*'Standing Wave'!$C$8*'Standing Wave'!$C$9)","v":2.3527078329628255E-2},9.1439367628175533E-2]
[{"$f":"SUM(A48)+'Standing Wave'!$C$5","v":0.47000000000000025},{"$f":"'Standing Wave'!$C$1*SIN(((2*PI())/'Standing Wave'!$C$3)*A49-2*PI()*'Standing Wave'!$C$7*'Standing Wave'!$C$9)","v":5.7924184361944603E-2},{"$f":"'Standing Wave'!$C$2*SIN(((2*PI())/'Standing Wave'!$C$4)*A49+2*PI()*'Standing Wave'!$C$8*'Standing Wave'!$C$9)","v":7.852689769531726E-3},6.5776874131476329E-2]
[{"$f":"SUM(A49)+'Standing Wave'!$C$5","v":0.48000000000000026},{"$f":"'Standing Wave'!$C$1*SIN(((2*PI())/'Standing Wave'!$C$3)*A50-2*PI()*'Standing Wave'!$C$7*'Standing Wave'!$C$9)","v":4.770747913270796E-2},{"$f":"'Standing Wave'!$C$2*SIN(((2*PI())/'Standing Wave'!$C$4)*A50+2*PI()*'Standing Wave'!$C$8*'Standing Wave'!$C$9)","v":-7.8526897695324425E-3},3.9854789363175519E-2]
[{"$f":"SUM(A50)+'Standing Wave'!$C$5","v":0.49000000000000027},{"$f":"'Standing Wave'!$C$1*SIN(((2*PI())/'Standing Wave'!$C$3)*A51-2*PI()*'Standing Wave'!$C$7*'Standing Wave'!$C$9)","v":3.7302494278808516E-2},{"$f":"'Standing Wave'!$C$2*SIN(((2*PI())/'Standing Wave'!$C$4)*A51+2*PI()*'Standing Wave'!$C$8*'Standing Wave'!$C$9)","v":-2.352707832962897E-2},1.3775415949179547E-2]
[{"$f":"SUM(A51)+'Standing Wave'!$C$5","v":0.50000000000000022},{"$f":"'Standing Wave'!$C$1*SIN(((2*PI())/'Standing Wave'!$C$3)*A52-2*PI()*'Standing Wave'!$C$7*'Standing Wave'!$C$9)","v":2.6750293521879277E-2},{"$f":"'Standing Wave'!$C$2*SIN(((2*PI())/'Standing Wave'!$C$4)*A52+2*PI()*'Standing Wave'!$C$8*'Standing Wave'!$C$9)","v":-3.9108616260058016E-2},-1.2358322738178738E-2]
[{"$f":"SUM(A52)+'Standing Wave'!$C$5","v":0.51000000000000023},{"$f":"'Standing Wave'!$C$1*SIN(((2*PI())/'Standing Wave'!$C$3)*A53-2*PI()*'Standing Wave'!$C$7*'Standing Wave'!$C$9)","v":1.6092521577465727E-2},{"$f":"'Standing Wave'!$C$2*SIN(((2*PI())/'Standing Wave'!$C$4)*A53+2*PI()*'Standing Wave'!$C$8*'Standing Wave'!$C$9)","v":-5.4535810349135953E-2},-3.8443288771670227E-2]
[{"$f":"SUM(A53)+'Standing Wave'!$C$5","v":0.52000000000000024},{"$f":"'Standing Wave'!$C$1*SIN(((2*PI())/'Standing Wave'!$C$3)*A54-2*PI()*'Standing Wave'!$C$7*'Standing Wave'!$C$9)","v":5.3712398023597011E-3},{"$f":"'Standing Wave'!$C$2*SIN(((2*PI())/'Standing Wave'!$C$4)*A54+2*PI()*'Standing Wave'!$C$8*'Standing Wave'!$C$9)","v":-6.9747776509807638E-2},-6.4376536707447932E-2]
[{"$f":"SUM(A54)+'Standing Wave'!$C$5","v":0.53000000000000025},{"$f":"'Standing Wave'!$C$1*SIN(((2*PI())/'Standing Wave'!$C$3)*A55-2*PI()*'Standing Wave'!$C$7*'Standing Wave'!$C$9)","v":-5.3712398023601912E-3},{"$f":"'Standing Wave'!$C$2*SIN(((2*PI())/'Standing Wave'!$C$4)*A55+2*PI()*'Standing Wave'!$C$8*'Standing Wave'!$C$9)","v":-8.4684480061323189E-2},-9.0055719863683381E-2]
[{"$f":"SUM(A55)+'Standing Wave'!$C$5","v":0.54000000000000026},{"$f":"'Standing Wave'!$C$1*SIN(((2*PI())/'Standing Wave'!$C$3)*A56-2*PI()*'Standing Wave'!$C$7*'Standing Wave'!$C$9)","v":-1.6092521577466216E-2},{"$f":"'Standing Wave'!$C$2*SIN(((2*PI())/'Standing Wave'!$C$4)*A56+2*PI()*'Standing Wave'!$C$8*'Standing Wave'!$C$9)","v":-9.9286972658695502E-2},-0.11537949423616171]
[{"$f":"SUM(A56)+'Standing Wave'!$C$5","v":0.55000000000000027},{"$f":"'Standing Wave'!$C$1*SIN(((2*PI())/'Standing Wave'!$C$3)*A57-2*PI()*'Standing Wave'!$C$7*'Standing Wave'!$C$9)","v":-2.675029352187976E-2},{"$f":"'Standing Wave'!$C$2*SIN(((2*PI())/'Standing Wave'!$C$4)*A57+2*PI()*'Standing Wave'!$C$8*'Standing Wave'!$C$9)","v":-0.11349762493488706},-0.14024791845676682]
[{"$f":"SUM(A57)+'Standing Wave'!$C$5","v":0.56000000000000028},{"$f":"'Standing Wave'!$C$1*SIN(((2*PI())/'Standing Wave'!$C$3)*A58-2*PI()*'Standing Wave'!$C$7*'Standing Wave'!$C$9)","v":-3.7302494278809072E-2},{"$f":"'Standing Wave'!$C$2*SIN(((2*PI())/'Standing Wave'!$C$4)*A58+2*PI()*'Standing Wave'!$C$8*'Standing Wave'!$C$9)","v":-0.12726035393759319},-0.16456284821640227]
[{"$f":"SUM(A58)+'Standing Wave'!$C$5","v":0.57000000000000028},{"$f":"'Standing Wave'!$C$1*SIN(((2*PI())/'Standing Wave'!$C$3)*A59-2*PI()*'Standing Wave'!$C$7*'Standing Wave'!$C$9)","v":-4.7707479132708501E-2},{"$f":"'Standing Wave'!$C$2*SIN(((2*PI())/'Standing Wave'!$C$4)*A59+2*PI()*'Standing Wave'!$C$8*'Standing Wave'!$C$9)","v":-0.14052084446303303},-0.18822832359574154]
[{"$f":"SUM(A59)+'Standing Wave'!$C$5","v":0.58000000000000029},{"$f":"'Standing Wave'!$C$1*SIN(((2*PI())/'Standing Wave'!$C$3)*A60-2*PI()*'Standing Wave'!$C$7*'Standing Wave'!$C$9)","v":-5.7924184361945144E-2},{"$f":"'Standing Wave'!$C$2*SIN(((2*PI())/'Standing Wave'!$C$4)*A60+2*PI()*'Standing Wave'!$C$8*'Standing Wave'!$C$9)","v":-0.15322676341324451},-0.21115094777518967]
[{"$f":"SUM(A60)+'Standing Wave'!$C$5","v":0.5900000000000003},{"$f":"'Standing Wave'!$C$1*SIN(((2*PI())/'Standing Wave'!$C$3)*A61-2*PI()*'Standing Wave'!$C$7*'Standing Wave'!$C$9)","v":-6.7912289298547729E-2},{"$f":"'Standing Wave'!$C$2*SIN(((2*PI())/'Standing Wave'!$C$4)*A61+2*PI()*'Standing Wave'!$C$8*'Standing Wave'!$C$9)","v":-0.16532796633091326},-0.23324025562946099]
[{"$f":"SUM(A61)+'Standing Wave'!$C$5","v":0.60000000000000031},{"$f":"'Standing Wave'!$C$1*SIN(((2*PI())/'Standing Wave'!$C$3)*A62-2*PI()*'Standing Wave'!$C$7*'Standing Wave'!$C$9)","v":-7.7632375455462754E-2},{"$f":"'Standing Wave'!$C$2*SIN(((2*PI())/'Standing Wave'!$C$4)*A62+2*PI()*'Standing Wave'!$C$8*'Standing Wave'!$C$9)","v":-0.17677669529663717},-0.25440907075209995]
[{"$f":"SUM(A62)+'Standing Wave'!$C$5","v":0.61000000000000032},{"$f":"'Standing Wave'!$C$1*SIN(((2*PI())/'Standing Wave'!$C$3)*A63-2*PI()*'Standing Wave'!$C$7*'Standing Wave'!$C$9)","v":-8.7046082093313742E-2},{"$f":"'Standing Wave'!$C$2*SIN(((2*PI())/'Standing Wave'!$C$4)*A63+2*PI()*'Standing Wave'!$C$8*'Standing Wave'!$C$9)","v":-0.18752776740761518},-0.27457384950092889]
[{"$f":"SUM(A63)+'Standing Wave'!$C$5","v":0.62000000000000033},{"$f":"'Standing Wave'!$C$1*SIN(((2*PI())/'Standing Wave'!$C$3)*A64-2*PI()*'Standing Wave'!$C$7*'Standing Wave'!$C$9)","v":-9.6116257612714598E-2},{"$f":"'Standing Wave'!$C$2*SIN(((2*PI())/'Standing Wave'!$C$4)*A64+2*PI()*'Standing Wave'!$C$8*'Standing Wave'!$C$9)","v":-0.19753875309392285},-0.29365501070663746]
[{"$f":"SUM(A64)+'Standing Wave'!$C$5","v":0.63000000000000034},{"$f":"'Standing Wave'!$C$1*SIN(((2*PI())/'Standing Wave'!$C$3)*A65-2*PI()*'Standing Wave'!$C$7*'Standing Wave'!$C$9)","v":-0.10480710617465926},{"$f":"'Standing Wave'!$C$2*SIN(((2*PI())/'Standing Wave'!$C$4)*A65+2*PI()*'Standing Wave'!$C$8*'Standing Wave'!$C$9)","v":-0.20677014356864065},-0.31157724974329992]
[{"$f":"SUM(A65)+'Standing Wave'!$C$5","v":0.64000000000000035},{"$f":"'Standing Wave'!$C$1*SIN(((2*PI())/'Standing Wave'!$C$3)*A66-2*PI()*'Standing Wave'!$C$7*'Standing Wave'!$C$9)","v":-0.11308432897034473},{"$f":"'Standing Wave'!$C$2*SIN(((2*PI())/'Standing Wave'!$C$4)*A66+2*PI()*'Standing Wave'!$C$8*'Standing Wave'!$C$9)","v":-0.21518550675098616},-0.32826983572133089]
[{"$f":"SUM(A66)+'Standing Wave'!$C$5","v":0.65000000000000036},{"$f":"'Standing Wave'!$C$1*SIN(((2*PI())/'Standing Wave'!$C$3)*A67-2*PI()*'Standing Wave'!$C$7*'Standing Wave'!$C$9)","v":-0.12091525958289995},{"$f":"'Standing Wave'!$C$2*SIN(((2*PI())/'Standing Wave'!$C$4)*A67+2*PI()*'Standing Wave'!$C$8*'Standing Wave'!$C$9)","v":-0.22275163104709225},-0.34366689062999223]
[{"$f":"SUM(A67)+'Standing Wave'!$C$5","v":0.66000000000000036},{"$f":"'Standing Wave'!$C$1*SIN(((2*PI())/'Standing Wave'!$C$3)*A68-2*PI()*'Standing Wave'!$C$7*'Standing Wave'!$C$9)","v":-0.12826899290680882},{"$f":"'Standing Wave'!$C$2*SIN(((2*PI())/'Standing Wave'!$C$4)*A68+2*PI()*'Standing Wave'!$C$8*'Standing Wave'!$C$9)","v":-0.22943865642099551},-0.3577076493278043]
[{"$f":"SUM(A68)+'Standing Wave'!$C$5","v":0.67000000000000037},{"$f":"'Standing Wave'!$C$1*SIN(((2*PI())/'Standing Wave'!$C$3)*A69-2*PI()*'Standing Wave'!$C$7*'Standing Wave'!$C$9)","v":-0.13511650711624323},{"$f":"'Standing Wave'!$C$2*SIN(((2*PI())/'Standing Wave'!$C$4)*A69+2*PI()*'Standing Wave'!$C$8*'Standing Wave'!$C$9)","v":-0.23522019223855653},{"$f":"B69+C69","v":-0.37033669935479974}]
[{"$f":"SUM(A69)+'Standing Wave'!$C$5","v":0.68000000000000038},{"$f":"'Standing Wave'!$C$1*SIN(((2*PI())/'Standing Wave'!$C$3)*A70-2*PI()*'Standing Wave'!$C$7*'Standing Wave'!$C$9)","v":-0.14143077820095032},{"$f":"'Standing Wave'!$C$2*SIN(((2*PI())/'Standing Wave'!$C$4)*A70+2*PI()*'Standing Wave'!$C$8*'Standing Wave'!$C$9)","v":-0.24007342141923593},-0.38150419962018622]
[{"$f":"SUM(A70)+'Standing Wave'!$C$5","v":0.69000000000000039},{"$f":"'Standing Wave'!$C$1*SIN(((2*PI())/'Standing Wave'!$C$3)*A71-2*PI()*'Standing Wave'!$C$7*'Standing Wave'!$C$9)","v":-0.14718688661767454},{"$f":"'Standing Wave'!$C$2*SIN(((2*PI())/'Standing Wave'!$C$4)*A71+2*PI()*'Standing Wave'!$C$8*'Standing Wave'!$C$9)","v":-0.24397919048468697},-0.39116607710236151]
[{"$f":"SUM(A71)+'Standing Wave'!$C$5","v":0.7000000000000004},{"$f":"'Standing Wave'!$C$1*SIN(((2*PI())/'Standing Wave'!$C$3)*A72-2*PI()*'Standing Wave'!$C$7*'Standing Wave'!$C$9)","v":-0.1523621156362111},{"$f":"'Standing Wave'!$C$2*SIN(((2*PI())/'Standing Wave'!$C$4)*A72+2*PI()*'Standing Wave'!$C$8*'Standing Wave'!$C$9)","v":-0.24692208514878453},-0.3992842007849956]
[{"$f":"SUM(A72)+'Standing Wave'!$C$5","v":0.71000000000000041},{"$f":"'Standing Wave'!$C$1*SIN(((2*PI())/'Standing Wave'!$C$3)*A73-2*PI()*'Standing Wave'!$C$7*'Standing Wave'!$C$9)","v":-0.15693604099196093},{"$f":"'Standing Wave'!$C$2*SIN(((2*PI())/'Standing Wave'!$C$4)*A73+2*PI()*'Standing Wave'!$C$8*'Standing Wave'!$C$9)","v":-0.24889049115077005},-0.40582653214273101]
[{"$f":"SUM(A73)+'Standing Wave'!$C$5","v":0.72000000000000042},{"$f":"'Standing Wave'!$C$1*SIN(((2*PI())/'Standing Wave'!$C$3)*A74-2*PI()*'Standing Wave'!$C$7*'Standing Wave'!$C$9)","v":-0.16089061149117273},{"$f":"'Standing Wave'!$C$2*SIN(((2*PI())/'Standing Wave'!$C$4)*A74+2*PI()*'Standing Wave'!$C$8*'Standing Wave'!$C$9)","v":-0.2498766400914329},-0.41076725158260563]
[{"$f":"SUM(A74)+'Standing Wave'!$C$5","v":0.73000000000000043},{"$f":"'Standing Wave'!$C$1*SIN(((2*PI())/'Standing Wave'!$C$3)*A75-2*PI()*'Standing Wave'!$C$7*'Standing Wave'!$C$9)","v":-0.16421022025075738},{"$f":"'Standing Wave'!$C$2*SIN(((2*PI())/'Standing Wave'!$C$4)*A75+2*PI()*'Standing Wave'!$C$8*'Standing Wave'!$C$9)","v":-0.24987664009143287},-0.41408686034219022]
[{"$f":"SUM(A75)+'Standing Wave'!$C$5","v":0.74000000000000044},{"$f":"'Standing Wave'!$C$1*SIN(((2*PI())/'Standing Wave'!$C$3)*A76-2*PI()*'Standing Wave'!$C$7*'Standing Wave'!$C$9)","v":-0.16688176629152593},{"$f":"'Standing Wave'!$C$2*SIN(((2*PI())/'Standing Wave'!$C$4)*A76+2*PI()*'Standing Wave'!$C$8*'Standing Wave'!$C$9)","v":-0.24889049115076994},-0.41577225744229585]
[{"$f":"SUM(A76)+'Standing Wave'!$C$5","v":0.75000000000000044},{"$f":"'Standing Wave'!$C$1*SIN(((2*PI())/'Standing Wave'!$C$3)*A77-2*PI()*'Standing Wave'!$C$7*'Standing Wave'!$C$9)","v":-0.16889470624176864},{"$f":"'Standing Wave'!$C$2*SIN(((2*PI())/'Standing Wave'!$C$4)*A77+2*PI()*'Standing Wave'!$C$8*'Standing Wave'!$C$9)","v":-0.24692208514878433},-0.41581679139055294]
[{"$f":"SUM(A77)+'Standing Wave'!$C$5","v":0.76000000000000045},{"$f":"'Standing Wave'!$C$1*SIN(((2*PI())/'Standing Wave'!$C$3)*A78-2*PI()*'Standing Wave'!$C$7*'Standing Wave'!$C$9)","v":-0.17024109594712675},{"$f":"'Standing Wave'!$C$2*SIN(((2*PI())/'Standing Wave'!$C$4)*A78+2*PI()*'Standing Wave'!$C$8*'Standing Wave'!$C$9)","v":-0.24397919048468669},-0.41422028643181341]
[{"$f":"SUM(A78)+'Standing Wave'!$C$5","v":0.77000000000000046},{"$f":"'Standing Wave'!$C$1*SIN(((2*PI())/'Standing Wave'!$C$3)*A79-2*PI()*'Standing Wave'!$C$7*'Standing Wave'!$C$9)","v":-0.17091562182254011},{"$f":"'Standing Wave'!$C$2*SIN(((2*PI())/'Standing Wave'!$C$4)*A79+2*PI()*'Standing Wave'!$C$8*'Standing Wave'!$C$9)","v":-0.24007342141923557},-0.41098904324177565]
[{"$f":"SUM(A79)+'Standing Wave'!$C$5","v":0.78000000000000047},{"$f":"'Standing Wave'!$C$1*SIN(((2*PI())/'Standing Wave'!$C$3)*A80-2*PI()*'Standing Wave'!$C$7*'Standing Wave'!$C$9)","v":-0.17091562182254011},{"$f":"'Standing Wave'!$C$2*SIN(((2*PI())/'Standing Wave'!$C$4)*A80+2*PI()*'Standing Wave'!$C$8*'Standing Wave'!$C$9)","v":-0.23522019223855609},-0.40613581406109622]
[{"$f":"SUM(A80)+'Standing Wave'!$C$5","v":0.79000000000000048},{"$f":"'Standing Wave'!$C$1*SIN(((2*PI())/'Standing Wave'!$C$3)*A81-2*PI()*'Standing Wave'!$C$7*'Standing Wave'!$C$9)","v":-0.17024109594712666},{"$f":"'Standing Wave'!$C$2*SIN(((2*PI())/'Standing Wave'!$C$4)*A81+2*PI()*'Standing Wave'!$C$8*'Standing Wave'!$C$9)","v":-0.22943865642099501},-0.3996797523681217]
[{"$f":"SUM(A81)+'Standing Wave'!$C$5","v":0.80000000000000049},{"$f":"'Standing Wave'!$C$1*SIN(((2*PI())/'Standing Wave'!$C$3)*A82-2*PI()*'Standing Wave'!$C$7*'Standing Wave'!$C$9)","v":-0.1688947062417685},{"$f":"'Standing Wave'!$C$2*SIN(((2*PI())/'Standing Wave'!$C$4)*A82+2*PI()*'Standing Wave'!$C$8*'Standing Wave'!$C$9)","v":-0.2227516310470917},-0.39164633728886022]
[{"$f":"SUM(A82)+'Standing Wave'!$C$5","v":0.8100000000000005},{"$f":"'Standing Wave'!$C$1*SIN(((2*PI())/'Standing Wave'!$C$3)*A83-2*PI()*'Standing Wave'!$C$7*'Standing Wave'!$C$9)","v":-0.16688176629152571},{"$f":"'Standing Wave'!$C$2*SIN(((2*PI())/'Standing Wave'!$C$4)*A83+2*PI()*'Standing Wave'!$C$8*'Standing Wave'!$C$9)","v":-0.21518550675098552},-0.3820672730425112]
[{"$f":"SUM(A83)+'Standing Wave'!$C$5","v":0.82000000000000051},{"$f":"'Standing Wave'!$C$1*SIN(((2*PI())/'Standing Wave'!$C$3)*A84-2*PI()*'Standing Wave'!$C$7*'Standing Wave'!$C$9)","v":-0.16421022025075716},{"$f":"'Standing Wave'!$C$2*SIN(((2*PI())/'Standing Wave'!$C$4)*A84+2*PI()*'Standing Wave'!$C$8*'Standing Wave'!$C$9)","v":-0.2067701435686401},-0.37098036381939725]
[{"$f":"SUM(A84)+'Standing Wave'!$C$5","v":0.83000000000000052},{"$f":"'Standing Wave'!$C$1*SIN(((2*PI())/'Standing Wave'!$C$3)*A85-2*PI()*'Standing Wave'!$C$7*'Standing Wave'!$C$9)","v":-0.16089061149117237},{"$f":"'Standing Wave'!$C$2*SIN(((2*PI())/'Standing Wave'!$C$4)*A85+2*PI()*'Standing Wave'!$C$8*'Standing Wave'!$C$9)","v":-0.1975387530939221},-0.35842936458509445]
[{"$f":"SUM(A85)+'Standing Wave'!$C$5","v":0.84000000000000052},{"$f":"'Standing Wave'!$C$1*SIN(((2*PI())/'Standing Wave'!$C$3)*A86-2*PI()*'Standing Wave'!$C$7*'Standing Wave'!$C$9)","v":-0.1569360409919606},{"$f":"'Standing Wave'!$C$2*SIN(((2*PI())/'Standing Wave'!$C$4)*A86+2*PI()*'Standing Wave'!$C$8*'Standing Wave'!$C$9)","v":-0.18752776740761443},-0.34446380839957502]
[{"$f":"SUM(A86)+'Standing Wave'!$C$5","v":0.85000000000000053},{"$f":"'Standing Wave'!$C$1*SIN(((2*PI())/'Standing Wave'!$C$3)*A87-2*PI()*'Standing Wave'!$C$7*'Standing Wave'!$C$9)","v":-0.15236211563621066},{"$f":"'Standing Wave'!$C$2*SIN(((2*PI())/'Standing Wave'!$C$4)*A87+2*PI()*'Standing Wave'!$C$8*'Standing Wave'!$C$9)","v":-0.17677669529663628},-0.32913881093284691]
[{"$f":"SUM(A87)+'Standing Wave'!$C$5","v":0.86000000000000054},{"$f":"'Standing Wave'!$C$1*SIN(((2*PI())/'Standing Wave'!$C$3)*A88-2*PI()*'Standing Wave'!$C$7*'Standing Wave'!$C$9)","v":-0.1471868866176741},{"$f":"'Standing Wave'!$C$2*SIN(((2*PI())/'Standing Wave'!$C$4)*A88+2*PI()*'Standing Wave'!$C$8*'Standing Wave'!$C$9)","v":-0.1653279663309124},-0.3125148529485865]
[{"$f":"SUM(A88)+'Standing Wave'!$C$5","v":0.87000000000000055},{"$f":"'Standing Wave'!$C$1*SIN(((2*PI())/'Standing Wave'!$C$3)*A89-2*PI()*'Standing Wave'!$C$7*'Standing Wave'!$C$9)","v":-0.14143077820094974},{"$f":"'Standing Wave'!$C$2*SIN(((2*PI())/'Standing Wave'!$C$4)*A89+2*PI()*'Standing Wave'!$C$8*'Standing Wave'!$C$9)","v":-0.15322676341324343},-0.29465754161419316]
[{"$f":"SUM(A89)+'Standing Wave'!$C$5","v":0.88000000000000056},{"$f":"'Standing Wave'!$C$1*SIN(((2*PI())/'Standing Wave'!$C$3)*A90-2*PI()*'Standing Wave'!$C$7*'Standing Wave'!$C$9)","v":-0.13511650711624273},{"$f":"'Standing Wave'!$C$2*SIN(((2*PI())/'Standing Wave'!$C$4)*A90+2*PI()*'Standing Wave'!$C$8*'Standing Wave'!$C$9)","v":-0.14052084446303201},-0.27563735157927471]
[{"$f":"SUM(A90)+'Standing Wave'!$C$5","v":0.89000000000000057},{"$f":"'Standing Wave'!$C$1*SIN(((2*PI())/'Standing Wave'!$C$3)*A91-2*PI()*'Standing Wave'!$C$7*'Standing Wave'!$C$9)","v":-0.12826899290680818},{"$f":"'Standing Wave'!$C$2*SIN(((2*PI())/'Standing Wave'!$C$4)*A91+2*PI()*'Standing Wave'!$C$8*'Standing Wave'!$C$9)","v":-0.12726035393759202},-0.25552934684440021]
[{"$f":"SUM(A91)+'Standing Wave'!$C$5","v":0.90000000000000058},{"$f":"'Standing Wave'!$C$1*SIN(((2*PI())/'Standing Wave'!$C$3)*A92-2*PI()*'Standing Wave'!$C$7*'Standing Wave'!$C$9)","v":-0.12091525958289923},{"$f":"'Standing Wave'!$C$2*SIN(((2*PI())/'Standing Wave'!$C$4)*A92+2*PI()*'Standing Wave'!$C$8*'Standing Wave'!$C$9)","v":-0.11349762493488595},-0.23441288451778519]
[{"$f":"SUM(A92)+'Standing Wave'!$C$5","v":0.91000000000000059},{"$f":"'Standing Wave'!$C$1*SIN(((2*PI())/'Standing Wave'!$C$3)*A93-2*PI()*'Standing Wave'!$C$7*'Standing Wave'!$C$9)","v":-0.11308432897034398},{"$f":"'Standing Wave'!$C$2*SIN(((2*PI())/'Standing Wave'!$C$4)*A93+2*PI()*'Standing Wave'!$C$8*'Standing Wave'!$C$9)","v":-9.9286972658694267E-2},-0.21237130162903825]
[{"$f":"SUM(A93)+'Standing Wave'!$C$5","v":0.9200000000000006},{"$f":"'Standing Wave'!$C$1*SIN(((2*PI())/'Standing Wave'!$C$3)*A94-2*PI()*'Standing Wave'!$C$7*'Standing Wave'!$C$9)","v":-0.10480710617465851},{"$f":"'Standing Wave'!$C$2*SIN(((2*PI())/'Standing Wave'!$C$4)*A94+2*PI()*'Standing Wave'!$C$8*'Standing Wave'!$C$9)","v":-8.4684480061322023E-2},-0.18949158623598053]
[{"$f":"SUM(A94)+'Standing Wave'!$C$5","v":0.9300000000000006},{"$f":"'Standing Wave'!$C$1*SIN(((2*PI())/'Standing Wave'!$C$3)*A95-2*PI()*'Standing Wave'!$C$7*'Standing Wave'!$C$9)","v":-9.6116257612713904E-2},{"$f":"'Standing Wave'!$C$2*SIN(((2*PI())/'Standing Wave'!$C$4)*A95+2*PI()*'Standing Wave'!$C$8*'Standing Wave'!$C$9)","v":-6.9747776509806556E-2},-0.16586403412252046]
[{"$f":"SUM(A95)+'Standing Wave'!$C$5","v":0.94000000000000061},{"$f":"'Standing Wave'!$C$1*SIN(((2*PI())/'Standing Wave'!$C$3)*A96-2*PI()*'Standing Wave'!$C$7*'Standing Wave'!$C$9)","v":-8.7046082093312951E-2},{"$f":"'Standing Wave'!$C$2*SIN(((2*PI())/'Standing Wave'!$C$4)*A96+2*PI()*'Standing Wave'!$C$8*'Standing Wave'!$C$9)","v":-5.4535810349134739E-2},-0.14158189244244768]
[{"$f":"SUM(A96)+'Standing Wave'!$C$5","v":0.95000000000000062},{"$f":"'Standing Wave'!$C$1*SIN(((2*PI())/'Standing Wave'!$C$3)*A97-2*PI()*'Standing Wave'!$C$7*'Standing Wave'!$C$9)","v":-7.7632375455461991E-2},{"$f":"'Standing Wave'!$C$2*SIN(((2*PI())/'Standing Wave'!$C$4)*A97+2*PI()*'Standing Wave'!$C$8*'Standing Wave'!$C$9)","v":-3.9108616260056898E-2},-0.11674099171551888]
[{"$f":"SUM(A97)+'Standing Wave'!$C$5","v":0.96000000000000063},{"$f":"'Standing Wave'!$C$1*SIN(((2*PI())/'Standing Wave'!$C$3)*A98-2*PI()*'Standing Wave'!$C$7*'Standing Wave'!$C$9)","v":-6.7912289298546882E-2},{"$f":"'Standing Wave'!$C$2*SIN(((2*PI())/'Standing Wave'!$C$4)*A98+2*PI()*'Standing Wave'!$C$8*'Standing Wave'!$C$9)","v":-2.3527078329627624E-2},-9.1439367628174506E-2]
[{"$f":"SUM(A98)+'Standing Wave'!$C$5","v":0.97000000000000064},{"$f":"'Standing Wave'!$C$1*SIN(((2*PI())/'Standing Wave'!$C$3)*A99-2*PI()*'Standing Wave'!$C$7*'Standing Wave'!$C$9)","v":-5.792418436194427E-2},{"$f":"'Standing Wave'!$C$2*SIN(((2*PI())/'Standing Wave'!$C$4)*A99+2*PI()*'Standing Wave'!$C$8*'Standing Wave'!$C$9)","v":-7.8526897695312022E-3},-6.5776874131475468E-2]
[{"$f":"SUM(A99)+'Standing Wave'!$C$5","v":0.98000000000000065},{"$f":"'Standing Wave'!$C$1*SIN(((2*PI())/'Standing Wave'!$C$3)*A100-2*PI()*'Standing Wave'!$C$7*'Standing Wave'!$C$9)","v":-4.7707479132707543E-2},{"$f":"'Standing Wave'!$C$2*SIN(((2*PI())/'Standing Wave'!$C$4)*A100+2*PI()*'Standing Wave'!$C$8*'Standing Wave'!$C$9)","v":7.8526897695330774E-3},-3.9854789363174464E-2]
[{"$f":"SUM(A100)+'Standing Wave'!$C$5","v":0.99000000000000066},{"$f":"'Standing Wave'!$C$1*SIN(((2*PI())/'Standing Wave'!$C$3)*A101-2*PI()*'Standing Wave'!$C$7*'Standing Wave'!$C$9)","v":-3.7302494278808163E-2},{"$f":"'Standing Wave'!$C$2*SIN(((2*PI())/'Standing Wave'!$C$4)*A101+2*PI()*'Standing Wave'!$C$8*'Standing Wave'!$C$9)","v":2.352707832962949E-2},-1.3775415949178672E-2]
[{"$f":"SUM(A101)+'Standing Wave'!$C$5","v":1.0000000000000007},{"$f":"'Standing Wave'!$C$1*SIN(((2*PI())/'Standing Wave'!$C$3)*A102-2*PI()*'Standing Wave'!$C$7*'Standing Wave'!$C$9)","v":-2.6750293521878767E-2},{"$f":"'Standing Wave'!$C$2*SIN(((2*PI())/'Standing Wave'!$C$4)*A102+2*PI()*'Standing Wave'!$C$8*'Standing Wave'!$C$9)","v":3.9108616260058751E-2},1.2358322738179984E-2]
[{"$f":"SUM(A102)+'Standing Wave'!$C$5","v":1.0100000000000007},{"$f":"'Standing Wave'!$C$1*SIN(((2*PI())/'Standing Wave'!$C$3)*A103-2*PI()*'Standing Wave'!$C$7*'Standing Wave'!$C$9)","v":-1.6092521577465296E-2},{"$f":"'Standing Wave'!$C$2*SIN(((2*PI())/'Standing Wave'!$C$4)*A103+2*PI()*'Standing Wave'!$C$8*'Standing Wave'!$C$9)","v":5.4535810349136571E-2},3.8443288771671275E-2]
[{"$f":"SUM(A103)+'Standing Wave'!$C$5","v":1.0200000000000007},{"$f":"'Standing Wave'!$C$1*SIN(((2*PI())/'Standing Wave'!$C$3)*A104-2*PI()*'Standing Wave'!$C$7*'Standing Wave'!$C$9)","v":-5.3712398023591911E-3},{"$f":"'Standing Wave'!$C$2*SIN(((2*PI())/'Standing Wave'!$C$4)*A104+2*PI()*'Standing Wave'!$C$8*'Standing Wave'!$C$9)","v":6.974777650980836E-2},6.4376536707449167E-2]
[{"$f":"SUM(A104)+'Standing Wave'!$C$5","v":1.0300000000000007},{"$f":"'Standing Wave'!$C$1*SIN(((2*PI())/'Standing Wave'!$C$3)*A105-2*PI()*'Standing Wave'!$C$7*'Standing Wave'!$C$9)","v":5.3712398023606257E-3},{"$f":"'Standing Wave'!$C$2*SIN(((2*PI())/'Standing Wave'!$C$4)*A105+2*PI()*'Standing Wave'!$C$8*'Standing Wave'!$C$9)","v":8.4684480061323786E-2},9.0055719863684408E-2]
[{"$f":"SUM(A105)+'Standing Wave'!$C$5","v":1.0400000000000007},{"$f":"'Standing Wave'!$C$1*SIN(((2*PI())/'Standing Wave'!$C$3)*A106-2*PI()*'Standing Wave'!$C$7*'Standing Wave'!$C$9)","v":1.6092521577466726E-2},{"$f":"'Standing Wave'!$C$2*SIN(((2*PI())/'Standing Wave'!$C$4)*A106+2*PI()*'Standing Wave'!$C$8*'Standing Wave'!$C$9)","v":9.9286972658696196E-2},0.11537949423616292]
[{"$f":"SUM(A106)+'Standing Wave'!$C$5","v":1.0500000000000007},{"$f":"'Standing Wave'!$C$1*SIN(((2*PI())/'Standing Wave'!$C$3)*A107-2*PI()*'Standing Wave'!$C$7*'Standing Wave'!$C$9)","v":2.6750293521880186E-2},{"$f":"'Standing Wave'!$C$2*SIN(((2*PI())/'Standing Wave'!$C$4)*A107+2*PI()*'Standing Wave'!$C$8*'Standing Wave'!$C$9)","v":0.11349762493488763},0.14024791845676782]
[{"$f":"SUM(A107)+'Standing Wave'!$C$5","v":1.0600000000000007},{"$f":"'Standing Wave'!$C$1*SIN(((2*PI())/'Standing Wave'!$C$3)*A108-2*PI()*'Standing Wave'!$C$7*'Standing Wave'!$C$9)","v":3.7302494278809419E-2},{"$f":"'Standing Wave'!$C$2*SIN(((2*PI())/'Standing Wave'!$C$4)*A108+2*PI()*'Standing Wave'!$C$8*'Standing Wave'!$C$9)","v":0.12726035393759363},0.16456284821640305]
[{"$f":"SUM(A108)+'Standing Wave'!$C$5","v":1.0700000000000007},{"$f":"'Standing Wave'!$C$1*SIN(((2*PI())/'Standing Wave'!$C$3)*A109-2*PI()*'Standing Wave'!$C$7*'Standing Wave'!$C$9)","v":4.7707479132708924E-2},{"$f":"'Standing Wave'!$C$2*SIN(((2*PI())/'Standing Wave'!$C$4)*A109+2*PI()*'Standing Wave'!$C$8*'Standing Wave'!$C$9)","v":0.14052084446303356},0.18822832359574249]
[{"$f":"SUM(A109)+'Standing Wave'!$C$5","v":1.0800000000000007},{"$f":"'Standing Wave'!$C$1*SIN(((2*PI())/'Standing Wave'!$C$3)*A110-2*PI()*'Standing Wave'!$C$7*'Standing Wave'!$C$9)","v":5.7924184361945477E-2},{"$f":"'Standing Wave'!$C$2*SIN(((2*PI())/'Standing Wave'!$C$4)*A110+2*PI()*'Standing Wave'!$C$8*'Standing Wave'!$C$9)","v":0.1532267634132449},0.21115094777519039]
[{"$f":"SUM(A110)+'Standing Wave'!$C$5","v":1.0900000000000007},{"$f":"'Standing Wave'!$C$1*SIN(((2*PI())/'Standing Wave'!$C$3)*A111-2*PI()*'Standing Wave'!$C$7*'Standing Wave'!$C$9)","v":6.7912289298548201E-2},{"$f":"'Standing Wave'!$C$2*SIN(((2*PI())/'Standing Wave'!$C$4)*A111+2*PI()*'Standing Wave'!$C$8*'Standing Wave'!$C$9)","v":0.16532796633091382},0.23324025562946202]
[{"$f":"SUM(A111)+'Standing Wave'!$C$5","v":1.1000000000000008},{"$f":"'Standing Wave'!$C$1*SIN(((2*PI())/'Standing Wave'!$C$3)*A112-2*PI()*'Standing Wave'!$C$7*'Standing Wave'!$C$9)","v":7.7632375455463143E-2},{"$f":"'Standing Wave'!$C$2*SIN(((2*PI())/'Standing Wave'!$C$4)*A112+2*PI()*'Standing Wave'!$C$8*'Standing Wave'!$C$9)","v":0.17677669529663761},0.25440907075210073]
[{"$f":"SUM(A112)+'Standing Wave'!$C$5","v":1.1100000000000008},{"$f":"'Standing Wave'!$C$1*SIN(((2*PI())/'Standing Wave'!$C$3)*A113-2*PI()*'Standing Wave'!$C$7*'Standing Wave'!$C$9)","v":8.7046082093314187E-2},{"$f":"'Standing Wave'!$C$2*SIN(((2*PI())/'Standing Wave'!$C$4)*A113+2*PI()*'Standing Wave'!$C$8*'Standing Wave'!$C$9)","v":0.18752776740761568},0.27457384950092989]
[{"$f":"SUM(A113)+'Standing Wave'!$C$5","v":1.1200000000000008},{"$f":"'Standing Wave'!$C$1*SIN(((2*PI())/'Standing Wave'!$C$3)*A114-2*PI()*'Standing Wave'!$C$7*'Standing Wave'!$C$9)","v":9.6116257612714959E-2},{"$f":"'Standing Wave'!$C$2*SIN(((2*PI())/'Standing Wave'!$C$4)*A114+2*PI()*'Standing Wave'!$C$8*'Standing Wave'!$C$9)","v":0.19753875309392327},0.29365501070663824]
[{"$f":"SUM(A114)+'Standing Wave'!$C$5","v":1.1300000000000008},{"$f":"'Standing Wave'!$C$1*SIN(((2*PI())/'Standing Wave'!$C$3)*A115-2*PI()*'Standing Wave'!$C$7*'Standing Wave'!$C$9)","v":0.10480710617465964},{"$f":"'Standing Wave'!$C$2*SIN(((2*PI())/'Standing Wave'!$C$4)*A115+2*PI()*'Standing Wave'!$C$8*'Standing Wave'!$C$9)","v":0.20677014356864115},0.31157724974330081]
[{"$f":"SUM(A115)+'Standing Wave'!$C$5","v":1.1400000000000008},{"$f":"'Standing Wave'!$C$1*SIN(((2*PI())/'Standing Wave'!$C$3)*A116-2*PI()*'Standing Wave'!$C$7*'Standing Wave'!$C$9)","v":0.11308432897034507},{"$f":"'Standing Wave'!$C$2*SIN(((2*PI())/'Standing Wave'!$C$4)*A116+2*PI()*'Standing Wave'!$C$8*'Standing Wave'!$C$9)","v":0.21518550675098649},0.32826983572133156]
[{"$f":"SUM(A116)+'Standing Wave'!$C$5","v":1.1500000000000008},{"$f":"'Standing Wave'!$C$1*SIN(((2*PI())/'Standing Wave'!$C$3)*A117-2*PI()*'Standing Wave'!$C$7*'Standing Wave'!$C$9)","v":0.12091525958290025},{"$f":"'Standing Wave'!$C$2*SIN(((2*PI())/'Standing Wave'!$C$4)*A117+2*PI()*'Standing Wave'!$C$8*'Standing Wave'!$C$9)","v":0.22275163104709253},0.34366689062999278]
[{"$f":"SUM(A117)+'Standing Wave'!$C$5","v":1.1600000000000008},{"$f":"'Standing Wave'!$C$1*SIN(((2*PI())/'Standing Wave'!$C$3)*A118-2*PI()*'Standing Wave'!$C$7*'Standing Wave'!$C$9)","v":0.12826899290680913},{"$f":"'Standing Wave'!$C$2*SIN(((2*PI())/'Standing Wave'!$C$4)*A118+2*PI()*'Standing Wave'!$C$8*'Standing Wave'!$C$9)","v":0.22943865642099576},0.35770764932780486]
[{"$f":"SUM(A118)+'Standing Wave'!$C$5","v":1.1700000000000008},{"$f":"'Standing Wave'!$C$1*SIN(((2*PI())/'Standing Wave'!$C$3)*A119-2*PI()*'Standing Wave'!$C$7*'Standing Wave'!$C$9)","v":0.13511650711624359},{"$f":"'Standing Wave'!$C$2*SIN(((2*PI())/'Standing Wave'!$C$4)*A119+2*PI()*'Standing Wave'!$C$8*'Standing Wave'!$C$9)","v":0.23522019223855681},0.3703366993548004]
[{"$f":"SUM(A119)+'Standing Wave'!$C$5","v":1.1800000000000008},{"$f":"'Standing Wave'!$C$1*SIN(((2*PI())/'Standing Wave'!$C$3)*A120-2*PI()*'Standing Wave'!$C$7*'Standing Wave'!$C$9)","v":0.14143077820095057},{"$f":"'Standing Wave'!$C$2*SIN(((2*PI())/'Standing Wave'!$C$4)*A120+2*PI()*'Standing Wave'!$C$8*'Standing Wave'!$C$9)","v":0.2400734214192361},0.38150419962018667]
[{"$f":"SUM(A120)+'Standing Wave'!$C$5","v":1.1900000000000008},{"$f":"'Standing Wave'!$C$1*SIN(((2*PI())/'Standing Wave'!$C$3)*A121-2*PI()*'Standing Wave'!$C$7*'Standing Wave'!$C$9)","v":0.14718688661767484},{"$f":"'Standing Wave'!$C$2*SIN(((2*PI())/'Standing Wave'!$C$4)*A121+2*PI()*'Standing Wave'!$C$8*'Standing Wave'!$C$9)","v":0.24397919048468714},0.39116607710236195]
[{"$f":"SUM(A121)+'Standing Wave'!$C$5","v":1.2000000000000008},{"$f":"'Standing Wave'!$C$1*SIN(((2*PI())/'Standing Wave'!$C$3)*A122-2*PI()*'Standing Wave'!$C$7*'Standing Wave'!$C$9)","v":0.1523621156362113},{"$f":"'Standing Wave'!$C$2*SIN(((2*PI())/'Standing Wave'!$C$4)*A122+2*PI()*'Standing Wave'!$C$8*'Standing Wave'!$C$9)","v":0.24692208514878464},0.39928420078499594]
[{"$f":"SUM(A122)+'Standing Wave'!$C$5","v":1.2100000000000009},{"$f":"'Standing Wave'!$C$1*SIN(((2*PI())/'Standing Wave'!$C$3)*A123-2*PI()*'Standing Wave'!$C$7*'Standing Wave'!$C$9)","v":0.15693604099196112},{"$f":"'Standing Wave'!$C$2*SIN(((2*PI())/'Standing Wave'!$C$4)*A123+2*PI()*'Standing Wave'!$C$8*'Standing Wave'!$C$9)","v":0.24889049115077011},0.40582653214273123]
[{"$f":"SUM(A123)+'Standing Wave'!$C$5","v":1.2200000000000009},{"$f":"'Standing Wave'!$C$1*SIN(((2*PI())/'Standing Wave'!$C$3)*A124-2*PI()*'Standing Wave'!$C$7*'Standing Wave'!$C$9)","v":0.16089061149117287},{"$f":"'Standing Wave'!$C$2*SIN(((2*PI())/'Standing Wave'!$C$4)*A124+2*PI()*'Standing Wave'!$C$8*'Standing Wave'!$C$9)","v":0.24987664009143293},0.4107672515826058]
[{"$f":"SUM(A124)+'Standing Wave'!$C$5","v":1.2300000000000009},{"$f":"'Standing Wave'!$C$1*SIN(((2*PI())/'Standing Wave'!$C$3)*A125-2*PI()*'Standing Wave'!$C$7*'Standing Wave'!$C$9)","v":0.16421022025075752},{"$f":"'Standing Wave'!$C$2*SIN(((2*PI())/'Standing Wave'!$C$4)*A125+2*PI()*'Standing Wave'!$C$8*'Standing Wave'!$C$9)","v":0.24987664009143284},0.41408686034219033]
[{"$f":"SUM(A125)+'Standing Wave'!$C$5","v":1.2400000000000009},{"$f":"'Standing Wave'!$C$1*SIN(((2*PI())/'Standing Wave'!$C$3)*A126-2*PI()*'Standing Wave'!$C$7*'Standing Wave'!$C$9)","v":0.16688176629152601},{"$f":"'Standing Wave'!$C$2*SIN(((2*PI())/'Standing Wave'!$C$4)*A126+2*PI()*'Standing Wave'!$C$8*'Standing Wave'!$C$9)","v":0.24889049115076989},0.4157722574422959]
[{"$f":"SUM(A126)+'Standing Wave'!$C$5","v":1.2500000000000009},{"$f":"'Standing Wave'!$C$1*SIN(((2*PI())/'Standing Wave'!$C$3)*A127-2*PI()*'Standing Wave'!$C$7*'Standing Wave'!$C$9)","v":0.16889470624176869},{"$f":"'Standing Wave'!$C$2*SIN(((2*PI())/'Standing Wave'!$C$4)*A127+2*PI()*'Standing Wave'!$C$8*'Standing Wave'!$C$9)","v":0.24692208514878419},0.41581679139055289]
[{"$f":"SUM(A127)+'Standing Wave'!$C$5","v":1.2600000000000009},{"$f":"'Standing Wave'!$C$1*SIN(((2*PI())/'Standing Wave'!$C$3)*A128-2*PI()*'Standing Wave'!$C$7*'Standing Wave'!$C$9)","v":0.17024109594712677},{"$f":"'Standing Wave'!$C$2*SIN(((2*PI())/'Standing Wave'!$C$4)*A128+2*PI()*'Standing Wave'!$C$8*'Standing Wave'!$C$9)","v":0.24397919048468655},0.4142202864318133]
[{"$f":"SUM(A128)+'Standing Wave'!$C$5","v":1.2700000000000009},{"$f":"'Standing Wave'!$C$1*SIN(((2*PI())/'Standing Wave'!$C$3)*A129-2*PI()*'Standing Wave'!$C$7*'Standing Wave'!$C$9)","v":0.17091562182254014},{"$f":"'Standing Wave'!$C$2*SIN(((2*PI())/'Standing Wave'!$C$4)*A129+2*PI()*'Standing Wave'!$C$8*'Standing Wave'!$C$9)","v":0.24007342141923541},0.41098904324177554]
[{"$f":"SUM(A129)+'Standing Wave'!$C$5","v":1.2800000000000009},{"$f":"'Standing Wave'!$C$1*SIN(((2*PI())/'Standing Wave'!$C$3)*A130-2*PI()*'Standing Wave'!$C$7*'Standing Wave'!$C$9)","v":0.17091562182254008},{"$f":"'Standing Wave'!$C$2*SIN(((2*PI())/'Standing Wave'!$C$4)*A130+2*PI()*'Standing Wave'!$C$8*'Standing Wave'!$C$9)","v":0.23522019223855595},0.406135814061096]
[{"$f":"SUM(A130)+'Standing Wave'!$C$5","v":1.2900000000000009},{"$f":"'Standing Wave'!$C$1*SIN(((2*PI())/'Standing Wave'!$C$3)*A131-2*PI()*'Standing Wave'!$C$7*'Standing Wave'!$C$9)","v":0.17024109594712661},{"$f":"'Standing Wave'!$C$2*SIN(((2*PI())/'Standing Wave'!$C$4)*A131+2*PI()*'Standing Wave'!$C$8*'Standing Wave'!$C$9)","v":0.22943865642099484},0.39967975236812148]
[{"$f":"SUM(A131)+'Standing Wave'!$C$5","v":1.3000000000000009},{"$f":"'Standing Wave'!$C$1*SIN(((2*PI())/'Standing Wave'!$C$3)*A132-2*PI()*'Standing Wave'!$C$7*'Standing Wave'!$C$9)","v":0.16889470624176839},{"$f":"'Standing Wave'!$C$2*SIN(((2*PI())/'Standing Wave'!$C$4)*A132+2*PI()*'Standing Wave'!$C$8*'Standing Wave'!$C$9)","v":0.2227516310470915},0.39164633728885989]
[{"$f":"SUM(A132)+'Standing Wave'!$C$5","v":1.3100000000000009},{"$f":"'Standing Wave'!$C$1*SIN(((2*PI())/'Standing Wave'!$C$3)*A133-2*PI()*'Standing Wave'!$C$7*'Standing Wave'!$C$9)","v":0.16688176629152562},{"$f":"'Standing Wave'!$C$2*SIN(((2*PI())/'Standing Wave'!$C$4)*A133+2*PI()*'Standing Wave'!$C$8*'Standing Wave'!$C$9)","v":0.21518550675098497},{"$f":"B133+C133","v":0.38206727304251059}]
[{"$f":"SUM(A133)+'Standing Wave'!$C$5","v":1.320000000000001},{"$f":"'Standing Wave'!$C$1*SIN(((2*PI())/'Standing Wave'!$C$3)*A134-2*PI()*'Standing Wave'!$C$7*'Standing Wave'!$C$9)","v":0.16421022025075702},{"$f":"'Standing Wave'!$C$2*SIN(((2*PI())/'Standing Wave'!$C$4)*A134+2*PI()*'Standing Wave'!$C$8*'Standing Wave'!$C$9)","v":0.20677014356863949},0.37098036381939647]
[{"$f":"SUM(A134)+'Standing Wave'!$C$5","v":1.330000000000001},{"$f":"'Standing Wave'!$C$1*SIN(((2*PI())/'Standing Wave'!$C$3)*A135-2*PI()*'Standing Wave'!$C$7*'Standing Wave'!$C$9)","v":0.16089061149117229},{"$f":"'Standing Wave'!$C$2*SIN(((2*PI())/'Standing Wave'!$C$4)*A135+2*PI()*'Standing Wave'!$C$8*'Standing Wave'!$C$9)","v":0.19753875309392158},0.35842936458509389]
[{"$f":"SUM(A135)+'Standing Wave'!$C$5","v":1.340000000000001},{"$f":"'Standing Wave'!$C$1*SIN(((2*PI())/'Standing Wave'!$C$3)*A136-2*PI()*'Standing Wave'!$C$7*'Standing Wave'!$C$9)","v":0.15693604099196048},{"$f":"'Standing Wave'!$C$2*SIN(((2*PI())/'Standing Wave'!$C$4)*A136+2*PI()*'Standing Wave'!$C$8*'Standing Wave'!$C$9)","v":0.18752776740761384},0.34446380839957436]
[{"$f":"SUM(A136)+'Standing Wave'!$C$5","v":1.350000000000001},{"$f":"'Standing Wave'!$C$1*SIN(((2*PI())/'Standing Wave'!$C$3)*A137-2*PI()*'Standing Wave'!$C$7*'Standing Wave'!$C$9)","v":0.1523621156362106},{"$f":"'Standing Wave'!$C$2*SIN(((2*PI())/'Standing Wave'!$C$4)*A137+2*PI()*'Standing Wave'!$C$8*'Standing Wave'!$C$9)","v":0.17677669529663584},0.32913881093284647]
[{"$f":"SUM(A137)+'Standing Wave'!$C$5","v":1.360000000000001},{"$f":"'Standing Wave'!$C$1*SIN(((2*PI())/'Standing Wave'!$C$3)*A138-2*PI()*'Standing Wave'!$C$7*'Standing Wave'!$C$9)","v":0.14718688661767373},{"$f":"'Standing Wave'!$C$2*SIN(((2*PI())/'Standing Wave'!$C$4)*A138+2*PI()*'Standing Wave'!$C$8*'Standing Wave'!$C$9)","v":0.16532796633091193},0.31251485294858566]
[{"$f":"SUM(A138)+'Standing Wave'!$C$5","v":1.370000000000001},{"$f":"'Standing Wave'!$C$1*SIN(((2*PI())/'Standing Wave'!$C$3)*A139-2*PI()*'Standing Wave'!$C$7*'Standing Wave'!$C$9)","v":0.14143077820094943},{"$f":"'Standing Wave'!$C$2*SIN(((2*PI())/'Standing Wave'!$C$4)*A139+2*PI()*'Standing Wave'!$C$8*'Standing Wave'!$C$9)","v":0.15322676341324309},0.29465754161419255]
[{"$f":"SUM(A139)+'Standing Wave'!$C$5","v":1.380000000000001},{"$f":"'Standing Wave'!$C$1*SIN(((2*PI())/'Standing Wave'!$C$3)*A140-2*PI()*'Standing Wave'!$C$7*'Standing Wave'!$C$9)","v":0.13511650711624237},{"$f":"'Standing Wave'!$C$2*SIN(((2*PI())/'Standing Wave'!$C$4)*A140+2*PI()*'Standing Wave'!$C$8*'Standing Wave'!$C$9)","v":0.14052084446303165},0.27563735157927405]
[{"$f":"SUM(A140)+'Standing Wave'!$C$5","v":1.390000000000001},{"$f":"'Standing Wave'!$C$1*SIN(((2*PI())/'Standing Wave'!$C$3)*A141-2*PI()*'Standing Wave'!$C$7*'Standing Wave'!$C$9)","v":0.12826899290680788},{"$f":"'Standing Wave'!$C$2*SIN(((2*PI())/'Standing Wave'!$C$4)*A141+2*PI()*'Standing Wave'!$C$8*'Standing Wave'!$C$9)","v":0.12726035393759186},0.25552934684439976]
[{"$f":"SUM(A141)+'Standing Wave'!$C$5","v":1.400000000000001},{"$f":"'Standing Wave'!$C$1*SIN(((2*PI())/'Standing Wave'!$C$3)*A142-2*PI()*'Standing Wave'!$C$7*'Standing Wave'!$C$9)","v":0.12091525958289892},{"$f":"'Standing Wave'!$C$2*SIN(((2*PI())/'Standing Wave'!$C$4)*A142+2*PI()*'Standing Wave'!$C$8*'Standing Wave'!$C$9)","v":0.11349762493488499},0.23441288451778391]
[{"$f":"SUM(A142)+'Standing Wave'!$C$5","v":1.410000000000001},{"$f":"'Standing Wave'!$C$1*SIN(((2*PI())/'Standing Wave'!$C$3)*A143-2*PI()*'Standing Wave'!$C$7*'Standing Wave'!$C$9)","v":0.11308432897034378},{"$f":"'Standing Wave'!$C$2*SIN(((2*PI())/'Standing Wave'!$C$4)*A143+2*PI()*'Standing Wave'!$C$8*'Standing Wave'!$C$9)","v":9.9286972658693476E-2},0.21237130162903725]
[{"$f":"SUM(A143)+'Standing Wave'!$C$5","v":1.420000000000001},{"$f":"'Standing Wave'!$C$1*SIN(((2*PI())/'Standing Wave'!$C$3)*A144-2*PI()*'Standing Wave'!$C$7*'Standing Wave'!$C$9)","v":0.10480710617465828},{"$f":"'Standing Wave'!$C$2*SIN(((2*PI())/'Standing Wave'!$C$4)*A144+2*PI()*'Standing Wave'!$C$8*'Standing Wave'!$C$9)","v":8.4684480061321218E-2},0.1894915862359795]
[{"$f":"SUM(A144)+'Standing Wave'!$C$5","v":1.430000000000001},{"$f":"'Standing Wave'!$C$1*SIN(((2*PI())/'Standing Wave'!$C$3)*A145-2*PI()*'Standing Wave'!$C$7*'Standing Wave'!$C$9)","v":9.6116257612713654E-2},{"$f":"'Standing Wave'!$C$2*SIN(((2*PI())/'Standing Wave'!$C$4)*A145+2*PI()*'Standing Wave'!$C$8*'Standing Wave'!$C$9)","v":6.9747776509805737E-2},0.16586403412251938]
[{"$f":"SUM(A145)+'Standing Wave'!$C$5","v":1.4400000000000011},{"$f":"'Standing Wave'!$C$1*SIN(((2*PI())/'Standing Wave'!$C$3)*A146-2*PI()*'Standing Wave'!$C$7*'Standing Wave'!$C$9)","v":8.7046082093312327E-2},{"$f":"'Standing Wave'!$C$2*SIN(((2*PI())/'Standing Wave'!$C$4)*A146+2*PI()*'Standing Wave'!$C$8*'Standing Wave'!$C$9)","v":5.4535810349134121E-2},0.14158189244244646]
[{"$f":"SUM(A146)+'Standing Wave'!$C$5","v":1.4500000000000011},{"$f":"'Standing Wave'!$C$1*SIN(((2*PI())/'Standing Wave'!$C$3)*A147-2*PI()*'Standing Wave'!$C$7*'Standing Wave'!$C$9)","v":7.7632375455461339E-2},{"$f":"'Standing Wave'!$C$2*SIN(((2*PI())/'Standing Wave'!$C$4)*A147+2*PI()*'Standing Wave'!$C$8*'Standing Wave'!$C$9)","v":3.9108616260056274E-2},0.11674099171551761]
[{"$f":"SUM(A147)+'Standing Wave'!$C$5","v":1.4600000000000011},{"$f":"'Standing Wave'!$C$1*SIN(((2*PI())/'Standing Wave'!$C$3)*A148-2*PI()*'Standing Wave'!$C$7*'Standing Wave'!$C$9)","v":6.7912289298546341E-2},{"$f":"'Standing Wave'!$C$2*SIN(((2*PI())/'Standing Wave'!$C$4)*A148+2*PI()*'Standing Wave'!$C$8*'Standing Wave'!$C$9)","v":2.3527078329627211E-2},9.1439367628173548E-2]
[{"$f":"SUM(A148)+'Standing Wave'!$C$5","v":1.4700000000000011},{"$f":"'Standing Wave'!$C$1*SIN(((2*PI())/'Standing Wave'!$C$3)*A149-2*PI()*'Standing Wave'!$C$7*'Standing Wave'!$C$9)","v":5.7924184361943715E-2},{"$f":"'Standing Wave'!$C$2*SIN(((2*PI())/'Standing Wave'!$C$4)*A149+2*PI()*'Standing Wave'!$C$8*'Standing Wave'!$C$9)","v":7.8526897695307893E-3},6.5776874131474511E-2]
[{"$f":"SUM(A149)+'Standing Wave'!$C$5","v":1.4800000000000011},{"$f":"'Standing Wave'!$C$1*SIN(((2*PI())/'Standing Wave'!$C$3)*A150-2*PI()*'Standing Wave'!$C$7*'Standing Wave'!$C$9)","v":4.7707479132707127E-2},{"$f":"'Standing Wave'!$C$2*SIN(((2*PI())/'Standing Wave'!$C$4)*A150+2*PI()*'Standing Wave'!$C$8*'Standing Wave'!$C$9)","v":-7.8526897695332682E-3},3.9854789363173861E-2]
[{"$f":"SUM(A150)+'Standing Wave'!$C$5","v":1.4900000000000011},{"$f":"'Standing Wave'!$C$1*SIN(((2*PI())/'Standing Wave'!$C$3)*A151-2*PI()*'Standing Wave'!$C$7*'Standing Wave'!$C$9)","v":3.7302494278807739E-2},{"$f":"'Standing Wave'!$C$2*SIN(((2*PI())/'Standing Wave'!$C$4)*A151+2*PI()*'Standing Wave'!$C$8*'Standing Wave'!$C$9)","v":-2.3527078329630566E-2},1.3775415949177174E-2]
[{"$f":"SUM(A151)+'Standing Wave'!$C$5","v":1.5000000000000011},{"$f":"'Standing Wave'!$C$1*SIN(((2*PI())/'Standing Wave'!$C$3)*A152-2*PI()*'Standing Wave'!$C$7*'Standing Wave'!$C$9)","v":2.6750293521878493E-2},{"$f":"'Standing Wave'!$C$2*SIN(((2*PI())/'Standing Wave'!$C$4)*A152+2*PI()*'Standing Wave'!$C$8*'Standing Wave'!$C$9)","v":-3.9108616260059598E-2},-1.2358322738181104E-2]
[{"$f":"SUM(A152)+'Standing Wave'!$C$5","v":1.5100000000000011},{"$f":"'Standing Wave'!$C$1*SIN(((2*PI())/'Standing Wave'!$C$3)*A153-2*PI()*'Standing Wave'!$C$7*'Standing Wave'!$C$9)","v":1.6092521577465012E-2},{"$f":"'Standing Wave'!$C$2*SIN(((2*PI())/'Standing Wave'!$C$4)*A153+2*PI()*'Standing Wave'!$C$8*'Standing Wave'!$C$9)","v":-5.453581034913741E-2},-3.8443288771672399E-2]
[{"$f":"SUM(A153)+'Standing Wave'!$C$5","v":1.5200000000000011},{"$f":"'Standing Wave'!$C$1*SIN(((2*PI())/'Standing Wave'!$C$3)*A154-2*PI()*'Standing Wave'!$C$7*'Standing Wave'!$C$9)","v":5.3712398023590601E-3},{"$f":"'Standing Wave'!$C$2*SIN(((2*PI())/'Standing Wave'!$C$4)*A154+2*PI()*'Standing Wave'!$C$8*'Standing Wave'!$C$9)","v":-6.974777650980897E-2},-6.4376536707449916E-2]
[{"$f":"SUM(A154)+'Standing Wave'!$C$5","v":1.5300000000000011},{"$f":"'Standing Wave'!$C$1*SIN(((2*PI())/'Standing Wave'!$C$3)*A155-2*PI()*'Standing Wave'!$C$7*'Standing Wave'!$C$9)","v":-5.371239802361363E-3},{"$f":"'Standing Wave'!$C$2*SIN(((2*PI())/'Standing Wave'!$C$4)*A155+2*PI()*'Standing Wave'!$C$8*'Standing Wave'!$C$9)","v":-8.4684480061324383E-2},-9.005571986368574E-2]
[{"$f":"SUM(A155)+'Standing Wave'!$C$5","v":1.5400000000000011},{"$f":"'Standing Wave'!$C$1*SIN(((2*PI())/'Standing Wave'!$C$3)*A156-2*PI()*'Standing Wave'!$C$7*'Standing Wave'!$C$9)","v":-1.6092521577467309E-2},{"$f":"'Standing Wave'!$C$2*SIN(((2*PI())/'Standing Wave'!$C$4)*A156+2*PI()*'Standing Wave'!$C$8*'Standing Wave'!$C$9)","v":-9.9286972658696571E-2},-0.11537949423616388]
[{"$f":"SUM(A156)+'Standing Wave'!$C$5","v":1.5500000000000012},{"$f":"'Standing Wave'!$C$1*SIN(((2*PI())/'Standing Wave'!$C$3)*A157-2*PI()*'Standing Wave'!$C$7*'Standing Wave'!$C$9)","v":-2.6750293521880766E-2},{"$f":"'Standing Wave'!$C$2*SIN(((2*PI())/'Standing Wave'!$C$4)*A157+2*PI()*'Standing Wave'!$C$8*'Standing Wave'!$C$9)","v":-0.11349762493488799},-0.14024791845676876]
[{"$f":"SUM(A157)+'Standing Wave'!$C$5","v":1.5600000000000012},{"$f":"'Standing Wave'!$C$1*SIN(((2*PI())/'Standing Wave'!$C$3)*A158-2*PI()*'Standing Wave'!$C$7*'Standing Wave'!$C$9)","v":-3.7302494278809994E-2},{"$f":"'Standing Wave'!$C$2*SIN(((2*PI())/'Standing Wave'!$C$4)*A158+2*PI()*'Standing Wave'!$C$8*'Standing Wave'!$C$9)","v":-0.127260353937594},-0.16456284821640399]
[{"$f":"SUM(A158)+'Standing Wave'!$C$5","v":1.5700000000000012},{"$f":"'Standing Wave'!$C$1*SIN(((2*PI())/'Standing Wave'!$C$3)*A159-2*PI()*'Standing Wave'!$C$7*'Standing Wave'!$C$9)","v":-4.7707479132709341E-2},{"$f":"'Standing Wave'!$C$2*SIN(((2*PI())/'Standing Wave'!$C$4)*A159+2*PI()*'Standing Wave'!$C$8*'Standing Wave'!$C$9)","v":-0.14052084446303445},-0.18822832359574379]
[{"$f":"SUM(A159)+'Standing Wave'!$C$5","v":1.5800000000000012},{"$f":"'Standing Wave'!$C$1*SIN(((2*PI())/'Standing Wave'!$C$3)*A160-2*PI()*'Standing Wave'!$C$7*'Standing Wave'!$C$9)","v":-5.792418436194588E-2},{"$f":"'Standing Wave'!$C$2*SIN(((2*PI())/'Standing Wave'!$C$4)*A160+2*PI()*'Standing Wave'!$C$8*'Standing Wave'!$C$9)","v":-0.15322676341324576},-0.21115094777519164]
[{"$f":"SUM(A160)+'Standing Wave'!$C$5","v":1.5900000000000012},{"$f":"'Standing Wave'!$C$1*SIN(((2*PI())/'Standing Wave'!$C$3)*A161-2*PI()*'Standing Wave'!$C$7*'Standing Wave'!$C$9)","v":-6.7912289298548464E-2},{"$f":"'Standing Wave'!$C$2*SIN(((2*PI())/'Standing Wave'!$C$4)*A161+2*PI()*'Standing Wave'!$C$8*'Standing Wave'!$C$9)","v":-0.16532796633091446},-0.23324025562946293]
[{"$f":"SUM(A161)+'Standing Wave'!$C$5","v":1.6000000000000012},{"$f":"'Standing Wave'!$C$1*SIN(((2*PI())/'Standing Wave'!$C$3)*A162-2*PI()*'Standing Wave'!$C$7*'Standing Wave'!$C$9)","v":-7.7632375455463393E-2},{"$f":"'Standing Wave'!$C$2*SIN(((2*PI())/'Standing Wave'!$C$4)*A162+2*PI()*'Standing Wave'!$C$8*'Standing Wave'!$C$9)","v":-0.17677669529663823},-0.25440907075210162]
[{"$f":"SUM(A162)+'Standing Wave'!$C$5","v":1.6100000000000012},{"$f":"'Standing Wave'!$C$1*SIN(((2*PI())/'Standing Wave'!$C$3)*A163-2*PI()*'Standing Wave'!$C$7*'Standing Wave'!$C$9)","v":-8.7046082093314298E-2},{"$f":"'Standing Wave'!$C$2*SIN(((2*PI())/'Standing Wave'!$C$4)*A163+2*PI()*'Standing Wave'!$C$8*'Standing Wave'!$C$9)","v":-0.18752776740761609},-0.27457384950093039]
[{"$f":"SUM(A163)+'Standing Wave'!$C$5","v":1.6200000000000012},{"$f":"'Standing Wave'!$C$1*SIN(((2*PI())/'Standing Wave'!$C$3)*A164-2*PI()*'Standing Wave'!$C$7*'Standing Wave'!$C$9)","v":-9.6116257612715569E-2},{"$f":"'Standing Wave'!$C$2*SIN(((2*PI())/'Standing Wave'!$C$4)*A164+2*PI()*'Standing Wave'!$C$8*'Standing Wave'!$C$9)","v":-0.19753875309392366},-0.29365501070663924]
[{"$f":"SUM(A164)+'Standing Wave'!$C$5","v":1.6300000000000012},{"$f":"'Standing Wave'!$C$1*SIN(((2*PI())/'Standing Wave'!$C$3)*A165-2*PI()*'Standing Wave'!$C$7*'Standing Wave'!$C$9)","v":-0.1048071061746601},{"$f":"'Standing Wave'!$C$2*SIN(((2*PI())/'Standing Wave'!$C$4)*A165+2*PI()*'Standing Wave'!$C$8*'Standing Wave'!$C$9)","v":-0.20677014356864137},-0.31157724974330148]
[{"$f":"SUM(A165)+'Standing Wave'!$C$5","v":1.6400000000000012},{"$f":"'Standing Wave'!$C$1*SIN(((2*PI())/'Standing Wave'!$C$3)*A166-2*PI()*'Standing Wave'!$C$7*'Standing Wave'!$C$9)","v":-0.1130843289703455},{"$f":"'Standing Wave'!$C$2*SIN(((2*PI())/'Standing Wave'!$C$4)*A166+2*PI()*'Standing Wave'!$C$8*'Standing Wave'!$C$9)","v":-0.21518550675098669},-0.32826983572133217]
[{"$f":"SUM(A166)+'Standing Wave'!$C$5","v":1.6500000000000012},{"$f":"'Standing Wave'!$C$1*SIN(((2*PI())/'Standing Wave'!$C$3)*A167-2*PI()*'Standing Wave'!$C$7*'Standing Wave'!$C$9)","v":-0.12091525958290056},{"$f":"'Standing Wave'!$C$2*SIN(((2*PI())/'Standing Wave'!$C$4)*A167+2*PI()*'Standing Wave'!$C$8*'Standing Wave'!$C$9)","v":-0.22275163104709261},-0.34366689062999317]
[{"$f":"SUM(A167)+'Standing Wave'!$C$5","v":1.6600000000000013},{"$f":"'Standing Wave'!$C$1*SIN(((2*PI())/'Standing Wave'!$C$3)*A168-2*PI()*'Standing Wave'!$C$7*'Standing Wave'!$C$9)","v":-0.1282689929068094},{"$f":"'Standing Wave'!$C$2*SIN(((2*PI())/'Standing Wave'!$C$4)*A168+2*PI()*'Standing Wave'!$C$8*'Standing Wave'!$C$9)","v":-0.22943865642099617},-0.35770764932780558]
[{"$f":"SUM(A168)+'Standing Wave'!$C$5","v":1.6700000000000013},{"$f":"'Standing Wave'!$C$1*SIN(((2*PI())/'Standing Wave'!$C$3)*A169-2*PI()*'Standing Wave'!$C$7*'Standing Wave'!$C$9)","v":-0.13511650711624379},{"$f":"'Standing Wave'!$C$2*SIN(((2*PI())/'Standing Wave'!$C$4)*A169+2*PI()*'Standing Wave'!$C$8*'Standing Wave'!$C$9)","v":-0.23522019223855711},-0.3703366993548009]
[{"$f":"SUM(A169)+'Standing Wave'!$C$5","v":1.6800000000000013},{"$f":"'Standing Wave'!$C$1*SIN(((2*PI())/'Standing Wave'!$C$3)*A170-2*PI()*'Standing Wave'!$C$7*'Standing Wave'!$C$9)","v":-0.14143077820095071},{"$f":"'Standing Wave'!$C$2*SIN(((2*PI())/'Standing Wave'!$C$4)*A170+2*PI()*'Standing Wave'!$C$8*'Standing Wave'!$C$9)","v":-0.24007342141923635},-0.38150419962018706]
[{"$f":"SUM(A170)+'Standing Wave'!$C$5","v":1.6900000000000013},{"$f":"'Standing Wave'!$C$1*SIN(((2*PI())/'Standing Wave'!$C$3)*A171-2*PI()*'Standing Wave'!$C$7*'Standing Wave'!$C$9)","v":-0.1471868866176749},{"$f":"'Standing Wave'!$C$2*SIN(((2*PI())/'Standing Wave'!$C$4)*A171+2*PI()*'Standing Wave'!$C$8*'Standing Wave'!$C$9)","v":-0.24397919048468727},-0.39116607710236218]
[{"$f":"SUM(A171)+'Standing Wave'!$C$5","v":1.7000000000000013},{"$f":"'Standing Wave'!$C$1*SIN(((2*PI())/'Standing Wave'!$C$3)*A172-2*PI()*'Standing Wave'!$C$7*'Standing Wave'!$C$9)","v":-0.15236211563621163},{"$f":"'Standing Wave'!$C$2*SIN(((2*PI())/'Standing Wave'!$C$4)*A172+2*PI()*'Standing Wave'!$C$8*'Standing Wave'!$C$9)","v":-0.24692208514878472},-0.39928420078499638]
[{"$f":"SUM(A172)+'Standing Wave'!$C$5","v":1.7100000000000013},{"$f":"'Standing Wave'!$C$1*SIN(((2*PI())/'Standing Wave'!$C$3)*A173-2*PI()*'Standing Wave'!$C$7*'Standing Wave'!$C$9)","v":-0.1569360409919614},{"$f":"'Standing Wave'!$C$2*SIN(((2*PI())/'Standing Wave'!$C$4)*A173+2*PI()*'Standing Wave'!$C$8*'Standing Wave'!$C$9)","v":-0.24889049115077017},-0.40582653214273157]
[{"$f":"SUM(A173)+'Standing Wave'!$C$5","v":1.7200000000000013},{"$f":"'Standing Wave'!$C$1*SIN(((2*PI())/'Standing Wave'!$C$3)*A174-2*PI()*'Standing Wave'!$C$7*'Standing Wave'!$C$9)","v":-0.16089061149117309},{"$f":"'Standing Wave'!$C$2*SIN(((2*PI())/'Standing Wave'!$C$4)*A174+2*PI()*'Standing Wave'!$C$8*'Standing Wave'!$C$9)","v":-0.24987664009143296},-0.41076725158260607]
[{"$f":"SUM(A174)+'Standing Wave'!$C$5","v":1.7300000000000013},{"$f":"'Standing Wave'!$C$1*SIN(((2*PI())/'Standing Wave'!$C$3)*A175-2*PI()*'Standing Wave'!$C$7*'Standing Wave'!$C$9)","v":-0.16421022025075768},{"$f":"'Standing Wave'!$C$2*SIN(((2*PI())/'Standing Wave'!$C$4)*A175+2*PI()*'Standing Wave'!$C$8*'Standing Wave'!$C$9)","v":-0.24987664009143284},-0.41408686034219055]
[{"$f":"SUM(A175)+'Standing Wave'!$C$5","v":1.7400000000000013},{"$f":"'Standing Wave'!$C$1*SIN(((2*PI())/'Standing Wave'!$C$3)*A176-2*PI()*'Standing Wave'!$C$7*'Standing Wave'!$C$9)","v":-0.1668817662915261},{"$f":"'Standing Wave'!$C$2*SIN(((2*PI())/'Standing Wave'!$C$4)*A176+2*PI()*'Standing Wave'!$C$8*'Standing Wave'!$C$9)","v":-0.24889049115076986},-0.41577225744229596]
[{"$f":"SUM(A176)+'Standing Wave'!$C$5","v":1.7500000000000013},{"$f":"'Standing Wave'!$C$1*SIN(((2*PI())/'Standing Wave'!$C$3)*A177-2*PI()*'Standing Wave'!$C$7*'Standing Wave'!$C$9)","v":-0.16889470624176875},{"$f":"'Standing Wave'!$C$2*SIN(((2*PI())/'Standing Wave'!$C$4)*A177+2*PI()*'Standing Wave'!$C$8*'Standing Wave'!$C$9)","v":-0.24692208514878405},-0.41581679139055283]
[{"$f":"SUM(A177)+'Standing Wave'!$C$5","v":1.7600000000000013},{"$f":"'Standing Wave'!$C$1*SIN(((2*PI())/'Standing Wave'!$C$3)*A178-2*PI()*'Standing Wave'!$C$7*'Standing Wave'!$C$9)","v":-0.1702410959471268},{"$f":"'Standing Wave'!$C$2*SIN(((2*PI())/'Standing Wave'!$C$4)*A178+2*PI()*'Standing Wave'!$C$8*'Standing Wave'!$C$9)","v":-0.24397919048468636},-0.41422028643181319]
[{"$f":"SUM(A178)+'Standing Wave'!$C$5","v":1.7700000000000014},{"$f":"'Standing Wave'!$C$1*SIN(((2*PI())/'Standing Wave'!$C$3)*A179-2*PI()*'Standing Wave'!$C$7*'Standing Wave'!$C$9)","v":-0.17091562182254016},{"$f":"'Standing Wave'!$C$2*SIN(((2*PI())/'Standing Wave'!$C$4)*A179+2*PI()*'Standing Wave'!$C$8*'Standing Wave'!$C$9)","v":-0.24007342141923516},-0.41098904324177532]
[{"$f":"SUM(A179)+'Standing Wave'!$C$5","v":1.7800000000000014},{"$f":"'Standing Wave'!$C$1*SIN(((2*PI())/'Standing Wave'!$C$3)*A180-2*PI()*'Standing Wave'!$C$7*'Standing Wave'!$C$9)","v":-0.17091562182254008},{"$f":"'Standing Wave'!$C$2*SIN(((2*PI())/'Standing Wave'!$C$4)*A180+2*PI()*'Standing Wave'!$C$8*'Standing Wave'!$C$9)","v":-0.23522019223855567},-0.40613581406109578]
[{"$f":"SUM(A180)+'Standing Wave'!$C$5","v":1.7900000000000014},{"$f":"'Standing Wave'!$C$1*SIN(((2*PI())/'Standing Wave'!$C$3)*A181-2*PI()*'Standing Wave'!$C$7*'Standing Wave'!$C$9)","v":-0.17024109594712655},{"$f":"'Standing Wave'!$C$2*SIN(((2*PI())/'Standing Wave'!$C$4)*A181+2*PI()*'Standing Wave'!$C$8*'Standing Wave'!$C$9)","v":-0.22943865642099451},-0.39967975236812103]
[{"$f":"SUM(A181)+'Standing Wave'!$C$5","v":1.8000000000000014},{"$f":"'Standing Wave'!$C$1*SIN(((2*PI())/'Standing Wave'!$C$3)*A182-2*PI()*'Standing Wave'!$C$7*'Standing Wave'!$C$9)","v":-0.16889470624176831},{"$f":"'Standing Wave'!$C$2*SIN(((2*PI())/'Standing Wave'!$C$4)*A182+2*PI()*'Standing Wave'!$C$8*'Standing Wave'!$C$9)","v":-0.22275163104709111},-0.39164633728885945]
[{"$f":"SUM(A182)+'Standing Wave'!$C$5","v":1.8100000000000014},{"$f":"'Standing Wave'!$C$1*SIN(((2*PI())/'Standing Wave'!$C$3)*A183-2*PI()*'Standing Wave'!$C$7*'Standing Wave'!$C$9)","v":-0.16688176629152549},{"$f":"'Standing Wave'!$C$2*SIN(((2*PI())/'Standing Wave'!$C$4)*A183+2*PI()*'Standing Wave'!$C$8*'Standing Wave'!$C$9)","v":-0.215185506750985},-0.38206727304251048]
[{"$f":"SUM(A183)+'Standing Wave'!$C$5","v":1.8200000000000014},{"$f":"'Standing Wave'!$C$1*SIN(((2*PI())/'Standing Wave'!$C$3)*A184-2*PI()*'Standing Wave'!$C$7*'Standing Wave'!$C$9)","v":-0.16421022025075685},{"$f":"'Standing Wave'!$C$2*SIN(((2*PI())/'Standing Wave'!$C$4)*A184+2*PI()*'Standing Wave'!$C$8*'Standing Wave'!$C$9)","v":-0.20677014356863949},-0.37098036381939636]
[{"$f":"SUM(A184)+'Standing Wave'!$C$5","v":1.8300000000000014},{"$f":"'Standing Wave'!$C$1*SIN(((2*PI())/'Standing Wave'!$C$3)*A185-2*PI()*'Standing Wave'!$C$7*'Standing Wave'!$C$9)","v":-0.16089061149117209},{"$f":"'Standing Wave'!$C$2*SIN(((2*PI())/'Standing Wave'!$C$4)*A185+2*PI()*'Standing Wave'!$C$8*'Standing Wave'!$C$9)","v":-0.19753875309392105},-0.35842936458509311]
[{"$f":"SUM(A185)+'Standing Wave'!$C$5","v":1.8400000000000014},{"$f":"'Standing Wave'!$C$1*SIN(((2*PI())/'Standing Wave'!$C$3)*A186-2*PI()*'Standing Wave'!$C$7*'Standing Wave'!$C$9)","v":-0.15693604099196026},{"$f":"'Standing Wave'!$C$2*SIN(((2*PI())/'Standing Wave'!$C$4)*A186+2*PI()*'Standing Wave'!$C$8*'Standing Wave'!$C$9)","v":-0.18752776740761329},-0.34446380839957358]
[{"$f":"SUM(A186)+'Standing Wave'!$C$5","v":1.8500000000000014},{"$f":"'Standing Wave'!$C$1*SIN(((2*PI())/'Standing Wave'!$C$3)*A187-2*PI()*'Standing Wave'!$C$7*'Standing Wave'!$C$9)","v":-0.15236211563621033},{"$f":"'Standing Wave'!$C$2*SIN(((2*PI())/'Standing Wave'!$C$4)*A187+2*PI()*'Standing Wave'!$C$8*'Standing Wave'!$C$9)","v":-0.17677669529663523},-0.32913881093284558]
[{"$f":"SUM(A187)+'Standing Wave'!$C$5","v":1.8600000000000014},{"$f":"'Standing Wave'!$C$1*SIN(((2*PI())/'Standing Wave'!$C$3)*A188-2*PI()*'Standing Wave'!$C$7*'Standing Wave'!$C$9)","v":-0.14718688661767373},{"$f":"'Standing Wave'!$C$2*SIN(((2*PI())/'Standing Wave'!$C$4)*A188+2*PI()*'Standing Wave'!$C$8*'Standing Wave'!$C$9)","v":-0.16532796633091129},-0.31251485294858505]
[{"$f":"SUM(A188)+'Standing Wave'!$C$5","v":1.8700000000000014},{"$f":"'Standing Wave'!$C$1*SIN(((2*PI())/'Standing Wave'!$C$3)*A189-2*PI()*'Standing Wave'!$C$7*'Standing Wave'!$C$9)","v":-0.14143077820094943},{"$f":"'Standing Wave'!$C$2*SIN(((2*PI())/'Standing Wave'!$C$4)*A189+2*PI()*'Standing Wave'!$C$8*'Standing Wave'!$C$9)","v":-0.15322676341324243},-0.29465754161419189]
[{"$f":"SUM(A189)+'Standing Wave'!$C$5","v":1.8800000000000014},{"$f":"'Standing Wave'!$C$1*SIN(((2*PI())/'Standing Wave'!$C$3)*A190-2*PI()*'Standing Wave'!$C$7*'Standing Wave'!$C$9)","v":-0.13511650711624201},{"$f":"'Standing Wave'!$C$2*SIN(((2*PI())/'Standing Wave'!$C$4)*A190+2*PI()*'Standing Wave'!$C$8*'Standing Wave'!$C$9)","v":-0.14052084446303095},-0.27563735157927294]
[{"$f":"SUM(A190)+'Standing Wave'!$C$5","v":1.8900000000000015},{"$f":"'Standing Wave'!$C$1*SIN(((2*PI())/'Standing Wave'!$C$3)*A191-2*PI()*'Standing Wave'!$C$7*'Standing Wave'!$C$9)","v":-0.12826899290680749},{"$f":"'Standing Wave'!$C$2*SIN(((2*PI())/'Standing Wave'!$C$4)*A191+2*PI()*'Standing Wave'!$C$8*'Standing Wave'!$C$9)","v":-0.12726035393759114},-0.25552934684439865]
[{"$f":"SUM(A191)+'Standing Wave'!$C$5","v":1.9000000000000015},{"$f":"'Standing Wave'!$C$1*SIN(((2*PI())/'Standing Wave'!$C$3)*A192-2*PI()*'Standing Wave'!$C$7*'Standing Wave'!$C$9)","v":-0.1209152595828985},{"$f":"'Standing Wave'!$C$2*SIN(((2*PI())/'Standing Wave'!$C$4)*A192+2*PI()*'Standing Wave'!$C$8*'Standing Wave'!$C$9)","v":-0.11349762493488502},-0.23441288451778353]
[{"$f":"SUM(A192)+'Standing Wave'!$C$5","v":1.9100000000000015},{"$f":"'Standing Wave'!$C$1*SIN(((2*PI())/'Standing Wave'!$C$3)*A193-2*PI()*'Standing Wave'!$C$7*'Standing Wave'!$C$9)","v":-0.11308432897034333},{"$f":"'Standing Wave'!$C$2*SIN(((2*PI())/'Standing Wave'!$C$4)*A193+2*PI()*'Standing Wave'!$C$8*'Standing Wave'!$C$9)","v":-9.9286972658693504E-2},-0.21237130162903683]
[{"$f":"SUM(A193)+'Standing Wave'!$C$5","v":1.9200000000000015},{"$f":"'Standing Wave'!$C$1*SIN(((2*PI())/'Standing Wave'!$C$3)*A194-2*PI()*'Standing Wave'!$C$7*'Standing Wave'!$C$9)","v":-0.10480710617465783},{"$f":"'Standing Wave'!$C$2*SIN(((2*PI())/'Standing Wave'!$C$4)*A194+2*PI()*'Standing Wave'!$C$8*'Standing Wave'!$C$9)","v":-8.4684480061320414E-2},-0.18949158623597823]
[{"$f":"SUM(A194)+'Standing Wave'!$C$5","v":1.9300000000000015},{"$f":"'Standing Wave'!$C$1*SIN(((2*PI())/'Standing Wave'!$C$3)*A195-2*PI()*'Standing Wave'!$C$7*'Standing Wave'!$C$9)","v":-9.6116257612713182E-2},{"$f":"'Standing Wave'!$C$2*SIN(((2*PI())/'Standing Wave'!$C$4)*A195+2*PI()*'Standing Wave'!$C$8*'Standing Wave'!$C$9)","v":-6.9747776509804918E-2},-0.1658640341225181]
[{"$f":"SUM(A195)+'Standing Wave'!$C$5","v":1.9400000000000015},{"$f":"'Standing Wave'!$C$1*SIN(((2*PI())/'Standing Wave'!$C$3)*A196-2*PI()*'Standing Wave'!$C$7*'Standing Wave'!$C$9)","v":-8.7046082093312341E-2},{"$f":"'Standing Wave'!$C$2*SIN(((2*PI())/'Standing Wave'!$C$4)*A196+2*PI()*'Standing Wave'!$C$8*'Standing Wave'!$C$9)","v":-5.4535810349133282E-2},-0.14158189244244562]
[{"$f":"SUM(A196)+'Standing Wave'!$C$5","v":1.9500000000000015},{"$f":"'Standing Wave'!$C$1*SIN(((2*PI())/'Standing Wave'!$C$3)*A197-2*PI()*'Standing Wave'!$C$7*'Standing Wave'!$C$9)","v":-7.7632375455461367E-2},{"$f":"'Standing Wave'!$C$2*SIN(((2*PI())/'Standing Wave'!$C$4)*A197+2*PI()*'Standing Wave'!$C$8*'Standing Wave'!$C$9)","v":-3.9108616260055427E-2},{"$f":"B197+C197","v":-0.1167409917155168}]
[{"$f":"SUM(A197)+'Standing Wave'!$C$5","v":1.9600000000000015},{"$f":"'Standing Wave'!$C$1*SIN(((2*PI())/'Standing Wave'!$C$3)*A198-2*PI()*'Standing Wave'!$C$7*'Standing Wave'!$C$9)","v":-6.7912289298545814E-2},{"$f":"'Standing Wave'!$C$2*SIN(((2*PI())/'Standing Wave'!$C$4)*A198+2*PI()*'Standing Wave'!$C$8*'Standing Wave'!$C$9)","v":-2.3527078329626357E-2},-9.1439367628172175E-2]
[{"$f":"SUM(A198)+'Standing Wave'!$C$5","v":1.9700000000000015},{"$f":"'Standing Wave'!$C$1*SIN(((2*PI())/'Standing Wave'!$C$3)*A199-2*PI()*'Standing Wave'!$C$7*'Standing Wave'!$C$9)","v":-5.7924184361943166E-2},{"$f":"'Standing Wave'!$C$2*SIN(((2*PI())/'Standing Wave'!$C$4)*A199+2*PI()*'Standing Wave'!$C$8*'Standing Wave'!$C$9)","v":-7.8526897695299323E-3},-6.5776874131473095E-2]
[{"$f":"SUM(A199)+'Standing Wave'!$C$5","v":1.9800000000000015},{"$f":"'Standing Wave'!$C$1*SIN(((2*PI())/'Standing Wave'!$C$3)*A200-2*PI()*'Standing Wave'!$C$7*'Standing Wave'!$C$9)","v":-4.7707479132706565E-2},{"$f":"'Standing Wave'!$C$2*SIN(((2*PI())/'Standing Wave'!$C$4)*A200+2*PI()*'Standing Wave'!$C$8*'Standing Wave'!$C$9)","v":7.8526897695341252E-3},-3.9854789363172438E-2]
[{"$f":"SUM(A200)+'Standing Wave'!$C$5","v":1.9900000000000015},{"$f":"'Standing Wave'!$C$1*SIN(((2*PI())/'Standing Wave'!$C$3)*A201-2*PI()*'Standing Wave'!$C$7*'Standing Wave'!$C$9)","v":-3.730249427880717E-2},{"$f":"'Standing Wave'!$C$2*SIN(((2*PI())/'Standing Wave'!$C$4)*A201+2*PI()*'Standing Wave'!$C$8*'Standing Wave'!$C$9)","v":2.3527078329630535E-2},-1.3775415949176636E-2]
[{"$f":"SUM(A201)+'Standing Wave'!$C$5","v":2.0000000000000013},{"$f":"'Standing Wave'!$C$1*SIN(((2*PI())/'Standing Wave'!$C$3)*A202-2*PI()*'Standing Wave'!$C$7*'Standing Wave'!$C$9)","v":-2.6750293521877914E-2},{"$f":"'Standing Wave'!$C$2*SIN(((2*PI())/'Standing Wave'!$C$4)*A202+2*PI()*'Standing Wave'!$C$8*'Standing Wave'!$C$9)","v":3.910861626005957E-2},1.2358322738181656E-2]
[{"$f":"SUM(A202)+'Standing Wave'!$C$5","v":2.0100000000000011},{"$f":"'Standing Wave'!$C$1*SIN(((2*PI())/'Standing Wave'!$C$3)*A203-2*PI()*'Standing Wave'!$C$7*'Standing Wave'!$C$9)","v":-1.6092521577465036E-2},{"$f":"'Standing Wave'!$C$2*SIN(((2*PI())/'Standing Wave'!$C$4)*A203+2*PI()*'Standing Wave'!$C$8*'Standing Wave'!$C$9)","v":5.4535810349137383E-2},3.8443288771672343E-2]
[{"$f":"SUM(A203)+'Standing Wave'!$C$5","v":2.0200000000000009},{"$f":"'Standing Wave'!$C$1*SIN(((2*PI())/'Standing Wave'!$C$3)*A204-2*PI()*'Standing Wave'!$C$7*'Standing Wave'!$C$9)","v":-5.3712398023590801E-3},{"$f":"'Standing Wave'!$C$2*SIN(((2*PI())/'Standing Wave'!$C$4)*A204+2*PI()*'Standing Wave'!$C$8*'Standing Wave'!$C$9)","v":6.9747776509808943E-2},6.4376536707449861E-2]
[{"$f":"SUM(A204)+'Standing Wave'!$C$5","v":2.0300000000000007},{"$f":"'Standing Wave'!$C$1*SIN(((2*PI())/'Standing Wave'!$C$3)*A205-2*PI()*'Standing Wave'!$C$7*'Standing Wave'!$C$9)","v":5.3712398023607359E-3},{"$f":"'Standing Wave'!$C$2*SIN(((2*PI())/'Standing Wave'!$C$4)*A205+2*PI()*'Standing Wave'!$C$8*'Standing Wave'!$C$9)","v":8.4684480061323522E-2},9.0055719863684255E-2]
[{"$f":"SUM(A205)+'Standing Wave'!$C$5","v":2.0400000000000005},{"$f":"'Standing Wave'!$C$1*SIN(((2*PI())/'Standing Wave'!$C$3)*A206-2*PI()*'Standing Wave'!$C$7*'Standing Wave'!$C$9)","v":1.6092521577466077E-2},{"$f":"'Standing Wave'!$C$2*SIN(((2*PI())/'Standing Wave'!$C$4)*A206+2*PI()*'Standing Wave'!$C$8*'Standing Wave'!$C$9)","v":9.9286972658695724E-2},0.1153794942361618]
[{"$f":"SUM(A206)+'Standing Wave'!$C$5","v":2.0500000000000003},{"$f":"'Standing Wave'!$C$1*SIN(((2*PI())/'Standing Wave'!$C$3)*A207-2*PI()*'Standing Wave'!$C$7*'Standing Wave'!$C$9)","v":2.6750293521879548E-2},{"$f":"'Standing Wave'!$C$2*SIN(((2*PI())/'Standing Wave'!$C$4)*A207+2*PI()*'Standing Wave'!$C$8*'Standing Wave'!$C$9)","v":0.11349762493488717},0.14024791845676671]
[{"$f":"SUM(A207)+'Standing Wave'!$C$5","v":2.06},{"$f":"'Standing Wave'!$C$1*SIN(((2*PI())/'Standing Wave'!$C$3)*A208-2*PI()*'Standing Wave'!$C$7*'Standing Wave'!$C$9)","v":3.7302494278808787E-2},{"$f":"'Standing Wave'!$C$2*SIN(((2*PI())/'Standing Wave'!$C$4)*A208+2*PI()*'Standing Wave'!$C$8*'Standing Wave'!$C$9)","v":0.12726035393759244},0.16456284821640121]
[{"$f":"SUM(A208)+'Standing Wave'!$C$5","v":2.0699999999999998},{"$f":"'Standing Wave'!$C$1*SIN(((2*PI())/'Standing Wave'!$C$3)*A209-2*PI()*'Standing Wave'!$C$7*'Standing Wave'!$C$9)","v":4.7707479132708154E-2},{"$f":"'Standing Wave'!$C$2*SIN(((2*PI())/'Standing Wave'!$C$4)*A209+2*PI()*'Standing Wave'!$C$8*'Standing Wave'!$C$9)","v":0.1405208444630322},0.18822832359574035]
[{"$f":"SUM(A209)+'Standing Wave'!$C$5","v":2.0799999999999996},{"$f":"'Standing Wave'!$C$1*SIN(((2*PI())/'Standing Wave'!$C$3)*A210-2*PI()*'Standing Wave'!$C$7*'Standing Wave'!$C$9)","v":5.7924184361944145E-2},{"$f":"'Standing Wave'!$C$2*SIN(((2*PI())/'Standing Wave'!$C$4)*A210+2*PI()*'Standing Wave'!$C$8*'Standing Wave'!$C$9)","v":0.15322676341324362},0.21115094777518778]
[{"$f":"SUM(A210)+'Standing Wave'!$C$5","v":2.0899999999999994},{"$f":"'Standing Wave'!$C$1*SIN(((2*PI())/'Standing Wave'!$C$3)*A211-2*PI()*'Standing Wave'!$C$7*'Standing Wave'!$C$9)","v":6.7912289298546771E-2},{"$f":"'Standing Wave'!$C$2*SIN(((2*PI())/'Standing Wave'!$C$4)*A211+2*PI()*'Standing Wave'!$C$8*'Standing Wave'!$C$9)","v":0.16532796633091243},0.23324025562945921]
[{"$f":"SUM(A211)+'Standing Wave'!$C$5","v":2.0999999999999992},{"$f":"'Standing Wave'!$C$1*SIN(((2*PI())/'Standing Wave'!$C$3)*A212-2*PI()*'Standing Wave'!$C$7*'Standing Wave'!$C$9)","v":7.7632375455461755E-2},{"$f":"'Standing Wave'!$C$2*SIN(((2*PI())/'Standing Wave'!$C$4)*A212+2*PI()*'Standing Wave'!$C$8*'Standing Wave'!$C$9)","v":0.1767766952966357},0.25440907075209745]
[{"$f":"SUM(A212)+'Standing Wave'!$C$5","v":2.109999999999999},{"$f":"'Standing Wave'!$C$1*SIN(((2*PI())/'Standing Wave'!$C$3)*A213-2*PI()*'Standing Wave'!$C$7*'Standing Wave'!$C$9)","v":8.7046082093312729E-2},{"$f":"'Standing Wave'!$C$2*SIN(((2*PI())/'Standing Wave'!$C$4)*A213+2*PI()*'Standing Wave'!$C$8*'Standing Wave'!$C$9)","v":0.1875277674076137},0.27457384950092645]
[{"$f":"SUM(A213)+'Standing Wave'!$C$5","v":2.1199999999999988},{"$f":"'Standing Wave'!$C$1*SIN(((2*PI())/'Standing Wave'!$C$3)*A214-2*PI()*'Standing Wave'!$C$7*'Standing Wave'!$C$9)","v":9.611625761271303E-2},{"$f":"'Standing Wave'!$C$2*SIN(((2*PI())/'Standing Wave'!$C$4)*A214+2*PI()*'Standing Wave'!$C$8*'Standing Wave'!$C$9)","v":0.19753875309392144},0.29365501070663447]
[{"$f":"SUM(A214)+'Standing Wave'!$C$5","v":2.1299999999999986},{"$f":"'Standing Wave'!$C$1*SIN(((2*PI())/'Standing Wave'!$C$3)*A215-2*PI()*'Standing Wave'!$C$7*'Standing Wave'!$C$9)","v":0.1048071061746577},{"$f":"'Standing Wave'!$C$2*SIN(((2*PI())/'Standing Wave'!$C$4)*A215+2*PI()*'Standing Wave'!$C$8*'Standing Wave'!$C$9)","v":0.20677014356863935},0.31157724974329704]
[{"$f":"SUM(A215)+'Standing Wave'!$C$5","v":2.1399999999999983},{"$f":"'Standing Wave'!$C$1*SIN(((2*PI())/'Standing Wave'!$C$3)*A216-2*PI()*'Standing Wave'!$C$7*'Standing Wave'!$C$9)","v":0.11308432897034319},{"$f":"'Standing Wave'!$C$2*SIN(((2*PI())/'Standing Wave'!$C$4)*A216+2*PI()*'Standing Wave'!$C$8*'Standing Wave'!$C$9)","v":0.21518550675098441},0.32826983572132762]
[{"$f":"SUM(A216)+'Standing Wave'!$C$5","v":2.1499999999999981},{"$f":"'Standing Wave'!$C$1*SIN(((2*PI())/'Standing Wave'!$C$3)*A217-2*PI()*'Standing Wave'!$C$7*'Standing Wave'!$C$9)","v":0.12091525958289795},{"$f":"'Standing Wave'!$C$2*SIN(((2*PI())/'Standing Wave'!$C$4)*A217+2*PI()*'Standing Wave'!$C$8*'Standing Wave'!$C$9)","v":0.22275163104709059},0.34366689062998856]
[{"$f":"SUM(A217)+'Standing Wave'!$C$5","v":2.1599999999999979},{"$f":"'Standing Wave'!$C$1*SIN(((2*PI())/'Standing Wave'!$C$3)*A218-2*PI()*'Standing Wave'!$C$7*'Standing Wave'!$C$9)","v":0.12826899290680699},{"$f":"'Standing Wave'!$C$2*SIN(((2*PI())/'Standing Wave'!$C$4)*A218+2*PI()*'Standing Wave'!$C$8*'Standing Wave'!$C$9)","v":0.22943865642099406},0.35770764932780108]
[{"$f":"SUM(A218)+'Standing Wave'!$C$5","v":2.1699999999999977},{"$f":"'Standing Wave'!$C$1*SIN(((2*PI())/'Standing Wave'!$C$3)*A219-2*PI()*'Standing Wave'!$C$7*'Standing Wave'!$C$9)","v":0.13511650711624154},{"$f":"'Standing Wave'!$C$2*SIN(((2*PI())/'Standing Wave'!$C$4)*A219+2*PI()*'Standing Wave'!$C$8*'Standing Wave'!$C$9)","v":0.23522019223855498},0.37033669935479652]
[{"$f":"SUM(A219)+'Standing Wave'!$C$5","v":2.1799999999999975},{"$f":"'Standing Wave'!$C$1*SIN(((2*PI())/'Standing Wave'!$C$3)*A220-2*PI()*'Standing Wave'!$C$7*'Standing Wave'!$C$9)","v":0.14143077820094865},{"$f":"'Standing Wave'!$C$2*SIN(((2*PI())/'Standing Wave'!$C$4)*A220+2*PI()*'Standing Wave'!$C$8*'Standing Wave'!$C$9)","v":0.2400734214192346},0.38150419962018323]
[{"$f":"SUM(A220)+'Standing Wave'!$C$5","v":2.1899999999999973},{"$f":"'Standing Wave'!$C$1*SIN(((2*PI())/'Standing Wave'!$C$3)*A221-2*PI()*'Standing Wave'!$C$7*'Standing Wave'!$C$9)","v":0.14718688661767274},{"$f":"'Standing Wave'!$C$2*SIN(((2*PI())/'Standing Wave'!$C$4)*A221+2*PI()*'Standing Wave'!$C$8*'Standing Wave'!$C$9)","v":0.24397919048468591},0.39116607710235862]
[{"$f":"SUM(A221)+'Standing Wave'!$C$5","v":2.1999999999999971},{"$f":"'Standing Wave'!$C$1*SIN(((2*PI())/'Standing Wave'!$C$3)*A222-2*PI()*'Standing Wave'!$C$7*'Standing Wave'!$C$9)","v":0.15236211563620941},{"$f":"'Standing Wave'!$C$2*SIN(((2*PI())/'Standing Wave'!$C$4)*A222+2*PI()*'Standing Wave'!$C$8*'Standing Wave'!$C$9)","v":0.24692208514878375},0.39928420078499316]
[{"$f":"SUM(A222)+'Standing Wave'!$C$5","v":2.2099999999999969},{"$f":"'Standing Wave'!$C$1*SIN(((2*PI())/'Standing Wave'!$C$3)*A223-2*PI()*'Standing Wave'!$C$7*'Standing Wave'!$C$9)","v":0.15693604099195946},{"$f":"'Standing Wave'!$C$2*SIN(((2*PI())/'Standing Wave'!$C$4)*A223+2*PI()*'Standing Wave'!$C$8*'Standing Wave'!$C$9)","v":0.2488904911507695},0.40582653214272896]
[{"$f":"SUM(A223)+'Standing Wave'!$C$5","v":2.2199999999999966},{"$f":"'Standing Wave'!$C$1*SIN(((2*PI())/'Standing Wave'!$C$3)*A224-2*PI()*'Standing Wave'!$C$7*'Standing Wave'!$C$9)","v":0.1608906114911714},{"$f":"'Standing Wave'!$C$2*SIN(((2*PI())/'Standing Wave'!$C$4)*A224+2*PI()*'Standing Wave'!$C$8*'Standing Wave'!$C$9)","v":0.24987664009143271},0.41076725158260408]
[{"$f":"SUM(A224)+'Standing Wave'!$C$5","v":2.2299999999999964},{"$f":"'Standing Wave'!$C$1*SIN(((2*PI())/'Standing Wave'!$C$3)*A225-2*PI()*'Standing Wave'!$C$7*'Standing Wave'!$C$9)","v":0.16421022025075613},{"$f":"'Standing Wave'!$C$2*SIN(((2*PI())/'Standing Wave'!$C$4)*A225+2*PI()*'Standing Wave'!$C$8*'Standing Wave'!$C$9)","v":0.24987664009143307},0.41408686034218922]
[{"$f":"SUM(A225)+'Standing Wave'!$C$5","v":2.2399999999999962},{"$f":"'Standing Wave'!$C$1*SIN(((2*PI())/'Standing Wave'!$C$3)*A226-2*PI()*'Standing Wave'!$C$7*'Standing Wave'!$C$9)","v":0.1668817662915249},{"$f":"'Standing Wave'!$C$2*SIN(((2*PI())/'Standing Wave'!$C$4)*A226+2*PI()*'Standing Wave'!$C$8*'Standing Wave'!$C$9)","v":0.24889049115077061},0.41577225744229551]
[{"$f":"SUM(A226)+'Standing Wave'!$C$5","v":2.249999999999996},{"$f":"'Standing Wave'!$C$1*SIN(((2*PI())/'Standing Wave'!$C$3)*A227-2*PI()*'Standing Wave'!$C$7*'Standing Wave'!$C$9)","v":0.16889470624176792},{"$f":"'Standing Wave'!$C$2*SIN(((2*PI())/'Standing Wave'!$C$4)*A227+2*PI()*'Standing Wave'!$C$8*'Standing Wave'!$C$9)","v":0.24692208514878547},0.41581679139055339]
[{"$f":"SUM(A227)+'Standing Wave'!$C$5","v":2.2599999999999958},{"$f":"'Standing Wave'!$C$1*SIN(((2*PI())/'Standing Wave'!$C$3)*A228-2*PI()*'Standing Wave'!$C$7*'Standing Wave'!$C$9)","v":0.17024109594712625},{"$f":"'Standing Wave'!$C$2*SIN(((2*PI())/'Standing Wave'!$C$4)*A228+2*PI()*'Standing Wave'!$C$8*'Standing Wave'!$C$9)","v":0.2439791904846883},0.41422028643181452]
[{"$f":"SUM(A228)+'Standing Wave'!$C$5","v":2.2699999999999956},{"$f":"'Standing Wave'!$C$1*SIN(((2*PI())/'Standing Wave'!$C$3)*A229-2*PI()*'Standing Wave'!$C$7*'Standing Wave'!$C$9)","v":0.17091562182253994},{"$f":"'Standing Wave'!$C$2*SIN(((2*PI())/'Standing Wave'!$C$4)*A229+2*PI()*'Standing Wave'!$C$8*'Standing Wave'!$C$9)","v":0.24007342141923765},0.4109890432417776]
[{"$f":"SUM(A229)+'Standing Wave'!$C$5","v":2.2799999999999954},{"$f":"'Standing Wave'!$C$1*SIN(((2*PI())/'Standing Wave'!$C$3)*A230-2*PI()*'Standing Wave'!$C$7*'Standing Wave'!$C$9)","v":0.17091562182254028},{"$f":"'Standing Wave'!$C$2*SIN(((2*PI())/'Standing Wave'!$C$4)*A230+2*PI()*'Standing Wave'!$C$8*'Standing Wave'!$C$9)","v":0.235220192238559},0.40613581406109928]
[{"$f":"SUM(A230)+'Standing Wave'!$C$5","v":2.2899999999999952},{"$f":"'Standing Wave'!$C$1*SIN(((2*PI())/'Standing Wave'!$C$3)*A231-2*PI()*'Standing Wave'!$C$7*'Standing Wave'!$C$9)","v":0.17024109594712716},{"$f":"'Standing Wave'!$C$2*SIN(((2*PI())/'Standing Wave'!$C$4)*A231+2*PI()*'Standing Wave'!$C$8*'Standing Wave'!$C$9)","v":0.22943865642099839},0.39967975236812558]
[{"$f":"SUM(A231)+'Standing Wave'!$C$5","v":2.2999999999999949},{"$f":"'Standing Wave'!$C$1*SIN(((2*PI())/'Standing Wave'!$C$3)*A232-2*PI()*'Standing Wave'!$C$7*'Standing Wave'!$C$9)","v":0.16889470624176947},{"$f":"'Standing Wave'!$C$2*SIN(((2*PI())/'Standing Wave'!$C$4)*A232+2*PI()*'Standing Wave'!$C$8*'Standing Wave'!$C$9)","v":0.22275163104709556},0.391646337288865]
[{"$f":"SUM(A232)+'Standing Wave'!$C$5","v":2.3099999999999947},{"$f":"'Standing Wave'!$C$1*SIN(((2*PI())/'Standing Wave'!$C$3)*A233-2*PI()*'Standing Wave'!$C$7*'Standing Wave'!$C$9)","v":0.16688176629152707},{"$f":"'Standing Wave'!$C$2*SIN(((2*PI())/'Standing Wave'!$C$4)*A233+2*PI()*'Standing Wave'!$C$8*'Standing Wave'!$C$9)","v":0.21518550675098999},0.38206727304251709]
[{"$f":"SUM(A233)+'Standing Wave'!$C$5","v":2.3199999999999945},{"$f":"'Standing Wave'!$C$1*SIN(((2*PI())/'Standing Wave'!$C$3)*A234-2*PI()*'Standing Wave'!$C$7*'Standing Wave'!$C$9)","v":0.1642102202507589},{"$f":"'Standing Wave'!$C$2*SIN(((2*PI())/'Standing Wave'!$C$4)*A234+2*PI()*'Standing Wave'!$C$8*'Standing Wave'!$C$9)","v":0.20677014356864551},0.37098036381940441]
[{"$f":"SUM(A234)+'Standing Wave'!$C$5","v":2.3299999999999943},{"$f":"'Standing Wave'!$C$1*SIN(((2*PI())/'Standing Wave'!$C$3)*A235-2*PI()*'Standing Wave'!$C$7*'Standing Wave'!$C$9)","v":0.16089061149117476},{"$f":"'Standing Wave'!$C$2*SIN(((2*PI())/'Standing Wave'!$C$4)*A235+2*PI()*'Standing Wave'!$C$8*'Standing Wave'!$C$9)","v":0.19753875309392815},0.35842936458510288]
[{"$f":"SUM(A235)+'Standing Wave'!$C$5","v":2.3399999999999941},{"$f":"'Standing Wave'!$C$1*SIN(((2*PI())/'Standing Wave'!$C$3)*A236-2*PI()*'Standing Wave'!$C$7*'Standing Wave'!$C$9)","v":0.1569360409919634},{"$f":"'Standing Wave'!$C$2*SIN(((2*PI())/'Standing Wave'!$C$4)*A236+2*PI()*'Standing Wave'!$C$8*'Standing Wave'!$C$9)","v":0.18752776740762095},0.34446380839958435]
[{"$f":"SUM(A236)+'Standing Wave'!$C$5","v":2.3499999999999939},{"$f":"'Standing Wave'!$C$1*SIN(((2*PI())/'Standing Wave'!$C$3)*A237-2*PI()*'Standing Wave'!$C$7*'Standing Wave'!$C$9)","v":0.15236211563621394},{"$f":"'Standing Wave'!$C$2*SIN(((2*PI())/'Standing Wave'!$C$4)*A237+2*PI()*'Standing Wave'!$C$8*'Standing Wave'!$C$9)","v":0.17677669529664405},0.32913881093285802]
[{"$f":"SUM(A237)+'Standing Wave'!$C$5","v":2.3599999999999937},{"$f":"'Standing Wave'!$C$1*SIN(((2*PI())/'Standing Wave'!$C$3)*A238-2*PI()*'Standing Wave'!$C$7*'Standing Wave'!$C$9)","v":0.14718688661767776},{"$f":"'Standing Wave'!$C$2*SIN(((2*PI())/'Standing Wave'!$C$4)*A238+2*PI()*'Standing Wave'!$C$8*'Standing Wave'!$C$9)","v":0.16532796633092064},0.31251485294859838]
[{"$f":"SUM(A238)+'Standing Wave'!$C$5","v":2.3699999999999934},{"$f":"'Standing Wave'!$C$1*SIN(((2*PI())/'Standing Wave'!$C$3)*A239-2*PI()*'Standing Wave'!$C$7*'Standing Wave'!$C$9)","v":0.14143077820095423},{"$f":"'Standing Wave'!$C$2*SIN(((2*PI())/'Standing Wave'!$C$4)*A239+2*PI()*'Standing Wave'!$C$8*'Standing Wave'!$C$9)","v":0.15322676341325228},0.29465754161420654]
[{"$f":"SUM(A239)+'Standing Wave'!$C$5","v":2.3799999999999932},{"$f":"'Standing Wave'!$C$1*SIN(((2*PI())/'Standing Wave'!$C$3)*A240-2*PI()*'Standing Wave'!$C$7*'Standing Wave'!$C$9)","v":0.13511650711624762},{"$f":"'Standing Wave'!$C$2*SIN(((2*PI())/'Standing Wave'!$C$4)*A240+2*PI()*'Standing Wave'!$C$8*'Standing Wave'!$C$9)","v":0.14052084446304125},0.27563735157928887]
[{"$f":"SUM(A240)+'Standing Wave'!$C$5","v":2.389999999999993},{"$f":"'Standing Wave'!$C$1*SIN(((2*PI())/'Standing Wave'!$C$3)*A241-2*PI()*'Standing Wave'!$C$7*'Standing Wave'!$C$9)","v":0.12826899290681354},{"$f":"'Standing Wave'!$C$2*SIN(((2*PI())/'Standing Wave'!$C$4)*A241+2*PI()*'Standing Wave'!$C$8*'Standing Wave'!$C$9)","v":0.12726035393760263},0.25552934684441619]
[{"$f":"SUM(A241)+'Standing Wave'!$C$5","v":2.3999999999999928},{"$f":"'Standing Wave'!$C$1*SIN(((2*PI())/'Standing Wave'!$C$3)*A242-2*PI()*'Standing Wave'!$C$7*'Standing Wave'!$C$9)","v":0.12091525958290496},{"$f":"'Standing Wave'!$C$2*SIN(((2*PI())/'Standing Wave'!$C$4)*A242+2*PI()*'Standing Wave'!$C$8*'Standing Wave'!$C$9)","v":0.11349762493489692},0.23441288451780187]
[{"$f":"SUM(A242)+'Standing Wave'!$C$5","v":2.4099999999999926},{"$f":"'Standing Wave'!$C$1*SIN(((2*PI())/'Standing Wave'!$C$3)*A243-2*PI()*'Standing Wave'!$C$7*'Standing Wave'!$C$9)","v":0.11308432897035064},{"$f":"'Standing Wave'!$C$2*SIN(((2*PI())/'Standing Wave'!$C$4)*A243+2*PI()*'Standing Wave'!$C$8*'Standing Wave'!$C$9)","v":9.9286972658705772E-2},0.21237130162905643]
[{"$f":"SUM(A243)+'Standing Wave'!$C$5","v":2.4199999999999924},{"$f":"'Standing Wave'!$C$1*SIN(((2*PI())/'Standing Wave'!$C$3)*A244-2*PI()*'Standing Wave'!$C$7*'Standing Wave'!$C$9)","v":0.10480710617466552},{"$f":"'Standing Wave'!$C$2*SIN(((2*PI())/'Standing Wave'!$C$4)*A244+2*PI()*'Standing Wave'!$C$8*'Standing Wave'!$C$9)","v":8.4684480061334638E-2},0.18949158623600015]
[{"$f":"SUM(A244)+'Standing Wave'!$C$5","v":2.4299999999999922},{"$f":"'Standing Wave'!$C$1*SIN(((2*PI())/'Standing Wave'!$C$3)*A245-2*PI()*'Standing Wave'!$C$7*'Standing Wave'!$C$9)","v":9.6116257612721231E-2},{"$f":"'Standing Wave'!$C$2*SIN(((2*PI())/'Standing Wave'!$C$4)*A245+2*PI()*'Standing Wave'!$C$8*'Standing Wave'!$C$9)","v":6.9747776509819434E-2},0.16586403412254067]
[{"$f":"SUM(A245)+'Standing Wave'!$C$5","v":2.439999999999992},{"$f":"'Standing Wave'!$C$1*SIN(((2*PI())/'Standing Wave'!$C$3)*A246-2*PI()*'Standing Wave'!$C$7*'Standing Wave'!$C$9)","v":8.704608209332125E-2},{"$f":"'Standing Wave'!$C$2*SIN(((2*PI())/'Standing Wave'!$C$4)*A246+2*PI()*'Standing Wave'!$C$8*'Standing Wave'!$C$9)","v":5.4535810349148048E-2},0.1415818924424693]
[{"$f":"SUM(A246)+'Standing Wave'!$C$5","v":2.4499999999999917},{"$f":"'Standing Wave'!$C$1*SIN(((2*PI())/'Standing Wave'!$C$3)*A247-2*PI()*'Standing Wave'!$C$7*'Standing Wave'!$C$9)","v":7.7632375455470581E-2},{"$f":"'Standing Wave'!$C$2*SIN(((2*PI())/'Standing Wave'!$C$4)*A247+2*PI()*'Standing Wave'!$C$8*'Standing Wave'!$C$9)","v":3.9108616260070367E-2},0.11674099171554095]
[{"$f":"SUM(A247)+'Standing Wave'!$C$5","v":2.4599999999999915},{"$f":"'Standing Wave'!$C$1*SIN(((2*PI())/'Standing Wave'!$C$3)*A248-2*PI()*'Standing Wave'!$C$7*'Standing Wave'!$C$9)","v":6.7912289298555861E-2},{"$f":"'Standing Wave'!$C$2*SIN(((2*PI())/'Standing Wave'!$C$4)*A248+2*PI()*'Standing Wave'!$C$8*'Standing Wave'!$C$9)","v":2.3527078329642303E-2},9.1439367628198168E-2]
[{"$f":"SUM(A248)+'Standing Wave'!$C$5","v":2.4699999999999913},{"$f":"'Standing Wave'!$C$1*SIN(((2*PI())/'Standing Wave'!$C$3)*A249-2*PI()*'Standing Wave'!$C$7*'Standing Wave'!$C$9)","v":5.7924184361953478E-2},{"$f":"'Standing Wave'!$C$2*SIN(((2*PI())/'Standing Wave'!$C$4)*A249+2*PI()*'Standing Wave'!$C$8*'Standing Wave'!$C$9)","v":7.8526897695459421E-3},6.5776874131499422E-2]
[{"$f":"SUM(A249)+'Standing Wave'!$C$5","v":2.4799999999999911},{"$f":"'Standing Wave'!$C$1*SIN(((2*PI())/'Standing Wave'!$C$3)*A250-2*PI()*'Standing Wave'!$C$7*'Standing Wave'!$C$9)","v":4.7707479132717667E-2},{"$f":"'Standing Wave'!$C$2*SIN(((2*PI())/'Standing Wave'!$C$4)*A250+2*PI()*'Standing Wave'!$C$8*'Standing Wave'!$C$9)","v":-7.8526897695181154E-3},3.9854789363199555E-2]
[{"$f":"SUM(A250)+'Standing Wave'!$C$5","v":2.4899999999999909},{"$f":"'Standing Wave'!$C$1*SIN(((2*PI())/'Standing Wave'!$C$3)*A251-2*PI()*'Standing Wave'!$C$7*'Standing Wave'!$C$9)","v":3.7302494278818453E-2},{"$f":"'Standing Wave'!$C$2*SIN(((2*PI())/'Standing Wave'!$C$4)*A251+2*PI()*'Standing Wave'!$C$8*'Standing Wave'!$C$9)","v":-2.3527078329614589E-2},1.3775415949203864E-2]
[{"$f":"SUM(A251)+'Standing Wave'!$C$5","v":2.4999999999999907},{"$f":"'Standing Wave'!$C$1*SIN(((2*PI())/'Standing Wave'!$C$3)*A252-2*PI()*'Standing Wave'!$C$7*'Standing Wave'!$C$9)","v":2.6750293521889335E-2},{"$f":"'Standing Wave'!$C$2*SIN(((2*PI())/'Standing Wave'!$C$4)*A252+2*PI()*'Standing Wave'!$C$8*'Standing Wave'!$C$9)","v":-3.9108616260042868E-2},-1.2358322738153533E-2]